{"text_format":"1","workbook":"xlsx","n_sheets":12,"sheets":["Płatnik","Podatnicy","Emaile","PIT-11","Instrukcja","Koperta","Jak wysłać","Błędy","US","UPO","Gmail","A"],"not_rendered":{"charts":0,"images":32,"macros":1,"external_links":0,"defined_names":14,"comments":0,"pivot_tables":0},"unopened":[],"bounds":{"document_bytes":16777216,"sheet_cells":100000,"rows_first":2000,"rows_last":500,"rows_between":2000,"halvings":0,"cell_chars":16384,"cell_head_chars":4096},"cells_cut":2,"cells_raw":0,"read":"whole","date_system":"1900"}

{"sheet":"Płatnik","index":0,"n_rows":15,"n_cols":6,"rows_kept":15,"cut":false,"hidden":false,"merged":[[3,1,3,2],[0,0,0,1],[0,2,0,3],[14,1,14,2]]}
["Uruchamianie przycisków i opcji (q) wymaga włączenia makro",null,"Jak wysłać deklarację podatkową internetem",null,null,2]
[null,null,null,null,0]
[]
[null,"Dane płatnika - składającego informację PIT-11 / PIT11Z (29)"]
[null,"1. NIP/PESEL płatnika"]
[null,"4. Rok za który składana jest informacja",2023]
[null,"7. Cel złożenia",1]
[null,"8. Rodzaj składającego",2]
[null,"9. Nazwa pełna  firmy (dot. osoby niefizycznej)"]
[null,"10. Nazwisko osoby fizycznej"]
[null,"     pierwsze imię  osoby fizycznej"]
[null,"     data urodzenia  osoby fizycznej"]
[null,"Część H 124. Imię i nazwisko"]
[null,"Część I 125. Imię i nazwisko"]
[null,"  Pliki XML zapisywane będą w folderze domyślnym (folder z plikiem \"PIT-11(29)Z_seryjny\""]

{"sheet":"Podatnicy","index":1,"n_rows":18,"n_cols":163,"rows_kept":18,"cut":false,"hidden":false,"merged":[[4,20,5,20],[5,0,5,1],[4,87,4,89],[4,50,4,53],[4,82,4,86],[4,42,4,45],[4,46,4,49],[4,62,4,66],[4,67,4,69],[4,70,4,72],[4,35,4,41],[4,58,4,61],[4,73,4,75],[5,118,6,118],[5,117,6,117],[4,113,5,113],[4,117,4,119],[4,101,4,105],[4,110,4,112],[4,106,4,109],[0,0,0,4],[2,0,2,1],[3,0,3,1],[4,0,4,1],[1,0,1,3],[1,117,1,119],[4,21,4,27],[4,28,4,34],[2,117,2,119],[3,117,3,119],[4,54,4,57],[4,76,4,78],[4,79,4,81]]}
[null,null,null,null,null,null,null,null,null,null,"NIE WOLNO USUWAĆ I DODAWAĆ WIERSZY I KOLUMN !",null,null,null,null,null,null,null,null,null,"Liczby od 28. do 123. oznaczają numery pól w PIT-11"]
["Wpisz np. Od 1 Do 2 dla czynności seryjnych",null,null,null,null,null,null,null,null,null,null,null,null,null,null,null,null,null,null,null,null,null,null,"dochód"," pole dochodu obliczane jest przez program",null,null,null,null,null,null,null,null,null,null,null,null,null,null,null,null,null,null,null,null,null,null,null,null,null,null,null,null,null,null,null,null,null,null,null,null,null,null,null,null,null,null,null,null,null,null,null,null,null,null,null,null,null,null,null,null,null,null,null,null,null,null,null,null,null,null,null,null,null,null,null,null,null,null,null,null,null,null,null,null,null,null,null,null,null,null,null,null,null,null,null,null,"Status 200 oznacza przyjęcie PIT-11 przez e-Deklaracje"]
[" Od numeru Lp",null,1,null,null,null,null,null,null,null,"                Pomoc techniczna - tel. 608 43 63 83",null,null,null,null,null,null,null,null,null,null,null,null,null," i jego wypełnienie nie jest potrzebne",null,null,null,null,null,null,null,null,null,null,null,null,null,null,null,null,null,null,null,null,null,null,null,null,null,null,null,null,null,null,null,null,null,null,null,null,null,null,null,null,null,null,null,null,null,null,null,null,null,null,null,null,null,null,null,null,null,null,null,null,null,null,null,null,null,null,null,null,null,null,null,null,null,null,null,null,null,null,null,null,null,null,null,null,null,null,null,null,null,null,null,null,"Numer dokumentu na czerwono z wysyłki testowej"]
[" Do numeru Lp",null,1,null,null,"  -   zapis informacji PIT-11 do pliku w formacie pdf, do archiwizacji i wysłania mailem podatnikowi",null,null,null,null,null,null,null,null,null,null,null,null,null,null,null,null,null,null,null,null,null,null,null,null,null,null,null,null,null,null,null,null,null,null,null,null,null,null,null,null,null,null,null,null,null,null,null,null,null,null,null,null,null,null,null,null,null,null,null,null,null,null,null,null,null,null,null,null,null,null,null,null,null,null,null,null,null,null,null,null,null,null,null,null,null,null,null,null,null,null,null,null,null,null,null,null,null,null,null,null,null,null,null,null,null,null,null,null,null,null,null,"nie jest potwierdzeniem przyjęcia PIT-11 przez e-Deklaracje"]
[" Liczba kopii",null,1,"wydruku",null,"  -   wysyła informacje bezpośrednio do systemu e-Deklaracje Ministerstwa Finansów",null,null,null,null,null,null,null,null,null,null,null,null,null,"Nr","Koszt","1. Należności ze stosunku pracy",null,null,null,null,null,null,"2. Należności otrzymane z pracy itp. do ukończenia 26 roku",null,null,null,null,null,null,"3. Należności otrzymane z pracy itp. od ukończenia wieku emerytalnego",null,null,null,null,null,null,"4. Emerytury-renty zagraniczne",null,null,null,"5. Działalność wykonywana osobiście",null,null,null,"6. Umowy zlecenia",null,null,null,"7. Należności ze zleceń do ukończenia 26 roku",null,null,null,"8. Należności ze zleceń od ukończenia wieku emerytalnego",null,null,null,"9. Prawa autorskie i inne prawa",null,null,null,null,"10. Należności z praktyk absolw. i staży",null,null,"11. Należności z praktyk do 26 roku",null,null,"12. Zasiłki macieżyńskie",null,null,"13. Zasiłki macieżyńskie do 26 roku",null,null,"14. Zasiłki macieżyńskie od ukończenia wieku emeryt.",null,null,"15. Inne źródła",null,null,null,null,"Składki społeczne",null,null,"Przychód","Rodzaj","Przychód","Rodzaj","Przychód","Rodzaj","Przychód","Razem","Przychody","Przychody","Przychody","Przychody z art. 21 ust. 1 pkt 148",null,null,null,null,"Przychody z art. 21 ust. 1 pkt 152-154",null,null,null,"Rodzaj przychodu z poz. 114 - art. 21",null,null,"PIT-R","Ubezp. zdrow.","Składki",null,"e-Deklaracje"]
[null,null,null,null,null,null,null,null,null,null,null,null,null,null,null,null,null,null,null,"inform.",null,"przychód","koszty","dochód","doch. zwoln","zaliczka","przychód","koszty","przychód","koszty","dochód","doch. zwoln","zaliczka","przychód","koszty","przychód","koszty","dochód","doch. zwoln","zaliczka","przychód","koszty","przychód","dochód","doch. zwoln","zaliczka","przychód","koszty","dochód","zaliczka","przychód","koszty","dochód","zaliczka","przychód","koszty","dochód","zaliczka","przychód","koszty","dochód","zaliczka","przychód","dochód","zaliczka","przychód","koszty","przychód","dochód","zaliczka","przychód","dochód","zaliczka","przychód","dochód","zaliczka","przychód","dochód","zaliczka","przychód","dochód","zaliczka","przychód","koszty","dochód","doch. zwoln","zaliczka","odliczane","od przychodu","przychód zwoln","przy zbiorach","przychodu(tekst)","(kwota)","przychodu(tekst)","(kwota)","przychodu(tekst)","(kwota)",null,"stypendium","z zagranicy","bezzwrotne","razem","stosunku pracy","umów zleceń","ze staży","zasiłku macież.","razem","stosunku pracy","umów zleceń","zasiłku macież.","ust. 1 pkt 152","ust. 1 pkt 153","ust. 1 pkt 154",null,"do wys. 9%","członkowskie",null,"Numer dokumentu nadanego przez\nsystem e-Deklaracje lub UBD","Status","Test"]
["Lp","Urząd skarbowy","PESEL/NIP","Data urodzenia tylko do NIP","Nazwisko","Imię"," Nierezydent","Zagraniczny nr identyfikacyjny","Rodzaj nr identyfikacyjny","Kraj\nwydania nr id.","Kraj\n(POLSKA)","Województwo","Powiat","Gmina","Ulica","Nr domu","Nr lokalu","Miejscowość","Kod pocztowy","5.","28.","29.","30.","31. oblicza program","32.","33.","34.","35.","36.","37.","38. oblicza program","39.","40.","41.","42.","43.","44.","45. oblicza program","46.","47.","48.","49.","50.","51. oblicza program","52.","53.","54.","55.","56. oblicza program","57.","58.","59.","60. oblicza program","61.","62.","63.","64. oblicza program","65.","66.","67.","68. oblicza program","69.","70.","71. oblicza program","72.","73.","74.","75.","76. oblicza program","77.","78.","79. oblicza program","80.","81.","82. oblicza program","83.","84.","85. oblicza program","86.","87.","88. oblicza program","89.","90.","91.","92. oblicza program","93.","94.","95.","96.","97.","98.","99.","100.","101.","102.","103.","104.","105. oblicza program","106.","107.","108.","109. oblicza program","110.","111.","112.","113.","114. oblicza program","115.","116.","117.","118.","119.","120.","121.","122.","123.",null,null,null,"t - tak"]
[1,null,null,null,null,null,null,null,null,null,null,null,null,null,null,null,null,null,null,null,null,null,null,null,null,null,null,null,null,null,null,null,null,null,null,null,null,null,null,null,null,null,null,null,null,null,null,null,null,null,null,null,null,null,null,null,null,null,null,null,null,null,null,null,null,null,null,null,null,null,null,null,null,null,null,null,null,null,null,null,null,null,null,null,null,null,null,null,null,null,null,null,null,null,null,null,null,null,null,null,null,null,null,null,null,null,null,null,null,null,null,null,null,2]
[2,null,null,null,null,null,null,null,null,null,null,null,null,null,null,null,null,null,null,null,null,null,null,null,null,null,null,null,null,null,null,null,null,null,null,null,null,null,null,null,null,null,null,null,null,null,null,null,null,null,null,null,null,null,null,null,null,null,null,null,null,null,null,null,null,null,null,null,null,null,null,null,null,null,null,null,null,null,null,null,null,null,null,null,null,null,null,null,null,null,null,null,null,null,null,null,null,null,null,null,null,null,null,null,null,null,null,null,null,null,null,null,null,2]
[3,null,null,null,null,null,null,null,null,null,null,null,null,null,null,null,null,null,null,null,null,null,null,null,null,null,null,null,null,null,null,null,null,null,null,null,null,null,null,null,null,null,null,null,null,null,null,null,null,null,null,null,null,null,null,null,null,null,null,null,null,null,null,null,null,null,null,null,null,null,null,null,null,null,null,null,null,null,null,null,null,null,null,null,null,null,null,null,null,null,null,null,null,null,null,null,null,null,null,null,null,null,null,null,null,null,null,null,null,null,null,null,null,2]
[4,null,null,null,null,null,null,null,null,null,null,null,null,null,null,null,null,null,null,null,null,null,null,null,null,null,null,null,null,null,null,null,null,null,null,null,null,null,null,null,null,null,null,null,null,null,null,null,null,null,null,null,null,null,null,null,null,null,null,null,null,null,null,null,null,null,null,null,null,null,null,null,null,null,null,null,null,null,null,null,null,null,null,null,null,null,null,null,null,null,null,null,null,null,null,null,null,null,null,null,null,null,null,null,null,null,null,null,null,null,null,null,null,2,null,null,null,null,null,null,null,null,110,111,112,113,114,115,116,117,118,119,120,121,122,123,124,125,126,127,128,129,130,131,132,133,134,135,136,137,138,139,140,141,142,143,144,145,146,147,148,149,150]
[5,null,null,null,null,null,null,null,null,null,null,null,null,null,null,null,null,null,null,null,null,null,null,null,null,null,null,null,null,null,null,null,null,null,null,null,null,null,null,null,null,null,null,null,null,null,null,null,null,null,null,null,null,null,null,null,null,null,null,null,null,null,null,null,null,null,null,null,null,null,null,null,null,null,null,null,null,null,null,null,null,null,null,null,null,null,null,null,null,null,null,null,null,null,null,null,null,null,null,null,null,null,null,null,null,null,null,null,null,null,null,null,null,2]
[6,null,null,null,null,null,null,null,null,null,null,null,null,null,null,null,null,null,null,null,null,null,null,null,null,null,null,null,null,null,null,null,null,null,null,null,null,null,null,null,null,null,null,null,null,null,null,null,null,null,null,null,null,null,null,null,null,null,null,null,null,null,null,null,null,null,null,null,null,null,null,null,null,null,null,null,null,null,null,null,null,null,null,null,null,null,null,null,null,null,null,null,null,null,null,null,null,null,null,null,null,null,null,null,null,null,null,null,null,null,null,null,null,2]
[7,null,null,null,null,null,null,null,null,null,null,null,null,null,null,null,null,null,null,null,null,null,null,null,null,null,null,null,null,null,null,null,null,null,null,null,null,null,null,null,null,null,null,null,null,null,null,null,null,null,null,null,null,null,null,null,null,null,null,null,null,null,null,null,null,null,null,null,null,null,null,null,null,null,null,null,null,null,null,null,null,null,null,null,null,null,null,null,null,null,null,null,null,null,null,null,null,null,null,null,null,null,null,null,null,null,null,null,null,null,null,null,null,2]
[8,null,null,null,null,null,null,null,null,null,null,null,null,null,null,null,null,null,null,null,null,null,null,null,null,null,null,null,null,null,null,null,null,null,null,null,null,null,null,null,null,null,null,null,null,null,null,null,null,null,null,null,null,null,null,null,null,null,null,null,null,null,null,null,null,null,null,null,null,null,null,null,null,null,null,null,null,null,null,null,null,null,null,null,null,null,null,null,null,null,null,null,null,null,null,null,null,null,null,null,null,null,null,null,null,null,null,null,null,null,null,null,null,2]
[9,null,null,null,null,null,null,null,null,null,null,null,null,null,null,null,null,null,null,null,null,null,null,null,null,null,null,null,null,null,null,null,null,null,null,null,null,null,null,null,null,null,null,null,null,null,null,null,null,null,null,null,null,null,null,null,null,null,null,null,null,null,null,null,null,null,null,null,null,null,null,null,null,null,null,null,null,null,null,null,null,null,null,null,null,null,null,null,null,null,null,null,null,null,null,null,null,null,null,null,null,null,null,null,null,null,null,null,null,null,null,null,null,2]
[10,null,null,null,null,null,null,null,null,null,null,null,null,null,null,null,null,null,null,null,null,null,null,null,null,null,null,null,null,null,null,null,null,null,null,null,null,null,null,null,null,null,null,null,null,null,null,null,null,null,null,null,null,null,null,null,null,null,null,null,null,null,null,null,null,null,null,null,null,null,null,null,null,null,null,null,null,null,null,null,null,null,null,null,null,null,null,null,null,null,null,null,null,null,null,null,null,null,null,null,null,null,null,null,null,null,null,null,null,null,null,null,null,2]
[11,null,null,null,null,null,null,null,null,null,null,null,null,null,null,null,null,null,null,null,null,null,null,null,null,null,null,null,null,null,null,null,null,null,null,null,null,null,null,null,null,null,null,null,null,null,null,null,null,null,null,null,null,null,null,null,null,null,null,null,null,null,null,null,null,null,null,null,null,null,null,null,null,null,null,null,null,null,null,null,null,null,null,null,null,null,null,null,null,null,null,null,null,null,null,null,null,null,null,null,null,null,null,null,null,null,null,null,null,null,null,null,null,2]

{"sheet":"Emaile","index":2,"n_rows":20015,"n_cols":16,"rows_kept":4500,"cut":true,"hidden":false,"merged":[[9,5,9,7],[4,5,4,7],[5,5,5,7],[6,5,6,7],[7,5,7,7],[8,5,8,7],[0,2,0,7],[1,2,1,7],[3,5,3,7],[2,5,2,7],[1,11,1,14]],"bounds":{"rows_first":2000,"rows_last":500,"rows_between":2000,"halvings":0}}
[null,null,"Seryjna wysyłka e-mali z załącznikiem PIT-11"]
[null,null,"zapakowanym do pliku zip, który zabezpieczono hasłem z numerem PESEL.",null,null,null,null,null,null,null,null,"Przykłady konfiguracji popularnych serwerów pocztowych - przy braku programu Outlook"]
[null,null,"Konfiguracja sewera","Wysyłający maile","Tytuł maila","Informacja PIT-11 za 2023 rok z ABC-PROJEKT SP. Z O.O.",null,null,null,null,null,"Onet","WP","O2","Gmail","poczta.pl"]
[null,null,"Nazwa użytkownika","to.ja@op.pl","Wysyłana","Pan Kowal Jan",null,null,null,null,null,"to.ja@op.pl","to.moje@wp.pl","moje.konto@o2.pl","mam.kon@gmail.com","to.moje@poczta.pl"]
[null,null,"Hasło*","!przykladowe#haslo!","wiadomość","Przesylamy PIT-11 za 2023 rok. Haslem do pliku zip jest PESEL.",null,null,null,null,null,"!przykladowe#haslo!","!przykladowe#haslo!","!przykladowe#haslo!","!przykladowe#haslo!","!przykladowe#haslo!"]
[null,null,"Poczta wychodząca","smtp.poczta.onet.pl","Uwaga: polskie","Prosimy o szybkie potwierdzenie otrzymania PIT-11.",null,null,null,null,null,"smtp.poczta.onet.pl","smtp.wp.pl","smtp.poczta.o2.pl","smtp.gmail.com","smtp.poczta.pl"]
[null,null,"Smtpserverport",465,"literki w mailu u ","Pozdrawiamy",null,null,null,null,null,465,"465",465,465,"465 lub 25 lub 587"]
[null,null,"Sendusing","2","odbiorcy mogą być","Anna Nowak",null,null,null,null,null,"2","2","2","2","2"]
[null,null,"Smtpauthenticate","1","zamienione w","ABC-PROJEKT SP. Z O.O.",null,null,null,null,null,"1","1","1","1","1"]
[null,null,"Smtpusessl","True","krzaczki.","02-787 Warszawa ul. Elegijna 155",null,null,null,null,null,"True","True","True","True","True"]
[null,null,"*zobacz hasło dla gmail.com"]
[null,null,null,"Od numeru Lp ",1]
[null,null,null,"Do numeru Lp ",1,null,null,null,null,null,null,"INSTRUKCJA WYSYŁKI PRZEZ SERWER POCZTOWY"]
[null,null,null,null,null,null,null,null,null,null,null,"1. Na arkuszu Podatnicy kliknij ",null,"               aby utworzyć pliki pdf z PIT-11 podatników"]
[null,"Lp","Nazwisko","Imię","PESEL/NIP","Adres e-mail podatnika","Wysłano","Potwierdzenie","Uwagi",null,null,"2. Na arkuszu Emaile uzupełnij dane konfiguracji swojego serwera pocztowego oraz edytuj tytuł i treść maila"]
[null,1,{"$f":"Podatnicy!E8","v":0},{"$f":"Podatnicy!F8","v":0},{"$f":"Podatnicy!C8","v":0},null,null,null,null,null,null,"3. Na arkuszu Emaile uzupełnij kolumnę z adresami e-mail podatników"]
[null,2,{"$f":"Podatnicy!E9","v":0},{"$f":"Podatnicy!F9","v":0},{"$f":"Podatnicy!C9","v":0},null,null,null,null,null,null,"4. Wykonaj próbną wysyłkę na swój adres email aby sprawdzić poprawność działania swojego serwera pocztowego"]
[null,3,{"$f":"Podatnicy!E10","v":0},{"$f":"Podatnicy!F10","v":0},{"$f":"Podatnicy!C10","v":0}]
[null,4,{"$f":"Podatnicy!E11","v":0},{"$f":"Podatnicy!F11","v":0},{"$f":"Podatnicy!C11","v":0},null,null,null,null,null,null,"INSTRUKCJA WYSYŁKI PRZEZ OUTLOOK (ustawiony jako domyślny program pocztowy)"]
[null,5,{"$f":"Podatnicy!E12","v":0},{"$f":"Podatnicy!F12","v":0},{"$f":"Podatnicy!C12","v":0},null,null,null,null,null,null,"1. Na arkuszu Podatnicy kliknij ",null,"               aby utworzyć pliki pdf z PIT-11 podatników"]
[null,6,{"$f":"Podatnicy!E13","v":0},{"$f":"Podatnicy!F13","v":0},{"$f":"Podatnicy!C13","v":0},null,null,null,null,null,null,"2. Na arkuszu Emaile edytuj tytuł i treść maila"]
[null,7,{"$f":"Podatnicy!E14","v":0},{"$f":"Podatnicy!F14","v":0},{"$f":"Podatnicy!C14","v":0},null,null,null,null,null,null,"3. Na arkuszu Emaile uzupełnij kolumnę z adresami e-mail podatników"]
[null,8,{"$f":"Podatnicy!E15","v":0},{"$f":"Podatnicy!F15","v":0},{"$f":"Podatnicy!C15","v":0},null,null,null,null,null,null,"4. Wykonaj próbną wysyłkę na swój adres email aby sprawdzić poprawność działania Outlooka"]
[null,9,{"$f":"Podatnicy!E16","v":0},{"$f":"Podatnicy!F16","v":0},{"$f":"Podatnicy!C16","v":0}]
[null,10,{"$f":"Podatnicy!E17","v":0},{"$f":"Podatnicy!F17","v":0},{"$f":"Podatnicy!C17","v":0},null,null,null,null,null,null,"Program wysyła pod wskazane adresy email zapisane pliki PDF według następującej procedury:"]
[null,11,{"$f":"Podatnicy!E18","v":0},{"$f":"Podatnicy!F18","v":0},{"$f":"Podatnicy!C18","v":0},null,null,null,null,null,null,"1. wyszukanie we wskazanym folderze pliku pdf zawierającego w nazwie dany numer PESEL"]
[null,12,{"$f":"Podatnicy!#REF!","v":{"$error":"#REF!"}},{"$f":"Podatnicy!#REF!","v":{"$error":"#REF!"}},{"$f":"Podatnicy!#REF!","v":{"$error":"#REF!"}},null,null,null,null,null,null,"2. skopiowanie pliku np. Nowak Jan_75033108997.pdf do pliku Nowak Jan PIT-11_2023.pdf"]
[null,13,{"$f":"Podatnicy!#REF!","v":{"$error":"#REF!"}},{"$f":"Podatnicy!#REF!","v":{"$error":"#REF!"}},{"$f":"Podatnicy!#REF!","v":{"$error":"#REF!"}},null,null,null,null,null,null,"3. spakowanie pliku Nowak Jan PIT-11_2022.pdf do pliku Nowak Jan PIT-11_2023.zip "]
[null,14,{"$f":"Podatnicy!#REF!","v":{"$error":"#REF!"}},{"$f":"Podatnicy!#REF!","v":{"$error":"#REF!"}},{"$f":"Podatnicy!#REF!","v":{"$error":"#REF!"}},null,null,null,null,null,null,"4. zaszyfrowanie pliku Nowak Jan PIT-11_2023.zip hasłem 75033108997"]
[null,15,{"$f":"Podatnicy!#REF!","v":{"$error":"#REF!"}},{"$f":"Podatnicy!#REF!","v":{"$error":"#REF!"}},{"$f":"Podatnicy!#REF!","v":{"$error":"#REF!"}},null,null,null,null,null,null,"5. wysyłka pliku Nowak Jan PIT-11_2023.zip jako załącznik na wskazany adres email"]
[null,16,{"$f":"Podatnicy!#REF!","v":{"$error":"#REF!"}},{"$f":"Podatnicy!#REF!","v":{"$error":"#REF!"}},{"$f":"Podatnicy!#REF!","v":{"$error":"#REF!"}},null,null,null,null,null,null,"6. usunięcie z dysku pliku Nowak Jan PIT-11_2023.pdf i Nowak Jan PIT-11_2023.zip"]
[null,17,{"$f":"Podatnicy!#REF!","v":{"$error":"#REF!"}},{"$f":"Podatnicy!#REF!","v":{"$error":"#REF!"}},{"$f":"Podatnicy!#REF!","v":{"$error":"#REF!"}}]
[null,18,{"$f":"Podatnicy!#REF!","v":{"$error":"#REF!"}},{"$f":"Podatnicy!#REF!","v":{"$error":"#REF!"}},{"$f":"Podatnicy!#REF!","v":{"$error":"#REF!"}},null,null,null,null,null,null,"Jeden email z załącznikiem to 0,25 MB. Przy seryjnej wysyłce znacznych ilości maili wysyłka może się zawiesić."]
[null,19,{"$f":"Podatnicy!#REF!","v":{"$error":"#REF!"}},{"$f":"Podatnicy!#REF!","v":{"$error":"#REF!"}},{"$f":"Podatnicy!#REF!","v":{"$error":"#REF!"}},null,null,null,null,null,null,"Dlatego lepiej wysyłać maile partiami."]
[null,20,{"$f":"Podatnicy!#REF!","v":{"$error":"#REF!"}},{"$f":"Podatnicy!#REF!","v":{"$error":"#REF!"}},{"$f":"Podatnicy!#REF!","v":{"$error":"#REF!"}}]
[null,21,{"$f":"Podatnicy!#REF!","v":{"$error":"#REF!"}},{"$f":"Podatnicy!#REF!","v":{"$error":"#REF!"}},{"$f":"Podatnicy!#REF!","v":{"$error":"#REF!"}},null,null,null,null,null,null,"W kolumnie Potwierdzenie wpisz datę otrzymania potwierdzenia doręczenia PIT-11. To będzie informacja o skutecznym doręczeniu."]
[null,22,{"$f":"Podatnicy!#REF!","v":{"$error":"#REF!"}},{"$f":"Podatnicy!#REF!","v":{"$error":"#REF!"}},{"$f":"Podatnicy!#REF!","v":{"$error":"#REF!"}},null,null,null,null,null,null,"Jeżeli podatnik nie potwierdzi otrzymania PIT-11 można go wysłać ponownie."]
[null,23,{"$f":"Podatnicy!#REF!","v":{"$error":"#REF!"}},{"$f":"Podatnicy!#REF!","v":{"$error":"#REF!"}},{"$f":"Podatnicy!#REF!","v":{"$error":"#REF!"}}]
[null,24,{"$f":"Podatnicy!#REF!","v":{"$error":"#REF!"}},{"$f":"Podatnicy!#REF!","v":{"$error":"#REF!"}},{"$f":"Podatnicy!#REF!","v":{"$error":"#REF!"}},null,null,null,null,null,null,"TREŚĆ MAILA"]
[null,25,{"$f":"Podatnicy!#REF!","v":{"$error":"#REF!"}},{"$f":"Podatnicy!#REF!","v":{"$error":"#REF!"}},{"$f":"Podatnicy!#REF!","v":{"$error":"#REF!"}},null,null,null,null,null,null,"W tytule maila powinna być nazwa płatnika aby odbiorca nie wykasował go bez otwierania."]
[null,26,{"$f":"Podatnicy!#REF!","v":{"$error":"#REF!"}},{"$f":"Podatnicy!#REF!","v":{"$error":"#REF!"}},{"$f":"Podatnicy!#REF!","v":{"$error":"#REF!"}},null,null,null,null,null,null,"Automatycznie do tytułu maila dodana zostanie liczba porządkowa np. 1 Informacja PIT-11 za 2023 rok z ABC-PROJEKT SP. Z O.O."]
[null,27,{"$f":"Podatnicy!#REF!","v":{"$error":"#REF!"}},{"$f":"Podatnicy!#REF!","v":{"$error":"#REF!"}},{"$f":"Podatnicy!#REF!","v":{"$error":"#REF!"}},null,null,null,null,null,null,"Ta liczba porządkowa będzie w zwrotnym mailu odpowiedzi np. Re: 1 Informacja PIT-11 za 2023 rok z ABC-PROJEKT SP. Z O.O."]
[null,28,{"$f":"Podatnicy!#REF!","v":{"$error":"#REF!"}},{"$f":"Podatnicy!#REF!","v":{"$error":"#REF!"}},{"$f":"Podatnicy!#REF!","v":{"$error":"#REF!"}},null,null,null,null,null,null,"Ułatwi to odnotowanie daty dostarczenia PIT-11 w kolumnie Potwierdzenie."]
[null,29,{"$f":"Podatnicy!#REF!","v":{"$error":"#REF!"}},{"$f":"Podatnicy!#REF!","v":{"$error":"#REF!"}},{"$f":"Podatnicy!#REF!","v":{"$error":"#REF!"}}]
[null,30,{"$f":"Podatnicy!#REF!","v":{"$error":"#REF!"}},{"$f":"Podatnicy!#REF!","v":{"$error":"#REF!"}},{"$f":"Podatnicy!#REF!","v":{"$error":"#REF!"}},null,null,null,null,null,null,"Uwaga: przy wysyłce przez serwer może wystąpić po stronie odbiorcy problem z polskimi znakami diakrycznymi"]
[null,31,{"$f":"Podatnicy!#REF!","v":{"$error":"#REF!"}},{"$f":"Podatnicy!#REF!","v":{"$error":"#REF!"}},{"$f":"Podatnicy!#REF!","v":{"$error":"#REF!"}},null,null,null,null,null,null,"dlatego w treści maila należy unikać ich stosowania. Przy wysyłce z Outlooka nie zauważono tego problemu."]
[null,32,{"$f":"Podatnicy!#REF!","v":{"$error":"#REF!"}},{"$f":"Podatnicy!#REF!","v":{"$error":"#REF!"}},{"$f":"Podatnicy!#REF!","v":{"$error":"#REF!"}}]
[null,33,{"$f":"Podatnicy!#REF!","v":{"$error":"#REF!"}},{"$f":"Podatnicy!#REF!","v":{"$error":"#REF!"}},{"$f":"Podatnicy!#REF!","v":{"$error":"#REF!"}},null,null,null,null,null,null,"ODBIORCA MAILA"]
[null,34,{"$f":"Podatnicy!#REF!","v":{"$error":"#REF!"}},{"$f":"Podatnicy!#REF!","v":{"$error":"#REF!"}},{"$f":"Podatnicy!#REF!","v":{"$error":"#REF!"}},null,null,null,null,null,null,"Odbiorca maila po kliknięciu w plik ZIP przejdzie do pliku PDF o tej samej nazwie gdzie poproszony zostanie o podanie hasła,"]
[null,35,{"$f":"Podatnicy!#REF!","v":{"$error":"#REF!"}},{"$f":"Podatnicy!#REF!","v":{"$error":"#REF!"}},{"$f":"Podatnicy!#REF!","v":{"$error":"#REF!"}},null,null,null,null,null,null,"którym będzie jego PESEL. Złamanie 11 cyfrowego hasła jest praktycznie mało prawdopodobne zatem w razie wysyłki na "]
[null,36,{"$f":"Podatnicy!#REF!","v":{"$error":"#REF!"}},{"$f":"Podatnicy!#REF!","v":{"$error":"#REF!"}},{"$f":"Podatnicy!#REF!","v":{"$error":"#REF!"}},null,null,null,null,null,null,"błędnie podany adres mailowy nie dojdzie do nieupoważnionego udostępnienia danych osobowych."]
[null,37,{"$f":"Podatnicy!#REF!","v":{"$error":"#REF!"}},{"$f":"Podatnicy!#REF!","v":{"$error":"#REF!"}},{"$f":"Podatnicy!#REF!","v":{"$error":"#REF!"}}]
[null,38,{"$f":"Podatnicy!#REF!","v":{"$error":"#REF!"}},{"$f":"Podatnicy!#REF!","v":{"$error":"#REF!"}},{"$f":"Podatnicy!#REF!","v":{"$error":"#REF!"}},null,null,null,null,null,null,"PODSTAWY PRAWNE WYSYŁKI ELEKTRONICZNEJ"]
[null,39,{"$f":"Podatnicy!#REF!","v":{"$error":"#REF!"}},{"$f":"Podatnicy!#REF!","v":{"$error":"#REF!"}},{"$f":"Podatnicy!#REF!","v":{"$error":"#REF!"}},null,null,null,null,null,null,"Ustawa o PIT nie określa formy wysyłki PIT-11 zatem płatnik może wysłać PIT-11 również drogą mailową."]
[null,40,{"$f":"Podatnicy!#REF!","v":{"$error":"#REF!"}},{"$f":"Podatnicy!#REF!","v":{"$error":"#REF!"}},{"$f":"Podatnicy!#REF!","v":{"$error":"#REF!"}},null,null,null,null,null,null,"Art. 39 ust. 1 ustawy PIT nakazuje jedynie przesłać informację dotyczącą dochodów i podatku pobranego."]
[null,41,{"$f":"Podatnicy!#REF!","v":{"$error":"#REF!"}},{"$f":"Podatnicy!#REF!","v":{"$error":"#REF!"}},{"$f":"Podatnicy!#REF!","v":{"$error":"#REF!"}}]
[null,42,{"$f":"Podatnicy!#REF!","v":{"$error":"#REF!"}},{"$f":"Podatnicy!#REF!","v":{"$error":"#REF!"}},{"$f":"Podatnicy!#REF!","v":{"$error":"#REF!"}},null,null,null,null,null,null,"Stanowisko  WSA w Poznaniu, w wyroku z 26 lipca 2018 r. (sygn. akt. I SA/Po 418/18)."]
[null,43,{"$f":"Podatnicy!#REF!","v":{"$error":"#REF!"}},{"$f":"Podatnicy!#REF!","v":{"$error":"#REF!"}},{"$f":"Podatnicy!#REF!","v":{"$error":"#REF!"}},null,null,null,null,null,null,"Interpretacja Dyrektora Krajowej Informacji Skarbowej nr 0115-KDIT2.4011. 9.2019.1.HD nakładająca dodatkowe obowiązki"]
[null,44,{"$f":"Podatnicy!#REF!","v":{"$error":"#REF!"}},{"$f":"Podatnicy!#REF!","v":{"$error":"#REF!"}},{"$f":"Podatnicy!#REF!","v":{"$error":"#REF!"}},null,null,null,null,null,null,"nie wynikające z przepisów prawa, w tym m.im. plik PIT-11 pdf z podpisem cyfrowym."]
[null,45,{"$f":"Podatnicy!#REF!","v":{"$error":"#REF!"}},{"$f":"Podatnicy!#REF!","v":{"$error":"#REF!"}},{"$f":"Podatnicy!#REF!","v":{"$error":"#REF!"}}]
[null,46,{"$f":"Podatnicy!#REF!","v":{"$error":"#REF!"}},{"$f":"Podatnicy!#REF!","v":{"$error":"#REF!"}},{"$f":"Podatnicy!#REF!","v":{"$error":"#REF!"}}]
[null,47,{"$f":"Podatnicy!#REF!","v":{"$error":"#REF!"}},{"$f":"Podatnicy!#REF!","v":{"$error":"#REF!"}},{"$f":"Podatnicy!#REF!","v":{"$error":"#REF!"}}]
[null,48,{"$f":"Podatnicy!#REF!","v":{"$error":"#REF!"}},{"$f":"Podatnicy!#REF!","v":{"$error":"#REF!"}},{"$f":"Podatnicy!#REF!","v":{"$error":"#REF!"}}]
[null,49,{"$f":"Podatnicy!#REF!","v":{"$error":"#REF!"}},{"$f":"Podatnicy!#REF!","v":{"$error":"#REF!"}},{"$f":"Podatnicy!#REF!","v":{"$error":"#REF!"}}]
[null,50,{"$f":"Podatnicy!#REF!","v":{"$error":"#REF!"}},{"$f":"Podatnicy!#REF!","v":{"$error":"#REF!"}},{"$f":"Podatnicy!#REF!","v":{"$error":"#REF!"}}]
[null,51,{"$f":"Podatnicy!#REF!","v":{"$error":"#REF!"}},{"$f":"Podatnicy!#REF!","v":{"$error":"#REF!"}},{"$f":"Podatnicy!#REF!","v":{"$error":"#REF!"}}]
[null,52,{"$f":"Podatnicy!#REF!","v":{"$error":"#REF!"}},{"$f":"Podatnicy!#REF!","v":{"$error":"#REF!"}},{"$f":"Podatnicy!#REF!","v":{"$error":"#REF!"}}]
[null,53,{"$f":"Podatnicy!#REF!","v":{"$error":"#REF!"}},{"$f":"Podatnicy!#REF!","v":{"$error":"#REF!"}},{"$f":"Podatnicy!#REF!","v":{"$error":"#REF!"}}]
[null,54,{"$f":"Podatnicy!#REF!","v":{"$error":"#REF!"}},{"$f":"Podatnicy!#REF!","v":{"$error":"#REF!"}},{"$f":"Podatnicy!#REF!","v":{"$error":"#REF!"}}]
[null,55,{"$f":"Podatnicy!#REF!","v":{"$error":"#REF!"}},{"$f":"Podatnicy!#REF!","v":{"$error":"#REF!"}},{"$f":"Podatnicy!#REF!","v":{"$error":"#REF!"}}]
[null,56,{"$f":"Podatnicy!#REF!","v":{"$error":"#REF!"}},{"$f":"Podatnicy!#REF!","v":{"$error":"#REF!"}},{"$f":"Podatnicy!#REF!","v":{"$error":"#REF!"}}]
[null,57,{"$f":"Podatnicy!#REF!","v":{"$error":"#REF!"}},{"$f":"Podatnicy!#REF!","v":{"$error":"#REF!"}},{"$f":"Podatnicy!#REF!","v":{"$error":"#REF!"}}]
[null,58,{"$f":"Podatnicy!#REF!","v":{"$error":"#REF!"}},{"$f":"Podatnicy!#REF!","v":{"$error":"#REF!"}},{"$f":"Podatnicy!#REF!","v":{"$error":"#REF!"}}]
[null,59,{"$f":"Podatnicy!#REF!","v":{"$error":"#REF!"}},{"$f":"Podatnicy!#REF!","v":{"$error":"#REF!"}},{"$f":"Podatnicy!#REF!","v":{"$error":"#REF!"}}]
[null,60,{"$f":"Podatnicy!#REF!","v":{"$error":"#REF!"}},{"$f":"Podatnicy!#REF!","v":{"$error":"#REF!"}},{"$f":"Podatnicy!#REF!","v":{"$error":"#REF!"}}]
[null,61,{"$f":"Podatnicy!#REF!","v":{"$error":"#REF!"}},{"$f":"Podatnicy!#REF!","v":{"$error":"#REF!"}},{"$f":"Podatnicy!#REF!","v":{"$error":"#REF!"}}]
[null,62,{"$f":"Podatnicy!#REF!","v":{"$error":"#REF!"}},{"$f":"Podatnicy!#REF!","v":{"$error":"#REF!"}},{"$f":"Podatnicy!#REF!","v":{"$error":"#REF!"}}]
[null,63,{"$f":"Podatnicy!#REF!","v":{"$error":"#REF!"}},{"$f":"Podatnicy!#REF!","v":{"$error":"#REF!"}},{"$f":"Podatnicy!#REF!","v":{"$error":"#REF!"}}]
[null,64,{"$f":"Podatnicy!#REF!","v":{"$error":"#REF!"}},{"$f":"Podatnicy!#REF!","v":{"$error":"#REF!"}},{"$f":"Podatnicy!#REF!","v":{"$error":"#REF!"}}]
[null,65,{"$f":"Podatnicy!#REF!","v":{"$error":"#REF!"}},{"$f":"Podatnicy!#REF!","v":{"$error":"#REF!"}},{"$f":"Podatnicy!#REF!","v":{"$error":"#REF!"}}]
[null,66,{"$f":"Podatnicy!#REF!","v":{"$error":"#REF!"}},{"$f":"Podatnicy!#REF!","v":{"$error":"#REF!"}},{"$f":"Podatnicy!#REF!","v":{"$error":"#REF!"}}]
[null,67,{"$f":"Podatnicy!#REF!","v":{"$error":"#REF!"}},{"$f":"Podatnicy!#REF!","v":{"$error":"#REF!"}},{"$f":"Podatnicy!#REF!","v":{"$error":"#REF!"}}]
[null,68,{"$f":"Podatnicy!#REF!","v":{"$error":"#REF!"}},{"$f":"Podatnicy!#REF!","v":{"$error":"#REF!"}},{"$f":"Podatnicy!#REF!","v":{"$error":"#REF!"}}]
[null,69,{"$f":"Podatnicy!#REF!","v":{"$error":"#REF!"}},{"$f":"Podatnicy!#REF!","v":{"$error":"#REF!"}},{"$f":"Podatnicy!#REF!","v":{"$error":"#REF!"}}]
[null,70,{"$f":"Podatnicy!#REF!","v":{"$error":"#REF!"}},{"$f":"Podatnicy!#REF!","v":{"$error":"#REF!"}},{"$f":"Podatnicy!#REF!","v":{"$error":"#REF!"}}]
[null,71,{"$f":"Podatnicy!#REF!","v":{"$error":"#REF!"}},{"$f":"Podatnicy!#REF!","v":{"$error":"#REF!"}},{"$f":"Podatnicy!#REF!","v":{"$error":"#REF!"}}]
[null,72,{"$f":"Podatnicy!#REF!","v":{"$error":"#REF!"}},{"$f":"Podatnicy!#REF!","v":{"$error":"#REF!"}},{"$f":"Podatnicy!#REF!","v":{"$error":"#REF!"}}]
[null,73,{"$f":"Podatnicy!#REF!","v":{"$error":"#REF!"}},{"$f":"Podatnicy!#REF!","v":{"$error":"#REF!"}},{"$f":"Podatnicy!#REF!","v":{"$error":"#REF!"}}]
[null,74,{"$f":"Podatnicy!#REF!","v":{"$error":"#REF!"}},{"$f":"Podatnicy!#REF!","v":{"$error":"#REF!"}},{"$f":"Podatnicy!#REF!","v":{"$error":"#REF!"}}]
[null,75,{"$f":"Podatnicy!#REF!","v":{"$error":"#REF!"}},{"$f":"Podatnicy!#REF!","v":{"$error":"#REF!"}},{"$f":"Podatnicy!#REF!","v":{"$error":"#REF!"}}]
[null,76,{"$f":"Podatnicy!#REF!","v":{"$error":"#REF!"}},{"$f":"Podatnicy!#REF!","v":{"$error":"#REF!"}},{"$f":"Podatnicy!#REF!","v":{"$error":"#REF!"}}]
[null,77,{"$f":"Podatnicy!#REF!","v":{"$error":"#REF!"}},{"$f":"Podatnicy!#REF!","v":{"$error":"#REF!"}},{"$f":"Podatnicy!#REF!","v":{"$error":"#REF!"}}]
[null,78,{"$f":"Podatnicy!#REF!","v":{"$error":"#REF!"}},{"$f":"Podatnicy!#REF!","v":{"$error":"#REF!"}},{"$f":"Podatnicy!#REF!","v":{"$error":"#REF!"}}]
[null,79,{"$f":"Podatnicy!#REF!","v":{"$error":"#REF!"}},{"$f":"Podatnicy!#REF!","v":{"$error":"#REF!"}},{"$f":"Podatnicy!#REF!","v":{"$error":"#REF!"}}]
[null,80,{"$f":"Podatnicy!#REF!","v":{"$error":"#REF!"}},{"$f":"Podatnicy!#REF!","v":{"$error":"#REF!"}},{"$f":"Podatnicy!#REF!","v":{"$error":"#REF!"}}]
[null,81,{"$f":"Podatnicy!#REF!","v":{"$error":"#REF!"}},{"$f":"Podatnicy!#REF!","v":{"$error":"#REF!"}},{"$f":"Podatnicy!#REF!","v":{"$error":"#REF!"}}]
[null,82,{"$f":"Podatnicy!#REF!","v":{"$error":"#REF!"}},{"$f":"Podatnicy!#REF!","v":{"$error":"#REF!"}},{"$f":"Podatnicy!#REF!","v":{"$error":"#REF!"}}]
[null,83,{"$f":"Podatnicy!#REF!","v":{"$error":"#REF!"}},{"$f":"Podatnicy!#REF!","v":{"$error":"#REF!"}},{"$f":"Podatnicy!#REF!","v":{"$error":"#REF!"}}]
[null,84,{"$f":"Podatnicy!#REF!","v":{"$error":"#REF!"}},{"$f":"Podatnicy!#REF!","v":{"$error":"#REF!"}},{"$f":"Podatnicy!#REF!","v":{"$error":"#REF!"}}]
[null,85,{"$f":"Podatnicy!#REF!","v":{"$error":"#REF!"}},{"$f":"Podatnicy!#REF!","v":{"$error":"#REF!"}},{"$f":"Podatnicy!#REF!","v":{"$error":"#REF!"}}]
[null,86,{"$f":"Podatnicy!#REF!","v":{"$error":"#REF!"}},{"$f":"Podatnicy!#REF!","v":{"$error":"#REF!"}},{"$f":"Podatnicy!#REF!","v":{"$error":"#REF!"}}]
[null,87,{"$f":"Podatnicy!#REF!","v":{"$error":"#REF!"}},{"$f":"Podatnicy!#REF!","v":{"$error":"#REF!"}},{"$f":"Podatnicy!#REF!","v":{"$error":"#REF!"}}]
[null,88,{"$f":"Podatnicy!#REF!","v":{"$error":"#REF!"}},{"$f":"Podatnicy!#REF!","v":{"$error":"#REF!"}},{"$f":"Podatnicy!#REF!","v":{"$error":"#REF!"}}]
[null,89,{"$f":"Podatnicy!#REF!","v":{"$error":"#REF!"}},{"$f":"Podatnicy!#REF!","v":{"$error":"#REF!"}},{"$f":"Podatnicy!#REF!","v":{"$error":"#REF!"}}]
[null,90,{"$f":"Podatnicy!#REF!","v":{"$error":"#REF!"}},{"$f":"Podatnicy!#REF!","v":{"$error":"#REF!"}},{"$f":"Podatnicy!#REF!","v":{"$error":"#REF!"}}]
[null,91,{"$f":"Podatnicy!#REF!","v":{"$error":"#REF!"}},{"$f":"Podatnicy!#REF!","v":{"$error":"#REF!"}},{"$f":"Podatnicy!#REF!","v":{"$error":"#REF!"}}]
[null,92,{"$f":"Podatnicy!#REF!","v":{"$error":"#REF!"}},{"$f":"Podatnicy!#REF!","v":{"$error":"#REF!"}},{"$f":"Podatnicy!#REF!","v":{"$error":"#REF!"}}]
[null,93,{"$f":"Podatnicy!#REF!","v":{"$error":"#REF!"}},{"$f":"Podatnicy!#REF!","v":{"$error":"#REF!"}},{"$f":"Podatnicy!#REF!","v":{"$error":"#REF!"}}]
[null,94,{"$f":"Podatnicy!#REF!","v":{"$error":"#REF!"}},{"$f":"Podatnicy!#REF!","v":{"$error":"#REF!"}},{"$f":"Podatnicy!#REF!","v":{"$error":"#REF!"}}]
[null,95,{"$f":"Podatnicy!#REF!","v":{"$error":"#REF!"}},{"$f":"Podatnicy!#REF!","v":{"$error":"#REF!"}},{"$f":"Podatnicy!#REF!","v":{"$error":"#REF!"}}]
[null,96,{"$f":"Podatnicy!#REF!","v":{"$error":"#REF!"}},{"$f":"Podatnicy!#REF!","v":{"$error":"#REF!"}},{"$f":"Podatnicy!#REF!","v":{"$error":"#REF!"}}]
[null,97,{"$f":"Podatnicy!#REF!","v":{"$error":"#REF!"}},{"$f":"Podatnicy!#REF!","v":{"$error":"#REF!"}},{"$f":"Podatnicy!#REF!","v":{"$error":"#REF!"}}]
[null,98,{"$f":"Podatnicy!#REF!","v":{"$error":"#REF!"}},{"$f":"Podatnicy!#REF!","v":{"$error":"#REF!"}},{"$f":"Podatnicy!#REF!","v":{"$error":"#REF!"}}]
[null,99,{"$f":"Podatnicy!#REF!","v":{"$error":"#REF!"}},{"$f":"Podatnicy!#REF!","v":{"$error":"#REF!"}},{"$f":"Podatnicy!#REF!","v":{"$error":"#REF!"}}]
[null,100,{"$f":"Podatnicy!#REF!","v":{"$error":"#REF!"}},{"$f":"Podatnicy!#REF!","v":{"$error":"#REF!"}},{"$f":"Podatnicy!#REF!","v":{"$error":"#REF!"}}]
[null,101,{"$f":"Podatnicy!#REF!","v":{"$error":"#REF!"}},{"$f":"Podatnicy!#REF!","v":{"$error":"#REF!"}},{"$f":"Podatnicy!#REF!","v":{"$error":"#REF!"}}]
[null,102,{"$f":"Podatnicy!#REF!","v":{"$error":"#REF!"}},{"$f":"Podatnicy!#REF!","v":{"$error":"#REF!"}},{"$f":"Podatnicy!#REF!","v":{"$error":"#REF!"}}]
[null,103,{"$f":"Podatnicy!#REF!","v":{"$error":"#REF!"}},{"$f":"Podatnicy!#REF!","v":{"$error":"#REF!"}},{"$f":"Podatnicy!#REF!","v":{"$error":"#REF!"}}]
[null,104,{"$f":"Podatnicy!#REF!","v":{"$error":"#REF!"}},{"$f":"Podatnicy!#REF!","v":{"$error":"#REF!"}},{"$f":"Podatnicy!#REF!","v":{"$error":"#REF!"}}]
[null,105,{"$f":"Podatnicy!#REF!","v":{"$error":"#REF!"}},{"$f":"Podatnicy!#REF!","v":{"$error":"#REF!"}},{"$f":"Podatnicy!#REF!","v":{"$error":"#REF!"}}]
[null,106,{"$f":"Podatnicy!#REF!","v":{"$error":"#REF!"}},{"$f":"Podatnicy!#REF!","v":{"$error":"#REF!"}},{"$f":"Podatnicy!#REF!","v":{"$error":"#REF!"}}]
[null,107,{"$f":"Podatnicy!#REF!","v":{"$error":"#REF!"}},{"$f":"Podatnicy!#REF!","v":{"$error":"#REF!"}},{"$f":"Podatnicy!#REF!","v":{"$error":"#REF!"}}]
[null,108,{"$f":"Podatnicy!#REF!","v":{"$error":"#REF!"}},{"$f":"Podatnicy!#REF!","v":{"$error":"#REF!"}},{"$f":"Podatnicy!#REF!","v":{"$error":"#REF!"}}]
[null,109,{"$f":"Podatnicy!#REF!","v":{"$error":"#REF!"}},{"$f":"Podatnicy!#REF!","v":{"$error":"#REF!"}},{"$f":"Podatnicy!#REF!","v":{"$error":"#REF!"}}]
[null,110,{"$f":"Podatnicy!#REF!","v":{"$error":"#REF!"}},{"$f":"Podatnicy!#REF!","v":{"$error":"#REF!"}},{"$f":"Podatnicy!#REF!","v":{"$error":"#REF!"}}]
[null,111,{"$f":"Podatnicy!#REF!","v":{"$error":"#REF!"}},{"$f":"Podatnicy!#REF!","v":{"$error":"#REF!"}},{"$f":"Podatnicy!#REF!","v":{"$error":"#REF!"}}]
[null,112,{"$f":"Podatnicy!#REF!","v":{"$error":"#REF!"}},{"$f":"Podatnicy!#REF!","v":{"$error":"#REF!"}},{"$f":"Podatnicy!#REF!","v":{"$error":"#REF!"}}]
[null,113,{"$f":"Podatnicy!#REF!","v":{"$error":"#REF!"}},{"$f":"Podatnicy!#REF!","v":{"$error":"#REF!"}},{"$f":"Podatnicy!#REF!","v":{"$error":"#REF!"}}]
[null,114,{"$f":"Podatnicy!#REF!","v":{"$error":"#REF!"}},{"$f":"Podatnicy!#REF!","v":{"$error":"#REF!"}},{"$f":"Podatnicy!#REF!","v":{"$error":"#REF!"}}]
[null,115,{"$f":"Podatnicy!#REF!","v":{"$error":"#REF!"}},{"$f":"Podatnicy!#REF!","v":{"$error":"#REF!"}},{"$f":"Podatnicy!#REF!","v":{"$error":"#REF!"}}]
[null,116,{"$f":"Podatnicy!#REF!","v":{"$error":"#REF!"}},{"$f":"Podatnicy!#REF!","v":{"$error":"#REF!"}},{"$f":"Podatnicy!#REF!","v":{"$error":"#REF!"}}]
[null,117,{"$f":"Podatnicy!#REF!","v":{"$error":"#REF!"}},{"$f":"Podatnicy!#REF!","v":{"$error":"#REF!"}},{"$f":"Podatnicy!#REF!","v":{"$error":"#REF!"}}]
[null,118,{"$f":"Podatnicy!#REF!","v":{"$error":"#REF!"}},{"$f":"Podatnicy!#REF!","v":{"$error":"#REF!"}},{"$f":"Podatnicy!#REF!","v":{"$error":"#REF!"}}]
[null,119,{"$f":"Podatnicy!#REF!","v":{"$error":"#REF!"}},{"$f":"Podatnicy!#REF!","v":{"$error":"#REF!"}},{"$f":"Podatnicy!#REF!","v":{"$error":"#REF!"}}]
[null,120,{"$f":"Podatnicy!#REF!","v":{"$error":"#REF!"}},{"$f":"Podatnicy!#REF!","v":{"$error":"#REF!"}},{"$f":"Podatnicy!#REF!","v":{"$error":"#REF!"}}]
[null,121,{"$f":"Podatnicy!#REF!","v":{"$error":"#REF!"}},{"$f":"Podatnicy!#REF!","v":{"$error":"#REF!"}},{"$f":"Podatnicy!#REF!","v":{"$error":"#REF!"}}]
[null,122,{"$f":"Podatnicy!#REF!","v":{"$error":"#REF!"}},{"$f":"Podatnicy!#REF!","v":{"$error":"#REF!"}},{"$f":"Podatnicy!#REF!","v":{"$error":"#REF!"}}]
[null,123,{"$f":"Podatnicy!#REF!","v":{"$error":"#REF!"}},{"$f":"Podatnicy!#REF!","v":{"$error":"#REF!"}},{"$f":"Podatnicy!#REF!","v":{"$error":"#REF!"}}]
[null,124,{"$f":"Podatnicy!#REF!","v":{"$error":"#REF!"}},{"$f":"Podatnicy!#REF!","v":{"$error":"#REF!"}},{"$f":"Podatnicy!#REF!","v":{"$error":"#REF!"}}]
[null,125,{"$f":"Podatnicy!#REF!","v":{"$error":"#REF!"}},{"$f":"Podatnicy!#REF!","v":{"$error":"#REF!"}},{"$f":"Podatnicy!#REF!","v":{"$error":"#REF!"}}]
[null,126,{"$f":"Podatnicy!#REF!","v":{"$error":"#REF!"}},{"$f":"Podatnicy!#REF!","v":{"$error":"#REF!"}},{"$f":"Podatnicy!#REF!","v":{"$error":"#REF!"}}]
[null,127,{"$f":"Podatnicy!#REF!","v":{"$error":"#REF!"}},{"$f":"Podatnicy!#REF!","v":{"$error":"#REF!"}},{"$f":"Podatnicy!#REF!","v":{"$error":"#REF!"}}]
[null,128,{"$f":"Podatnicy!#REF!","v":{"$error":"#REF!"}},{"$f":"Podatnicy!#REF!","v":{"$error":"#REF!"}},{"$f":"Podatnicy!#REF!","v":{"$error":"#REF!"}}]
[null,129,{"$f":"Podatnicy!#REF!","v":{"$error":"#REF!"}},{"$f":"Podatnicy!#REF!","v":{"$error":"#REF!"}},{"$f":"Podatnicy!#REF!","v":{"$error":"#REF!"}}]
[null,130,{"$f":"Podatnicy!#REF!","v":{"$error":"#REF!"}},{"$f":"Podatnicy!#REF!","v":{"$error":"#REF!"}},{"$f":"Podatnicy!#REF!","v":{"$error":"#REF!"}}]
[null,131,{"$f":"Podatnicy!#REF!","v":{"$error":"#REF!"}},{"$f":"Podatnicy!#REF!","v":{"$error":"#REF!"}},{"$f":"Podatnicy!#REF!","v":{"$error":"#REF!"}}]
[null,132,{"$f":"Podatnicy!#REF!","v":{"$error":"#REF!"}},{"$f":"Podatnicy!#REF!","v":{"$error":"#REF!"}},{"$f":"Podatnicy!#REF!","v":{"$error":"#REF!"}}]
[null,133,{"$f":"Podatnicy!#REF!","v":{"$error":"#REF!"}},{"$f":"Podatnicy!#REF!","v":{"$error":"#REF!"}},{"$f":"Podatnicy!#REF!","v":{"$error":"#REF!"}}]
[null,134,{"$f":"Podatnicy!#REF!","v":{"$error":"#REF!"}},{"$f":"Podatnicy!#REF!","v":{"$error":"#REF!"}},{"$f":"Podatnicy!#REF!","v":{"$error":"#REF!"}}]
[null,135,{"$f":"Podatnicy!#REF!","v":{"$error":"#REF!"}},{"$f":"Podatnicy!#REF!","v":{"$error":"#REF!"}},{"$f":"Podatnicy!#REF!","v":{"$error":"#REF!"}}]
[null,136,{"$f":"Podatnicy!#REF!","v":{"$error":"#REF!"}},{"$f":"Podatnicy!#REF!","v":{"$error":"#REF!"}},{"$f":"Podatnicy!#REF!","v":{"$error":"#REF!"}}]
[null,137,{"$f":"Podatnicy!#REF!","v":{"$error":"#REF!"}},{"$f":"Podatnicy!#REF!","v":{"$error":"#REF!"}},{"$f":"Podatnicy!#REF!","v":{"$error":"#REF!"}}]
[null,138,{"$f":"Podatnicy!#REF!","v":{"$error":"#REF!"}},{"$f":"Podatnicy!#REF!","v":{"$error":"#REF!"}},{"$f":"Podatnicy!#REF!","v":{"$error":"#REF!"}}]
[null,139,{"$f":"Podatnicy!#REF!","v":{"$error":"#REF!"}},{"$f":"Podatnicy!#REF!","v":{"$error":"#REF!"}},{"$f":"Podatnicy!#REF!","v":{"$error":"#REF!"}}]
[null,140,{"$f":"Podatnicy!#REF!","v":{"$error":"#REF!"}},{"$f":"Podatnicy!#REF!","v":{"$error":"#REF!"}},{"$f":"Podatnicy!#REF!","v":{"$error":"#REF!"}}]
[null,141,{"$f":"Podatnicy!#REF!","v":{"$error":"#REF!"}},{"$f":"Podatnicy!#REF!","v":{"$error":"#REF!"}},{"$f":"Podatnicy!#REF!","v":{"$error":"#REF!"}}]
[null,142,{"$f":"Podatnicy!#REF!","v":{"$error":"#REF!"}},{"$f":"Podatnicy!#REF!","v":{"$error":"#REF!"}},{"$f":"Podatnicy!#REF!","v":{"$error":"#REF!"}}]
[null,143,{"$f":"Podatnicy!#REF!","v":{"$error":"#REF!"}},{"$f":"Podatnicy!#REF!","v":{"$error":"#REF!"}},{"$f":"Podatnicy!#REF!","v":{"$error":"#REF!"}}]
[null,144,{"$f":"Podatnicy!#REF!","v":{"$error":"#REF!"}},{"$f":"Podatnicy!#REF!","v":{"$error":"#REF!"}},{"$f":"Podatnicy!#REF!","v":{"$error":"#REF!"}}]
[null,145,{"$f":"Podatnicy!#REF!","v":{"$error":"#REF!"}},{"$f":"Podatnicy!#REF!","v":{"$error":"#REF!"}},{"$f":"Podatnicy!#REF!","v":{"$error":"#REF!"}}]
[null,146,{"$f":"Podatnicy!#REF!","v":{"$error":"#REF!"}},{"$f":"Podatnicy!#REF!","v":{"$error":"#REF!"}},{"$f":"Podatnicy!#REF!","v":{"$error":"#REF!"}}]
[null,147,{"$f":"Podatnicy!#REF!","v":{"$error":"#REF!"}},{"$f":"Podatnicy!#REF!","v":{"$error":"#REF!"}},{"$f":"Podatnicy!#REF!","v":{"$error":"#REF!"}}]
[null,148,{"$f":"Podatnicy!#REF!","v":{"$error":"#REF!"}},{"$f":"Podatnicy!#REF!","v":{"$error":"#REF!"}},{"$f":"Podatnicy!#REF!","v":{"$error":"#REF!"}}]
[null,149,{"$f":"Podatnicy!#REF!","v":{"$error":"#REF!"}},{"$f":"Podatnicy!#REF!","v":{"$error":"#REF!"}},{"$f":"Podatnicy!#REF!","v":{"$error":"#REF!"}}]
[null,150,{"$f":"Podatnicy!#REF!","v":{"$error":"#REF!"}},{"$f":"Podatnicy!#REF!","v":{"$error":"#REF!"}},{"$f":"Podatnicy!#REF!","v":{"$error":"#REF!"}}]
[null,151,{"$f":"Podatnicy!#REF!","v":{"$error":"#REF!"}},{"$f":"Podatnicy!#REF!","v":{"$error":"#REF!"}},{"$f":"Podatnicy!#REF!","v":{"$error":"#REF!"}}]
[null,152,{"$f":"Podatnicy!#REF!","v":{"$error":"#REF!"}},{"$f":"Podatnicy!#REF!","v":{"$error":"#REF!"}},{"$f":"Podatnicy!#REF!","v":{"$error":"#REF!"}}]
[null,153,{"$f":"Podatnicy!#REF!","v":{"$error":"#REF!"}},{"$f":"Podatnicy!#REF!","v":{"$error":"#REF!"}},{"$f":"Podatnicy!#REF!","v":{"$error":"#REF!"}}]
[null,154,{"$f":"Podatnicy!#REF!","v":{"$error":"#REF!"}},{"$f":"Podatnicy!#REF!","v":{"$error":"#REF!"}},{"$f":"Podatnicy!#REF!","v":{"$error":"#REF!"}}]
[null,155,{"$f":"Podatnicy!#REF!","v":{"$error":"#REF!"}},{"$f":"Podatnicy!#REF!","v":{"$error":"#REF!"}},{"$f":"Podatnicy!#REF!","v":{"$error":"#REF!"}}]
[null,156,{"$f":"Podatnicy!#REF!","v":{"$error":"#REF!"}},{"$f":"Podatnicy!#REF!","v":{"$error":"#REF!"}},{"$f":"Podatnicy!#REF!","v":{"$error":"#REF!"}}]
[null,157,{"$f":"Podatnicy!#REF!","v":{"$error":"#REF!"}},{"$f":"Podatnicy!#REF!","v":{"$error":"#REF!"}},{"$f":"Podatnicy!#REF!","v":{"$error":"#REF!"}}]
[null,158,{"$f":"Podatnicy!#REF!","v":{"$error":"#REF!"}},{"$f":"Podatnicy!#REF!","v":{"$error":"#REF!"}},{"$f":"Podatnicy!#REF!","v":{"$error":"#REF!"}}]
[null,159,{"$f":"Podatnicy!#REF!","v":{"$error":"#REF!"}},{"$f":"Podatnicy!#REF!","v":{"$error":"#REF!"}},{"$f":"Podatnicy!#REF!","v":{"$error":"#REF!"}}]
[null,160,{"$f":"Podatnicy!#REF!","v":{"$error":"#REF!"}},{"$f":"Podatnicy!#REF!","v":{"$error":"#REF!"}},{"$f":"Podatnicy!#REF!","v":{"$error":"#REF!"}}]
[null,161,{"$f":"Podatnicy!#REF!","v":{"$error":"#REF!"}},{"$f":"Podatnicy!#REF!","v":{"$error":"#REF!"}},{"$f":"Podatnicy!#REF!","v":{"$error":"#REF!"}}]
[null,162,{"$f":"Podatnicy!#REF!","v":{"$error":"#REF!"}},{"$f":"Podatnicy!#REF!","v":{"$error":"#REF!"}},{"$f":"Podatnicy!#REF!","v":{"$error":"#REF!"}}]
[null,163,{"$f":"Podatnicy!#REF!","v":{"$error":"#REF!"}},{"$f":"Podatnicy!#REF!","v":{"$error":"#REF!"}},{"$f":"Podatnicy!#REF!","v":{"$error":"#REF!"}}]
[null,164,{"$f":"Podatnicy!#REF!","v":{"$error":"#REF!"}},{"$f":"Podatnicy!#REF!","v":{"$error":"#REF!"}},{"$f":"Podatnicy!#REF!","v":{"$error":"#REF!"}}]
[null,165,{"$f":"Podatnicy!#REF!","v":{"$error":"#REF!"}},{"$f":"Podatnicy!#REF!","v":{"$error":"#REF!"}},{"$f":"Podatnicy!#REF!","v":{"$error":"#REF!"}}]
[null,166,{"$f":"Podatnicy!#REF!","v":{"$error":"#REF!"}},{"$f":"Podatnicy!#REF!","v":{"$error":"#REF!"}},{"$f":"Podatnicy!#REF!","v":{"$error":"#REF!"}}]
[null,167,{"$f":"Podatnicy!#REF!","v":{"$error":"#REF!"}},{"$f":"Podatnicy!#REF!","v":{"$error":"#REF!"}},{"$f":"Podatnicy!#REF!","v":{"$error":"#REF!"}}]
[null,168,{"$f":"Podatnicy!#REF!","v":{"$error":"#REF!"}},{"$f":"Podatnicy!#REF!","v":{"$error":"#REF!"}},{"$f":"Podatnicy!#REF!","v":{"$error":"#REF!"}}]
[null,169,{"$f":"Podatnicy!#REF!","v":{"$error":"#REF!"}},{"$f":"Podatnicy!#REF!","v":{"$error":"#REF!"}},{"$f":"Podatnicy!#REF!","v":{"$error":"#REF!"}}]
[null,170,{"$f":"Podatnicy!#REF!","v":{"$error":"#REF!"}},{"$f":"Podatnicy!#REF!","v":{"$error":"#REF!"}},{"$f":"Podatnicy!#REF!","v":{"$error":"#REF!"}}]
[null,171,{"$f":"Podatnicy!#REF!","v":{"$error":"#REF!"}},{"$f":"Podatnicy!#REF!","v":{"$error":"#REF!"}},{"$f":"Podatnicy!#REF!","v":{"$error":"#REF!"}}]
[null,172,{"$f":"Podatnicy!#REF!","v":{"$error":"#REF!"}},{"$f":"Podatnicy!#REF!","v":{"$error":"#REF!"}},{"$f":"Podatnicy!#REF!","v":{"$error":"#REF!"}}]
[null,173,{"$f":"Podatnicy!#REF!","v":{"$error":"#REF!"}},{"$f":"Podatnicy!#REF!","v":{"$error":"#REF!"}},{"$f":"Podatnicy!#REF!","v":{"$error":"#REF!"}}]
[null,174,{"$f":"Podatnicy!#REF!","v":{"$error":"#REF!"}},{"$f":"Podatnicy!#REF!","v":{"$error":"#REF!"}},{"$f":"Podatnicy!#REF!","v":{"$error":"#REF!"}}]
[null,175,{"$f":"Podatnicy!#REF!","v":{"$error":"#REF!"}},{"$f":"Podatnicy!#REF!","v":{"$error":"#REF!"}},{"$f":"Podatnicy!#REF!","v":{"$error":"#REF!"}}]
[null,176,{"$f":"Podatnicy!#REF!","v":{"$error":"#REF!"}},{"$f":"Podatnicy!#REF!","v":{"$error":"#REF!"}},{"$f":"Podatnicy!#REF!","v":{"$error":"#REF!"}}]
[null,177,{"$f":"Podatnicy!#REF!","v":{"$error":"#REF!"}},{"$f":"Podatnicy!#REF!","v":{"$error":"#REF!"}},{"$f":"Podatnicy!#REF!","v":{"$error":"#REF!"}}]
[null,178,{"$f":"Podatnicy!#REF!","v":{"$error":"#REF!"}},{"$f":"Podatnicy!#REF!","v":{"$error":"#REF!"}},{"$f":"Podatnicy!#REF!","v":{"$error":"#REF!"}}]
[null,179,{"$f":"Podatnicy!#REF!","v":{"$error":"#REF!"}},{"$f":"Podatnicy!#REF!","v":{"$error":"#REF!"}},{"$f":"Podatnicy!#REF!","v":{"$error":"#REF!"}}]
[null,180,{"$f":"Podatnicy!#REF!","v":{"$error":"#REF!"}},{"$f":"Podatnicy!#REF!","v":{"$error":"#REF!"}},{"$f":"Podatnicy!#REF!","v":{"$error":"#REF!"}}]
[null,181,{"$f":"Podatnicy!#REF!","v":{"$error":"#REF!"}},{"$f":"Podatnicy!#REF!","v":{"$error":"#REF!"}},{"$f":"Podatnicy!#REF!","v":{"$error":"#REF!"}}]
[null,182,{"$f":"Podatnicy!#REF!","v":{"$error":"#REF!"}},{"$f":"Podatnicy!#REF!","v":{"$error":"#REF!"}},{"$f":"Podatnicy!#REF!","v":{"$error":"#REF!"}}]
[null,183,{"$f":"Podatnicy!#REF!","v":{"$error":"#REF!"}},{"$f":"Podatnicy!#REF!","v":{"$error":"#REF!"}},{"$f":"Podatnicy!#REF!","v":{"$error":"#REF!"}}]
[null,184,{"$f":"Podatnicy!#REF!","v":{"$error":"#REF!"}},{"$f":"Podatnicy!#REF!","v":{"$error":"#REF!"}},{"$f":"Podatnicy!#REF!","v":{"$error":"#REF!"}}]
[null,185,{"$f":"Podatnicy!#REF!","v":{"$error":"#REF!"}},{"$f":"Podatnicy!#REF!","v":{"$error":"#REF!"}},{"$f":"Podatnicy!#REF!","v":{"$error":"#REF!"}}]
[null,186,{"$f":"Podatnicy!#REF!","v":{"$error":"#REF!"}},{"$f":"Podatnicy!#REF!","v":{"$error":"#REF!"}},{"$f":"Podatnicy!#REF!","v":{"$error":"#REF!"}}]
[null,187,{"$f":"Podatnicy!#REF!","v":{"$error":"#REF!"}},{"$f":"Podatnicy!#REF!","v":{"$error":"#REF!"}},{"$f":"Podatnicy!#REF!","v":{"$error":"#REF!"}}]
[null,188,{"$f":"Podatnicy!#REF!","v":{"$error":"#REF!"}},{"$f":"Podatnicy!#REF!","v":{"$error":"#REF!"}},{"$f":"Podatnicy!#REF!","v":{"$error":"#REF!"}}]
[null,189,{"$f":"Podatnicy!#REF!","v":{"$error":"#REF!"}},{"$f":"Podatnicy!#REF!","v":{"$error":"#REF!"}},{"$f":"Podatnicy!#REF!","v":{"$error":"#REF!"}}]
[null,190,{"$f":"Podatnicy!#REF!","v":{"$error":"#REF!"}},{"$f":"Podatnicy!#REF!","v":{"$error":"#REF!"}},{"$f":"Podatnicy!#REF!","v":{"$error":"#REF!"}}]
[null,191,{"$f":"Podatnicy!#REF!","v":{"$error":"#REF!"}},{"$f":"Podatnicy!#REF!","v":{"$error":"#REF!"}},{"$f":"Podatnicy!#REF!","v":{"$error":"#REF!"}}]
[null,192,{"$f":"Podatnicy!#REF!","v":{"$error":"#REF!"}},{"$f":"Podatnicy!#REF!","v":{"$error":"#REF!"}},{"$f":"Podatnicy!#REF!","v":{"$error":"#REF!"}}]
[null,193,{"$f":"Podatnicy!#REF!","v":{"$error":"#REF!"}},{"$f":"Podatnicy!#REF!","v":{"$error":"#REF!"}},{"$f":"Podatnicy!#REF!","v":{"$error":"#REF!"}}]
[null,194,{"$f":"Podatnicy!#REF!","v":{"$error":"#REF!"}},{"$f":"Podatnicy!#REF!","v":{"$error":"#REF!"}},{"$f":"Podatnicy!#REF!","v":{"$error":"#REF!"}}]
[null,195,{"$f":"Podatnicy!#REF!","v":{"$error":"#REF!"}},{"$f":"Podatnicy!#REF!","v":{"$error":"#REF!"}},{"$f":"Podatnicy!#REF!","v":{"$error":"#REF!"}}]
[null,196,{"$f":"Podatnicy!#REF!","v":{"$error":"#REF!"}},{"$f":"Podatnicy!#REF!","v":{"$error":"#REF!"}},{"$f":"Podatnicy!#REF!","v":{"$error":"#REF!"}}]
[null,197,{"$f":"Podatnicy!#REF!","v":{"$error":"#REF!"}},{"$f":"Podatnicy!#REF!","v":{"$error":"#REF!"}},{"$f":"Podatnicy!#REF!","v":{"$error":"#REF!"}}]
[null,198,{"$f":"Podatnicy!#REF!","v":{"$error":"#REF!"}},{"$f":"Podatnicy!#REF!","v":{"$error":"#REF!"}},{"$f":"Podatnicy!#REF!","v":{"$error":"#REF!"}}]
[null,199,{"$f":"Podatnicy!#REF!","v":{"$error":"#REF!"}},{"$f":"Podatnicy!#REF!","v":{"$error":"#REF!"}},{"$f":"Podatnicy!#REF!","v":{"$error":"#REF!"}}]
[null,200,{"$f":"Podatnicy!#REF!","v":{"$error":"#REF!"}},{"$f":"Podatnicy!#REF!","v":{"$error":"#REF!"}},{"$f":"Podatnicy!#REF!","v":{"$error":"#REF!"}}]
[null,201,{"$f":"Podatnicy!#REF!","v":{"$error":"#REF!"}},{"$f":"Podatnicy!#REF!","v":{"$error":"#REF!"}},{"$f":"Podatnicy!#REF!","v":{"$error":"#REF!"}}]
[null,202,{"$f":"Podatnicy!#REF!","v":{"$error":"#REF!"}},{"$f":"Podatnicy!#REF!","v":{"$error":"#REF!"}},{"$f":"Podatnicy!#REF!","v":{"$error":"#REF!"}}]
[null,203,{"$f":"Podatnicy!#REF!","v":{"$error":"#REF!"}},{"$f":"Podatnicy!#REF!","v":{"$error":"#REF!"}},{"$f":"Podatnicy!#REF!","v":{"$error":"#REF!"}}]
[null,204,{"$f":"Podatnicy!#REF!","v":{"$error":"#REF!"}},{"$f":"Podatnicy!#REF!","v":{"$error":"#REF!"}},{"$f":"Podatnicy!#REF!","v":{"$error":"#REF!"}}]
[null,205,{"$f":"Podatnicy!#REF!","v":{"$error":"#REF!"}},{"$f":"Podatnicy!#REF!","v":{"$error":"#REF!"}},{"$f":"Podatnicy!#REF!","v":{"$error":"#REF!"}}]
[null,206,{"$f":"Podatnicy!#REF!","v":{"$error":"#REF!"}},{"$f":"Podatnicy!#REF!","v":{"$error":"#REF!"}},{"$f":"Podatnicy!#REF!","v":{"$error":"#REF!"}}]
[null,207,{"$f":"Podatnicy!#REF!","v":{"$error":"#REF!"}},{"$f":"Podatnicy!#REF!","v":{"$error":"#REF!"}},{"$f":"Podatnicy!#REF!","v":{"$error":"#REF!"}}]
[null,208,{"$f":"Podatnicy!#REF!","v":{"$error":"#REF!"}},{"$f":"Podatnicy!#REF!","v":{"$error":"#REF!"}},{"$f":"Podatnicy!#REF!","v":{"$error":"#REF!"}}]
[null,209,{"$f":"Podatnicy!#REF!","v":{"$error":"#REF!"}},{"$f":"Podatnicy!#REF!","v":{"$error":"#REF!"}},{"$f":"Podatnicy!#REF!","v":{"$error":"#REF!"}}]
[null,210,{"$f":"Podatnicy!#REF!","v":{"$error":"#REF!"}},{"$f":"Podatnicy!#REF!","v":{"$error":"#REF!"}},{"$f":"Podatnicy!#REF!","v":{"$error":"#REF!"}}]
[null,211,{"$f":"Podatnicy!#REF!","v":{"$error":"#REF!"}},{"$f":"Podatnicy!#REF!","v":{"$error":"#REF!"}},{"$f":"Podatnicy!#REF!","v":{"$error":"#REF!"}}]
[null,212,{"$f":"Podatnicy!#REF!","v":{"$error":"#REF!"}},{"$f":"Podatnicy!#REF!","v":{"$error":"#REF!"}},{"$f":"Podatnicy!#REF!","v":{"$error":"#REF!"}}]
[null,213,{"$f":"Podatnicy!#REF!","v":{"$error":"#REF!"}},{"$f":"Podatnicy!#REF!","v":{"$error":"#REF!"}},{"$f":"Podatnicy!#REF!","v":{"$error":"#REF!"}}]
[null,214,{"$f":"Podatnicy!#REF!","v":{"$error":"#REF!"}},{"$f":"Podatnicy!#REF!","v":{"$error":"#REF!"}},{"$f":"Podatnicy!#REF!","v":{"$error":"#REF!"}}]
[null,215,{"$f":"Podatnicy!#REF!","v":{"$error":"#REF!"}},{"$f":"Podatnicy!#REF!","v":{"$error":"#REF!"}},{"$f":"Podatnicy!#REF!","v":{"$error":"#REF!"}}]
[null,216,{"$f":"Podatnicy!#REF!","v":{"$error":"#REF!"}},{"$f":"Podatnicy!#REF!","v":{"$error":"#REF!"}},{"$f":"Podatnicy!#REF!","v":{"$error":"#REF!"}}]
[null,217,{"$f":"Podatnicy!#REF!","v":{"$error":"#REF!"}},{"$f":"Podatnicy!#REF!","v":{"$error":"#REF!"}},{"$f":"Podatnicy!#REF!","v":{"$error":"#REF!"}}]
[null,218,{"$f":"Podatnicy!#REF!","v":{"$error":"#REF!"}},{"$f":"Podatnicy!#REF!","v":{"$error":"#REF!"}},{"$f":"Podatnicy!#REF!","v":{"$error":"#REF!"}}]
[null,219,{"$f":"Podatnicy!#REF!","v":{"$error":"#REF!"}},{"$f":"Podatnicy!#REF!","v":{"$error":"#REF!"}},{"$f":"Podatnicy!#REF!","v":{"$error":"#REF!"}}]
[null,220,{"$f":"Podatnicy!#REF!","v":{"$error":"#REF!"}},{"$f":"Podatnicy!#REF!","v":{"$error":"#REF!"}},{"$f":"Podatnicy!#REF!","v":{"$error":"#REF!"}}]
[null,221,{"$f":"Podatnicy!#REF!","v":{"$error":"#REF!"}},{"$f":"Podatnicy!#REF!","v":{"$error":"#REF!"}},{"$f":"Podatnicy!#REF!","v":{"$error":"#REF!"}}]
[null,222,{"$f":"Podatnicy!#REF!","v":{"$error":"#REF!"}},{"$f":"Podatnicy!#REF!","v":{"$error":"#REF!"}},{"$f":"Podatnicy!#REF!","v":{"$error":"#REF!"}}]
[null,223,{"$f":"Podatnicy!#REF!","v":{"$error":"#REF!"}},{"$f":"Podatnicy!#REF!","v":{"$error":"#REF!"}},{"$f":"Podatnicy!#REF!","v":{"$error":"#REF!"}}]
[null,224,{"$f":"Podatnicy!#REF!","v":{"$error":"#REF!"}},{"$f":"Podatnicy!#REF!","v":{"$error":"#REF!"}},{"$f":"Podatnicy!#REF!","v":{"$error":"#REF!"}}]
[null,225,{"$f":"Podatnicy!#REF!","v":{"$error":"#REF!"}},{"$f":"Podatnicy!#REF!","v":{"$error":"#REF!"}},{"$f":"Podatnicy!#REF!","v":{"$error":"#REF!"}}]
[null,226,{"$f":"Podatnicy!#REF!","v":{"$error":"#REF!"}},{"$f":"Podatnicy!#REF!","v":{"$error":"#REF!"}},{"$f":"Podatnicy!#REF!","v":{"$error":"#REF!"}}]
[null,227,{"$f":"Podatnicy!#REF!","v":{"$error":"#REF!"}},{"$f":"Podatnicy!#REF!","v":{"$error":"#REF!"}},{"$f":"Podatnicy!#REF!","v":{"$error":"#REF!"}}]
[null,228,{"$f":"Podatnicy!#REF!","v":{"$error":"#REF!"}},{"$f":"Podatnicy!#REF!","v":{"$error":"#REF!"}},{"$f":"Podatnicy!#REF!","v":{"$error":"#REF!"}}]
[null,229,{"$f":"Podatnicy!#REF!","v":{"$error":"#REF!"}},{"$f":"Podatnicy!#REF!","v":{"$error":"#REF!"}},{"$f":"Podatnicy!#REF!","v":{"$error":"#REF!"}}]
[null,230,{"$f":"Podatnicy!#REF!","v":{"$error":"#REF!"}},{"$f":"Podatnicy!#REF!","v":{"$error":"#REF!"}},{"$f":"Podatnicy!#REF!","v":{"$error":"#REF!"}}]
[null,231,{"$f":"Podatnicy!#REF!","v":{"$error":"#REF!"}},{"$f":"Podatnicy!#REF!","v":{"$error":"#REF!"}},{"$f":"Podatnicy!#REF!","v":{"$error":"#REF!"}}]
[null,232,{"$f":"Podatnicy!#REF!","v":{"$error":"#REF!"}},{"$f":"Podatnicy!#REF!","v":{"$error":"#REF!"}},{"$f":"Podatnicy!#REF!","v":{"$error":"#REF!"}}]
[null,233,{"$f":"Podatnicy!#REF!","v":{"$error":"#REF!"}},{"$f":"Podatnicy!#REF!","v":{"$error":"#REF!"}},{"$f":"Podatnicy!#REF!","v":{"$error":"#REF!"}}]
[null,234,{"$f":"Podatnicy!#REF!","v":{"$error":"#REF!"}},{"$f":"Podatnicy!#REF!","v":{"$error":"#REF!"}},{"$f":"Podatnicy!#REF!","v":{"$error":"#REF!"}}]
[null,235,{"$f":"Podatnicy!#REF!","v":{"$error":"#REF!"}},{"$f":"Podatnicy!#REF!","v":{"$error":"#REF!"}},{"$f":"Podatnicy!#REF!","v":{"$error":"#REF!"}}]
[null,236,{"$f":"Podatnicy!#REF!","v":{"$error":"#REF!"}},{"$f":"Podatnicy!#REF!","v":{"$error":"#REF!"}},{"$f":"Podatnicy!#REF!","v":{"$error":"#REF!"}}]
[null,237,{"$f":"Podatnicy!#REF!","v":{"$error":"#REF!"}},{"$f":"Podatnicy!#REF!","v":{"$error":"#REF!"}},{"$f":"Podatnicy!#REF!","v":{"$error":"#REF!"}}]
[null,238,{"$f":"Podatnicy!#REF!","v":{"$error":"#REF!"}},{"$f":"Podatnicy!#REF!","v":{"$error":"#REF!"}},{"$f":"Podatnicy!#REF!","v":{"$error":"#REF!"}}]
[null,239,{"$f":"Podatnicy!#REF!","v":{"$error":"#REF!"}},{"$f":"Podatnicy!#REF!","v":{"$error":"#REF!"}},{"$f":"Podatnicy!#REF!","v":{"$error":"#REF!"}}]
[null,240,{"$f":"Podatnicy!#REF!","v":{"$error":"#REF!"}},{"$f":"Podatnicy!#REF!","v":{"$error":"#REF!"}},{"$f":"Podatnicy!#REF!","v":{"$error":"#REF!"}}]
[null,241,{"$f":"Podatnicy!#REF!","v":{"$error":"#REF!"}},{"$f":"Podatnicy!#REF!","v":{"$error":"#REF!"}},{"$f":"Podatnicy!#REF!","v":{"$error":"#REF!"}}]
[null,242,{"$f":"Podatnicy!#REF!","v":{"$error":"#REF!"}},{"$f":"Podatnicy!#REF!","v":{"$error":"#REF!"}},{"$f":"Podatnicy!#REF!","v":{"$error":"#REF!"}}]
[null,243,{"$f":"Podatnicy!#REF!","v":{"$error":"#REF!"}},{"$f":"Podatnicy!#REF!","v":{"$error":"#REF!"}},{"$f":"Podatnicy!#REF!","v":{"$error":"#REF!"}}]
[null,244,{"$f":"Podatnicy!#REF!","v":{"$error":"#REF!"}},{"$f":"Podatnicy!#REF!","v":{"$error":"#REF!"}},{"$f":"Podatnicy!#REF!","v":{"$error":"#REF!"}}]
[null,245,{"$f":"Podatnicy!#REF!","v":{"$error":"#REF!"}},{"$f":"Podatnicy!#REF!","v":{"$error":"#REF!"}},{"$f":"Podatnicy!#REF!","v":{"$error":"#REF!"}}]
[null,246,{"$f":"Podatnicy!#REF!","v":{"$error":"#REF!"}},{"$f":"Podatnicy!#REF!","v":{"$error":"#REF!"}},{"$f":"Podatnicy!#REF!","v":{"$error":"#REF!"}}]
[null,247,{"$f":"Podatnicy!#REF!","v":{"$error":"#REF!"}},{"$f":"Podatnicy!#REF!","v":{"$error":"#REF!"}},{"$f":"Podatnicy!#REF!","v":{"$error":"#REF!"}}]
[null,248,{"$f":"Podatnicy!#REF!","v":{"$error":"#REF!"}},{"$f":"Podatnicy!#REF!","v":{"$error":"#REF!"}},{"$f":"Podatnicy!#REF!","v":{"$error":"#REF!"}}]
[null,249,{"$f":"Podatnicy!#REF!","v":{"$error":"#REF!"}},{"$f":"Podatnicy!#REF!","v":{"$error":"#REF!"}},{"$f":"Podatnicy!#REF!","v":{"$error":"#REF!"}}]
[null,250,{"$f":"Podatnicy!#REF!","v":{"$error":"#REF!"}},{"$f":"Podatnicy!#REF!","v":{"$error":"#REF!"}},{"$f":"Podatnicy!#REF!","v":{"$error":"#REF!"}}]
[null,251,{"$f":"Podatnicy!#REF!","v":{"$error":"#REF!"}},{"$f":"Podatnicy!#REF!","v":{"$error":"#REF!"}},{"$f":"Podatnicy!#REF!","v":{"$error":"#REF!"}}]
[null,252,{"$f":"Podatnicy!#REF!","v":{"$error":"#REF!"}},{"$f":"Podatnicy!#REF!","v":{"$error":"#REF!"}},{"$f":"Podatnicy!#REF!","v":{"$error":"#REF!"}}]
[null,253,{"$f":"Podatnicy!#REF!","v":{"$error":"#REF!"}},{"$f":"Podatnicy!#REF!","v":{"$error":"#REF!"}},{"$f":"Podatnicy!#REF!","v":{"$error":"#REF!"}}]
[null,254,{"$f":"Podatnicy!#REF!","v":{"$error":"#REF!"}},{"$f":"Podatnicy!#REF!","v":{"$error":"#REF!"}},{"$f":"Podatnicy!#REF!","v":{"$error":"#REF!"}}]
[null,255,{"$f":"Podatnicy!#REF!","v":{"$error":"#REF!"}},{"$f":"Podatnicy!#REF!","v":{"$error":"#REF!"}},{"$f":"Podatnicy!#REF!","v":{"$error":"#REF!"}}]
[null,256,{"$f":"Podatnicy!#REF!","v":{"$error":"#REF!"}},{"$f":"Podatnicy!#REF!","v":{"$error":"#REF!"}},{"$f":"Podatnicy!#REF!","v":{"$error":"#REF!"}}]
[null,257,{"$f":"Podatnicy!#REF!","v":{"$error":"#REF!"}},{"$f":"Podatnicy!#REF!","v":{"$error":"#REF!"}},{"$f":"Podatnicy!#REF!","v":{"$error":"#REF!"}}]
[null,258,{"$f":"Podatnicy!#REF!","v":{"$error":"#REF!"}},{"$f":"Podatnicy!#REF!","v":{"$error":"#REF!"}},{"$f":"Podatnicy!#REF!","v":{"$error":"#REF!"}}]
[null,259,{"$f":"Podatnicy!#REF!","v":{"$error":"#REF!"}},{"$f":"Podatnicy!#REF!","v":{"$error":"#REF!"}},{"$f":"Podatnicy!#REF!","v":{"$error":"#REF!"}}]
[null,260,{"$f":"Podatnicy!#REF!","v":{"$error":"#REF!"}},{"$f":"Podatnicy!#REF!","v":{"$error":"#REF!"}},{"$f":"Podatnicy!#REF!","v":{"$error":"#REF!"}}]
[null,261,{"$f":"Podatnicy!#REF!","v":{"$error":"#REF!"}},{"$f":"Podatnicy!#REF!","v":{"$error":"#REF!"}},{"$f":"Podatnicy!#REF!","v":{"$error":"#REF!"}}]
[null,262,{"$f":"Podatnicy!#REF!","v":{"$error":"#REF!"}},{"$f":"Podatnicy!#REF!","v":{"$error":"#REF!"}},{"$f":"Podatnicy!#REF!","v":{"$error":"#REF!"}}]
[null,263,{"$f":"Podatnicy!#REF!","v":{"$error":"#REF!"}},{"$f":"Podatnicy!#REF!","v":{"$error":"#REF!"}},{"$f":"Podatnicy!#REF!","v":{"$error":"#REF!"}}]
[null,264,{"$f":"Podatnicy!#REF!","v":{"$error":"#REF!"}},{"$f":"Podatnicy!#REF!","v":{"$error":"#REF!"}},{"$f":"Podatnicy!#REF!","v":{"$error":"#REF!"}}]
[null,265,{"$f":"Podatnicy!#REF!","v":{"$error":"#REF!"}},{"$f":"Podatnicy!#REF!","v":{"$error":"#REF!"}},{"$f":"Podatnicy!#REF!","v":{"$error":"#REF!"}}]
[null,266,{"$f":"Podatnicy!#REF!","v":{"$error":"#REF!"}},{"$f":"Podatnicy!#REF!","v":{"$error":"#REF!"}},{"$f":"Podatnicy!#REF!","v":{"$error":"#REF!"}}]
[null,267,{"$f":"Podatnicy!#REF!","v":{"$error":"#REF!"}},{"$f":"Podatnicy!#REF!","v":{"$error":"#REF!"}},{"$f":"Podatnicy!#REF!","v":{"$error":"#REF!"}}]
[null,268,{"$f":"Podatnicy!#REF!","v":{"$error":"#REF!"}},{"$f":"Podatnicy!#REF!","v":{"$error":"#REF!"}},{"$f":"Podatnicy!#REF!","v":{"$error":"#REF!"}}]
[null,269,{"$f":"Podatnicy!#REF!","v":{"$error":"#REF!"}},{"$f":"Podatnicy!#REF!","v":{"$error":"#REF!"}},{"$f":"Podatnicy!#REF!","v":{"$error":"#REF!"}}]
[null,270,{"$f":"Podatnicy!#REF!","v":{"$error":"#REF!"}},{"$f":"Podatnicy!#REF!","v":{"$error":"#REF!"}},{"$f":"Podatnicy!#REF!","v":{"$error":"#REF!"}}]
[null,271,{"$f":"Podatnicy!#REF!","v":{"$error":"#REF!"}},{"$f":"Podatnicy!#REF!","v":{"$error":"#REF!"}},{"$f":"Podatnicy!#REF!","v":{"$error":"#REF!"}}]
[null,272,{"$f":"Podatnicy!#REF!","v":{"$error":"#REF!"}},{"$f":"Podatnicy!#REF!","v":{"$error":"#REF!"}},{"$f":"Podatnicy!#REF!","v":{"$error":"#REF!"}}]
[null,273,{"$f":"Podatnicy!#REF!","v":{"$error":"#REF!"}},{"$f":"Podatnicy!#REF!","v":{"$error":"#REF!"}},{"$f":"Podatnicy!#REF!","v":{"$error":"#REF!"}}]
[null,274,{"$f":"Podatnicy!#REF!","v":{"$error":"#REF!"}},{"$f":"Podatnicy!#REF!","v":{"$error":"#REF!"}},{"$f":"Podatnicy!#REF!","v":{"$error":"#REF!"}}]
[null,275,{"$f":"Podatnicy!#REF!","v":{"$error":"#REF!"}},{"$f":"Podatnicy!#REF!","v":{"$error":"#REF!"}},{"$f":"Podatnicy!#REF!","v":{"$error":"#REF!"}}]
[null,276,{"$f":"Podatnicy!#REF!","v":{"$error":"#REF!"}},{"$f":"Podatnicy!#REF!","v":{"$error":"#REF!"}},{"$f":"Podatnicy!#REF!","v":{"$error":"#REF!"}}]
[null,277,{"$f":"Podatnicy!#REF!","v":{"$error":"#REF!"}},{"$f":"Podatnicy!#REF!","v":{"$error":"#REF!"}},{"$f":"Podatnicy!#REF!","v":{"$error":"#REF!"}}]
[null,278,{"$f":"Podatnicy!#REF!","v":{"$error":"#REF!"}},{"$f":"Podatnicy!#REF!","v":{"$error":"#REF!"}},{"$f":"Podatnicy!#REF!","v":{"$error":"#REF!"}}]
[null,279,{"$f":"Podatnicy!#REF!","v":{"$error":"#REF!"}},{"$f":"Podatnicy!#REF!","v":{"$error":"#REF!"}},{"$f":"Podatnicy!#REF!","v":{"$error":"#REF!"}}]
[null,280,{"$f":"Podatnicy!#REF!","v":{"$error":"#REF!"}},{"$f":"Podatnicy!#REF!","v":{"$error":"#REF!"}},{"$f":"Podatnicy!#REF!","v":{"$error":"#REF!"}}]
[null,281,{"$f":"Podatnicy!#REF!","v":{"$error":"#REF!"}},{"$f":"Podatnicy!#REF!","v":{"$error":"#REF!"}},{"$f":"Podatnicy!#REF!","v":{"$error":"#REF!"}}]
[null,282,{"$f":"Podatnicy!#REF!","v":{"$error":"#REF!"}},{"$f":"Podatnicy!#REF!","v":{"$error":"#REF!"}},{"$f":"Podatnicy!#REF!","v":{"$error":"#REF!"}}]
[null,283,{"$f":"Podatnicy!#REF!","v":{"$error":"#REF!"}},{"$f":"Podatnicy!#REF!","v":{"$error":"#REF!"}},{"$f":"Podatnicy!#REF!","v":{"$error":"#REF!"}}]
[null,284,{"$f":"Podatnicy!#REF!","v":{"$error":"#REF!"}},{"$f":"Podatnicy!#REF!","v":{"$error":"#REF!"}},{"$f":"Podatnicy!#REF!","v":{"$error":"#REF!"}}]
[null,285,{"$f":"Podatnicy!#REF!","v":{"$error":"#REF!"}},{"$f":"Podatnicy!#REF!","v":{"$error":"#REF!"}},{"$f":"Podatnicy!#REF!","v":{"$error":"#REF!"}}]
[null,286,{"$f":"Podatnicy!#REF!","v":{"$error":"#REF!"}},{"$f":"Podatnicy!#REF!","v":{"$error":"#REF!"}},{"$f":"Podatnicy!#REF!","v":{"$error":"#REF!"}}]
[null,287,{"$f":"Podatnicy!#REF!","v":{"$error":"#REF!"}},{"$f":"Podatnicy!#REF!","v":{"$error":"#REF!"}},{"$f":"Podatnicy!#REF!","v":{"$error":"#REF!"}}]
[null,288,{"$f":"Podatnicy!#REF!","v":{"$error":"#REF!"}},{"$f":"Podatnicy!#REF!","v":{"$error":"#REF!"}},{"$f":"Podatnicy!#REF!","v":{"$error":"#REF!"}}]
[null,289,{"$f":"Podatnicy!#REF!","v":{"$error":"#REF!"}},{"$f":"Podatnicy!#REF!","v":{"$error":"#REF!"}},{"$f":"Podatnicy!#REF!","v":{"$error":"#REF!"}}]
[null,290,{"$f":"Podatnicy!#REF!","v":{"$error":"#REF!"}},{"$f":"Podatnicy!#REF!","v":{"$error":"#REF!"}},{"$f":"Podatnicy!#REF!","v":{"$error":"#REF!"}}]
[null,291,{"$f":"Podatnicy!#REF!","v":{"$error":"#REF!"}},{"$f":"Podatnicy!#REF!","v":{"$error":"#REF!"}},{"$f":"Podatnicy!#REF!","v":{"$error":"#REF!"}}]
[null,292,{"$f":"Podatnicy!#REF!","v":{"$error":"#REF!"}},{"$f":"Podatnicy!#REF!","v":{"$error":"#REF!"}},{"$f":"Podatnicy!#REF!","v":{"$error":"#REF!"}}]
[null,293,{"$f":"Podatnicy!#REF!","v":{"$error":"#REF!"}},{"$f":"Podatnicy!#REF!","v":{"$error":"#REF!"}},{"$f":"Podatnicy!#REF!","v":{"$error":"#REF!"}}]
[null,294,{"$f":"Podatnicy!#REF!","v":{"$error":"#REF!"}},{"$f":"Podatnicy!#REF!","v":{"$error":"#REF!"}},{"$f":"Podatnicy!#REF!","v":{"$error":"#REF!"}}]
[null,295,{"$f":"Podatnicy!#REF!","v":{"$error":"#REF!"}},{"$f":"Podatnicy!#REF!","v":{"$error":"#REF!"}},{"$f":"Podatnicy!#REF!","v":{"$error":"#REF!"}}]
[null,296,{"$f":"Podatnicy!#REF!","v":{"$error":"#REF!"}},{"$f":"Podatnicy!#REF!","v":{"$error":"#REF!"}},{"$f":"Podatnicy!#REF!","v":{"$error":"#REF!"}}]
[null,297,{"$f":"Podatnicy!#REF!","v":{"$error":"#REF!"}},{"$f":"Podatnicy!#REF!","v":{"$error":"#REF!"}},{"$f":"Podatnicy!#REF!","v":{"$error":"#REF!"}}]
[null,298,{"$f":"Podatnicy!#REF!","v":{"$error":"#REF!"}},{"$f":"Podatnicy!#REF!","v":{"$error":"#REF!"}},{"$f":"Podatnicy!#REF!","v":{"$error":"#REF!"}}]
[null,299,{"$f":"Podatnicy!#REF!","v":{"$error":"#REF!"}},{"$f":"Podatnicy!#REF!","v":{"$error":"#REF!"}},{"$f":"Podatnicy!#REF!","v":{"$error":"#REF!"}}]
[null,300,{"$f":"Podatnicy!#REF!","v":{"$error":"#REF!"}},{"$f":"Podatnicy!#REF!","v":{"$error":"#REF!"}},{"$f":"Podatnicy!#REF!","v":{"$error":"#REF!"}}]
[null,301,{"$f":"Podatnicy!#REF!","v":{"$error":"#REF!"}},{"$f":"Podatnicy!#REF!","v":{"$error":"#REF!"}},{"$f":"Podatnicy!#REF!","v":{"$error":"#REF!"}}]
[null,302,{"$f":"Podatnicy!#REF!","v":{"$error":"#REF!"}},{"$f":"Podatnicy!#REF!","v":{"$error":"#REF!"}},{"$f":"Podatnicy!#REF!","v":{"$error":"#REF!"}}]
[null,303,{"$f":"Podatnicy!#REF!","v":{"$error":"#REF!"}},{"$f":"Podatnicy!#REF!","v":{"$error":"#REF!"}},{"$f":"Podatnicy!#REF!","v":{"$error":"#REF!"}}]
[null,304,{"$f":"Podatnicy!#REF!","v":{"$error":"#REF!"}},{"$f":"Podatnicy!#REF!","v":{"$error":"#REF!"}},{"$f":"Podatnicy!#REF!","v":{"$error":"#REF!"}}]
[null,305,{"$f":"Podatnicy!#REF!","v":{"$error":"#REF!"}},{"$f":"Podatnicy!#REF!","v":{"$error":"#REF!"}},{"$f":"Podatnicy!#REF!","v":{"$error":"#REF!"}}]
[null,306,{"$f":"Podatnicy!#REF!","v":{"$error":"#REF!"}},{"$f":"Podatnicy!#REF!","v":{"$error":"#REF!"}},{"$f":"Podatnicy!#REF!","v":{"$error":"#REF!"}}]
[null,307,{"$f":"Podatnicy!#REF!","v":{"$error":"#REF!"}},{"$f":"Podatnicy!#REF!","v":{"$error":"#REF!"}},{"$f":"Podatnicy!#REF!","v":{"$error":"#REF!"}}]
[null,308,{"$f":"Podatnicy!#REF!","v":{"$error":"#REF!"}},{"$f":"Podatnicy!#REF!","v":{"$error":"#REF!"}},{"$f":"Podatnicy!#REF!","v":{"$error":"#REF!"}}]
[null,309,{"$f":"Podatnicy!#REF!","v":{"$error":"#REF!"}},{"$f":"Podatnicy!#REF!","v":{"$error":"#REF!"}},{"$f":"Podatnicy!#REF!","v":{"$error":"#REF!"}}]
[null,310,{"$f":"Podatnicy!#REF!","v":{"$error":"#REF!"}},{"$f":"Podatnicy!#REF!","v":{"$error":"#REF!"}},{"$f":"Podatnicy!#REF!","v":{"$error":"#REF!"}}]
[null,311,{"$f":"Podatnicy!#REF!","v":{"$error":"#REF!"}},{"$f":"Podatnicy!#REF!","v":{"$error":"#REF!"}},{"$f":"Podatnicy!#REF!","v":{"$error":"#REF!"}}]
[null,312,{"$f":"Podatnicy!#REF!","v":{"$error":"#REF!"}},{"$f":"Podatnicy!#REF!","v":{"$error":"#REF!"}},{"$f":"Podatnicy!#REF!","v":{"$error":"#REF!"}}]
[null,313,{"$f":"Podatnicy!#REF!","v":{"$error":"#REF!"}},{"$f":"Podatnicy!#REF!","v":{"$error":"#REF!"}},{"$f":"Podatnicy!#REF!","v":{"$error":"#REF!"}}]
[null,314,{"$f":"Podatnicy!#REF!","v":{"$error":"#REF!"}},{"$f":"Podatnicy!#REF!","v":{"$error":"#REF!"}},{"$f":"Podatnicy!#REF!","v":{"$error":"#REF!"}}]
[null,315,{"$f":"Podatnicy!#REF!","v":{"$error":"#REF!"}},{"$f":"Podatnicy!#REF!","v":{"$error":"#REF!"}},{"$f":"Podatnicy!#REF!","v":{"$error":"#REF!"}}]
[null,316,{"$f":"Podatnicy!#REF!","v":{"$error":"#REF!"}},{"$f":"Podatnicy!#REF!","v":{"$error":"#REF!"}},{"$f":"Podatnicy!#REF!","v":{"$error":"#REF!"}}]
[null,317,{"$f":"Podatnicy!#REF!","v":{"$error":"#REF!"}},{"$f":"Podatnicy!#REF!","v":{"$error":"#REF!"}},{"$f":"Podatnicy!#REF!","v":{"$error":"#REF!"}}]
[null,318,{"$f":"Podatnicy!#REF!","v":{"$error":"#REF!"}},{"$f":"Podatnicy!#REF!","v":{"$error":"#REF!"}},{"$f":"Podatnicy!#REF!","v":{"$error":"#REF!"}}]
[null,319,{"$f":"Podatnicy!#REF!","v":{"$error":"#REF!"}},{"$f":"Podatnicy!#REF!","v":{"$error":"#REF!"}},{"$f":"Podatnicy!#REF!","v":{"$error":"#REF!"}}]
[null,320,{"$f":"Podatnicy!#REF!","v":{"$error":"#REF!"}},{"$f":"Podatnicy!#REF!","v":{"$error":"#REF!"}},{"$f":"Podatnicy!#REF!","v":{"$error":"#REF!"}}]
[null,321,{"$f":"Podatnicy!#REF!","v":{"$error":"#REF!"}},{"$f":"Podatnicy!#REF!","v":{"$error":"#REF!"}},{"$f":"Podatnicy!#REF!","v":{"$error":"#REF!"}}]
[null,322,{"$f":"Podatnicy!#REF!","v":{"$error":"#REF!"}},{"$f":"Podatnicy!#REF!","v":{"$error":"#REF!"}},{"$f":"Podatnicy!#REF!","v":{"$error":"#REF!"}}]
[null,323,{"$f":"Podatnicy!#REF!","v":{"$error":"#REF!"}},{"$f":"Podatnicy!#REF!","v":{"$error":"#REF!"}},{"$f":"Podatnicy!#REF!","v":{"$error":"#REF!"}}]
[null,324,{"$f":"Podatnicy!#REF!","v":{"$error":"#REF!"}},{"$f":"Podatnicy!#REF!","v":{"$error":"#REF!"}},{"$f":"Podatnicy!#REF!","v":{"$error":"#REF!"}}]
[null,325,{"$f":"Podatnicy!#REF!","v":{"$error":"#REF!"}},{"$f":"Podatnicy!#REF!","v":{"$error":"#REF!"}},{"$f":"Podatnicy!#REF!","v":{"$error":"#REF!"}}]
[null,326,{"$f":"Podatnicy!#REF!","v":{"$error":"#REF!"}},{"$f":"Podatnicy!#REF!","v":{"$error":"#REF!"}},{"$f":"Podatnicy!#REF!","v":{"$error":"#REF!"}}]
[null,327,{"$f":"Podatnicy!#REF!","v":{"$error":"#REF!"}},{"$f":"Podatnicy!#REF!","v":{"$error":"#REF!"}},{"$f":"Podatnicy!#REF!","v":{"$error":"#REF!"}}]
[null,328,{"$f":"Podatnicy!#REF!","v":{"$error":"#REF!"}},{"$f":"Podatnicy!#REF!","v":{"$error":"#REF!"}},{"$f":"Podatnicy!#REF!","v":{"$error":"#REF!"}}]
[null,329,{"$f":"Podatnicy!#REF!","v":{"$error":"#REF!"}},{"$f":"Podatnicy!#REF!","v":{"$error":"#REF!"}},{"$f":"Podatnicy!#REF!","v":{"$error":"#REF!"}}]
[null,330,{"$f":"Podatnicy!#REF!","v":{"$error":"#REF!"}},{"$f":"Podatnicy!#REF!","v":{"$error":"#REF!"}},{"$f":"Podatnicy!#REF!","v":{"$error":"#REF!"}}]
[null,331,{"$f":"Podatnicy!#REF!","v":{"$error":"#REF!"}},{"$f":"Podatnicy!#REF!","v":{"$error":"#REF!"}},{"$f":"Podatnicy!#REF!","v":{"$error":"#REF!"}}]
[null,332,{"$f":"Podatnicy!#REF!","v":{"$error":"#REF!"}},{"$f":"Podatnicy!#REF!","v":{"$error":"#REF!"}},{"$f":"Podatnicy!#REF!","v":{"$error":"#REF!"}}]
[null,333,{"$f":"Podatnicy!#REF!","v":{"$error":"#REF!"}},{"$f":"Podatnicy!#REF!","v":{"$error":"#REF!"}},{"$f":"Podatnicy!#REF!","v":{"$error":"#REF!"}}]
[null,334,{"$f":"Podatnicy!#REF!","v":{"$error":"#REF!"}},{"$f":"Podatnicy!#REF!","v":{"$error":"#REF!"}},{"$f":"Podatnicy!#REF!","v":{"$error":"#REF!"}}]
[null,335,{"$f":"Podatnicy!#REF!","v":{"$error":"#REF!"}},{"$f":"Podatnicy!#REF!","v":{"$error":"#REF!"}},{"$f":"Podatnicy!#REF!","v":{"$error":"#REF!"}}]
[null,336,{"$f":"Podatnicy!#REF!","v":{"$error":"#REF!"}},{"$f":"Podatnicy!#REF!","v":{"$error":"#REF!"}},{"$f":"Podatnicy!#REF!","v":{"$error":"#REF!"}}]
[null,337,{"$f":"Podatnicy!#REF!","v":{"$error":"#REF!"}},{"$f":"Podatnicy!#REF!","v":{"$error":"#REF!"}},{"$f":"Podatnicy!#REF!","v":{"$error":"#REF!"}}]
[null,338,{"$f":"Podatnicy!#REF!","v":{"$error":"#REF!"}},{"$f":"Podatnicy!#REF!","v":{"$error":"#REF!"}},{"$f":"Podatnicy!#REF!","v":{"$error":"#REF!"}}]
[null,339,{"$f":"Podatnicy!#REF!","v":{"$error":"#REF!"}},{"$f":"Podatnicy!#REF!","v":{"$error":"#REF!"}},{"$f":"Podatnicy!#REF!","v":{"$error":"#REF!"}}]
[null,340,{"$f":"Podatnicy!#REF!","v":{"$error":"#REF!"}},{"$f":"Podatnicy!#REF!","v":{"$error":"#REF!"}},{"$f":"Podatnicy!#REF!","v":{"$error":"#REF!"}}]
[null,341,{"$f":"Podatnicy!#REF!","v":{"$error":"#REF!"}},{"$f":"Podatnicy!#REF!","v":{"$error":"#REF!"}},{"$f":"Podatnicy!#REF!","v":{"$error":"#REF!"}}]
[null,342,{"$f":"Podatnicy!#REF!","v":{"$error":"#REF!"}},{"$f":"Podatnicy!#REF!","v":{"$error":"#REF!"}},{"$f":"Podatnicy!#REF!","v":{"$error":"#REF!"}}]
[null,343,{"$f":"Podatnicy!#REF!","v":{"$error":"#REF!"}},{"$f":"Podatnicy!#REF!","v":{"$error":"#REF!"}},{"$f":"Podatnicy!#REF!","v":{"$error":"#REF!"}}]
[null,344,{"$f":"Podatnicy!#REF!","v":{"$error":"#REF!"}},{"$f":"Podatnicy!#REF!","v":{"$error":"#REF!"}},{"$f":"Podatnicy!#REF!","v":{"$error":"#REF!"}}]
[null,345,{"$f":"Podatnicy!#REF!","v":{"$error":"#REF!"}},{"$f":"Podatnicy!#REF!","v":{"$error":"#REF!"}},{"$f":"Podatnicy!#REF!","v":{"$error":"#REF!"}}]
[null,346,{"$f":"Podatnicy!#REF!","v":{"$error":"#REF!"}},{"$f":"Podatnicy!#REF!","v":{"$error":"#REF!"}},{"$f":"Podatnicy!#REF!","v":{"$error":"#REF!"}}]
[null,347,{"$f":"Podatnicy!#REF!","v":{"$error":"#REF!"}},{"$f":"Podatnicy!#REF!","v":{"$error":"#REF!"}},{"$f":"Podatnicy!#REF!","v":{"$error":"#REF!"}}]
[null,348,{"$f":"Podatnicy!#REF!","v":{"$error":"#REF!"}},{"$f":"Podatnicy!#REF!","v":{"$error":"#REF!"}},{"$f":"Podatnicy!#REF!","v":{"$error":"#REF!"}}]
[null,349,{"$f":"Podatnicy!#REF!","v":{"$error":"#REF!"}},{"$f":"Podatnicy!#REF!","v":{"$error":"#REF!"}},{"$f":"Podatnicy!#REF!","v":{"$error":"#REF!"}}]
[null,350,{"$f":"Podatnicy!#REF!","v":{"$error":"#REF!"}},{"$f":"Podatnicy!#REF!","v":{"$error":"#REF!"}},{"$f":"Podatnicy!#REF!","v":{"$error":"#REF!"}}]
[null,351,{"$f":"Podatnicy!#REF!","v":{"$error":"#REF!"}},{"$f":"Podatnicy!#REF!","v":{"$error":"#REF!"}},{"$f":"Podatnicy!#REF!","v":{"$error":"#REF!"}}]
[null,352,{"$f":"Podatnicy!#REF!","v":{"$error":"#REF!"}},{"$f":"Podatnicy!#REF!","v":{"$error":"#REF!"}},{"$f":"Podatnicy!#REF!","v":{"$error":"#REF!"}}]
[null,353,{"$f":"Podatnicy!#REF!","v":{"$error":"#REF!"}},{"$f":"Podatnicy!#REF!","v":{"$error":"#REF!"}},{"$f":"Podatnicy!#REF!","v":{"$error":"#REF!"}}]
[null,354,{"$f":"Podatnicy!#REF!","v":{"$error":"#REF!"}},{"$f":"Podatnicy!#REF!","v":{"$error":"#REF!"}},{"$f":"Podatnicy!#REF!","v":{"$error":"#REF!"}}]
[null,355,{"$f":"Podatnicy!#REF!","v":{"$error":"#REF!"}},{"$f":"Podatnicy!#REF!","v":{"$error":"#REF!"}},{"$f":"Podatnicy!#REF!","v":{"$error":"#REF!"}}]
[null,356,{"$f":"Podatnicy!#REF!","v":{"$error":"#REF!"}},{"$f":"Podatnicy!#REF!","v":{"$error":"#REF!"}},{"$f":"Podatnicy!#REF!","v":{"$error":"#REF!"}}]
[null,357,{"$f":"Podatnicy!#REF!","v":{"$error":"#REF!"}},{"$f":"Podatnicy!#REF!","v":{"$error":"#REF!"}},{"$f":"Podatnicy!#REF!","v":{"$error":"#REF!"}}]
[null,358,{"$f":"Podatnicy!#REF!","v":{"$error":"#REF!"}},{"$f":"Podatnicy!#REF!","v":{"$error":"#REF!"}},{"$f":"Podatnicy!#REF!","v":{"$error":"#REF!"}}]
[null,359,{"$f":"Podatnicy!#REF!","v":{"$error":"#REF!"}},{"$f":"Podatnicy!#REF!","v":{"$error":"#REF!"}},{"$f":"Podatnicy!#REF!","v":{"$error":"#REF!"}}]
[null,360,{"$f":"Podatnicy!#REF!","v":{"$error":"#REF!"}},{"$f":"Podatnicy!#REF!","v":{"$error":"#REF!"}},{"$f":"Podatnicy!#REF!","v":{"$error":"#REF!"}}]
[null,361,{"$f":"Podatnicy!#REF!","v":{"$error":"#REF!"}},{"$f":"Podatnicy!#REF!","v":{"$error":"#REF!"}},{"$f":"Podatnicy!#REF!","v":{"$error":"#REF!"}}]
[null,362,{"$f":"Podatnicy!#REF!","v":{"$error":"#REF!"}},{"$f":"Podatnicy!#REF!","v":{"$error":"#REF!"}},{"$f":"Podatnicy!#REF!","v":{"$error":"#REF!"}}]
[null,363,{"$f":"Podatnicy!#REF!","v":{"$error":"#REF!"}},{"$f":"Podatnicy!#REF!","v":{"$error":"#REF!"}},{"$f":"Podatnicy!#REF!","v":{"$error":"#REF!"}}]
[null,364,{"$f":"Podatnicy!#REF!","v":{"$error":"#REF!"}},{"$f":"Podatnicy!#REF!","v":{"$error":"#REF!"}},{"$f":"Podatnicy!#REF!","v":{"$error":"#REF!"}}]
[null,365,{"$f":"Podatnicy!#REF!","v":{"$error":"#REF!"}},{"$f":"Podatnicy!#REF!","v":{"$error":"#REF!"}},{"$f":"Podatnicy!#REF!","v":{"$error":"#REF!"}}]
[null,366,{"$f":"Podatnicy!#REF!","v":{"$error":"#REF!"}},{"$f":"Podatnicy!#REF!","v":{"$error":"#REF!"}},{"$f":"Podatnicy!#REF!","v":{"$error":"#REF!"}}]
[null,367,{"$f":"Podatnicy!#REF!","v":{"$error":"#REF!"}},{"$f":"Podatnicy!#REF!","v":{"$error":"#REF!"}},{"$f":"Podatnicy!#REF!","v":{"$error":"#REF!"}}]
[null,368,{"$f":"Podatnicy!#REF!","v":{"$error":"#REF!"}},{"$f":"Podatnicy!#REF!","v":{"$error":"#REF!"}},{"$f":"Podatnicy!#REF!","v":{"$error":"#REF!"}}]
[null,369,{"$f":"Podatnicy!#REF!","v":{"$error":"#REF!"}},{"$f":"Podatnicy!#REF!","v":{"$error":"#REF!"}},{"$f":"Podatnicy!#REF!","v":{"$error":"#REF!"}}]
[null,370,{"$f":"Podatnicy!#REF!","v":{"$error":"#REF!"}},{"$f":"Podatnicy!#REF!","v":{"$error":"#REF!"}},{"$f":"Podatnicy!#REF!","v":{"$error":"#REF!"}}]
[null,371,{"$f":"Podatnicy!#REF!","v":{"$error":"#REF!"}},{"$f":"Podatnicy!#REF!","v":{"$error":"#REF!"}},{"$f":"Podatnicy!#REF!","v":{"$error":"#REF!"}}]
[null,372,{"$f":"Podatnicy!#REF!","v":{"$error":"#REF!"}},{"$f":"Podatnicy!#REF!","v":{"$error":"#REF!"}},{"$f":"Podatnicy!#REF!","v":{"$error":"#REF!"}}]
[null,373,{"$f":"Podatnicy!#REF!","v":{"$error":"#REF!"}},{"$f":"Podatnicy!#REF!","v":{"$error":"#REF!"}},{"$f":"Podatnicy!#REF!","v":{"$error":"#REF!"}}]
[null,374,{"$f":"Podatnicy!#REF!","v":{"$error":"#REF!"}},{"$f":"Podatnicy!#REF!","v":{"$error":"#REF!"}},{"$f":"Podatnicy!#REF!","v":{"$error":"#REF!"}}]
[null,375,{"$f":"Podatnicy!#REF!","v":{"$error":"#REF!"}},{"$f":"Podatnicy!#REF!","v":{"$error":"#REF!"}},{"$f":"Podatnicy!#REF!","v":{"$error":"#REF!"}}]
[null,376,{"$f":"Podatnicy!#REF!","v":{"$error":"#REF!"}},{"$f":"Podatnicy!#REF!","v":{"$error":"#REF!"}},{"$f":"Podatnicy!#REF!","v":{"$error":"#REF!"}}]
[null,377,{"$f":"Podatnicy!#REF!","v":{"$error":"#REF!"}},{"$f":"Podatnicy!#REF!","v":{"$error":"#REF!"}},{"$f":"Podatnicy!#REF!","v":{"$error":"#REF!"}}]
[null,378,{"$f":"Podatnicy!#REF!","v":{"$error":"#REF!"}},{"$f":"Podatnicy!#REF!","v":{"$error":"#REF!"}},{"$f":"Podatnicy!#REF!","v":{"$error":"#REF!"}}]
[null,379,{"$f":"Podatnicy!#REF!","v":{"$error":"#REF!"}},{"$f":"Podatnicy!#REF!","v":{"$error":"#REF!"}},{"$f":"Podatnicy!#REF!","v":{"$error":"#REF!"}}]
[null,380,{"$f":"Podatnicy!#REF!","v":{"$error":"#REF!"}},{"$f":"Podatnicy!#REF!","v":{"$error":"#REF!"}},{"$f":"Podatnicy!#REF!","v":{"$error":"#REF!"}}]
[null,381,{"$f":"Podatnicy!#REF!","v":{"$error":"#REF!"}},{"$f":"Podatnicy!#REF!","v":{"$error":"#REF!"}},{"$f":"Podatnicy!#REF!","v":{"$error":"#REF!"}}]
[null,382,{"$f":"Podatnicy!#REF!","v":{"$error":"#REF!"}},{"$f":"Podatnicy!#REF!","v":{"$error":"#REF!"}},{"$f":"Podatnicy!#REF!","v":{"$error":"#REF!"}}]
[null,383,{"$f":"Podatnicy!#REF!","v":{"$error":"#REF!"}},{"$f":"Podatnicy!#REF!","v":{"$error":"#REF!"}},{"$f":"Podatnicy!#REF!","v":{"$error":"#REF!"}}]
[null,384,{"$f":"Podatnicy!#REF!","v":{"$error":"#REF!"}},{"$f":"Podatnicy!#REF!","v":{"$error":"#REF!"}},{"$f":"Podatnicy!#REF!","v":{"$error":"#REF!"}}]
[null,385,{"$f":"Podatnicy!#REF!","v":{"$error":"#REF!"}},{"$f":"Podatnicy!#REF!","v":{"$error":"#REF!"}},{"$f":"Podatnicy!#REF!","v":{"$error":"#REF!"}}]
[null,386,{"$f":"Podatnicy!#REF!","v":{"$error":"#REF!"}},{"$f":"Podatnicy!#REF!","v":{"$error":"#REF!"}},{"$f":"Podatnicy!#REF!","v":{"$error":"#REF!"}}]
[null,387,{"$f":"Podatnicy!#REF!","v":{"$error":"#REF!"}},{"$f":"Podatnicy!#REF!","v":{"$error":"#REF!"}},{"$f":"Podatnicy!#REF!","v":{"$error":"#REF!"}}]
[null,388,{"$f":"Podatnicy!#REF!","v":{"$error":"#REF!"}},{"$f":"Podatnicy!#REF!","v":{"$error":"#REF!"}},{"$f":"Podatnicy!#REF!","v":{"$error":"#REF!"}}]
[null,389,{"$f":"Podatnicy!#REF!","v":{"$error":"#REF!"}},{"$f":"Podatnicy!#REF!","v":{"$error":"#REF!"}},{"$f":"Podatnicy!#REF!","v":{"$error":"#REF!"}}]
[null,390,{"$f":"Podatnicy!#REF!","v":{"$error":"#REF!"}},{"$f":"Podatnicy!#REF!","v":{"$error":"#REF!"}},{"$f":"Podatnicy!#REF!","v":{"$error":"#REF!"}}]
[null,391,{"$f":"Podatnicy!#REF!","v":{"$error":"#REF!"}},{"$f":"Podatnicy!#REF!","v":{"$error":"#REF!"}},{"$f":"Podatnicy!#REF!","v":{"$error":"#REF!"}}]
[null,392,{"$f":"Podatnicy!#REF!","v":{"$error":"#REF!"}},{"$f":"Podatnicy!#REF!","v":{"$error":"#REF!"}},{"$f":"Podatnicy!#REF!","v":{"$error":"#REF!"}}]
[null,393,{"$f":"Podatnicy!#REF!","v":{"$error":"#REF!"}},{"$f":"Podatnicy!#REF!","v":{"$error":"#REF!"}},{"$f":"Podatnicy!#REF!","v":{"$error":"#REF!"}}]
[null,394,{"$f":"Podatnicy!#REF!","v":{"$error":"#REF!"}},{"$f":"Podatnicy!#REF!","v":{"$error":"#REF!"}},{"$f":"Podatnicy!#REF!","v":{"$error":"#REF!"}}]
[null,395,{"$f":"Podatnicy!#REF!","v":{"$error":"#REF!"}},{"$f":"Podatnicy!#REF!","v":{"$error":"#REF!"}},{"$f":"Podatnicy!#REF!","v":{"$error":"#REF!"}}]
[null,396,{"$f":"Podatnicy!#REF!","v":{"$error":"#REF!"}},{"$f":"Podatnicy!#REF!","v":{"$error":"#REF!"}},{"$f":"Podatnicy!#REF!","v":{"$error":"#REF!"}}]
[null,397,{"$f":"Podatnicy!#REF!","v":{"$error":"#REF!"}},{"$f":"Podatnicy!#REF!","v":{"$error":"#REF!"}},{"$f":"Podatnicy!#REF!","v":{"$error":"#REF!"}}]
[null,398,{"$f":"Podatnicy!#REF!","v":{"$error":"#REF!"}},{"$f":"Podatnicy!#REF!","v":{"$error":"#REF!"}},{"$f":"Podatnicy!#REF!","v":{"$error":"#REF!"}}]
[null,399,{"$f":"Podatnicy!#REF!","v":{"$error":"#REF!"}},{"$f":"Podatnicy!#REF!","v":{"$error":"#REF!"}},{"$f":"Podatnicy!#REF!","v":{"$error":"#REF!"}}]
[null,400,{"$f":"Podatnicy!#REF!","v":{"$error":"#REF!"}},{"$f":"Podatnicy!#REF!","v":{"$error":"#REF!"}},{"$f":"Podatnicy!#REF!","v":{"$error":"#REF!"}}]
[null,401,{"$f":"Podatnicy!#REF!","v":{"$error":"#REF!"}},{"$f":"Podatnicy!#REF!","v":{"$error":"#REF!"}},{"$f":"Podatnicy!#REF!","v":{"$error":"#REF!"}}]
[null,402,{"$f":"Podatnicy!#REF!","v":{"$error":"#REF!"}},{"$f":"Podatnicy!#REF!","v":{"$error":"#REF!"}},{"$f":"Podatnicy!#REF!","v":{"$error":"#REF!"}}]
[null,403,{"$f":"Podatnicy!#REF!","v":{"$error":"#REF!"}},{"$f":"Podatnicy!#REF!","v":{"$error":"#REF!"}},{"$f":"Podatnicy!#REF!","v":{"$error":"#REF!"}}]
[null,404,{"$f":"Podatnicy!#REF!","v":{"$error":"#REF!"}},{"$f":"Podatnicy!#REF!","v":{"$error":"#REF!"}},{"$f":"Podatnicy!#REF!","v":{"$error":"#REF!"}}]
[null,405,{"$f":"Podatnicy!#REF!","v":{"$error":"#REF!"}},{"$f":"Podatnicy!#REF!","v":{"$error":"#REF!"}},{"$f":"Podatnicy!#REF!","v":{"$error":"#REF!"}}]
[null,406,{"$f":"Podatnicy!#REF!","v":{"$error":"#REF!"}},{"$f":"Podatnicy!#REF!","v":{"$error":"#REF!"}},{"$f":"Podatnicy!#REF!","v":{"$error":"#REF!"}}]
[null,407,{"$f":"Podatnicy!#REF!","v":{"$error":"#REF!"}},{"$f":"Podatnicy!#REF!","v":{"$error":"#REF!"}},{"$f":"Podatnicy!#REF!","v":{"$error":"#REF!"}}]
[null,408,{"$f":"Podatnicy!#REF!","v":{"$error":"#REF!"}},{"$f":"Podatnicy!#REF!","v":{"$error":"#REF!"}},{"$f":"Podatnicy!#REF!","v":{"$error":"#REF!"}}]
[null,409,{"$f":"Podatnicy!#REF!","v":{"$error":"#REF!"}},{"$f":"Podatnicy!#REF!","v":{"$error":"#REF!"}},{"$f":"Podatnicy!#REF!","v":{"$error":"#REF!"}}]
[null,410,{"$f":"Podatnicy!#REF!","v":{"$error":"#REF!"}},{"$f":"Podatnicy!#REF!","v":{"$error":"#REF!"}},{"$f":"Podatnicy!#REF!","v":{"$error":"#REF!"}}]
[null,411,{"$f":"Podatnicy!#REF!","v":{"$error":"#REF!"}},{"$f":"Podatnicy!#REF!","v":{"$error":"#REF!"}},{"$f":"Podatnicy!#REF!","v":{"$error":"#REF!"}}]
[null,412,{"$f":"Podatnicy!#REF!","v":{"$error":"#REF!"}},{"$f":"Podatnicy!#REF!","v":{"$error":"#REF!"}},{"$f":"Podatnicy!#REF!","v":{"$error":"#REF!"}}]
[null,413,{"$f":"Podatnicy!#REF!","v":{"$error":"#REF!"}},{"$f":"Podatnicy!#REF!","v":{"$error":"#REF!"}},{"$f":"Podatnicy!#REF!","v":{"$error":"#REF!"}}]
[null,414,{"$f":"Podatnicy!#REF!","v":{"$error":"#REF!"}},{"$f":"Podatnicy!#REF!","v":{"$error":"#REF!"}},{"$f":"Podatnicy!#REF!","v":{"$error":"#REF!"}}]
[null,415,{"$f":"Podatnicy!#REF!","v":{"$error":"#REF!"}},{"$f":"Podatnicy!#REF!","v":{"$error":"#REF!"}},{"$f":"Podatnicy!#REF!","v":{"$error":"#REF!"}}]
[null,416,{"$f":"Podatnicy!#REF!","v":{"$error":"#REF!"}},{"$f":"Podatnicy!#REF!","v":{"$error":"#REF!"}},{"$f":"Podatnicy!#REF!","v":{"$error":"#REF!"}}]
[null,417,{"$f":"Podatnicy!#REF!","v":{"$error":"#REF!"}},{"$f":"Podatnicy!#REF!","v":{"$error":"#REF!"}},{"$f":"Podatnicy!#REF!","v":{"$error":"#REF!"}}]
[null,418,{"$f":"Podatnicy!#REF!","v":{"$error":"#REF!"}},{"$f":"Podatnicy!#REF!","v":{"$error":"#REF!"}},{"$f":"Podatnicy!#REF!","v":{"$error":"#REF!"}}]
[null,419,{"$f":"Podatnicy!#REF!","v":{"$error":"#REF!"}},{"$f":"Podatnicy!#REF!","v":{"$error":"#REF!"}},{"$f":"Podatnicy!#REF!","v":{"$error":"#REF!"}}]
[null,420,{"$f":"Podatnicy!#REF!","v":{"$error":"#REF!"}},{"$f":"Podatnicy!#REF!","v":{"$error":"#REF!"}},{"$f":"Podatnicy!#REF!","v":{"$error":"#REF!"}}]
[null,421,{"$f":"Podatnicy!#REF!","v":{"$error":"#REF!"}},{"$f":"Podatnicy!#REF!","v":{"$error":"#REF!"}},{"$f":"Podatnicy!#REF!","v":{"$error":"#REF!"}}]
[null,422,{"$f":"Podatnicy!#REF!","v":{"$error":"#REF!"}},{"$f":"Podatnicy!#REF!","v":{"$error":"#REF!"}},{"$f":"Podatnicy!#REF!","v":{"$error":"#REF!"}}]
[null,423,{"$f":"Podatnicy!#REF!","v":{"$error":"#REF!"}},{"$f":"Podatnicy!#REF!","v":{"$error":"#REF!"}},{"$f":"Podatnicy!#REF!","v":{"$error":"#REF!"}}]
[null,424,{"$f":"Podatnicy!#REF!","v":{"$error":"#REF!"}},{"$f":"Podatnicy!#REF!","v":{"$error":"#REF!"}},{"$f":"Podatnicy!#REF!","v":{"$error":"#REF!"}}]
[null,425,{"$f":"Podatnicy!#REF!","v":{"$error":"#REF!"}},{"$f":"Podatnicy!#REF!","v":{"$error":"#REF!"}},{"$f":"Podatnicy!#REF!","v":{"$error":"#REF!"}}]
[null,426,{"$f":"Podatnicy!#REF!","v":{"$error":"#REF!"}},{"$f":"Podatnicy!#REF!","v":{"$error":"#REF!"}},{"$f":"Podatnicy!#REF!","v":{"$error":"#REF!"}}]
[null,427,{"$f":"Podatnicy!#REF!","v":{"$error":"#REF!"}},{"$f":"Podatnicy!#REF!","v":{"$error":"#REF!"}},{"$f":"Podatnicy!#REF!","v":{"$error":"#REF!"}}]
[null,428,{"$f":"Podatnicy!#REF!","v":{"$error":"#REF!"}},{"$f":"Podatnicy!#REF!","v":{"$error":"#REF!"}},{"$f":"Podatnicy!#REF!","v":{"$error":"#REF!"}}]
[null,429,{"$f":"Podatnicy!#REF!","v":{"$error":"#REF!"}},{"$f":"Podatnicy!#REF!","v":{"$error":"#REF!"}},{"$f":"Podatnicy!#REF!","v":{"$error":"#REF!"}}]
[null,430,{"$f":"Podatnicy!#REF!","v":{"$error":"#REF!"}},{"$f":"Podatnicy!#REF!","v":{"$error":"#REF!"}},{"$f":"Podatnicy!#REF!","v":{"$error":"#REF!"}}]
[null,431,{"$f":"Podatnicy!#REF!","v":{"$error":"#REF!"}},{"$f":"Podatnicy!#REF!","v":{"$error":"#REF!"}},{"$f":"Podatnicy!#REF!","v":{"$error":"#REF!"}}]
[null,432,{"$f":"Podatnicy!#REF!","v":{"$error":"#REF!"}},{"$f":"Podatnicy!#REF!","v":{"$error":"#REF!"}},{"$f":"Podatnicy!#REF!","v":{"$error":"#REF!"}}]
[null,433,{"$f":"Podatnicy!#REF!","v":{"$error":"#REF!"}},{"$f":"Podatnicy!#REF!","v":{"$error":"#REF!"}},{"$f":"Podatnicy!#REF!","v":{"$error":"#REF!"}}]
[null,434,{"$f":"Podatnicy!#REF!","v":{"$error":"#REF!"}},{"$f":"Podatnicy!#REF!","v":{"$error":"#REF!"}},{"$f":"Podatnicy!#REF!","v":{"$error":"#REF!"}}]
[null,435,{"$f":"Podatnicy!#REF!","v":{"$error":"#REF!"}},{"$f":"Podatnicy!#REF!","v":{"$error":"#REF!"}},{"$f":"Podatnicy!#REF!","v":{"$error":"#REF!"}}]
[null,436,{"$f":"Podatnicy!#REF!","v":{"$error":"#REF!"}},{"$f":"Podatnicy!#REF!","v":{"$error":"#REF!"}},{"$f":"Podatnicy!#REF!","v":{"$error":"#REF!"}}]
[null,437,{"$f":"Podatnicy!#REF!","v":{"$error":"#REF!"}},{"$f":"Podatnicy!#REF!","v":{"$error":"#REF!"}},{"$f":"Podatnicy!#REF!","v":{"$error":"#REF!"}}]
[null,438,{"$f":"Podatnicy!#REF!","v":{"$error":"#REF!"}},{"$f":"Podatnicy!#REF!","v":{"$error":"#REF!"}},{"$f":"Podatnicy!#REF!","v":{"$error":"#REF!"}}]
[null,439,{"$f":"Podatnicy!#REF!","v":{"$error":"#REF!"}},{"$f":"Podatnicy!#REF!","v":{"$error":"#REF!"}},{"$f":"Podatnicy!#REF!","v":{"$error":"#REF!"}}]
[null,440,{"$f":"Podatnicy!#REF!","v":{"$error":"#REF!"}},{"$f":"Podatnicy!#REF!","v":{"$error":"#REF!"}},{"$f":"Podatnicy!#REF!","v":{"$error":"#REF!"}}]
[null,441,{"$f":"Podatnicy!#REF!","v":{"$error":"#REF!"}},{"$f":"Podatnicy!#REF!","v":{"$error":"#REF!"}},{"$f":"Podatnicy!#REF!","v":{"$error":"#REF!"}}]
[null,442,{"$f":"Podatnicy!#REF!","v":{"$error":"#REF!"}},{"$f":"Podatnicy!#REF!","v":{"$error":"#REF!"}},{"$f":"Podatnicy!#REF!","v":{"$error":"#REF!"}}]
[null,443,{"$f":"Podatnicy!#REF!","v":{"$error":"#REF!"}},{"$f":"Podatnicy!#REF!","v":{"$error":"#REF!"}},{"$f":"Podatnicy!#REF!","v":{"$error":"#REF!"}}]
[null,444,{"$f":"Podatnicy!#REF!","v":{"$error":"#REF!"}},{"$f":"Podatnicy!#REF!","v":{"$error":"#REF!"}},{"$f":"Podatnicy!#REF!","v":{"$error":"#REF!"}}]
[null,445,{"$f":"Podatnicy!#REF!","v":{"$error":"#REF!"}},{"$f":"Podatnicy!#REF!","v":{"$error":"#REF!"}},{"$f":"Podatnicy!#REF!","v":{"$error":"#REF!"}}]
[null,446,{"$f":"Podatnicy!#REF!","v":{"$error":"#REF!"}},{"$f":"Podatnicy!#REF!","v":{"$error":"#REF!"}},{"$f":"Podatnicy!#REF!","v":{"$error":"#REF!"}}]
[null,447,{"$f":"Podatnicy!#REF!","v":{"$error":"#REF!"}},{"$f":"Podatnicy!#REF!","v":{"$error":"#REF!"}},{"$f":"Podatnicy!#REF!","v":{"$error":"#REF!"}}]
[null,448,{"$f":"Podatnicy!#REF!","v":{"$error":"#REF!"}},{"$f":"Podatnicy!#REF!","v":{"$error":"#REF!"}},{"$f":"Podatnicy!#REF!","v":{"$error":"#REF!"}}]
[null,449,{"$f":"Podatnicy!#REF!","v":{"$error":"#REF!"}},{"$f":"Podatnicy!#REF!","v":{"$error":"#REF!"}},{"$f":"Podatnicy!#REF!","v":{"$error":"#REF!"}}]
[null,450,{"$f":"Podatnicy!#REF!","v":{"$error":"#REF!"}},{"$f":"Podatnicy!#REF!","v":{"$error":"#REF!"}},{"$f":"Podatnicy!#REF!","v":{"$error":"#REF!"}}]
[null,451,{"$f":"Podatnicy!#REF!","v":{"$error":"#REF!"}},{"$f":"Podatnicy!#REF!","v":{"$error":"#REF!"}},{"$f":"Podatnicy!#REF!","v":{"$error":"#REF!"}}]
[null,452,{"$f":"Podatnicy!#REF!","v":{"$error":"#REF!"}},{"$f":"Podatnicy!#REF!","v":{"$error":"#REF!"}},{"$f":"Podatnicy!#REF!","v":{"$error":"#REF!"}}]
[null,453,{"$f":"Podatnicy!#REF!","v":{"$error":"#REF!"}},{"$f":"Podatnicy!#REF!","v":{"$error":"#REF!"}},{"$f":"Podatnicy!#REF!","v":{"$error":"#REF!"}}]
[null,454,{"$f":"Podatnicy!#REF!","v":{"$error":"#REF!"}},{"$f":"Podatnicy!#REF!","v":{"$error":"#REF!"}},{"$f":"Podatnicy!#REF!","v":{"$error":"#REF!"}}]
[null,455,{"$f":"Podatnicy!#REF!","v":{"$error":"#REF!"}},{"$f":"Podatnicy!#REF!","v":{"$error":"#REF!"}},{"$f":"Podatnicy!#REF!","v":{"$error":"#REF!"}}]
[null,456,{"$f":"Podatnicy!#REF!","v":{"$error":"#REF!"}},{"$f":"Podatnicy!#REF!","v":{"$error":"#REF!"}},{"$f":"Podatnicy!#REF!","v":{"$error":"#REF!"}}]
[null,457,{"$f":"Podatnicy!#REF!","v":{"$error":"#REF!"}},{"$f":"Podatnicy!#REF!","v":{"$error":"#REF!"}},{"$f":"Podatnicy!#REF!","v":{"$error":"#REF!"}}]
[null,458,{"$f":"Podatnicy!#REF!","v":{"$error":"#REF!"}},{"$f":"Podatnicy!#REF!","v":{"$error":"#REF!"}},{"$f":"Podatnicy!#REF!","v":{"$error":"#REF!"}}]
[null,459,{"$f":"Podatnicy!#REF!","v":{"$error":"#REF!"}},{"$f":"Podatnicy!#REF!","v":{"$error":"#REF!"}},{"$f":"Podatnicy!#REF!","v":{"$error":"#REF!"}}]
[null,460,{"$f":"Podatnicy!#REF!","v":{"$error":"#REF!"}},{"$f":"Podatnicy!#REF!","v":{"$error":"#REF!"}},{"$f":"Podatnicy!#REF!","v":{"$error":"#REF!"}}]
[null,461,{"$f":"Podatnicy!#REF!","v":{"$error":"#REF!"}},{"$f":"Podatnicy!#REF!","v":{"$error":"#REF!"}},{"$f":"Podatnicy!#REF!","v":{"$error":"#REF!"}}]
[null,462,{"$f":"Podatnicy!#REF!","v":{"$error":"#REF!"}},{"$f":"Podatnicy!#REF!","v":{"$error":"#REF!"}},{"$f":"Podatnicy!#REF!","v":{"$error":"#REF!"}}]
[null,463,{"$f":"Podatnicy!#REF!","v":{"$error":"#REF!"}},{"$f":"Podatnicy!#REF!","v":{"$error":"#REF!"}},{"$f":"Podatnicy!#REF!","v":{"$error":"#REF!"}}]
[null,464,{"$f":"Podatnicy!#REF!","v":{"$error":"#REF!"}},{"$f":"Podatnicy!#REF!","v":{"$error":"#REF!"}},{"$f":"Podatnicy!#REF!","v":{"$error":"#REF!"}}]
[null,465,{"$f":"Podatnicy!#REF!","v":{"$error":"#REF!"}},{"$f":"Podatnicy!#REF!","v":{"$error":"#REF!"}},{"$f":"Podatnicy!#REF!","v":{"$error":"#REF!"}}]
[null,466,{"$f":"Podatnicy!#REF!","v":{"$error":"#REF!"}},{"$f":"Podatnicy!#REF!","v":{"$error":"#REF!"}},{"$f":"Podatnicy!#REF!","v":{"$error":"#REF!"}}]
[null,467,{"$f":"Podatnicy!#REF!","v":{"$error":"#REF!"}},{"$f":"Podatnicy!#REF!","v":{"$error":"#REF!"}},{"$f":"Podatnicy!#REF!","v":{"$error":"#REF!"}}]
[null,468,{"$f":"Podatnicy!#REF!","v":{"$error":"#REF!"}},{"$f":"Podatnicy!#REF!","v":{"$error":"#REF!"}},{"$f":"Podatnicy!#REF!","v":{"$error":"#REF!"}}]
[null,469,{"$f":"Podatnicy!#REF!","v":{"$error":"#REF!"}},{"$f":"Podatnicy!#REF!","v":{"$error":"#REF!"}},{"$f":"Podatnicy!#REF!","v":{"$error":"#REF!"}}]
[null,470,{"$f":"Podatnicy!#REF!","v":{"$error":"#REF!"}},{"$f":"Podatnicy!#REF!","v":{"$error":"#REF!"}},{"$f":"Podatnicy!#REF!","v":{"$error":"#REF!"}}]
[null,471,{"$f":"Podatnicy!#REF!","v":{"$error":"#REF!"}},{"$f":"Podatnicy!#REF!","v":{"$error":"#REF!"}},{"$f":"Podatnicy!#REF!","v":{"$error":"#REF!"}}]
[null,472,{"$f":"Podatnicy!#REF!","v":{"$error":"#REF!"}},{"$f":"Podatnicy!#REF!","v":{"$error":"#REF!"}},{"$f":"Podatnicy!#REF!","v":{"$error":"#REF!"}}]
[null,473,{"$f":"Podatnicy!#REF!","v":{"$error":"#REF!"}},{"$f":"Podatnicy!#REF!","v":{"$error":"#REF!"}},{"$f":"Podatnicy!#REF!","v":{"$error":"#REF!"}}]
[null,474,{"$f":"Podatnicy!#REF!","v":{"$error":"#REF!"}},{"$f":"Podatnicy!#REF!","v":{"$error":"#REF!"}},{"$f":"Podatnicy!#REF!","v":{"$error":"#REF!"}}]
[null,475,{"$f":"Podatnicy!#REF!","v":{"$error":"#REF!"}},{"$f":"Podatnicy!#REF!","v":{"$error":"#REF!"}},{"$f":"Podatnicy!#REF!","v":{"$error":"#REF!"}}]
[null,476,{"$f":"Podatnicy!#REF!","v":{"$error":"#REF!"}},{"$f":"Podatnicy!#REF!","v":{"$error":"#REF!"}},{"$f":"Podatnicy!#REF!","v":{"$error":"#REF!"}}]
[null,477,{"$f":"Podatnicy!#REF!","v":{"$error":"#REF!"}},{"$f":"Podatnicy!#REF!","v":{"$error":"#REF!"}},{"$f":"Podatnicy!#REF!","v":{"$error":"#REF!"}}]
[null,478,{"$f":"Podatnicy!#REF!","v":{"$error":"#REF!"}},{"$f":"Podatnicy!#REF!","v":{"$error":"#REF!"}},{"$f":"Podatnicy!#REF!","v":{"$error":"#REF!"}}]
[null,479,{"$f":"Podatnicy!#REF!","v":{"$error":"#REF!"}},{"$f":"Podatnicy!#REF!","v":{"$error":"#REF!"}},{"$f":"Podatnicy!#REF!","v":{"$error":"#REF!"}}]
[null,480,{"$f":"Podatnicy!#REF!","v":{"$error":"#REF!"}},{"$f":"Podatnicy!#REF!","v":{"$error":"#REF!"}},{"$f":"Podatnicy!#REF!","v":{"$error":"#REF!"}}]
[null,481,{"$f":"Podatnicy!#REF!","v":{"$error":"#REF!"}},{"$f":"Podatnicy!#REF!","v":{"$error":"#REF!"}},{"$f":"Podatnicy!#REF!","v":{"$error":"#REF!"}}]
[null,482,{"$f":"Podatnicy!#REF!","v":{"$error":"#REF!"}},{"$f":"Podatnicy!#REF!","v":{"$error":"#REF!"}},{"$f":"Podatnicy!#REF!","v":{"$error":"#REF!"}}]
[null,483,{"$f":"Podatnicy!#REF!","v":{"$error":"#REF!"}},{"$f":"Podatnicy!#REF!","v":{"$error":"#REF!"}},{"$f":"Podatnicy!#REF!","v":{"$error":"#REF!"}}]
[null,484,{"$f":"Podatnicy!#REF!","v":{"$error":"#REF!"}},{"$f":"Podatnicy!#REF!","v":{"$error":"#REF!"}},{"$f":"Podatnicy!#REF!","v":{"$error":"#REF!"}}]
[null,485,{"$f":"Podatnicy!#REF!","v":{"$error":"#REF!"}},{"$f":"Podatnicy!#REF!","v":{"$error":"#REF!"}},{"$f":"Podatnicy!#REF!","v":{"$error":"#REF!"}}]
[null,486,{"$f":"Podatnicy!#REF!","v":{"$error":"#REF!"}},{"$f":"Podatnicy!#REF!","v":{"$error":"#REF!"}},{"$f":"Podatnicy!#REF!","v":{"$error":"#REF!"}}]
[null,487,{"$f":"Podatnicy!#REF!","v":{"$error":"#REF!"}},{"$f":"Podatnicy!#REF!","v":{"$error":"#REF!"}},{"$f":"Podatnicy!#REF!","v":{"$error":"#REF!"}}]
[null,488,{"$f":"Podatnicy!#REF!","v":{"$error":"#REF!"}},{"$f":"Podatnicy!#REF!","v":{"$error":"#REF!"}},{"$f":"Podatnicy!#REF!","v":{"$error":"#REF!"}}]
[null,489,{"$f":"Podatnicy!#REF!","v":{"$error":"#REF!"}},{"$f":"Podatnicy!#REF!","v":{"$error":"#REF!"}},{"$f":"Podatnicy!#REF!","v":{"$error":"#REF!"}}]
[null,490,{"$f":"Podatnicy!#REF!","v":{"$error":"#REF!"}},{"$f":"Podatnicy!#REF!","v":{"$error":"#REF!"}},{"$f":"Podatnicy!#REF!","v":{"$error":"#REF!"}}]
[null,491,{"$f":"Podatnicy!#REF!","v":{"$error":"#REF!"}},{"$f":"Podatnicy!#REF!","v":{"$error":"#REF!"}},{"$f":"Podatnicy!#REF!","v":{"$error":"#REF!"}}]
[null,492,{"$f":"Podatnicy!#REF!","v":{"$error":"#REF!"}},{"$f":"Podatnicy!#REF!","v":{"$error":"#REF!"}},{"$f":"Podatnicy!#REF!","v":{"$error":"#REF!"}}]
[null,493,{"$f":"Podatnicy!#REF!","v":{"$error":"#REF!"}},{"$f":"Podatnicy!#REF!","v":{"$error":"#REF!"}},{"$f":"Podatnicy!#REF!","v":{"$error":"#REF!"}}]
[null,494,{"$f":"Podatnicy!#REF!","v":{"$error":"#REF!"}},{"$f":"Podatnicy!#REF!","v":{"$error":"#REF!"}},{"$f":"Podatnicy!#REF!","v":{"$error":"#REF!"}}]
[null,495,{"$f":"Podatnicy!#REF!","v":{"$error":"#REF!"}},{"$f":"Podatnicy!#REF!","v":{"$error":"#REF!"}},{"$f":"Podatnicy!#REF!","v":{"$error":"#REF!"}}]
[null,496,{"$f":"Podatnicy!#REF!","v":{"$error":"#REF!"}},{"$f":"Podatnicy!#REF!","v":{"$error":"#REF!"}},{"$f":"Podatnicy!#REF!","v":{"$error":"#REF!"}}]
[null,497,{"$f":"Podatnicy!#REF!","v":{"$error":"#REF!"}},{"$f":"Podatnicy!#REF!","v":{"$error":"#REF!"}},{"$f":"Podatnicy!#REF!","v":{"$error":"#REF!"}}]
[null,498,{"$f":"Podatnicy!#REF!","v":{"$error":"#REF!"}},{"$f":"Podatnicy!#REF!","v":{"$error":"#REF!"}},{"$f":"Podatnicy!#REF!","v":{"$error":"#REF!"}}]
[null,499,{"$f":"Podatnicy!#REF!","v":{"$error":"#REF!"}},{"$f":"Podatnicy!#REF!","v":{"$error":"#REF!"}},{"$f":"Podatnicy!#REF!","v":{"$error":"#REF!"}}]
[null,500,{"$f":"Podatnicy!#REF!","v":{"$error":"#REF!"}},{"$f":"Podatnicy!#REF!","v":{"$error":"#REF!"}},{"$f":"Podatnicy!#REF!","v":{"$error":"#REF!"}}]
[null,501,{"$f":"Podatnicy!#REF!","v":{"$error":"#REF!"}},{"$f":"Podatnicy!#REF!","v":{"$error":"#REF!"}},{"$f":"Podatnicy!#REF!","v":{"$error":"#REF!"}}]
[null,502,{"$f":"Podatnicy!#REF!","v":{"$error":"#REF!"}},{"$f":"Podatnicy!#REF!","v":{"$error":"#REF!"}},{"$f":"Podatnicy!#REF!","v":{"$error":"#REF!"}}]
[null,503,{"$f":"Podatnicy!#REF!","v":{"$error":"#REF!"}},{"$f":"Podatnicy!#REF!","v":{"$error":"#REF!"}},{"$f":"Podatnicy!#REF!","v":{"$error":"#REF!"}}]
[null,504,{"$f":"Podatnicy!#REF!","v":{"$error":"#REF!"}},{"$f":"Podatnicy!#REF!","v":{"$error":"#REF!"}},{"$f":"Podatnicy!#REF!","v":{"$error":"#REF!"}}]
[null,505,{"$f":"Podatnicy!#REF!","v":{"$error":"#REF!"}},{"$f":"Podatnicy!#REF!","v":{"$error":"#REF!"}},{"$f":"Podatnicy!#REF!","v":{"$error":"#REF!"}}]
[null,506,{"$f":"Podatnicy!#REF!","v":{"$error":"#REF!"}},{"$f":"Podatnicy!#REF!","v":{"$error":"#REF!"}},{"$f":"Podatnicy!#REF!","v":{"$error":"#REF!"}}]
[null,507,{"$f":"Podatnicy!#REF!","v":{"$error":"#REF!"}},{"$f":"Podatnicy!#REF!","v":{"$error":"#REF!"}},{"$f":"Podatnicy!#REF!","v":{"$error":"#REF!"}}]
[null,508,{"$f":"Podatnicy!#REF!","v":{"$error":"#REF!"}},{"$f":"Podatnicy!#REF!","v":{"$error":"#REF!"}},{"$f":"Podatnicy!#REF!","v":{"$error":"#REF!"}}]
[null,509,{"$f":"Podatnicy!#REF!","v":{"$error":"#REF!"}},{"$f":"Podatnicy!#REF!","v":{"$error":"#REF!"}},{"$f":"Podatnicy!#REF!","v":{"$error":"#REF!"}}]
[null,510,{"$f":"Podatnicy!#REF!","v":{"$error":"#REF!"}},{"$f":"Podatnicy!#REF!","v":{"$error":"#REF!"}},{"$f":"Podatnicy!#REF!","v":{"$error":"#REF!"}}]
[null,511,{"$f":"Podatnicy!#REF!","v":{"$error":"#REF!"}},{"$f":"Podatnicy!#REF!","v":{"$error":"#REF!"}},{"$f":"Podatnicy!#REF!","v":{"$error":"#REF!"}}]
[null,512,{"$f":"Podatnicy!#REF!","v":{"$error":"#REF!"}},{"$f":"Podatnicy!#REF!","v":{"$error":"#REF!"}},{"$f":"Podatnicy!#REF!","v":{"$error":"#REF!"}}]
[null,513,{"$f":"Podatnicy!#REF!","v":{"$error":"#REF!"}},{"$f":"Podatnicy!#REF!","v":{"$error":"#REF!"}},{"$f":"Podatnicy!#REF!","v":{"$error":"#REF!"}}]
[null,514,{"$f":"Podatnicy!#REF!","v":{"$error":"#REF!"}},{"$f":"Podatnicy!#REF!","v":{"$error":"#REF!"}},{"$f":"Podatnicy!#REF!","v":{"$error":"#REF!"}}]
[null,515,{"$f":"Podatnicy!#REF!","v":{"$error":"#REF!"}},{"$f":"Podatnicy!#REF!","v":{"$error":"#REF!"}},{"$f":"Podatnicy!#REF!","v":{"$error":"#REF!"}}]
[null,516,{"$f":"Podatnicy!#REF!","v":{"$error":"#REF!"}},{"$f":"Podatnicy!#REF!","v":{"$error":"#REF!"}},{"$f":"Podatnicy!#REF!","v":{"$error":"#REF!"}}]
[null,517,{"$f":"Podatnicy!#REF!","v":{"$error":"#REF!"}},{"$f":"Podatnicy!#REF!","v":{"$error":"#REF!"}},{"$f":"Podatnicy!#REF!","v":{"$error":"#REF!"}}]
[null,518,{"$f":"Podatnicy!#REF!","v":{"$error":"#REF!"}},{"$f":"Podatnicy!#REF!","v":{"$error":"#REF!"}},{"$f":"Podatnicy!#REF!","v":{"$error":"#REF!"}}]
[null,519,{"$f":"Podatnicy!#REF!","v":{"$error":"#REF!"}},{"$f":"Podatnicy!#REF!","v":{"$error":"#REF!"}},{"$f":"Podatnicy!#REF!","v":{"$error":"#REF!"}}]
[null,520,{"$f":"Podatnicy!#REF!","v":{"$error":"#REF!"}},{"$f":"Podatnicy!#REF!","v":{"$error":"#REF!"}},{"$f":"Podatnicy!#REF!","v":{"$error":"#REF!"}}]
[null,521,{"$f":"Podatnicy!#REF!","v":{"$error":"#REF!"}},{"$f":"Podatnicy!#REF!","v":{"$error":"#REF!"}},{"$f":"Podatnicy!#REF!","v":{"$error":"#REF!"}}]
[null,522,{"$f":"Podatnicy!#REF!","v":{"$error":"#REF!"}},{"$f":"Podatnicy!#REF!","v":{"$error":"#REF!"}},{"$f":"Podatnicy!#REF!","v":{"$error":"#REF!"}}]
[null,523,{"$f":"Podatnicy!#REF!","v":{"$error":"#REF!"}},{"$f":"Podatnicy!#REF!","v":{"$error":"#REF!"}},{"$f":"Podatnicy!#REF!","v":{"$error":"#REF!"}}]
[null,524,{"$f":"Podatnicy!#REF!","v":{"$error":"#REF!"}},{"$f":"Podatnicy!#REF!","v":{"$error":"#REF!"}},{"$f":"Podatnicy!#REF!","v":{"$error":"#REF!"}}]
[null,525,{"$f":"Podatnicy!#REF!","v":{"$error":"#REF!"}},{"$f":"Podatnicy!#REF!","v":{"$error":"#REF!"}},{"$f":"Podatnicy!#REF!","v":{"$error":"#REF!"}}]
[null,526,{"$f":"Podatnicy!#REF!","v":{"$error":"#REF!"}},{"$f":"Podatnicy!#REF!","v":{"$error":"#REF!"}},{"$f":"Podatnicy!#REF!","v":{"$error":"#REF!"}}]
[null,527,{"$f":"Podatnicy!#REF!","v":{"$error":"#REF!"}},{"$f":"Podatnicy!#REF!","v":{"$error":"#REF!"}},{"$f":"Podatnicy!#REF!","v":{"$error":"#REF!"}}]
[null,528,{"$f":"Podatnicy!#REF!","v":{"$error":"#REF!"}},{"$f":"Podatnicy!#REF!","v":{"$error":"#REF!"}},{"$f":"Podatnicy!#REF!","v":{"$error":"#REF!"}}]
[null,529,{"$f":"Podatnicy!#REF!","v":{"$error":"#REF!"}},{"$f":"Podatnicy!#REF!","v":{"$error":"#REF!"}},{"$f":"Podatnicy!#REF!","v":{"$error":"#REF!"}}]
[null,530,{"$f":"Podatnicy!#REF!","v":{"$error":"#REF!"}},{"$f":"Podatnicy!#REF!","v":{"$error":"#REF!"}},{"$f":"Podatnicy!#REF!","v":{"$error":"#REF!"}}]
[null,531,{"$f":"Podatnicy!#REF!","v":{"$error":"#REF!"}},{"$f":"Podatnicy!#REF!","v":{"$error":"#REF!"}},{"$f":"Podatnicy!#REF!","v":{"$error":"#REF!"}}]
[null,532,{"$f":"Podatnicy!#REF!","v":{"$error":"#REF!"}},{"$f":"Podatnicy!#REF!","v":{"$error":"#REF!"}},{"$f":"Podatnicy!#REF!","v":{"$error":"#REF!"}}]
[null,533,{"$f":"Podatnicy!#REF!","v":{"$error":"#REF!"}},{"$f":"Podatnicy!#REF!","v":{"$error":"#REF!"}},{"$f":"Podatnicy!#REF!","v":{"$error":"#REF!"}}]
[null,534,{"$f":"Podatnicy!#REF!","v":{"$error":"#REF!"}},{"$f":"Podatnicy!#REF!","v":{"$error":"#REF!"}},{"$f":"Podatnicy!#REF!","v":{"$error":"#REF!"}}]
[null,535,{"$f":"Podatnicy!#REF!","v":{"$error":"#REF!"}},{"$f":"Podatnicy!#REF!","v":{"$error":"#REF!"}},{"$f":"Podatnicy!#REF!","v":{"$error":"#REF!"}}]
[null,536,{"$f":"Podatnicy!#REF!","v":{"$error":"#REF!"}},{"$f":"Podatnicy!#REF!","v":{"$error":"#REF!"}},{"$f":"Podatnicy!#REF!","v":{"$error":"#REF!"}}]
[null,537,{"$f":"Podatnicy!#REF!","v":{"$error":"#REF!"}},{"$f":"Podatnicy!#REF!","v":{"$error":"#REF!"}},{"$f":"Podatnicy!#REF!","v":{"$error":"#REF!"}}]
[null,538,{"$f":"Podatnicy!#REF!","v":{"$error":"#REF!"}},{"$f":"Podatnicy!#REF!","v":{"$error":"#REF!"}},{"$f":"Podatnicy!#REF!","v":{"$error":"#REF!"}}]
[null,539,{"$f":"Podatnicy!#REF!","v":{"$error":"#REF!"}},{"$f":"Podatnicy!#REF!","v":{"$error":"#REF!"}},{"$f":"Podatnicy!#REF!","v":{"$error":"#REF!"}}]
[null,540,{"$f":"Podatnicy!#REF!","v":{"$error":"#REF!"}},{"$f":"Podatnicy!#REF!","v":{"$error":"#REF!"}},{"$f":"Podatnicy!#REF!","v":{"$error":"#REF!"}}]
[null,541,{"$f":"Podatnicy!#REF!","v":{"$error":"#REF!"}},{"$f":"Podatnicy!#REF!","v":{"$error":"#REF!"}},{"$f":"Podatnicy!#REF!","v":{"$error":"#REF!"}}]
[null,542,{"$f":"Podatnicy!#REF!","v":{"$error":"#REF!"}},{"$f":"Podatnicy!#REF!","v":{"$error":"#REF!"}},{"$f":"Podatnicy!#REF!","v":{"$error":"#REF!"}}]
[null,543,{"$f":"Podatnicy!#REF!","v":{"$error":"#REF!"}},{"$f":"Podatnicy!#REF!","v":{"$error":"#REF!"}},{"$f":"Podatnicy!#REF!","v":{"$error":"#REF!"}}]
[null,544,{"$f":"Podatnicy!#REF!","v":{"$error":"#REF!"}},{"$f":"Podatnicy!#REF!","v":{"$error":"#REF!"}},{"$f":"Podatnicy!#REF!","v":{"$error":"#REF!"}}]
[null,545,{"$f":"Podatnicy!#REF!","v":{"$error":"#REF!"}},{"$f":"Podatnicy!#REF!","v":{"$error":"#REF!"}},{"$f":"Podatnicy!#REF!","v":{"$error":"#REF!"}}]
[null,546,{"$f":"Podatnicy!#REF!","v":{"$error":"#REF!"}},{"$f":"Podatnicy!#REF!","v":{"$error":"#REF!"}},{"$f":"Podatnicy!#REF!","v":{"$error":"#REF!"}}]
[null,547,{"$f":"Podatnicy!#REF!","v":{"$error":"#REF!"}},{"$f":"Podatnicy!#REF!","v":{"$error":"#REF!"}},{"$f":"Podatnicy!#REF!","v":{"$error":"#REF!"}}]
[null,548,{"$f":"Podatnicy!#REF!","v":{"$error":"#REF!"}},{"$f":"Podatnicy!#REF!","v":{"$error":"#REF!"}},{"$f":"Podatnicy!#REF!","v":{"$error":"#REF!"}}]
[null,549,{"$f":"Podatnicy!#REF!","v":{"$error":"#REF!"}},{"$f":"Podatnicy!#REF!","v":{"$error":"#REF!"}},{"$f":"Podatnicy!#REF!","v":{"$error":"#REF!"}}]
[null,550,{"$f":"Podatnicy!#REF!","v":{"$error":"#REF!"}},{"$f":"Podatnicy!#REF!","v":{"$error":"#REF!"}},{"$f":"Podatnicy!#REF!","v":{"$error":"#REF!"}}]
[null,551,{"$f":"Podatnicy!#REF!","v":{"$error":"#REF!"}},{"$f":"Podatnicy!#REF!","v":{"$error":"#REF!"}},{"$f":"Podatnicy!#REF!","v":{"$error":"#REF!"}}]
[null,552,{"$f":"Podatnicy!#REF!","v":{"$error":"#REF!"}},{"$f":"Podatnicy!#REF!","v":{"$error":"#REF!"}},{"$f":"Podatnicy!#REF!","v":{"$error":"#REF!"}}]
[null,553,{"$f":"Podatnicy!#REF!","v":{"$error":"#REF!"}},{"$f":"Podatnicy!#REF!","v":{"$error":"#REF!"}},{"$f":"Podatnicy!#REF!","v":{"$error":"#REF!"}}]
[null,554,{"$f":"Podatnicy!#REF!","v":{"$error":"#REF!"}},{"$f":"Podatnicy!#REF!","v":{"$error":"#REF!"}},{"$f":"Podatnicy!#REF!","v":{"$error":"#REF!"}}]
[null,555,{"$f":"Podatnicy!#REF!","v":{"$error":"#REF!"}},{"$f":"Podatnicy!#REF!","v":{"$error":"#REF!"}},{"$f":"Podatnicy!#REF!","v":{"$error":"#REF!"}}]
[null,556,{"$f":"Podatnicy!#REF!","v":{"$error":"#REF!"}},{"$f":"Podatnicy!#REF!","v":{"$error":"#REF!"}},{"$f":"Podatnicy!#REF!","v":{"$error":"#REF!"}}]
[null,557,{"$f":"Podatnicy!#REF!","v":{"$error":"#REF!"}},{"$f":"Podatnicy!#REF!","v":{"$error":"#REF!"}},{"$f":"Podatnicy!#REF!","v":{"$error":"#REF!"}}]
[null,558,{"$f":"Podatnicy!#REF!","v":{"$error":"#REF!"}},{"$f":"Podatnicy!#REF!","v":{"$error":"#REF!"}},{"$f":"Podatnicy!#REF!","v":{"$error":"#REF!"}}]
[null,559,{"$f":"Podatnicy!#REF!","v":{"$error":"#REF!"}},{"$f":"Podatnicy!#REF!","v":{"$error":"#REF!"}},{"$f":"Podatnicy!#REF!","v":{"$error":"#REF!"}}]
[null,560,{"$f":"Podatnicy!#REF!","v":{"$error":"#REF!"}},{"$f":"Podatnicy!#REF!","v":{"$error":"#REF!"}},{"$f":"Podatnicy!#REF!","v":{"$error":"#REF!"}}]
[null,561,{"$f":"Podatnicy!#REF!","v":{"$error":"#REF!"}},{"$f":"Podatnicy!#REF!","v":{"$error":"#REF!"}},{"$f":"Podatnicy!#REF!","v":{"$error":"#REF!"}}]
[null,562,{"$f":"Podatnicy!#REF!","v":{"$error":"#REF!"}},{"$f":"Podatnicy!#REF!","v":{"$error":"#REF!"}},{"$f":"Podatnicy!#REF!","v":{"$error":"#REF!"}}]
[null,563,{"$f":"Podatnicy!#REF!","v":{"$error":"#REF!"}},{"$f":"Podatnicy!#REF!","v":{"$error":"#REF!"}},{"$f":"Podatnicy!#REF!","v":{"$error":"#REF!"}}]
[null,564,{"$f":"Podatnicy!#REF!","v":{"$error":"#REF!"}},{"$f":"Podatnicy!#REF!","v":{"$error":"#REF!"}},{"$f":"Podatnicy!#REF!","v":{"$error":"#REF!"}}]
[null,565,{"$f":"Podatnicy!#REF!","v":{"$error":"#REF!"}},{"$f":"Podatnicy!#REF!","v":{"$error":"#REF!"}},{"$f":"Podatnicy!#REF!","v":{"$error":"#REF!"}}]
[null,566,{"$f":"Podatnicy!#REF!","v":{"$error":"#REF!"}},{"$f":"Podatnicy!#REF!","v":{"$error":"#REF!"}},{"$f":"Podatnicy!#REF!","v":{"$error":"#REF!"}}]
[null,567,{"$f":"Podatnicy!#REF!","v":{"$error":"#REF!"}},{"$f":"Podatnicy!#REF!","v":{"$error":"#REF!"}},{"$f":"Podatnicy!#REF!","v":{"$error":"#REF!"}}]
[null,568,{"$f":"Podatnicy!#REF!","v":{"$error":"#REF!"}},{"$f":"Podatnicy!#REF!","v":{"$error":"#REF!"}},{"$f":"Podatnicy!#REF!","v":{"$error":"#REF!"}}]
[null,569,{"$f":"Podatnicy!#REF!","v":{"$error":"#REF!"}},{"$f":"Podatnicy!#REF!","v":{"$error":"#REF!"}},{"$f":"Podatnicy!#REF!","v":{"$error":"#REF!"}}]
[null,570,{"$f":"Podatnicy!#REF!","v":{"$error":"#REF!"}},{"$f":"Podatnicy!#REF!","v":{"$error":"#REF!"}},{"$f":"Podatnicy!#REF!","v":{"$error":"#REF!"}}]
[null,571,{"$f":"Podatnicy!#REF!","v":{"$error":"#REF!"}},{"$f":"Podatnicy!#REF!","v":{"$error":"#REF!"}},{"$f":"Podatnicy!#REF!","v":{"$error":"#REF!"}}]
[null,572,{"$f":"Podatnicy!#REF!","v":{"$error":"#REF!"}},{"$f":"Podatnicy!#REF!","v":{"$error":"#REF!"}},{"$f":"Podatnicy!#REF!","v":{"$error":"#REF!"}}]
[null,573,{"$f":"Podatnicy!#REF!","v":{"$error":"#REF!"}},{"$f":"Podatnicy!#REF!","v":{"$error":"#REF!"}},{"$f":"Podatnicy!#REF!","v":{"$error":"#REF!"}}]
[null,574,{"$f":"Podatnicy!#REF!","v":{"$error":"#REF!"}},{"$f":"Podatnicy!#REF!","v":{"$error":"#REF!"}},{"$f":"Podatnicy!#REF!","v":{"$error":"#REF!"}}]
[null,575,{"$f":"Podatnicy!#REF!","v":{"$error":"#REF!"}},{"$f":"Podatnicy!#REF!","v":{"$error":"#REF!"}},{"$f":"Podatnicy!#REF!","v":{"$error":"#REF!"}}]
[null,576,{"$f":"Podatnicy!#REF!","v":{"$error":"#REF!"}},{"$f":"Podatnicy!#REF!","v":{"$error":"#REF!"}},{"$f":"Podatnicy!#REF!","v":{"$error":"#REF!"}}]
[null,577,{"$f":"Podatnicy!#REF!","v":{"$error":"#REF!"}},{"$f":"Podatnicy!#REF!","v":{"$error":"#REF!"}},{"$f":"Podatnicy!#REF!","v":{"$error":"#REF!"}}]
[null,578,{"$f":"Podatnicy!#REF!","v":{"$error":"#REF!"}},{"$f":"Podatnicy!#REF!","v":{"$error":"#REF!"}},{"$f":"Podatnicy!#REF!","v":{"$error":"#REF!"}}]
[null,579,{"$f":"Podatnicy!#REF!","v":{"$error":"#REF!"}},{"$f":"Podatnicy!#REF!","v":{"$error":"#REF!"}},{"$f":"Podatnicy!#REF!","v":{"$error":"#REF!"}}]
[null,580,{"$f":"Podatnicy!#REF!","v":{"$error":"#REF!"}},{"$f":"Podatnicy!#REF!","v":{"$error":"#REF!"}},{"$f":"Podatnicy!#REF!","v":{"$error":"#REF!"}}]
[null,581,{"$f":"Podatnicy!#REF!","v":{"$error":"#REF!"}},{"$f":"Podatnicy!#REF!","v":{"$error":"#REF!"}},{"$f":"Podatnicy!#REF!","v":{"$error":"#REF!"}}]
[null,582,{"$f":"Podatnicy!#REF!","v":{"$error":"#REF!"}},{"$f":"Podatnicy!#REF!","v":{"$error":"#REF!"}},{"$f":"Podatnicy!#REF!","v":{"$error":"#REF!"}}]
[null,583,{"$f":"Podatnicy!#REF!","v":{"$error":"#REF!"}},{"$f":"Podatnicy!#REF!","v":{"$error":"#REF!"}},{"$f":"Podatnicy!#REF!","v":{"$error":"#REF!"}}]
[null,584,{"$f":"Podatnicy!#REF!","v":{"$error":"#REF!"}},{"$f":"Podatnicy!#REF!","v":{"$error":"#REF!"}},{"$f":"Podatnicy!#REF!","v":{"$error":"#REF!"}}]
[null,585,{"$f":"Podatnicy!#REF!","v":{"$error":"#REF!"}},{"$f":"Podatnicy!#REF!","v":{"$error":"#REF!"}},{"$f":"Podatnicy!#REF!","v":{"$error":"#REF!"}}]
[null,586,{"$f":"Podatnicy!#REF!","v":{"$error":"#REF!"}},{"$f":"Podatnicy!#REF!","v":{"$error":"#REF!"}},{"$f":"Podatnicy!#REF!","v":{"$error":"#REF!"}}]
[null,587,{"$f":"Podatnicy!#REF!","v":{"$error":"#REF!"}},{"$f":"Podatnicy!#REF!","v":{"$error":"#REF!"}},{"$f":"Podatnicy!#REF!","v":{"$error":"#REF!"}}]
[null,588,{"$f":"Podatnicy!#REF!","v":{"$error":"#REF!"}},{"$f":"Podatnicy!#REF!","v":{"$error":"#REF!"}},{"$f":"Podatnicy!#REF!","v":{"$error":"#REF!"}}]
[null,589,{"$f":"Podatnicy!#REF!","v":{"$error":"#REF!"}},{"$f":"Podatnicy!#REF!","v":{"$error":"#REF!"}},{"$f":"Podatnicy!#REF!","v":{"$error":"#REF!"}}]
[null,590,{"$f":"Podatnicy!#REF!","v":{"$error":"#REF!"}},{"$f":"Podatnicy!#REF!","v":{"$error":"#REF!"}},{"$f":"Podatnicy!#REF!","v":{"$error":"#REF!"}}]
[null,591,{"$f":"Podatnicy!#REF!","v":{"$error":"#REF!"}},{"$f":"Podatnicy!#REF!","v":{"$error":"#REF!"}},{"$f":"Podatnicy!#REF!","v":{"$error":"#REF!"}}]
[null,592,{"$f":"Podatnicy!#REF!","v":{"$error":"#REF!"}},{"$f":"Podatnicy!#REF!","v":{"$error":"#REF!"}},{"$f":"Podatnicy!#REF!","v":{"$error":"#REF!"}}]
[null,593,{"$f":"Podatnicy!#REF!","v":{"$error":"#REF!"}},{"$f":"Podatnicy!#REF!","v":{"$error":"#REF!"}},{"$f":"Podatnicy!#REF!","v":{"$error":"#REF!"}}]
[null,594,{"$f":"Podatnicy!#REF!","v":{"$error":"#REF!"}},{"$f":"Podatnicy!#REF!","v":{"$error":"#REF!"}},{"$f":"Podatnicy!#REF!","v":{"$error":"#REF!"}}]
[null,595,{"$f":"Podatnicy!#REF!","v":{"$error":"#REF!"}},{"$f":"Podatnicy!#REF!","v":{"$error":"#REF!"}},{"$f":"Podatnicy!#REF!","v":{"$error":"#REF!"}}]
[null,596,{"$f":"Podatnicy!#REF!","v":{"$error":"#REF!"}},{"$f":"Podatnicy!#REF!","v":{"$error":"#REF!"}},{"$f":"Podatnicy!#REF!","v":{"$error":"#REF!"}}]
[null,597,{"$f":"Podatnicy!#REF!","v":{"$error":"#REF!"}},{"$f":"Podatnicy!#REF!","v":{"$error":"#REF!"}},{"$f":"Podatnicy!#REF!","v":{"$error":"#REF!"}}]
[null,598,{"$f":"Podatnicy!#REF!","v":{"$error":"#REF!"}},{"$f":"Podatnicy!#REF!","v":{"$error":"#REF!"}},{"$f":"Podatnicy!#REF!","v":{"$error":"#REF!"}}]
[null,599,{"$f":"Podatnicy!#REF!","v":{"$error":"#REF!"}},{"$f":"Podatnicy!#REF!","v":{"$error":"#REF!"}},{"$f":"Podatnicy!#REF!","v":{"$error":"#REF!"}}]
[null,600,{"$f":"Podatnicy!#REF!","v":{"$error":"#REF!"}},{"$f":"Podatnicy!#REF!","v":{"$error":"#REF!"}},{"$f":"Podatnicy!#REF!","v":{"$error":"#REF!"}}]
[null,601,{"$f":"Podatnicy!#REF!","v":{"$error":"#REF!"}},{"$f":"Podatnicy!#REF!","v":{"$error":"#REF!"}},{"$f":"Podatnicy!#REF!","v":{"$error":"#REF!"}}]
[null,602,{"$f":"Podatnicy!#REF!","v":{"$error":"#REF!"}},{"$f":"Podatnicy!#REF!","v":{"$error":"#REF!"}},{"$f":"Podatnicy!#REF!","v":{"$error":"#REF!"}}]
[null,603,{"$f":"Podatnicy!#REF!","v":{"$error":"#REF!"}},{"$f":"Podatnicy!#REF!","v":{"$error":"#REF!"}},{"$f":"Podatnicy!#REF!","v":{"$error":"#REF!"}}]
[null,604,{"$f":"Podatnicy!#REF!","v":{"$error":"#REF!"}},{"$f":"Podatnicy!#REF!","v":{"$error":"#REF!"}},{"$f":"Podatnicy!#REF!","v":{"$error":"#REF!"}}]
[null,605,{"$f":"Podatnicy!#REF!","v":{"$error":"#REF!"}},{"$f":"Podatnicy!#REF!","v":{"$error":"#REF!"}},{"$f":"Podatnicy!#REF!","v":{"$error":"#REF!"}}]
[null,606,{"$f":"Podatnicy!#REF!","v":{"$error":"#REF!"}},{"$f":"Podatnicy!#REF!","v":{"$error":"#REF!"}},{"$f":"Podatnicy!#REF!","v":{"$error":"#REF!"}}]
[null,607,{"$f":"Podatnicy!#REF!","v":{"$error":"#REF!"}},{"$f":"Podatnicy!#REF!","v":{"$error":"#REF!"}},{"$f":"Podatnicy!#REF!","v":{"$error":"#REF!"}}]
[null,608,{"$f":"Podatnicy!#REF!","v":{"$error":"#REF!"}},{"$f":"Podatnicy!#REF!","v":{"$error":"#REF!"}},{"$f":"Podatnicy!#REF!","v":{"$error":"#REF!"}}]
[null,609,{"$f":"Podatnicy!#REF!","v":{"$error":"#REF!"}},{"$f":"Podatnicy!#REF!","v":{"$error":"#REF!"}},{"$f":"Podatnicy!#REF!","v":{"$error":"#REF!"}}]
[null,610,{"$f":"Podatnicy!#REF!","v":{"$error":"#REF!"}},{"$f":"Podatnicy!#REF!","v":{"$error":"#REF!"}},{"$f":"Podatnicy!#REF!","v":{"$error":"#REF!"}}]
[null,611,{"$f":"Podatnicy!#REF!","v":{"$error":"#REF!"}},{"$f":"Podatnicy!#REF!","v":{"$error":"#REF!"}},{"$f":"Podatnicy!#REF!","v":{"$error":"#REF!"}}]
[null,612,{"$f":"Podatnicy!#REF!","v":{"$error":"#REF!"}},{"$f":"Podatnicy!#REF!","v":{"$error":"#REF!"}},{"$f":"Podatnicy!#REF!","v":{"$error":"#REF!"}}]
[null,613,{"$f":"Podatnicy!#REF!","v":{"$error":"#REF!"}},{"$f":"Podatnicy!#REF!","v":{"$error":"#REF!"}},{"$f":"Podatnicy!#REF!","v":{"$error":"#REF!"}}]
[null,614,{"$f":"Podatnicy!#REF!","v":{"$error":"#REF!"}},{"$f":"Podatnicy!#REF!","v":{"$error":"#REF!"}},{"$f":"Podatnicy!#REF!","v":{"$error":"#REF!"}}]
[null,615,{"$f":"Podatnicy!#REF!","v":{"$error":"#REF!"}},{"$f":"Podatnicy!#REF!","v":{"$error":"#REF!"}},{"$f":"Podatnicy!#REF!","v":{"$error":"#REF!"}}]
[null,616,{"$f":"Podatnicy!#REF!","v":{"$error":"#REF!"}},{"$f":"Podatnicy!#REF!","v":{"$error":"#REF!"}},{"$f":"Podatnicy!#REF!","v":{"$error":"#REF!"}}]
[null,617,{"$f":"Podatnicy!#REF!","v":{"$error":"#REF!"}},{"$f":"Podatnicy!#REF!","v":{"$error":"#REF!"}},{"$f":"Podatnicy!#REF!","v":{"$error":"#REF!"}}]
[null,618,{"$f":"Podatnicy!#REF!","v":{"$error":"#REF!"}},{"$f":"Podatnicy!#REF!","v":{"$error":"#REF!"}},{"$f":"Podatnicy!#REF!","v":{"$error":"#REF!"}}]
[null,619,{"$f":"Podatnicy!#REF!","v":{"$error":"#REF!"}},{"$f":"Podatnicy!#REF!","v":{"$error":"#REF!"}},{"$f":"Podatnicy!#REF!","v":{"$error":"#REF!"}}]
[null,620,{"$f":"Podatnicy!#REF!","v":{"$error":"#REF!"}},{"$f":"Podatnicy!#REF!","v":{"$error":"#REF!"}},{"$f":"Podatnicy!#REF!","v":{"$error":"#REF!"}}]
[null,621,{"$f":"Podatnicy!#REF!","v":{"$error":"#REF!"}},{"$f":"Podatnicy!#REF!","v":{"$error":"#REF!"}},{"$f":"Podatnicy!#REF!","v":{"$error":"#REF!"}}]
[null,622,{"$f":"Podatnicy!#REF!","v":{"$error":"#REF!"}},{"$f":"Podatnicy!#REF!","v":{"$error":"#REF!"}},{"$f":"Podatnicy!#REF!","v":{"$error":"#REF!"}}]
[null,623,{"$f":"Podatnicy!#REF!","v":{"$error":"#REF!"}},{"$f":"Podatnicy!#REF!","v":{"$error":"#REF!"}},{"$f":"Podatnicy!#REF!","v":{"$error":"#REF!"}}]
[null,624,{"$f":"Podatnicy!#REF!","v":{"$error":"#REF!"}},{"$f":"Podatnicy!#REF!","v":{"$error":"#REF!"}},{"$f":"Podatnicy!#REF!","v":{"$error":"#REF!"}}]
[null,625,{"$f":"Podatnicy!#REF!","v":{"$error":"#REF!"}},{"$f":"Podatnicy!#REF!","v":{"$error":"#REF!"}},{"$f":"Podatnicy!#REF!","v":{"$error":"#REF!"}}]
[null,626,{"$f":"Podatnicy!#REF!","v":{"$error":"#REF!"}},{"$f":"Podatnicy!#REF!","v":{"$error":"#REF!"}},{"$f":"Podatnicy!#REF!","v":{"$error":"#REF!"}}]
[null,627,{"$f":"Podatnicy!#REF!","v":{"$error":"#REF!"}},{"$f":"Podatnicy!#REF!","v":{"$error":"#REF!"}},{"$f":"Podatnicy!#REF!","v":{"$error":"#REF!"}}]
[null,628,{"$f":"Podatnicy!#REF!","v":{"$error":"#REF!"}},{"$f":"Podatnicy!#REF!","v":{"$error":"#REF!"}},{"$f":"Podatnicy!#REF!","v":{"$error":"#REF!"}}]
[null,629,{"$f":"Podatnicy!#REF!","v":{"$error":"#REF!"}},{"$f":"Podatnicy!#REF!","v":{"$error":"#REF!"}},{"$f":"Podatnicy!#REF!","v":{"$error":"#REF!"}}]
[null,630,{"$f":"Podatnicy!#REF!","v":{"$error":"#REF!"}},{"$f":"Podatnicy!#REF!","v":{"$error":"#REF!"}},{"$f":"Podatnicy!#REF!","v":{"$error":"#REF!"}}]
[null,631,{"$f":"Podatnicy!#REF!","v":{"$error":"#REF!"}},{"$f":"Podatnicy!#REF!","v":{"$error":"#REF!"}},{"$f":"Podatnicy!#REF!","v":{"$error":"#REF!"}}]
[null,632,{"$f":"Podatnicy!#REF!","v":{"$error":"#REF!"}},{"$f":"Podatnicy!#REF!","v":{"$error":"#REF!"}},{"$f":"Podatnicy!#REF!","v":{"$error":"#REF!"}}]
[null,633,{"$f":"Podatnicy!#REF!","v":{"$error":"#REF!"}},{"$f":"Podatnicy!#REF!","v":{"$error":"#REF!"}},{"$f":"Podatnicy!#REF!","v":{"$error":"#REF!"}}]
[null,634,{"$f":"Podatnicy!#REF!","v":{"$error":"#REF!"}},{"$f":"Podatnicy!#REF!","v":{"$error":"#REF!"}},{"$f":"Podatnicy!#REF!","v":{"$error":"#REF!"}}]
[null,635,{"$f":"Podatnicy!#REF!","v":{"$error":"#REF!"}},{"$f":"Podatnicy!#REF!","v":{"$error":"#REF!"}},{"$f":"Podatnicy!#REF!","v":{"$error":"#REF!"}}]
[null,636,{"$f":"Podatnicy!#REF!","v":{"$error":"#REF!"}},{"$f":"Podatnicy!#REF!","v":{"$error":"#REF!"}},{"$f":"Podatnicy!#REF!","v":{"$error":"#REF!"}}]
[null,637,{"$f":"Podatnicy!#REF!","v":{"$error":"#REF!"}},{"$f":"Podatnicy!#REF!","v":{"$error":"#REF!"}},{"$f":"Podatnicy!#REF!","v":{"$error":"#REF!"}}]
[null,638,{"$f":"Podatnicy!#REF!","v":{"$error":"#REF!"}},{"$f":"Podatnicy!#REF!","v":{"$error":"#REF!"}},{"$f":"Podatnicy!#REF!","v":{"$error":"#REF!"}}]
[null,639,{"$f":"Podatnicy!#REF!","v":{"$error":"#REF!"}},{"$f":"Podatnicy!#REF!","v":{"$error":"#REF!"}},{"$f":"Podatnicy!#REF!","v":{"$error":"#REF!"}}]
[null,640,{"$f":"Podatnicy!#REF!","v":{"$error":"#REF!"}},{"$f":"Podatnicy!#REF!","v":{"$error":"#REF!"}},{"$f":"Podatnicy!#REF!","v":{"$error":"#REF!"}}]
[null,641,{"$f":"Podatnicy!#REF!","v":{"$error":"#REF!"}},{"$f":"Podatnicy!#REF!","v":{"$error":"#REF!"}},{"$f":"Podatnicy!#REF!","v":{"$error":"#REF!"}}]
[null,642,{"$f":"Podatnicy!#REF!","v":{"$error":"#REF!"}},{"$f":"Podatnicy!#REF!","v":{"$error":"#REF!"}},{"$f":"Podatnicy!#REF!","v":{"$error":"#REF!"}}]
[null,643,{"$f":"Podatnicy!#REF!","v":{"$error":"#REF!"}},{"$f":"Podatnicy!#REF!","v":{"$error":"#REF!"}},{"$f":"Podatnicy!#REF!","v":{"$error":"#REF!"}}]
[null,644,{"$f":"Podatnicy!#REF!","v":{"$error":"#REF!"}},{"$f":"Podatnicy!#REF!","v":{"$error":"#REF!"}},{"$f":"Podatnicy!#REF!","v":{"$error":"#REF!"}}]
[null,645,{"$f":"Podatnicy!#REF!","v":{"$error":"#REF!"}},{"$f":"Podatnicy!#REF!","v":{"$error":"#REF!"}},{"$f":"Podatnicy!#REF!","v":{"$error":"#REF!"}}]
[null,646,{"$f":"Podatnicy!#REF!","v":{"$error":"#REF!"}},{"$f":"Podatnicy!#REF!","v":{"$error":"#REF!"}},{"$f":"Podatnicy!#REF!","v":{"$error":"#REF!"}}]
[null,647,{"$f":"Podatnicy!#REF!","v":{"$error":"#REF!"}},{"$f":"Podatnicy!#REF!","v":{"$error":"#REF!"}},{"$f":"Podatnicy!#REF!","v":{"$error":"#REF!"}}]
[null,648,{"$f":"Podatnicy!#REF!","v":{"$error":"#REF!"}},{"$f":"Podatnicy!#REF!","v":{"$error":"#REF!"}},{"$f":"Podatnicy!#REF!","v":{"$error":"#REF!"}}]
[null,649,{"$f":"Podatnicy!#REF!","v":{"$error":"#REF!"}},{"$f":"Podatnicy!#REF!","v":{"$error":"#REF!"}},{"$f":"Podatnicy!#REF!","v":{"$error":"#REF!"}}]
[null,650,{"$f":"Podatnicy!#REF!","v":{"$error":"#REF!"}},{"$f":"Podatnicy!#REF!","v":{"$error":"#REF!"}},{"$f":"Podatnicy!#REF!","v":{"$error":"#REF!"}}]
[null,651,{"$f":"Podatnicy!#REF!","v":{"$error":"#REF!"}},{"$f":"Podatnicy!#REF!","v":{"$error":"#REF!"}},{"$f":"Podatnicy!#REF!","v":{"$error":"#REF!"}}]
[null,652,{"$f":"Podatnicy!#REF!","v":{"$error":"#REF!"}},{"$f":"Podatnicy!#REF!","v":{"$error":"#REF!"}},{"$f":"Podatnicy!#REF!","v":{"$error":"#REF!"}}]
[null,653,{"$f":"Podatnicy!#REF!","v":{"$error":"#REF!"}},{"$f":"Podatnicy!#REF!","v":{"$error":"#REF!"}},{"$f":"Podatnicy!#REF!","v":{"$error":"#REF!"}}]
[null,654,{"$f":"Podatnicy!#REF!","v":{"$error":"#REF!"}},{"$f":"Podatnicy!#REF!","v":{"$error":"#REF!"}},{"$f":"Podatnicy!#REF!","v":{"$error":"#REF!"}}]
[null,655,{"$f":"Podatnicy!#REF!","v":{"$error":"#REF!"}},{"$f":"Podatnicy!#REF!","v":{"$error":"#REF!"}},{"$f":"Podatnicy!#REF!","v":{"$error":"#REF!"}}]
[null,656,{"$f":"Podatnicy!#REF!","v":{"$error":"#REF!"}},{"$f":"Podatnicy!#REF!","v":{"$error":"#REF!"}},{"$f":"Podatnicy!#REF!","v":{"$error":"#REF!"}}]
[null,657,{"$f":"Podatnicy!#REF!","v":{"$error":"#REF!"}},{"$f":"Podatnicy!#REF!","v":{"$error":"#REF!"}},{"$f":"Podatnicy!#REF!","v":{"$error":"#REF!"}}]
[null,658,{"$f":"Podatnicy!#REF!","v":{"$error":"#REF!"}},{"$f":"Podatnicy!#REF!","v":{"$error":"#REF!"}},{"$f":"Podatnicy!#REF!","v":{"$error":"#REF!"}}]
[null,659,{"$f":"Podatnicy!#REF!","v":{"$error":"#REF!"}},{"$f":"Podatnicy!#REF!","v":{"$error":"#REF!"}},{"$f":"Podatnicy!#REF!","v":{"$error":"#REF!"}}]
[null,660,{"$f":"Podatnicy!#REF!","v":{"$error":"#REF!"}},{"$f":"Podatnicy!#REF!","v":{"$error":"#REF!"}},{"$f":"Podatnicy!#REF!","v":{"$error":"#REF!"}}]
[null,661,{"$f":"Podatnicy!#REF!","v":{"$error":"#REF!"}},{"$f":"Podatnicy!#REF!","v":{"$error":"#REF!"}},{"$f":"Podatnicy!#REF!","v":{"$error":"#REF!"}}]
[null,662,{"$f":"Podatnicy!#REF!","v":{"$error":"#REF!"}},{"$f":"Podatnicy!#REF!","v":{"$error":"#REF!"}},{"$f":"Podatnicy!#REF!","v":{"$error":"#REF!"}}]
[null,663,{"$f":"Podatnicy!#REF!","v":{"$error":"#REF!"}},{"$f":"Podatnicy!#REF!","v":{"$error":"#REF!"}},{"$f":"Podatnicy!#REF!","v":{"$error":"#REF!"}}]
[null,664,{"$f":"Podatnicy!#REF!","v":{"$error":"#REF!"}},{"$f":"Podatnicy!#REF!","v":{"$error":"#REF!"}},{"$f":"Podatnicy!#REF!","v":{"$error":"#REF!"}}]
[null,665,{"$f":"Podatnicy!#REF!","v":{"$error":"#REF!"}},{"$f":"Podatnicy!#REF!","v":{"$error":"#REF!"}},{"$f":"Podatnicy!#REF!","v":{"$error":"#REF!"}}]
[null,666,{"$f":"Podatnicy!#REF!","v":{"$error":"#REF!"}},{"$f":"Podatnicy!#REF!","v":{"$error":"#REF!"}},{"$f":"Podatnicy!#REF!","v":{"$error":"#REF!"}}]
[null,667,{"$f":"Podatnicy!#REF!","v":{"$error":"#REF!"}},{"$f":"Podatnicy!#REF!","v":{"$error":"#REF!"}},{"$f":"Podatnicy!#REF!","v":{"$error":"#REF!"}}]
[null,668,{"$f":"Podatnicy!#REF!","v":{"$error":"#REF!"}},{"$f":"Podatnicy!#REF!","v":{"$error":"#REF!"}},{"$f":"Podatnicy!#REF!","v":{"$error":"#REF!"}}]
[null,669,{"$f":"Podatnicy!#REF!","v":{"$error":"#REF!"}},{"$f":"Podatnicy!#REF!","v":{"$error":"#REF!"}},{"$f":"Podatnicy!#REF!","v":{"$error":"#REF!"}}]
[null,670,{"$f":"Podatnicy!#REF!","v":{"$error":"#REF!"}},{"$f":"Podatnicy!#REF!","v":{"$error":"#REF!"}},{"$f":"Podatnicy!#REF!","v":{"$error":"#REF!"}}]
[null,671,{"$f":"Podatnicy!#REF!","v":{"$error":"#REF!"}},{"$f":"Podatnicy!#REF!","v":{"$error":"#REF!"}},{"$f":"Podatnicy!#REF!","v":{"$error":"#REF!"}}]
[null,672,{"$f":"Podatnicy!#REF!","v":{"$error":"#REF!"}},{"$f":"Podatnicy!#REF!","v":{"$error":"#REF!"}},{"$f":"Podatnicy!#REF!","v":{"$error":"#REF!"}}]
[null,673,{"$f":"Podatnicy!#REF!","v":{"$error":"#REF!"}},{"$f":"Podatnicy!#REF!","v":{"$error":"#REF!"}},{"$f":"Podatnicy!#REF!","v":{"$error":"#REF!"}}]
[null,674,{"$f":"Podatnicy!#REF!","v":{"$error":"#REF!"}},{"$f":"Podatnicy!#REF!","v":{"$error":"#REF!"}},{"$f":"Podatnicy!#REF!","v":{"$error":"#REF!"}}]
[null,675,{"$f":"Podatnicy!#REF!","v":{"$error":"#REF!"}},{"$f":"Podatnicy!#REF!","v":{"$error":"#REF!"}},{"$f":"Podatnicy!#REF!","v":{"$error":"#REF!"}}]
[null,676,{"$f":"Podatnicy!#REF!","v":{"$error":"#REF!"}},{"$f":"Podatnicy!#REF!","v":{"$error":"#REF!"}},{"$f":"Podatnicy!#REF!","v":{"$error":"#REF!"}}]
[null,677,{"$f":"Podatnicy!#REF!","v":{"$error":"#REF!"}},{"$f":"Podatnicy!#REF!","v":{"$error":"#REF!"}},{"$f":"Podatnicy!#REF!","v":{"$error":"#REF!"}}]
[null,678,{"$f":"Podatnicy!#REF!","v":{"$error":"#REF!"}},{"$f":"Podatnicy!#REF!","v":{"$error":"#REF!"}},{"$f":"Podatnicy!#REF!","v":{"$error":"#REF!"}}]
[null,679,{"$f":"Podatnicy!#REF!","v":{"$error":"#REF!"}},{"$f":"Podatnicy!#REF!","v":{"$error":"#REF!"}},{"$f":"Podatnicy!#REF!","v":{"$error":"#REF!"}}]
[null,680,{"$f":"Podatnicy!#REF!","v":{"$error":"#REF!"}},{"$f":"Podatnicy!#REF!","v":{"$error":"#REF!"}},{"$f":"Podatnicy!#REF!","v":{"$error":"#REF!"}}]
[null,681,{"$f":"Podatnicy!#REF!","v":{"$error":"#REF!"}},{"$f":"Podatnicy!#REF!","v":{"$error":"#REF!"}},{"$f":"Podatnicy!#REF!","v":{"$error":"#REF!"}}]
[null,682,{"$f":"Podatnicy!#REF!","v":{"$error":"#REF!"}},{"$f":"Podatnicy!#REF!","v":{"$error":"#REF!"}},{"$f":"Podatnicy!#REF!","v":{"$error":"#REF!"}}]
[null,683,{"$f":"Podatnicy!#REF!","v":{"$error":"#REF!"}},{"$f":"Podatnicy!#REF!","v":{"$error":"#REF!"}},{"$f":"Podatnicy!#REF!","v":{"$error":"#REF!"}}]
[null,684,{"$f":"Podatnicy!#REF!","v":{"$error":"#REF!"}},{"$f":"Podatnicy!#REF!","v":{"$error":"#REF!"}},{"$f":"Podatnicy!#REF!","v":{"$error":"#REF!"}}]
[null,685,{"$f":"Podatnicy!#REF!","v":{"$error":"#REF!"}},{"$f":"Podatnicy!#REF!","v":{"$error":"#REF!"}},{"$f":"Podatnicy!#REF!","v":{"$error":"#REF!"}}]
[null,686,{"$f":"Podatnicy!#REF!","v":{"$error":"#REF!"}},{"$f":"Podatnicy!#REF!","v":{"$error":"#REF!"}},{"$f":"Podatnicy!#REF!","v":{"$error":"#REF!"}}]
[null,687,{"$f":"Podatnicy!#REF!","v":{"$error":"#REF!"}},{"$f":"Podatnicy!#REF!","v":{"$error":"#REF!"}},{"$f":"Podatnicy!#REF!","v":{"$error":"#REF!"}}]
[null,688,{"$f":"Podatnicy!#REF!","v":{"$error":"#REF!"}},{"$f":"Podatnicy!#REF!","v":{"$error":"#REF!"}},{"$f":"Podatnicy!#REF!","v":{"$error":"#REF!"}}]
[null,689,{"$f":"Podatnicy!#REF!","v":{"$error":"#REF!"}},{"$f":"Podatnicy!#REF!","v":{"$error":"#REF!"}},{"$f":"Podatnicy!#REF!","v":{"$error":"#REF!"}}]
[null,690,{"$f":"Podatnicy!#REF!","v":{"$error":"#REF!"}},{"$f":"Podatnicy!#REF!","v":{"$error":"#REF!"}},{"$f":"Podatnicy!#REF!","v":{"$error":"#REF!"}}]
[null,691,{"$f":"Podatnicy!#REF!","v":{"$error":"#REF!"}},{"$f":"Podatnicy!#REF!","v":{"$error":"#REF!"}},{"$f":"Podatnicy!#REF!","v":{"$error":"#REF!"}}]
[null,692,{"$f":"Podatnicy!#REF!","v":{"$error":"#REF!"}},{"$f":"Podatnicy!#REF!","v":{"$error":"#REF!"}},{"$f":"Podatnicy!#REF!","v":{"$error":"#REF!"}}]
[null,693,{"$f":"Podatnicy!#REF!","v":{"$error":"#REF!"}},{"$f":"Podatnicy!#REF!","v":{"$error":"#REF!"}},{"$f":"Podatnicy!#REF!","v":{"$error":"#REF!"}}]
[null,694,{"$f":"Podatnicy!#REF!","v":{"$error":"#REF!"}},{"$f":"Podatnicy!#REF!","v":{"$error":"#REF!"}},{"$f":"Podatnicy!#REF!","v":{"$error":"#REF!"}}]
[null,695,{"$f":"Podatnicy!#REF!","v":{"$error":"#REF!"}},{"$f":"Podatnicy!#REF!","v":{"$error":"#REF!"}},{"$f":"Podatnicy!#REF!","v":{"$error":"#REF!"}}]
[null,696,{"$f":"Podatnicy!#REF!","v":{"$error":"#REF!"}},{"$f":"Podatnicy!#REF!","v":{"$error":"#REF!"}},{"$f":"Podatnicy!#REF!","v":{"$error":"#REF!"}}]
[null,697,{"$f":"Podatnicy!#REF!","v":{"$error":"#REF!"}},{"$f":"Podatnicy!#REF!","v":{"$error":"#REF!"}},{"$f":"Podatnicy!#REF!","v":{"$error":"#REF!"}}]
[null,698,{"$f":"Podatnicy!#REF!","v":{"$error":"#REF!"}},{"$f":"Podatnicy!#REF!","v":{"$error":"#REF!"}},{"$f":"Podatnicy!#REF!","v":{"$error":"#REF!"}}]
[null,699,{"$f":"Podatnicy!#REF!","v":{"$error":"#REF!"}},{"$f":"Podatnicy!#REF!","v":{"$error":"#REF!"}},{"$f":"Podatnicy!#REF!","v":{"$error":"#REF!"}}]
[null,700,{"$f":"Podatnicy!#REF!","v":{"$error":"#REF!"}},{"$f":"Podatnicy!#REF!","v":{"$error":"#REF!"}},{"$f":"Podatnicy!#REF!","v":{"$error":"#REF!"}}]
[null,701,{"$f":"Podatnicy!#REF!","v":{"$error":"#REF!"}},{"$f":"Podatnicy!#REF!","v":{"$error":"#REF!"}},{"$f":"Podatnicy!#REF!","v":{"$error":"#REF!"}}]
[null,702,{"$f":"Podatnicy!#REF!","v":{"$error":"#REF!"}},{"$f":"Podatnicy!#REF!","v":{"$error":"#REF!"}},{"$f":"Podatnicy!#REF!","v":{"$error":"#REF!"}}]
[null,703,{"$f":"Podatnicy!#REF!","v":{"$error":"#REF!"}},{"$f":"Podatnicy!#REF!","v":{"$error":"#REF!"}},{"$f":"Podatnicy!#REF!","v":{"$error":"#REF!"}}]
[null,704,{"$f":"Podatnicy!#REF!","v":{"$error":"#REF!"}},{"$f":"Podatnicy!#REF!","v":{"$error":"#REF!"}},{"$f":"Podatnicy!#REF!","v":{"$error":"#REF!"}}]
[null,705,{"$f":"Podatnicy!#REF!","v":{"$error":"#REF!"}},{"$f":"Podatnicy!#REF!","v":{"$error":"#REF!"}},{"$f":"Podatnicy!#REF!","v":{"$error":"#REF!"}}]
[null,706,{"$f":"Podatnicy!#REF!","v":{"$error":"#REF!"}},{"$f":"Podatnicy!#REF!","v":{"$error":"#REF!"}},{"$f":"Podatnicy!#REF!","v":{"$error":"#REF!"}}]
[null,707,{"$f":"Podatnicy!#REF!","v":{"$error":"#REF!"}},{"$f":"Podatnicy!#REF!","v":{"$error":"#REF!"}},{"$f":"Podatnicy!#REF!","v":{"$error":"#REF!"}}]
[null,708,{"$f":"Podatnicy!#REF!","v":{"$error":"#REF!"}},{"$f":"Podatnicy!#REF!","v":{"$error":"#REF!"}},{"$f":"Podatnicy!#REF!","v":{"$error":"#REF!"}}]
[null,709,{"$f":"Podatnicy!#REF!","v":{"$error":"#REF!"}},{"$f":"Podatnicy!#REF!","v":{"$error":"#REF!"}},{"$f":"Podatnicy!#REF!","v":{"$error":"#REF!"}}]
[null,710,{"$f":"Podatnicy!#REF!","v":{"$error":"#REF!"}},{"$f":"Podatnicy!#REF!","v":{"$error":"#REF!"}},{"$f":"Podatnicy!#REF!","v":{"$error":"#REF!"}}]
[null,711,{"$f":"Podatnicy!#REF!","v":{"$error":"#REF!"}},{"$f":"Podatnicy!#REF!","v":{"$error":"#REF!"}},{"$f":"Podatnicy!#REF!","v":{"$error":"#REF!"}}]
[null,712,{"$f":"Podatnicy!#REF!","v":{"$error":"#REF!"}},{"$f":"Podatnicy!#REF!","v":{"$error":"#REF!"}},{"$f":"Podatnicy!#REF!","v":{"$error":"#REF!"}}]
[null,713,{"$f":"Podatnicy!#REF!","v":{"$error":"#REF!"}},{"$f":"Podatnicy!#REF!","v":{"$error":"#REF!"}},{"$f":"Podatnicy!#REF!","v":{"$error":"#REF!"}}]
[null,714,{"$f":"Podatnicy!#REF!","v":{"$error":"#REF!"}},{"$f":"Podatnicy!#REF!","v":{"$error":"#REF!"}},{"$f":"Podatnicy!#REF!","v":{"$error":"#REF!"}}]
[null,715,{"$f":"Podatnicy!#REF!","v":{"$error":"#REF!"}},{"$f":"Podatnicy!#REF!","v":{"$error":"#REF!"}},{"$f":"Podatnicy!#REF!","v":{"$error":"#REF!"}}]
[null,716,{"$f":"Podatnicy!#REF!","v":{"$error":"#REF!"}},{"$f":"Podatnicy!#REF!","v":{"$error":"#REF!"}},{"$f":"Podatnicy!#REF!","v":{"$error":"#REF!"}}]
[null,717,{"$f":"Podatnicy!#REF!","v":{"$error":"#REF!"}},{"$f":"Podatnicy!#REF!","v":{"$error":"#REF!"}},{"$f":"Podatnicy!#REF!","v":{"$error":"#REF!"}}]
[null,718,{"$f":"Podatnicy!#REF!","v":{"$error":"#REF!"}},{"$f":"Podatnicy!#REF!","v":{"$error":"#REF!"}},{"$f":"Podatnicy!#REF!","v":{"$error":"#REF!"}}]
[null,719,{"$f":"Podatnicy!#REF!","v":{"$error":"#REF!"}},{"$f":"Podatnicy!#REF!","v":{"$error":"#REF!"}},{"$f":"Podatnicy!#REF!","v":{"$error":"#REF!"}}]
[null,720,{"$f":"Podatnicy!#REF!","v":{"$error":"#REF!"}},{"$f":"Podatnicy!#REF!","v":{"$error":"#REF!"}},{"$f":"Podatnicy!#REF!","v":{"$error":"#REF!"}}]
[null,721,{"$f":"Podatnicy!#REF!","v":{"$error":"#REF!"}},{"$f":"Podatnicy!#REF!","v":{"$error":"#REF!"}},{"$f":"Podatnicy!#REF!","v":{"$error":"#REF!"}}]
[null,722,{"$f":"Podatnicy!#REF!","v":{"$error":"#REF!"}},{"$f":"Podatnicy!#REF!","v":{"$error":"#REF!"}},{"$f":"Podatnicy!#REF!","v":{"$error":"#REF!"}}]
[null,723,{"$f":"Podatnicy!#REF!","v":{"$error":"#REF!"}},{"$f":"Podatnicy!#REF!","v":{"$error":"#REF!"}},{"$f":"Podatnicy!#REF!","v":{"$error":"#REF!"}}]
[null,724,{"$f":"Podatnicy!#REF!","v":{"$error":"#REF!"}},{"$f":"Podatnicy!#REF!","v":{"$error":"#REF!"}},{"$f":"Podatnicy!#REF!","v":{"$error":"#REF!"}}]
[null,725,{"$f":"Podatnicy!#REF!","v":{"$error":"#REF!"}},{"$f":"Podatnicy!#REF!","v":{"$error":"#REF!"}},{"$f":"Podatnicy!#REF!","v":{"$error":"#REF!"}}]
[null,726,{"$f":"Podatnicy!#REF!","v":{"$error":"#REF!"}},{"$f":"Podatnicy!#REF!","v":{"$error":"#REF!"}},{"$f":"Podatnicy!#REF!","v":{"$error":"#REF!"}}]
[null,727,{"$f":"Podatnicy!#REF!","v":{"$error":"#REF!"}},{"$f":"Podatnicy!#REF!","v":{"$error":"#REF!"}},{"$f":"Podatnicy!#REF!","v":{"$error":"#REF!"}}]
[null,728,{"$f":"Podatnicy!#REF!","v":{"$error":"#REF!"}},{"$f":"Podatnicy!#REF!","v":{"$error":"#REF!"}},{"$f":"Podatnicy!#REF!","v":{"$error":"#REF!"}}]
[null,729,{"$f":"Podatnicy!#REF!","v":{"$error":"#REF!"}},{"$f":"Podatnicy!#REF!","v":{"$error":"#REF!"}},{"$f":"Podatnicy!#REF!","v":{"$error":"#REF!"}}]
[null,730,{"$f":"Podatnicy!#REF!","v":{"$error":"#REF!"}},{"$f":"Podatnicy!#REF!","v":{"$error":"#REF!"}},{"$f":"Podatnicy!#REF!","v":{"$error":"#REF!"}}]
[null,731,{"$f":"Podatnicy!#REF!","v":{"$error":"#REF!"}},{"$f":"Podatnicy!#REF!","v":{"$error":"#REF!"}},{"$f":"Podatnicy!#REF!","v":{"$error":"#REF!"}}]
[null,732,{"$f":"Podatnicy!#REF!","v":{"$error":"#REF!"}},{"$f":"Podatnicy!#REF!","v":{"$error":"#REF!"}},{"$f":"Podatnicy!#REF!","v":{"$error":"#REF!"}}]
[null,733,{"$f":"Podatnicy!#REF!","v":{"$error":"#REF!"}},{"$f":"Podatnicy!#REF!","v":{"$error":"#REF!"}},{"$f":"Podatnicy!#REF!","v":{"$error":"#REF!"}}]
[null,734,{"$f":"Podatnicy!#REF!","v":{"$error":"#REF!"}},{"$f":"Podatnicy!#REF!","v":{"$error":"#REF!"}},{"$f":"Podatnicy!#REF!","v":{"$error":"#REF!"}}]
[null,735,{"$f":"Podatnicy!#REF!","v":{"$error":"#REF!"}},{"$f":"Podatnicy!#REF!","v":{"$error":"#REF!"}},{"$f":"Podatnicy!#REF!","v":{"$error":"#REF!"}}]
[null,736,{"$f":"Podatnicy!#REF!","v":{"$error":"#REF!"}},{"$f":"Podatnicy!#REF!","v":{"$error":"#REF!"}},{"$f":"Podatnicy!#REF!","v":{"$error":"#REF!"}}]
[null,737,{"$f":"Podatnicy!#REF!","v":{"$error":"#REF!"}},{"$f":"Podatnicy!#REF!","v":{"$error":"#REF!"}},{"$f":"Podatnicy!#REF!","v":{"$error":"#REF!"}}]
[null,738,{"$f":"Podatnicy!#REF!","v":{"$error":"#REF!"}},{"$f":"Podatnicy!#REF!","v":{"$error":"#REF!"}},{"$f":"Podatnicy!#REF!","v":{"$error":"#REF!"}}]
[null,739,{"$f":"Podatnicy!#REF!","v":{"$error":"#REF!"}},{"$f":"Podatnicy!#REF!","v":{"$error":"#REF!"}},{"$f":"Podatnicy!#REF!","v":{"$error":"#REF!"}}]
[null,740,{"$f":"Podatnicy!#REF!","v":{"$error":"#REF!"}},{"$f":"Podatnicy!#REF!","v":{"$error":"#REF!"}},{"$f":"Podatnicy!#REF!","v":{"$error":"#REF!"}}]
[null,741,{"$f":"Podatnicy!#REF!","v":{"$error":"#REF!"}},{"$f":"Podatnicy!#REF!","v":{"$error":"#REF!"}},{"$f":"Podatnicy!#REF!","v":{"$error":"#REF!"}}]
[null,742,{"$f":"Podatnicy!#REF!","v":{"$error":"#REF!"}},{"$f":"Podatnicy!#REF!","v":{"$error":"#REF!"}},{"$f":"Podatnicy!#REF!","v":{"$error":"#REF!"}}]
[null,743,{"$f":"Podatnicy!#REF!","v":{"$error":"#REF!"}},{"$f":"Podatnicy!#REF!","v":{"$error":"#REF!"}},{"$f":"Podatnicy!#REF!","v":{"$error":"#REF!"}}]
[null,744,{"$f":"Podatnicy!#REF!","v":{"$error":"#REF!"}},{"$f":"Podatnicy!#REF!","v":{"$error":"#REF!"}},{"$f":"Podatnicy!#REF!","v":{"$error":"#REF!"}}]
[null,745,{"$f":"Podatnicy!#REF!","v":{"$error":"#REF!"}},{"$f":"Podatnicy!#REF!","v":{"$error":"#REF!"}},{"$f":"Podatnicy!#REF!","v":{"$error":"#REF!"}}]
[null,746,{"$f":"Podatnicy!#REF!","v":{"$error":"#REF!"}},{"$f":"Podatnicy!#REF!","v":{"$error":"#REF!"}},{"$f":"Podatnicy!#REF!","v":{"$error":"#REF!"}}]
[null,747,{"$f":"Podatnicy!#REF!","v":{"$error":"#REF!"}},{"$f":"Podatnicy!#REF!","v":{"$error":"#REF!"}},{"$f":"Podatnicy!#REF!","v":{"$error":"#REF!"}}]
[null,748,{"$f":"Podatnicy!#REF!","v":{"$error":"#REF!"}},{"$f":"Podatnicy!#REF!","v":{"$error":"#REF!"}},{"$f":"Podatnicy!#REF!","v":{"$error":"#REF!"}}]
[null,749,{"$f":"Podatnicy!#REF!","v":{"$error":"#REF!"}},{"$f":"Podatnicy!#REF!","v":{"$error":"#REF!"}},{"$f":"Podatnicy!#REF!","v":{"$error":"#REF!"}}]
[null,750,{"$f":"Podatnicy!#REF!","v":{"$error":"#REF!"}},{"$f":"Podatnicy!#REF!","v":{"$error":"#REF!"}},{"$f":"Podatnicy!#REF!","v":{"$error":"#REF!"}}]
[null,751,{"$f":"Podatnicy!#REF!","v":{"$error":"#REF!"}},{"$f":"Podatnicy!#REF!","v":{"$error":"#REF!"}},{"$f":"Podatnicy!#REF!","v":{"$error":"#REF!"}}]
[null,752,{"$f":"Podatnicy!#REF!","v":{"$error":"#REF!"}},{"$f":"Podatnicy!#REF!","v":{"$error":"#REF!"}},{"$f":"Podatnicy!#REF!","v":{"$error":"#REF!"}}]
[null,753,{"$f":"Podatnicy!#REF!","v":{"$error":"#REF!"}},{"$f":"Podatnicy!#REF!","v":{"$error":"#REF!"}},{"$f":"Podatnicy!#REF!","v":{"$error":"#REF!"}}]
[null,754,{"$f":"Podatnicy!#REF!","v":{"$error":"#REF!"}},{"$f":"Podatnicy!#REF!","v":{"$error":"#REF!"}},{"$f":"Podatnicy!#REF!","v":{"$error":"#REF!"}}]
[null,755,{"$f":"Podatnicy!#REF!","v":{"$error":"#REF!"}},{"$f":"Podatnicy!#REF!","v":{"$error":"#REF!"}},{"$f":"Podatnicy!#REF!","v":{"$error":"#REF!"}}]
[null,756,{"$f":"Podatnicy!#REF!","v":{"$error":"#REF!"}},{"$f":"Podatnicy!#REF!","v":{"$error":"#REF!"}},{"$f":"Podatnicy!#REF!","v":{"$error":"#REF!"}}]
[null,757,{"$f":"Podatnicy!#REF!","v":{"$error":"#REF!"}},{"$f":"Podatnicy!#REF!","v":{"$error":"#REF!"}},{"$f":"Podatnicy!#REF!","v":{"$error":"#REF!"}}]
[null,758,{"$f":"Podatnicy!#REF!","v":{"$error":"#REF!"}},{"$f":"Podatnicy!#REF!","v":{"$error":"#REF!"}},{"$f":"Podatnicy!#REF!","v":{"$error":"#REF!"}}]
[null,759,{"$f":"Podatnicy!#REF!","v":{"$error":"#REF!"}},{"$f":"Podatnicy!#REF!","v":{"$error":"#REF!"}},{"$f":"Podatnicy!#REF!","v":{"$error":"#REF!"}}]
[null,760,{"$f":"Podatnicy!#REF!","v":{"$error":"#REF!"}},{"$f":"Podatnicy!#REF!","v":{"$error":"#REF!"}},{"$f":"Podatnicy!#REF!","v":{"$error":"#REF!"}}]
[null,761,{"$f":"Podatnicy!#REF!","v":{"$error":"#REF!"}},{"$f":"Podatnicy!#REF!","v":{"$error":"#REF!"}},{"$f":"Podatnicy!#REF!","v":{"$error":"#REF!"}}]
[null,762,{"$f":"Podatnicy!#REF!","v":{"$error":"#REF!"}},{"$f":"Podatnicy!#REF!","v":{"$error":"#REF!"}},{"$f":"Podatnicy!#REF!","v":{"$error":"#REF!"}}]
[null,763,{"$f":"Podatnicy!#REF!","v":{"$error":"#REF!"}},{"$f":"Podatnicy!#REF!","v":{"$error":"#REF!"}},{"$f":"Podatnicy!#REF!","v":{"$error":"#REF!"}}]
[null,764,{"$f":"Podatnicy!#REF!","v":{"$error":"#REF!"}},{"$f":"Podatnicy!#REF!","v":{"$error":"#REF!"}},{"$f":"Podatnicy!#REF!","v":{"$error":"#REF!"}}]
[null,765,{"$f":"Podatnicy!#REF!","v":{"$error":"#REF!"}},{"$f":"Podatnicy!#REF!","v":{"$error":"#REF!"}},{"$f":"Podatnicy!#REF!","v":{"$error":"#REF!"}}]
[null,766,{"$f":"Podatnicy!#REF!","v":{"$error":"#REF!"}},{"$f":"Podatnicy!#REF!","v":{"$error":"#REF!"}},{"$f":"Podatnicy!#REF!","v":{"$error":"#REF!"}}]
[null,767,{"$f":"Podatnicy!#REF!","v":{"$error":"#REF!"}},{"$f":"Podatnicy!#REF!","v":{"$error":"#REF!"}},{"$f":"Podatnicy!#REF!","v":{"$error":"#REF!"}}]
[null,768,{"$f":"Podatnicy!#REF!","v":{"$error":"#REF!"}},{"$f":"Podatnicy!#REF!","v":{"$error":"#REF!"}},{"$f":"Podatnicy!#REF!","v":{"$error":"#REF!"}}]
[null,769,{"$f":"Podatnicy!#REF!","v":{"$error":"#REF!"}},{"$f":"Podatnicy!#REF!","v":{"$error":"#REF!"}},{"$f":"Podatnicy!#REF!","v":{"$error":"#REF!"}}]
[null,770,{"$f":"Podatnicy!#REF!","v":{"$error":"#REF!"}},{"$f":"Podatnicy!#REF!","v":{"$error":"#REF!"}},{"$f":"Podatnicy!#REF!","v":{"$error":"#REF!"}}]
[null,771,{"$f":"Podatnicy!#REF!","v":{"$error":"#REF!"}},{"$f":"Podatnicy!#REF!","v":{"$error":"#REF!"}},{"$f":"Podatnicy!#REF!","v":{"$error":"#REF!"}}]
[null,772,{"$f":"Podatnicy!#REF!","v":{"$error":"#REF!"}},{"$f":"Podatnicy!#REF!","v":{"$error":"#REF!"}},{"$f":"Podatnicy!#REF!","v":{"$error":"#REF!"}}]
[null,773,{"$f":"Podatnicy!#REF!","v":{"$error":"#REF!"}},{"$f":"Podatnicy!#REF!","v":{"$error":"#REF!"}},{"$f":"Podatnicy!#REF!","v":{"$error":"#REF!"}}]
[null,774,{"$f":"Podatnicy!#REF!","v":{"$error":"#REF!"}},{"$f":"Podatnicy!#REF!","v":{"$error":"#REF!"}},{"$f":"Podatnicy!#REF!","v":{"$error":"#REF!"}}]
[null,775,{"$f":"Podatnicy!#REF!","v":{"$error":"#REF!"}},{"$f":"Podatnicy!#REF!","v":{"$error":"#REF!"}},{"$f":"Podatnicy!#REF!","v":{"$error":"#REF!"}}]
[null,776,{"$f":"Podatnicy!#REF!","v":{"$error":"#REF!"}},{"$f":"Podatnicy!#REF!","v":{"$error":"#REF!"}},{"$f":"Podatnicy!#REF!","v":{"$error":"#REF!"}}]
[null,777,{"$f":"Podatnicy!#REF!","v":{"$error":"#REF!"}},{"$f":"Podatnicy!#REF!","v":{"$error":"#REF!"}},{"$f":"Podatnicy!#REF!","v":{"$error":"#REF!"}}]
[null,778,{"$f":"Podatnicy!#REF!","v":{"$error":"#REF!"}},{"$f":"Podatnicy!#REF!","v":{"$error":"#REF!"}},{"$f":"Podatnicy!#REF!","v":{"$error":"#REF!"}}]
[null,779,{"$f":"Podatnicy!#REF!","v":{"$error":"#REF!"}},{"$f":"Podatnicy!#REF!","v":{"$error":"#REF!"}},{"$f":"Podatnicy!#REF!","v":{"$error":"#REF!"}}]
[null,780,{"$f":"Podatnicy!#REF!","v":{"$error":"#REF!"}},{"$f":"Podatnicy!#REF!","v":{"$error":"#REF!"}},{"$f":"Podatnicy!#REF!","v":{"$error":"#REF!"}}]
[null,781,{"$f":"Podatnicy!#REF!","v":{"$error":"#REF!"}},{"$f":"Podatnicy!#REF!","v":{"$error":"#REF!"}},{"$f":"Podatnicy!#REF!","v":{"$error":"#REF!"}}]
[null,782,{"$f":"Podatnicy!#REF!","v":{"$error":"#REF!"}},{"$f":"Podatnicy!#REF!","v":{"$error":"#REF!"}},{"$f":"Podatnicy!#REF!","v":{"$error":"#REF!"}}]
[null,783,{"$f":"Podatnicy!#REF!","v":{"$error":"#REF!"}},{"$f":"Podatnicy!#REF!","v":{"$error":"#REF!"}},{"$f":"Podatnicy!#REF!","v":{"$error":"#REF!"}}]
[null,784,{"$f":"Podatnicy!#REF!","v":{"$error":"#REF!"}},{"$f":"Podatnicy!#REF!","v":{"$error":"#REF!"}},{"$f":"Podatnicy!#REF!","v":{"$error":"#REF!"}}]
[null,785,{"$f":"Podatnicy!#REF!","v":{"$error":"#REF!"}},{"$f":"Podatnicy!#REF!","v":{"$error":"#REF!"}},{"$f":"Podatnicy!#REF!","v":{"$error":"#REF!"}}]
[null,786,{"$f":"Podatnicy!#REF!","v":{"$error":"#REF!"}},{"$f":"Podatnicy!#REF!","v":{"$error":"#REF!"}},{"$f":"Podatnicy!#REF!","v":{"$error":"#REF!"}}]
[null,787,{"$f":"Podatnicy!#REF!","v":{"$error":"#REF!"}},{"$f":"Podatnicy!#REF!","v":{"$error":"#REF!"}},{"$f":"Podatnicy!#REF!","v":{"$error":"#REF!"}}]
[null,788,{"$f":"Podatnicy!#REF!","v":{"$error":"#REF!"}},{"$f":"Podatnicy!#REF!","v":{"$error":"#REF!"}},{"$f":"Podatnicy!#REF!","v":{"$error":"#REF!"}}]
[null,789,{"$f":"Podatnicy!#REF!","v":{"$error":"#REF!"}},{"$f":"Podatnicy!#REF!","v":{"$error":"#REF!"}},{"$f":"Podatnicy!#REF!","v":{"$error":"#REF!"}}]
[null,790,{"$f":"Podatnicy!#REF!","v":{"$error":"#REF!"}},{"$f":"Podatnicy!#REF!","v":{"$error":"#REF!"}},{"$f":"Podatnicy!#REF!","v":{"$error":"#REF!"}}]
[null,791,{"$f":"Podatnicy!#REF!","v":{"$error":"#REF!"}},{"$f":"Podatnicy!#REF!","v":{"$error":"#REF!"}},{"$f":"Podatnicy!#REF!","v":{"$error":"#REF!"}}]
[null,792,{"$f":"Podatnicy!#REF!","v":{"$error":"#REF!"}},{"$f":"Podatnicy!#REF!","v":{"$error":"#REF!"}},{"$f":"Podatnicy!#REF!","v":{"$error":"#REF!"}}]
[null,793,{"$f":"Podatnicy!#REF!","v":{"$error":"#REF!"}},{"$f":"Podatnicy!#REF!","v":{"$error":"#REF!"}},{"$f":"Podatnicy!#REF!","v":{"$error":"#REF!"}}]
[null,794,{"$f":"Podatnicy!#REF!","v":{"$error":"#REF!"}},{"$f":"Podatnicy!#REF!","v":{"$error":"#REF!"}},{"$f":"Podatnicy!#REF!","v":{"$error":"#REF!"}}]
[null,795,{"$f":"Podatnicy!#REF!","v":{"$error":"#REF!"}},{"$f":"Podatnicy!#REF!","v":{"$error":"#REF!"}},{"$f":"Podatnicy!#REF!","v":{"$error":"#REF!"}}]
[null,796,{"$f":"Podatnicy!#REF!","v":{"$error":"#REF!"}},{"$f":"Podatnicy!#REF!","v":{"$error":"#REF!"}},{"$f":"Podatnicy!#REF!","v":{"$error":"#REF!"}}]
[null,797,{"$f":"Podatnicy!#REF!","v":{"$error":"#REF!"}},{"$f":"Podatnicy!#REF!","v":{"$error":"#REF!"}},{"$f":"Podatnicy!#REF!","v":{"$error":"#REF!"}}]
[null,798,{"$f":"Podatnicy!#REF!","v":{"$error":"#REF!"}},{"$f":"Podatnicy!#REF!","v":{"$error":"#REF!"}},{"$f":"Podatnicy!#REF!","v":{"$error":"#REF!"}}]
[null,799,{"$f":"Podatnicy!#REF!","v":{"$error":"#REF!"}},{"$f":"Podatnicy!#REF!","v":{"$error":"#REF!"}},{"$f":"Podatnicy!#REF!","v":{"$error":"#REF!"}}]
[null,800,{"$f":"Podatnicy!#REF!","v":{"$error":"#REF!"}},{"$f":"Podatnicy!#REF!","v":{"$error":"#REF!"}},{"$f":"Podatnicy!#REF!","v":{"$error":"#REF!"}}]
[null,801,{"$f":"Podatnicy!#REF!","v":{"$error":"#REF!"}},{"$f":"Podatnicy!#REF!","v":{"$error":"#REF!"}},{"$f":"Podatnicy!#REF!","v":{"$error":"#REF!"}}]
[null,802,{"$f":"Podatnicy!#REF!","v":{"$error":"#REF!"}},{"$f":"Podatnicy!#REF!","v":{"$error":"#REF!"}},{"$f":"Podatnicy!#REF!","v":{"$error":"#REF!"}}]
[null,803,{"$f":"Podatnicy!#REF!","v":{"$error":"#REF!"}},{"$f":"Podatnicy!#REF!","v":{"$error":"#REF!"}},{"$f":"Podatnicy!#REF!","v":{"$error":"#REF!"}}]
[null,804,{"$f":"Podatnicy!#REF!","v":{"$error":"#REF!"}},{"$f":"Podatnicy!#REF!","v":{"$error":"#REF!"}},{"$f":"Podatnicy!#REF!","v":{"$error":"#REF!"}}]
[null,805,{"$f":"Podatnicy!#REF!","v":{"$error":"#REF!"}},{"$f":"Podatnicy!#REF!","v":{"$error":"#REF!"}},{"$f":"Podatnicy!#REF!","v":{"$error":"#REF!"}}]
[null,806,{"$f":"Podatnicy!#REF!","v":{"$error":"#REF!"}},{"$f":"Podatnicy!#REF!","v":{"$error":"#REF!"}},{"$f":"Podatnicy!#REF!","v":{"$error":"#REF!"}}]
[null,807,{"$f":"Podatnicy!#REF!","v":{"$error":"#REF!"}},{"$f":"Podatnicy!#REF!","v":{"$error":"#REF!"}},{"$f":"Podatnicy!#REF!","v":{"$error":"#REF!"}}]
[null,808,{"$f":"Podatnicy!#REF!","v":{"$error":"#REF!"}},{"$f":"Podatnicy!#REF!","v":{"$error":"#REF!"}},{"$f":"Podatnicy!#REF!","v":{"$error":"#REF!"}}]
[null,809,{"$f":"Podatnicy!#REF!","v":{"$error":"#REF!"}},{"$f":"Podatnicy!#REF!","v":{"$error":"#REF!"}},{"$f":"Podatnicy!#REF!","v":{"$error":"#REF!"}}]
[null,810,{"$f":"Podatnicy!#REF!","v":{"$error":"#REF!"}},{"$f":"Podatnicy!#REF!","v":{"$error":"#REF!"}},{"$f":"Podatnicy!#REF!","v":{"$error":"#REF!"}}]
[null,811,{"$f":"Podatnicy!#REF!","v":{"$error":"#REF!"}},{"$f":"Podatnicy!#REF!","v":{"$error":"#REF!"}},{"$f":"Podatnicy!#REF!","v":{"$error":"#REF!"}}]
[null,812,{"$f":"Podatnicy!#REF!","v":{"$error":"#REF!"}},{"$f":"Podatnicy!#REF!","v":{"$error":"#REF!"}},{"$f":"Podatnicy!#REF!","v":{"$error":"#REF!"}}]
[null,813,{"$f":"Podatnicy!#REF!","v":{"$error":"#REF!"}},{"$f":"Podatnicy!#REF!","v":{"$error":"#REF!"}},{"$f":"Podatnicy!#REF!","v":{"$error":"#REF!"}}]
[null,814,{"$f":"Podatnicy!#REF!","v":{"$error":"#REF!"}},{"$f":"Podatnicy!#REF!","v":{"$error":"#REF!"}},{"$f":"Podatnicy!#REF!","v":{"$error":"#REF!"}}]
[null,815,{"$f":"Podatnicy!#REF!","v":{"$error":"#REF!"}},{"$f":"Podatnicy!#REF!","v":{"$error":"#REF!"}},{"$f":"Podatnicy!#REF!","v":{"$error":"#REF!"}}]
[null,816,{"$f":"Podatnicy!#REF!","v":{"$error":"#REF!"}},{"$f":"Podatnicy!#REF!","v":{"$error":"#REF!"}},{"$f":"Podatnicy!#REF!","v":{"$error":"#REF!"}}]
[null,817,{"$f":"Podatnicy!#REF!","v":{"$error":"#REF!"}},{"$f":"Podatnicy!#REF!","v":{"$error":"#REF!"}},{"$f":"Podatnicy!#REF!","v":{"$error":"#REF!"}}]
[null,818,{"$f":"Podatnicy!#REF!","v":{"$error":"#REF!"}},{"$f":"Podatnicy!#REF!","v":{"$error":"#REF!"}},{"$f":"Podatnicy!#REF!","v":{"$error":"#REF!"}}]
[null,819,{"$f":"Podatnicy!#REF!","v":{"$error":"#REF!"}},{"$f":"Podatnicy!#REF!","v":{"$error":"#REF!"}},{"$f":"Podatnicy!#REF!","v":{"$error":"#REF!"}}]
[null,820,{"$f":"Podatnicy!#REF!","v":{"$error":"#REF!"}},{"$f":"Podatnicy!#REF!","v":{"$error":"#REF!"}},{"$f":"Podatnicy!#REF!","v":{"$error":"#REF!"}}]
[null,821,{"$f":"Podatnicy!#REF!","v":{"$error":"#REF!"}},{"$f":"Podatnicy!#REF!","v":{"$error":"#REF!"}},{"$f":"Podatnicy!#REF!","v":{"$error":"#REF!"}}]
[null,822,{"$f":"Podatnicy!#REF!","v":{"$error":"#REF!"}},{"$f":"Podatnicy!#REF!","v":{"$error":"#REF!"}},{"$f":"Podatnicy!#REF!","v":{"$error":"#REF!"}}]
[null,823,{"$f":"Podatnicy!#REF!","v":{"$error":"#REF!"}},{"$f":"Podatnicy!#REF!","v":{"$error":"#REF!"}},{"$f":"Podatnicy!#REF!","v":{"$error":"#REF!"}}]
[null,824,{"$f":"Podatnicy!#REF!","v":{"$error":"#REF!"}},{"$f":"Podatnicy!#REF!","v":{"$error":"#REF!"}},{"$f":"Podatnicy!#REF!","v":{"$error":"#REF!"}}]
[null,825,{"$f":"Podatnicy!#REF!","v":{"$error":"#REF!"}},{"$f":"Podatnicy!#REF!","v":{"$error":"#REF!"}},{"$f":"Podatnicy!#REF!","v":{"$error":"#REF!"}}]
[null,826,{"$f":"Podatnicy!#REF!","v":{"$error":"#REF!"}},{"$f":"Podatnicy!#REF!","v":{"$error":"#REF!"}},{"$f":"Podatnicy!#REF!","v":{"$error":"#REF!"}}]
[null,827,{"$f":"Podatnicy!#REF!","v":{"$error":"#REF!"}},{"$f":"Podatnicy!#REF!","v":{"$error":"#REF!"}},{"$f":"Podatnicy!#REF!","v":{"$error":"#REF!"}}]
[null,828,{"$f":"Podatnicy!#REF!","v":{"$error":"#REF!"}},{"$f":"Podatnicy!#REF!","v":{"$error":"#REF!"}},{"$f":"Podatnicy!#REF!","v":{"$error":"#REF!"}}]
[null,829,{"$f":"Podatnicy!#REF!","v":{"$error":"#REF!"}},{"$f":"Podatnicy!#REF!","v":{"$error":"#REF!"}},{"$f":"Podatnicy!#REF!","v":{"$error":"#REF!"}}]
[null,830,{"$f":"Podatnicy!#REF!","v":{"$error":"#REF!"}},{"$f":"Podatnicy!#REF!","v":{"$error":"#REF!"}},{"$f":"Podatnicy!#REF!","v":{"$error":"#REF!"}}]
[null,831,{"$f":"Podatnicy!#REF!","v":{"$error":"#REF!"}},{"$f":"Podatnicy!#REF!","v":{"$error":"#REF!"}},{"$f":"Podatnicy!#REF!","v":{"$error":"#REF!"}}]
[null,832,{"$f":"Podatnicy!#REF!","v":{"$error":"#REF!"}},{"$f":"Podatnicy!#REF!","v":{"$error":"#REF!"}},{"$f":"Podatnicy!#REF!","v":{"$error":"#REF!"}}]
[null,833,{"$f":"Podatnicy!#REF!","v":{"$error":"#REF!"}},{"$f":"Podatnicy!#REF!","v":{"$error":"#REF!"}},{"$f":"Podatnicy!#REF!","v":{"$error":"#REF!"}}]
[null,834,{"$f":"Podatnicy!#REF!","v":{"$error":"#REF!"}},{"$f":"Podatnicy!#REF!","v":{"$error":"#REF!"}},{"$f":"Podatnicy!#REF!","v":{"$error":"#REF!"}}]
[null,835,{"$f":"Podatnicy!#REF!","v":{"$error":"#REF!"}},{"$f":"Podatnicy!#REF!","v":{"$error":"#REF!"}},{"$f":"Podatnicy!#REF!","v":{"$error":"#REF!"}}]
[null,836,{"$f":"Podatnicy!#REF!","v":{"$error":"#REF!"}},{"$f":"Podatnicy!#REF!","v":{"$error":"#REF!"}},{"$f":"Podatnicy!#REF!","v":{"$error":"#REF!"}}]
[null,837,{"$f":"Podatnicy!#REF!","v":{"$error":"#REF!"}},{"$f":"Podatnicy!#REF!","v":{"$error":"#REF!"}},{"$f":"Podatnicy!#REF!","v":{"$error":"#REF!"}}]
[null,838,{"$f":"Podatnicy!#REF!","v":{"$error":"#REF!"}},{"$f":"Podatnicy!#REF!","v":{"$error":"#REF!"}},{"$f":"Podatnicy!#REF!","v":{"$error":"#REF!"}}]
[null,839,{"$f":"Podatnicy!#REF!","v":{"$error":"#REF!"}},{"$f":"Podatnicy!#REF!","v":{"$error":"#REF!"}},{"$f":"Podatnicy!#REF!","v":{"$error":"#REF!"}}]
[null,840,{"$f":"Podatnicy!#REF!","v":{"$error":"#REF!"}},{"$f":"Podatnicy!#REF!","v":{"$error":"#REF!"}},{"$f":"Podatnicy!#REF!","v":{"$error":"#REF!"}}]
[null,841,{"$f":"Podatnicy!#REF!","v":{"$error":"#REF!"}},{"$f":"Podatnicy!#REF!","v":{"$error":"#REF!"}},{"$f":"Podatnicy!#REF!","v":{"$error":"#REF!"}}]
[null,842,{"$f":"Podatnicy!#REF!","v":{"$error":"#REF!"}},{"$f":"Podatnicy!#REF!","v":{"$error":"#REF!"}},{"$f":"Podatnicy!#REF!","v":{"$error":"#REF!"}}]
[null,843,{"$f":"Podatnicy!#REF!","v":{"$error":"#REF!"}},{"$f":"Podatnicy!#REF!","v":{"$error":"#REF!"}},{"$f":"Podatnicy!#REF!","v":{"$error":"#REF!"}}]
[null,844,{"$f":"Podatnicy!#REF!","v":{"$error":"#REF!"}},{"$f":"Podatnicy!#REF!","v":{"$error":"#REF!"}},{"$f":"Podatnicy!#REF!","v":{"$error":"#REF!"}}]
[null,845,{"$f":"Podatnicy!#REF!","v":{"$error":"#REF!"}},{"$f":"Podatnicy!#REF!","v":{"$error":"#REF!"}},{"$f":"Podatnicy!#REF!","v":{"$error":"#REF!"}}]
[null,846,{"$f":"Podatnicy!#REF!","v":{"$error":"#REF!"}},{"$f":"Podatnicy!#REF!","v":{"$error":"#REF!"}},{"$f":"Podatnicy!#REF!","v":{"$error":"#REF!"}}]
[null,847,{"$f":"Podatnicy!#REF!","v":{"$error":"#REF!"}},{"$f":"Podatnicy!#REF!","v":{"$error":"#REF!"}},{"$f":"Podatnicy!#REF!","v":{"$error":"#REF!"}}]
[null,848,{"$f":"Podatnicy!#REF!","v":{"$error":"#REF!"}},{"$f":"Podatnicy!#REF!","v":{"$error":"#REF!"}},{"$f":"Podatnicy!#REF!","v":{"$error":"#REF!"}}]
[null,849,{"$f":"Podatnicy!#REF!","v":{"$error":"#REF!"}},{"$f":"Podatnicy!#REF!","v":{"$error":"#REF!"}},{"$f":"Podatnicy!#REF!","v":{"$error":"#REF!"}}]
[null,850,{"$f":"Podatnicy!#REF!","v":{"$error":"#REF!"}},{"$f":"Podatnicy!#REF!","v":{"$error":"#REF!"}},{"$f":"Podatnicy!#REF!","v":{"$error":"#REF!"}}]
[null,851,{"$f":"Podatnicy!#REF!","v":{"$error":"#REF!"}},{"$f":"Podatnicy!#REF!","v":{"$error":"#REF!"}},{"$f":"Podatnicy!#REF!","v":{"$error":"#REF!"}}]
[null,852,{"$f":"Podatnicy!#REF!","v":{"$error":"#REF!"}},{"$f":"Podatnicy!#REF!","v":{"$error":"#REF!"}},{"$f":"Podatnicy!#REF!","v":{"$error":"#REF!"}}]
[null,853,{"$f":"Podatnicy!#REF!","v":{"$error":"#REF!"}},{"$f":"Podatnicy!#REF!","v":{"$error":"#REF!"}},{"$f":"Podatnicy!#REF!","v":{"$error":"#REF!"}}]
[null,854,{"$f":"Podatnicy!#REF!","v":{"$error":"#REF!"}},{"$f":"Podatnicy!#REF!","v":{"$error":"#REF!"}},{"$f":"Podatnicy!#REF!","v":{"$error":"#REF!"}}]
[null,855,{"$f":"Podatnicy!#REF!","v":{"$error":"#REF!"}},{"$f":"Podatnicy!#REF!","v":{"$error":"#REF!"}},{"$f":"Podatnicy!#REF!","v":{"$error":"#REF!"}}]
[null,856,{"$f":"Podatnicy!#REF!","v":{"$error":"#REF!"}},{"$f":"Podatnicy!#REF!","v":{"$error":"#REF!"}},{"$f":"Podatnicy!#REF!","v":{"$error":"#REF!"}}]
[null,857,{"$f":"Podatnicy!#REF!","v":{"$error":"#REF!"}},{"$f":"Podatnicy!#REF!","v":{"$error":"#REF!"}},{"$f":"Podatnicy!#REF!","v":{"$error":"#REF!"}}]
[null,858,{"$f":"Podatnicy!#REF!","v":{"$error":"#REF!"}},{"$f":"Podatnicy!#REF!","v":{"$error":"#REF!"}},{"$f":"Podatnicy!#REF!","v":{"$error":"#REF!"}}]
[null,859,{"$f":"Podatnicy!#REF!","v":{"$error":"#REF!"}},{"$f":"Podatnicy!#REF!","v":{"$error":"#REF!"}},{"$f":"Podatnicy!#REF!","v":{"$error":"#REF!"}}]
[null,860,{"$f":"Podatnicy!#REF!","v":{"$error":"#REF!"}},{"$f":"Podatnicy!#REF!","v":{"$error":"#REF!"}},{"$f":"Podatnicy!#REF!","v":{"$error":"#REF!"}}]
[null,861,{"$f":"Podatnicy!#REF!","v":{"$error":"#REF!"}},{"$f":"Podatnicy!#REF!","v":{"$error":"#REF!"}},{"$f":"Podatnicy!#REF!","v":{"$error":"#REF!"}}]
[null,862,{"$f":"Podatnicy!#REF!","v":{"$error":"#REF!"}},{"$f":"Podatnicy!#REF!","v":{"$error":"#REF!"}},{"$f":"Podatnicy!#REF!","v":{"$error":"#REF!"}}]
[null,863,{"$f":"Podatnicy!#REF!","v":{"$error":"#REF!"}},{"$f":"Podatnicy!#REF!","v":{"$error":"#REF!"}},{"$f":"Podatnicy!#REF!","v":{"$error":"#REF!"}}]
[null,864,{"$f":"Podatnicy!#REF!","v":{"$error":"#REF!"}},{"$f":"Podatnicy!#REF!","v":{"$error":"#REF!"}},{"$f":"Podatnicy!#REF!","v":{"$error":"#REF!"}}]
[null,865,{"$f":"Podatnicy!#REF!","v":{"$error":"#REF!"}},{"$f":"Podatnicy!#REF!","v":{"$error":"#REF!"}},{"$f":"Podatnicy!#REF!","v":{"$error":"#REF!"}}]
[null,866,{"$f":"Podatnicy!#REF!","v":{"$error":"#REF!"}},{"$f":"Podatnicy!#REF!","v":{"$error":"#REF!"}},{"$f":"Podatnicy!#REF!","v":{"$error":"#REF!"}}]
[null,867,{"$f":"Podatnicy!#REF!","v":{"$error":"#REF!"}},{"$f":"Podatnicy!#REF!","v":{"$error":"#REF!"}},{"$f":"Podatnicy!#REF!","v":{"$error":"#REF!"}}]
[null,868,{"$f":"Podatnicy!#REF!","v":{"$error":"#REF!"}},{"$f":"Podatnicy!#REF!","v":{"$error":"#REF!"}},{"$f":"Podatnicy!#REF!","v":{"$error":"#REF!"}}]
[null,869,{"$f":"Podatnicy!#REF!","v":{"$error":"#REF!"}},{"$f":"Podatnicy!#REF!","v":{"$error":"#REF!"}},{"$f":"Podatnicy!#REF!","v":{"$error":"#REF!"}}]
[null,870,{"$f":"Podatnicy!#REF!","v":{"$error":"#REF!"}},{"$f":"Podatnicy!#REF!","v":{"$error":"#REF!"}},{"$f":"Podatnicy!#REF!","v":{"$error":"#REF!"}}]
[null,871,{"$f":"Podatnicy!#REF!","v":{"$error":"#REF!"}},{"$f":"Podatnicy!#REF!","v":{"$error":"#REF!"}},{"$f":"Podatnicy!#REF!","v":{"$error":"#REF!"}}]
[null,872,{"$f":"Podatnicy!#REF!","v":{"$error":"#REF!"}},{"$f":"Podatnicy!#REF!","v":{"$error":"#REF!"}},{"$f":"Podatnicy!#REF!","v":{"$error":"#REF!"}}]
[null,873,{"$f":"Podatnicy!#REF!","v":{"$error":"#REF!"}},{"$f":"Podatnicy!#REF!","v":{"$error":"#REF!"}},{"$f":"Podatnicy!#REF!","v":{"$error":"#REF!"}}]
[null,874,{"$f":"Podatnicy!#REF!","v":{"$error":"#REF!"}},{"$f":"Podatnicy!#REF!","v":{"$error":"#REF!"}},{"$f":"Podatnicy!#REF!","v":{"$error":"#REF!"}}]
[null,875,{"$f":"Podatnicy!#REF!","v":{"$error":"#REF!"}},{"$f":"Podatnicy!#REF!","v":{"$error":"#REF!"}},{"$f":"Podatnicy!#REF!","v":{"$error":"#REF!"}}]
[null,876,{"$f":"Podatnicy!#REF!","v":{"$error":"#REF!"}},{"$f":"Podatnicy!#REF!","v":{"$error":"#REF!"}},{"$f":"Podatnicy!#REF!","v":{"$error":"#REF!"}}]
[null,877,{"$f":"Podatnicy!#REF!","v":{"$error":"#REF!"}},{"$f":"Podatnicy!#REF!","v":{"$error":"#REF!"}},{"$f":"Podatnicy!#REF!","v":{"$error":"#REF!"}}]
[null,878,{"$f":"Podatnicy!#REF!","v":{"$error":"#REF!"}},{"$f":"Podatnicy!#REF!","v":{"$error":"#REF!"}},{"$f":"Podatnicy!#REF!","v":{"$error":"#REF!"}}]
[null,879,{"$f":"Podatnicy!#REF!","v":{"$error":"#REF!"}},{"$f":"Podatnicy!#REF!","v":{"$error":"#REF!"}},{"$f":"Podatnicy!#REF!","v":{"$error":"#REF!"}}]
[null,880,{"$f":"Podatnicy!#REF!","v":{"$error":"#REF!"}},{"$f":"Podatnicy!#REF!","v":{"$error":"#REF!"}},{"$f":"Podatnicy!#REF!","v":{"$error":"#REF!"}}]
[null,881,{"$f":"Podatnicy!#REF!","v":{"$error":"#REF!"}},{"$f":"Podatnicy!#REF!","v":{"$error":"#REF!"}},{"$f":"Podatnicy!#REF!","v":{"$error":"#REF!"}}]
[null,882,{"$f":"Podatnicy!#REF!","v":{"$error":"#REF!"}},{"$f":"Podatnicy!#REF!","v":{"$error":"#REF!"}},{"$f":"Podatnicy!#REF!","v":{"$error":"#REF!"}}]
[null,883,{"$f":"Podatnicy!#REF!","v":{"$error":"#REF!"}},{"$f":"Podatnicy!#REF!","v":{"$error":"#REF!"}},{"$f":"Podatnicy!#REF!","v":{"$error":"#REF!"}}]
[null,884,{"$f":"Podatnicy!#REF!","v":{"$error":"#REF!"}},{"$f":"Podatnicy!#REF!","v":{"$error":"#REF!"}},{"$f":"Podatnicy!#REF!","v":{"$error":"#REF!"}}]
[null,885,{"$f":"Podatnicy!#REF!","v":{"$error":"#REF!"}},{"$f":"Podatnicy!#REF!","v":{"$error":"#REF!"}},{"$f":"Podatnicy!#REF!","v":{"$error":"#REF!"}}]
[null,886,{"$f":"Podatnicy!#REF!","v":{"$error":"#REF!"}},{"$f":"Podatnicy!#REF!","v":{"$error":"#REF!"}},{"$f":"Podatnicy!#REF!","v":{"$error":"#REF!"}}]
[null,887,{"$f":"Podatnicy!#REF!","v":{"$error":"#REF!"}},{"$f":"Podatnicy!#REF!","v":{"$error":"#REF!"}},{"$f":"Podatnicy!#REF!","v":{"$error":"#REF!"}}]
[null,888,{"$f":"Podatnicy!#REF!","v":{"$error":"#REF!"}},{"$f":"Podatnicy!#REF!","v":{"$error":"#REF!"}},{"$f":"Podatnicy!#REF!","v":{"$error":"#REF!"}}]
[null,889,{"$f":"Podatnicy!#REF!","v":{"$error":"#REF!"}},{"$f":"Podatnicy!#REF!","v":{"$error":"#REF!"}},{"$f":"Podatnicy!#REF!","v":{"$error":"#REF!"}}]
[null,890,{"$f":"Podatnicy!#REF!","v":{"$error":"#REF!"}},{"$f":"Podatnicy!#REF!","v":{"$error":"#REF!"}},{"$f":"Podatnicy!#REF!","v":{"$error":"#REF!"}}]
[null,891,{"$f":"Podatnicy!#REF!","v":{"$error":"#REF!"}},{"$f":"Podatnicy!#REF!","v":{"$error":"#REF!"}},{"$f":"Podatnicy!#REF!","v":{"$error":"#REF!"}}]
[null,892,{"$f":"Podatnicy!#REF!","v":{"$error":"#REF!"}},{"$f":"Podatnicy!#REF!","v":{"$error":"#REF!"}},{"$f":"Podatnicy!#REF!","v":{"$error":"#REF!"}}]
[null,893,{"$f":"Podatnicy!#REF!","v":{"$error":"#REF!"}},{"$f":"Podatnicy!#REF!","v":{"$error":"#REF!"}},{"$f":"Podatnicy!#REF!","v":{"$error":"#REF!"}}]
[null,894,{"$f":"Podatnicy!#REF!","v":{"$error":"#REF!"}},{"$f":"Podatnicy!#REF!","v":{"$error":"#REF!"}},{"$f":"Podatnicy!#REF!","v":{"$error":"#REF!"}}]
[null,895,{"$f":"Podatnicy!#REF!","v":{"$error":"#REF!"}},{"$f":"Podatnicy!#REF!","v":{"$error":"#REF!"}},{"$f":"Podatnicy!#REF!","v":{"$error":"#REF!"}}]
[null,896,{"$f":"Podatnicy!#REF!","v":{"$error":"#REF!"}},{"$f":"Podatnicy!#REF!","v":{"$error":"#REF!"}},{"$f":"Podatnicy!#REF!","v":{"$error":"#REF!"}}]
[null,897,{"$f":"Podatnicy!#REF!","v":{"$error":"#REF!"}},{"$f":"Podatnicy!#REF!","v":{"$error":"#REF!"}},{"$f":"Podatnicy!#REF!","v":{"$error":"#REF!"}}]
[null,898,{"$f":"Podatnicy!#REF!","v":{"$error":"#REF!"}},{"$f":"Podatnicy!#REF!","v":{"$error":"#REF!"}},{"$f":"Podatnicy!#REF!","v":{"$error":"#REF!"}}]
[null,899,{"$f":"Podatnicy!#REF!","v":{"$error":"#REF!"}},{"$f":"Podatnicy!#REF!","v":{"$error":"#REF!"}},{"$f":"Podatnicy!#REF!","v":{"$error":"#REF!"}}]
[null,900,{"$f":"Podatnicy!#REF!","v":{"$error":"#REF!"}},{"$f":"Podatnicy!#REF!","v":{"$error":"#REF!"}},{"$f":"Podatnicy!#REF!","v":{"$error":"#REF!"}}]
[null,901,{"$f":"Podatnicy!#REF!","v":{"$error":"#REF!"}},{"$f":"Podatnicy!#REF!","v":{"$error":"#REF!"}},{"$f":"Podatnicy!#REF!","v":{"$error":"#REF!"}}]
[null,902,{"$f":"Podatnicy!#REF!","v":{"$error":"#REF!"}},{"$f":"Podatnicy!#REF!","v":{"$error":"#REF!"}},{"$f":"Podatnicy!#REF!","v":{"$error":"#REF!"}}]
[null,903,{"$f":"Podatnicy!#REF!","v":{"$error":"#REF!"}},{"$f":"Podatnicy!#REF!","v":{"$error":"#REF!"}},{"$f":"Podatnicy!#REF!","v":{"$error":"#REF!"}}]
[null,904,{"$f":"Podatnicy!#REF!","v":{"$error":"#REF!"}},{"$f":"Podatnicy!#REF!","v":{"$error":"#REF!"}},{"$f":"Podatnicy!#REF!","v":{"$error":"#REF!"}}]
[null,905,{"$f":"Podatnicy!#REF!","v":{"$error":"#REF!"}},{"$f":"Podatnicy!#REF!","v":{"$error":"#REF!"}},{"$f":"Podatnicy!#REF!","v":{"$error":"#REF!"}}]
[null,906,{"$f":"Podatnicy!#REF!","v":{"$error":"#REF!"}},{"$f":"Podatnicy!#REF!","v":{"$error":"#REF!"}},{"$f":"Podatnicy!#REF!","v":{"$error":"#REF!"}}]
[null,907,{"$f":"Podatnicy!#REF!","v":{"$error":"#REF!"}},{"$f":"Podatnicy!#REF!","v":{"$error":"#REF!"}},{"$f":"Podatnicy!#REF!","v":{"$error":"#REF!"}}]
[null,908,{"$f":"Podatnicy!#REF!","v":{"$error":"#REF!"}},{"$f":"Podatnicy!#REF!","v":{"$error":"#REF!"}},{"$f":"Podatnicy!#REF!","v":{"$error":"#REF!"}}]
[null,909,{"$f":"Podatnicy!#REF!","v":{"$error":"#REF!"}},{"$f":"Podatnicy!#REF!","v":{"$error":"#REF!"}},{"$f":"Podatnicy!#REF!","v":{"$error":"#REF!"}}]
[null,910,{"$f":"Podatnicy!#REF!","v":{"$error":"#REF!"}},{"$f":"Podatnicy!#REF!","v":{"$error":"#REF!"}},{"$f":"Podatnicy!#REF!","v":{"$error":"#REF!"}}]
[null,911,{"$f":"Podatnicy!#REF!","v":{"$error":"#REF!"}},{"$f":"Podatnicy!#REF!","v":{"$error":"#REF!"}},{"$f":"Podatnicy!#REF!","v":{"$error":"#REF!"}}]
[null,912,{"$f":"Podatnicy!#REF!","v":{"$error":"#REF!"}},{"$f":"Podatnicy!#REF!","v":{"$error":"#REF!"}},{"$f":"Podatnicy!#REF!","v":{"$error":"#REF!"}}]
[null,913,{"$f":"Podatnicy!#REF!","v":{"$error":"#REF!"}},{"$f":"Podatnicy!#REF!","v":{"$error":"#REF!"}},{"$f":"Podatnicy!#REF!","v":{"$error":"#REF!"}}]
[null,914,{"$f":"Podatnicy!#REF!","v":{"$error":"#REF!"}},{"$f":"Podatnicy!#REF!","v":{"$error":"#REF!"}},{"$f":"Podatnicy!#REF!","v":{"$error":"#REF!"}}]
[null,915,{"$f":"Podatnicy!#REF!","v":{"$error":"#REF!"}},{"$f":"Podatnicy!#REF!","v":{"$error":"#REF!"}},{"$f":"Podatnicy!#REF!","v":{"$error":"#REF!"}}]
[null,916,{"$f":"Podatnicy!#REF!","v":{"$error":"#REF!"}},{"$f":"Podatnicy!#REF!","v":{"$error":"#REF!"}},{"$f":"Podatnicy!#REF!","v":{"$error":"#REF!"}}]
[null,917,{"$f":"Podatnicy!#REF!","v":{"$error":"#REF!"}},{"$f":"Podatnicy!#REF!","v":{"$error":"#REF!"}},{"$f":"Podatnicy!#REF!","v":{"$error":"#REF!"}}]
[null,918,{"$f":"Podatnicy!#REF!","v":{"$error":"#REF!"}},{"$f":"Podatnicy!#REF!","v":{"$error":"#REF!"}},{"$f":"Podatnicy!#REF!","v":{"$error":"#REF!"}}]
[null,919,{"$f":"Podatnicy!#REF!","v":{"$error":"#REF!"}},{"$f":"Podatnicy!#REF!","v":{"$error":"#REF!"}},{"$f":"Podatnicy!#REF!","v":{"$error":"#REF!"}}]
[null,920,{"$f":"Podatnicy!#REF!","v":{"$error":"#REF!"}},{"$f":"Podatnicy!#REF!","v":{"$error":"#REF!"}},{"$f":"Podatnicy!#REF!","v":{"$error":"#REF!"}}]
[null,921,{"$f":"Podatnicy!#REF!","v":{"$error":"#REF!"}},{"$f":"Podatnicy!#REF!","v":{"$error":"#REF!"}},{"$f":"Podatnicy!#REF!","v":{"$error":"#REF!"}}]
[null,922,{"$f":"Podatnicy!#REF!","v":{"$error":"#REF!"}},{"$f":"Podatnicy!#REF!","v":{"$error":"#REF!"}},{"$f":"Podatnicy!#REF!","v":{"$error":"#REF!"}}]
[null,923,{"$f":"Podatnicy!#REF!","v":{"$error":"#REF!"}},{"$f":"Podatnicy!#REF!","v":{"$error":"#REF!"}},{"$f":"Podatnicy!#REF!","v":{"$error":"#REF!"}}]
[null,924,{"$f":"Podatnicy!#REF!","v":{"$error":"#REF!"}},{"$f":"Podatnicy!#REF!","v":{"$error":"#REF!"}},{"$f":"Podatnicy!#REF!","v":{"$error":"#REF!"}}]
[null,925,{"$f":"Podatnicy!#REF!","v":{"$error":"#REF!"}},{"$f":"Podatnicy!#REF!","v":{"$error":"#REF!"}},{"$f":"Podatnicy!#REF!","v":{"$error":"#REF!"}}]
[null,926,{"$f":"Podatnicy!#REF!","v":{"$error":"#REF!"}},{"$f":"Podatnicy!#REF!","v":{"$error":"#REF!"}},{"$f":"Podatnicy!#REF!","v":{"$error":"#REF!"}}]
[null,927,{"$f":"Podatnicy!#REF!","v":{"$error":"#REF!"}},{"$f":"Podatnicy!#REF!","v":{"$error":"#REF!"}},{"$f":"Podatnicy!#REF!","v":{"$error":"#REF!"}}]
[null,928,{"$f":"Podatnicy!#REF!","v":{"$error":"#REF!"}},{"$f":"Podatnicy!#REF!","v":{"$error":"#REF!"}},{"$f":"Podatnicy!#REF!","v":{"$error":"#REF!"}}]
[null,929,{"$f":"Podatnicy!#REF!","v":{"$error":"#REF!"}},{"$f":"Podatnicy!#REF!","v":{"$error":"#REF!"}},{"$f":"Podatnicy!#REF!","v":{"$error":"#REF!"}}]
[null,930,{"$f":"Podatnicy!#REF!","v":{"$error":"#REF!"}},{"$f":"Podatnicy!#REF!","v":{"$error":"#REF!"}},{"$f":"Podatnicy!#REF!","v":{"$error":"#REF!"}}]
[null,931,{"$f":"Podatnicy!#REF!","v":{"$error":"#REF!"}},{"$f":"Podatnicy!#REF!","v":{"$error":"#REF!"}},{"$f":"Podatnicy!#REF!","v":{"$error":"#REF!"}}]
[null,932,{"$f":"Podatnicy!#REF!","v":{"$error":"#REF!"}},{"$f":"Podatnicy!#REF!","v":{"$error":"#REF!"}},{"$f":"Podatnicy!#REF!","v":{"$error":"#REF!"}}]
[null,933,{"$f":"Podatnicy!#REF!","v":{"$error":"#REF!"}},{"$f":"Podatnicy!#REF!","v":{"$error":"#REF!"}},{"$f":"Podatnicy!#REF!","v":{"$error":"#REF!"}}]
[null,934,{"$f":"Podatnicy!#REF!","v":{"$error":"#REF!"}},{"$f":"Podatnicy!#REF!","v":{"$error":"#REF!"}},{"$f":"Podatnicy!#REF!","v":{"$error":"#REF!"}}]
[null,935,{"$f":"Podatnicy!#REF!","v":{"$error":"#REF!"}},{"$f":"Podatnicy!#REF!","v":{"$error":"#REF!"}},{"$f":"Podatnicy!#REF!","v":{"$error":"#REF!"}}]
[null,936,{"$f":"Podatnicy!#REF!","v":{"$error":"#REF!"}},{"$f":"Podatnicy!#REF!","v":{"$error":"#REF!"}},{"$f":"Podatnicy!#REF!","v":{"$error":"#REF!"}}]
[null,937,{"$f":"Podatnicy!#REF!","v":{"$error":"#REF!"}},{"$f":"Podatnicy!#REF!","v":{"$error":"#REF!"}},{"$f":"Podatnicy!#REF!","v":{"$error":"#REF!"}}]
[null,938,{"$f":"Podatnicy!#REF!","v":{"$error":"#REF!"}},{"$f":"Podatnicy!#REF!","v":{"$error":"#REF!"}},{"$f":"Podatnicy!#REF!","v":{"$error":"#REF!"}}]
[null,939,{"$f":"Podatnicy!#REF!","v":{"$error":"#REF!"}},{"$f":"Podatnicy!#REF!","v":{"$error":"#REF!"}},{"$f":"Podatnicy!#REF!","v":{"$error":"#REF!"}}]
[null,940,{"$f":"Podatnicy!#REF!","v":{"$error":"#REF!"}},{"$f":"Podatnicy!#REF!","v":{"$error":"#REF!"}},{"$f":"Podatnicy!#REF!","v":{"$error":"#REF!"}}]
[null,941,{"$f":"Podatnicy!#REF!","v":{"$error":"#REF!"}},{"$f":"Podatnicy!#REF!","v":{"$error":"#REF!"}},{"$f":"Podatnicy!#REF!","v":{"$error":"#REF!"}}]
[null,942,{"$f":"Podatnicy!#REF!","v":{"$error":"#REF!"}},{"$f":"Podatnicy!#REF!","v":{"$error":"#REF!"}},{"$f":"Podatnicy!#REF!","v":{"$error":"#REF!"}}]
[null,943,{"$f":"Podatnicy!#REF!","v":{"$error":"#REF!"}},{"$f":"Podatnicy!#REF!","v":{"$error":"#REF!"}},{"$f":"Podatnicy!#REF!","v":{"$error":"#REF!"}}]
[null,944,{"$f":"Podatnicy!#REF!","v":{"$error":"#REF!"}},{"$f":"Podatnicy!#REF!","v":{"$error":"#REF!"}},{"$f":"Podatnicy!#REF!","v":{"$error":"#REF!"}}]
[null,945,{"$f":"Podatnicy!#REF!","v":{"$error":"#REF!"}},{"$f":"Podatnicy!#REF!","v":{"$error":"#REF!"}},{"$f":"Podatnicy!#REF!","v":{"$error":"#REF!"}}]
[null,946,{"$f":"Podatnicy!#REF!","v":{"$error":"#REF!"}},{"$f":"Podatnicy!#REF!","v":{"$error":"#REF!"}},{"$f":"Podatnicy!#REF!","v":{"$error":"#REF!"}}]
[null,947,{"$f":"Podatnicy!#REF!","v":{"$error":"#REF!"}},{"$f":"Podatnicy!#REF!","v":{"$error":"#REF!"}},{"$f":"Podatnicy!#REF!","v":{"$error":"#REF!"}}]
[null,948,{"$f":"Podatnicy!#REF!","v":{"$error":"#REF!"}},{"$f":"Podatnicy!#REF!","v":{"$error":"#REF!"}},{"$f":"Podatnicy!#REF!","v":{"$error":"#REF!"}}]
[null,949,{"$f":"Podatnicy!#REF!","v":{"$error":"#REF!"}},{"$f":"Podatnicy!#REF!","v":{"$error":"#REF!"}},{"$f":"Podatnicy!#REF!","v":{"$error":"#REF!"}}]
[null,950,{"$f":"Podatnicy!#REF!","v":{"$error":"#REF!"}},{"$f":"Podatnicy!#REF!","v":{"$error":"#REF!"}},{"$f":"Podatnicy!#REF!","v":{"$error":"#REF!"}}]
[null,951,{"$f":"Podatnicy!#REF!","v":{"$error":"#REF!"}},{"$f":"Podatnicy!#REF!","v":{"$error":"#REF!"}},{"$f":"Podatnicy!#REF!","v":{"$error":"#REF!"}}]
[null,952,{"$f":"Podatnicy!#REF!","v":{"$error":"#REF!"}},{"$f":"Podatnicy!#REF!","v":{"$error":"#REF!"}},{"$f":"Podatnicy!#REF!","v":{"$error":"#REF!"}}]
[null,953,{"$f":"Podatnicy!#REF!","v":{"$error":"#REF!"}},{"$f":"Podatnicy!#REF!","v":{"$error":"#REF!"}},{"$f":"Podatnicy!#REF!","v":{"$error":"#REF!"}}]
[null,954,{"$f":"Podatnicy!#REF!","v":{"$error":"#REF!"}},{"$f":"Podatnicy!#REF!","v":{"$error":"#REF!"}},{"$f":"Podatnicy!#REF!","v":{"$error":"#REF!"}}]
[null,955,{"$f":"Podatnicy!#REF!","v":{"$error":"#REF!"}},{"$f":"Podatnicy!#REF!","v":{"$error":"#REF!"}},{"$f":"Podatnicy!#REF!","v":{"$error":"#REF!"}}]
[null,956,{"$f":"Podatnicy!#REF!","v":{"$error":"#REF!"}},{"$f":"Podatnicy!#REF!","v":{"$error":"#REF!"}},{"$f":"Podatnicy!#REF!","v":{"$error":"#REF!"}}]
[null,957,{"$f":"Podatnicy!#REF!","v":{"$error":"#REF!"}},{"$f":"Podatnicy!#REF!","v":{"$error":"#REF!"}},{"$f":"Podatnicy!#REF!","v":{"$error":"#REF!"}}]
[null,958,{"$f":"Podatnicy!#REF!","v":{"$error":"#REF!"}},{"$f":"Podatnicy!#REF!","v":{"$error":"#REF!"}},{"$f":"Podatnicy!#REF!","v":{"$error":"#REF!"}}]
[null,959,{"$f":"Podatnicy!#REF!","v":{"$error":"#REF!"}},{"$f":"Podatnicy!#REF!","v":{"$error":"#REF!"}},{"$f":"Podatnicy!#REF!","v":{"$error":"#REF!"}}]
[null,960,{"$f":"Podatnicy!#REF!","v":{"$error":"#REF!"}},{"$f":"Podatnicy!#REF!","v":{"$error":"#REF!"}},{"$f":"Podatnicy!#REF!","v":{"$error":"#REF!"}}]
[null,961,{"$f":"Podatnicy!#REF!","v":{"$error":"#REF!"}},{"$f":"Podatnicy!#REF!","v":{"$error":"#REF!"}},{"$f":"Podatnicy!#REF!","v":{"$error":"#REF!"}}]
[null,962,{"$f":"Podatnicy!#REF!","v":{"$error":"#REF!"}},{"$f":"Podatnicy!#REF!","v":{"$error":"#REF!"}},{"$f":"Podatnicy!#REF!","v":{"$error":"#REF!"}}]
[null,963,{"$f":"Podatnicy!#REF!","v":{"$error":"#REF!"}},{"$f":"Podatnicy!#REF!","v":{"$error":"#REF!"}},{"$f":"Podatnicy!#REF!","v":{"$error":"#REF!"}}]
[null,964,{"$f":"Podatnicy!#REF!","v":{"$error":"#REF!"}},{"$f":"Podatnicy!#REF!","v":{"$error":"#REF!"}},{"$f":"Podatnicy!#REF!","v":{"$error":"#REF!"}}]
[null,965,{"$f":"Podatnicy!#REF!","v":{"$error":"#REF!"}},{"$f":"Podatnicy!#REF!","v":{"$error":"#REF!"}},{"$f":"Podatnicy!#REF!","v":{"$error":"#REF!"}}]
[null,966,{"$f":"Podatnicy!#REF!","v":{"$error":"#REF!"}},{"$f":"Podatnicy!#REF!","v":{"$error":"#REF!"}},{"$f":"Podatnicy!#REF!","v":{"$error":"#REF!"}}]
[null,967,{"$f":"Podatnicy!#REF!","v":{"$error":"#REF!"}},{"$f":"Podatnicy!#REF!","v":{"$error":"#REF!"}},{"$f":"Podatnicy!#REF!","v":{"$error":"#REF!"}}]
[null,968,{"$f":"Podatnicy!#REF!","v":{"$error":"#REF!"}},{"$f":"Podatnicy!#REF!","v":{"$error":"#REF!"}},{"$f":"Podatnicy!#REF!","v":{"$error":"#REF!"}}]
[null,969,{"$f":"Podatnicy!#REF!","v":{"$error":"#REF!"}},{"$f":"Podatnicy!#REF!","v":{"$error":"#REF!"}},{"$f":"Podatnicy!#REF!","v":{"$error":"#REF!"}}]
[null,970,{"$f":"Podatnicy!#REF!","v":{"$error":"#REF!"}},{"$f":"Podatnicy!#REF!","v":{"$error":"#REF!"}},{"$f":"Podatnicy!#REF!","v":{"$error":"#REF!"}}]
[null,971,{"$f":"Podatnicy!#REF!","v":{"$error":"#REF!"}},{"$f":"Podatnicy!#REF!","v":{"$error":"#REF!"}},{"$f":"Podatnicy!#REF!","v":{"$error":"#REF!"}}]
[null,972,{"$f":"Podatnicy!#REF!","v":{"$error":"#REF!"}},{"$f":"Podatnicy!#REF!","v":{"$error":"#REF!"}},{"$f":"Podatnicy!#REF!","v":{"$error":"#REF!"}}]
[null,973,{"$f":"Podatnicy!#REF!","v":{"$error":"#REF!"}},{"$f":"Podatnicy!#REF!","v":{"$error":"#REF!"}},{"$f":"Podatnicy!#REF!","v":{"$error":"#REF!"}}]
[null,974,{"$f":"Podatnicy!#REF!","v":{"$error":"#REF!"}},{"$f":"Podatnicy!#REF!","v":{"$error":"#REF!"}},{"$f":"Podatnicy!#REF!","v":{"$error":"#REF!"}}]
[null,975,{"$f":"Podatnicy!#REF!","v":{"$error":"#REF!"}},{"$f":"Podatnicy!#REF!","v":{"$error":"#REF!"}},{"$f":"Podatnicy!#REF!","v":{"$error":"#REF!"}}]
[null,976,{"$f":"Podatnicy!#REF!","v":{"$error":"#REF!"}},{"$f":"Podatnicy!#REF!","v":{"$error":"#REF!"}},{"$f":"Podatnicy!#REF!","v":{"$error":"#REF!"}}]
[null,977,{"$f":"Podatnicy!#REF!","v":{"$error":"#REF!"}},{"$f":"Podatnicy!#REF!","v":{"$error":"#REF!"}},{"$f":"Podatnicy!#REF!","v":{"$error":"#REF!"}}]
[null,978,{"$f":"Podatnicy!#REF!","v":{"$error":"#REF!"}},{"$f":"Podatnicy!#REF!","v":{"$error":"#REF!"}},{"$f":"Podatnicy!#REF!","v":{"$error":"#REF!"}}]
[null,979,{"$f":"Podatnicy!#REF!","v":{"$error":"#REF!"}},{"$f":"Podatnicy!#REF!","v":{"$error":"#REF!"}},{"$f":"Podatnicy!#REF!","v":{"$error":"#REF!"}}]
[null,980,{"$f":"Podatnicy!#REF!","v":{"$error":"#REF!"}},{"$f":"Podatnicy!#REF!","v":{"$error":"#REF!"}},{"$f":"Podatnicy!#REF!","v":{"$error":"#REF!"}}]
[null,981,{"$f":"Podatnicy!#REF!","v":{"$error":"#REF!"}},{"$f":"Podatnicy!#REF!","v":{"$error":"#REF!"}},{"$f":"Podatnicy!#REF!","v":{"$error":"#REF!"}}]
[null,982,{"$f":"Podatnicy!#REF!","v":{"$error":"#REF!"}},{"$f":"Podatnicy!#REF!","v":{"$error":"#REF!"}},{"$f":"Podatnicy!#REF!","v":{"$error":"#REF!"}}]
[null,983,{"$f":"Podatnicy!#REF!","v":{"$error":"#REF!"}},{"$f":"Podatnicy!#REF!","v":{"$error":"#REF!"}},{"$f":"Podatnicy!#REF!","v":{"$error":"#REF!"}}]
[null,984,{"$f":"Podatnicy!#REF!","v":{"$error":"#REF!"}},{"$f":"Podatnicy!#REF!","v":{"$error":"#REF!"}},{"$f":"Podatnicy!#REF!","v":{"$error":"#REF!"}}]
[null,985,{"$f":"Podatnicy!#REF!","v":{"$error":"#REF!"}},{"$f":"Podatnicy!#REF!","v":{"$error":"#REF!"}},{"$f":"Podatnicy!#REF!","v":{"$error":"#REF!"}}]
[null,986,{"$f":"Podatnicy!#REF!","v":{"$error":"#REF!"}},{"$f":"Podatnicy!#REF!","v":{"$error":"#REF!"}},{"$f":"Podatnicy!#REF!","v":{"$error":"#REF!"}}]
[null,987,{"$f":"Podatnicy!#REF!","v":{"$error":"#REF!"}},{"$f":"Podatnicy!#REF!","v":{"$error":"#REF!"}},{"$f":"Podatnicy!#REF!","v":{"$error":"#REF!"}}]
[null,988,{"$f":"Podatnicy!#REF!","v":{"$error":"#REF!"}},{"$f":"Podatnicy!#REF!","v":{"$error":"#REF!"}},{"$f":"Podatnicy!#REF!","v":{"$error":"#REF!"}}]
[null,989,{"$f":"Podatnicy!#REF!","v":{"$error":"#REF!"}},{"$f":"Podatnicy!#REF!","v":{"$error":"#REF!"}},{"$f":"Podatnicy!#REF!","v":{"$error":"#REF!"}}]
[null,990,{"$f":"Podatnicy!#REF!","v":{"$error":"#REF!"}},{"$f":"Podatnicy!#REF!","v":{"$error":"#REF!"}},{"$f":"Podatnicy!#REF!","v":{"$error":"#REF!"}}]
[null,991,{"$f":"Podatnicy!#REF!","v":{"$error":"#REF!"}},{"$f":"Podatnicy!#REF!","v":{"$error":"#REF!"}},{"$f":"Podatnicy!#REF!","v":{"$error":"#REF!"}}]
[null,992,{"$f":"Podatnicy!#REF!","v":{"$error":"#REF!"}},{"$f":"Podatnicy!#REF!","v":{"$error":"#REF!"}},{"$f":"Podatnicy!#REF!","v":{"$error":"#REF!"}}]
[null,993,{"$f":"Podatnicy!#REF!","v":{"$error":"#REF!"}},{"$f":"Podatnicy!#REF!","v":{"$error":"#REF!"}},{"$f":"Podatnicy!#REF!","v":{"$error":"#REF!"}}]
[null,994,{"$f":"Podatnicy!#REF!","v":{"$error":"#REF!"}},{"$f":"Podatnicy!#REF!","v":{"$error":"#REF!"}},{"$f":"Podatnicy!#REF!","v":{"$error":"#REF!"}}]
[null,995,{"$f":"Podatnicy!#REF!","v":{"$error":"#REF!"}},{"$f":"Podatnicy!#REF!","v":{"$error":"#REF!"}},{"$f":"Podatnicy!#REF!","v":{"$error":"#REF!"}}]
[null,996,{"$f":"Podatnicy!#REF!","v":{"$error":"#REF!"}},{"$f":"Podatnicy!#REF!","v":{"$error":"#REF!"}},{"$f":"Podatnicy!#REF!","v":{"$error":"#REF!"}}]
[null,997,{"$f":"Podatnicy!#REF!","v":{"$error":"#REF!"}},{"$f":"Podatnicy!#REF!","v":{"$error":"#REF!"}},{"$f":"Podatnicy!#REF!","v":{"$error":"#REF!"}}]
[null,998,{"$f":"Podatnicy!#REF!","v":{"$error":"#REF!"}},{"$f":"Podatnicy!#REF!","v":{"$error":"#REF!"}},{"$f":"Podatnicy!#REF!","v":{"$error":"#REF!"}}]
[null,999,{"$f":"Podatnicy!#REF!","v":{"$error":"#REF!"}},{"$f":"Podatnicy!#REF!","v":{"$error":"#REF!"}},{"$f":"Podatnicy!#REF!","v":{"$error":"#REF!"}}]
[null,1000,{"$f":"Podatnicy!#REF!","v":{"$error":"#REF!"}},{"$f":"Podatnicy!#REF!","v":{"$error":"#REF!"}},{"$f":"Podatnicy!#REF!","v":{"$error":"#REF!"}}]
[null,1001,{"$f":"Podatnicy!#REF!","v":{"$error":"#REF!"}},{"$f":"Podatnicy!#REF!","v":{"$error":"#REF!"}},{"$f":"Podatnicy!#REF!","v":{"$error":"#REF!"}}]
[null,1002,{"$f":"Podatnicy!#REF!","v":{"$error":"#REF!"}},{"$f":"Podatnicy!#REF!","v":{"$error":"#REF!"}},{"$f":"Podatnicy!#REF!","v":{"$error":"#REF!"}}]
[null,1003,{"$f":"Podatnicy!#REF!","v":{"$error":"#REF!"}},{"$f":"Podatnicy!#REF!","v":{"$error":"#REF!"}},{"$f":"Podatnicy!#REF!","v":{"$error":"#REF!"}}]
[null,1004,{"$f":"Podatnicy!#REF!","v":{"$error":"#REF!"}},{"$f":"Podatnicy!#REF!","v":{"$error":"#REF!"}},{"$f":"Podatnicy!#REF!","v":{"$error":"#REF!"}}]
[null,1005,{"$f":"Podatnicy!#REF!","v":{"$error":"#REF!"}},{"$f":"Podatnicy!#REF!","v":{"$error":"#REF!"}},{"$f":"Podatnicy!#REF!","v":{"$error":"#REF!"}}]
[null,1006,{"$f":"Podatnicy!#REF!","v":{"$error":"#REF!"}},{"$f":"Podatnicy!#REF!","v":{"$error":"#REF!"}},{"$f":"Podatnicy!#REF!","v":{"$error":"#REF!"}}]
[null,1007,{"$f":"Podatnicy!#REF!","v":{"$error":"#REF!"}},{"$f":"Podatnicy!#REF!","v":{"$error":"#REF!"}},{"$f":"Podatnicy!#REF!","v":{"$error":"#REF!"}}]
[null,1008,{"$f":"Podatnicy!#REF!","v":{"$error":"#REF!"}},{"$f":"Podatnicy!#REF!","v":{"$error":"#REF!"}},{"$f":"Podatnicy!#REF!","v":{"$error":"#REF!"}}]
[null,1009,{"$f":"Podatnicy!#REF!","v":{"$error":"#REF!"}},{"$f":"Podatnicy!#REF!","v":{"$error":"#REF!"}},{"$f":"Podatnicy!#REF!","v":{"$error":"#REF!"}}]
[null,1010,{"$f":"Podatnicy!#REF!","v":{"$error":"#REF!"}},{"$f":"Podatnicy!#REF!","v":{"$error":"#REF!"}},{"$f":"Podatnicy!#REF!","v":{"$error":"#REF!"}}]
[null,1011,{"$f":"Podatnicy!#REF!","v":{"$error":"#REF!"}},{"$f":"Podatnicy!#REF!","v":{"$error":"#REF!"}},{"$f":"Podatnicy!#REF!","v":{"$error":"#REF!"}}]
[null,1012,{"$f":"Podatnicy!#REF!","v":{"$error":"#REF!"}},{"$f":"Podatnicy!#REF!","v":{"$error":"#REF!"}},{"$f":"Podatnicy!#REF!","v":{"$error":"#REF!"}}]
[null,1013,{"$f":"Podatnicy!#REF!","v":{"$error":"#REF!"}},{"$f":"Podatnicy!#REF!","v":{"$error":"#REF!"}},{"$f":"Podatnicy!#REF!","v":{"$error":"#REF!"}}]
[null,1014,{"$f":"Podatnicy!#REF!","v":{"$error":"#REF!"}},{"$f":"Podatnicy!#REF!","v":{"$error":"#REF!"}},{"$f":"Podatnicy!#REF!","v":{"$error":"#REF!"}}]
[null,1015,{"$f":"Podatnicy!#REF!","v":{"$error":"#REF!"}},{"$f":"Podatnicy!#REF!","v":{"$error":"#REF!"}},{"$f":"Podatnicy!#REF!","v":{"$error":"#REF!"}}]
[null,1016,{"$f":"Podatnicy!#REF!","v":{"$error":"#REF!"}},{"$f":"Podatnicy!#REF!","v":{"$error":"#REF!"}},{"$f":"Podatnicy!#REF!","v":{"$error":"#REF!"}}]
[null,1017,{"$f":"Podatnicy!#REF!","v":{"$error":"#REF!"}},{"$f":"Podatnicy!#REF!","v":{"$error":"#REF!"}},{"$f":"Podatnicy!#REF!","v":{"$error":"#REF!"}}]
[null,1018,{"$f":"Podatnicy!#REF!","v":{"$error":"#REF!"}},{"$f":"Podatnicy!#REF!","v":{"$error":"#REF!"}},{"$f":"Podatnicy!#REF!","v":{"$error":"#REF!"}}]
[null,1019,{"$f":"Podatnicy!#REF!","v":{"$error":"#REF!"}},{"$f":"Podatnicy!#REF!","v":{"$error":"#REF!"}},{"$f":"Podatnicy!#REF!","v":{"$error":"#REF!"}}]
[null,1020,{"$f":"Podatnicy!#REF!","v":{"$error":"#REF!"}},{"$f":"Podatnicy!#REF!","v":{"$error":"#REF!"}},{"$f":"Podatnicy!#REF!","v":{"$error":"#REF!"}}]
[null,1021,{"$f":"Podatnicy!#REF!","v":{"$error":"#REF!"}},{"$f":"Podatnicy!#REF!","v":{"$error":"#REF!"}},{"$f":"Podatnicy!#REF!","v":{"$error":"#REF!"}}]
[null,1022,{"$f":"Podatnicy!#REF!","v":{"$error":"#REF!"}},{"$f":"Podatnicy!#REF!","v":{"$error":"#REF!"}},{"$f":"Podatnicy!#REF!","v":{"$error":"#REF!"}}]
[null,1023,{"$f":"Podatnicy!#REF!","v":{"$error":"#REF!"}},{"$f":"Podatnicy!#REF!","v":{"$error":"#REF!"}},{"$f":"Podatnicy!#REF!","v":{"$error":"#REF!"}}]
[null,1024,{"$f":"Podatnicy!#REF!","v":{"$error":"#REF!"}},{"$f":"Podatnicy!#REF!","v":{"$error":"#REF!"}},{"$f":"Podatnicy!#REF!","v":{"$error":"#REF!"}}]
[null,1025,{"$f":"Podatnicy!#REF!","v":{"$error":"#REF!"}},{"$f":"Podatnicy!#REF!","v":{"$error":"#REF!"}},{"$f":"Podatnicy!#REF!","v":{"$error":"#REF!"}}]
[null,1026,{"$f":"Podatnicy!#REF!","v":{"$error":"#REF!"}},{"$f":"Podatnicy!#REF!","v":{"$error":"#REF!"}},{"$f":"Podatnicy!#REF!","v":{"$error":"#REF!"}}]
[null,1027,{"$f":"Podatnicy!#REF!","v":{"$error":"#REF!"}},{"$f":"Podatnicy!#REF!","v":{"$error":"#REF!"}},{"$f":"Podatnicy!#REF!","v":{"$error":"#REF!"}}]
[null,1028,{"$f":"Podatnicy!#REF!","v":{"$error":"#REF!"}},{"$f":"Podatnicy!#REF!","v":{"$error":"#REF!"}},{"$f":"Podatnicy!#REF!","v":{"$error":"#REF!"}}]
[null,1029,{"$f":"Podatnicy!#REF!","v":{"$error":"#REF!"}},{"$f":"Podatnicy!#REF!","v":{"$error":"#REF!"}},{"$f":"Podatnicy!#REF!","v":{"$error":"#REF!"}}]
[null,1030,{"$f":"Podatnicy!#REF!","v":{"$error":"#REF!"}},{"$f":"Podatnicy!#REF!","v":{"$error":"#REF!"}},{"$f":"Podatnicy!#REF!","v":{"$error":"#REF!"}}]
[null,1031,{"$f":"Podatnicy!#REF!","v":{"$error":"#REF!"}},{"$f":"Podatnicy!#REF!","v":{"$error":"#REF!"}},{"$f":"Podatnicy!#REF!","v":{"$error":"#REF!"}}]
[null,1032,{"$f":"Podatnicy!#REF!","v":{"$error":"#REF!"}},{"$f":"Podatnicy!#REF!","v":{"$error":"#REF!"}},{"$f":"Podatnicy!#REF!","v":{"$error":"#REF!"}}]
[null,1033,{"$f":"Podatnicy!#REF!","v":{"$error":"#REF!"}},{"$f":"Podatnicy!#REF!","v":{"$error":"#REF!"}},{"$f":"Podatnicy!#REF!","v":{"$error":"#REF!"}}]
[null,1034,{"$f":"Podatnicy!#REF!","v":{"$error":"#REF!"}},{"$f":"Podatnicy!#REF!","v":{"$error":"#REF!"}},{"$f":"Podatnicy!#REF!","v":{"$error":"#REF!"}}]
[null,1035,{"$f":"Podatnicy!#REF!","v":{"$error":"#REF!"}},{"$f":"Podatnicy!#REF!","v":{"$error":"#REF!"}},{"$f":"Podatnicy!#REF!","v":{"$error":"#REF!"}}]
[null,1036,{"$f":"Podatnicy!#REF!","v":{"$error":"#REF!"}},{"$f":"Podatnicy!#REF!","v":{"$error":"#REF!"}},{"$f":"Podatnicy!#REF!","v":{"$error":"#REF!"}}]
[null,1037,{"$f":"Podatnicy!#REF!","v":{"$error":"#REF!"}},{"$f":"Podatnicy!#REF!","v":{"$error":"#REF!"}},{"$f":"Podatnicy!#REF!","v":{"$error":"#REF!"}}]
[null,1038,{"$f":"Podatnicy!#REF!","v":{"$error":"#REF!"}},{"$f":"Podatnicy!#REF!","v":{"$error":"#REF!"}},{"$f":"Podatnicy!#REF!","v":{"$error":"#REF!"}}]
[null,1039,{"$f":"Podatnicy!#REF!","v":{"$error":"#REF!"}},{"$f":"Podatnicy!#REF!","v":{"$error":"#REF!"}},{"$f":"Podatnicy!#REF!","v":{"$error":"#REF!"}}]
[null,1040,{"$f":"Podatnicy!#REF!","v":{"$error":"#REF!"}},{"$f":"Podatnicy!#REF!","v":{"$error":"#REF!"}},{"$f":"Podatnicy!#REF!","v":{"$error":"#REF!"}}]
[null,1041,{"$f":"Podatnicy!#REF!","v":{"$error":"#REF!"}},{"$f":"Podatnicy!#REF!","v":{"$error":"#REF!"}},{"$f":"Podatnicy!#REF!","v":{"$error":"#REF!"}}]
[null,1042,{"$f":"Podatnicy!#REF!","v":{"$error":"#REF!"}},{"$f":"Podatnicy!#REF!","v":{"$error":"#REF!"}},{"$f":"Podatnicy!#REF!","v":{"$error":"#REF!"}}]
[null,1043,{"$f":"Podatnicy!#REF!","v":{"$error":"#REF!"}},{"$f":"Podatnicy!#REF!","v":{"$error":"#REF!"}},{"$f":"Podatnicy!#REF!","v":{"$error":"#REF!"}}]
[null,1044,{"$f":"Podatnicy!#REF!","v":{"$error":"#REF!"}},{"$f":"Podatnicy!#REF!","v":{"$error":"#REF!"}},{"$f":"Podatnicy!#REF!","v":{"$error":"#REF!"}}]
[null,1045,{"$f":"Podatnicy!#REF!","v":{"$error":"#REF!"}},{"$f":"Podatnicy!#REF!","v":{"$error":"#REF!"}},{"$f":"Podatnicy!#REF!","v":{"$error":"#REF!"}}]
[null,1046,{"$f":"Podatnicy!#REF!","v":{"$error":"#REF!"}},{"$f":"Podatnicy!#REF!","v":{"$error":"#REF!"}},{"$f":"Podatnicy!#REF!","v":{"$error":"#REF!"}}]
[null,1047,{"$f":"Podatnicy!#REF!","v":{"$error":"#REF!"}},{"$f":"Podatnicy!#REF!","v":{"$error":"#REF!"}},{"$f":"Podatnicy!#REF!","v":{"$error":"#REF!"}}]
[null,1048,{"$f":"Podatnicy!#REF!","v":{"$error":"#REF!"}},{"$f":"Podatnicy!#REF!","v":{"$error":"#REF!"}},{"$f":"Podatnicy!#REF!","v":{"$error":"#REF!"}}]
[null,1049,{"$f":"Podatnicy!#REF!","v":{"$error":"#REF!"}},{"$f":"Podatnicy!#REF!","v":{"$error":"#REF!"}},{"$f":"Podatnicy!#REF!","v":{"$error":"#REF!"}}]
[null,1050,{"$f":"Podatnicy!#REF!","v":{"$error":"#REF!"}},{"$f":"Podatnicy!#REF!","v":{"$error":"#REF!"}},{"$f":"Podatnicy!#REF!","v":{"$error":"#REF!"}}]
[null,1051,{"$f":"Podatnicy!#REF!","v":{"$error":"#REF!"}},{"$f":"Podatnicy!#REF!","v":{"$error":"#REF!"}},{"$f":"Podatnicy!#REF!","v":{"$error":"#REF!"}}]
[null,1052,{"$f":"Podatnicy!#REF!","v":{"$error":"#REF!"}},{"$f":"Podatnicy!#REF!","v":{"$error":"#REF!"}},{"$f":"Podatnicy!#REF!","v":{"$error":"#REF!"}}]
[null,1053,{"$f":"Podatnicy!#REF!","v":{"$error":"#REF!"}},{"$f":"Podatnicy!#REF!","v":{"$error":"#REF!"}},{"$f":"Podatnicy!#REF!","v":{"$error":"#REF!"}}]
[null,1054,{"$f":"Podatnicy!#REF!","v":{"$error":"#REF!"}},{"$f":"Podatnicy!#REF!","v":{"$error":"#REF!"}},{"$f":"Podatnicy!#REF!","v":{"$error":"#REF!"}}]
[null,1055,{"$f":"Podatnicy!#REF!","v":{"$error":"#REF!"}},{"$f":"Podatnicy!#REF!","v":{"$error":"#REF!"}},{"$f":"Podatnicy!#REF!","v":{"$error":"#REF!"}}]
[null,1056,{"$f":"Podatnicy!#REF!","v":{"$error":"#REF!"}},{"$f":"Podatnicy!#REF!","v":{"$error":"#REF!"}},{"$f":"Podatnicy!#REF!","v":{"$error":"#REF!"}}]
[null,1057,{"$f":"Podatnicy!#REF!","v":{"$error":"#REF!"}},{"$f":"Podatnicy!#REF!","v":{"$error":"#REF!"}},{"$f":"Podatnicy!#REF!","v":{"$error":"#REF!"}}]
[null,1058,{"$f":"Podatnicy!#REF!","v":{"$error":"#REF!"}},{"$f":"Podatnicy!#REF!","v":{"$error":"#REF!"}},{"$f":"Podatnicy!#REF!","v":{"$error":"#REF!"}}]
[null,1059,{"$f":"Podatnicy!#REF!","v":{"$error":"#REF!"}},{"$f":"Podatnicy!#REF!","v":{"$error":"#REF!"}},{"$f":"Podatnicy!#REF!","v":{"$error":"#REF!"}}]
[null,1060,{"$f":"Podatnicy!#REF!","v":{"$error":"#REF!"}},{"$f":"Podatnicy!#REF!","v":{"$error":"#REF!"}},{"$f":"Podatnicy!#REF!","v":{"$error":"#REF!"}}]
[null,1061,{"$f":"Podatnicy!#REF!","v":{"$error":"#REF!"}},{"$f":"Podatnicy!#REF!","v":{"$error":"#REF!"}},{"$f":"Podatnicy!#REF!","v":{"$error":"#REF!"}}]
[null,1062,{"$f":"Podatnicy!#REF!","v":{"$error":"#REF!"}},{"$f":"Podatnicy!#REF!","v":{"$error":"#REF!"}},{"$f":"Podatnicy!#REF!","v":{"$error":"#REF!"}}]
[null,1063,{"$f":"Podatnicy!#REF!","v":{"$error":"#REF!"}},{"$f":"Podatnicy!#REF!","v":{"$error":"#REF!"}},{"$f":"Podatnicy!#REF!","v":{"$error":"#REF!"}}]
[null,1064,{"$f":"Podatnicy!#REF!","v":{"$error":"#REF!"}},{"$f":"Podatnicy!#REF!","v":{"$error":"#REF!"}},{"$f":"Podatnicy!#REF!","v":{"$error":"#REF!"}}]
[null,1065,{"$f":"Podatnicy!#REF!","v":{"$error":"#REF!"}},{"$f":"Podatnicy!#REF!","v":{"$error":"#REF!"}},{"$f":"Podatnicy!#REF!","v":{"$error":"#REF!"}}]
[null,1066,{"$f":"Podatnicy!#REF!","v":{"$error":"#REF!"}},{"$f":"Podatnicy!#REF!","v":{"$error":"#REF!"}},{"$f":"Podatnicy!#REF!","v":{"$error":"#REF!"}}]
[null,1067,{"$f":"Podatnicy!#REF!","v":{"$error":"#REF!"}},{"$f":"Podatnicy!#REF!","v":{"$error":"#REF!"}},{"$f":"Podatnicy!#REF!","v":{"$error":"#REF!"}}]
[null,1068,{"$f":"Podatnicy!#REF!","v":{"$error":"#REF!"}},{"$f":"Podatnicy!#REF!","v":{"$error":"#REF!"}},{"$f":"Podatnicy!#REF!","v":{"$error":"#REF!"}}]
[null,1069,{"$f":"Podatnicy!#REF!","v":{"$error":"#REF!"}},{"$f":"Podatnicy!#REF!","v":{"$error":"#REF!"}},{"$f":"Podatnicy!#REF!","v":{"$error":"#REF!"}}]
[null,1070,{"$f":"Podatnicy!#REF!","v":{"$error":"#REF!"}},{"$f":"Podatnicy!#REF!","v":{"$error":"#REF!"}},{"$f":"Podatnicy!#REF!","v":{"$error":"#REF!"}}]
[null,1071,{"$f":"Podatnicy!#REF!","v":{"$error":"#REF!"}},{"$f":"Podatnicy!#REF!","v":{"$error":"#REF!"}},{"$f":"Podatnicy!#REF!","v":{"$error":"#REF!"}}]
[null,1072,{"$f":"Podatnicy!#REF!","v":{"$error":"#REF!"}},{"$f":"Podatnicy!#REF!","v":{"$error":"#REF!"}},{"$f":"Podatnicy!#REF!","v":{"$error":"#REF!"}}]
[null,1073,{"$f":"Podatnicy!#REF!","v":{"$error":"#REF!"}},{"$f":"Podatnicy!#REF!","v":{"$error":"#REF!"}},{"$f":"Podatnicy!#REF!","v":{"$error":"#REF!"}}]
[null,1074,{"$f":"Podatnicy!#REF!","v":{"$error":"#REF!"}},{"$f":"Podatnicy!#REF!","v":{"$error":"#REF!"}},{"$f":"Podatnicy!#REF!","v":{"$error":"#REF!"}}]
[null,1075,{"$f":"Podatnicy!#REF!","v":{"$error":"#REF!"}},{"$f":"Podatnicy!#REF!","v":{"$error":"#REF!"}},{"$f":"Podatnicy!#REF!","v":{"$error":"#REF!"}}]
[null,1076,{"$f":"Podatnicy!#REF!","v":{"$error":"#REF!"}},{"$f":"Podatnicy!#REF!","v":{"$error":"#REF!"}},{"$f":"Podatnicy!#REF!","v":{"$error":"#REF!"}}]
[null,1077,{"$f":"Podatnicy!#REF!","v":{"$error":"#REF!"}},{"$f":"Podatnicy!#REF!","v":{"$error":"#REF!"}},{"$f":"Podatnicy!#REF!","v":{"$error":"#REF!"}}]
[null,1078,{"$f":"Podatnicy!#REF!","v":{"$error":"#REF!"}},{"$f":"Podatnicy!#REF!","v":{"$error":"#REF!"}},{"$f":"Podatnicy!#REF!","v":{"$error":"#REF!"}}]
[null,1079,{"$f":"Podatnicy!#REF!","v":{"$error":"#REF!"}},{"$f":"Podatnicy!#REF!","v":{"$error":"#REF!"}},{"$f":"Podatnicy!#REF!","v":{"$error":"#REF!"}}]
[null,1080,{"$f":"Podatnicy!#REF!","v":{"$error":"#REF!"}},{"$f":"Podatnicy!#REF!","v":{"$error":"#REF!"}},{"$f":"Podatnicy!#REF!","v":{"$error":"#REF!"}}]
[null,1081,{"$f":"Podatnicy!#REF!","v":{"$error":"#REF!"}},{"$f":"Podatnicy!#REF!","v":{"$error":"#REF!"}},{"$f":"Podatnicy!#REF!","v":{"$error":"#REF!"}}]
[null,1082,{"$f":"Podatnicy!#REF!","v":{"$error":"#REF!"}},{"$f":"Podatnicy!#REF!","v":{"$error":"#REF!"}},{"$f":"Podatnicy!#REF!","v":{"$error":"#REF!"}}]
[null,1083,{"$f":"Podatnicy!#REF!","v":{"$error":"#REF!"}},{"$f":"Podatnicy!#REF!","v":{"$error":"#REF!"}},{"$f":"Podatnicy!#REF!","v":{"$error":"#REF!"}}]
[null,1084,{"$f":"Podatnicy!#REF!","v":{"$error":"#REF!"}},{"$f":"Podatnicy!#REF!","v":{"$error":"#REF!"}},{"$f":"Podatnicy!#REF!","v":{"$error":"#REF!"}}]
[null,1085,{"$f":"Podatnicy!#REF!","v":{"$error":"#REF!"}},{"$f":"Podatnicy!#REF!","v":{"$error":"#REF!"}},{"$f":"Podatnicy!#REF!","v":{"$error":"#REF!"}}]
[null,1086,{"$f":"Podatnicy!#REF!","v":{"$error":"#REF!"}},{"$f":"Podatnicy!#REF!","v":{"$error":"#REF!"}},{"$f":"Podatnicy!#REF!","v":{"$error":"#REF!"}}]
[null,1087,{"$f":"Podatnicy!#REF!","v":{"$error":"#REF!"}},{"$f":"Podatnicy!#REF!","v":{"$error":"#REF!"}},{"$f":"Podatnicy!#REF!","v":{"$error":"#REF!"}}]
[null,1088,{"$f":"Podatnicy!#REF!","v":{"$error":"#REF!"}},{"$f":"Podatnicy!#REF!","v":{"$error":"#REF!"}},{"$f":"Podatnicy!#REF!","v":{"$error":"#REF!"}}]
[null,1089,{"$f":"Podatnicy!#REF!","v":{"$error":"#REF!"}},{"$f":"Podatnicy!#REF!","v":{"$error":"#REF!"}},{"$f":"Podatnicy!#REF!","v":{"$error":"#REF!"}}]
[null,1090,{"$f":"Podatnicy!#REF!","v":{"$error":"#REF!"}},{"$f":"Podatnicy!#REF!","v":{"$error":"#REF!"}},{"$f":"Podatnicy!#REF!","v":{"$error":"#REF!"}}]
[null,1091,{"$f":"Podatnicy!#REF!","v":{"$error":"#REF!"}},{"$f":"Podatnicy!#REF!","v":{"$error":"#REF!"}},{"$f":"Podatnicy!#REF!","v":{"$error":"#REF!"}}]
[null,1092,{"$f":"Podatnicy!#REF!","v":{"$error":"#REF!"}},{"$f":"Podatnicy!#REF!","v":{"$error":"#REF!"}},{"$f":"Podatnicy!#REF!","v":{"$error":"#REF!"}}]
[null,1093,{"$f":"Podatnicy!#REF!","v":{"$error":"#REF!"}},{"$f":"Podatnicy!#REF!","v":{"$error":"#REF!"}},{"$f":"Podatnicy!#REF!","v":{"$error":"#REF!"}}]
[null,1094,{"$f":"Podatnicy!#REF!","v":{"$error":"#REF!"}},{"$f":"Podatnicy!#REF!","v":{"$error":"#REF!"}},{"$f":"Podatnicy!#REF!","v":{"$error":"#REF!"}}]
[null,1095,{"$f":"Podatnicy!#REF!","v":{"$error":"#REF!"}},{"$f":"Podatnicy!#REF!","v":{"$error":"#REF!"}},{"$f":"Podatnicy!#REF!","v":{"$error":"#REF!"}}]
[null,1096,{"$f":"Podatnicy!#REF!","v":{"$error":"#REF!"}},{"$f":"Podatnicy!#REF!","v":{"$error":"#REF!"}},{"$f":"Podatnicy!#REF!","v":{"$error":"#REF!"}}]
[null,1097,{"$f":"Podatnicy!#REF!","v":{"$error":"#REF!"}},{"$f":"Podatnicy!#REF!","v":{"$error":"#REF!"}},{"$f":"Podatnicy!#REF!","v":{"$error":"#REF!"}}]
[null,1098,{"$f":"Podatnicy!#REF!","v":{"$error":"#REF!"}},{"$f":"Podatnicy!#REF!","v":{"$error":"#REF!"}},{"$f":"Podatnicy!#REF!","v":{"$error":"#REF!"}}]
[null,1099,{"$f":"Podatnicy!#REF!","v":{"$error":"#REF!"}},{"$f":"Podatnicy!#REF!","v":{"$error":"#REF!"}},{"$f":"Podatnicy!#REF!","v":{"$error":"#REF!"}}]
[null,1100,{"$f":"Podatnicy!#REF!","v":{"$error":"#REF!"}},{"$f":"Podatnicy!#REF!","v":{"$error":"#REF!"}},{"$f":"Podatnicy!#REF!","v":{"$error":"#REF!"}}]
[null,1101,{"$f":"Podatnicy!#REF!","v":{"$error":"#REF!"}},{"$f":"Podatnicy!#REF!","v":{"$error":"#REF!"}},{"$f":"Podatnicy!#REF!","v":{"$error":"#REF!"}}]
[null,1102,{"$f":"Podatnicy!#REF!","v":{"$error":"#REF!"}},{"$f":"Podatnicy!#REF!","v":{"$error":"#REF!"}},{"$f":"Podatnicy!#REF!","v":{"$error":"#REF!"}}]
[null,1103,{"$f":"Podatnicy!#REF!","v":{"$error":"#REF!"}},{"$f":"Podatnicy!#REF!","v":{"$error":"#REF!"}},{"$f":"Podatnicy!#REF!","v":{"$error":"#REF!"}}]
[null,1104,{"$f":"Podatnicy!#REF!","v":{"$error":"#REF!"}},{"$f":"Podatnicy!#REF!","v":{"$error":"#REF!"}},{"$f":"Podatnicy!#REF!","v":{"$error":"#REF!"}}]
[null,1105,{"$f":"Podatnicy!#REF!","v":{"$error":"#REF!"}},{"$f":"Podatnicy!#REF!","v":{"$error":"#REF!"}},{"$f":"Podatnicy!#REF!","v":{"$error":"#REF!"}}]
[null,1106,{"$f":"Podatnicy!#REF!","v":{"$error":"#REF!"}},{"$f":"Podatnicy!#REF!","v":{"$error":"#REF!"}},{"$f":"Podatnicy!#REF!","v":{"$error":"#REF!"}}]
[null,1107,{"$f":"Podatnicy!#REF!","v":{"$error":"#REF!"}},{"$f":"Podatnicy!#REF!","v":{"$error":"#REF!"}},{"$f":"Podatnicy!#REF!","v":{"$error":"#REF!"}}]
[null,1108,{"$f":"Podatnicy!#REF!","v":{"$error":"#REF!"}},{"$f":"Podatnicy!#REF!","v":{"$error":"#REF!"}},{"$f":"Podatnicy!#REF!","v":{"$error":"#REF!"}}]
[null,1109,{"$f":"Podatnicy!#REF!","v":{"$error":"#REF!"}},{"$f":"Podatnicy!#REF!","v":{"$error":"#REF!"}},{"$f":"Podatnicy!#REF!","v":{"$error":"#REF!"}}]
[null,1110,{"$f":"Podatnicy!#REF!","v":{"$error":"#REF!"}},{"$f":"Podatnicy!#REF!","v":{"$error":"#REF!"}},{"$f":"Podatnicy!#REF!","v":{"$error":"#REF!"}}]
[null,1111,{"$f":"Podatnicy!#REF!","v":{"$error":"#REF!"}},{"$f":"Podatnicy!#REF!","v":{"$error":"#REF!"}},{"$f":"Podatnicy!#REF!","v":{"$error":"#REF!"}}]
[null,1112,{"$f":"Podatnicy!#REF!","v":{"$error":"#REF!"}},{"$f":"Podatnicy!#REF!","v":{"$error":"#REF!"}},{"$f":"Podatnicy!#REF!","v":{"$error":"#REF!"}}]
[null,1113,{"$f":"Podatnicy!#REF!","v":{"$error":"#REF!"}},{"$f":"Podatnicy!#REF!","v":{"$error":"#REF!"}},{"$f":"Podatnicy!#REF!","v":{"$error":"#REF!"}}]
[null,1114,{"$f":"Podatnicy!#REF!","v":{"$error":"#REF!"}},{"$f":"Podatnicy!#REF!","v":{"$error":"#REF!"}},{"$f":"Podatnicy!#REF!","v":{"$error":"#REF!"}}]
[null,1115,{"$f":"Podatnicy!#REF!","v":{"$error":"#REF!"}},{"$f":"Podatnicy!#REF!","v":{"$error":"#REF!"}},{"$f":"Podatnicy!#REF!","v":{"$error":"#REF!"}}]
[null,1116,{"$f":"Podatnicy!#REF!","v":{"$error":"#REF!"}},{"$f":"Podatnicy!#REF!","v":{"$error":"#REF!"}},{"$f":"Podatnicy!#REF!","v":{"$error":"#REF!"}}]
[null,1117,{"$f":"Podatnicy!#REF!","v":{"$error":"#REF!"}},{"$f":"Podatnicy!#REF!","v":{"$error":"#REF!"}},{"$f":"Podatnicy!#REF!","v":{"$error":"#REF!"}}]
[null,1118,{"$f":"Podatnicy!#REF!","v":{"$error":"#REF!"}},{"$f":"Podatnicy!#REF!","v":{"$error":"#REF!"}},{"$f":"Podatnicy!#REF!","v":{"$error":"#REF!"}}]
[null,1119,{"$f":"Podatnicy!#REF!","v":{"$error":"#REF!"}},{"$f":"Podatnicy!#REF!","v":{"$error":"#REF!"}},{"$f":"Podatnicy!#REF!","v":{"$error":"#REF!"}}]
[null,1120,{"$f":"Podatnicy!#REF!","v":{"$error":"#REF!"}},{"$f":"Podatnicy!#REF!","v":{"$error":"#REF!"}},{"$f":"Podatnicy!#REF!","v":{"$error":"#REF!"}}]
[null,1121,{"$f":"Podatnicy!#REF!","v":{"$error":"#REF!"}},{"$f":"Podatnicy!#REF!","v":{"$error":"#REF!"}},{"$f":"Podatnicy!#REF!","v":{"$error":"#REF!"}}]
[null,1122,{"$f":"Podatnicy!#REF!","v":{"$error":"#REF!"}},{"$f":"Podatnicy!#REF!","v":{"$error":"#REF!"}},{"$f":"Podatnicy!#REF!","v":{"$error":"#REF!"}}]
[null,1123,{"$f":"Podatnicy!#REF!","v":{"$error":"#REF!"}},{"$f":"Podatnicy!#REF!","v":{"$error":"#REF!"}},{"$f":"Podatnicy!#REF!","v":{"$error":"#REF!"}}]
[null,1124,{"$f":"Podatnicy!#REF!","v":{"$error":"#REF!"}},{"$f":"Podatnicy!#REF!","v":{"$error":"#REF!"}},{"$f":"Podatnicy!#REF!","v":{"$error":"#REF!"}}]
[null,1125,{"$f":"Podatnicy!#REF!","v":{"$error":"#REF!"}},{"$f":"Podatnicy!#REF!","v":{"$error":"#REF!"}},{"$f":"Podatnicy!#REF!","v":{"$error":"#REF!"}}]
[null,1126,{"$f":"Podatnicy!#REF!","v":{"$error":"#REF!"}},{"$f":"Podatnicy!#REF!","v":{"$error":"#REF!"}},{"$f":"Podatnicy!#REF!","v":{"$error":"#REF!"}}]
[null,1127,{"$f":"Podatnicy!#REF!","v":{"$error":"#REF!"}},{"$f":"Podatnicy!#REF!","v":{"$error":"#REF!"}},{"$f":"Podatnicy!#REF!","v":{"$error":"#REF!"}}]
[null,1128,{"$f":"Podatnicy!#REF!","v":{"$error":"#REF!"}},{"$f":"Podatnicy!#REF!","v":{"$error":"#REF!"}},{"$f":"Podatnicy!#REF!","v":{"$error":"#REF!"}}]
[null,1129,{"$f":"Podatnicy!#REF!","v":{"$error":"#REF!"}},{"$f":"Podatnicy!#REF!","v":{"$error":"#REF!"}},{"$f":"Podatnicy!#REF!","v":{"$error":"#REF!"}}]
[null,1130,{"$f":"Podatnicy!#REF!","v":{"$error":"#REF!"}},{"$f":"Podatnicy!#REF!","v":{"$error":"#REF!"}},{"$f":"Podatnicy!#REF!","v":{"$error":"#REF!"}}]
[null,1131,{"$f":"Podatnicy!#REF!","v":{"$error":"#REF!"}},{"$f":"Podatnicy!#REF!","v":{"$error":"#REF!"}},{"$f":"Podatnicy!#REF!","v":{"$error":"#REF!"}}]
[null,1132,{"$f":"Podatnicy!#REF!","v":{"$error":"#REF!"}},{"$f":"Podatnicy!#REF!","v":{"$error":"#REF!"}},{"$f":"Podatnicy!#REF!","v":{"$error":"#REF!"}}]
[null,1133,{"$f":"Podatnicy!#REF!","v":{"$error":"#REF!"}},{"$f":"Podatnicy!#REF!","v":{"$error":"#REF!"}},{"$f":"Podatnicy!#REF!","v":{"$error":"#REF!"}}]
[null,1134,{"$f":"Podatnicy!#REF!","v":{"$error":"#REF!"}},{"$f":"Podatnicy!#REF!","v":{"$error":"#REF!"}},{"$f":"Podatnicy!#REF!","v":{"$error":"#REF!"}}]
[null,1135,{"$f":"Podatnicy!#REF!","v":{"$error":"#REF!"}},{"$f":"Podatnicy!#REF!","v":{"$error":"#REF!"}},{"$f":"Podatnicy!#REF!","v":{"$error":"#REF!"}}]
[null,1136,{"$f":"Podatnicy!#REF!","v":{"$error":"#REF!"}},{"$f":"Podatnicy!#REF!","v":{"$error":"#REF!"}},{"$f":"Podatnicy!#REF!","v":{"$error":"#REF!"}}]
[null,1137,{"$f":"Podatnicy!#REF!","v":{"$error":"#REF!"}},{"$f":"Podatnicy!#REF!","v":{"$error":"#REF!"}},{"$f":"Podatnicy!#REF!","v":{"$error":"#REF!"}}]
[null,1138,{"$f":"Podatnicy!#REF!","v":{"$error":"#REF!"}},{"$f":"Podatnicy!#REF!","v":{"$error":"#REF!"}},{"$f":"Podatnicy!#REF!","v":{"$error":"#REF!"}}]
[null,1139,{"$f":"Podatnicy!#REF!","v":{"$error":"#REF!"}},{"$f":"Podatnicy!#REF!","v":{"$error":"#REF!"}},{"$f":"Podatnicy!#REF!","v":{"$error":"#REF!"}}]
[null,1140,{"$f":"Podatnicy!#REF!","v":{"$error":"#REF!"}},{"$f":"Podatnicy!#REF!","v":{"$error":"#REF!"}},{"$f":"Podatnicy!#REF!","v":{"$error":"#REF!"}}]
[null,1141,{"$f":"Podatnicy!#REF!","v":{"$error":"#REF!"}},{"$f":"Podatnicy!#REF!","v":{"$error":"#REF!"}},{"$f":"Podatnicy!#REF!","v":{"$error":"#REF!"}}]
[null,1142,{"$f":"Podatnicy!#REF!","v":{"$error":"#REF!"}},{"$f":"Podatnicy!#REF!","v":{"$error":"#REF!"}},{"$f":"Podatnicy!#REF!","v":{"$error":"#REF!"}}]
[null,1143,{"$f":"Podatnicy!#REF!","v":{"$error":"#REF!"}},{"$f":"Podatnicy!#REF!","v":{"$error":"#REF!"}},{"$f":"Podatnicy!#REF!","v":{"$error":"#REF!"}}]
[null,1144,{"$f":"Podatnicy!#REF!","v":{"$error":"#REF!"}},{"$f":"Podatnicy!#REF!","v":{"$error":"#REF!"}},{"$f":"Podatnicy!#REF!","v":{"$error":"#REF!"}}]
[null,1145,{"$f":"Podatnicy!#REF!","v":{"$error":"#REF!"}},{"$f":"Podatnicy!#REF!","v":{"$error":"#REF!"}},{"$f":"Podatnicy!#REF!","v":{"$error":"#REF!"}}]
[null,1146,{"$f":"Podatnicy!#REF!","v":{"$error":"#REF!"}},{"$f":"Podatnicy!#REF!","v":{"$error":"#REF!"}},{"$f":"Podatnicy!#REF!","v":{"$error":"#REF!"}}]
[null,1147,{"$f":"Podatnicy!#REF!","v":{"$error":"#REF!"}},{"$f":"Podatnicy!#REF!","v":{"$error":"#REF!"}},{"$f":"Podatnicy!#REF!","v":{"$error":"#REF!"}}]
[null,1148,{"$f":"Podatnicy!#REF!","v":{"$error":"#REF!"}},{"$f":"Podatnicy!#REF!","v":{"$error":"#REF!"}},{"$f":"Podatnicy!#REF!","v":{"$error":"#REF!"}}]
[null,1149,{"$f":"Podatnicy!#REF!","v":{"$error":"#REF!"}},{"$f":"Podatnicy!#REF!","v":{"$error":"#REF!"}},{"$f":"Podatnicy!#REF!","v":{"$error":"#REF!"}}]
[null,1150,{"$f":"Podatnicy!#REF!","v":{"$error":"#REF!"}},{"$f":"Podatnicy!#REF!","v":{"$error":"#REF!"}},{"$f":"Podatnicy!#REF!","v":{"$error":"#REF!"}}]
[null,1151,{"$f":"Podatnicy!#REF!","v":{"$error":"#REF!"}},{"$f":"Podatnicy!#REF!","v":{"$error":"#REF!"}},{"$f":"Podatnicy!#REF!","v":{"$error":"#REF!"}}]
[null,1152,{"$f":"Podatnicy!#REF!","v":{"$error":"#REF!"}},{"$f":"Podatnicy!#REF!","v":{"$error":"#REF!"}},{"$f":"Podatnicy!#REF!","v":{"$error":"#REF!"}}]
[null,1153,{"$f":"Podatnicy!#REF!","v":{"$error":"#REF!"}},{"$f":"Podatnicy!#REF!","v":{"$error":"#REF!"}},{"$f":"Podatnicy!#REF!","v":{"$error":"#REF!"}}]
[null,1154,{"$f":"Podatnicy!#REF!","v":{"$error":"#REF!"}},{"$f":"Podatnicy!#REF!","v":{"$error":"#REF!"}},{"$f":"Podatnicy!#REF!","v":{"$error":"#REF!"}}]
[null,1155,{"$f":"Podatnicy!#REF!","v":{"$error":"#REF!"}},{"$f":"Podatnicy!#REF!","v":{"$error":"#REF!"}},{"$f":"Podatnicy!#REF!","v":{"$error":"#REF!"}}]
[null,1156,{"$f":"Podatnicy!#REF!","v":{"$error":"#REF!"}},{"$f":"Podatnicy!#REF!","v":{"$error":"#REF!"}},{"$f":"Podatnicy!#REF!","v":{"$error":"#REF!"}}]
[null,1157,{"$f":"Podatnicy!#REF!","v":{"$error":"#REF!"}},{"$f":"Podatnicy!#REF!","v":{"$error":"#REF!"}},{"$f":"Podatnicy!#REF!","v":{"$error":"#REF!"}}]
[null,1158,{"$f":"Podatnicy!#REF!","v":{"$error":"#REF!"}},{"$f":"Podatnicy!#REF!","v":{"$error":"#REF!"}},{"$f":"Podatnicy!#REF!","v":{"$error":"#REF!"}}]
[null,1159,{"$f":"Podatnicy!#REF!","v":{"$error":"#REF!"}},{"$f":"Podatnicy!#REF!","v":{"$error":"#REF!"}},{"$f":"Podatnicy!#REF!","v":{"$error":"#REF!"}}]
[null,1160,{"$f":"Podatnicy!#REF!","v":{"$error":"#REF!"}},{"$f":"Podatnicy!#REF!","v":{"$error":"#REF!"}},{"$f":"Podatnicy!#REF!","v":{"$error":"#REF!"}}]
[null,1161,{"$f":"Podatnicy!#REF!","v":{"$error":"#REF!"}},{"$f":"Podatnicy!#REF!","v":{"$error":"#REF!"}},{"$f":"Podatnicy!#REF!","v":{"$error":"#REF!"}}]
[null,1162,{"$f":"Podatnicy!#REF!","v":{"$error":"#REF!"}},{"$f":"Podatnicy!#REF!","v":{"$error":"#REF!"}},{"$f":"Podatnicy!#REF!","v":{"$error":"#REF!"}}]
[null,1163,{"$f":"Podatnicy!#REF!","v":{"$error":"#REF!"}},{"$f":"Podatnicy!#REF!","v":{"$error":"#REF!"}},{"$f":"Podatnicy!#REF!","v":{"$error":"#REF!"}}]
[null,1164,{"$f":"Podatnicy!#REF!","v":{"$error":"#REF!"}},{"$f":"Podatnicy!#REF!","v":{"$error":"#REF!"}},{"$f":"Podatnicy!#REF!","v":{"$error":"#REF!"}}]
[null,1165,{"$f":"Podatnicy!#REF!","v":{"$error":"#REF!"}},{"$f":"Podatnicy!#REF!","v":{"$error":"#REF!"}},{"$f":"Podatnicy!#REF!","v":{"$error":"#REF!"}}]
[null,1166,{"$f":"Podatnicy!#REF!","v":{"$error":"#REF!"}},{"$f":"Podatnicy!#REF!","v":{"$error":"#REF!"}},{"$f":"Podatnicy!#REF!","v":{"$error":"#REF!"}}]
[null,1167,{"$f":"Podatnicy!#REF!","v":{"$error":"#REF!"}},{"$f":"Podatnicy!#REF!","v":{"$error":"#REF!"}},{"$f":"Podatnicy!#REF!","v":{"$error":"#REF!"}}]
[null,1168,{"$f":"Podatnicy!#REF!","v":{"$error":"#REF!"}},{"$f":"Podatnicy!#REF!","v":{"$error":"#REF!"}},{"$f":"Podatnicy!#REF!","v":{"$error":"#REF!"}}]
[null,1169,{"$f":"Podatnicy!#REF!","v":{"$error":"#REF!"}},{"$f":"Podatnicy!#REF!","v":{"$error":"#REF!"}},{"$f":"Podatnicy!#REF!","v":{"$error":"#REF!"}}]
[null,1170,{"$f":"Podatnicy!#REF!","v":{"$error":"#REF!"}},{"$f":"Podatnicy!#REF!","v":{"$error":"#REF!"}},{"$f":"Podatnicy!#REF!","v":{"$error":"#REF!"}}]
[null,1171,{"$f":"Podatnicy!#REF!","v":{"$error":"#REF!"}},{"$f":"Podatnicy!#REF!","v":{"$error":"#REF!"}},{"$f":"Podatnicy!#REF!","v":{"$error":"#REF!"}}]
[null,1172,{"$f":"Podatnicy!#REF!","v":{"$error":"#REF!"}},{"$f":"Podatnicy!#REF!","v":{"$error":"#REF!"}},{"$f":"Podatnicy!#REF!","v":{"$error":"#REF!"}}]
[null,1173,{"$f":"Podatnicy!#REF!","v":{"$error":"#REF!"}},{"$f":"Podatnicy!#REF!","v":{"$error":"#REF!"}},{"$f":"Podatnicy!#REF!","v":{"$error":"#REF!"}}]
[null,1174,{"$f":"Podatnicy!#REF!","v":{"$error":"#REF!"}},{"$f":"Podatnicy!#REF!","v":{"$error":"#REF!"}},{"$f":"Podatnicy!#REF!","v":{"$error":"#REF!"}}]
[null,1175,{"$f":"Podatnicy!#REF!","v":{"$error":"#REF!"}},{"$f":"Podatnicy!#REF!","v":{"$error":"#REF!"}},{"$f":"Podatnicy!#REF!","v":{"$error":"#REF!"}}]
[null,1176,{"$f":"Podatnicy!#REF!","v":{"$error":"#REF!"}},{"$f":"Podatnicy!#REF!","v":{"$error":"#REF!"}},{"$f":"Podatnicy!#REF!","v":{"$error":"#REF!"}}]
[null,1177,{"$f":"Podatnicy!#REF!","v":{"$error":"#REF!"}},{"$f":"Podatnicy!#REF!","v":{"$error":"#REF!"}},{"$f":"Podatnicy!#REF!","v":{"$error":"#REF!"}}]
[null,1178,{"$f":"Podatnicy!#REF!","v":{"$error":"#REF!"}},{"$f":"Podatnicy!#REF!","v":{"$error":"#REF!"}},{"$f":"Podatnicy!#REF!","v":{"$error":"#REF!"}}]
[null,1179,{"$f":"Podatnicy!#REF!","v":{"$error":"#REF!"}},{"$f":"Podatnicy!#REF!","v":{"$error":"#REF!"}},{"$f":"Podatnicy!#REF!","v":{"$error":"#REF!"}}]
[null,1180,{"$f":"Podatnicy!#REF!","v":{"$error":"#REF!"}},{"$f":"Podatnicy!#REF!","v":{"$error":"#REF!"}},{"$f":"Podatnicy!#REF!","v":{"$error":"#REF!"}}]
[null,1181,{"$f":"Podatnicy!#REF!","v":{"$error":"#REF!"}},{"$f":"Podatnicy!#REF!","v":{"$error":"#REF!"}},{"$f":"Podatnicy!#REF!","v":{"$error":"#REF!"}}]
[null,1182,{"$f":"Podatnicy!#REF!","v":{"$error":"#REF!"}},{"$f":"Podatnicy!#REF!","v":{"$error":"#REF!"}},{"$f":"Podatnicy!#REF!","v":{"$error":"#REF!"}}]
[null,1183,{"$f":"Podatnicy!#REF!","v":{"$error":"#REF!"}},{"$f":"Podatnicy!#REF!","v":{"$error":"#REF!"}},{"$f":"Podatnicy!#REF!","v":{"$error":"#REF!"}}]
[null,1184,{"$f":"Podatnicy!#REF!","v":{"$error":"#REF!"}},{"$f":"Podatnicy!#REF!","v":{"$error":"#REF!"}},{"$f":"Podatnicy!#REF!","v":{"$error":"#REF!"}}]
[null,1185,{"$f":"Podatnicy!#REF!","v":{"$error":"#REF!"}},{"$f":"Podatnicy!#REF!","v":{"$error":"#REF!"}},{"$f":"Podatnicy!#REF!","v":{"$error":"#REF!"}}]
[null,1186,{"$f":"Podatnicy!#REF!","v":{"$error":"#REF!"}},{"$f":"Podatnicy!#REF!","v":{"$error":"#REF!"}},{"$f":"Podatnicy!#REF!","v":{"$error":"#REF!"}}]
[null,1187,{"$f":"Podatnicy!#REF!","v":{"$error":"#REF!"}},{"$f":"Podatnicy!#REF!","v":{"$error":"#REF!"}},{"$f":"Podatnicy!#REF!","v":{"$error":"#REF!"}}]
[null,1188,{"$f":"Podatnicy!#REF!","v":{"$error":"#REF!"}},{"$f":"Podatnicy!#REF!","v":{"$error":"#REF!"}},{"$f":"Podatnicy!#REF!","v":{"$error":"#REF!"}}]
[null,1189,{"$f":"Podatnicy!#REF!","v":{"$error":"#REF!"}},{"$f":"Podatnicy!#REF!","v":{"$error":"#REF!"}},{"$f":"Podatnicy!#REF!","v":{"$error":"#REF!"}}]
[null,1190,{"$f":"Podatnicy!#REF!","v":{"$error":"#REF!"}},{"$f":"Podatnicy!#REF!","v":{"$error":"#REF!"}},{"$f":"Podatnicy!#REF!","v":{"$error":"#REF!"}}]
[null,1191,{"$f":"Podatnicy!#REF!","v":{"$error":"#REF!"}},{"$f":"Podatnicy!#REF!","v":{"$error":"#REF!"}},{"$f":"Podatnicy!#REF!","v":{"$error":"#REF!"}}]
[null,1192,{"$f":"Podatnicy!#REF!","v":{"$error":"#REF!"}},{"$f":"Podatnicy!#REF!","v":{"$error":"#REF!"}},{"$f":"Podatnicy!#REF!","v":{"$error":"#REF!"}}]
[null,1193,{"$f":"Podatnicy!#REF!","v":{"$error":"#REF!"}},{"$f":"Podatnicy!#REF!","v":{"$error":"#REF!"}},{"$f":"Podatnicy!#REF!","v":{"$error":"#REF!"}}]
[null,1194,{"$f":"Podatnicy!#REF!","v":{"$error":"#REF!"}},{"$f":"Podatnicy!#REF!","v":{"$error":"#REF!"}},{"$f":"Podatnicy!#REF!","v":{"$error":"#REF!"}}]
[null,1195,{"$f":"Podatnicy!#REF!","v":{"$error":"#REF!"}},{"$f":"Podatnicy!#REF!","v":{"$error":"#REF!"}},{"$f":"Podatnicy!#REF!","v":{"$error":"#REF!"}}]
[null,1196,{"$f":"Podatnicy!#REF!","v":{"$error":"#REF!"}},{"$f":"Podatnicy!#REF!","v":{"$error":"#REF!"}},{"$f":"Podatnicy!#REF!","v":{"$error":"#REF!"}}]
[null,1197,{"$f":"Podatnicy!#REF!","v":{"$error":"#REF!"}},{"$f":"Podatnicy!#REF!","v":{"$error":"#REF!"}},{"$f":"Podatnicy!#REF!","v":{"$error":"#REF!"}}]
[null,1198,{"$f":"Podatnicy!#REF!","v":{"$error":"#REF!"}},{"$f":"Podatnicy!#REF!","v":{"$error":"#REF!"}},{"$f":"Podatnicy!#REF!","v":{"$error":"#REF!"}}]
[null,1199,{"$f":"Podatnicy!#REF!","v":{"$error":"#REF!"}},{"$f":"Podatnicy!#REF!","v":{"$error":"#REF!"}},{"$f":"Podatnicy!#REF!","v":{"$error":"#REF!"}}]
[null,1200,{"$f":"Podatnicy!#REF!","v":{"$error":"#REF!"}},{"$f":"Podatnicy!#REF!","v":{"$error":"#REF!"}},{"$f":"Podatnicy!#REF!","v":{"$error":"#REF!"}}]
[null,1201,{"$f":"Podatnicy!#REF!","v":{"$error":"#REF!"}},{"$f":"Podatnicy!#REF!","v":{"$error":"#REF!"}},{"$f":"Podatnicy!#REF!","v":{"$error":"#REF!"}}]
[null,1202,{"$f":"Podatnicy!#REF!","v":{"$error":"#REF!"}},{"$f":"Podatnicy!#REF!","v":{"$error":"#REF!"}},{"$f":"Podatnicy!#REF!","v":{"$error":"#REF!"}}]
[null,1203,{"$f":"Podatnicy!#REF!","v":{"$error":"#REF!"}},{"$f":"Podatnicy!#REF!","v":{"$error":"#REF!"}},{"$f":"Podatnicy!#REF!","v":{"$error":"#REF!"}}]
[null,1204,{"$f":"Podatnicy!#REF!","v":{"$error":"#REF!"}},{"$f":"Podatnicy!#REF!","v":{"$error":"#REF!"}},{"$f":"Podatnicy!#REF!","v":{"$error":"#REF!"}}]
[null,1205,{"$f":"Podatnicy!#REF!","v":{"$error":"#REF!"}},{"$f":"Podatnicy!#REF!","v":{"$error":"#REF!"}},{"$f":"Podatnicy!#REF!","v":{"$error":"#REF!"}}]
[null,1206,{"$f":"Podatnicy!#REF!","v":{"$error":"#REF!"}},{"$f":"Podatnicy!#REF!","v":{"$error":"#REF!"}},{"$f":"Podatnicy!#REF!","v":{"$error":"#REF!"}}]
[null,1207,{"$f":"Podatnicy!#REF!","v":{"$error":"#REF!"}},{"$f":"Podatnicy!#REF!","v":{"$error":"#REF!"}},{"$f":"Podatnicy!#REF!","v":{"$error":"#REF!"}}]
[null,1208,{"$f":"Podatnicy!#REF!","v":{"$error":"#REF!"}},{"$f":"Podatnicy!#REF!","v":{"$error":"#REF!"}},{"$f":"Podatnicy!#REF!","v":{"$error":"#REF!"}}]
[null,1209,{"$f":"Podatnicy!#REF!","v":{"$error":"#REF!"}},{"$f":"Podatnicy!#REF!","v":{"$error":"#REF!"}},{"$f":"Podatnicy!#REF!","v":{"$error":"#REF!"}}]
[null,1210,{"$f":"Podatnicy!#REF!","v":{"$error":"#REF!"}},{"$f":"Podatnicy!#REF!","v":{"$error":"#REF!"}},{"$f":"Podatnicy!#REF!","v":{"$error":"#REF!"}}]
[null,1211,{"$f":"Podatnicy!#REF!","v":{"$error":"#REF!"}},{"$f":"Podatnicy!#REF!","v":{"$error":"#REF!"}},{"$f":"Podatnicy!#REF!","v":{"$error":"#REF!"}}]
[null,1212,{"$f":"Podatnicy!#REF!","v":{"$error":"#REF!"}},{"$f":"Podatnicy!#REF!","v":{"$error":"#REF!"}},{"$f":"Podatnicy!#REF!","v":{"$error":"#REF!"}}]
[null,1213,{"$f":"Podatnicy!#REF!","v":{"$error":"#REF!"}},{"$f":"Podatnicy!#REF!","v":{"$error":"#REF!"}},{"$f":"Podatnicy!#REF!","v":{"$error":"#REF!"}}]
[null,1214,{"$f":"Podatnicy!#REF!","v":{"$error":"#REF!"}},{"$f":"Podatnicy!#REF!","v":{"$error":"#REF!"}},{"$f":"Podatnicy!#REF!","v":{"$error":"#REF!"}}]
[null,1215,{"$f":"Podatnicy!#REF!","v":{"$error":"#REF!"}},{"$f":"Podatnicy!#REF!","v":{"$error":"#REF!"}},{"$f":"Podatnicy!#REF!","v":{"$error":"#REF!"}}]
[null,1216,{"$f":"Podatnicy!#REF!","v":{"$error":"#REF!"}},{"$f":"Podatnicy!#REF!","v":{"$error":"#REF!"}},{"$f":"Podatnicy!#REF!","v":{"$error":"#REF!"}}]
[null,1217,{"$f":"Podatnicy!#REF!","v":{"$error":"#REF!"}},{"$f":"Podatnicy!#REF!","v":{"$error":"#REF!"}},{"$f":"Podatnicy!#REF!","v":{"$error":"#REF!"}}]
[null,1218,{"$f":"Podatnicy!#REF!","v":{"$error":"#REF!"}},{"$f":"Podatnicy!#REF!","v":{"$error":"#REF!"}},{"$f":"Podatnicy!#REF!","v":{"$error":"#REF!"}}]
[null,1219,{"$f":"Podatnicy!#REF!","v":{"$error":"#REF!"}},{"$f":"Podatnicy!#REF!","v":{"$error":"#REF!"}},{"$f":"Podatnicy!#REF!","v":{"$error":"#REF!"}}]
[null,1220,{"$f":"Podatnicy!#REF!","v":{"$error":"#REF!"}},{"$f":"Podatnicy!#REF!","v":{"$error":"#REF!"}},{"$f":"Podatnicy!#REF!","v":{"$error":"#REF!"}}]
[null,1221,{"$f":"Podatnicy!#REF!","v":{"$error":"#REF!"}},{"$f":"Podatnicy!#REF!","v":{"$error":"#REF!"}},{"$f":"Podatnicy!#REF!","v":{"$error":"#REF!"}}]
[null,1222,{"$f":"Podatnicy!#REF!","v":{"$error":"#REF!"}},{"$f":"Podatnicy!#REF!","v":{"$error":"#REF!"}},{"$f":"Podatnicy!#REF!","v":{"$error":"#REF!"}}]
[null,1223,{"$f":"Podatnicy!#REF!","v":{"$error":"#REF!"}},{"$f":"Podatnicy!#REF!","v":{"$error":"#REF!"}},{"$f":"Podatnicy!#REF!","v":{"$error":"#REF!"}}]
[null,1224,{"$f":"Podatnicy!#REF!","v":{"$error":"#REF!"}},{"$f":"Podatnicy!#REF!","v":{"$error":"#REF!"}},{"$f":"Podatnicy!#REF!","v":{"$error":"#REF!"}}]
[null,1225,{"$f":"Podatnicy!#REF!","v":{"$error":"#REF!"}},{"$f":"Podatnicy!#REF!","v":{"$error":"#REF!"}},{"$f":"Podatnicy!#REF!","v":{"$error":"#REF!"}}]
[null,1226,{"$f":"Podatnicy!#REF!","v":{"$error":"#REF!"}},{"$f":"Podatnicy!#REF!","v":{"$error":"#REF!"}},{"$f":"Podatnicy!#REF!","v":{"$error":"#REF!"}}]
[null,1227,{"$f":"Podatnicy!#REF!","v":{"$error":"#REF!"}},{"$f":"Podatnicy!#REF!","v":{"$error":"#REF!"}},{"$f":"Podatnicy!#REF!","v":{"$error":"#REF!"}}]
[null,1228,{"$f":"Podatnicy!#REF!","v":{"$error":"#REF!"}},{"$f":"Podatnicy!#REF!","v":{"$error":"#REF!"}},{"$f":"Podatnicy!#REF!","v":{"$error":"#REF!"}}]
[null,1229,{"$f":"Podatnicy!#REF!","v":{"$error":"#REF!"}},{"$f":"Podatnicy!#REF!","v":{"$error":"#REF!"}},{"$f":"Podatnicy!#REF!","v":{"$error":"#REF!"}}]
[null,1230,{"$f":"Podatnicy!#REF!","v":{"$error":"#REF!"}},{"$f":"Podatnicy!#REF!","v":{"$error":"#REF!"}},{"$f":"Podatnicy!#REF!","v":{"$error":"#REF!"}}]
[null,1231,{"$f":"Podatnicy!#REF!","v":{"$error":"#REF!"}},{"$f":"Podatnicy!#REF!","v":{"$error":"#REF!"}},{"$f":"Podatnicy!#REF!","v":{"$error":"#REF!"}}]
[null,1232,{"$f":"Podatnicy!#REF!","v":{"$error":"#REF!"}},{"$f":"Podatnicy!#REF!","v":{"$error":"#REF!"}},{"$f":"Podatnicy!#REF!","v":{"$error":"#REF!"}}]
[null,1233,{"$f":"Podatnicy!#REF!","v":{"$error":"#REF!"}},{"$f":"Podatnicy!#REF!","v":{"$error":"#REF!"}},{"$f":"Podatnicy!#REF!","v":{"$error":"#REF!"}}]
[null,1234,{"$f":"Podatnicy!#REF!","v":{"$error":"#REF!"}},{"$f":"Podatnicy!#REF!","v":{"$error":"#REF!"}},{"$f":"Podatnicy!#REF!","v":{"$error":"#REF!"}}]
[null,1235,{"$f":"Podatnicy!#REF!","v":{"$error":"#REF!"}},{"$f":"Podatnicy!#REF!","v":{"$error":"#REF!"}},{"$f":"Podatnicy!#REF!","v":{"$error":"#REF!"}}]
[null,1236,{"$f":"Podatnicy!#REF!","v":{"$error":"#REF!"}},{"$f":"Podatnicy!#REF!","v":{"$error":"#REF!"}},{"$f":"Podatnicy!#REF!","v":{"$error":"#REF!"}}]
[null,1237,{"$f":"Podatnicy!#REF!","v":{"$error":"#REF!"}},{"$f":"Podatnicy!#REF!","v":{"$error":"#REF!"}},{"$f":"Podatnicy!#REF!","v":{"$error":"#REF!"}}]
[null,1238,{"$f":"Podatnicy!#REF!","v":{"$error":"#REF!"}},{"$f":"Podatnicy!#REF!","v":{"$error":"#REF!"}},{"$f":"Podatnicy!#REF!","v":{"$error":"#REF!"}}]
[null,1239,{"$f":"Podatnicy!#REF!","v":{"$error":"#REF!"}},{"$f":"Podatnicy!#REF!","v":{"$error":"#REF!"}},{"$f":"Podatnicy!#REF!","v":{"$error":"#REF!"}}]
[null,1240,{"$f":"Podatnicy!#REF!","v":{"$error":"#REF!"}},{"$f":"Podatnicy!#REF!","v":{"$error":"#REF!"}},{"$f":"Podatnicy!#REF!","v":{"$error":"#REF!"}}]
[null,1241,{"$f":"Podatnicy!#REF!","v":{"$error":"#REF!"}},{"$f":"Podatnicy!#REF!","v":{"$error":"#REF!"}},{"$f":"Podatnicy!#REF!","v":{"$error":"#REF!"}}]
[null,1242,{"$f":"Podatnicy!#REF!","v":{"$error":"#REF!"}},{"$f":"Podatnicy!#REF!","v":{"$error":"#REF!"}},{"$f":"Podatnicy!#REF!","v":{"$error":"#REF!"}}]
[null,1243,{"$f":"Podatnicy!#REF!","v":{"$error":"#REF!"}},{"$f":"Podatnicy!#REF!","v":{"$error":"#REF!"}},{"$f":"Podatnicy!#REF!","v":{"$error":"#REF!"}}]
[null,1244,{"$f":"Podatnicy!#REF!","v":{"$error":"#REF!"}},{"$f":"Podatnicy!#REF!","v":{"$error":"#REF!"}},{"$f":"Podatnicy!#REF!","v":{"$error":"#REF!"}}]
[null,1245,{"$f":"Podatnicy!#REF!","v":{"$error":"#REF!"}},{"$f":"Podatnicy!#REF!","v":{"$error":"#REF!"}},{"$f":"Podatnicy!#REF!","v":{"$error":"#REF!"}}]
[null,1246,{"$f":"Podatnicy!#REF!","v":{"$error":"#REF!"}},{"$f":"Podatnicy!#REF!","v":{"$error":"#REF!"}},{"$f":"Podatnicy!#REF!","v":{"$error":"#REF!"}}]
[null,1247,{"$f":"Podatnicy!#REF!","v":{"$error":"#REF!"}},{"$f":"Podatnicy!#REF!","v":{"$error":"#REF!"}},{"$f":"Podatnicy!#REF!","v":{"$error":"#REF!"}}]
[null,1248,{"$f":"Podatnicy!#REF!","v":{"$error":"#REF!"}},{"$f":"Podatnicy!#REF!","v":{"$error":"#REF!"}},{"$f":"Podatnicy!#REF!","v":{"$error":"#REF!"}}]
[null,1249,{"$f":"Podatnicy!#REF!","v":{"$error":"#REF!"}},{"$f":"Podatnicy!#REF!","v":{"$error":"#REF!"}},{"$f":"Podatnicy!#REF!","v":{"$error":"#REF!"}}]
[null,1250,{"$f":"Podatnicy!#REF!","v":{"$error":"#REF!"}},{"$f":"Podatnicy!#REF!","v":{"$error":"#REF!"}},{"$f":"Podatnicy!#REF!","v":{"$error":"#REF!"}}]
[null,1251,{"$f":"Podatnicy!#REF!","v":{"$error":"#REF!"}},{"$f":"Podatnicy!#REF!","v":{"$error":"#REF!"}},{"$f":"Podatnicy!#REF!","v":{"$error":"#REF!"}}]
[null,1252,{"$f":"Podatnicy!#REF!","v":{"$error":"#REF!"}},{"$f":"Podatnicy!#REF!","v":{"$error":"#REF!"}},{"$f":"Podatnicy!#REF!","v":{"$error":"#REF!"}}]
[null,1253,{"$f":"Podatnicy!#REF!","v":{"$error":"#REF!"}},{"$f":"Podatnicy!#REF!","v":{"$error":"#REF!"}},{"$f":"Podatnicy!#REF!","v":{"$error":"#REF!"}}]
[null,1254,{"$f":"Podatnicy!#REF!","v":{"$error":"#REF!"}},{"$f":"Podatnicy!#REF!","v":{"$error":"#REF!"}},{"$f":"Podatnicy!#REF!","v":{"$error":"#REF!"}}]
[null,1255,{"$f":"Podatnicy!#REF!","v":{"$error":"#REF!"}},{"$f":"Podatnicy!#REF!","v":{"$error":"#REF!"}},{"$f":"Podatnicy!#REF!","v":{"$error":"#REF!"}}]
[null,1256,{"$f":"Podatnicy!#REF!","v":{"$error":"#REF!"}},{"$f":"Podatnicy!#REF!","v":{"$error":"#REF!"}},{"$f":"Podatnicy!#REF!","v":{"$error":"#REF!"}}]
[null,1257,{"$f":"Podatnicy!#REF!","v":{"$error":"#REF!"}},{"$f":"Podatnicy!#REF!","v":{"$error":"#REF!"}},{"$f":"Podatnicy!#REF!","v":{"$error":"#REF!"}}]
[null,1258,{"$f":"Podatnicy!#REF!","v":{"$error":"#REF!"}},{"$f":"Podatnicy!#REF!","v":{"$error":"#REF!"}},{"$f":"Podatnicy!#REF!","v":{"$error":"#REF!"}}]
[null,1259,{"$f":"Podatnicy!#REF!","v":{"$error":"#REF!"}},{"$f":"Podatnicy!#REF!","v":{"$error":"#REF!"}},{"$f":"Podatnicy!#REF!","v":{"$error":"#REF!"}}]
[null,1260,{"$f":"Podatnicy!#REF!","v":{"$error":"#REF!"}},{"$f":"Podatnicy!#REF!","v":{"$error":"#REF!"}},{"$f":"Podatnicy!#REF!","v":{"$error":"#REF!"}}]
[null,1261,{"$f":"Podatnicy!#REF!","v":{"$error":"#REF!"}},{"$f":"Podatnicy!#REF!","v":{"$error":"#REF!"}},{"$f":"Podatnicy!#REF!","v":{"$error":"#REF!"}}]
[null,1262,{"$f":"Podatnicy!#REF!","v":{"$error":"#REF!"}},{"$f":"Podatnicy!#REF!","v":{"$error":"#REF!"}},{"$f":"Podatnicy!#REF!","v":{"$error":"#REF!"}}]
[null,1263,{"$f":"Podatnicy!#REF!","v":{"$error":"#REF!"}},{"$f":"Podatnicy!#REF!","v":{"$error":"#REF!"}},{"$f":"Podatnicy!#REF!","v":{"$error":"#REF!"}}]
[null,1264,{"$f":"Podatnicy!#REF!","v":{"$error":"#REF!"}},{"$f":"Podatnicy!#REF!","v":{"$error":"#REF!"}},{"$f":"Podatnicy!#REF!","v":{"$error":"#REF!"}}]
[null,1265,{"$f":"Podatnicy!#REF!","v":{"$error":"#REF!"}},{"$f":"Podatnicy!#REF!","v":{"$error":"#REF!"}},{"$f":"Podatnicy!#REF!","v":{"$error":"#REF!"}}]
[null,1266,{"$f":"Podatnicy!#REF!","v":{"$error":"#REF!"}},{"$f":"Podatnicy!#REF!","v":{"$error":"#REF!"}},{"$f":"Podatnicy!#REF!","v":{"$error":"#REF!"}}]
[null,1267,{"$f":"Podatnicy!#REF!","v":{"$error":"#REF!"}},{"$f":"Podatnicy!#REF!","v":{"$error":"#REF!"}},{"$f":"Podatnicy!#REF!","v":{"$error":"#REF!"}}]
[null,1268,{"$f":"Podatnicy!#REF!","v":{"$error":"#REF!"}},{"$f":"Podatnicy!#REF!","v":{"$error":"#REF!"}},{"$f":"Podatnicy!#REF!","v":{"$error":"#REF!"}}]
[null,1269,{"$f":"Podatnicy!#REF!","v":{"$error":"#REF!"}},{"$f":"Podatnicy!#REF!","v":{"$error":"#REF!"}},{"$f":"Podatnicy!#REF!","v":{"$error":"#REF!"}}]
[null,1270,{"$f":"Podatnicy!#REF!","v":{"$error":"#REF!"}},{"$f":"Podatnicy!#REF!","v":{"$error":"#REF!"}},{"$f":"Podatnicy!#REF!","v":{"$error":"#REF!"}}]
[null,1271,{"$f":"Podatnicy!#REF!","v":{"$error":"#REF!"}},{"$f":"Podatnicy!#REF!","v":{"$error":"#REF!"}},{"$f":"Podatnicy!#REF!","v":{"$error":"#REF!"}}]
[null,1272,{"$f":"Podatnicy!#REF!","v":{"$error":"#REF!"}},{"$f":"Podatnicy!#REF!","v":{"$error":"#REF!"}},{"$f":"Podatnicy!#REF!","v":{"$error":"#REF!"}}]
[null,1273,{"$f":"Podatnicy!#REF!","v":{"$error":"#REF!"}},{"$f":"Podatnicy!#REF!","v":{"$error":"#REF!"}},{"$f":"Podatnicy!#REF!","v":{"$error":"#REF!"}}]
[null,1274,{"$f":"Podatnicy!#REF!","v":{"$error":"#REF!"}},{"$f":"Podatnicy!#REF!","v":{"$error":"#REF!"}},{"$f":"Podatnicy!#REF!","v":{"$error":"#REF!"}}]
[null,1275,{"$f":"Podatnicy!#REF!","v":{"$error":"#REF!"}},{"$f":"Podatnicy!#REF!","v":{"$error":"#REF!"}},{"$f":"Podatnicy!#REF!","v":{"$error":"#REF!"}}]
[null,1276,{"$f":"Podatnicy!#REF!","v":{"$error":"#REF!"}},{"$f":"Podatnicy!#REF!","v":{"$error":"#REF!"}},{"$f":"Podatnicy!#REF!","v":{"$error":"#REF!"}}]
[null,1277,{"$f":"Podatnicy!#REF!","v":{"$error":"#REF!"}},{"$f":"Podatnicy!#REF!","v":{"$error":"#REF!"}},{"$f":"Podatnicy!#REF!","v":{"$error":"#REF!"}}]
[null,1278,{"$f":"Podatnicy!#REF!","v":{"$error":"#REF!"}},{"$f":"Podatnicy!#REF!","v":{"$error":"#REF!"}},{"$f":"Podatnicy!#REF!","v":{"$error":"#REF!"}}]
[null,1279,{"$f":"Podatnicy!#REF!","v":{"$error":"#REF!"}},{"$f":"Podatnicy!#REF!","v":{"$error":"#REF!"}},{"$f":"Podatnicy!#REF!","v":{"$error":"#REF!"}}]
[null,1280,{"$f":"Podatnicy!#REF!","v":{"$error":"#REF!"}},{"$f":"Podatnicy!#REF!","v":{"$error":"#REF!"}},{"$f":"Podatnicy!#REF!","v":{"$error":"#REF!"}}]
[null,1281,{"$f":"Podatnicy!#REF!","v":{"$error":"#REF!"}},{"$f":"Podatnicy!#REF!","v":{"$error":"#REF!"}},{"$f":"Podatnicy!#REF!","v":{"$error":"#REF!"}}]
[null,1282,{"$f":"Podatnicy!#REF!","v":{"$error":"#REF!"}},{"$f":"Podatnicy!#REF!","v":{"$error":"#REF!"}},{"$f":"Podatnicy!#REF!","v":{"$error":"#REF!"}}]
[null,1283,{"$f":"Podatnicy!#REF!","v":{"$error":"#REF!"}},{"$f":"Podatnicy!#REF!","v":{"$error":"#REF!"}},{"$f":"Podatnicy!#REF!","v":{"$error":"#REF!"}}]
[null,1284,{"$f":"Podatnicy!#REF!","v":{"$error":"#REF!"}},{"$f":"Podatnicy!#REF!","v":{"$error":"#REF!"}},{"$f":"Podatnicy!#REF!","v":{"$error":"#REF!"}}]
[null,1285,{"$f":"Podatnicy!#REF!","v":{"$error":"#REF!"}},{"$f":"Podatnicy!#REF!","v":{"$error":"#REF!"}},{"$f":"Podatnicy!#REF!","v":{"$error":"#REF!"}}]
[null,1286,{"$f":"Podatnicy!#REF!","v":{"$error":"#REF!"}},{"$f":"Podatnicy!#REF!","v":{"$error":"#REF!"}},{"$f":"Podatnicy!#REF!","v":{"$error":"#REF!"}}]
[null,1287,{"$f":"Podatnicy!#REF!","v":{"$error":"#REF!"}},{"$f":"Podatnicy!#REF!","v":{"$error":"#REF!"}},{"$f":"Podatnicy!#REF!","v":{"$error":"#REF!"}}]
[null,1288,{"$f":"Podatnicy!#REF!","v":{"$error":"#REF!"}},{"$f":"Podatnicy!#REF!","v":{"$error":"#REF!"}},{"$f":"Podatnicy!#REF!","v":{"$error":"#REF!"}}]
[null,1289,{"$f":"Podatnicy!#REF!","v":{"$error":"#REF!"}},{"$f":"Podatnicy!#REF!","v":{"$error":"#REF!"}},{"$f":"Podatnicy!#REF!","v":{"$error":"#REF!"}}]
[null,1290,{"$f":"Podatnicy!#REF!","v":{"$error":"#REF!"}},{"$f":"Podatnicy!#REF!","v":{"$error":"#REF!"}},{"$f":"Podatnicy!#REF!","v":{"$error":"#REF!"}}]
[null,1291,{"$f":"Podatnicy!#REF!","v":{"$error":"#REF!"}},{"$f":"Podatnicy!#REF!","v":{"$error":"#REF!"}},{"$f":"Podatnicy!#REF!","v":{"$error":"#REF!"}}]
[null,1292,{"$f":"Podatnicy!#REF!","v":{"$error":"#REF!"}},{"$f":"Podatnicy!#REF!","v":{"$error":"#REF!"}},{"$f":"Podatnicy!#REF!","v":{"$error":"#REF!"}}]
[null,1293,{"$f":"Podatnicy!#REF!","v":{"$error":"#REF!"}},{"$f":"Podatnicy!#REF!","v":{"$error":"#REF!"}},{"$f":"Podatnicy!#REF!","v":{"$error":"#REF!"}}]
[null,1294,{"$f":"Podatnicy!#REF!","v":{"$error":"#REF!"}},{"$f":"Podatnicy!#REF!","v":{"$error":"#REF!"}},{"$f":"Podatnicy!#REF!","v":{"$error":"#REF!"}}]
[null,1295,{"$f":"Podatnicy!#REF!","v":{"$error":"#REF!"}},{"$f":"Podatnicy!#REF!","v":{"$error":"#REF!"}},{"$f":"Podatnicy!#REF!","v":{"$error":"#REF!"}}]
[null,1296,{"$f":"Podatnicy!#REF!","v":{"$error":"#REF!"}},{"$f":"Podatnicy!#REF!","v":{"$error":"#REF!"}},{"$f":"Podatnicy!#REF!","v":{"$error":"#REF!"}}]
[null,1297,{"$f":"Podatnicy!#REF!","v":{"$error":"#REF!"}},{"$f":"Podatnicy!#REF!","v":{"$error":"#REF!"}},{"$f":"Podatnicy!#REF!","v":{"$error":"#REF!"}}]
[null,1298,{"$f":"Podatnicy!#REF!","v":{"$error":"#REF!"}},{"$f":"Podatnicy!#REF!","v":{"$error":"#REF!"}},{"$f":"Podatnicy!#REF!","v":{"$error":"#REF!"}}]
[null,1299,{"$f":"Podatnicy!#REF!","v":{"$error":"#REF!"}},{"$f":"Podatnicy!#REF!","v":{"$error":"#REF!"}},{"$f":"Podatnicy!#REF!","v":{"$error":"#REF!"}}]
[null,1300,{"$f":"Podatnicy!#REF!","v":{"$error":"#REF!"}},{"$f":"Podatnicy!#REF!","v":{"$error":"#REF!"}},{"$f":"Podatnicy!#REF!","v":{"$error":"#REF!"}}]
[null,1301,{"$f":"Podatnicy!#REF!","v":{"$error":"#REF!"}},{"$f":"Podatnicy!#REF!","v":{"$error":"#REF!"}},{"$f":"Podatnicy!#REF!","v":{"$error":"#REF!"}}]
[null,1302,{"$f":"Podatnicy!#REF!","v":{"$error":"#REF!"}},{"$f":"Podatnicy!#REF!","v":{"$error":"#REF!"}},{"$f":"Podatnicy!#REF!","v":{"$error":"#REF!"}}]
[null,1303,{"$f":"Podatnicy!#REF!","v":{"$error":"#REF!"}},{"$f":"Podatnicy!#REF!","v":{"$error":"#REF!"}},{"$f":"Podatnicy!#REF!","v":{"$error":"#REF!"}}]
[null,1304,{"$f":"Podatnicy!#REF!","v":{"$error":"#REF!"}},{"$f":"Podatnicy!#REF!","v":{"$error":"#REF!"}},{"$f":"Podatnicy!#REF!","v":{"$error":"#REF!"}}]
[null,1305,{"$f":"Podatnicy!#REF!","v":{"$error":"#REF!"}},{"$f":"Podatnicy!#REF!","v":{"$error":"#REF!"}},{"$f":"Podatnicy!#REF!","v":{"$error":"#REF!"}}]
[null,1306,{"$f":"Podatnicy!#REF!","v":{"$error":"#REF!"}},{"$f":"Podatnicy!#REF!","v":{"$error":"#REF!"}},{"$f":"Podatnicy!#REF!","v":{"$error":"#REF!"}}]
[null,1307,{"$f":"Podatnicy!#REF!","v":{"$error":"#REF!"}},{"$f":"Podatnicy!#REF!","v":{"$error":"#REF!"}},{"$f":"Podatnicy!#REF!","v":{"$error":"#REF!"}}]
[null,1308,{"$f":"Podatnicy!#REF!","v":{"$error":"#REF!"}},{"$f":"Podatnicy!#REF!","v":{"$error":"#REF!"}},{"$f":"Podatnicy!#REF!","v":{"$error":"#REF!"}}]
[null,1309,{"$f":"Podatnicy!#REF!","v":{"$error":"#REF!"}},{"$f":"Podatnicy!#REF!","v":{"$error":"#REF!"}},{"$f":"Podatnicy!#REF!","v":{"$error":"#REF!"}}]
[null,1310,{"$f":"Podatnicy!#REF!","v":{"$error":"#REF!"}},{"$f":"Podatnicy!#REF!","v":{"$error":"#REF!"}},{"$f":"Podatnicy!#REF!","v":{"$error":"#REF!"}}]
[null,1311,{"$f":"Podatnicy!#REF!","v":{"$error":"#REF!"}},{"$f":"Podatnicy!#REF!","v":{"$error":"#REF!"}},{"$f":"Podatnicy!#REF!","v":{"$error":"#REF!"}}]
[null,1312,{"$f":"Podatnicy!#REF!","v":{"$error":"#REF!"}},{"$f":"Podatnicy!#REF!","v":{"$error":"#REF!"}},{"$f":"Podatnicy!#REF!","v":{"$error":"#REF!"}}]
[null,1313,{"$f":"Podatnicy!#REF!","v":{"$error":"#REF!"}},{"$f":"Podatnicy!#REF!","v":{"$error":"#REF!"}},{"$f":"Podatnicy!#REF!","v":{"$error":"#REF!"}}]
[null,1314,{"$f":"Podatnicy!#REF!","v":{"$error":"#REF!"}},{"$f":"Podatnicy!#REF!","v":{"$error":"#REF!"}},{"$f":"Podatnicy!#REF!","v":{"$error":"#REF!"}}]
[null,1315,{"$f":"Podatnicy!#REF!","v":{"$error":"#REF!"}},{"$f":"Podatnicy!#REF!","v":{"$error":"#REF!"}},{"$f":"Podatnicy!#REF!","v":{"$error":"#REF!"}}]
[null,1316,{"$f":"Podatnicy!#REF!","v":{"$error":"#REF!"}},{"$f":"Podatnicy!#REF!","v":{"$error":"#REF!"}},{"$f":"Podatnicy!#REF!","v":{"$error":"#REF!"}}]
[null,1317,{"$f":"Podatnicy!#REF!","v":{"$error":"#REF!"}},{"$f":"Podatnicy!#REF!","v":{"$error":"#REF!"}},{"$f":"Podatnicy!#REF!","v":{"$error":"#REF!"}}]
[null,1318,{"$f":"Podatnicy!#REF!","v":{"$error":"#REF!"}},{"$f":"Podatnicy!#REF!","v":{"$error":"#REF!"}},{"$f":"Podatnicy!#REF!","v":{"$error":"#REF!"}}]
[null,1319,{"$f":"Podatnicy!#REF!","v":{"$error":"#REF!"}},{"$f":"Podatnicy!#REF!","v":{"$error":"#REF!"}},{"$f":"Podatnicy!#REF!","v":{"$error":"#REF!"}}]
[null,1320,{"$f":"Podatnicy!#REF!","v":{"$error":"#REF!"}},{"$f":"Podatnicy!#REF!","v":{"$error":"#REF!"}},{"$f":"Podatnicy!#REF!","v":{"$error":"#REF!"}}]
[null,1321,{"$f":"Podatnicy!#REF!","v":{"$error":"#REF!"}},{"$f":"Podatnicy!#REF!","v":{"$error":"#REF!"}},{"$f":"Podatnicy!#REF!","v":{"$error":"#REF!"}}]
[null,1322,{"$f":"Podatnicy!#REF!","v":{"$error":"#REF!"}},{"$f":"Podatnicy!#REF!","v":{"$error":"#REF!"}},{"$f":"Podatnicy!#REF!","v":{"$error":"#REF!"}}]
[null,1323,{"$f":"Podatnicy!#REF!","v":{"$error":"#REF!"}},{"$f":"Podatnicy!#REF!","v":{"$error":"#REF!"}},{"$f":"Podatnicy!#REF!","v":{"$error":"#REF!"}}]
[null,1324,{"$f":"Podatnicy!#REF!","v":{"$error":"#REF!"}},{"$f":"Podatnicy!#REF!","v":{"$error":"#REF!"}},{"$f":"Podatnicy!#REF!","v":{"$error":"#REF!"}}]
[null,1325,{"$f":"Podatnicy!#REF!","v":{"$error":"#REF!"}},{"$f":"Podatnicy!#REF!","v":{"$error":"#REF!"}},{"$f":"Podatnicy!#REF!","v":{"$error":"#REF!"}}]
[null,1326,{"$f":"Podatnicy!#REF!","v":{"$error":"#REF!"}},{"$f":"Podatnicy!#REF!","v":{"$error":"#REF!"}},{"$f":"Podatnicy!#REF!","v":{"$error":"#REF!"}}]
[null,1327,{"$f":"Podatnicy!#REF!","v":{"$error":"#REF!"}},{"$f":"Podatnicy!#REF!","v":{"$error":"#REF!"}},{"$f":"Podatnicy!#REF!","v":{"$error":"#REF!"}}]
[null,1328,{"$f":"Podatnicy!#REF!","v":{"$error":"#REF!"}},{"$f":"Podatnicy!#REF!","v":{"$error":"#REF!"}},{"$f":"Podatnicy!#REF!","v":{"$error":"#REF!"}}]
[null,1329,{"$f":"Podatnicy!#REF!","v":{"$error":"#REF!"}},{"$f":"Podatnicy!#REF!","v":{"$error":"#REF!"}},{"$f":"Podatnicy!#REF!","v":{"$error":"#REF!"}}]
[null,1330,{"$f":"Podatnicy!#REF!","v":{"$error":"#REF!"}},{"$f":"Podatnicy!#REF!","v":{"$error":"#REF!"}},{"$f":"Podatnicy!#REF!","v":{"$error":"#REF!"}}]
[null,1331,{"$f":"Podatnicy!#REF!","v":{"$error":"#REF!"}},{"$f":"Podatnicy!#REF!","v":{"$error":"#REF!"}},{"$f":"Podatnicy!#REF!","v":{"$error":"#REF!"}}]
[null,1332,{"$f":"Podatnicy!#REF!","v":{"$error":"#REF!"}},{"$f":"Podatnicy!#REF!","v":{"$error":"#REF!"}},{"$f":"Podatnicy!#REF!","v":{"$error":"#REF!"}}]
[null,1333,{"$f":"Podatnicy!#REF!","v":{"$error":"#REF!"}},{"$f":"Podatnicy!#REF!","v":{"$error":"#REF!"}},{"$f":"Podatnicy!#REF!","v":{"$error":"#REF!"}}]
[null,1334,{"$f":"Podatnicy!#REF!","v":{"$error":"#REF!"}},{"$f":"Podatnicy!#REF!","v":{"$error":"#REF!"}},{"$f":"Podatnicy!#REF!","v":{"$error":"#REF!"}}]
[null,1335,{"$f":"Podatnicy!#REF!","v":{"$error":"#REF!"}},{"$f":"Podatnicy!#REF!","v":{"$error":"#REF!"}},{"$f":"Podatnicy!#REF!","v":{"$error":"#REF!"}}]
[null,1336,{"$f":"Podatnicy!#REF!","v":{"$error":"#REF!"}},{"$f":"Podatnicy!#REF!","v":{"$error":"#REF!"}},{"$f":"Podatnicy!#REF!","v":{"$error":"#REF!"}}]
[null,1337,{"$f":"Podatnicy!#REF!","v":{"$error":"#REF!"}},{"$f":"Podatnicy!#REF!","v":{"$error":"#REF!"}},{"$f":"Podatnicy!#REF!","v":{"$error":"#REF!"}}]
[null,1338,{"$f":"Podatnicy!#REF!","v":{"$error":"#REF!"}},{"$f":"Podatnicy!#REF!","v":{"$error":"#REF!"}},{"$f":"Podatnicy!#REF!","v":{"$error":"#REF!"}}]
[null,1339,{"$f":"Podatnicy!#REF!","v":{"$error":"#REF!"}},{"$f":"Podatnicy!#REF!","v":{"$error":"#REF!"}},{"$f":"Podatnicy!#REF!","v":{"$error":"#REF!"}}]
[null,1340,{"$f":"Podatnicy!#REF!","v":{"$error":"#REF!"}},{"$f":"Podatnicy!#REF!","v":{"$error":"#REF!"}},{"$f":"Podatnicy!#REF!","v":{"$error":"#REF!"}}]
[null,1341,{"$f":"Podatnicy!#REF!","v":{"$error":"#REF!"}},{"$f":"Podatnicy!#REF!","v":{"$error":"#REF!"}},{"$f":"Podatnicy!#REF!","v":{"$error":"#REF!"}}]
[null,1342,{"$f":"Podatnicy!#REF!","v":{"$error":"#REF!"}},{"$f":"Podatnicy!#REF!","v":{"$error":"#REF!"}},{"$f":"Podatnicy!#REF!","v":{"$error":"#REF!"}}]
[null,1343,{"$f":"Podatnicy!#REF!","v":{"$error":"#REF!"}},{"$f":"Podatnicy!#REF!","v":{"$error":"#REF!"}},{"$f":"Podatnicy!#REF!","v":{"$error":"#REF!"}}]
[null,1344,{"$f":"Podatnicy!#REF!","v":{"$error":"#REF!"}},{"$f":"Podatnicy!#REF!","v":{"$error":"#REF!"}},{"$f":"Podatnicy!#REF!","v":{"$error":"#REF!"}}]
[null,1345,{"$f":"Podatnicy!#REF!","v":{"$error":"#REF!"}},{"$f":"Podatnicy!#REF!","v":{"$error":"#REF!"}},{"$f":"Podatnicy!#REF!","v":{"$error":"#REF!"}}]
[null,1346,{"$f":"Podatnicy!#REF!","v":{"$error":"#REF!"}},{"$f":"Podatnicy!#REF!","v":{"$error":"#REF!"}},{"$f":"Podatnicy!#REF!","v":{"$error":"#REF!"}}]
[null,1347,{"$f":"Podatnicy!#REF!","v":{"$error":"#REF!"}},{"$f":"Podatnicy!#REF!","v":{"$error":"#REF!"}},{"$f":"Podatnicy!#REF!","v":{"$error":"#REF!"}}]
[null,1348,{"$f":"Podatnicy!#REF!","v":{"$error":"#REF!"}},{"$f":"Podatnicy!#REF!","v":{"$error":"#REF!"}},{"$f":"Podatnicy!#REF!","v":{"$error":"#REF!"}}]
[null,1349,{"$f":"Podatnicy!#REF!","v":{"$error":"#REF!"}},{"$f":"Podatnicy!#REF!","v":{"$error":"#REF!"}},{"$f":"Podatnicy!#REF!","v":{"$error":"#REF!"}}]
[null,1350,{"$f":"Podatnicy!#REF!","v":{"$error":"#REF!"}},{"$f":"Podatnicy!#REF!","v":{"$error":"#REF!"}},{"$f":"Podatnicy!#REF!","v":{"$error":"#REF!"}}]
[null,1351,{"$f":"Podatnicy!#REF!","v":{"$error":"#REF!"}},{"$f":"Podatnicy!#REF!","v":{"$error":"#REF!"}},{"$f":"Podatnicy!#REF!","v":{"$error":"#REF!"}}]
[null,1352,{"$f":"Podatnicy!#REF!","v":{"$error":"#REF!"}},{"$f":"Podatnicy!#REF!","v":{"$error":"#REF!"}},{"$f":"Podatnicy!#REF!","v":{"$error":"#REF!"}}]
[null,1353,{"$f":"Podatnicy!#REF!","v":{"$error":"#REF!"}},{"$f":"Podatnicy!#REF!","v":{"$error":"#REF!"}},{"$f":"Podatnicy!#REF!","v":{"$error":"#REF!"}}]
[null,1354,{"$f":"Podatnicy!#REF!","v":{"$error":"#REF!"}},{"$f":"Podatnicy!#REF!","v":{"$error":"#REF!"}},{"$f":"Podatnicy!#REF!","v":{"$error":"#REF!"}}]
[null,1355,{"$f":"Podatnicy!#REF!","v":{"$error":"#REF!"}},{"$f":"Podatnicy!#REF!","v":{"$error":"#REF!"}},{"$f":"Podatnicy!#REF!","v":{"$error":"#REF!"}}]
[null,1356,{"$f":"Podatnicy!#REF!","v":{"$error":"#REF!"}},{"$f":"Podatnicy!#REF!","v":{"$error":"#REF!"}},{"$f":"Podatnicy!#REF!","v":{"$error":"#REF!"}}]
[null,1357,{"$f":"Podatnicy!#REF!","v":{"$error":"#REF!"}},{"$f":"Podatnicy!#REF!","v":{"$error":"#REF!"}},{"$f":"Podatnicy!#REF!","v":{"$error":"#REF!"}}]
[null,1358,{"$f":"Podatnicy!#REF!","v":{"$error":"#REF!"}},{"$f":"Podatnicy!#REF!","v":{"$error":"#REF!"}},{"$f":"Podatnicy!#REF!","v":{"$error":"#REF!"}}]
[null,1359,{"$f":"Podatnicy!#REF!","v":{"$error":"#REF!"}},{"$f":"Podatnicy!#REF!","v":{"$error":"#REF!"}},{"$f":"Podatnicy!#REF!","v":{"$error":"#REF!"}}]
[null,1360,{"$f":"Podatnicy!#REF!","v":{"$error":"#REF!"}},{"$f":"Podatnicy!#REF!","v":{"$error":"#REF!"}},{"$f":"Podatnicy!#REF!","v":{"$error":"#REF!"}}]
[null,1361,{"$f":"Podatnicy!#REF!","v":{"$error":"#REF!"}},{"$f":"Podatnicy!#REF!","v":{"$error":"#REF!"}},{"$f":"Podatnicy!#REF!","v":{"$error":"#REF!"}}]
[null,1362,{"$f":"Podatnicy!#REF!","v":{"$error":"#REF!"}},{"$f":"Podatnicy!#REF!","v":{"$error":"#REF!"}},{"$f":"Podatnicy!#REF!","v":{"$error":"#REF!"}}]
[null,1363,{"$f":"Podatnicy!#REF!","v":{"$error":"#REF!"}},{"$f":"Podatnicy!#REF!","v":{"$error":"#REF!"}},{"$f":"Podatnicy!#REF!","v":{"$error":"#REF!"}}]
[null,1364,{"$f":"Podatnicy!#REF!","v":{"$error":"#REF!"}},{"$f":"Podatnicy!#REF!","v":{"$error":"#REF!"}},{"$f":"Podatnicy!#REF!","v":{"$error":"#REF!"}}]
[null,1365,{"$f":"Podatnicy!#REF!","v":{"$error":"#REF!"}},{"$f":"Podatnicy!#REF!","v":{"$error":"#REF!"}},{"$f":"Podatnicy!#REF!","v":{"$error":"#REF!"}}]
[null,1366,{"$f":"Podatnicy!#REF!","v":{"$error":"#REF!"}},{"$f":"Podatnicy!#REF!","v":{"$error":"#REF!"}},{"$f":"Podatnicy!#REF!","v":{"$error":"#REF!"}}]
[null,1367,{"$f":"Podatnicy!#REF!","v":{"$error":"#REF!"}},{"$f":"Podatnicy!#REF!","v":{"$error":"#REF!"}},{"$f":"Podatnicy!#REF!","v":{"$error":"#REF!"}}]
[null,1368,{"$f":"Podatnicy!#REF!","v":{"$error":"#REF!"}},{"$f":"Podatnicy!#REF!","v":{"$error":"#REF!"}},{"$f":"Podatnicy!#REF!","v":{"$error":"#REF!"}}]
[null,1369,{"$f":"Podatnicy!#REF!","v":{"$error":"#REF!"}},{"$f":"Podatnicy!#REF!","v":{"$error":"#REF!"}},{"$f":"Podatnicy!#REF!","v":{"$error":"#REF!"}}]
[null,1370,{"$f":"Podatnicy!#REF!","v":{"$error":"#REF!"}},{"$f":"Podatnicy!#REF!","v":{"$error":"#REF!"}},{"$f":"Podatnicy!#REF!","v":{"$error":"#REF!"}}]
[null,1371,{"$f":"Podatnicy!#REF!","v":{"$error":"#REF!"}},{"$f":"Podatnicy!#REF!","v":{"$error":"#REF!"}},{"$f":"Podatnicy!#REF!","v":{"$error":"#REF!"}}]
[null,1372,{"$f":"Podatnicy!#REF!","v":{"$error":"#REF!"}},{"$f":"Podatnicy!#REF!","v":{"$error":"#REF!"}},{"$f":"Podatnicy!#REF!","v":{"$error":"#REF!"}}]
[null,1373,{"$f":"Podatnicy!#REF!","v":{"$error":"#REF!"}},{"$f":"Podatnicy!#REF!","v":{"$error":"#REF!"}},{"$f":"Podatnicy!#REF!","v":{"$error":"#REF!"}}]
[null,1374,{"$f":"Podatnicy!#REF!","v":{"$error":"#REF!"}},{"$f":"Podatnicy!#REF!","v":{"$error":"#REF!"}},{"$f":"Podatnicy!#REF!","v":{"$error":"#REF!"}}]
[null,1375,{"$f":"Podatnicy!#REF!","v":{"$error":"#REF!"}},{"$f":"Podatnicy!#REF!","v":{"$error":"#REF!"}},{"$f":"Podatnicy!#REF!","v":{"$error":"#REF!"}}]
[null,1376,{"$f":"Podatnicy!#REF!","v":{"$error":"#REF!"}},{"$f":"Podatnicy!#REF!","v":{"$error":"#REF!"}},{"$f":"Podatnicy!#REF!","v":{"$error":"#REF!"}}]
[null,1377,{"$f":"Podatnicy!#REF!","v":{"$error":"#REF!"}},{"$f":"Podatnicy!#REF!","v":{"$error":"#REF!"}},{"$f":"Podatnicy!#REF!","v":{"$error":"#REF!"}}]
[null,1378,{"$f":"Podatnicy!#REF!","v":{"$error":"#REF!"}},{"$f":"Podatnicy!#REF!","v":{"$error":"#REF!"}},{"$f":"Podatnicy!#REF!","v":{"$error":"#REF!"}}]
[null,1379,{"$f":"Podatnicy!#REF!","v":{"$error":"#REF!"}},{"$f":"Podatnicy!#REF!","v":{"$error":"#REF!"}},{"$f":"Podatnicy!#REF!","v":{"$error":"#REF!"}}]
[null,1380,{"$f":"Podatnicy!#REF!","v":{"$error":"#REF!"}},{"$f":"Podatnicy!#REF!","v":{"$error":"#REF!"}},{"$f":"Podatnicy!#REF!","v":{"$error":"#REF!"}}]
[null,1381,{"$f":"Podatnicy!#REF!","v":{"$error":"#REF!"}},{"$f":"Podatnicy!#REF!","v":{"$error":"#REF!"}},{"$f":"Podatnicy!#REF!","v":{"$error":"#REF!"}}]
[null,1382,{"$f":"Podatnicy!#REF!","v":{"$error":"#REF!"}},{"$f":"Podatnicy!#REF!","v":{"$error":"#REF!"}},{"$f":"Podatnicy!#REF!","v":{"$error":"#REF!"}}]
[null,1383,{"$f":"Podatnicy!#REF!","v":{"$error":"#REF!"}},{"$f":"Podatnicy!#REF!","v":{"$error":"#REF!"}},{"$f":"Podatnicy!#REF!","v":{"$error":"#REF!"}}]
[null,1384,{"$f":"Podatnicy!#REF!","v":{"$error":"#REF!"}},{"$f":"Podatnicy!#REF!","v":{"$error":"#REF!"}},{"$f":"Podatnicy!#REF!","v":{"$error":"#REF!"}}]
[null,1385,{"$f":"Podatnicy!#REF!","v":{"$error":"#REF!"}},{"$f":"Podatnicy!#REF!","v":{"$error":"#REF!"}},{"$f":"Podatnicy!#REF!","v":{"$error":"#REF!"}}]
[null,1386,{"$f":"Podatnicy!#REF!","v":{"$error":"#REF!"}},{"$f":"Podatnicy!#REF!","v":{"$error":"#REF!"}},{"$f":"Podatnicy!#REF!","v":{"$error":"#REF!"}}]
[null,1387,{"$f":"Podatnicy!#REF!","v":{"$error":"#REF!"}},{"$f":"Podatnicy!#REF!","v":{"$error":"#REF!"}},{"$f":"Podatnicy!#REF!","v":{"$error":"#REF!"}}]
[null,1388,{"$f":"Podatnicy!#REF!","v":{"$error":"#REF!"}},{"$f":"Podatnicy!#REF!","v":{"$error":"#REF!"}},{"$f":"Podatnicy!#REF!","v":{"$error":"#REF!"}}]
[null,1389,{"$f":"Podatnicy!#REF!","v":{"$error":"#REF!"}},{"$f":"Podatnicy!#REF!","v":{"$error":"#REF!"}},{"$f":"Podatnicy!#REF!","v":{"$error":"#REF!"}}]
[null,1390,{"$f":"Podatnicy!#REF!","v":{"$error":"#REF!"}},{"$f":"Podatnicy!#REF!","v":{"$error":"#REF!"}},{"$f":"Podatnicy!#REF!","v":{"$error":"#REF!"}}]
[null,1391,{"$f":"Podatnicy!#REF!","v":{"$error":"#REF!"}},{"$f":"Podatnicy!#REF!","v":{"$error":"#REF!"}},{"$f":"Podatnicy!#REF!","v":{"$error":"#REF!"}}]
[null,1392,{"$f":"Podatnicy!#REF!","v":{"$error":"#REF!"}},{"$f":"Podatnicy!#REF!","v":{"$error":"#REF!"}},{"$f":"Podatnicy!#REF!","v":{"$error":"#REF!"}}]
[null,1393,{"$f":"Podatnicy!#REF!","v":{"$error":"#REF!"}},{"$f":"Podatnicy!#REF!","v":{"$error":"#REF!"}},{"$f":"Podatnicy!#REF!","v":{"$error":"#REF!"}}]
[null,1394,{"$f":"Podatnicy!#REF!","v":{"$error":"#REF!"}},{"$f":"Podatnicy!#REF!","v":{"$error":"#REF!"}},{"$f":"Podatnicy!#REF!","v":{"$error":"#REF!"}}]
[null,1395,{"$f":"Podatnicy!#REF!","v":{"$error":"#REF!"}},{"$f":"Podatnicy!#REF!","v":{"$error":"#REF!"}},{"$f":"Podatnicy!#REF!","v":{"$error":"#REF!"}}]
[null,1396,{"$f":"Podatnicy!#REF!","v":{"$error":"#REF!"}},{"$f":"Podatnicy!#REF!","v":{"$error":"#REF!"}},{"$f":"Podatnicy!#REF!","v":{"$error":"#REF!"}}]
[null,1397,{"$f":"Podatnicy!#REF!","v":{"$error":"#REF!"}},{"$f":"Podatnicy!#REF!","v":{"$error":"#REF!"}},{"$f":"Podatnicy!#REF!","v":{"$error":"#REF!"}}]
[null,1398,{"$f":"Podatnicy!#REF!","v":{"$error":"#REF!"}},{"$f":"Podatnicy!#REF!","v":{"$error":"#REF!"}},{"$f":"Podatnicy!#REF!","v":{"$error":"#REF!"}}]
[null,1399,{"$f":"Podatnicy!#REF!","v":{"$error":"#REF!"}},{"$f":"Podatnicy!#REF!","v":{"$error":"#REF!"}},{"$f":"Podatnicy!#REF!","v":{"$error":"#REF!"}}]
[null,1400,{"$f":"Podatnicy!#REF!","v":{"$error":"#REF!"}},{"$f":"Podatnicy!#REF!","v":{"$error":"#REF!"}},{"$f":"Podatnicy!#REF!","v":{"$error":"#REF!"}}]
[null,1401,{"$f":"Podatnicy!#REF!","v":{"$error":"#REF!"}},{"$f":"Podatnicy!#REF!","v":{"$error":"#REF!"}},{"$f":"Podatnicy!#REF!","v":{"$error":"#REF!"}}]
[null,1402,{"$f":"Podatnicy!#REF!","v":{"$error":"#REF!"}},{"$f":"Podatnicy!#REF!","v":{"$error":"#REF!"}},{"$f":"Podatnicy!#REF!","v":{"$error":"#REF!"}}]
[null,1403,{"$f":"Podatnicy!#REF!","v":{"$error":"#REF!"}},{"$f":"Podatnicy!#REF!","v":{"$error":"#REF!"}},{"$f":"Podatnicy!#REF!","v":{"$error":"#REF!"}}]
[null,1404,{"$f":"Podatnicy!#REF!","v":{"$error":"#REF!"}},{"$f":"Podatnicy!#REF!","v":{"$error":"#REF!"}},{"$f":"Podatnicy!#REF!","v":{"$error":"#REF!"}}]
[null,1405,{"$f":"Podatnicy!#REF!","v":{"$error":"#REF!"}},{"$f":"Podatnicy!#REF!","v":{"$error":"#REF!"}},{"$f":"Podatnicy!#REF!","v":{"$error":"#REF!"}}]
[null,1406,{"$f":"Podatnicy!#REF!","v":{"$error":"#REF!"}},{"$f":"Podatnicy!#REF!","v":{"$error":"#REF!"}},{"$f":"Podatnicy!#REF!","v":{"$error":"#REF!"}}]
[null,1407,{"$f":"Podatnicy!#REF!","v":{"$error":"#REF!"}},{"$f":"Podatnicy!#REF!","v":{"$error":"#REF!"}},{"$f":"Podatnicy!#REF!","v":{"$error":"#REF!"}}]
[null,1408,{"$f":"Podatnicy!#REF!","v":{"$error":"#REF!"}},{"$f":"Podatnicy!#REF!","v":{"$error":"#REF!"}},{"$f":"Podatnicy!#REF!","v":{"$error":"#REF!"}}]
[null,1409,{"$f":"Podatnicy!#REF!","v":{"$error":"#REF!"}},{"$f":"Podatnicy!#REF!","v":{"$error":"#REF!"}},{"$f":"Podatnicy!#REF!","v":{"$error":"#REF!"}}]
[null,1410,{"$f":"Podatnicy!#REF!","v":{"$error":"#REF!"}},{"$f":"Podatnicy!#REF!","v":{"$error":"#REF!"}},{"$f":"Podatnicy!#REF!","v":{"$error":"#REF!"}}]
[null,1411,{"$f":"Podatnicy!#REF!","v":{"$error":"#REF!"}},{"$f":"Podatnicy!#REF!","v":{"$error":"#REF!"}},{"$f":"Podatnicy!#REF!","v":{"$error":"#REF!"}}]
[null,1412,{"$f":"Podatnicy!#REF!","v":{"$error":"#REF!"}},{"$f":"Podatnicy!#REF!","v":{"$error":"#REF!"}},{"$f":"Podatnicy!#REF!","v":{"$error":"#REF!"}}]
[null,1413,{"$f":"Podatnicy!#REF!","v":{"$error":"#REF!"}},{"$f":"Podatnicy!#REF!","v":{"$error":"#REF!"}},{"$f":"Podatnicy!#REF!","v":{"$error":"#REF!"}}]
[null,1414,{"$f":"Podatnicy!#REF!","v":{"$error":"#REF!"}},{"$f":"Podatnicy!#REF!","v":{"$error":"#REF!"}},{"$f":"Podatnicy!#REF!","v":{"$error":"#REF!"}}]
[null,1415,{"$f":"Podatnicy!#REF!","v":{"$error":"#REF!"}},{"$f":"Podatnicy!#REF!","v":{"$error":"#REF!"}},{"$f":"Podatnicy!#REF!","v":{"$error":"#REF!"}}]
[null,1416,{"$f":"Podatnicy!#REF!","v":{"$error":"#REF!"}},{"$f":"Podatnicy!#REF!","v":{"$error":"#REF!"}},{"$f":"Podatnicy!#REF!","v":{"$error":"#REF!"}}]
[null,1417,{"$f":"Podatnicy!#REF!","v":{"$error":"#REF!"}},{"$f":"Podatnicy!#REF!","v":{"$error":"#REF!"}},{"$f":"Podatnicy!#REF!","v":{"$error":"#REF!"}}]
[null,1418,{"$f":"Podatnicy!#REF!","v":{"$error":"#REF!"}},{"$f":"Podatnicy!#REF!","v":{"$error":"#REF!"}},{"$f":"Podatnicy!#REF!","v":{"$error":"#REF!"}}]
[null,1419,{"$f":"Podatnicy!#REF!","v":{"$error":"#REF!"}},{"$f":"Podatnicy!#REF!","v":{"$error":"#REF!"}},{"$f":"Podatnicy!#REF!","v":{"$error":"#REF!"}}]
[null,1420,{"$f":"Podatnicy!#REF!","v":{"$error":"#REF!"}},{"$f":"Podatnicy!#REF!","v":{"$error":"#REF!"}},{"$f":"Podatnicy!#REF!","v":{"$error":"#REF!"}}]
[null,1421,{"$f":"Podatnicy!#REF!","v":{"$error":"#REF!"}},{"$f":"Podatnicy!#REF!","v":{"$error":"#REF!"}},{"$f":"Podatnicy!#REF!","v":{"$error":"#REF!"}}]
[null,1422,{"$f":"Podatnicy!#REF!","v":{"$error":"#REF!"}},{"$f":"Podatnicy!#REF!","v":{"$error":"#REF!"}},{"$f":"Podatnicy!#REF!","v":{"$error":"#REF!"}}]
[null,1423,{"$f":"Podatnicy!#REF!","v":{"$error":"#REF!"}},{"$f":"Podatnicy!#REF!","v":{"$error":"#REF!"}},{"$f":"Podatnicy!#REF!","v":{"$error":"#REF!"}}]
[null,1424,{"$f":"Podatnicy!#REF!","v":{"$error":"#REF!"}},{"$f":"Podatnicy!#REF!","v":{"$error":"#REF!"}},{"$f":"Podatnicy!#REF!","v":{"$error":"#REF!"}}]
[null,1425,{"$f":"Podatnicy!#REF!","v":{"$error":"#REF!"}},{"$f":"Podatnicy!#REF!","v":{"$error":"#REF!"}},{"$f":"Podatnicy!#REF!","v":{"$error":"#REF!"}}]
[null,1426,{"$f":"Podatnicy!#REF!","v":{"$error":"#REF!"}},{"$f":"Podatnicy!#REF!","v":{"$error":"#REF!"}},{"$f":"Podatnicy!#REF!","v":{"$error":"#REF!"}}]
[null,1427,{"$f":"Podatnicy!#REF!","v":{"$error":"#REF!"}},{"$f":"Podatnicy!#REF!","v":{"$error":"#REF!"}},{"$f":"Podatnicy!#REF!","v":{"$error":"#REF!"}}]
[null,1428,{"$f":"Podatnicy!#REF!","v":{"$error":"#REF!"}},{"$f":"Podatnicy!#REF!","v":{"$error":"#REF!"}},{"$f":"Podatnicy!#REF!","v":{"$error":"#REF!"}}]
[null,1429,{"$f":"Podatnicy!#REF!","v":{"$error":"#REF!"}},{"$f":"Podatnicy!#REF!","v":{"$error":"#REF!"}},{"$f":"Podatnicy!#REF!","v":{"$error":"#REF!"}}]
[null,1430,{"$f":"Podatnicy!#REF!","v":{"$error":"#REF!"}},{"$f":"Podatnicy!#REF!","v":{"$error":"#REF!"}},{"$f":"Podatnicy!#REF!","v":{"$error":"#REF!"}}]
[null,1431,{"$f":"Podatnicy!#REF!","v":{"$error":"#REF!"}},{"$f":"Podatnicy!#REF!","v":{"$error":"#REF!"}},{"$f":"Podatnicy!#REF!","v":{"$error":"#REF!"}}]
[null,1432,{"$f":"Podatnicy!#REF!","v":{"$error":"#REF!"}},{"$f":"Podatnicy!#REF!","v":{"$error":"#REF!"}},{"$f":"Podatnicy!#REF!","v":{"$error":"#REF!"}}]
[null,1433,{"$f":"Podatnicy!#REF!","v":{"$error":"#REF!"}},{"$f":"Podatnicy!#REF!","v":{"$error":"#REF!"}},{"$f":"Podatnicy!#REF!","v":{"$error":"#REF!"}}]
[null,1434,{"$f":"Podatnicy!#REF!","v":{"$error":"#REF!"}},{"$f":"Podatnicy!#REF!","v":{"$error":"#REF!"}},{"$f":"Podatnicy!#REF!","v":{"$error":"#REF!"}}]
[null,1435,{"$f":"Podatnicy!#REF!","v":{"$error":"#REF!"}},{"$f":"Podatnicy!#REF!","v":{"$error":"#REF!"}},{"$f":"Podatnicy!#REF!","v":{"$error":"#REF!"}}]
[null,1436,{"$f":"Podatnicy!#REF!","v":{"$error":"#REF!"}},{"$f":"Podatnicy!#REF!","v":{"$error":"#REF!"}},{"$f":"Podatnicy!#REF!","v":{"$error":"#REF!"}}]
[null,1437,{"$f":"Podatnicy!#REF!","v":{"$error":"#REF!"}},{"$f":"Podatnicy!#REF!","v":{"$error":"#REF!"}},{"$f":"Podatnicy!#REF!","v":{"$error":"#REF!"}}]
[null,1438,{"$f":"Podatnicy!#REF!","v":{"$error":"#REF!"}},{"$f":"Podatnicy!#REF!","v":{"$error":"#REF!"}},{"$f":"Podatnicy!#REF!","v":{"$error":"#REF!"}}]
[null,1439,{"$f":"Podatnicy!#REF!","v":{"$error":"#REF!"}},{"$f":"Podatnicy!#REF!","v":{"$error":"#REF!"}},{"$f":"Podatnicy!#REF!","v":{"$error":"#REF!"}}]
[null,1440,{"$f":"Podatnicy!#REF!","v":{"$error":"#REF!"}},{"$f":"Podatnicy!#REF!","v":{"$error":"#REF!"}},{"$f":"Podatnicy!#REF!","v":{"$error":"#REF!"}}]
[null,1441,{"$f":"Podatnicy!#REF!","v":{"$error":"#REF!"}},{"$f":"Podatnicy!#REF!","v":{"$error":"#REF!"}},{"$f":"Podatnicy!#REF!","v":{"$error":"#REF!"}}]
[null,1442,{"$f":"Podatnicy!#REF!","v":{"$error":"#REF!"}},{"$f":"Podatnicy!#REF!","v":{"$error":"#REF!"}},{"$f":"Podatnicy!#REF!","v":{"$error":"#REF!"}}]
[null,1443,{"$f":"Podatnicy!#REF!","v":{"$error":"#REF!"}},{"$f":"Podatnicy!#REF!","v":{"$error":"#REF!"}},{"$f":"Podatnicy!#REF!","v":{"$error":"#REF!"}}]
[null,1444,{"$f":"Podatnicy!#REF!","v":{"$error":"#REF!"}},{"$f":"Podatnicy!#REF!","v":{"$error":"#REF!"}},{"$f":"Podatnicy!#REF!","v":{"$error":"#REF!"}}]
[null,1445,{"$f":"Podatnicy!#REF!","v":{"$error":"#REF!"}},{"$f":"Podatnicy!#REF!","v":{"$error":"#REF!"}},{"$f":"Podatnicy!#REF!","v":{"$error":"#REF!"}}]
[null,1446,{"$f":"Podatnicy!#REF!","v":{"$error":"#REF!"}},{"$f":"Podatnicy!#REF!","v":{"$error":"#REF!"}},{"$f":"Podatnicy!#REF!","v":{"$error":"#REF!"}}]
[null,1447,{"$f":"Podatnicy!#REF!","v":{"$error":"#REF!"}},{"$f":"Podatnicy!#REF!","v":{"$error":"#REF!"}},{"$f":"Podatnicy!#REF!","v":{"$error":"#REF!"}}]
[null,1448,{"$f":"Podatnicy!#REF!","v":{"$error":"#REF!"}},{"$f":"Podatnicy!#REF!","v":{"$error":"#REF!"}},{"$f":"Podatnicy!#REF!","v":{"$error":"#REF!"}}]
[null,1449,{"$f":"Podatnicy!#REF!","v":{"$error":"#REF!"}},{"$f":"Podatnicy!#REF!","v":{"$error":"#REF!"}},{"$f":"Podatnicy!#REF!","v":{"$error":"#REF!"}}]
[null,1450,{"$f":"Podatnicy!#REF!","v":{"$error":"#REF!"}},{"$f":"Podatnicy!#REF!","v":{"$error":"#REF!"}},{"$f":"Podatnicy!#REF!","v":{"$error":"#REF!"}}]
[null,1451,{"$f":"Podatnicy!#REF!","v":{"$error":"#REF!"}},{"$f":"Podatnicy!#REF!","v":{"$error":"#REF!"}},{"$f":"Podatnicy!#REF!","v":{"$error":"#REF!"}}]
[null,1452,{"$f":"Podatnicy!#REF!","v":{"$error":"#REF!"}},{"$f":"Podatnicy!#REF!","v":{"$error":"#REF!"}},{"$f":"Podatnicy!#REF!","v":{"$error":"#REF!"}}]
[null,1453,{"$f":"Podatnicy!#REF!","v":{"$error":"#REF!"}},{"$f":"Podatnicy!#REF!","v":{"$error":"#REF!"}},{"$f":"Podatnicy!#REF!","v":{"$error":"#REF!"}}]
[null,1454,{"$f":"Podatnicy!#REF!","v":{"$error":"#REF!"}},{"$f":"Podatnicy!#REF!","v":{"$error":"#REF!"}},{"$f":"Podatnicy!#REF!","v":{"$error":"#REF!"}}]
[null,1455,{"$f":"Podatnicy!#REF!","v":{"$error":"#REF!"}},{"$f":"Podatnicy!#REF!","v":{"$error":"#REF!"}},{"$f":"Podatnicy!#REF!","v":{"$error":"#REF!"}}]
[null,1456,{"$f":"Podatnicy!#REF!","v":{"$error":"#REF!"}},{"$f":"Podatnicy!#REF!","v":{"$error":"#REF!"}},{"$f":"Podatnicy!#REF!","v":{"$error":"#REF!"}}]
[null,1457,{"$f":"Podatnicy!#REF!","v":{"$error":"#REF!"}},{"$f":"Podatnicy!#REF!","v":{"$error":"#REF!"}},{"$f":"Podatnicy!#REF!","v":{"$error":"#REF!"}}]
[null,1458,{"$f":"Podatnicy!#REF!","v":{"$error":"#REF!"}},{"$f":"Podatnicy!#REF!","v":{"$error":"#REF!"}},{"$f":"Podatnicy!#REF!","v":{"$error":"#REF!"}}]
[null,1459,{"$f":"Podatnicy!#REF!","v":{"$error":"#REF!"}},{"$f":"Podatnicy!#REF!","v":{"$error":"#REF!"}},{"$f":"Podatnicy!#REF!","v":{"$error":"#REF!"}}]
[null,1460,{"$f":"Podatnicy!#REF!","v":{"$error":"#REF!"}},{"$f":"Podatnicy!#REF!","v":{"$error":"#REF!"}},{"$f":"Podatnicy!#REF!","v":{"$error":"#REF!"}}]
[null,1461,{"$f":"Podatnicy!#REF!","v":{"$error":"#REF!"}},{"$f":"Podatnicy!#REF!","v":{"$error":"#REF!"}},{"$f":"Podatnicy!#REF!","v":{"$error":"#REF!"}}]
[null,1462,{"$f":"Podatnicy!#REF!","v":{"$error":"#REF!"}},{"$f":"Podatnicy!#REF!","v":{"$error":"#REF!"}},{"$f":"Podatnicy!#REF!","v":{"$error":"#REF!"}}]
[null,1463,{"$f":"Podatnicy!#REF!","v":{"$error":"#REF!"}},{"$f":"Podatnicy!#REF!","v":{"$error":"#REF!"}},{"$f":"Podatnicy!#REF!","v":{"$error":"#REF!"}}]
[null,1464,{"$f":"Podatnicy!#REF!","v":{"$error":"#REF!"}},{"$f":"Podatnicy!#REF!","v":{"$error":"#REF!"}},{"$f":"Podatnicy!#REF!","v":{"$error":"#REF!"}}]
[null,1465,{"$f":"Podatnicy!#REF!","v":{"$error":"#REF!"}},{"$f":"Podatnicy!#REF!","v":{"$error":"#REF!"}},{"$f":"Podatnicy!#REF!","v":{"$error":"#REF!"}}]
[null,1466,{"$f":"Podatnicy!#REF!","v":{"$error":"#REF!"}},{"$f":"Podatnicy!#REF!","v":{"$error":"#REF!"}},{"$f":"Podatnicy!#REF!","v":{"$error":"#REF!"}}]
[null,1467,{"$f":"Podatnicy!#REF!","v":{"$error":"#REF!"}},{"$f":"Podatnicy!#REF!","v":{"$error":"#REF!"}},{"$f":"Podatnicy!#REF!","v":{"$error":"#REF!"}}]
[null,1468,{"$f":"Podatnicy!#REF!","v":{"$error":"#REF!"}},{"$f":"Podatnicy!#REF!","v":{"$error":"#REF!"}},{"$f":"Podatnicy!#REF!","v":{"$error":"#REF!"}}]
[null,1469,{"$f":"Podatnicy!#REF!","v":{"$error":"#REF!"}},{"$f":"Podatnicy!#REF!","v":{"$error":"#REF!"}},{"$f":"Podatnicy!#REF!","v":{"$error":"#REF!"}}]
[null,1470,{"$f":"Podatnicy!#REF!","v":{"$error":"#REF!"}},{"$f":"Podatnicy!#REF!","v":{"$error":"#REF!"}},{"$f":"Podatnicy!#REF!","v":{"$error":"#REF!"}}]
[null,1471,{"$f":"Podatnicy!#REF!","v":{"$error":"#REF!"}},{"$f":"Podatnicy!#REF!","v":{"$error":"#REF!"}},{"$f":"Podatnicy!#REF!","v":{"$error":"#REF!"}}]
[null,1472,{"$f":"Podatnicy!#REF!","v":{"$error":"#REF!"}},{"$f":"Podatnicy!#REF!","v":{"$error":"#REF!"}},{"$f":"Podatnicy!#REF!","v":{"$error":"#REF!"}}]
[null,1473,{"$f":"Podatnicy!#REF!","v":{"$error":"#REF!"}},{"$f":"Podatnicy!#REF!","v":{"$error":"#REF!"}},{"$f":"Podatnicy!#REF!","v":{"$error":"#REF!"}}]
[null,1474,{"$f":"Podatnicy!#REF!","v":{"$error":"#REF!"}},{"$f":"Podatnicy!#REF!","v":{"$error":"#REF!"}},{"$f":"Podatnicy!#REF!","v":{"$error":"#REF!"}}]
[null,1475,{"$f":"Podatnicy!#REF!","v":{"$error":"#REF!"}},{"$f":"Podatnicy!#REF!","v":{"$error":"#REF!"}},{"$f":"Podatnicy!#REF!","v":{"$error":"#REF!"}}]
[null,1476,{"$f":"Podatnicy!#REF!","v":{"$error":"#REF!"}},{"$f":"Podatnicy!#REF!","v":{"$error":"#REF!"}},{"$f":"Podatnicy!#REF!","v":{"$error":"#REF!"}}]
[null,1477,{"$f":"Podatnicy!#REF!","v":{"$error":"#REF!"}},{"$f":"Podatnicy!#REF!","v":{"$error":"#REF!"}},{"$f":"Podatnicy!#REF!","v":{"$error":"#REF!"}}]
[null,1478,{"$f":"Podatnicy!#REF!","v":{"$error":"#REF!"}},{"$f":"Podatnicy!#REF!","v":{"$error":"#REF!"}},{"$f":"Podatnicy!#REF!","v":{"$error":"#REF!"}}]
[null,1479,{"$f":"Podatnicy!#REF!","v":{"$error":"#REF!"}},{"$f":"Podatnicy!#REF!","v":{"$error":"#REF!"}},{"$f":"Podatnicy!#REF!","v":{"$error":"#REF!"}}]
[null,1480,{"$f":"Podatnicy!#REF!","v":{"$error":"#REF!"}},{"$f":"Podatnicy!#REF!","v":{"$error":"#REF!"}},{"$f":"Podatnicy!#REF!","v":{"$error":"#REF!"}}]
[null,1481,{"$f":"Podatnicy!#REF!","v":{"$error":"#REF!"}},{"$f":"Podatnicy!#REF!","v":{"$error":"#REF!"}},{"$f":"Podatnicy!#REF!","v":{"$error":"#REF!"}}]
[null,1482,{"$f":"Podatnicy!#REF!","v":{"$error":"#REF!"}},{"$f":"Podatnicy!#REF!","v":{"$error":"#REF!"}},{"$f":"Podatnicy!#REF!","v":{"$error":"#REF!"}}]
[null,1483,{"$f":"Podatnicy!#REF!","v":{"$error":"#REF!"}},{"$f":"Podatnicy!#REF!","v":{"$error":"#REF!"}},{"$f":"Podatnicy!#REF!","v":{"$error":"#REF!"}}]
[null,1484,{"$f":"Podatnicy!#REF!","v":{"$error":"#REF!"}},{"$f":"Podatnicy!#REF!","v":{"$error":"#REF!"}},{"$f":"Podatnicy!#REF!","v":{"$error":"#REF!"}}]
[null,1485,{"$f":"Podatnicy!#REF!","v":{"$error":"#REF!"}},{"$f":"Podatnicy!#REF!","v":{"$error":"#REF!"}},{"$f":"Podatnicy!#REF!","v":{"$error":"#REF!"}}]
[null,1486,{"$f":"Podatnicy!#REF!","v":{"$error":"#REF!"}},{"$f":"Podatnicy!#REF!","v":{"$error":"#REF!"}},{"$f":"Podatnicy!#REF!","v":{"$error":"#REF!"}}]
[null,1487,{"$f":"Podatnicy!#REF!","v":{"$error":"#REF!"}},{"$f":"Podatnicy!#REF!","v":{"$error":"#REF!"}},{"$f":"Podatnicy!#REF!","v":{"$error":"#REF!"}}]
[null,1488,{"$f":"Podatnicy!#REF!","v":{"$error":"#REF!"}},{"$f":"Podatnicy!#REF!","v":{"$error":"#REF!"}},{"$f":"Podatnicy!#REF!","v":{"$error":"#REF!"}}]
[null,1489,{"$f":"Podatnicy!#REF!","v":{"$error":"#REF!"}},{"$f":"Podatnicy!#REF!","v":{"$error":"#REF!"}},{"$f":"Podatnicy!#REF!","v":{"$error":"#REF!"}}]
[null,1490,{"$f":"Podatnicy!#REF!","v":{"$error":"#REF!"}},{"$f":"Podatnicy!#REF!","v":{"$error":"#REF!"}},{"$f":"Podatnicy!#REF!","v":{"$error":"#REF!"}}]
[null,1491,{"$f":"Podatnicy!#REF!","v":{"$error":"#REF!"}},{"$f":"Podatnicy!#REF!","v":{"$error":"#REF!"}},{"$f":"Podatnicy!#REF!","v":{"$error":"#REF!"}}]
[null,1492,{"$f":"Podatnicy!#REF!","v":{"$error":"#REF!"}},{"$f":"Podatnicy!#REF!","v":{"$error":"#REF!"}},{"$f":"Podatnicy!#REF!","v":{"$error":"#REF!"}}]
[null,1493,{"$f":"Podatnicy!#REF!","v":{"$error":"#REF!"}},{"$f":"Podatnicy!#REF!","v":{"$error":"#REF!"}},{"$f":"Podatnicy!#REF!","v":{"$error":"#REF!"}}]
[null,1494,{"$f":"Podatnicy!#REF!","v":{"$error":"#REF!"}},{"$f":"Podatnicy!#REF!","v":{"$error":"#REF!"}},{"$f":"Podatnicy!#REF!","v":{"$error":"#REF!"}}]
[null,1495,{"$f":"Podatnicy!#REF!","v":{"$error":"#REF!"}},{"$f":"Podatnicy!#REF!","v":{"$error":"#REF!"}},{"$f":"Podatnicy!#REF!","v":{"$error":"#REF!"}}]
[null,1496,{"$f":"Podatnicy!#REF!","v":{"$error":"#REF!"}},{"$f":"Podatnicy!#REF!","v":{"$error":"#REF!"}},{"$f":"Podatnicy!#REF!","v":{"$error":"#REF!"}}]
[null,1497,{"$f":"Podatnicy!#REF!","v":{"$error":"#REF!"}},{"$f":"Podatnicy!#REF!","v":{"$error":"#REF!"}},{"$f":"Podatnicy!#REF!","v":{"$error":"#REF!"}}]
[null,1498,{"$f":"Podatnicy!#REF!","v":{"$error":"#REF!"}},{"$f":"Podatnicy!#REF!","v":{"$error":"#REF!"}},{"$f":"Podatnicy!#REF!","v":{"$error":"#REF!"}}]
[null,1499,{"$f":"Podatnicy!#REF!","v":{"$error":"#REF!"}},{"$f":"Podatnicy!#REF!","v":{"$error":"#REF!"}},{"$f":"Podatnicy!#REF!","v":{"$error":"#REF!"}}]
[null,1500,{"$f":"Podatnicy!#REF!","v":{"$error":"#REF!"}},{"$f":"Podatnicy!#REF!","v":{"$error":"#REF!"}},{"$f":"Podatnicy!#REF!","v":{"$error":"#REF!"}}]
[null,1501,{"$f":"Podatnicy!#REF!","v":{"$error":"#REF!"}},{"$f":"Podatnicy!#REF!","v":{"$error":"#REF!"}},{"$f":"Podatnicy!#REF!","v":{"$error":"#REF!"}}]
[null,1502,{"$f":"Podatnicy!#REF!","v":{"$error":"#REF!"}},{"$f":"Podatnicy!#REF!","v":{"$error":"#REF!"}},{"$f":"Podatnicy!#REF!","v":{"$error":"#REF!"}}]
[null,1503,{"$f":"Podatnicy!#REF!","v":{"$error":"#REF!"}},{"$f":"Podatnicy!#REF!","v":{"$error":"#REF!"}},{"$f":"Podatnicy!#REF!","v":{"$error":"#REF!"}}]
[null,1504,{"$f":"Podatnicy!#REF!","v":{"$error":"#REF!"}},{"$f":"Podatnicy!#REF!","v":{"$error":"#REF!"}},{"$f":"Podatnicy!#REF!","v":{"$error":"#REF!"}}]
[null,1505,{"$f":"Podatnicy!#REF!","v":{"$error":"#REF!"}},{"$f":"Podatnicy!#REF!","v":{"$error":"#REF!"}},{"$f":"Podatnicy!#REF!","v":{"$error":"#REF!"}}]
[null,1506,{"$f":"Podatnicy!#REF!","v":{"$error":"#REF!"}},{"$f":"Podatnicy!#REF!","v":{"$error":"#REF!"}},{"$f":"Podatnicy!#REF!","v":{"$error":"#REF!"}}]
[null,1507,{"$f":"Podatnicy!#REF!","v":{"$error":"#REF!"}},{"$f":"Podatnicy!#REF!","v":{"$error":"#REF!"}},{"$f":"Podatnicy!#REF!","v":{"$error":"#REF!"}}]
[null,1508,{"$f":"Podatnicy!#REF!","v":{"$error":"#REF!"}},{"$f":"Podatnicy!#REF!","v":{"$error":"#REF!"}},{"$f":"Podatnicy!#REF!","v":{"$error":"#REF!"}}]
[null,1509,{"$f":"Podatnicy!#REF!","v":{"$error":"#REF!"}},{"$f":"Podatnicy!#REF!","v":{"$error":"#REF!"}},{"$f":"Podatnicy!#REF!","v":{"$error":"#REF!"}}]
[null,1510,{"$f":"Podatnicy!#REF!","v":{"$error":"#REF!"}},{"$f":"Podatnicy!#REF!","v":{"$error":"#REF!"}},{"$f":"Podatnicy!#REF!","v":{"$error":"#REF!"}}]
[null,1511,{"$f":"Podatnicy!#REF!","v":{"$error":"#REF!"}},{"$f":"Podatnicy!#REF!","v":{"$error":"#REF!"}},{"$f":"Podatnicy!#REF!","v":{"$error":"#REF!"}}]
[null,1512,{"$f":"Podatnicy!#REF!","v":{"$error":"#REF!"}},{"$f":"Podatnicy!#REF!","v":{"$error":"#REF!"}},{"$f":"Podatnicy!#REF!","v":{"$error":"#REF!"}}]
[null,1513,{"$f":"Podatnicy!#REF!","v":{"$error":"#REF!"}},{"$f":"Podatnicy!#REF!","v":{"$error":"#REF!"}},{"$f":"Podatnicy!#REF!","v":{"$error":"#REF!"}}]
[null,1514,{"$f":"Podatnicy!#REF!","v":{"$error":"#REF!"}},{"$f":"Podatnicy!#REF!","v":{"$error":"#REF!"}},{"$f":"Podatnicy!#REF!","v":{"$error":"#REF!"}}]
[null,1515,{"$f":"Podatnicy!#REF!","v":{"$error":"#REF!"}},{"$f":"Podatnicy!#REF!","v":{"$error":"#REF!"}},{"$f":"Podatnicy!#REF!","v":{"$error":"#REF!"}}]
[null,1516,{"$f":"Podatnicy!#REF!","v":{"$error":"#REF!"}},{"$f":"Podatnicy!#REF!","v":{"$error":"#REF!"}},{"$f":"Podatnicy!#REF!","v":{"$error":"#REF!"}}]
[null,1517,{"$f":"Podatnicy!#REF!","v":{"$error":"#REF!"}},{"$f":"Podatnicy!#REF!","v":{"$error":"#REF!"}},{"$f":"Podatnicy!#REF!","v":{"$error":"#REF!"}}]
[null,1518,{"$f":"Podatnicy!#REF!","v":{"$error":"#REF!"}},{"$f":"Podatnicy!#REF!","v":{"$error":"#REF!"}},{"$f":"Podatnicy!#REF!","v":{"$error":"#REF!"}}]
[null,1519,{"$f":"Podatnicy!#REF!","v":{"$error":"#REF!"}},{"$f":"Podatnicy!#REF!","v":{"$error":"#REF!"}},{"$f":"Podatnicy!#REF!","v":{"$error":"#REF!"}}]
[null,1520,{"$f":"Podatnicy!#REF!","v":{"$error":"#REF!"}},{"$f":"Podatnicy!#REF!","v":{"$error":"#REF!"}},{"$f":"Podatnicy!#REF!","v":{"$error":"#REF!"}}]
[null,1521,{"$f":"Podatnicy!#REF!","v":{"$error":"#REF!"}},{"$f":"Podatnicy!#REF!","v":{"$error":"#REF!"}},{"$f":"Podatnicy!#REF!","v":{"$error":"#REF!"}}]
[null,1522,{"$f":"Podatnicy!#REF!","v":{"$error":"#REF!"}},{"$f":"Podatnicy!#REF!","v":{"$error":"#REF!"}},{"$f":"Podatnicy!#REF!","v":{"$error":"#REF!"}}]
[null,1523,{"$f":"Podatnicy!#REF!","v":{"$error":"#REF!"}},{"$f":"Podatnicy!#REF!","v":{"$error":"#REF!"}},{"$f":"Podatnicy!#REF!","v":{"$error":"#REF!"}}]
[null,1524,{"$f":"Podatnicy!#REF!","v":{"$error":"#REF!"}},{"$f":"Podatnicy!#REF!","v":{"$error":"#REF!"}},{"$f":"Podatnicy!#REF!","v":{"$error":"#REF!"}}]
[null,1525,{"$f":"Podatnicy!#REF!","v":{"$error":"#REF!"}},{"$f":"Podatnicy!#REF!","v":{"$error":"#REF!"}},{"$f":"Podatnicy!#REF!","v":{"$error":"#REF!"}}]
[null,1526,{"$f":"Podatnicy!#REF!","v":{"$error":"#REF!"}},{"$f":"Podatnicy!#REF!","v":{"$error":"#REF!"}},{"$f":"Podatnicy!#REF!","v":{"$error":"#REF!"}}]
[null,1527,{"$f":"Podatnicy!#REF!","v":{"$error":"#REF!"}},{"$f":"Podatnicy!#REF!","v":{"$error":"#REF!"}},{"$f":"Podatnicy!#REF!","v":{"$error":"#REF!"}}]
[null,1528,{"$f":"Podatnicy!#REF!","v":{"$error":"#REF!"}},{"$f":"Podatnicy!#REF!","v":{"$error":"#REF!"}},{"$f":"Podatnicy!#REF!","v":{"$error":"#REF!"}}]
[null,1529,{"$f":"Podatnicy!#REF!","v":{"$error":"#REF!"}},{"$f":"Podatnicy!#REF!","v":{"$error":"#REF!"}},{"$f":"Podatnicy!#REF!","v":{"$error":"#REF!"}}]
[null,1530,{"$f":"Podatnicy!#REF!","v":{"$error":"#REF!"}},{"$f":"Podatnicy!#REF!","v":{"$error":"#REF!"}},{"$f":"Podatnicy!#REF!","v":{"$error":"#REF!"}}]
[null,1531,{"$f":"Podatnicy!#REF!","v":{"$error":"#REF!"}},{"$f":"Podatnicy!#REF!","v":{"$error":"#REF!"}},{"$f":"Podatnicy!#REF!","v":{"$error":"#REF!"}}]
[null,1532,{"$f":"Podatnicy!#REF!","v":{"$error":"#REF!"}},{"$f":"Podatnicy!#REF!","v":{"$error":"#REF!"}},{"$f":"Podatnicy!#REF!","v":{"$error":"#REF!"}}]
[null,1533,{"$f":"Podatnicy!#REF!","v":{"$error":"#REF!"}},{"$f":"Podatnicy!#REF!","v":{"$error":"#REF!"}},{"$f":"Podatnicy!#REF!","v":{"$error":"#REF!"}}]
[null,1534,{"$f":"Podatnicy!#REF!","v":{"$error":"#REF!"}},{"$f":"Podatnicy!#REF!","v":{"$error":"#REF!"}},{"$f":"Podatnicy!#REF!","v":{"$error":"#REF!"}}]
[null,1535,{"$f":"Podatnicy!#REF!","v":{"$error":"#REF!"}},{"$f":"Podatnicy!#REF!","v":{"$error":"#REF!"}},{"$f":"Podatnicy!#REF!","v":{"$error":"#REF!"}}]
[null,1536,{"$f":"Podatnicy!#REF!","v":{"$error":"#REF!"}},{"$f":"Podatnicy!#REF!","v":{"$error":"#REF!"}},{"$f":"Podatnicy!#REF!","v":{"$error":"#REF!"}}]
[null,1537,{"$f":"Podatnicy!#REF!","v":{"$error":"#REF!"}},{"$f":"Podatnicy!#REF!","v":{"$error":"#REF!"}},{"$f":"Podatnicy!#REF!","v":{"$error":"#REF!"}}]
[null,1538,{"$f":"Podatnicy!#REF!","v":{"$error":"#REF!"}},{"$f":"Podatnicy!#REF!","v":{"$error":"#REF!"}},{"$f":"Podatnicy!#REF!","v":{"$error":"#REF!"}}]
[null,1539,{"$f":"Podatnicy!#REF!","v":{"$error":"#REF!"}},{"$f":"Podatnicy!#REF!","v":{"$error":"#REF!"}},{"$f":"Podatnicy!#REF!","v":{"$error":"#REF!"}}]
[null,1540,{"$f":"Podatnicy!#REF!","v":{"$error":"#REF!"}},{"$f":"Podatnicy!#REF!","v":{"$error":"#REF!"}},{"$f":"Podatnicy!#REF!","v":{"$error":"#REF!"}}]
[null,1541,{"$f":"Podatnicy!#REF!","v":{"$error":"#REF!"}},{"$f":"Podatnicy!#REF!","v":{"$error":"#REF!"}},{"$f":"Podatnicy!#REF!","v":{"$error":"#REF!"}}]
[null,1542,{"$f":"Podatnicy!#REF!","v":{"$error":"#REF!"}},{"$f":"Podatnicy!#REF!","v":{"$error":"#REF!"}},{"$f":"Podatnicy!#REF!","v":{"$error":"#REF!"}}]
[null,1543,{"$f":"Podatnicy!#REF!","v":{"$error":"#REF!"}},{"$f":"Podatnicy!#REF!","v":{"$error":"#REF!"}},{"$f":"Podatnicy!#REF!","v":{"$error":"#REF!"}}]
[null,1544,{"$f":"Podatnicy!#REF!","v":{"$error":"#REF!"}},{"$f":"Podatnicy!#REF!","v":{"$error":"#REF!"}},{"$f":"Podatnicy!#REF!","v":{"$error":"#REF!"}}]
[null,1545,{"$f":"Podatnicy!#REF!","v":{"$error":"#REF!"}},{"$f":"Podatnicy!#REF!","v":{"$error":"#REF!"}},{"$f":"Podatnicy!#REF!","v":{"$error":"#REF!"}}]
[null,1546,{"$f":"Podatnicy!#REF!","v":{"$error":"#REF!"}},{"$f":"Podatnicy!#REF!","v":{"$error":"#REF!"}},{"$f":"Podatnicy!#REF!","v":{"$error":"#REF!"}}]
[null,1547,{"$f":"Podatnicy!#REF!","v":{"$error":"#REF!"}},{"$f":"Podatnicy!#REF!","v":{"$error":"#REF!"}},{"$f":"Podatnicy!#REF!","v":{"$error":"#REF!"}}]
[null,1548,{"$f":"Podatnicy!#REF!","v":{"$error":"#REF!"}},{"$f":"Podatnicy!#REF!","v":{"$error":"#REF!"}},{"$f":"Podatnicy!#REF!","v":{"$error":"#REF!"}}]
[null,1549,{"$f":"Podatnicy!#REF!","v":{"$error":"#REF!"}},{"$f":"Podatnicy!#REF!","v":{"$error":"#REF!"}},{"$f":"Podatnicy!#REF!","v":{"$error":"#REF!"}}]
[null,1550,{"$f":"Podatnicy!#REF!","v":{"$error":"#REF!"}},{"$f":"Podatnicy!#REF!","v":{"$error":"#REF!"}},{"$f":"Podatnicy!#REF!","v":{"$error":"#REF!"}}]
[null,1551,{"$f":"Podatnicy!#REF!","v":{"$error":"#REF!"}},{"$f":"Podatnicy!#REF!","v":{"$error":"#REF!"}},{"$f":"Podatnicy!#REF!","v":{"$error":"#REF!"}}]
[null,1552,{"$f":"Podatnicy!#REF!","v":{"$error":"#REF!"}},{"$f":"Podatnicy!#REF!","v":{"$error":"#REF!"}},{"$f":"Podatnicy!#REF!","v":{"$error":"#REF!"}}]
[null,1553,{"$f":"Podatnicy!#REF!","v":{"$error":"#REF!"}},{"$f":"Podatnicy!#REF!","v":{"$error":"#REF!"}},{"$f":"Podatnicy!#REF!","v":{"$error":"#REF!"}}]
[null,1554,{"$f":"Podatnicy!#REF!","v":{"$error":"#REF!"}},{"$f":"Podatnicy!#REF!","v":{"$error":"#REF!"}},{"$f":"Podatnicy!#REF!","v":{"$error":"#REF!"}}]
[null,1555,{"$f":"Podatnicy!#REF!","v":{"$error":"#REF!"}},{"$f":"Podatnicy!#REF!","v":{"$error":"#REF!"}},{"$f":"Podatnicy!#REF!","v":{"$error":"#REF!"}}]
[null,1556,{"$f":"Podatnicy!#REF!","v":{"$error":"#REF!"}},{"$f":"Podatnicy!#REF!","v":{"$error":"#REF!"}},{"$f":"Podatnicy!#REF!","v":{"$error":"#REF!"}}]
[null,1557,{"$f":"Podatnicy!#REF!","v":{"$error":"#REF!"}},{"$f":"Podatnicy!#REF!","v":{"$error":"#REF!"}},{"$f":"Podatnicy!#REF!","v":{"$error":"#REF!"}}]
[null,1558,{"$f":"Podatnicy!#REF!","v":{"$error":"#REF!"}},{"$f":"Podatnicy!#REF!","v":{"$error":"#REF!"}},{"$f":"Podatnicy!#REF!","v":{"$error":"#REF!"}}]
[null,1559,{"$f":"Podatnicy!#REF!","v":{"$error":"#REF!"}},{"$f":"Podatnicy!#REF!","v":{"$error":"#REF!"}},{"$f":"Podatnicy!#REF!","v":{"$error":"#REF!"}}]
[null,1560,{"$f":"Podatnicy!#REF!","v":{"$error":"#REF!"}},{"$f":"Podatnicy!#REF!","v":{"$error":"#REF!"}},{"$f":"Podatnicy!#REF!","v":{"$error":"#REF!"}}]
[null,1561,{"$f":"Podatnicy!#REF!","v":{"$error":"#REF!"}},{"$f":"Podatnicy!#REF!","v":{"$error":"#REF!"}},{"$f":"Podatnicy!#REF!","v":{"$error":"#REF!"}}]
[null,1562,{"$f":"Podatnicy!#REF!","v":{"$error":"#REF!"}},{"$f":"Podatnicy!#REF!","v":{"$error":"#REF!"}},{"$f":"Podatnicy!#REF!","v":{"$error":"#REF!"}}]
[null,1563,{"$f":"Podatnicy!#REF!","v":{"$error":"#REF!"}},{"$f":"Podatnicy!#REF!","v":{"$error":"#REF!"}},{"$f":"Podatnicy!#REF!","v":{"$error":"#REF!"}}]
[null,1564,{"$f":"Podatnicy!#REF!","v":{"$error":"#REF!"}},{"$f":"Podatnicy!#REF!","v":{"$error":"#REF!"}},{"$f":"Podatnicy!#REF!","v":{"$error":"#REF!"}}]
[null,1565,{"$f":"Podatnicy!#REF!","v":{"$error":"#REF!"}},{"$f":"Podatnicy!#REF!","v":{"$error":"#REF!"}},{"$f":"Podatnicy!#REF!","v":{"$error":"#REF!"}}]
[null,1566,{"$f":"Podatnicy!#REF!","v":{"$error":"#REF!"}},{"$f":"Podatnicy!#REF!","v":{"$error":"#REF!"}},{"$f":"Podatnicy!#REF!","v":{"$error":"#REF!"}}]
[null,1567,{"$f":"Podatnicy!#REF!","v":{"$error":"#REF!"}},{"$f":"Podatnicy!#REF!","v":{"$error":"#REF!"}},{"$f":"Podatnicy!#REF!","v":{"$error":"#REF!"}}]
[null,1568,{"$f":"Podatnicy!#REF!","v":{"$error":"#REF!"}},{"$f":"Podatnicy!#REF!","v":{"$error":"#REF!"}},{"$f":"Podatnicy!#REF!","v":{"$error":"#REF!"}}]
[null,1569,{"$f":"Podatnicy!#REF!","v":{"$error":"#REF!"}},{"$f":"Podatnicy!#REF!","v":{"$error":"#REF!"}},{"$f":"Podatnicy!#REF!","v":{"$error":"#REF!"}}]
[null,1570,{"$f":"Podatnicy!#REF!","v":{"$error":"#REF!"}},{"$f":"Podatnicy!#REF!","v":{"$error":"#REF!"}},{"$f":"Podatnicy!#REF!","v":{"$error":"#REF!"}}]
[null,1571,{"$f":"Podatnicy!#REF!","v":{"$error":"#REF!"}},{"$f":"Podatnicy!#REF!","v":{"$error":"#REF!"}},{"$f":"Podatnicy!#REF!","v":{"$error":"#REF!"}}]
[null,1572,{"$f":"Podatnicy!#REF!","v":{"$error":"#REF!"}},{"$f":"Podatnicy!#REF!","v":{"$error":"#REF!"}},{"$f":"Podatnicy!#REF!","v":{"$error":"#REF!"}}]
[null,1573,{"$f":"Podatnicy!#REF!","v":{"$error":"#REF!"}},{"$f":"Podatnicy!#REF!","v":{"$error":"#REF!"}},{"$f":"Podatnicy!#REF!","v":{"$error":"#REF!"}}]
[null,1574,{"$f":"Podatnicy!#REF!","v":{"$error":"#REF!"}},{"$f":"Podatnicy!#REF!","v":{"$error":"#REF!"}},{"$f":"Podatnicy!#REF!","v":{"$error":"#REF!"}}]
[null,1575,{"$f":"Podatnicy!#REF!","v":{"$error":"#REF!"}},{"$f":"Podatnicy!#REF!","v":{"$error":"#REF!"}},{"$f":"Podatnicy!#REF!","v":{"$error":"#REF!"}}]
[null,1576,{"$f":"Podatnicy!#REF!","v":{"$error":"#REF!"}},{"$f":"Podatnicy!#REF!","v":{"$error":"#REF!"}},{"$f":"Podatnicy!#REF!","v":{"$error":"#REF!"}}]
[null,1577,{"$f":"Podatnicy!#REF!","v":{"$error":"#REF!"}},{"$f":"Podatnicy!#REF!","v":{"$error":"#REF!"}},{"$f":"Podatnicy!#REF!","v":{"$error":"#REF!"}}]
[null,1578,{"$f":"Podatnicy!#REF!","v":{"$error":"#REF!"}},{"$f":"Podatnicy!#REF!","v":{"$error":"#REF!"}},{"$f":"Podatnicy!#REF!","v":{"$error":"#REF!"}}]
[null,1579,{"$f":"Podatnicy!#REF!","v":{"$error":"#REF!"}},{"$f":"Podatnicy!#REF!","v":{"$error":"#REF!"}},{"$f":"Podatnicy!#REF!","v":{"$error":"#REF!"}}]
[null,1580,{"$f":"Podatnicy!#REF!","v":{"$error":"#REF!"}},{"$f":"Podatnicy!#REF!","v":{"$error":"#REF!"}},{"$f":"Podatnicy!#REF!","v":{"$error":"#REF!"}}]
[null,1581,{"$f":"Podatnicy!#REF!","v":{"$error":"#REF!"}},{"$f":"Podatnicy!#REF!","v":{"$error":"#REF!"}},{"$f":"Podatnicy!#REF!","v":{"$error":"#REF!"}}]
[null,1582,{"$f":"Podatnicy!#REF!","v":{"$error":"#REF!"}},{"$f":"Podatnicy!#REF!","v":{"$error":"#REF!"}},{"$f":"Podatnicy!#REF!","v":{"$error":"#REF!"}}]
[null,1583,{"$f":"Podatnicy!#REF!","v":{"$error":"#REF!"}},{"$f":"Podatnicy!#REF!","v":{"$error":"#REF!"}},{"$f":"Podatnicy!#REF!","v":{"$error":"#REF!"}}]
[null,1584,{"$f":"Podatnicy!#REF!","v":{"$error":"#REF!"}},{"$f":"Podatnicy!#REF!","v":{"$error":"#REF!"}},{"$f":"Podatnicy!#REF!","v":{"$error":"#REF!"}}]
[null,1585,{"$f":"Podatnicy!#REF!","v":{"$error":"#REF!"}},{"$f":"Podatnicy!#REF!","v":{"$error":"#REF!"}},{"$f":"Podatnicy!#REF!","v":{"$error":"#REF!"}}]
[null,1586,{"$f":"Podatnicy!#REF!","v":{"$error":"#REF!"}},{"$f":"Podatnicy!#REF!","v":{"$error":"#REF!"}},{"$f":"Podatnicy!#REF!","v":{"$error":"#REF!"}}]
[null,1587,{"$f":"Podatnicy!#REF!","v":{"$error":"#REF!"}},{"$f":"Podatnicy!#REF!","v":{"$error":"#REF!"}},{"$f":"Podatnicy!#REF!","v":{"$error":"#REF!"}}]
[null,1588,{"$f":"Podatnicy!#REF!","v":{"$error":"#REF!"}},{"$f":"Podatnicy!#REF!","v":{"$error":"#REF!"}},{"$f":"Podatnicy!#REF!","v":{"$error":"#REF!"}}]
[null,1589,{"$f":"Podatnicy!#REF!","v":{"$error":"#REF!"}},{"$f":"Podatnicy!#REF!","v":{"$error":"#REF!"}},{"$f":"Podatnicy!#REF!","v":{"$error":"#REF!"}}]
[null,1590,{"$f":"Podatnicy!#REF!","v":{"$error":"#REF!"}},{"$f":"Podatnicy!#REF!","v":{"$error":"#REF!"}},{"$f":"Podatnicy!#REF!","v":{"$error":"#REF!"}}]
[null,1591,{"$f":"Podatnicy!#REF!","v":{"$error":"#REF!"}},{"$f":"Podatnicy!#REF!","v":{"$error":"#REF!"}},{"$f":"Podatnicy!#REF!","v":{"$error":"#REF!"}}]
[null,1592,{"$f":"Podatnicy!#REF!","v":{"$error":"#REF!"}},{"$f":"Podatnicy!#REF!","v":{"$error":"#REF!"}},{"$f":"Podatnicy!#REF!","v":{"$error":"#REF!"}}]
[null,1593,{"$f":"Podatnicy!#REF!","v":{"$error":"#REF!"}},{"$f":"Podatnicy!#REF!","v":{"$error":"#REF!"}},{"$f":"Podatnicy!#REF!","v":{"$error":"#REF!"}}]
[null,1594,{"$f":"Podatnicy!#REF!","v":{"$error":"#REF!"}},{"$f":"Podatnicy!#REF!","v":{"$error":"#REF!"}},{"$f":"Podatnicy!#REF!","v":{"$error":"#REF!"}}]
[null,1595,{"$f":"Podatnicy!#REF!","v":{"$error":"#REF!"}},{"$f":"Podatnicy!#REF!","v":{"$error":"#REF!"}},{"$f":"Podatnicy!#REF!","v":{"$error":"#REF!"}}]
[null,1596,{"$f":"Podatnicy!#REF!","v":{"$error":"#REF!"}},{"$f":"Podatnicy!#REF!","v":{"$error":"#REF!"}},{"$f":"Podatnicy!#REF!","v":{"$error":"#REF!"}}]
[null,1597,{"$f":"Podatnicy!#REF!","v":{"$error":"#REF!"}},{"$f":"Podatnicy!#REF!","v":{"$error":"#REF!"}},{"$f":"Podatnicy!#REF!","v":{"$error":"#REF!"}}]
[null,1598,{"$f":"Podatnicy!#REF!","v":{"$error":"#REF!"}},{"$f":"Podatnicy!#REF!","v":{"$error":"#REF!"}},{"$f":"Podatnicy!#REF!","v":{"$error":"#REF!"}}]
[null,1599,{"$f":"Podatnicy!#REF!","v":{"$error":"#REF!"}},{"$f":"Podatnicy!#REF!","v":{"$error":"#REF!"}},{"$f":"Podatnicy!#REF!","v":{"$error":"#REF!"}}]
[null,1600,{"$f":"Podatnicy!#REF!","v":{"$error":"#REF!"}},{"$f":"Podatnicy!#REF!","v":{"$error":"#REF!"}},{"$f":"Podatnicy!#REF!","v":{"$error":"#REF!"}}]
[null,1601,{"$f":"Podatnicy!#REF!","v":{"$error":"#REF!"}},{"$f":"Podatnicy!#REF!","v":{"$error":"#REF!"}},{"$f":"Podatnicy!#REF!","v":{"$error":"#REF!"}}]
[null,1602,{"$f":"Podatnicy!#REF!","v":{"$error":"#REF!"}},{"$f":"Podatnicy!#REF!","v":{"$error":"#REF!"}},{"$f":"Podatnicy!#REF!","v":{"$error":"#REF!"}}]
[null,1603,{"$f":"Podatnicy!#REF!","v":{"$error":"#REF!"}},{"$f":"Podatnicy!#REF!","v":{"$error":"#REF!"}},{"$f":"Podatnicy!#REF!","v":{"$error":"#REF!"}}]
[null,1604,{"$f":"Podatnicy!#REF!","v":{"$error":"#REF!"}},{"$f":"Podatnicy!#REF!","v":{"$error":"#REF!"}},{"$f":"Podatnicy!#REF!","v":{"$error":"#REF!"}}]
[null,1605,{"$f":"Podatnicy!#REF!","v":{"$error":"#REF!"}},{"$f":"Podatnicy!#REF!","v":{"$error":"#REF!"}},{"$f":"Podatnicy!#REF!","v":{"$error":"#REF!"}}]
[null,1606,{"$f":"Podatnicy!#REF!","v":{"$error":"#REF!"}},{"$f":"Podatnicy!#REF!","v":{"$error":"#REF!"}},{"$f":"Podatnicy!#REF!","v":{"$error":"#REF!"}}]
[null,1607,{"$f":"Podatnicy!#REF!","v":{"$error":"#REF!"}},{"$f":"Podatnicy!#REF!","v":{"$error":"#REF!"}},{"$f":"Podatnicy!#REF!","v":{"$error":"#REF!"}}]
[null,1608,{"$f":"Podatnicy!#REF!","v":{"$error":"#REF!"}},{"$f":"Podatnicy!#REF!","v":{"$error":"#REF!"}},{"$f":"Podatnicy!#REF!","v":{"$error":"#REF!"}}]
[null,1609,{"$f":"Podatnicy!#REF!","v":{"$error":"#REF!"}},{"$f":"Podatnicy!#REF!","v":{"$error":"#REF!"}},{"$f":"Podatnicy!#REF!","v":{"$error":"#REF!"}}]
[null,1610,{"$f":"Podatnicy!#REF!","v":{"$error":"#REF!"}},{"$f":"Podatnicy!#REF!","v":{"$error":"#REF!"}},{"$f":"Podatnicy!#REF!","v":{"$error":"#REF!"}}]
[null,1611,{"$f":"Podatnicy!#REF!","v":{"$error":"#REF!"}},{"$f":"Podatnicy!#REF!","v":{"$error":"#REF!"}},{"$f":"Podatnicy!#REF!","v":{"$error":"#REF!"}}]
[null,1612,{"$f":"Podatnicy!#REF!","v":{"$error":"#REF!"}},{"$f":"Podatnicy!#REF!","v":{"$error":"#REF!"}},{"$f":"Podatnicy!#REF!","v":{"$error":"#REF!"}}]
[null,1613,{"$f":"Podatnicy!#REF!","v":{"$error":"#REF!"}},{"$f":"Podatnicy!#REF!","v":{"$error":"#REF!"}},{"$f":"Podatnicy!#REF!","v":{"$error":"#REF!"}}]
[null,1614,{"$f":"Podatnicy!#REF!","v":{"$error":"#REF!"}},{"$f":"Podatnicy!#REF!","v":{"$error":"#REF!"}},{"$f":"Podatnicy!#REF!","v":{"$error":"#REF!"}}]
[null,1615,{"$f":"Podatnicy!#REF!","v":{"$error":"#REF!"}},{"$f":"Podatnicy!#REF!","v":{"$error":"#REF!"}},{"$f":"Podatnicy!#REF!","v":{"$error":"#REF!"}}]
[null,1616,{"$f":"Podatnicy!#REF!","v":{"$error":"#REF!"}},{"$f":"Podatnicy!#REF!","v":{"$error":"#REF!"}},{"$f":"Podatnicy!#REF!","v":{"$error":"#REF!"}}]
[null,1617,{"$f":"Podatnicy!#REF!","v":{"$error":"#REF!"}},{"$f":"Podatnicy!#REF!","v":{"$error":"#REF!"}},{"$f":"Podatnicy!#REF!","v":{"$error":"#REF!"}}]
[null,1618,{"$f":"Podatnicy!#REF!","v":{"$error":"#REF!"}},{"$f":"Podatnicy!#REF!","v":{"$error":"#REF!"}},{"$f":"Podatnicy!#REF!","v":{"$error":"#REF!"}}]
[null,1619,{"$f":"Podatnicy!#REF!","v":{"$error":"#REF!"}},{"$f":"Podatnicy!#REF!","v":{"$error":"#REF!"}},{"$f":"Podatnicy!#REF!","v":{"$error":"#REF!"}}]
[null,1620,{"$f":"Podatnicy!#REF!","v":{"$error":"#REF!"}},{"$f":"Podatnicy!#REF!","v":{"$error":"#REF!"}},{"$f":"Podatnicy!#REF!","v":{"$error":"#REF!"}}]
[null,1621,{"$f":"Podatnicy!#REF!","v":{"$error":"#REF!"}},{"$f":"Podatnicy!#REF!","v":{"$error":"#REF!"}},{"$f":"Podatnicy!#REF!","v":{"$error":"#REF!"}}]
[null,1622,{"$f":"Podatnicy!#REF!","v":{"$error":"#REF!"}},{"$f":"Podatnicy!#REF!","v":{"$error":"#REF!"}},{"$f":"Podatnicy!#REF!","v":{"$error":"#REF!"}}]
[null,1623,{"$f":"Podatnicy!#REF!","v":{"$error":"#REF!"}},{"$f":"Podatnicy!#REF!","v":{"$error":"#REF!"}},{"$f":"Podatnicy!#REF!","v":{"$error":"#REF!"}}]
[null,1624,{"$f":"Podatnicy!#REF!","v":{"$error":"#REF!"}},{"$f":"Podatnicy!#REF!","v":{"$error":"#REF!"}},{"$f":"Podatnicy!#REF!","v":{"$error":"#REF!"}}]
[null,1625,{"$f":"Podatnicy!#REF!","v":{"$error":"#REF!"}},{"$f":"Podatnicy!#REF!","v":{"$error":"#REF!"}},{"$f":"Podatnicy!#REF!","v":{"$error":"#REF!"}}]
[null,1626,{"$f":"Podatnicy!#REF!","v":{"$error":"#REF!"}},{"$f":"Podatnicy!#REF!","v":{"$error":"#REF!"}},{"$f":"Podatnicy!#REF!","v":{"$error":"#REF!"}}]
[null,1627,{"$f":"Podatnicy!#REF!","v":{"$error":"#REF!"}},{"$f":"Podatnicy!#REF!","v":{"$error":"#REF!"}},{"$f":"Podatnicy!#REF!","v":{"$error":"#REF!"}}]
[null,1628,{"$f":"Podatnicy!#REF!","v":{"$error":"#REF!"}},{"$f":"Podatnicy!#REF!","v":{"$error":"#REF!"}},{"$f":"Podatnicy!#REF!","v":{"$error":"#REF!"}}]
[null,1629,{"$f":"Podatnicy!#REF!","v":{"$error":"#REF!"}},{"$f":"Podatnicy!#REF!","v":{"$error":"#REF!"}},{"$f":"Podatnicy!#REF!","v":{"$error":"#REF!"}}]
[null,1630,{"$f":"Podatnicy!#REF!","v":{"$error":"#REF!"}},{"$f":"Podatnicy!#REF!","v":{"$error":"#REF!"}},{"$f":"Podatnicy!#REF!","v":{"$error":"#REF!"}}]
[null,1631,{"$f":"Podatnicy!#REF!","v":{"$error":"#REF!"}},{"$f":"Podatnicy!#REF!","v":{"$error":"#REF!"}},{"$f":"Podatnicy!#REF!","v":{"$error":"#REF!"}}]
[null,1632,{"$f":"Podatnicy!#REF!","v":{"$error":"#REF!"}},{"$f":"Podatnicy!#REF!","v":{"$error":"#REF!"}},{"$f":"Podatnicy!#REF!","v":{"$error":"#REF!"}}]
[null,1633,{"$f":"Podatnicy!#REF!","v":{"$error":"#REF!"}},{"$f":"Podatnicy!#REF!","v":{"$error":"#REF!"}},{"$f":"Podatnicy!#REF!","v":{"$error":"#REF!"}}]
[null,1634,{"$f":"Podatnicy!#REF!","v":{"$error":"#REF!"}},{"$f":"Podatnicy!#REF!","v":{"$error":"#REF!"}},{"$f":"Podatnicy!#REF!","v":{"$error":"#REF!"}}]
[null,1635,{"$f":"Podatnicy!#REF!","v":{"$error":"#REF!"}},{"$f":"Podatnicy!#REF!","v":{"$error":"#REF!"}},{"$f":"Podatnicy!#REF!","v":{"$error":"#REF!"}}]
[null,1636,{"$f":"Podatnicy!#REF!","v":{"$error":"#REF!"}},{"$f":"Podatnicy!#REF!","v":{"$error":"#REF!"}},{"$f":"Podatnicy!#REF!","v":{"$error":"#REF!"}}]
[null,1637,{"$f":"Podatnicy!#REF!","v":{"$error":"#REF!"}},{"$f":"Podatnicy!#REF!","v":{"$error":"#REF!"}},{"$f":"Podatnicy!#REF!","v":{"$error":"#REF!"}}]
[null,1638,{"$f":"Podatnicy!#REF!","v":{"$error":"#REF!"}},{"$f":"Podatnicy!#REF!","v":{"$error":"#REF!"}},{"$f":"Podatnicy!#REF!","v":{"$error":"#REF!"}}]
[null,1639,{"$f":"Podatnicy!#REF!","v":{"$error":"#REF!"}},{"$f":"Podatnicy!#REF!","v":{"$error":"#REF!"}},{"$f":"Podatnicy!#REF!","v":{"$error":"#REF!"}}]
[null,1640,{"$f":"Podatnicy!#REF!","v":{"$error":"#REF!"}},{"$f":"Podatnicy!#REF!","v":{"$error":"#REF!"}},{"$f":"Podatnicy!#REF!","v":{"$error":"#REF!"}}]
[null,1641,{"$f":"Podatnicy!#REF!","v":{"$error":"#REF!"}},{"$f":"Podatnicy!#REF!","v":{"$error":"#REF!"}},{"$f":"Podatnicy!#REF!","v":{"$error":"#REF!"}}]
[null,1642,{"$f":"Podatnicy!#REF!","v":{"$error":"#REF!"}},{"$f":"Podatnicy!#REF!","v":{"$error":"#REF!"}},{"$f":"Podatnicy!#REF!","v":{"$error":"#REF!"}}]
[null,1643,{"$f":"Podatnicy!#REF!","v":{"$error":"#REF!"}},{"$f":"Podatnicy!#REF!","v":{"$error":"#REF!"}},{"$f":"Podatnicy!#REF!","v":{"$error":"#REF!"}}]
[null,1644,{"$f":"Podatnicy!#REF!","v":{"$error":"#REF!"}},{"$f":"Podatnicy!#REF!","v":{"$error":"#REF!"}},{"$f":"Podatnicy!#REF!","v":{"$error":"#REF!"}}]
[null,1645,{"$f":"Podatnicy!#REF!","v":{"$error":"#REF!"}},{"$f":"Podatnicy!#REF!","v":{"$error":"#REF!"}},{"$f":"Podatnicy!#REF!","v":{"$error":"#REF!"}}]
[null,1646,{"$f":"Podatnicy!#REF!","v":{"$error":"#REF!"}},{"$f":"Podatnicy!#REF!","v":{"$error":"#REF!"}},{"$f":"Podatnicy!#REF!","v":{"$error":"#REF!"}}]
[null,1647,{"$f":"Podatnicy!#REF!","v":{"$error":"#REF!"}},{"$f":"Podatnicy!#REF!","v":{"$error":"#REF!"}},{"$f":"Podatnicy!#REF!","v":{"$error":"#REF!"}}]
[null,1648,{"$f":"Podatnicy!#REF!","v":{"$error":"#REF!"}},{"$f":"Podatnicy!#REF!","v":{"$error":"#REF!"}},{"$f":"Podatnicy!#REF!","v":{"$error":"#REF!"}}]
[null,1649,{"$f":"Podatnicy!#REF!","v":{"$error":"#REF!"}},{"$f":"Podatnicy!#REF!","v":{"$error":"#REF!"}},{"$f":"Podatnicy!#REF!","v":{"$error":"#REF!"}}]
[null,1650,{"$f":"Podatnicy!#REF!","v":{"$error":"#REF!"}},{"$f":"Podatnicy!#REF!","v":{"$error":"#REF!"}},{"$f":"Podatnicy!#REF!","v":{"$error":"#REF!"}}]
[null,1651,{"$f":"Podatnicy!#REF!","v":{"$error":"#REF!"}},{"$f":"Podatnicy!#REF!","v":{"$error":"#REF!"}},{"$f":"Podatnicy!#REF!","v":{"$error":"#REF!"}}]
[null,1652,{"$f":"Podatnicy!#REF!","v":{"$error":"#REF!"}},{"$f":"Podatnicy!#REF!","v":{"$error":"#REF!"}},{"$f":"Podatnicy!#REF!","v":{"$error":"#REF!"}}]
[null,1653,{"$f":"Podatnicy!#REF!","v":{"$error":"#REF!"}},{"$f":"Podatnicy!#REF!","v":{"$error":"#REF!"}},{"$f":"Podatnicy!#REF!","v":{"$error":"#REF!"}}]
[null,1654,{"$f":"Podatnicy!#REF!","v":{"$error":"#REF!"}},{"$f":"Podatnicy!#REF!","v":{"$error":"#REF!"}},{"$f":"Podatnicy!#REF!","v":{"$error":"#REF!"}}]
[null,1655,{"$f":"Podatnicy!#REF!","v":{"$error":"#REF!"}},{"$f":"Podatnicy!#REF!","v":{"$error":"#REF!"}},{"$f":"Podatnicy!#REF!","v":{"$error":"#REF!"}}]
[null,1656,{"$f":"Podatnicy!#REF!","v":{"$error":"#REF!"}},{"$f":"Podatnicy!#REF!","v":{"$error":"#REF!"}},{"$f":"Podatnicy!#REF!","v":{"$error":"#REF!"}}]
[null,1657,{"$f":"Podatnicy!#REF!","v":{"$error":"#REF!"}},{"$f":"Podatnicy!#REF!","v":{"$error":"#REF!"}},{"$f":"Podatnicy!#REF!","v":{"$error":"#REF!"}}]
[null,1658,{"$f":"Podatnicy!#REF!","v":{"$error":"#REF!"}},{"$f":"Podatnicy!#REF!","v":{"$error":"#REF!"}},{"$f":"Podatnicy!#REF!","v":{"$error":"#REF!"}}]
[null,1659,{"$f":"Podatnicy!#REF!","v":{"$error":"#REF!"}},{"$f":"Podatnicy!#REF!","v":{"$error":"#REF!"}},{"$f":"Podatnicy!#REF!","v":{"$error":"#REF!"}}]
[null,1660,{"$f":"Podatnicy!#REF!","v":{"$error":"#REF!"}},{"$f":"Podatnicy!#REF!","v":{"$error":"#REF!"}},{"$f":"Podatnicy!#REF!","v":{"$error":"#REF!"}}]
[null,1661,{"$f":"Podatnicy!#REF!","v":{"$error":"#REF!"}},{"$f":"Podatnicy!#REF!","v":{"$error":"#REF!"}},{"$f":"Podatnicy!#REF!","v":{"$error":"#REF!"}}]
[null,1662,{"$f":"Podatnicy!#REF!","v":{"$error":"#REF!"}},{"$f":"Podatnicy!#REF!","v":{"$error":"#REF!"}},{"$f":"Podatnicy!#REF!","v":{"$error":"#REF!"}}]
[null,1663,{"$f":"Podatnicy!#REF!","v":{"$error":"#REF!"}},{"$f":"Podatnicy!#REF!","v":{"$error":"#REF!"}},{"$f":"Podatnicy!#REF!","v":{"$error":"#REF!"}}]
[null,1664,{"$f":"Podatnicy!#REF!","v":{"$error":"#REF!"}},{"$f":"Podatnicy!#REF!","v":{"$error":"#REF!"}},{"$f":"Podatnicy!#REF!","v":{"$error":"#REF!"}}]
[null,1665,{"$f":"Podatnicy!#REF!","v":{"$error":"#REF!"}},{"$f":"Podatnicy!#REF!","v":{"$error":"#REF!"}},{"$f":"Podatnicy!#REF!","v":{"$error":"#REF!"}}]
[null,1666,{"$f":"Podatnicy!#REF!","v":{"$error":"#REF!"}},{"$f":"Podatnicy!#REF!","v":{"$error":"#REF!"}},{"$f":"Podatnicy!#REF!","v":{"$error":"#REF!"}}]
[null,1667,{"$f":"Podatnicy!#REF!","v":{"$error":"#REF!"}},{"$f":"Podatnicy!#REF!","v":{"$error":"#REF!"}},{"$f":"Podatnicy!#REF!","v":{"$error":"#REF!"}}]
[null,1668,{"$f":"Podatnicy!#REF!","v":{"$error":"#REF!"}},{"$f":"Podatnicy!#REF!","v":{"$error":"#REF!"}},{"$f":"Podatnicy!#REF!","v":{"$error":"#REF!"}}]
[null,1669,{"$f":"Podatnicy!#REF!","v":{"$error":"#REF!"}},{"$f":"Podatnicy!#REF!","v":{"$error":"#REF!"}},{"$f":"Podatnicy!#REF!","v":{"$error":"#REF!"}}]
[null,1670,{"$f":"Podatnicy!#REF!","v":{"$error":"#REF!"}},{"$f":"Podatnicy!#REF!","v":{"$error":"#REF!"}},{"$f":"Podatnicy!#REF!","v":{"$error":"#REF!"}}]
[null,1671,{"$f":"Podatnicy!#REF!","v":{"$error":"#REF!"}},{"$f":"Podatnicy!#REF!","v":{"$error":"#REF!"}},{"$f":"Podatnicy!#REF!","v":{"$error":"#REF!"}}]
[null,1672,{"$f":"Podatnicy!#REF!","v":{"$error":"#REF!"}},{"$f":"Podatnicy!#REF!","v":{"$error":"#REF!"}},{"$f":"Podatnicy!#REF!","v":{"$error":"#REF!"}}]
[null,1673,{"$f":"Podatnicy!#REF!","v":{"$error":"#REF!"}},{"$f":"Podatnicy!#REF!","v":{"$error":"#REF!"}},{"$f":"Podatnicy!#REF!","v":{"$error":"#REF!"}}]
[null,1674,{"$f":"Podatnicy!#REF!","v":{"$error":"#REF!"}},{"$f":"Podatnicy!#REF!","v":{"$error":"#REF!"}},{"$f":"Podatnicy!#REF!","v":{"$error":"#REF!"}}]
[null,1675,{"$f":"Podatnicy!#REF!","v":{"$error":"#REF!"}},{"$f":"Podatnicy!#REF!","v":{"$error":"#REF!"}},{"$f":"Podatnicy!#REF!","v":{"$error":"#REF!"}}]
[null,1676,{"$f":"Podatnicy!#REF!","v":{"$error":"#REF!"}},{"$f":"Podatnicy!#REF!","v":{"$error":"#REF!"}},{"$f":"Podatnicy!#REF!","v":{"$error":"#REF!"}}]
[null,1677,{"$f":"Podatnicy!#REF!","v":{"$error":"#REF!"}},{"$f":"Podatnicy!#REF!","v":{"$error":"#REF!"}},{"$f":"Podatnicy!#REF!","v":{"$error":"#REF!"}}]
[null,1678,{"$f":"Podatnicy!#REF!","v":{"$error":"#REF!"}},{"$f":"Podatnicy!#REF!","v":{"$error":"#REF!"}},{"$f":"Podatnicy!#REF!","v":{"$error":"#REF!"}}]
[null,1679,{"$f":"Podatnicy!#REF!","v":{"$error":"#REF!"}},{"$f":"Podatnicy!#REF!","v":{"$error":"#REF!"}},{"$f":"Podatnicy!#REF!","v":{"$error":"#REF!"}}]
[null,1680,{"$f":"Podatnicy!#REF!","v":{"$error":"#REF!"}},{"$f":"Podatnicy!#REF!","v":{"$error":"#REF!"}},{"$f":"Podatnicy!#REF!","v":{"$error":"#REF!"}}]
[null,1681,{"$f":"Podatnicy!#REF!","v":{"$error":"#REF!"}},{"$f":"Podatnicy!#REF!","v":{"$error":"#REF!"}},{"$f":"Podatnicy!#REF!","v":{"$error":"#REF!"}}]
[null,1682,{"$f":"Podatnicy!#REF!","v":{"$error":"#REF!"}},{"$f":"Podatnicy!#REF!","v":{"$error":"#REF!"}},{"$f":"Podatnicy!#REF!","v":{"$error":"#REF!"}}]
[null,1683,{"$f":"Podatnicy!#REF!","v":{"$error":"#REF!"}},{"$f":"Podatnicy!#REF!","v":{"$error":"#REF!"}},{"$f":"Podatnicy!#REF!","v":{"$error":"#REF!"}}]
[null,1684,{"$f":"Podatnicy!#REF!","v":{"$error":"#REF!"}},{"$f":"Podatnicy!#REF!","v":{"$error":"#REF!"}},{"$f":"Podatnicy!#REF!","v":{"$error":"#REF!"}}]
[null,1685,{"$f":"Podatnicy!#REF!","v":{"$error":"#REF!"}},{"$f":"Podatnicy!#REF!","v":{"$error":"#REF!"}},{"$f":"Podatnicy!#REF!","v":{"$error":"#REF!"}}]
[null,1686,{"$f":"Podatnicy!#REF!","v":{"$error":"#REF!"}},{"$f":"Podatnicy!#REF!","v":{"$error":"#REF!"}},{"$f":"Podatnicy!#REF!","v":{"$error":"#REF!"}}]
[null,1687,{"$f":"Podatnicy!#REF!","v":{"$error":"#REF!"}},{"$f":"Podatnicy!#REF!","v":{"$error":"#REF!"}},{"$f":"Podatnicy!#REF!","v":{"$error":"#REF!"}}]
[null,1688,{"$f":"Podatnicy!#REF!","v":{"$error":"#REF!"}},{"$f":"Podatnicy!#REF!","v":{"$error":"#REF!"}},{"$f":"Podatnicy!#REF!","v":{"$error":"#REF!"}}]
[null,1689,{"$f":"Podatnicy!#REF!","v":{"$error":"#REF!"}},{"$f":"Podatnicy!#REF!","v":{"$error":"#REF!"}},{"$f":"Podatnicy!#REF!","v":{"$error":"#REF!"}}]
[null,1690,{"$f":"Podatnicy!#REF!","v":{"$error":"#REF!"}},{"$f":"Podatnicy!#REF!","v":{"$error":"#REF!"}},{"$f":"Podatnicy!#REF!","v":{"$error":"#REF!"}}]
[null,1691,{"$f":"Podatnicy!#REF!","v":{"$error":"#REF!"}},{"$f":"Podatnicy!#REF!","v":{"$error":"#REF!"}},{"$f":"Podatnicy!#REF!","v":{"$error":"#REF!"}}]
[null,1692,{"$f":"Podatnicy!#REF!","v":{"$error":"#REF!"}},{"$f":"Podatnicy!#REF!","v":{"$error":"#REF!"}},{"$f":"Podatnicy!#REF!","v":{"$error":"#REF!"}}]
[null,1693,{"$f":"Podatnicy!#REF!","v":{"$error":"#REF!"}},{"$f":"Podatnicy!#REF!","v":{"$error":"#REF!"}},{"$f":"Podatnicy!#REF!","v":{"$error":"#REF!"}}]
[null,1694,{"$f":"Podatnicy!#REF!","v":{"$error":"#REF!"}},{"$f":"Podatnicy!#REF!","v":{"$error":"#REF!"}},{"$f":"Podatnicy!#REF!","v":{"$error":"#REF!"}}]
[null,1695,{"$f":"Podatnicy!#REF!","v":{"$error":"#REF!"}},{"$f":"Podatnicy!#REF!","v":{"$error":"#REF!"}},{"$f":"Podatnicy!#REF!","v":{"$error":"#REF!"}}]
[null,1696,{"$f":"Podatnicy!#REF!","v":{"$error":"#REF!"}},{"$f":"Podatnicy!#REF!","v":{"$error":"#REF!"}},{"$f":"Podatnicy!#REF!","v":{"$error":"#REF!"}}]
[null,1697,{"$f":"Podatnicy!#REF!","v":{"$error":"#REF!"}},{"$f":"Podatnicy!#REF!","v":{"$error":"#REF!"}},{"$f":"Podatnicy!#REF!","v":{"$error":"#REF!"}}]
[null,1698,{"$f":"Podatnicy!#REF!","v":{"$error":"#REF!"}},{"$f":"Podatnicy!#REF!","v":{"$error":"#REF!"}},{"$f":"Podatnicy!#REF!","v":{"$error":"#REF!"}}]
[null,1699,{"$f":"Podatnicy!#REF!","v":{"$error":"#REF!"}},{"$f":"Podatnicy!#REF!","v":{"$error":"#REF!"}},{"$f":"Podatnicy!#REF!","v":{"$error":"#REF!"}}]
[null,1700,{"$f":"Podatnicy!#REF!","v":{"$error":"#REF!"}},{"$f":"Podatnicy!#REF!","v":{"$error":"#REF!"}},{"$f":"Podatnicy!#REF!","v":{"$error":"#REF!"}}]
[null,1701,{"$f":"Podatnicy!#REF!","v":{"$error":"#REF!"}},{"$f":"Podatnicy!#REF!","v":{"$error":"#REF!"}},{"$f":"Podatnicy!#REF!","v":{"$error":"#REF!"}}]
[null,1702,{"$f":"Podatnicy!#REF!","v":{"$error":"#REF!"}},{"$f":"Podatnicy!#REF!","v":{"$error":"#REF!"}},{"$f":"Podatnicy!#REF!","v":{"$error":"#REF!"}}]
[null,1703,{"$f":"Podatnicy!#REF!","v":{"$error":"#REF!"}},{"$f":"Podatnicy!#REF!","v":{"$error":"#REF!"}},{"$f":"Podatnicy!#REF!","v":{"$error":"#REF!"}}]
[null,1704,{"$f":"Podatnicy!#REF!","v":{"$error":"#REF!"}},{"$f":"Podatnicy!#REF!","v":{"$error":"#REF!"}},{"$f":"Podatnicy!#REF!","v":{"$error":"#REF!"}}]
[null,1705,{"$f":"Podatnicy!#REF!","v":{"$error":"#REF!"}},{"$f":"Podatnicy!#REF!","v":{"$error":"#REF!"}},{"$f":"Podatnicy!#REF!","v":{"$error":"#REF!"}}]
[null,1706,{"$f":"Podatnicy!#REF!","v":{"$error":"#REF!"}},{"$f":"Podatnicy!#REF!","v":{"$error":"#REF!"}},{"$f":"Podatnicy!#REF!","v":{"$error":"#REF!"}}]
[null,1707,{"$f":"Podatnicy!#REF!","v":{"$error":"#REF!"}},{"$f":"Podatnicy!#REF!","v":{"$error":"#REF!"}},{"$f":"Podatnicy!#REF!","v":{"$error":"#REF!"}}]
[null,1708,{"$f":"Podatnicy!#REF!","v":{"$error":"#REF!"}},{"$f":"Podatnicy!#REF!","v":{"$error":"#REF!"}},{"$f":"Podatnicy!#REF!","v":{"$error":"#REF!"}}]
[null,1709,{"$f":"Podatnicy!#REF!","v":{"$error":"#REF!"}},{"$f":"Podatnicy!#REF!","v":{"$error":"#REF!"}},{"$f":"Podatnicy!#REF!","v":{"$error":"#REF!"}}]
[null,1710,{"$f":"Podatnicy!#REF!","v":{"$error":"#REF!"}},{"$f":"Podatnicy!#REF!","v":{"$error":"#REF!"}},{"$f":"Podatnicy!#REF!","v":{"$error":"#REF!"}}]
[null,1711,{"$f":"Podatnicy!#REF!","v":{"$error":"#REF!"}},{"$f":"Podatnicy!#REF!","v":{"$error":"#REF!"}},{"$f":"Podatnicy!#REF!","v":{"$error":"#REF!"}}]
[null,1712,{"$f":"Podatnicy!#REF!","v":{"$error":"#REF!"}},{"$f":"Podatnicy!#REF!","v":{"$error":"#REF!"}},{"$f":"Podatnicy!#REF!","v":{"$error":"#REF!"}}]
[null,1713,{"$f":"Podatnicy!#REF!","v":{"$error":"#REF!"}},{"$f":"Podatnicy!#REF!","v":{"$error":"#REF!"}},{"$f":"Podatnicy!#REF!","v":{"$error":"#REF!"}}]
[null,1714,{"$f":"Podatnicy!#REF!","v":{"$error":"#REF!"}},{"$f":"Podatnicy!#REF!","v":{"$error":"#REF!"}},{"$f":"Podatnicy!#REF!","v":{"$error":"#REF!"}}]
[null,1715,{"$f":"Podatnicy!#REF!","v":{"$error":"#REF!"}},{"$f":"Podatnicy!#REF!","v":{"$error":"#REF!"}},{"$f":"Podatnicy!#REF!","v":{"$error":"#REF!"}}]
[null,1716,{"$f":"Podatnicy!#REF!","v":{"$error":"#REF!"}},{"$f":"Podatnicy!#REF!","v":{"$error":"#REF!"}},{"$f":"Podatnicy!#REF!","v":{"$error":"#REF!"}}]
[null,1717,{"$f":"Podatnicy!#REF!","v":{"$error":"#REF!"}},{"$f":"Podatnicy!#REF!","v":{"$error":"#REF!"}},{"$f":"Podatnicy!#REF!","v":{"$error":"#REF!"}}]
[null,1718,{"$f":"Podatnicy!#REF!","v":{"$error":"#REF!"}},{"$f":"Podatnicy!#REF!","v":{"$error":"#REF!"}},{"$f":"Podatnicy!#REF!","v":{"$error":"#REF!"}}]
[null,1719,{"$f":"Podatnicy!#REF!","v":{"$error":"#REF!"}},{"$f":"Podatnicy!#REF!","v":{"$error":"#REF!"}},{"$f":"Podatnicy!#REF!","v":{"$error":"#REF!"}}]
[null,1720,{"$f":"Podatnicy!#REF!","v":{"$error":"#REF!"}},{"$f":"Podatnicy!#REF!","v":{"$error":"#REF!"}},{"$f":"Podatnicy!#REF!","v":{"$error":"#REF!"}}]
[null,1721,{"$f":"Podatnicy!#REF!","v":{"$error":"#REF!"}},{"$f":"Podatnicy!#REF!","v":{"$error":"#REF!"}},{"$f":"Podatnicy!#REF!","v":{"$error":"#REF!"}}]
[null,1722,{"$f":"Podatnicy!#REF!","v":{"$error":"#REF!"}},{"$f":"Podatnicy!#REF!","v":{"$error":"#REF!"}},{"$f":"Podatnicy!#REF!","v":{"$error":"#REF!"}}]
[null,1723,{"$f":"Podatnicy!#REF!","v":{"$error":"#REF!"}},{"$f":"Podatnicy!#REF!","v":{"$error":"#REF!"}},{"$f":"Podatnicy!#REF!","v":{"$error":"#REF!"}}]
[null,1724,{"$f":"Podatnicy!#REF!","v":{"$error":"#REF!"}},{"$f":"Podatnicy!#REF!","v":{"$error":"#REF!"}},{"$f":"Podatnicy!#REF!","v":{"$error":"#REF!"}}]
[null,1725,{"$f":"Podatnicy!#REF!","v":{"$error":"#REF!"}},{"$f":"Podatnicy!#REF!","v":{"$error":"#REF!"}},{"$f":"Podatnicy!#REF!","v":{"$error":"#REF!"}}]
[null,1726,{"$f":"Podatnicy!#REF!","v":{"$error":"#REF!"}},{"$f":"Podatnicy!#REF!","v":{"$error":"#REF!"}},{"$f":"Podatnicy!#REF!","v":{"$error":"#REF!"}}]
[null,1727,{"$f":"Podatnicy!#REF!","v":{"$error":"#REF!"}},{"$f":"Podatnicy!#REF!","v":{"$error":"#REF!"}},{"$f":"Podatnicy!#REF!","v":{"$error":"#REF!"}}]
[null,1728,{"$f":"Podatnicy!#REF!","v":{"$error":"#REF!"}},{"$f":"Podatnicy!#REF!","v":{"$error":"#REF!"}},{"$f":"Podatnicy!#REF!","v":{"$error":"#REF!"}}]
[null,1729,{"$f":"Podatnicy!#REF!","v":{"$error":"#REF!"}},{"$f":"Podatnicy!#REF!","v":{"$error":"#REF!"}},{"$f":"Podatnicy!#REF!","v":{"$error":"#REF!"}}]
[null,1730,{"$f":"Podatnicy!#REF!","v":{"$error":"#REF!"}},{"$f":"Podatnicy!#REF!","v":{"$error":"#REF!"}},{"$f":"Podatnicy!#REF!","v":{"$error":"#REF!"}}]
[null,1731,{"$f":"Podatnicy!#REF!","v":{"$error":"#REF!"}},{"$f":"Podatnicy!#REF!","v":{"$error":"#REF!"}},{"$f":"Podatnicy!#REF!","v":{"$error":"#REF!"}}]
[null,1732,{"$f":"Podatnicy!#REF!","v":{"$error":"#REF!"}},{"$f":"Podatnicy!#REF!","v":{"$error":"#REF!"}},{"$f":"Podatnicy!#REF!","v":{"$error":"#REF!"}}]
[null,1733,{"$f":"Podatnicy!#REF!","v":{"$error":"#REF!"}},{"$f":"Podatnicy!#REF!","v":{"$error":"#REF!"}},{"$f":"Podatnicy!#REF!","v":{"$error":"#REF!"}}]
[null,1734,{"$f":"Podatnicy!#REF!","v":{"$error":"#REF!"}},{"$f":"Podatnicy!#REF!","v":{"$error":"#REF!"}},{"$f":"Podatnicy!#REF!","v":{"$error":"#REF!"}}]
[null,1735,{"$f":"Podatnicy!#REF!","v":{"$error":"#REF!"}},{"$f":"Podatnicy!#REF!","v":{"$error":"#REF!"}},{"$f":"Podatnicy!#REF!","v":{"$error":"#REF!"}}]
[null,1736,{"$f":"Podatnicy!#REF!","v":{"$error":"#REF!"}},{"$f":"Podatnicy!#REF!","v":{"$error":"#REF!"}},{"$f":"Podatnicy!#REF!","v":{"$error":"#REF!"}}]
[null,1737,{"$f":"Podatnicy!#REF!","v":{"$error":"#REF!"}},{"$f":"Podatnicy!#REF!","v":{"$error":"#REF!"}},{"$f":"Podatnicy!#REF!","v":{"$error":"#REF!"}}]
[null,1738,{"$f":"Podatnicy!#REF!","v":{"$error":"#REF!"}},{"$f":"Podatnicy!#REF!","v":{"$error":"#REF!"}},{"$f":"Podatnicy!#REF!","v":{"$error":"#REF!"}}]
[null,1739,{"$f":"Podatnicy!#REF!","v":{"$error":"#REF!"}},{"$f":"Podatnicy!#REF!","v":{"$error":"#REF!"}},{"$f":"Podatnicy!#REF!","v":{"$error":"#REF!"}}]
[null,1740,{"$f":"Podatnicy!#REF!","v":{"$error":"#REF!"}},{"$f":"Podatnicy!#REF!","v":{"$error":"#REF!"}},{"$f":"Podatnicy!#REF!","v":{"$error":"#REF!"}}]
[null,1741,{"$f":"Podatnicy!#REF!","v":{"$error":"#REF!"}},{"$f":"Podatnicy!#REF!","v":{"$error":"#REF!"}},{"$f":"Podatnicy!#REF!","v":{"$error":"#REF!"}}]
[null,1742,{"$f":"Podatnicy!#REF!","v":{"$error":"#REF!"}},{"$f":"Podatnicy!#REF!","v":{"$error":"#REF!"}},{"$f":"Podatnicy!#REF!","v":{"$error":"#REF!"}}]
[null,1743,{"$f":"Podatnicy!#REF!","v":{"$error":"#REF!"}},{"$f":"Podatnicy!#REF!","v":{"$error":"#REF!"}},{"$f":"Podatnicy!#REF!","v":{"$error":"#REF!"}}]
[null,1744,{"$f":"Podatnicy!#REF!","v":{"$error":"#REF!"}},{"$f":"Podatnicy!#REF!","v":{"$error":"#REF!"}},{"$f":"Podatnicy!#REF!","v":{"$error":"#REF!"}}]
[null,1745,{"$f":"Podatnicy!#REF!","v":{"$error":"#REF!"}},{"$f":"Podatnicy!#REF!","v":{"$error":"#REF!"}},{"$f":"Podatnicy!#REF!","v":{"$error":"#REF!"}}]
[null,1746,{"$f":"Podatnicy!#REF!","v":{"$error":"#REF!"}},{"$f":"Podatnicy!#REF!","v":{"$error":"#REF!"}},{"$f":"Podatnicy!#REF!","v":{"$error":"#REF!"}}]
[null,1747,{"$f":"Podatnicy!#REF!","v":{"$error":"#REF!"}},{"$f":"Podatnicy!#REF!","v":{"$error":"#REF!"}},{"$f":"Podatnicy!#REF!","v":{"$error":"#REF!"}}]
[null,1748,{"$f":"Podatnicy!#REF!","v":{"$error":"#REF!"}},{"$f":"Podatnicy!#REF!","v":{"$error":"#REF!"}},{"$f":"Podatnicy!#REF!","v":{"$error":"#REF!"}}]
[null,1749,{"$f":"Podatnicy!#REF!","v":{"$error":"#REF!"}},{"$f":"Podatnicy!#REF!","v":{"$error":"#REF!"}},{"$f":"Podatnicy!#REF!","v":{"$error":"#REF!"}}]
[null,1750,{"$f":"Podatnicy!#REF!","v":{"$error":"#REF!"}},{"$f":"Podatnicy!#REF!","v":{"$error":"#REF!"}},{"$f":"Podatnicy!#REF!","v":{"$error":"#REF!"}}]
[null,1751,{"$f":"Podatnicy!#REF!","v":{"$error":"#REF!"}},{"$f":"Podatnicy!#REF!","v":{"$error":"#REF!"}},{"$f":"Podatnicy!#REF!","v":{"$error":"#REF!"}}]
[null,1752,{"$f":"Podatnicy!#REF!","v":{"$error":"#REF!"}},{"$f":"Podatnicy!#REF!","v":{"$error":"#REF!"}},{"$f":"Podatnicy!#REF!","v":{"$error":"#REF!"}}]
[null,1753,{"$f":"Podatnicy!#REF!","v":{"$error":"#REF!"}},{"$f":"Podatnicy!#REF!","v":{"$error":"#REF!"}},{"$f":"Podatnicy!#REF!","v":{"$error":"#REF!"}}]
[null,1754,{"$f":"Podatnicy!#REF!","v":{"$error":"#REF!"}},{"$f":"Podatnicy!#REF!","v":{"$error":"#REF!"}},{"$f":"Podatnicy!#REF!","v":{"$error":"#REF!"}}]
[null,1755,{"$f":"Podatnicy!#REF!","v":{"$error":"#REF!"}},{"$f":"Podatnicy!#REF!","v":{"$error":"#REF!"}},{"$f":"Podatnicy!#REF!","v":{"$error":"#REF!"}}]
[null,1756,{"$f":"Podatnicy!#REF!","v":{"$error":"#REF!"}},{"$f":"Podatnicy!#REF!","v":{"$error":"#REF!"}},{"$f":"Podatnicy!#REF!","v":{"$error":"#REF!"}}]
[null,1757,{"$f":"Podatnicy!#REF!","v":{"$error":"#REF!"}},{"$f":"Podatnicy!#REF!","v":{"$error":"#REF!"}},{"$f":"Podatnicy!#REF!","v":{"$error":"#REF!"}}]
[null,1758,{"$f":"Podatnicy!#REF!","v":{"$error":"#REF!"}},{"$f":"Podatnicy!#REF!","v":{"$error":"#REF!"}},{"$f":"Podatnicy!#REF!","v":{"$error":"#REF!"}}]
[null,1759,{"$f":"Podatnicy!#REF!","v":{"$error":"#REF!"}},{"$f":"Podatnicy!#REF!","v":{"$error":"#REF!"}},{"$f":"Podatnicy!#REF!","v":{"$error":"#REF!"}}]
[null,1760,{"$f":"Podatnicy!#REF!","v":{"$error":"#REF!"}},{"$f":"Podatnicy!#REF!","v":{"$error":"#REF!"}},{"$f":"Podatnicy!#REF!","v":{"$error":"#REF!"}}]
[null,1761,{"$f":"Podatnicy!#REF!","v":{"$error":"#REF!"}},{"$f":"Podatnicy!#REF!","v":{"$error":"#REF!"}},{"$f":"Podatnicy!#REF!","v":{"$error":"#REF!"}}]
[null,1762,{"$f":"Podatnicy!#REF!","v":{"$error":"#REF!"}},{"$f":"Podatnicy!#REF!","v":{"$error":"#REF!"}},{"$f":"Podatnicy!#REF!","v":{"$error":"#REF!"}}]
[null,1763,{"$f":"Podatnicy!#REF!","v":{"$error":"#REF!"}},{"$f":"Podatnicy!#REF!","v":{"$error":"#REF!"}},{"$f":"Podatnicy!#REF!","v":{"$error":"#REF!"}}]
[null,1764,{"$f":"Podatnicy!#REF!","v":{"$error":"#REF!"}},{"$f":"Podatnicy!#REF!","v":{"$error":"#REF!"}},{"$f":"Podatnicy!#REF!","v":{"$error":"#REF!"}}]
[null,1765,{"$f":"Podatnicy!#REF!","v":{"$error":"#REF!"}},{"$f":"Podatnicy!#REF!","v":{"$error":"#REF!"}},{"$f":"Podatnicy!#REF!","v":{"$error":"#REF!"}}]
[null,1766,{"$f":"Podatnicy!#REF!","v":{"$error":"#REF!"}},{"$f":"Podatnicy!#REF!","v":{"$error":"#REF!"}},{"$f":"Podatnicy!#REF!","v":{"$error":"#REF!"}}]
[null,1767,{"$f":"Podatnicy!#REF!","v":{"$error":"#REF!"}},{"$f":"Podatnicy!#REF!","v":{"$error":"#REF!"}},{"$f":"Podatnicy!#REF!","v":{"$error":"#REF!"}}]
[null,1768,{"$f":"Podatnicy!#REF!","v":{"$error":"#REF!"}},{"$f":"Podatnicy!#REF!","v":{"$error":"#REF!"}},{"$f":"Podatnicy!#REF!","v":{"$error":"#REF!"}}]
[null,1769,{"$f":"Podatnicy!#REF!","v":{"$error":"#REF!"}},{"$f":"Podatnicy!#REF!","v":{"$error":"#REF!"}},{"$f":"Podatnicy!#REF!","v":{"$error":"#REF!"}}]
[null,1770,{"$f":"Podatnicy!#REF!","v":{"$error":"#REF!"}},{"$f":"Podatnicy!#REF!","v":{"$error":"#REF!"}},{"$f":"Podatnicy!#REF!","v":{"$error":"#REF!"}}]
[null,1771,{"$f":"Podatnicy!#REF!","v":{"$error":"#REF!"}},{"$f":"Podatnicy!#REF!","v":{"$error":"#REF!"}},{"$f":"Podatnicy!#REF!","v":{"$error":"#REF!"}}]
[null,1772,{"$f":"Podatnicy!#REF!","v":{"$error":"#REF!"}},{"$f":"Podatnicy!#REF!","v":{"$error":"#REF!"}},{"$f":"Podatnicy!#REF!","v":{"$error":"#REF!"}}]
[null,1773,{"$f":"Podatnicy!#REF!","v":{"$error":"#REF!"}},{"$f":"Podatnicy!#REF!","v":{"$error":"#REF!"}},{"$f":"Podatnicy!#REF!","v":{"$error":"#REF!"}}]
[null,1774,{"$f":"Podatnicy!#REF!","v":{"$error":"#REF!"}},{"$f":"Podatnicy!#REF!","v":{"$error":"#REF!"}},{"$f":"Podatnicy!#REF!","v":{"$error":"#REF!"}}]
[null,1775,{"$f":"Podatnicy!#REF!","v":{"$error":"#REF!"}},{"$f":"Podatnicy!#REF!","v":{"$error":"#REF!"}},{"$f":"Podatnicy!#REF!","v":{"$error":"#REF!"}}]
[null,1776,{"$f":"Podatnicy!#REF!","v":{"$error":"#REF!"}},{"$f":"Podatnicy!#REF!","v":{"$error":"#REF!"}},{"$f":"Podatnicy!#REF!","v":{"$error":"#REF!"}}]
[null,1777,{"$f":"Podatnicy!#REF!","v":{"$error":"#REF!"}},{"$f":"Podatnicy!#REF!","v":{"$error":"#REF!"}},{"$f":"Podatnicy!#REF!","v":{"$error":"#REF!"}}]
[null,1778,{"$f":"Podatnicy!#REF!","v":{"$error":"#REF!"}},{"$f":"Podatnicy!#REF!","v":{"$error":"#REF!"}},{"$f":"Podatnicy!#REF!","v":{"$error":"#REF!"}}]
[null,1779,{"$f":"Podatnicy!#REF!","v":{"$error":"#REF!"}},{"$f":"Podatnicy!#REF!","v":{"$error":"#REF!"}},{"$f":"Podatnicy!#REF!","v":{"$error":"#REF!"}}]
[null,1780,{"$f":"Podatnicy!#REF!","v":{"$error":"#REF!"}},{"$f":"Podatnicy!#REF!","v":{"$error":"#REF!"}},{"$f":"Podatnicy!#REF!","v":{"$error":"#REF!"}}]
[null,1781,{"$f":"Podatnicy!#REF!","v":{"$error":"#REF!"}},{"$f":"Podatnicy!#REF!","v":{"$error":"#REF!"}},{"$f":"Podatnicy!#REF!","v":{"$error":"#REF!"}}]
[null,1782,{"$f":"Podatnicy!#REF!","v":{"$error":"#REF!"}},{"$f":"Podatnicy!#REF!","v":{"$error":"#REF!"}},{"$f":"Podatnicy!#REF!","v":{"$error":"#REF!"}}]
[null,1783,{"$f":"Podatnicy!#REF!","v":{"$error":"#REF!"}},{"$f":"Podatnicy!#REF!","v":{"$error":"#REF!"}},{"$f":"Podatnicy!#REF!","v":{"$error":"#REF!"}}]
[null,1784,{"$f":"Podatnicy!#REF!","v":{"$error":"#REF!"}},{"$f":"Podatnicy!#REF!","v":{"$error":"#REF!"}},{"$f":"Podatnicy!#REF!","v":{"$error":"#REF!"}}]
[null,1785,{"$f":"Podatnicy!#REF!","v":{"$error":"#REF!"}},{"$f":"Podatnicy!#REF!","v":{"$error":"#REF!"}},{"$f":"Podatnicy!#REF!","v":{"$error":"#REF!"}}]
[null,1786,{"$f":"Podatnicy!#REF!","v":{"$error":"#REF!"}},{"$f":"Podatnicy!#REF!","v":{"$error":"#REF!"}},{"$f":"Podatnicy!#REF!","v":{"$error":"#REF!"}}]
[null,1787,{"$f":"Podatnicy!#REF!","v":{"$error":"#REF!"}},{"$f":"Podatnicy!#REF!","v":{"$error":"#REF!"}},{"$f":"Podatnicy!#REF!","v":{"$error":"#REF!"}}]
[null,1788,{"$f":"Podatnicy!#REF!","v":{"$error":"#REF!"}},{"$f":"Podatnicy!#REF!","v":{"$error":"#REF!"}},{"$f":"Podatnicy!#REF!","v":{"$error":"#REF!"}}]
[null,1789,{"$f":"Podatnicy!#REF!","v":{"$error":"#REF!"}},{"$f":"Podatnicy!#REF!","v":{"$error":"#REF!"}},{"$f":"Podatnicy!#REF!","v":{"$error":"#REF!"}}]
[null,1790,{"$f":"Podatnicy!#REF!","v":{"$error":"#REF!"}},{"$f":"Podatnicy!#REF!","v":{"$error":"#REF!"}},{"$f":"Podatnicy!#REF!","v":{"$error":"#REF!"}}]
[null,1791,{"$f":"Podatnicy!#REF!","v":{"$error":"#REF!"}},{"$f":"Podatnicy!#REF!","v":{"$error":"#REF!"}},{"$f":"Podatnicy!#REF!","v":{"$error":"#REF!"}}]
[null,1792,{"$f":"Podatnicy!#REF!","v":{"$error":"#REF!"}},{"$f":"Podatnicy!#REF!","v":{"$error":"#REF!"}},{"$f":"Podatnicy!#REF!","v":{"$error":"#REF!"}}]
[null,1793,{"$f":"Podatnicy!#REF!","v":{"$error":"#REF!"}},{"$f":"Podatnicy!#REF!","v":{"$error":"#REF!"}},{"$f":"Podatnicy!#REF!","v":{"$error":"#REF!"}}]
[null,1794,{"$f":"Podatnicy!#REF!","v":{"$error":"#REF!"}},{"$f":"Podatnicy!#REF!","v":{"$error":"#REF!"}},{"$f":"Podatnicy!#REF!","v":{"$error":"#REF!"}}]
[null,1795,{"$f":"Podatnicy!#REF!","v":{"$error":"#REF!"}},{"$f":"Podatnicy!#REF!","v":{"$error":"#REF!"}},{"$f":"Podatnicy!#REF!","v":{"$error":"#REF!"}}]
[null,1796,{"$f":"Podatnicy!#REF!","v":{"$error":"#REF!"}},{"$f":"Podatnicy!#REF!","v":{"$error":"#REF!"}},{"$f":"Podatnicy!#REF!","v":{"$error":"#REF!"}}]
[null,1797,{"$f":"Podatnicy!#REF!","v":{"$error":"#REF!"}},{"$f":"Podatnicy!#REF!","v":{"$error":"#REF!"}},{"$f":"Podatnicy!#REF!","v":{"$error":"#REF!"}}]
[null,1798,{"$f":"Podatnicy!#REF!","v":{"$error":"#REF!"}},{"$f":"Podatnicy!#REF!","v":{"$error":"#REF!"}},{"$f":"Podatnicy!#REF!","v":{"$error":"#REF!"}}]
[null,1799,{"$f":"Podatnicy!#REF!","v":{"$error":"#REF!"}},{"$f":"Podatnicy!#REF!","v":{"$error":"#REF!"}},{"$f":"Podatnicy!#REF!","v":{"$error":"#REF!"}}]
[null,1800,{"$f":"Podatnicy!#REF!","v":{"$error":"#REF!"}},{"$f":"Podatnicy!#REF!","v":{"$error":"#REF!"}},{"$f":"Podatnicy!#REF!","v":{"$error":"#REF!"}}]
[null,1801,{"$f":"Podatnicy!#REF!","v":{"$error":"#REF!"}},{"$f":"Podatnicy!#REF!","v":{"$error":"#REF!"}},{"$f":"Podatnicy!#REF!","v":{"$error":"#REF!"}}]
[null,1802,{"$f":"Podatnicy!#REF!","v":{"$error":"#REF!"}},{"$f":"Podatnicy!#REF!","v":{"$error":"#REF!"}},{"$f":"Podatnicy!#REF!","v":{"$error":"#REF!"}}]
[null,1803,{"$f":"Podatnicy!#REF!","v":{"$error":"#REF!"}},{"$f":"Podatnicy!#REF!","v":{"$error":"#REF!"}},{"$f":"Podatnicy!#REF!","v":{"$error":"#REF!"}}]
[null,1804,{"$f":"Podatnicy!#REF!","v":{"$error":"#REF!"}},{"$f":"Podatnicy!#REF!","v":{"$error":"#REF!"}},{"$f":"Podatnicy!#REF!","v":{"$error":"#REF!"}}]
[null,1805,{"$f":"Podatnicy!#REF!","v":{"$error":"#REF!"}},{"$f":"Podatnicy!#REF!","v":{"$error":"#REF!"}},{"$f":"Podatnicy!#REF!","v":{"$error":"#REF!"}}]
[null,1806,{"$f":"Podatnicy!#REF!","v":{"$error":"#REF!"}},{"$f":"Podatnicy!#REF!","v":{"$error":"#REF!"}},{"$f":"Podatnicy!#REF!","v":{"$error":"#REF!"}}]
[null,1807,{"$f":"Podatnicy!#REF!","v":{"$error":"#REF!"}},{"$f":"Podatnicy!#REF!","v":{"$error":"#REF!"}},{"$f":"Podatnicy!#REF!","v":{"$error":"#REF!"}}]
[null,1808,{"$f":"Podatnicy!#REF!","v":{"$error":"#REF!"}},{"$f":"Podatnicy!#REF!","v":{"$error":"#REF!"}},{"$f":"Podatnicy!#REF!","v":{"$error":"#REF!"}}]
[null,1809,{"$f":"Podatnicy!#REF!","v":{"$error":"#REF!"}},{"$f":"Podatnicy!#REF!","v":{"$error":"#REF!"}},{"$f":"Podatnicy!#REF!","v":{"$error":"#REF!"}}]
[null,1810,{"$f":"Podatnicy!#REF!","v":{"$error":"#REF!"}},{"$f":"Podatnicy!#REF!","v":{"$error":"#REF!"}},{"$f":"Podatnicy!#REF!","v":{"$error":"#REF!"}}]
[null,1811,{"$f":"Podatnicy!#REF!","v":{"$error":"#REF!"}},{"$f":"Podatnicy!#REF!","v":{"$error":"#REF!"}},{"$f":"Podatnicy!#REF!","v":{"$error":"#REF!"}}]
[null,1812,{"$f":"Podatnicy!#REF!","v":{"$error":"#REF!"}},{"$f":"Podatnicy!#REF!","v":{"$error":"#REF!"}},{"$f":"Podatnicy!#REF!","v":{"$error":"#REF!"}}]
[null,1813,{"$f":"Podatnicy!#REF!","v":{"$error":"#REF!"}},{"$f":"Podatnicy!#REF!","v":{"$error":"#REF!"}},{"$f":"Podatnicy!#REF!","v":{"$error":"#REF!"}}]
[null,1814,{"$f":"Podatnicy!#REF!","v":{"$error":"#REF!"}},{"$f":"Podatnicy!#REF!","v":{"$error":"#REF!"}},{"$f":"Podatnicy!#REF!","v":{"$error":"#REF!"}}]
[null,1815,{"$f":"Podatnicy!#REF!","v":{"$error":"#REF!"}},{"$f":"Podatnicy!#REF!","v":{"$error":"#REF!"}},{"$f":"Podatnicy!#REF!","v":{"$error":"#REF!"}}]
[null,1816,{"$f":"Podatnicy!#REF!","v":{"$error":"#REF!"}},{"$f":"Podatnicy!#REF!","v":{"$error":"#REF!"}},{"$f":"Podatnicy!#REF!","v":{"$error":"#REF!"}}]
[null,1817,{"$f":"Podatnicy!#REF!","v":{"$error":"#REF!"}},{"$f":"Podatnicy!#REF!","v":{"$error":"#REF!"}},{"$f":"Podatnicy!#REF!","v":{"$error":"#REF!"}}]
[null,1818,{"$f":"Podatnicy!#REF!","v":{"$error":"#REF!"}},{"$f":"Podatnicy!#REF!","v":{"$error":"#REF!"}},{"$f":"Podatnicy!#REF!","v":{"$error":"#REF!"}}]
[null,1819,{"$f":"Podatnicy!#REF!","v":{"$error":"#REF!"}},{"$f":"Podatnicy!#REF!","v":{"$error":"#REF!"}},{"$f":"Podatnicy!#REF!","v":{"$error":"#REF!"}}]
[null,1820,{"$f":"Podatnicy!#REF!","v":{"$error":"#REF!"}},{"$f":"Podatnicy!#REF!","v":{"$error":"#REF!"}},{"$f":"Podatnicy!#REF!","v":{"$error":"#REF!"}}]
[null,1821,{"$f":"Podatnicy!#REF!","v":{"$error":"#REF!"}},{"$f":"Podatnicy!#REF!","v":{"$error":"#REF!"}},{"$f":"Podatnicy!#REF!","v":{"$error":"#REF!"}}]
[null,1822,{"$f":"Podatnicy!#REF!","v":{"$error":"#REF!"}},{"$f":"Podatnicy!#REF!","v":{"$error":"#REF!"}},{"$f":"Podatnicy!#REF!","v":{"$error":"#REF!"}}]
[null,1823,{"$f":"Podatnicy!#REF!","v":{"$error":"#REF!"}},{"$f":"Podatnicy!#REF!","v":{"$error":"#REF!"}},{"$f":"Podatnicy!#REF!","v":{"$error":"#REF!"}}]
[null,1824,{"$f":"Podatnicy!#REF!","v":{"$error":"#REF!"}},{"$f":"Podatnicy!#REF!","v":{"$error":"#REF!"}},{"$f":"Podatnicy!#REF!","v":{"$error":"#REF!"}}]
[null,1825,{"$f":"Podatnicy!#REF!","v":{"$error":"#REF!"}},{"$f":"Podatnicy!#REF!","v":{"$error":"#REF!"}},{"$f":"Podatnicy!#REF!","v":{"$error":"#REF!"}}]
[null,1826,{"$f":"Podatnicy!#REF!","v":{"$error":"#REF!"}},{"$f":"Podatnicy!#REF!","v":{"$error":"#REF!"}},{"$f":"Podatnicy!#REF!","v":{"$error":"#REF!"}}]
[null,1827,{"$f":"Podatnicy!#REF!","v":{"$error":"#REF!"}},{"$f":"Podatnicy!#REF!","v":{"$error":"#REF!"}},{"$f":"Podatnicy!#REF!","v":{"$error":"#REF!"}}]
[null,1828,{"$f":"Podatnicy!#REF!","v":{"$error":"#REF!"}},{"$f":"Podatnicy!#REF!","v":{"$error":"#REF!"}},{"$f":"Podatnicy!#REF!","v":{"$error":"#REF!"}}]
[null,1829,{"$f":"Podatnicy!#REF!","v":{"$error":"#REF!"}},{"$f":"Podatnicy!#REF!","v":{"$error":"#REF!"}},{"$f":"Podatnicy!#REF!","v":{"$error":"#REF!"}}]
[null,1830,{"$f":"Podatnicy!#REF!","v":{"$error":"#REF!"}},{"$f":"Podatnicy!#REF!","v":{"$error":"#REF!"}},{"$f":"Podatnicy!#REF!","v":{"$error":"#REF!"}}]
[null,1831,{"$f":"Podatnicy!#REF!","v":{"$error":"#REF!"}},{"$f":"Podatnicy!#REF!","v":{"$error":"#REF!"}},{"$f":"Podatnicy!#REF!","v":{"$error":"#REF!"}}]
[null,1832,{"$f":"Podatnicy!#REF!","v":{"$error":"#REF!"}},{"$f":"Podatnicy!#REF!","v":{"$error":"#REF!"}},{"$f":"Podatnicy!#REF!","v":{"$error":"#REF!"}}]
[null,1833,{"$f":"Podatnicy!#REF!","v":{"$error":"#REF!"}},{"$f":"Podatnicy!#REF!","v":{"$error":"#REF!"}},{"$f":"Podatnicy!#REF!","v":{"$error":"#REF!"}}]
[null,1834,{"$f":"Podatnicy!#REF!","v":{"$error":"#REF!"}},{"$f":"Podatnicy!#REF!","v":{"$error":"#REF!"}},{"$f":"Podatnicy!#REF!","v":{"$error":"#REF!"}}]
[null,1835,{"$f":"Podatnicy!#REF!","v":{"$error":"#REF!"}},{"$f":"Podatnicy!#REF!","v":{"$error":"#REF!"}},{"$f":"Podatnicy!#REF!","v":{"$error":"#REF!"}}]
[null,1836,{"$f":"Podatnicy!#REF!","v":{"$error":"#REF!"}},{"$f":"Podatnicy!#REF!","v":{"$error":"#REF!"}},{"$f":"Podatnicy!#REF!","v":{"$error":"#REF!"}}]
[null,1837,{"$f":"Podatnicy!#REF!","v":{"$error":"#REF!"}},{"$f":"Podatnicy!#REF!","v":{"$error":"#REF!"}},{"$f":"Podatnicy!#REF!","v":{"$error":"#REF!"}}]
[null,1838,{"$f":"Podatnicy!#REF!","v":{"$error":"#REF!"}},{"$f":"Podatnicy!#REF!","v":{"$error":"#REF!"}},{"$f":"Podatnicy!#REF!","v":{"$error":"#REF!"}}]
[null,1839,{"$f":"Podatnicy!#REF!","v":{"$error":"#REF!"}},{"$f":"Podatnicy!#REF!","v":{"$error":"#REF!"}},{"$f":"Podatnicy!#REF!","v":{"$error":"#REF!"}}]
[null,1840,{"$f":"Podatnicy!#REF!","v":{"$error":"#REF!"}},{"$f":"Podatnicy!#REF!","v":{"$error":"#REF!"}},{"$f":"Podatnicy!#REF!","v":{"$error":"#REF!"}}]
[null,1841,{"$f":"Podatnicy!#REF!","v":{"$error":"#REF!"}},{"$f":"Podatnicy!#REF!","v":{"$error":"#REF!"}},{"$f":"Podatnicy!#REF!","v":{"$error":"#REF!"}}]
[null,1842,{"$f":"Podatnicy!#REF!","v":{"$error":"#REF!"}},{"$f":"Podatnicy!#REF!","v":{"$error":"#REF!"}},{"$f":"Podatnicy!#REF!","v":{"$error":"#REF!"}}]
[null,1843,{"$f":"Podatnicy!#REF!","v":{"$error":"#REF!"}},{"$f":"Podatnicy!#REF!","v":{"$error":"#REF!"}},{"$f":"Podatnicy!#REF!","v":{"$error":"#REF!"}}]
[null,1844,{"$f":"Podatnicy!#REF!","v":{"$error":"#REF!"}},{"$f":"Podatnicy!#REF!","v":{"$error":"#REF!"}},{"$f":"Podatnicy!#REF!","v":{"$error":"#REF!"}}]
[null,1845,{"$f":"Podatnicy!#REF!","v":{"$error":"#REF!"}},{"$f":"Podatnicy!#REF!","v":{"$error":"#REF!"}},{"$f":"Podatnicy!#REF!","v":{"$error":"#REF!"}}]
[null,1846,{"$f":"Podatnicy!#REF!","v":{"$error":"#REF!"}},{"$f":"Podatnicy!#REF!","v":{"$error":"#REF!"}},{"$f":"Podatnicy!#REF!","v":{"$error":"#REF!"}}]
[null,1847,{"$f":"Podatnicy!#REF!","v":{"$error":"#REF!"}},{"$f":"Podatnicy!#REF!","v":{"$error":"#REF!"}},{"$f":"Podatnicy!#REF!","v":{"$error":"#REF!"}}]
[null,1848,{"$f":"Podatnicy!#REF!","v":{"$error":"#REF!"}},{"$f":"Podatnicy!#REF!","v":{"$error":"#REF!"}},{"$f":"Podatnicy!#REF!","v":{"$error":"#REF!"}}]
[null,1849,{"$f":"Podatnicy!#REF!","v":{"$error":"#REF!"}},{"$f":"Podatnicy!#REF!","v":{"$error":"#REF!"}},{"$f":"Podatnicy!#REF!","v":{"$error":"#REF!"}}]
[null,1850,{"$f":"Podatnicy!#REF!","v":{"$error":"#REF!"}},{"$f":"Podatnicy!#REF!","v":{"$error":"#REF!"}},{"$f":"Podatnicy!#REF!","v":{"$error":"#REF!"}}]
[null,1851,{"$f":"Podatnicy!#REF!","v":{"$error":"#REF!"}},{"$f":"Podatnicy!#REF!","v":{"$error":"#REF!"}},{"$f":"Podatnicy!#REF!","v":{"$error":"#REF!"}}]
[null,1852,{"$f":"Podatnicy!#REF!","v":{"$error":"#REF!"}},{"$f":"Podatnicy!#REF!","v":{"$error":"#REF!"}},{"$f":"Podatnicy!#REF!","v":{"$error":"#REF!"}}]
[null,1853,{"$f":"Podatnicy!#REF!","v":{"$error":"#REF!"}},{"$f":"Podatnicy!#REF!","v":{"$error":"#REF!"}},{"$f":"Podatnicy!#REF!","v":{"$error":"#REF!"}}]
[null,1854,{"$f":"Podatnicy!#REF!","v":{"$error":"#REF!"}},{"$f":"Podatnicy!#REF!","v":{"$error":"#REF!"}},{"$f":"Podatnicy!#REF!","v":{"$error":"#REF!"}}]
[null,1855,{"$f":"Podatnicy!#REF!","v":{"$error":"#REF!"}},{"$f":"Podatnicy!#REF!","v":{"$error":"#REF!"}},{"$f":"Podatnicy!#REF!","v":{"$error":"#REF!"}}]
[null,1856,{"$f":"Podatnicy!#REF!","v":{"$error":"#REF!"}},{"$f":"Podatnicy!#REF!","v":{"$error":"#REF!"}},{"$f":"Podatnicy!#REF!","v":{"$error":"#REF!"}}]
[null,1857,{"$f":"Podatnicy!#REF!","v":{"$error":"#REF!"}},{"$f":"Podatnicy!#REF!","v":{"$error":"#REF!"}},{"$f":"Podatnicy!#REF!","v":{"$error":"#REF!"}}]
[null,1858,{"$f":"Podatnicy!#REF!","v":{"$error":"#REF!"}},{"$f":"Podatnicy!#REF!","v":{"$error":"#REF!"}},{"$f":"Podatnicy!#REF!","v":{"$error":"#REF!"}}]
[null,1859,{"$f":"Podatnicy!#REF!","v":{"$error":"#REF!"}},{"$f":"Podatnicy!#REF!","v":{"$error":"#REF!"}},{"$f":"Podatnicy!#REF!","v":{"$error":"#REF!"}}]
[null,1860,{"$f":"Podatnicy!#REF!","v":{"$error":"#REF!"}},{"$f":"Podatnicy!#REF!","v":{"$error":"#REF!"}},{"$f":"Podatnicy!#REF!","v":{"$error":"#REF!"}}]
[null,1861,{"$f":"Podatnicy!#REF!","v":{"$error":"#REF!"}},{"$f":"Podatnicy!#REF!","v":{"$error":"#REF!"}},{"$f":"Podatnicy!#REF!","v":{"$error":"#REF!"}}]
[null,1862,{"$f":"Podatnicy!#REF!","v":{"$error":"#REF!"}},{"$f":"Podatnicy!#REF!","v":{"$error":"#REF!"}},{"$f":"Podatnicy!#REF!","v":{"$error":"#REF!"}}]
[null,1863,{"$f":"Podatnicy!#REF!","v":{"$error":"#REF!"}},{"$f":"Podatnicy!#REF!","v":{"$error":"#REF!"}},{"$f":"Podatnicy!#REF!","v":{"$error":"#REF!"}}]
[null,1864,{"$f":"Podatnicy!#REF!","v":{"$error":"#REF!"}},{"$f":"Podatnicy!#REF!","v":{"$error":"#REF!"}},{"$f":"Podatnicy!#REF!","v":{"$error":"#REF!"}}]
[null,1865,{"$f":"Podatnicy!#REF!","v":{"$error":"#REF!"}},{"$f":"Podatnicy!#REF!","v":{"$error":"#REF!"}},{"$f":"Podatnicy!#REF!","v":{"$error":"#REF!"}}]
[null,1866,{"$f":"Podatnicy!#REF!","v":{"$error":"#REF!"}},{"$f":"Podatnicy!#REF!","v":{"$error":"#REF!"}},{"$f":"Podatnicy!#REF!","v":{"$error":"#REF!"}}]
[null,1867,{"$f":"Podatnicy!#REF!","v":{"$error":"#REF!"}},{"$f":"Podatnicy!#REF!","v":{"$error":"#REF!"}},{"$f":"Podatnicy!#REF!","v":{"$error":"#REF!"}}]
[null,1868,{"$f":"Podatnicy!#REF!","v":{"$error":"#REF!"}},{"$f":"Podatnicy!#REF!","v":{"$error":"#REF!"}},{"$f":"Podatnicy!#REF!","v":{"$error":"#REF!"}}]
[null,1869,{"$f":"Podatnicy!#REF!","v":{"$error":"#REF!"}},{"$f":"Podatnicy!#REF!","v":{"$error":"#REF!"}},{"$f":"Podatnicy!#REF!","v":{"$error":"#REF!"}}]
[null,1870,{"$f":"Podatnicy!#REF!","v":{"$error":"#REF!"}},{"$f":"Podatnicy!#REF!","v":{"$error":"#REF!"}},{"$f":"Podatnicy!#REF!","v":{"$error":"#REF!"}}]
[null,1871,{"$f":"Podatnicy!#REF!","v":{"$error":"#REF!"}},{"$f":"Podatnicy!#REF!","v":{"$error":"#REF!"}},{"$f":"Podatnicy!#REF!","v":{"$error":"#REF!"}}]
[null,1872,{"$f":"Podatnicy!#REF!","v":{"$error":"#REF!"}},{"$f":"Podatnicy!#REF!","v":{"$error":"#REF!"}},{"$f":"Podatnicy!#REF!","v":{"$error":"#REF!"}}]
[null,1873,{"$f":"Podatnicy!#REF!","v":{"$error":"#REF!"}},{"$f":"Podatnicy!#REF!","v":{"$error":"#REF!"}},{"$f":"Podatnicy!#REF!","v":{"$error":"#REF!"}}]
[null,1874,{"$f":"Podatnicy!#REF!","v":{"$error":"#REF!"}},{"$f":"Podatnicy!#REF!","v":{"$error":"#REF!"}},{"$f":"Podatnicy!#REF!","v":{"$error":"#REF!"}}]
[null,1875,{"$f":"Podatnicy!#REF!","v":{"$error":"#REF!"}},{"$f":"Podatnicy!#REF!","v":{"$error":"#REF!"}},{"$f":"Podatnicy!#REF!","v":{"$error":"#REF!"}}]
[null,1876,{"$f":"Podatnicy!#REF!","v":{"$error":"#REF!"}},{"$f":"Podatnicy!#REF!","v":{"$error":"#REF!"}},{"$f":"Podatnicy!#REF!","v":{"$error":"#REF!"}}]
[null,1877,{"$f":"Podatnicy!#REF!","v":{"$error":"#REF!"}},{"$f":"Podatnicy!#REF!","v":{"$error":"#REF!"}},{"$f":"Podatnicy!#REF!","v":{"$error":"#REF!"}}]
[null,1878,{"$f":"Podatnicy!#REF!","v":{"$error":"#REF!"}},{"$f":"Podatnicy!#REF!","v":{"$error":"#REF!"}},{"$f":"Podatnicy!#REF!","v":{"$error":"#REF!"}}]
[null,1879,{"$f":"Podatnicy!#REF!","v":{"$error":"#REF!"}},{"$f":"Podatnicy!#REF!","v":{"$error":"#REF!"}},{"$f":"Podatnicy!#REF!","v":{"$error":"#REF!"}}]
[null,1880,{"$f":"Podatnicy!#REF!","v":{"$error":"#REF!"}},{"$f":"Podatnicy!#REF!","v":{"$error":"#REF!"}},{"$f":"Podatnicy!#REF!","v":{"$error":"#REF!"}}]
[null,1881,{"$f":"Podatnicy!#REF!","v":{"$error":"#REF!"}},{"$f":"Podatnicy!#REF!","v":{"$error":"#REF!"}},{"$f":"Podatnicy!#REF!","v":{"$error":"#REF!"}}]
[null,1882,{"$f":"Podatnicy!#REF!","v":{"$error":"#REF!"}},{"$f":"Podatnicy!#REF!","v":{"$error":"#REF!"}},{"$f":"Podatnicy!#REF!","v":{"$error":"#REF!"}}]
[null,1883,{"$f":"Podatnicy!#REF!","v":{"$error":"#REF!"}},{"$f":"Podatnicy!#REF!","v":{"$error":"#REF!"}},{"$f":"Podatnicy!#REF!","v":{"$error":"#REF!"}}]
[null,1884,{"$f":"Podatnicy!#REF!","v":{"$error":"#REF!"}},{"$f":"Podatnicy!#REF!","v":{"$error":"#REF!"}},{"$f":"Podatnicy!#REF!","v":{"$error":"#REF!"}}]
[null,1885,{"$f":"Podatnicy!#REF!","v":{"$error":"#REF!"}},{"$f":"Podatnicy!#REF!","v":{"$error":"#REF!"}},{"$f":"Podatnicy!#REF!","v":{"$error":"#REF!"}}]
[null,1886,{"$f":"Podatnicy!#REF!","v":{"$error":"#REF!"}},{"$f":"Podatnicy!#REF!","v":{"$error":"#REF!"}},{"$f":"Podatnicy!#REF!","v":{"$error":"#REF!"}}]
[null,1887,{"$f":"Podatnicy!#REF!","v":{"$error":"#REF!"}},{"$f":"Podatnicy!#REF!","v":{"$error":"#REF!"}},{"$f":"Podatnicy!#REF!","v":{"$error":"#REF!"}}]
[null,1888,{"$f":"Podatnicy!#REF!","v":{"$error":"#REF!"}},{"$f":"Podatnicy!#REF!","v":{"$error":"#REF!"}},{"$f":"Podatnicy!#REF!","v":{"$error":"#REF!"}}]
[null,1889,{"$f":"Podatnicy!#REF!","v":{"$error":"#REF!"}},{"$f":"Podatnicy!#REF!","v":{"$error":"#REF!"}},{"$f":"Podatnicy!#REF!","v":{"$error":"#REF!"}}]
[null,1890,{"$f":"Podatnicy!#REF!","v":{"$error":"#REF!"}},{"$f":"Podatnicy!#REF!","v":{"$error":"#REF!"}},{"$f":"Podatnicy!#REF!","v":{"$error":"#REF!"}}]
[null,1891,{"$f":"Podatnicy!#REF!","v":{"$error":"#REF!"}},{"$f":"Podatnicy!#REF!","v":{"$error":"#REF!"}},{"$f":"Podatnicy!#REF!","v":{"$error":"#REF!"}}]
[null,1892,{"$f":"Podatnicy!#REF!","v":{"$error":"#REF!"}},{"$f":"Podatnicy!#REF!","v":{"$error":"#REF!"}},{"$f":"Podatnicy!#REF!","v":{"$error":"#REF!"}}]
[null,1893,{"$f":"Podatnicy!#REF!","v":{"$error":"#REF!"}},{"$f":"Podatnicy!#REF!","v":{"$error":"#REF!"}},{"$f":"Podatnicy!#REF!","v":{"$error":"#REF!"}}]
[null,1894,{"$f":"Podatnicy!#REF!","v":{"$error":"#REF!"}},{"$f":"Podatnicy!#REF!","v":{"$error":"#REF!"}},{"$f":"Podatnicy!#REF!","v":{"$error":"#REF!"}}]
[null,1895,{"$f":"Podatnicy!#REF!","v":{"$error":"#REF!"}},{"$f":"Podatnicy!#REF!","v":{"$error":"#REF!"}},{"$f":"Podatnicy!#REF!","v":{"$error":"#REF!"}}]
[null,1896,{"$f":"Podatnicy!#REF!","v":{"$error":"#REF!"}},{"$f":"Podatnicy!#REF!","v":{"$error":"#REF!"}},{"$f":"Podatnicy!#REF!","v":{"$error":"#REF!"}}]
[null,1897,{"$f":"Podatnicy!#REF!","v":{"$error":"#REF!"}},{"$f":"Podatnicy!#REF!","v":{"$error":"#REF!"}},{"$f":"Podatnicy!#REF!","v":{"$error":"#REF!"}}]
[null,1898,{"$f":"Podatnicy!#REF!","v":{"$error":"#REF!"}},{"$f":"Podatnicy!#REF!","v":{"$error":"#REF!"}},{"$f":"Podatnicy!#REF!","v":{"$error":"#REF!"}}]
[null,1899,{"$f":"Podatnicy!#REF!","v":{"$error":"#REF!"}},{"$f":"Podatnicy!#REF!","v":{"$error":"#REF!"}},{"$f":"Podatnicy!#REF!","v":{"$error":"#REF!"}}]
[null,1900,{"$f":"Podatnicy!#REF!","v":{"$error":"#REF!"}},{"$f":"Podatnicy!#REF!","v":{"$error":"#REF!"}},{"$f":"Podatnicy!#REF!","v":{"$error":"#REF!"}}]
[null,1901,{"$f":"Podatnicy!#REF!","v":{"$error":"#REF!"}},{"$f":"Podatnicy!#REF!","v":{"$error":"#REF!"}},{"$f":"Podatnicy!#REF!","v":{"$error":"#REF!"}}]
[null,1902,{"$f":"Podatnicy!#REF!","v":{"$error":"#REF!"}},{"$f":"Podatnicy!#REF!","v":{"$error":"#REF!"}},{"$f":"Podatnicy!#REF!","v":{"$error":"#REF!"}}]
[null,1903,{"$f":"Podatnicy!#REF!","v":{"$error":"#REF!"}},{"$f":"Podatnicy!#REF!","v":{"$error":"#REF!"}},{"$f":"Podatnicy!#REF!","v":{"$error":"#REF!"}}]
[null,1904,{"$f":"Podatnicy!#REF!","v":{"$error":"#REF!"}},{"$f":"Podatnicy!#REF!","v":{"$error":"#REF!"}},{"$f":"Podatnicy!#REF!","v":{"$error":"#REF!"}}]
[null,1905,{"$f":"Podatnicy!#REF!","v":{"$error":"#REF!"}},{"$f":"Podatnicy!#REF!","v":{"$error":"#REF!"}},{"$f":"Podatnicy!#REF!","v":{"$error":"#REF!"}}]
[null,1906,{"$f":"Podatnicy!#REF!","v":{"$error":"#REF!"}},{"$f":"Podatnicy!#REF!","v":{"$error":"#REF!"}},{"$f":"Podatnicy!#REF!","v":{"$error":"#REF!"}}]
[null,1907,{"$f":"Podatnicy!#REF!","v":{"$error":"#REF!"}},{"$f":"Podatnicy!#REF!","v":{"$error":"#REF!"}},{"$f":"Podatnicy!#REF!","v":{"$error":"#REF!"}}]
[null,1908,{"$f":"Podatnicy!#REF!","v":{"$error":"#REF!"}},{"$f":"Podatnicy!#REF!","v":{"$error":"#REF!"}},{"$f":"Podatnicy!#REF!","v":{"$error":"#REF!"}}]
[null,1909,{"$f":"Podatnicy!#REF!","v":{"$error":"#REF!"}},{"$f":"Podatnicy!#REF!","v":{"$error":"#REF!"}},{"$f":"Podatnicy!#REF!","v":{"$error":"#REF!"}}]
[null,1910,{"$f":"Podatnicy!#REF!","v":{"$error":"#REF!"}},{"$f":"Podatnicy!#REF!","v":{"$error":"#REF!"}},{"$f":"Podatnicy!#REF!","v":{"$error":"#REF!"}}]
[null,1911,{"$f":"Podatnicy!#REF!","v":{"$error":"#REF!"}},{"$f":"Podatnicy!#REF!","v":{"$error":"#REF!"}},{"$f":"Podatnicy!#REF!","v":{"$error":"#REF!"}}]
[null,1912,{"$f":"Podatnicy!#REF!","v":{"$error":"#REF!"}},{"$f":"Podatnicy!#REF!","v":{"$error":"#REF!"}},{"$f":"Podatnicy!#REF!","v":{"$error":"#REF!"}}]
[null,1913,{"$f":"Podatnicy!#REF!","v":{"$error":"#REF!"}},{"$f":"Podatnicy!#REF!","v":{"$error":"#REF!"}},{"$f":"Podatnicy!#REF!","v":{"$error":"#REF!"}}]
[null,1914,{"$f":"Podatnicy!#REF!","v":{"$error":"#REF!"}},{"$f":"Podatnicy!#REF!","v":{"$error":"#REF!"}},{"$f":"Podatnicy!#REF!","v":{"$error":"#REF!"}}]
[null,1915,{"$f":"Podatnicy!#REF!","v":{"$error":"#REF!"}},{"$f":"Podatnicy!#REF!","v":{"$error":"#REF!"}},{"$f":"Podatnicy!#REF!","v":{"$error":"#REF!"}}]
[null,1916,{"$f":"Podatnicy!#REF!","v":{"$error":"#REF!"}},{"$f":"Podatnicy!#REF!","v":{"$error":"#REF!"}},{"$f":"Podatnicy!#REF!","v":{"$error":"#REF!"}}]
[null,1917,{"$f":"Podatnicy!#REF!","v":{"$error":"#REF!"}},{"$f":"Podatnicy!#REF!","v":{"$error":"#REF!"}},{"$f":"Podatnicy!#REF!","v":{"$error":"#REF!"}}]
[null,1918,{"$f":"Podatnicy!#REF!","v":{"$error":"#REF!"}},{"$f":"Podatnicy!#REF!","v":{"$error":"#REF!"}},{"$f":"Podatnicy!#REF!","v":{"$error":"#REF!"}}]
[null,1919,{"$f":"Podatnicy!#REF!","v":{"$error":"#REF!"}},{"$f":"Podatnicy!#REF!","v":{"$error":"#REF!"}},{"$f":"Podatnicy!#REF!","v":{"$error":"#REF!"}}]
[null,1920,{"$f":"Podatnicy!#REF!","v":{"$error":"#REF!"}},{"$f":"Podatnicy!#REF!","v":{"$error":"#REF!"}},{"$f":"Podatnicy!#REF!","v":{"$error":"#REF!"}}]
[null,1921,{"$f":"Podatnicy!#REF!","v":{"$error":"#REF!"}},{"$f":"Podatnicy!#REF!","v":{"$error":"#REF!"}},{"$f":"Podatnicy!#REF!","v":{"$error":"#REF!"}}]
[null,1922,{"$f":"Podatnicy!#REF!","v":{"$error":"#REF!"}},{"$f":"Podatnicy!#REF!","v":{"$error":"#REF!"}},{"$f":"Podatnicy!#REF!","v":{"$error":"#REF!"}}]
[null,1923,{"$f":"Podatnicy!#REF!","v":{"$error":"#REF!"}},{"$f":"Podatnicy!#REF!","v":{"$error":"#REF!"}},{"$f":"Podatnicy!#REF!","v":{"$error":"#REF!"}}]
[null,1924,{"$f":"Podatnicy!#REF!","v":{"$error":"#REF!"}},{"$f":"Podatnicy!#REF!","v":{"$error":"#REF!"}},{"$f":"Podatnicy!#REF!","v":{"$error":"#REF!"}}]
[null,1925,{"$f":"Podatnicy!#REF!","v":{"$error":"#REF!"}},{"$f":"Podatnicy!#REF!","v":{"$error":"#REF!"}},{"$f":"Podatnicy!#REF!","v":{"$error":"#REF!"}}]
[null,1926,{"$f":"Podatnicy!#REF!","v":{"$error":"#REF!"}},{"$f":"Podatnicy!#REF!","v":{"$error":"#REF!"}},{"$f":"Podatnicy!#REF!","v":{"$error":"#REF!"}}]
[null,1927,{"$f":"Podatnicy!#REF!","v":{"$error":"#REF!"}},{"$f":"Podatnicy!#REF!","v":{"$error":"#REF!"}},{"$f":"Podatnicy!#REF!","v":{"$error":"#REF!"}}]
[null,1928,{"$f":"Podatnicy!#REF!","v":{"$error":"#REF!"}},{"$f":"Podatnicy!#REF!","v":{"$error":"#REF!"}},{"$f":"Podatnicy!#REF!","v":{"$error":"#REF!"}}]
[null,1929,{"$f":"Podatnicy!#REF!","v":{"$error":"#REF!"}},{"$f":"Podatnicy!#REF!","v":{"$error":"#REF!"}},{"$f":"Podatnicy!#REF!","v":{"$error":"#REF!"}}]
[null,1930,{"$f":"Podatnicy!#REF!","v":{"$error":"#REF!"}},{"$f":"Podatnicy!#REF!","v":{"$error":"#REF!"}},{"$f":"Podatnicy!#REF!","v":{"$error":"#REF!"}}]
[null,1931,{"$f":"Podatnicy!#REF!","v":{"$error":"#REF!"}},{"$f":"Podatnicy!#REF!","v":{"$error":"#REF!"}},{"$f":"Podatnicy!#REF!","v":{"$error":"#REF!"}}]
[null,1932,{"$f":"Podatnicy!#REF!","v":{"$error":"#REF!"}},{"$f":"Podatnicy!#REF!","v":{"$error":"#REF!"}},{"$f":"Podatnicy!#REF!","v":{"$error":"#REF!"}}]
[null,1933,{"$f":"Podatnicy!#REF!","v":{"$error":"#REF!"}},{"$f":"Podatnicy!#REF!","v":{"$error":"#REF!"}},{"$f":"Podatnicy!#REF!","v":{"$error":"#REF!"}}]
[null,1934,{"$f":"Podatnicy!#REF!","v":{"$error":"#REF!"}},{"$f":"Podatnicy!#REF!","v":{"$error":"#REF!"}},{"$f":"Podatnicy!#REF!","v":{"$error":"#REF!"}}]
[null,1935,{"$f":"Podatnicy!#REF!","v":{"$error":"#REF!"}},{"$f":"Podatnicy!#REF!","v":{"$error":"#REF!"}},{"$f":"Podatnicy!#REF!","v":{"$error":"#REF!"}}]
[null,1936,{"$f":"Podatnicy!#REF!","v":{"$error":"#REF!"}},{"$f":"Podatnicy!#REF!","v":{"$error":"#REF!"}},{"$f":"Podatnicy!#REF!","v":{"$error":"#REF!"}}]
[null,1937,{"$f":"Podatnicy!#REF!","v":{"$error":"#REF!"}},{"$f":"Podatnicy!#REF!","v":{"$error":"#REF!"}},{"$f":"Podatnicy!#REF!","v":{"$error":"#REF!"}}]
[null,1938,{"$f":"Podatnicy!#REF!","v":{"$error":"#REF!"}},{"$f":"Podatnicy!#REF!","v":{"$error":"#REF!"}},{"$f":"Podatnicy!#REF!","v":{"$error":"#REF!"}}]
[null,1939,{"$f":"Podatnicy!#REF!","v":{"$error":"#REF!"}},{"$f":"Podatnicy!#REF!","v":{"$error":"#REF!"}},{"$f":"Podatnicy!#REF!","v":{"$error":"#REF!"}}]
[null,1940,{"$f":"Podatnicy!#REF!","v":{"$error":"#REF!"}},{"$f":"Podatnicy!#REF!","v":{"$error":"#REF!"}},{"$f":"Podatnicy!#REF!","v":{"$error":"#REF!"}}]
[null,1941,{"$f":"Podatnicy!#REF!","v":{"$error":"#REF!"}},{"$f":"Podatnicy!#REF!","v":{"$error":"#REF!"}},{"$f":"Podatnicy!#REF!","v":{"$error":"#REF!"}}]
[null,1942,{"$f":"Podatnicy!#REF!","v":{"$error":"#REF!"}},{"$f":"Podatnicy!#REF!","v":{"$error":"#REF!"}},{"$f":"Podatnicy!#REF!","v":{"$error":"#REF!"}}]
[null,1943,{"$f":"Podatnicy!#REF!","v":{"$error":"#REF!"}},{"$f":"Podatnicy!#REF!","v":{"$error":"#REF!"}},{"$f":"Podatnicy!#REF!","v":{"$error":"#REF!"}}]
[null,1944,{"$f":"Podatnicy!#REF!","v":{"$error":"#REF!"}},{"$f":"Podatnicy!#REF!","v":{"$error":"#REF!"}},{"$f":"Podatnicy!#REF!","v":{"$error":"#REF!"}}]
[null,1945,{"$f":"Podatnicy!#REF!","v":{"$error":"#REF!"}},{"$f":"Podatnicy!#REF!","v":{"$error":"#REF!"}},{"$f":"Podatnicy!#REF!","v":{"$error":"#REF!"}}]
[null,1946,{"$f":"Podatnicy!#REF!","v":{"$error":"#REF!"}},{"$f":"Podatnicy!#REF!","v":{"$error":"#REF!"}},{"$f":"Podatnicy!#REF!","v":{"$error":"#REF!"}}]
[null,1947,{"$f":"Podatnicy!#REF!","v":{"$error":"#REF!"}},{"$f":"Podatnicy!#REF!","v":{"$error":"#REF!"}},{"$f":"Podatnicy!#REF!","v":{"$error":"#REF!"}}]
[null,1948,{"$f":"Podatnicy!#REF!","v":{"$error":"#REF!"}},{"$f":"Podatnicy!#REF!","v":{"$error":"#REF!"}},{"$f":"Podatnicy!#REF!","v":{"$error":"#REF!"}}]
[null,1949,{"$f":"Podatnicy!#REF!","v":{"$error":"#REF!"}},{"$f":"Podatnicy!#REF!","v":{"$error":"#REF!"}},{"$f":"Podatnicy!#REF!","v":{"$error":"#REF!"}}]
[null,1950,{"$f":"Podatnicy!#REF!","v":{"$error":"#REF!"}},{"$f":"Podatnicy!#REF!","v":{"$error":"#REF!"}},{"$f":"Podatnicy!#REF!","v":{"$error":"#REF!"}}]
[null,1951,{"$f":"Podatnicy!#REF!","v":{"$error":"#REF!"}},{"$f":"Podatnicy!#REF!","v":{"$error":"#REF!"}},{"$f":"Podatnicy!#REF!","v":{"$error":"#REF!"}}]
[null,1952,{"$f":"Podatnicy!#REF!","v":{"$error":"#REF!"}},{"$f":"Podatnicy!#REF!","v":{"$error":"#REF!"}},{"$f":"Podatnicy!#REF!","v":{"$error":"#REF!"}}]
[null,1953,{"$f":"Podatnicy!#REF!","v":{"$error":"#REF!"}},{"$f":"Podatnicy!#REF!","v":{"$error":"#REF!"}},{"$f":"Podatnicy!#REF!","v":{"$error":"#REF!"}}]
[null,1954,{"$f":"Podatnicy!#REF!","v":{"$error":"#REF!"}},{"$f":"Podatnicy!#REF!","v":{"$error":"#REF!"}},{"$f":"Podatnicy!#REF!","v":{"$error":"#REF!"}}]
[null,1955,{"$f":"Podatnicy!#REF!","v":{"$error":"#REF!"}},{"$f":"Podatnicy!#REF!","v":{"$error":"#REF!"}},{"$f":"Podatnicy!#REF!","v":{"$error":"#REF!"}}]
[null,1956,{"$f":"Podatnicy!#REF!","v":{"$error":"#REF!"}},{"$f":"Podatnicy!#REF!","v":{"$error":"#REF!"}},{"$f":"Podatnicy!#REF!","v":{"$error":"#REF!"}}]
[null,1957,{"$f":"Podatnicy!#REF!","v":{"$error":"#REF!"}},{"$f":"Podatnicy!#REF!","v":{"$error":"#REF!"}},{"$f":"Podatnicy!#REF!","v":{"$error":"#REF!"}}]
[null,1958,{"$f":"Podatnicy!#REF!","v":{"$error":"#REF!"}},{"$f":"Podatnicy!#REF!","v":{"$error":"#REF!"}},{"$f":"Podatnicy!#REF!","v":{"$error":"#REF!"}}]
[null,1959,{"$f":"Podatnicy!#REF!","v":{"$error":"#REF!"}},{"$f":"Podatnicy!#REF!","v":{"$error":"#REF!"}},{"$f":"Podatnicy!#REF!","v":{"$error":"#REF!"}}]
[null,1960,{"$f":"Podatnicy!#REF!","v":{"$error":"#REF!"}},{"$f":"Podatnicy!#REF!","v":{"$error":"#REF!"}},{"$f":"Podatnicy!#REF!","v":{"$error":"#REF!"}}]
[null,1961,{"$f":"Podatnicy!#REF!","v":{"$error":"#REF!"}},{"$f":"Podatnicy!#REF!","v":{"$error":"#REF!"}},{"$f":"Podatnicy!#REF!","v":{"$error":"#REF!"}}]
[null,1962,{"$f":"Podatnicy!#REF!","v":{"$error":"#REF!"}},{"$f":"Podatnicy!#REF!","v":{"$error":"#REF!"}},{"$f":"Podatnicy!#REF!","v":{"$error":"#REF!"}}]
[null,1963,{"$f":"Podatnicy!#REF!","v":{"$error":"#REF!"}},{"$f":"Podatnicy!#REF!","v":{"$error":"#REF!"}},{"$f":"Podatnicy!#REF!","v":{"$error":"#REF!"}}]
[null,1964,{"$f":"Podatnicy!#REF!","v":{"$error":"#REF!"}},{"$f":"Podatnicy!#REF!","v":{"$error":"#REF!"}},{"$f":"Podatnicy!#REF!","v":{"$error":"#REF!"}}]
[null,1965,{"$f":"Podatnicy!#REF!","v":{"$error":"#REF!"}},{"$f":"Podatnicy!#REF!","v":{"$error":"#REF!"}},{"$f":"Podatnicy!#REF!","v":{"$error":"#REF!"}}]
[null,1966,{"$f":"Podatnicy!#REF!","v":{"$error":"#REF!"}},{"$f":"Podatnicy!#REF!","v":{"$error":"#REF!"}},{"$f":"Podatnicy!#REF!","v":{"$error":"#REF!"}}]
[null,1967,{"$f":"Podatnicy!#REF!","v":{"$error":"#REF!"}},{"$f":"Podatnicy!#REF!","v":{"$error":"#REF!"}},{"$f":"Podatnicy!#REF!","v":{"$error":"#REF!"}}]
[null,1968,{"$f":"Podatnicy!#REF!","v":{"$error":"#REF!"}},{"$f":"Podatnicy!#REF!","v":{"$error":"#REF!"}},{"$f":"Podatnicy!#REF!","v":{"$error":"#REF!"}}]
[null,1969,{"$f":"Podatnicy!#REF!","v":{"$error":"#REF!"}},{"$f":"Podatnicy!#REF!","v":{"$error":"#REF!"}},{"$f":"Podatnicy!#REF!","v":{"$error":"#REF!"}}]
[null,1970,{"$f":"Podatnicy!#REF!","v":{"$error":"#REF!"}},{"$f":"Podatnicy!#REF!","v":{"$error":"#REF!"}},{"$f":"Podatnicy!#REF!","v":{"$error":"#REF!"}}]
[null,1971,{"$f":"Podatnicy!#REF!","v":{"$error":"#REF!"}},{"$f":"Podatnicy!#REF!","v":{"$error":"#REF!"}},{"$f":"Podatnicy!#REF!","v":{"$error":"#REF!"}}]
[null,1972,{"$f":"Podatnicy!#REF!","v":{"$error":"#REF!"}},{"$f":"Podatnicy!#REF!","v":{"$error":"#REF!"}},{"$f":"Podatnicy!#REF!","v":{"$error":"#REF!"}}]
[null,1973,{"$f":"Podatnicy!#REF!","v":{"$error":"#REF!"}},{"$f":"Podatnicy!#REF!","v":{"$error":"#REF!"}},{"$f":"Podatnicy!#REF!","v":{"$error":"#REF!"}}]
[null,1974,{"$f":"Podatnicy!#REF!","v":{"$error":"#REF!"}},{"$f":"Podatnicy!#REF!","v":{"$error":"#REF!"}},{"$f":"Podatnicy!#REF!","v":{"$error":"#REF!"}}]
[null,1975,{"$f":"Podatnicy!#REF!","v":{"$error":"#REF!"}},{"$f":"Podatnicy!#REF!","v":{"$error":"#REF!"}},{"$f":"Podatnicy!#REF!","v":{"$error":"#REF!"}}]
[null,1976,{"$f":"Podatnicy!#REF!","v":{"$error":"#REF!"}},{"$f":"Podatnicy!#REF!","v":{"$error":"#REF!"}},{"$f":"Podatnicy!#REF!","v":{"$error":"#REF!"}}]
[null,1977,{"$f":"Podatnicy!#REF!","v":{"$error":"#REF!"}},{"$f":"Podatnicy!#REF!","v":{"$error":"#REF!"}},{"$f":"Podatnicy!#REF!","v":{"$error":"#REF!"}}]
[null,1978,{"$f":"Podatnicy!#REF!","v":{"$error":"#REF!"}},{"$f":"Podatnicy!#REF!","v":{"$error":"#REF!"}},{"$f":"Podatnicy!#REF!","v":{"$error":"#REF!"}}]
[null,1979,{"$f":"Podatnicy!#REF!","v":{"$error":"#REF!"}},{"$f":"Podatnicy!#REF!","v":{"$error":"#REF!"}},{"$f":"Podatnicy!#REF!","v":{"$error":"#REF!"}}]
[null,1980,{"$f":"Podatnicy!#REF!","v":{"$error":"#REF!"}},{"$f":"Podatnicy!#REF!","v":{"$error":"#REF!"}},{"$f":"Podatnicy!#REF!","v":{"$error":"#REF!"}}]
[null,1981,{"$f":"Podatnicy!#REF!","v":{"$error":"#REF!"}},{"$f":"Podatnicy!#REF!","v":{"$error":"#REF!"}},{"$f":"Podatnicy!#REF!","v":{"$error":"#REF!"}}]
[null,1982,{"$f":"Podatnicy!#REF!","v":{"$error":"#REF!"}},{"$f":"Podatnicy!#REF!","v":{"$error":"#REF!"}},{"$f":"Podatnicy!#REF!","v":{"$error":"#REF!"}}]
[null,1983,{"$f":"Podatnicy!#REF!","v":{"$error":"#REF!"}},{"$f":"Podatnicy!#REF!","v":{"$error":"#REF!"}},{"$f":"Podatnicy!#REF!","v":{"$error":"#REF!"}}]
[null,1984,{"$f":"Podatnicy!#REF!","v":{"$error":"#REF!"}},{"$f":"Podatnicy!#REF!","v":{"$error":"#REF!"}},{"$f":"Podatnicy!#REF!","v":{"$error":"#REF!"}}]
[null,1985,{"$f":"Podatnicy!#REF!","v":{"$error":"#REF!"}},{"$f":"Podatnicy!#REF!","v":{"$error":"#REF!"}},{"$f":"Podatnicy!#REF!","v":{"$error":"#REF!"}}]
[null,1987,{"$f":"Podatnicy!#REF!","v":{"$error":"#REF!"}},{"$f":"Podatnicy!#REF!","v":{"$error":"#REF!"}},{"$f":"Podatnicy!#REF!","v":{"$error":"#REF!"}}]
[null,1998,{"$f":"Podatnicy!#REF!","v":{"$error":"#REF!"}},{"$f":"Podatnicy!#REF!","v":{"$error":"#REF!"}},{"$f":"Podatnicy!#REF!","v":{"$error":"#REF!"}}]
[null,2010,{"$f":"Podatnicy!#REF!","v":{"$error":"#REF!"}},{"$f":"Podatnicy!#REF!","v":{"$error":"#REF!"}},{"$f":"Podatnicy!#REF!","v":{"$error":"#REF!"}}]
[null,2017,{"$f":"Podatnicy!#REF!","v":{"$error":"#REF!"}},{"$f":"Podatnicy!#REF!","v":{"$error":"#REF!"}},{"$f":"Podatnicy!#REF!","v":{"$error":"#REF!"}}]
[null,2026,{"$f":"Podatnicy!#REF!","v":{"$error":"#REF!"}},{"$f":"Podatnicy!#REF!","v":{"$error":"#REF!"}},{"$f":"Podatnicy!#REF!","v":{"$error":"#REF!"}}]
[null,2031,{"$f":"Podatnicy!#REF!","v":{"$error":"#REF!"}},{"$f":"Podatnicy!#REF!","v":{"$error":"#REF!"}},{"$f":"Podatnicy!#REF!","v":{"$error":"#REF!"}}]
[null,2038,{"$f":"Podatnicy!#REF!","v":{"$error":"#REF!"}},{"$f":"Podatnicy!#REF!","v":{"$error":"#REF!"}},{"$f":"Podatnicy!#REF!","v":{"$error":"#REF!"}}]
[null,2050,{"$f":"Podatnicy!#REF!","v":{"$error":"#REF!"}},{"$f":"Podatnicy!#REF!","v":{"$error":"#REF!"}},{"$f":"Podatnicy!#REF!","v":{"$error":"#REF!"}}]
[null,2057,{"$f":"Podatnicy!#REF!","v":{"$error":"#REF!"}},{"$f":"Podatnicy!#REF!","v":{"$error":"#REF!"}},{"$f":"Podatnicy!#REF!","v":{"$error":"#REF!"}}]
[null,2068,{"$f":"Podatnicy!#REF!","v":{"$error":"#REF!"}},{"$f":"Podatnicy!#REF!","v":{"$error":"#REF!"}},{"$f":"Podatnicy!#REF!","v":{"$error":"#REF!"}}]
[null,2080,{"$f":"Podatnicy!#REF!","v":{"$error":"#REF!"}},{"$f":"Podatnicy!#REF!","v":{"$error":"#REF!"}},{"$f":"Podatnicy!#REF!","v":{"$error":"#REF!"}}]
[null,2087,{"$f":"Podatnicy!#REF!","v":{"$error":"#REF!"}},{"$f":"Podatnicy!#REF!","v":{"$error":"#REF!"}},{"$f":"Podatnicy!#REF!","v":{"$error":"#REF!"}}]
[null,2096,{"$f":"Podatnicy!#REF!","v":{"$error":"#REF!"}},{"$f":"Podatnicy!#REF!","v":{"$error":"#REF!"}},{"$f":"Podatnicy!#REF!","v":{"$error":"#REF!"}}]
[null,2101,{"$f":"Podatnicy!#REF!","v":{"$error":"#REF!"}},{"$f":"Podatnicy!#REF!","v":{"$error":"#REF!"}},{"$f":"Podatnicy!#REF!","v":{"$error":"#REF!"}}]
[null,2108,{"$f":"Podatnicy!#REF!","v":{"$error":"#REF!"}},{"$f":"Podatnicy!#REF!","v":{"$error":"#REF!"}},{"$f":"Podatnicy!#REF!","v":{"$error":"#REF!"}}]
[null,2120,{"$f":"Podatnicy!#REF!","v":{"$error":"#REF!"}},{"$f":"Podatnicy!#REF!","v":{"$error":"#REF!"}},{"$f":"Podatnicy!#REF!","v":{"$error":"#REF!"}}]
[null,2127,{"$f":"Podatnicy!#REF!","v":{"$error":"#REF!"}},{"$f":"Podatnicy!#REF!","v":{"$error":"#REF!"}},{"$f":"Podatnicy!#REF!","v":{"$error":"#REF!"}}]
[null,2138,{"$f":"Podatnicy!#REF!","v":{"$error":"#REF!"}},{"$f":"Podatnicy!#REF!","v":{"$error":"#REF!"}},{"$f":"Podatnicy!#REF!","v":{"$error":"#REF!"}}]
[null,2150,{"$f":"Podatnicy!#REF!","v":{"$error":"#REF!"}},{"$f":"Podatnicy!#REF!","v":{"$error":"#REF!"}},{"$f":"Podatnicy!#REF!","v":{"$error":"#REF!"}}]
[null,2157,{"$f":"Podatnicy!#REF!","v":{"$error":"#REF!"}},{"$f":"Podatnicy!#REF!","v":{"$error":"#REF!"}},{"$f":"Podatnicy!#REF!","v":{"$error":"#REF!"}}]
[null,2166,{"$f":"Podatnicy!#REF!","v":{"$error":"#REF!"}},{"$f":"Podatnicy!#REF!","v":{"$error":"#REF!"}},{"$f":"Podatnicy!#REF!","v":{"$error":"#REF!"}}]
[null,2175,{"$f":"Podatnicy!#REF!","v":{"$error":"#REF!"}},{"$f":"Podatnicy!#REF!","v":{"$error":"#REF!"}},{"$f":"Podatnicy!#REF!","v":{"$error":"#REF!"}}]
[null,2178,{"$f":"Podatnicy!#REF!","v":{"$error":"#REF!"}},{"$f":"Podatnicy!#REF!","v":{"$error":"#REF!"}},{"$f":"Podatnicy!#REF!","v":{"$error":"#REF!"}}]
[null,2190,{"$f":"Podatnicy!#REF!","v":{"$error":"#REF!"}},{"$f":"Podatnicy!#REF!","v":{"$error":"#REF!"}},{"$f":"Podatnicy!#REF!","v":{"$error":"#REF!"}}]
[null,2197,{"$f":"Podatnicy!#REF!","v":{"$error":"#REF!"}},{"$f":"Podatnicy!#REF!","v":{"$error":"#REF!"}},{"$f":"Podatnicy!#REF!","v":{"$error":"#REF!"}}]
[null,2208,{"$f":"Podatnicy!#REF!","v":{"$error":"#REF!"}},{"$f":"Podatnicy!#REF!","v":{"$error":"#REF!"}},{"$f":"Podatnicy!#REF!","v":{"$error":"#REF!"}}]
[null,2220,{"$f":"Podatnicy!#REF!","v":{"$error":"#REF!"}},{"$f":"Podatnicy!#REF!","v":{"$error":"#REF!"}},{"$f":"Podatnicy!#REF!","v":{"$error":"#REF!"}}]
[null,2227,{"$f":"Podatnicy!#REF!","v":{"$error":"#REF!"}},{"$f":"Podatnicy!#REF!","v":{"$error":"#REF!"}},{"$f":"Podatnicy!#REF!","v":{"$error":"#REF!"}}]
[null,2236,{"$f":"Podatnicy!#REF!","v":{"$error":"#REF!"}},{"$f":"Podatnicy!#REF!","v":{"$error":"#REF!"}},{"$f":"Podatnicy!#REF!","v":{"$error":"#REF!"}}]
[null,2245,{"$f":"Podatnicy!#REF!","v":{"$error":"#REF!"}},{"$f":"Podatnicy!#REF!","v":{"$error":"#REF!"}},{"$f":"Podatnicy!#REF!","v":{"$error":"#REF!"}}]
[null,2248,{"$f":"Podatnicy!#REF!","v":{"$error":"#REF!"}},{"$f":"Podatnicy!#REF!","v":{"$error":"#REF!"}},{"$f":"Podatnicy!#REF!","v":{"$error":"#REF!"}}]
[null,2260,{"$f":"Podatnicy!#REF!","v":{"$error":"#REF!"}},{"$f":"Podatnicy!#REF!","v":{"$error":"#REF!"}},{"$f":"Podatnicy!#REF!","v":{"$error":"#REF!"}}]
[null,2267,{"$f":"Podatnicy!#REF!","v":{"$error":"#REF!"}},{"$f":"Podatnicy!#REF!","v":{"$error":"#REF!"}},{"$f":"Podatnicy!#REF!","v":{"$error":"#REF!"}}]
[null,2278,{"$f":"Podatnicy!#REF!","v":{"$error":"#REF!"}},{"$f":"Podatnicy!#REF!","v":{"$error":"#REF!"}},{"$f":"Podatnicy!#REF!","v":{"$error":"#REF!"}}]
[null,2290,{"$f":"Podatnicy!#REF!","v":{"$error":"#REF!"}},{"$f":"Podatnicy!#REF!","v":{"$error":"#REF!"}},{"$f":"Podatnicy!#REF!","v":{"$error":"#REF!"}}]
[null,2297,{"$f":"Podatnicy!#REF!","v":{"$error":"#REF!"}},{"$f":"Podatnicy!#REF!","v":{"$error":"#REF!"}},{"$f":"Podatnicy!#REF!","v":{"$error":"#REF!"}}]
[null,2309,{"$f":"Podatnicy!#REF!","v":{"$error":"#REF!"}},{"$f":"Podatnicy!#REF!","v":{"$error":"#REF!"}},{"$f":"Podatnicy!#REF!","v":{"$error":"#REF!"}}]
[null,2316,{"$f":"Podatnicy!#REF!","v":{"$error":"#REF!"}},{"$f":"Podatnicy!#REF!","v":{"$error":"#REF!"}},{"$f":"Podatnicy!#REF!","v":{"$error":"#REF!"}}]
[null,2318,{"$f":"Podatnicy!#REF!","v":{"$error":"#REF!"}},{"$f":"Podatnicy!#REF!","v":{"$error":"#REF!"}},{"$f":"Podatnicy!#REF!","v":{"$error":"#REF!"}}]
[null,2330,{"$f":"Podatnicy!#REF!","v":{"$error":"#REF!"}},{"$f":"Podatnicy!#REF!","v":{"$error":"#REF!"}},{"$f":"Podatnicy!#REF!","v":{"$error":"#REF!"}}]
[null,2337,{"$f":"Podatnicy!#REF!","v":{"$error":"#REF!"}},{"$f":"Podatnicy!#REF!","v":{"$error":"#REF!"}},{"$f":"Podatnicy!#REF!","v":{"$error":"#REF!"}}]
[null,2347,{"$f":"Podatnicy!#REF!","v":{"$error":"#REF!"}},{"$f":"Podatnicy!#REF!","v":{"$error":"#REF!"}},{"$f":"Podatnicy!#REF!","v":{"$error":"#REF!"}}]
[null,2355,{"$f":"Podatnicy!#REF!","v":{"$error":"#REF!"}},{"$f":"Podatnicy!#REF!","v":{"$error":"#REF!"}},{"$f":"Podatnicy!#REF!","v":{"$error":"#REF!"}}]
[null,2367,{"$f":"Podatnicy!#REF!","v":{"$error":"#REF!"}},{"$f":"Podatnicy!#REF!","v":{"$error":"#REF!"}},{"$f":"Podatnicy!#REF!","v":{"$error":"#REF!"}}]
[null,2379,{"$f":"Podatnicy!#REF!","v":{"$error":"#REF!"}},{"$f":"Podatnicy!#REF!","v":{"$error":"#REF!"}},{"$f":"Podatnicy!#REF!","v":{"$error":"#REF!"}}]
[null,2386,{"$f":"Podatnicy!#REF!","v":{"$error":"#REF!"}},{"$f":"Podatnicy!#REF!","v":{"$error":"#REF!"}},{"$f":"Podatnicy!#REF!","v":{"$error":"#REF!"}}]
[null,2388,{"$f":"Podatnicy!#REF!","v":{"$error":"#REF!"}},{"$f":"Podatnicy!#REF!","v":{"$error":"#REF!"}},{"$f":"Podatnicy!#REF!","v":{"$error":"#REF!"}}]
[null,2400,{"$f":"Podatnicy!#REF!","v":{"$error":"#REF!"}},{"$f":"Podatnicy!#REF!","v":{"$error":"#REF!"}},{"$f":"Podatnicy!#REF!","v":{"$error":"#REF!"}}]
[null,2407,{"$f":"Podatnicy!#REF!","v":{"$error":"#REF!"}},{"$f":"Podatnicy!#REF!","v":{"$error":"#REF!"}},{"$f":"Podatnicy!#REF!","v":{"$error":"#REF!"}}]
[null,2417,{"$f":"Podatnicy!#REF!","v":{"$error":"#REF!"}},{"$f":"Podatnicy!#REF!","v":{"$error":"#REF!"}},{"$f":"Podatnicy!#REF!","v":{"$error":"#REF!"}}]
[null,2425,{"$f":"Podatnicy!#REF!","v":{"$error":"#REF!"}},{"$f":"Podatnicy!#REF!","v":{"$error":"#REF!"}},{"$f":"Podatnicy!#REF!","v":{"$error":"#REF!"}}]
[null,2437,{"$f":"Podatnicy!#REF!","v":{"$error":"#REF!"}},{"$f":"Podatnicy!#REF!","v":{"$error":"#REF!"}},{"$f":"Podatnicy!#REF!","v":{"$error":"#REF!"}}]
[null,2449,{"$f":"Podatnicy!#REF!","v":{"$error":"#REF!"}},{"$f":"Podatnicy!#REF!","v":{"$error":"#REF!"}},{"$f":"Podatnicy!#REF!","v":{"$error":"#REF!"}}]
[null,2456,{"$f":"Podatnicy!#REF!","v":{"$error":"#REF!"}},{"$f":"Podatnicy!#REF!","v":{"$error":"#REF!"}},{"$f":"Podatnicy!#REF!","v":{"$error":"#REF!"}}]
[null,2458,{"$f":"Podatnicy!#REF!","v":{"$error":"#REF!"}},{"$f":"Podatnicy!#REF!","v":{"$error":"#REF!"}},{"$f":"Podatnicy!#REF!","v":{"$error":"#REF!"}}]
[null,2474,{"$f":"Podatnicy!#REF!","v":{"$error":"#REF!"}},{"$f":"Podatnicy!#REF!","v":{"$error":"#REF!"}},{"$f":"Podatnicy!#REF!","v":{"$error":"#REF!"}}]
[null,2477,{"$f":"Podatnicy!#REF!","v":{"$error":"#REF!"}},{"$f":"Podatnicy!#REF!","v":{"$error":"#REF!"}},{"$f":"Podatnicy!#REF!","v":{"$error":"#REF!"}}]
[null,2487,{"$f":"Podatnicy!#REF!","v":{"$error":"#REF!"}},{"$f":"Podatnicy!#REF!","v":{"$error":"#REF!"}},{"$f":"Podatnicy!#REF!","v":{"$error":"#REF!"}}]
[null,2495,{"$f":"Podatnicy!#REF!","v":{"$error":"#REF!"}},{"$f":"Podatnicy!#REF!","v":{"$error":"#REF!"}},{"$f":"Podatnicy!#REF!","v":{"$error":"#REF!"}}]
[null,2507,{"$f":"Podatnicy!#REF!","v":{"$error":"#REF!"}},{"$f":"Podatnicy!#REF!","v":{"$error":"#REF!"}},{"$f":"Podatnicy!#REF!","v":{"$error":"#REF!"}}]
[null,2519,{"$f":"Podatnicy!#REF!","v":{"$error":"#REF!"}},{"$f":"Podatnicy!#REF!","v":{"$error":"#REF!"}},{"$f":"Podatnicy!#REF!","v":{"$error":"#REF!"}}]
[null,2526,{"$f":"Podatnicy!#REF!","v":{"$error":"#REF!"}},{"$f":"Podatnicy!#REF!","v":{"$error":"#REF!"}},{"$f":"Podatnicy!#REF!","v":{"$error":"#REF!"}}]
[null,2528,{"$f":"Podatnicy!#REF!","v":{"$error":"#REF!"}},{"$f":"Podatnicy!#REF!","v":{"$error":"#REF!"}},{"$f":"Podatnicy!#REF!","v":{"$error":"#REF!"}}]
[null,2544,{"$f":"Podatnicy!#REF!","v":{"$error":"#REF!"}},{"$f":"Podatnicy!#REF!","v":{"$error":"#REF!"}},{"$f":"Podatnicy!#REF!","v":{"$error":"#REF!"}}]
[null,2547,{"$f":"Podatnicy!#REF!","v":{"$error":"#REF!"}},{"$f":"Podatnicy!#REF!","v":{"$error":"#REF!"}},{"$f":"Podatnicy!#REF!","v":{"$error":"#REF!"}}]
[null,2557,{"$f":"Podatnicy!#REF!","v":{"$error":"#REF!"}},{"$f":"Podatnicy!#REF!","v":{"$error":"#REF!"}},{"$f":"Podatnicy!#REF!","v":{"$error":"#REF!"}}]
[null,2565,{"$f":"Podatnicy!#REF!","v":{"$error":"#REF!"}},{"$f":"Podatnicy!#REF!","v":{"$error":"#REF!"}},{"$f":"Podatnicy!#REF!","v":{"$error":"#REF!"}}]
[null,2577,{"$f":"Podatnicy!#REF!","v":{"$error":"#REF!"}},{"$f":"Podatnicy!#REF!","v":{"$error":"#REF!"}},{"$f":"Podatnicy!#REF!","v":{"$error":"#REF!"}}]
[null,2589,{"$f":"Podatnicy!#REF!","v":{"$error":"#REF!"}},{"$f":"Podatnicy!#REF!","v":{"$error":"#REF!"}},{"$f":"Podatnicy!#REF!","v":{"$error":"#REF!"}}]
[null,2596,{"$f":"Podatnicy!#REF!","v":{"$error":"#REF!"}},{"$f":"Podatnicy!#REF!","v":{"$error":"#REF!"}},{"$f":"Podatnicy!#REF!","v":{"$error":"#REF!"}}]
[null,2606,{"$f":"Podatnicy!#REF!","v":{"$error":"#REF!"}},{"$f":"Podatnicy!#REF!","v":{"$error":"#REF!"}},{"$f":"Podatnicy!#REF!","v":{"$error":"#REF!"}}]
[null,2614,{"$f":"Podatnicy!#REF!","v":{"$error":"#REF!"}},{"$f":"Podatnicy!#REF!","v":{"$error":"#REF!"}},{"$f":"Podatnicy!#REF!","v":{"$error":"#REF!"}}]
[null,2617,{"$f":"Podatnicy!#REF!","v":{"$error":"#REF!"}},{"$f":"Podatnicy!#REF!","v":{"$error":"#REF!"}},{"$f":"Podatnicy!#REF!","v":{"$error":"#REF!"}}]
[null,2629,{"$f":"Podatnicy!#REF!","v":{"$error":"#REF!"}},{"$f":"Podatnicy!#REF!","v":{"$error":"#REF!"}},{"$f":"Podatnicy!#REF!","v":{"$error":"#REF!"}}]
[null,2637,{"$f":"Podatnicy!#REF!","v":{"$error":"#REF!"}},{"$f":"Podatnicy!#REF!","v":{"$error":"#REF!"}},{"$f":"Podatnicy!#REF!","v":{"$error":"#REF!"}}]
[null,2647,{"$f":"Podatnicy!#REF!","v":{"$error":"#REF!"}},{"$f":"Podatnicy!#REF!","v":{"$error":"#REF!"}},{"$f":"Podatnicy!#REF!","v":{"$error":"#REF!"}}]
[null,2654,{"$f":"Podatnicy!#REF!","v":{"$error":"#REF!"}},{"$f":"Podatnicy!#REF!","v":{"$error":"#REF!"}},{"$f":"Podatnicy!#REF!","v":{"$error":"#REF!"}}]
[null,2666,{"$f":"Podatnicy!#REF!","v":{"$error":"#REF!"}},{"$f":"Podatnicy!#REF!","v":{"$error":"#REF!"}},{"$f":"Podatnicy!#REF!","v":{"$error":"#REF!"}}]
[null,2676,{"$f":"Podatnicy!#REF!","v":{"$error":"#REF!"}},{"$f":"Podatnicy!#REF!","v":{"$error":"#REF!"}},{"$f":"Podatnicy!#REF!","v":{"$error":"#REF!"}}]
[null,2684,{"$f":"Podatnicy!#REF!","v":{"$error":"#REF!"}},{"$f":"Podatnicy!#REF!","v":{"$error":"#REF!"}},{"$f":"Podatnicy!#REF!","v":{"$error":"#REF!"}}]
[null,2687,{"$f":"Podatnicy!#REF!","v":{"$error":"#REF!"}},{"$f":"Podatnicy!#REF!","v":{"$error":"#REF!"}},{"$f":"Podatnicy!#REF!","v":{"$error":"#REF!"}}]
[null,2699,{"$f":"Podatnicy!#REF!","v":{"$error":"#REF!"}},{"$f":"Podatnicy!#REF!","v":{"$error":"#REF!"}},{"$f":"Podatnicy!#REF!","v":{"$error":"#REF!"}}]
[null,2707,{"$f":"Podatnicy!#REF!","v":{"$error":"#REF!"}},{"$f":"Podatnicy!#REF!","v":{"$error":"#REF!"}},{"$f":"Podatnicy!#REF!","v":{"$error":"#REF!"}}]
[null,2717,{"$f":"Podatnicy!#REF!","v":{"$error":"#REF!"}},{"$f":"Podatnicy!#REF!","v":{"$error":"#REF!"}},{"$f":"Podatnicy!#REF!","v":{"$error":"#REF!"}}]
[null,2724,{"$f":"Podatnicy!#REF!","v":{"$error":"#REF!"}},{"$f":"Podatnicy!#REF!","v":{"$error":"#REF!"}},{"$f":"Podatnicy!#REF!","v":{"$error":"#REF!"}}]
[null,2736,{"$f":"Podatnicy!#REF!","v":{"$error":"#REF!"}},{"$f":"Podatnicy!#REF!","v":{"$error":"#REF!"}},{"$f":"Podatnicy!#REF!","v":{"$error":"#REF!"}}]
[null,2746,{"$f":"Podatnicy!#REF!","v":{"$error":"#REF!"}},{"$f":"Podatnicy!#REF!","v":{"$error":"#REF!"}},{"$f":"Podatnicy!#REF!","v":{"$error":"#REF!"}}]
[null,2754,{"$f":"Podatnicy!#REF!","v":{"$error":"#REF!"}},{"$f":"Podatnicy!#REF!","v":{"$error":"#REF!"}},{"$f":"Podatnicy!#REF!","v":{"$error":"#REF!"}}]
[null,2757,{"$f":"Podatnicy!#REF!","v":{"$error":"#REF!"}},{"$f":"Podatnicy!#REF!","v":{"$error":"#REF!"}},{"$f":"Podatnicy!#REF!","v":{"$error":"#REF!"}}]
[null,2769,{"$f":"Podatnicy!#REF!","v":{"$error":"#REF!"}},{"$f":"Podatnicy!#REF!","v":{"$error":"#REF!"}},{"$f":"Podatnicy!#REF!","v":{"$error":"#REF!"}}]
[null,2777,{"$f":"Podatnicy!#REF!","v":{"$error":"#REF!"}},{"$f":"Podatnicy!#REF!","v":{"$error":"#REF!"}},{"$f":"Podatnicy!#REF!","v":{"$error":"#REF!"}}]
[null,2787,{"$f":"Podatnicy!#REF!","v":{"$error":"#REF!"}},{"$f":"Podatnicy!#REF!","v":{"$error":"#REF!"}},{"$f":"Podatnicy!#REF!","v":{"$error":"#REF!"}}]
[null,2794,{"$f":"Podatnicy!#REF!","v":{"$error":"#REF!"}},{"$f":"Podatnicy!#REF!","v":{"$error":"#REF!"}},{"$f":"Podatnicy!#REF!","v":{"$error":"#REF!"}}]
[null,2806,{"$f":"Podatnicy!#REF!","v":{"$error":"#REF!"}},{"$f":"Podatnicy!#REF!","v":{"$error":"#REF!"}},{"$f":"Podatnicy!#REF!","v":{"$error":"#REF!"}}]
[null,2816,{"$f":"Podatnicy!#REF!","v":{"$error":"#REF!"}},{"$f":"Podatnicy!#REF!","v":{"$error":"#REF!"}},{"$f":"Podatnicy!#REF!","v":{"$error":"#REF!"}}]
[null,2824,{"$f":"Podatnicy!#REF!","v":{"$error":"#REF!"}},{"$f":"Podatnicy!#REF!","v":{"$error":"#REF!"}},{"$f":"Podatnicy!#REF!","v":{"$error":"#REF!"}}]
[null,2827,{"$f":"Podatnicy!#REF!","v":{"$error":"#REF!"}},{"$f":"Podatnicy!#REF!","v":{"$error":"#REF!"}},{"$f":"Podatnicy!#REF!","v":{"$error":"#REF!"}}]
[null,2843,{"$f":"Podatnicy!#REF!","v":{"$error":"#REF!"}},{"$f":"Podatnicy!#REF!","v":{"$error":"#REF!"}},{"$f":"Podatnicy!#REF!","v":{"$error":"#REF!"}}]
[null,2847,{"$f":"Podatnicy!#REF!","v":{"$error":"#REF!"}},{"$f":"Podatnicy!#REF!","v":{"$error":"#REF!"}},{"$f":"Podatnicy!#REF!","v":{"$error":"#REF!"}}]
[null,2857,{"$f":"Podatnicy!#REF!","v":{"$error":"#REF!"}},{"$f":"Podatnicy!#REF!","v":{"$error":"#REF!"}},{"$f":"Podatnicy!#REF!","v":{"$error":"#REF!"}}]
[null,2864,{"$f":"Podatnicy!#REF!","v":{"$error":"#REF!"}},{"$f":"Podatnicy!#REF!","v":{"$error":"#REF!"}},{"$f":"Podatnicy!#REF!","v":{"$error":"#REF!"}}]
[null,2876,{"$f":"Podatnicy!#REF!","v":{"$error":"#REF!"}},{"$f":"Podatnicy!#REF!","v":{"$error":"#REF!"}},{"$f":"Podatnicy!#REF!","v":{"$error":"#REF!"}}]
[null,2879,{"$f":"Podatnicy!#REF!","v":{"$error":"#REF!"}},{"$f":"Podatnicy!#REF!","v":{"$error":"#REF!"}},{"$f":"Podatnicy!#REF!","v":{"$error":"#REF!"}}]
[null,2888,{"$f":"Podatnicy!#REF!","v":{"$error":"#REF!"}},{"$f":"Podatnicy!#REF!","v":{"$error":"#REF!"}},{"$f":"Podatnicy!#REF!","v":{"$error":"#REF!"}}]
[null,2897,{"$f":"Podatnicy!#REF!","v":{"$error":"#REF!"}},{"$f":"Podatnicy!#REF!","v":{"$error":"#REF!"}},{"$f":"Podatnicy!#REF!","v":{"$error":"#REF!"}}]
[null,2913,{"$f":"Podatnicy!#REF!","v":{"$error":"#REF!"}},{"$f":"Podatnicy!#REF!","v":{"$error":"#REF!"}},{"$f":"Podatnicy!#REF!","v":{"$error":"#REF!"}}]
[null,2916,{"$f":"Podatnicy!#REF!","v":{"$error":"#REF!"}},{"$f":"Podatnicy!#REF!","v":{"$error":"#REF!"}},{"$f":"Podatnicy!#REF!","v":{"$error":"#REF!"}}]
[null,2927,{"$f":"Podatnicy!#REF!","v":{"$error":"#REF!"}},{"$f":"Podatnicy!#REF!","v":{"$error":"#REF!"}},{"$f":"Podatnicy!#REF!","v":{"$error":"#REF!"}}]
[null,2934,{"$f":"Podatnicy!#REF!","v":{"$error":"#REF!"}},{"$f":"Podatnicy!#REF!","v":{"$error":"#REF!"}},{"$f":"Podatnicy!#REF!","v":{"$error":"#REF!"}}]
[null,2946,{"$f":"Podatnicy!#REF!","v":{"$error":"#REF!"}},{"$f":"Podatnicy!#REF!","v":{"$error":"#REF!"}},{"$f":"Podatnicy!#REF!","v":{"$error":"#REF!"}}]
[null,2953,{"$f":"Podatnicy!#REF!","v":{"$error":"#REF!"}},{"$f":"Podatnicy!#REF!","v":{"$error":"#REF!"}},{"$f":"Podatnicy!#REF!","v":{"$error":"#REF!"}}]
[null,2958,{"$f":"Podatnicy!#REF!","v":{"$error":"#REF!"}},{"$f":"Podatnicy!#REF!","v":{"$error":"#REF!"}},{"$f":"Podatnicy!#REF!","v":{"$error":"#REF!"}}]
[null,2967,{"$f":"Podatnicy!#REF!","v":{"$error":"#REF!"}},{"$f":"Podatnicy!#REF!","v":{"$error":"#REF!"}},{"$f":"Podatnicy!#REF!","v":{"$error":"#REF!"}}]
[null,2983,{"$f":"Podatnicy!#REF!","v":{"$error":"#REF!"}},{"$f":"Podatnicy!#REF!","v":{"$error":"#REF!"}},{"$f":"Podatnicy!#REF!","v":{"$error":"#REF!"}}]
[null,2986,{"$f":"Podatnicy!#REF!","v":{"$error":"#REF!"}},{"$f":"Podatnicy!#REF!","v":{"$error":"#REF!"}},{"$f":"Podatnicy!#REF!","v":{"$error":"#REF!"}}]
[null,2997,{"$f":"Podatnicy!#REF!","v":{"$error":"#REF!"}},{"$f":"Podatnicy!#REF!","v":{"$error":"#REF!"}},{"$f":"Podatnicy!#REF!","v":{"$error":"#REF!"}}]
[null,3004,{"$f":"Podatnicy!#REF!","v":{"$error":"#REF!"}},{"$f":"Podatnicy!#REF!","v":{"$error":"#REF!"}},{"$f":"Podatnicy!#REF!","v":{"$error":"#REF!"}}]
[null,3016,{"$f":"Podatnicy!#REF!","v":{"$error":"#REF!"}},{"$f":"Podatnicy!#REF!","v":{"$error":"#REF!"}},{"$f":"Podatnicy!#REF!","v":{"$error":"#REF!"}}]
[null,3023,{"$f":"Podatnicy!#REF!","v":{"$error":"#REF!"}},{"$f":"Podatnicy!#REF!","v":{"$error":"#REF!"}},{"$f":"Podatnicy!#REF!","v":{"$error":"#REF!"}}]
[null,3028,{"$f":"Podatnicy!#REF!","v":{"$error":"#REF!"}},{"$f":"Podatnicy!#REF!","v":{"$error":"#REF!"}},{"$f":"Podatnicy!#REF!","v":{"$error":"#REF!"}}]
[null,3037,{"$f":"Podatnicy!#REF!","v":{"$error":"#REF!"}},{"$f":"Podatnicy!#REF!","v":{"$error":"#REF!"}},{"$f":"Podatnicy!#REF!","v":{"$error":"#REF!"}}]
[null,3053,{"$f":"Podatnicy!#REF!","v":{"$error":"#REF!"}},{"$f":"Podatnicy!#REF!","v":{"$error":"#REF!"}},{"$f":"Podatnicy!#REF!","v":{"$error":"#REF!"}}]
[null,3056,{"$f":"Podatnicy!#REF!","v":{"$error":"#REF!"}},{"$f":"Podatnicy!#REF!","v":{"$error":"#REF!"}},{"$f":"Podatnicy!#REF!","v":{"$error":"#REF!"}}]
[null,3067,{"$f":"Podatnicy!#REF!","v":{"$error":"#REF!"}},{"$f":"Podatnicy!#REF!","v":{"$error":"#REF!"}},{"$f":"Podatnicy!#REF!","v":{"$error":"#REF!"}}]
[null,3074,{"$f":"Podatnicy!#REF!","v":{"$error":"#REF!"}},{"$f":"Podatnicy!#REF!","v":{"$error":"#REF!"}},{"$f":"Podatnicy!#REF!","v":{"$error":"#REF!"}}]
[null,3086,{"$f":"Podatnicy!#REF!","v":{"$error":"#REF!"}},{"$f":"Podatnicy!#REF!","v":{"$error":"#REF!"}},{"$f":"Podatnicy!#REF!","v":{"$error":"#REF!"}}]
[null,3093,{"$f":"Podatnicy!#REF!","v":{"$error":"#REF!"}},{"$f":"Podatnicy!#REF!","v":{"$error":"#REF!"}},{"$f":"Podatnicy!#REF!","v":{"$error":"#REF!"}}]
[null,3098,{"$f":"Podatnicy!#REF!","v":{"$error":"#REF!"}},{"$f":"Podatnicy!#REF!","v":{"$error":"#REF!"}},{"$f":"Podatnicy!#REF!","v":{"$error":"#REF!"}}]
[null,3107,{"$f":"Podatnicy!#REF!","v":{"$error":"#REF!"}},{"$f":"Podatnicy!#REF!","v":{"$error":"#REF!"}},{"$f":"Podatnicy!#REF!","v":{"$error":"#REF!"}}]
[null,3123,{"$f":"Podatnicy!#REF!","v":{"$error":"#REF!"}},{"$f":"Podatnicy!#REF!","v":{"$error":"#REF!"}},{"$f":"Podatnicy!#REF!","v":{"$error":"#REF!"}}]
[null,3126,{"$f":"Podatnicy!#REF!","v":{"$error":"#REF!"}},{"$f":"Podatnicy!#REF!","v":{"$error":"#REF!"}},{"$f":"Podatnicy!#REF!","v":{"$error":"#REF!"}}]
[null,3137,{"$f":"Podatnicy!#REF!","v":{"$error":"#REF!"}},{"$f":"Podatnicy!#REF!","v":{"$error":"#REF!"}},{"$f":"Podatnicy!#REF!","v":{"$error":"#REF!"}}]
[null,3144,{"$f":"Podatnicy!#REF!","v":{"$error":"#REF!"}},{"$f":"Podatnicy!#REF!","v":{"$error":"#REF!"}},{"$f":"Podatnicy!#REF!","v":{"$error":"#REF!"}}]
[null,3156,{"$f":"Podatnicy!#REF!","v":{"$error":"#REF!"}},{"$f":"Podatnicy!#REF!","v":{"$error":"#REF!"}},{"$f":"Podatnicy!#REF!","v":{"$error":"#REF!"}}]
[null,3163,{"$f":"Podatnicy!#REF!","v":{"$error":"#REF!"}},{"$f":"Podatnicy!#REF!","v":{"$error":"#REF!"}},{"$f":"Podatnicy!#REF!","v":{"$error":"#REF!"}}]
[null,3175,{"$f":"Podatnicy!#REF!","v":{"$error":"#REF!"}},{"$f":"Podatnicy!#REF!","v":{"$error":"#REF!"}},{"$f":"Podatnicy!#REF!","v":{"$error":"#REF!"}}]
[null,3178,{"$f":"Podatnicy!#REF!","v":{"$error":"#REF!"}},{"$f":"Podatnicy!#REF!","v":{"$error":"#REF!"}},{"$f":"Podatnicy!#REF!","v":{"$error":"#REF!"}}]
[null,3193,{"$f":"Podatnicy!#REF!","v":{"$error":"#REF!"}},{"$f":"Podatnicy!#REF!","v":{"$error":"#REF!"}},{"$f":"Podatnicy!#REF!","v":{"$error":"#REF!"}}]
[null,3196,{"$f":"Podatnicy!#REF!","v":{"$error":"#REF!"}},{"$f":"Podatnicy!#REF!","v":{"$error":"#REF!"}},{"$f":"Podatnicy!#REF!","v":{"$error":"#REF!"}}]
[null,3203,{"$f":"Podatnicy!#REF!","v":{"$error":"#REF!"}},{"$f":"Podatnicy!#REF!","v":{"$error":"#REF!"}},{"$f":"Podatnicy!#REF!","v":{"$error":"#REF!"}}]
[null,3217,{"$f":"Podatnicy!#REF!","v":{"$error":"#REF!"}},{"$f":"Podatnicy!#REF!","v":{"$error":"#REF!"}},{"$f":"Podatnicy!#REF!","v":{"$error":"#REF!"}}]
[null,3226,{"$f":"Podatnicy!#REF!","v":{"$error":"#REF!"}},{"$f":"Podatnicy!#REF!","v":{"$error":"#REF!"}},{"$f":"Podatnicy!#REF!","v":{"$error":"#REF!"}}]
[null,3233,{"$f":"Podatnicy!#REF!","v":{"$error":"#REF!"}},{"$f":"Podatnicy!#REF!","v":{"$error":"#REF!"}},{"$f":"Podatnicy!#REF!","v":{"$error":"#REF!"}}]
[null,3245,{"$f":"Podatnicy!#REF!","v":{"$error":"#REF!"}},{"$f":"Podatnicy!#REF!","v":{"$error":"#REF!"}},{"$f":"Podatnicy!#REF!","v":{"$error":"#REF!"}}]
[null,3248,{"$f":"Podatnicy!#REF!","v":{"$error":"#REF!"}},{"$f":"Podatnicy!#REF!","v":{"$error":"#REF!"}},{"$f":"Podatnicy!#REF!","v":{"$error":"#REF!"}}]
[null,3263,{"$f":"Podatnicy!#REF!","v":{"$error":"#REF!"}},{"$f":"Podatnicy!#REF!","v":{"$error":"#REF!"}},{"$f":"Podatnicy!#REF!","v":{"$error":"#REF!"}}]
[null,3266,{"$f":"Podatnicy!#REF!","v":{"$error":"#REF!"}},{"$f":"Podatnicy!#REF!","v":{"$error":"#REF!"}},{"$f":"Podatnicy!#REF!","v":{"$error":"#REF!"}}]
[null,3273,{"$f":"Podatnicy!#REF!","v":{"$error":"#REF!"}},{"$f":"Podatnicy!#REF!","v":{"$error":"#REF!"}},{"$f":"Podatnicy!#REF!","v":{"$error":"#REF!"}}]
[null,3287,{"$f":"Podatnicy!#REF!","v":{"$error":"#REF!"}},{"$f":"Podatnicy!#REF!","v":{"$error":"#REF!"}},{"$f":"Podatnicy!#REF!","v":{"$error":"#REF!"}}]
[null,3296,{"$f":"Podatnicy!#REF!","v":{"$error":"#REF!"}},{"$f":"Podatnicy!#REF!","v":{"$error":"#REF!"}},{"$f":"Podatnicy!#REF!","v":{"$error":"#REF!"}}]
[null,3303,{"$f":"Podatnicy!#REF!","v":{"$error":"#REF!"}},{"$f":"Podatnicy!#REF!","v":{"$error":"#REF!"}},{"$f":"Podatnicy!#REF!","v":{"$error":"#REF!"}}]
[null,3315,{"$f":"Podatnicy!#REF!","v":{"$error":"#REF!"}},{"$f":"Podatnicy!#REF!","v":{"$error":"#REF!"}},{"$f":"Podatnicy!#REF!","v":{"$error":"#REF!"}}]
[null,3318,{"$f":"Podatnicy!#REF!","v":{"$error":"#REF!"}},{"$f":"Podatnicy!#REF!","v":{"$error":"#REF!"}},{"$f":"Podatnicy!#REF!","v":{"$error":"#REF!"}}]
[null,3333,{"$f":"Podatnicy!#REF!","v":{"$error":"#REF!"}},{"$f":"Podatnicy!#REF!","v":{"$error":"#REF!"}},{"$f":"Podatnicy!#REF!","v":{"$error":"#REF!"}}]
[null,3336,{"$f":"Podatnicy!#REF!","v":{"$error":"#REF!"}},{"$f":"Podatnicy!#REF!","v":{"$error":"#REF!"}},{"$f":"Podatnicy!#REF!","v":{"$error":"#REF!"}}]
[null,3343,{"$f":"Podatnicy!#REF!","v":{"$error":"#REF!"}},{"$f":"Podatnicy!#REF!","v":{"$error":"#REF!"}},{"$f":"Podatnicy!#REF!","v":{"$error":"#REF!"}}]
[null,3357,{"$f":"Podatnicy!#REF!","v":{"$error":"#REF!"}},{"$f":"Podatnicy!#REF!","v":{"$error":"#REF!"}},{"$f":"Podatnicy!#REF!","v":{"$error":"#REF!"}}]
[null,3366,{"$f":"Podatnicy!#REF!","v":{"$error":"#REF!"}},{"$f":"Podatnicy!#REF!","v":{"$error":"#REF!"}},{"$f":"Podatnicy!#REF!","v":{"$error":"#REF!"}}]
[null,3373,{"$f":"Podatnicy!#REF!","v":{"$error":"#REF!"}},{"$f":"Podatnicy!#REF!","v":{"$error":"#REF!"}},{"$f":"Podatnicy!#REF!","v":{"$error":"#REF!"}}]
[null,3385,{"$f":"Podatnicy!#REF!","v":{"$error":"#REF!"}},{"$f":"Podatnicy!#REF!","v":{"$error":"#REF!"}},{"$f":"Podatnicy!#REF!","v":{"$error":"#REF!"}}]
[null,3388,{"$f":"Podatnicy!#REF!","v":{"$error":"#REF!"}},{"$f":"Podatnicy!#REF!","v":{"$error":"#REF!"}},{"$f":"Podatnicy!#REF!","v":{"$error":"#REF!"}}]
[null,3403,{"$f":"Podatnicy!#REF!","v":{"$error":"#REF!"}},{"$f":"Podatnicy!#REF!","v":{"$error":"#REF!"}},{"$f":"Podatnicy!#REF!","v":{"$error":"#REF!"}}]
[null,3406,{"$f":"Podatnicy!#REF!","v":{"$error":"#REF!"}},{"$f":"Podatnicy!#REF!","v":{"$error":"#REF!"}},{"$f":"Podatnicy!#REF!","v":{"$error":"#REF!"}}]
[null,3413,{"$f":"Podatnicy!#REF!","v":{"$error":"#REF!"}},{"$f":"Podatnicy!#REF!","v":{"$error":"#REF!"}},{"$f":"Podatnicy!#REF!","v":{"$error":"#REF!"}}]
[null,3427,{"$f":"Podatnicy!#REF!","v":{"$error":"#REF!"}},{"$f":"Podatnicy!#REF!","v":{"$error":"#REF!"}},{"$f":"Podatnicy!#REF!","v":{"$error":"#REF!"}}]
[null,3431,{"$f":"Podatnicy!#REF!","v":{"$error":"#REF!"}},{"$f":"Podatnicy!#REF!","v":{"$error":"#REF!"}},{"$f":"Podatnicy!#REF!","v":{"$error":"#REF!"}}]
[null,3443,{"$f":"Podatnicy!#REF!","v":{"$error":"#REF!"}},{"$f":"Podatnicy!#REF!","v":{"$error":"#REF!"}},{"$f":"Podatnicy!#REF!","v":{"$error":"#REF!"}}]
[null,3455,{"$f":"Podatnicy!#REF!","v":{"$error":"#REF!"}},{"$f":"Podatnicy!#REF!","v":{"$error":"#REF!"}},{"$f":"Podatnicy!#REF!","v":{"$error":"#REF!"}}]
[null,3462,{"$f":"Podatnicy!#REF!","v":{"$error":"#REF!"}},{"$f":"Podatnicy!#REF!","v":{"$error":"#REF!"}},{"$f":"Podatnicy!#REF!","v":{"$error":"#REF!"}}]
[null,3468,{"$f":"Podatnicy!#REF!","v":{"$error":"#REF!"}},{"$f":"Podatnicy!#REF!","v":{"$error":"#REF!"}},{"$f":"Podatnicy!#REF!","v":{"$error":"#REF!"}}]
[null,3476,{"$f":"Podatnicy!#REF!","v":{"$error":"#REF!"}},{"$f":"Podatnicy!#REF!","v":{"$error":"#REF!"}},{"$f":"Podatnicy!#REF!","v":{"$error":"#REF!"}}]
[null,3483,{"$f":"Podatnicy!#REF!","v":{"$error":"#REF!"}},{"$f":"Podatnicy!#REF!","v":{"$error":"#REF!"}},{"$f":"Podatnicy!#REF!","v":{"$error":"#REF!"}}]
[null,3495,{"$f":"Podatnicy!#REF!","v":{"$error":"#REF!"}},{"$f":"Podatnicy!#REF!","v":{"$error":"#REF!"}},{"$f":"Podatnicy!#REF!","v":{"$error":"#REF!"}}]
[null,3507,{"$f":"Podatnicy!#REF!","v":{"$error":"#REF!"}},{"$f":"Podatnicy!#REF!","v":{"$error":"#REF!"}},{"$f":"Podatnicy!#REF!","v":{"$error":"#REF!"}}]
[null,3513,{"$f":"Podatnicy!#REF!","v":{"$error":"#REF!"}},{"$f":"Podatnicy!#REF!","v":{"$error":"#REF!"}},{"$f":"Podatnicy!#REF!","v":{"$error":"#REF!"}}]
[null,3525,{"$f":"Podatnicy!#REF!","v":{"$error":"#REF!"}},{"$f":"Podatnicy!#REF!","v":{"$error":"#REF!"}},{"$f":"Podatnicy!#REF!","v":{"$error":"#REF!"}}]
[null,3532,{"$f":"Podatnicy!#REF!","v":{"$error":"#REF!"}},{"$f":"Podatnicy!#REF!","v":{"$error":"#REF!"}},{"$f":"Podatnicy!#REF!","v":{"$error":"#REF!"}}]
[null,3538,{"$f":"Podatnicy!#REF!","v":{"$error":"#REF!"}},{"$f":"Podatnicy!#REF!","v":{"$error":"#REF!"}},{"$f":"Podatnicy!#REF!","v":{"$error":"#REF!"}}]
[null,3546,{"$f":"Podatnicy!#REF!","v":{"$error":"#REF!"}},{"$f":"Podatnicy!#REF!","v":{"$error":"#REF!"}},{"$f":"Podatnicy!#REF!","v":{"$error":"#REF!"}}]
[null,3553,{"$f":"Podatnicy!#REF!","v":{"$error":"#REF!"}},{"$f":"Podatnicy!#REF!","v":{"$error":"#REF!"}},{"$f":"Podatnicy!#REF!","v":{"$error":"#REF!"}}]
[null,3565,{"$f":"Podatnicy!#REF!","v":{"$error":"#REF!"}},{"$f":"Podatnicy!#REF!","v":{"$error":"#REF!"}},{"$f":"Podatnicy!#REF!","v":{"$error":"#REF!"}}]
[null,3577,{"$f":"Podatnicy!#REF!","v":{"$error":"#REF!"}},{"$f":"Podatnicy!#REF!","v":{"$error":"#REF!"}},{"$f":"Podatnicy!#REF!","v":{"$error":"#REF!"}}]
[null,3583,{"$f":"Podatnicy!#REF!","v":{"$error":"#REF!"}},{"$f":"Podatnicy!#REF!","v":{"$error":"#REF!"}},{"$f":"Podatnicy!#REF!","v":{"$error":"#REF!"}}]
[null,3595,{"$f":"Podatnicy!#REF!","v":{"$error":"#REF!"}},{"$f":"Podatnicy!#REF!","v":{"$error":"#REF!"}},{"$f":"Podatnicy!#REF!","v":{"$error":"#REF!"}}]
[null,3602,{"$f":"Podatnicy!#REF!","v":{"$error":"#REF!"}},{"$f":"Podatnicy!#REF!","v":{"$error":"#REF!"}},{"$f":"Podatnicy!#REF!","v":{"$error":"#REF!"}}]
[null,3608,{"$f":"Podatnicy!#REF!","v":{"$error":"#REF!"}},{"$f":"Podatnicy!#REF!","v":{"$error":"#REF!"}},{"$f":"Podatnicy!#REF!","v":{"$error":"#REF!"}}]
[null,3620,{"$f":"Podatnicy!#REF!","v":{"$error":"#REF!"}},{"$f":"Podatnicy!#REF!","v":{"$error":"#REF!"}},{"$f":"Podatnicy!#REF!","v":{"$error":"#REF!"}}]
[null,3623,{"$f":"Podatnicy!#REF!","v":{"$error":"#REF!"}},{"$f":"Podatnicy!#REF!","v":{"$error":"#REF!"}},{"$f":"Podatnicy!#REF!","v":{"$error":"#REF!"}}]
[null,3635,{"$f":"Podatnicy!#REF!","v":{"$error":"#REF!"}},{"$f":"Podatnicy!#REF!","v":{"$error":"#REF!"}},{"$f":"Podatnicy!#REF!","v":{"$error":"#REF!"}}]
[null,3647,{"$f":"Podatnicy!#REF!","v":{"$error":"#REF!"}},{"$f":"Podatnicy!#REF!","v":{"$error":"#REF!"}},{"$f":"Podatnicy!#REF!","v":{"$error":"#REF!"}}]
[null,3653,{"$f":"Podatnicy!#REF!","v":{"$error":"#REF!"}},{"$f":"Podatnicy!#REF!","v":{"$error":"#REF!"}},{"$f":"Podatnicy!#REF!","v":{"$error":"#REF!"}}]
[null,3665,{"$f":"Podatnicy!#REF!","v":{"$error":"#REF!"}},{"$f":"Podatnicy!#REF!","v":{"$error":"#REF!"}},{"$f":"Podatnicy!#REF!","v":{"$error":"#REF!"}}]
[null,3672,{"$f":"Podatnicy!#REF!","v":{"$error":"#REF!"}},{"$f":"Podatnicy!#REF!","v":{"$error":"#REF!"}},{"$f":"Podatnicy!#REF!","v":{"$error":"#REF!"}}]
[null,3678,{"$f":"Podatnicy!#REF!","v":{"$error":"#REF!"}},{"$f":"Podatnicy!#REF!","v":{"$error":"#REF!"}},{"$f":"Podatnicy!#REF!","v":{"$error":"#REF!"}}]
[null,3690,{"$f":"Podatnicy!#REF!","v":{"$error":"#REF!"}},{"$f":"Podatnicy!#REF!","v":{"$error":"#REF!"}},{"$f":"Podatnicy!#REF!","v":{"$error":"#REF!"}}]
[null,3693,{"$f":"Podatnicy!#REF!","v":{"$error":"#REF!"}},{"$f":"Podatnicy!#REF!","v":{"$error":"#REF!"}},{"$f":"Podatnicy!#REF!","v":{"$error":"#REF!"}}]
[null,3705,{"$f":"Podatnicy!#REF!","v":{"$error":"#REF!"}},{"$f":"Podatnicy!#REF!","v":{"$error":"#REF!"}},{"$f":"Podatnicy!#REF!","v":{"$error":"#REF!"}}]
[null,3717,{"$f":"Podatnicy!#REF!","v":{"$error":"#REF!"}},{"$f":"Podatnicy!#REF!","v":{"$error":"#REF!"}},{"$f":"Podatnicy!#REF!","v":{"$error":"#REF!"}}]
[null,3723,{"$f":"Podatnicy!#REF!","v":{"$error":"#REF!"}},{"$f":"Podatnicy!#REF!","v":{"$error":"#REF!"}},{"$f":"Podatnicy!#REF!","v":{"$error":"#REF!"}}]
[null,3730,{"$f":"Podatnicy!#REF!","v":{"$error":"#REF!"}},{"$f":"Podatnicy!#REF!","v":{"$error":"#REF!"}},{"$f":"Podatnicy!#REF!","v":{"$error":"#REF!"}}]
[null,3742,{"$f":"Podatnicy!#REF!","v":{"$error":"#REF!"}},{"$f":"Podatnicy!#REF!","v":{"$error":"#REF!"}},{"$f":"Podatnicy!#REF!","v":{"$error":"#REF!"}}]
[null,3754,{"$f":"Podatnicy!#REF!","v":{"$error":"#REF!"}},{"$f":"Podatnicy!#REF!","v":{"$error":"#REF!"}},{"$f":"Podatnicy!#REF!","v":{"$error":"#REF!"}}]
[null,3758,{"$f":"Podatnicy!#REF!","v":{"$error":"#REF!"}},{"$f":"Podatnicy!#REF!","v":{"$error":"#REF!"}},{"$f":"Podatnicy!#REF!","v":{"$error":"#REF!"}}]
[null,3763,{"$f":"Podatnicy!#REF!","v":{"$error":"#REF!"}},{"$f":"Podatnicy!#REF!","v":{"$error":"#REF!"}},{"$f":"Podatnicy!#REF!","v":{"$error":"#REF!"}}]
[null,3775,{"$f":"Podatnicy!#REF!","v":{"$error":"#REF!"}},{"$f":"Podatnicy!#REF!","v":{"$error":"#REF!"}},{"$f":"Podatnicy!#REF!","v":{"$error":"#REF!"}}]
[null,3782,{"$f":"Podatnicy!#REF!","v":{"$error":"#REF!"}},{"$f":"Podatnicy!#REF!","v":{"$error":"#REF!"}},{"$f":"Podatnicy!#REF!","v":{"$error":"#REF!"}}]
[null,3797,{"$f":"Podatnicy!#REF!","v":{"$error":"#REF!"}},{"$f":"Podatnicy!#REF!","v":{"$error":"#REF!"}},{"$f":"Podatnicy!#REF!","v":{"$error":"#REF!"}}]
[null,3800,{"$f":"Podatnicy!#REF!","v":{"$error":"#REF!"}},{"$f":"Podatnicy!#REF!","v":{"$error":"#REF!"}},{"$f":"Podatnicy!#REF!","v":{"$error":"#REF!"}}]
[null,3812,{"$f":"Podatnicy!#REF!","v":{"$error":"#REF!"}},{"$f":"Podatnicy!#REF!","v":{"$error":"#REF!"}},{"$f":"Podatnicy!#REF!","v":{"$error":"#REF!"}}]
[null,3824,{"$f":"Podatnicy!#REF!","v":{"$error":"#REF!"}},{"$f":"Podatnicy!#REF!","v":{"$error":"#REF!"}},{"$f":"Podatnicy!#REF!","v":{"$error":"#REF!"}}]
[null,3828,{"$f":"Podatnicy!#REF!","v":{"$error":"#REF!"}},{"$f":"Podatnicy!#REF!","v":{"$error":"#REF!"}},{"$f":"Podatnicy!#REF!","v":{"$error":"#REF!"}}]
[null,3833,{"$f":"Podatnicy!#REF!","v":{"$error":"#REF!"}},{"$f":"Podatnicy!#REF!","v":{"$error":"#REF!"}},{"$f":"Podatnicy!#REF!","v":{"$error":"#REF!"}}]
[null,3845,{"$f":"Podatnicy!#REF!","v":{"$error":"#REF!"}},{"$f":"Podatnicy!#REF!","v":{"$error":"#REF!"}},{"$f":"Podatnicy!#REF!","v":{"$error":"#REF!"}}]
[null,3852,{"$f":"Podatnicy!#REF!","v":{"$error":"#REF!"}},{"$f":"Podatnicy!#REF!","v":{"$error":"#REF!"}},{"$f":"Podatnicy!#REF!","v":{"$error":"#REF!"}}]
[null,3867,{"$f":"Podatnicy!#REF!","v":{"$error":"#REF!"}},{"$f":"Podatnicy!#REF!","v":{"$error":"#REF!"}},{"$f":"Podatnicy!#REF!","v":{"$error":"#REF!"}}]
[null,3870,{"$f":"Podatnicy!#REF!","v":{"$error":"#REF!"}},{"$f":"Podatnicy!#REF!","v":{"$error":"#REF!"}},{"$f":"Podatnicy!#REF!","v":{"$error":"#REF!"}}]
[null,3882,{"$f":"Podatnicy!#REF!","v":{"$error":"#REF!"}},{"$f":"Podatnicy!#REF!","v":{"$error":"#REF!"}},{"$f":"Podatnicy!#REF!","v":{"$error":"#REF!"}}]
[null,3894,{"$f":"Podatnicy!#REF!","v":{"$error":"#REF!"}},{"$f":"Podatnicy!#REF!","v":{"$error":"#REF!"}},{"$f":"Podatnicy!#REF!","v":{"$error":"#REF!"}}]
[null,3898,{"$f":"Podatnicy!#REF!","v":{"$error":"#REF!"}},{"$f":"Podatnicy!#REF!","v":{"$error":"#REF!"}},{"$f":"Podatnicy!#REF!","v":{"$error":"#REF!"}}]
[null,3903,{"$f":"Podatnicy!#REF!","v":{"$error":"#REF!"}},{"$f":"Podatnicy!#REF!","v":{"$error":"#REF!"}},{"$f":"Podatnicy!#REF!","v":{"$error":"#REF!"}}]
[null,3919,{"$f":"Podatnicy!#REF!","v":{"$error":"#REF!"}},{"$f":"Podatnicy!#REF!","v":{"$error":"#REF!"}},{"$f":"Podatnicy!#REF!","v":{"$error":"#REF!"}}]
[null,3922,{"$f":"Podatnicy!#REF!","v":{"$error":"#REF!"}},{"$f":"Podatnicy!#REF!","v":{"$error":"#REF!"}},{"$f":"Podatnicy!#REF!","v":{"$error":"#REF!"}}]
[null,3937,{"$f":"Podatnicy!#REF!","v":{"$error":"#REF!"}},{"$f":"Podatnicy!#REF!","v":{"$error":"#REF!"}},{"$f":"Podatnicy!#REF!","v":{"$error":"#REF!"}}]
[null,3940,{"$f":"Podatnicy!#REF!","v":{"$error":"#REF!"}},{"$f":"Podatnicy!#REF!","v":{"$error":"#REF!"}},{"$f":"Podatnicy!#REF!","v":{"$error":"#REF!"}}]
[null,3952,{"$f":"Podatnicy!#REF!","v":{"$error":"#REF!"}},{"$f":"Podatnicy!#REF!","v":{"$error":"#REF!"}},{"$f":"Podatnicy!#REF!","v":{"$error":"#REF!"}}]
[null,3964,{"$f":"Podatnicy!#REF!","v":{"$error":"#REF!"}},{"$f":"Podatnicy!#REF!","v":{"$error":"#REF!"}},{"$f":"Podatnicy!#REF!","v":{"$error":"#REF!"}}]
[null,3968,{"$f":"Podatnicy!#REF!","v":{"$error":"#REF!"}},{"$f":"Podatnicy!#REF!","v":{"$error":"#REF!"}},{"$f":"Podatnicy!#REF!","v":{"$error":"#REF!"}}]
[null,3973,{"$f":"Podatnicy!#REF!","v":{"$error":"#REF!"}},{"$f":"Podatnicy!#REF!","v":{"$error":"#REF!"}},{"$f":"Podatnicy!#REF!","v":{"$error":"#REF!"}}]
[null,3989,{"$f":"Podatnicy!#REF!","v":{"$error":"#REF!"}},{"$f":"Podatnicy!#REF!","v":{"$error":"#REF!"}},{"$f":"Podatnicy!#REF!","v":{"$error":"#REF!"}}]
[null,3992,{"$f":"Podatnicy!#REF!","v":{"$error":"#REF!"}},{"$f":"Podatnicy!#REF!","v":{"$error":"#REF!"}},{"$f":"Podatnicy!#REF!","v":{"$error":"#REF!"}}]
[null,4007,{"$f":"Podatnicy!#REF!","v":{"$error":"#REF!"}},{"$f":"Podatnicy!#REF!","v":{"$error":"#REF!"}},{"$f":"Podatnicy!#REF!","v":{"$error":"#REF!"}}]
[null,4010,{"$f":"Podatnicy!#REF!","v":{"$error":"#REF!"}},{"$f":"Podatnicy!#REF!","v":{"$error":"#REF!"}},{"$f":"Podatnicy!#REF!","v":{"$error":"#REF!"}}]
[null,4022,{"$f":"Podatnicy!#REF!","v":{"$error":"#REF!"}},{"$f":"Podatnicy!#REF!","v":{"$error":"#REF!"}},{"$f":"Podatnicy!#REF!","v":{"$error":"#REF!"}}]
[null,4034,{"$f":"Podatnicy!#REF!","v":{"$error":"#REF!"}},{"$f":"Podatnicy!#REF!","v":{"$error":"#REF!"}},{"$f":"Podatnicy!#REF!","v":{"$error":"#REF!"}}]
[null,4041,{"$f":"Podatnicy!#REF!","v":{"$error":"#REF!"}},{"$f":"Podatnicy!#REF!","v":{"$error":"#REF!"}},{"$f":"Podatnicy!#REF!","v":{"$error":"#REF!"}}]
[null,4048,{"$f":"Podatnicy!#REF!","v":{"$error":"#REF!"}},{"$f":"Podatnicy!#REF!","v":{"$error":"#REF!"}},{"$f":"Podatnicy!#REF!","v":{"$error":"#REF!"}}]
[null,4059,{"$f":"Podatnicy!#REF!","v":{"$error":"#REF!"}},{"$f":"Podatnicy!#REF!","v":{"$error":"#REF!"}},{"$f":"Podatnicy!#REF!","v":{"$error":"#REF!"}}]
[null,4062,{"$f":"Podatnicy!#REF!","v":{"$error":"#REF!"}},{"$f":"Podatnicy!#REF!","v":{"$error":"#REF!"}},{"$f":"Podatnicy!#REF!","v":{"$error":"#REF!"}}]
[null,4074,{"$f":"Podatnicy!#REF!","v":{"$error":"#REF!"}},{"$f":"Podatnicy!#REF!","v":{"$error":"#REF!"}},{"$f":"Podatnicy!#REF!","v":{"$error":"#REF!"}}]
[null,4079,{"$f":"Podatnicy!#REF!","v":{"$error":"#REF!"}},{"$f":"Podatnicy!#REF!","v":{"$error":"#REF!"}},{"$f":"Podatnicy!#REF!","v":{"$error":"#REF!"}}]
[null,4092,{"$f":"Podatnicy!#REF!","v":{"$error":"#REF!"}},{"$f":"Podatnicy!#REF!","v":{"$error":"#REF!"}},{"$f":"Podatnicy!#REF!","v":{"$error":"#REF!"}}]
[null,4099,{"$f":"Podatnicy!#REF!","v":{"$error":"#REF!"}},{"$f":"Podatnicy!#REF!","v":{"$error":"#REF!"}},{"$f":"Podatnicy!#REF!","v":{"$error":"#REF!"}}]
[null,4111,{"$f":"Podatnicy!#REF!","v":{"$error":"#REF!"}},{"$f":"Podatnicy!#REF!","v":{"$error":"#REF!"}},{"$f":"Podatnicy!#REF!","v":{"$error":"#REF!"}}]
[null,4118,{"$f":"Podatnicy!#REF!","v":{"$error":"#REF!"}},{"$f":"Podatnicy!#REF!","v":{"$error":"#REF!"}},{"$f":"Podatnicy!#REF!","v":{"$error":"#REF!"}}]
[null,4129,{"$f":"Podatnicy!#REF!","v":{"$error":"#REF!"}},{"$f":"Podatnicy!#REF!","v":{"$error":"#REF!"}},{"$f":"Podatnicy!#REF!","v":{"$error":"#REF!"}}]
[null,4132,{"$f":"Podatnicy!#REF!","v":{"$error":"#REF!"}},{"$f":"Podatnicy!#REF!","v":{"$error":"#REF!"}},{"$f":"Podatnicy!#REF!","v":{"$error":"#REF!"}}]
[null,4144,{"$f":"Podatnicy!#REF!","v":{"$error":"#REF!"}},{"$f":"Podatnicy!#REF!","v":{"$error":"#REF!"}},{"$f":"Podatnicy!#REF!","v":{"$error":"#REF!"}}]
[null,4149,{"$f":"Podatnicy!#REF!","v":{"$error":"#REF!"}},{"$f":"Podatnicy!#REF!","v":{"$error":"#REF!"}},{"$f":"Podatnicy!#REF!","v":{"$error":"#REF!"}}]
[null,4162,{"$f":"Podatnicy!#REF!","v":{"$error":"#REF!"}},{"$f":"Podatnicy!#REF!","v":{"$error":"#REF!"}},{"$f":"Podatnicy!#REF!","v":{"$error":"#REF!"}}]
[null,4169,{"$f":"Podatnicy!#REF!","v":{"$error":"#REF!"}},{"$f":"Podatnicy!#REF!","v":{"$error":"#REF!"}},{"$f":"Podatnicy!#REF!","v":{"$error":"#REF!"}}]
[null,4181,{"$f":"Podatnicy!#REF!","v":{"$error":"#REF!"}},{"$f":"Podatnicy!#REF!","v":{"$error":"#REF!"}},{"$f":"Podatnicy!#REF!","v":{"$error":"#REF!"}}]
[null,4188,{"$f":"Podatnicy!#REF!","v":{"$error":"#REF!"}},{"$f":"Podatnicy!#REF!","v":{"$error":"#REF!"}},{"$f":"Podatnicy!#REF!","v":{"$error":"#REF!"}}]
[null,4199,{"$f":"Podatnicy!#REF!","v":{"$error":"#REF!"}},{"$f":"Podatnicy!#REF!","v":{"$error":"#REF!"}},{"$f":"Podatnicy!#REF!","v":{"$error":"#REF!"}}]
[null,4202,{"$f":"Podatnicy!#REF!","v":{"$error":"#REF!"}},{"$f":"Podatnicy!#REF!","v":{"$error":"#REF!"}},{"$f":"Podatnicy!#REF!","v":{"$error":"#REF!"}}]
[null,4218,{"$f":"Podatnicy!#REF!","v":{"$error":"#REF!"}},{"$f":"Podatnicy!#REF!","v":{"$error":"#REF!"}},{"$f":"Podatnicy!#REF!","v":{"$error":"#REF!"}}]
[null,4219,{"$f":"Podatnicy!#REF!","v":{"$error":"#REF!"}},{"$f":"Podatnicy!#REF!","v":{"$error":"#REF!"}},{"$f":"Podatnicy!#REF!","v":{"$error":"#REF!"}}]
[null,4232,{"$f":"Podatnicy!#REF!","v":{"$error":"#REF!"}},{"$f":"Podatnicy!#REF!","v":{"$error":"#REF!"}},{"$f":"Podatnicy!#REF!","v":{"$error":"#REF!"}}]
[null,4239,{"$f":"Podatnicy!#REF!","v":{"$error":"#REF!"}},{"$f":"Podatnicy!#REF!","v":{"$error":"#REF!"}},{"$f":"Podatnicy!#REF!","v":{"$error":"#REF!"}}]
[null,4251,{"$f":"Podatnicy!#REF!","v":{"$error":"#REF!"}},{"$f":"Podatnicy!#REF!","v":{"$error":"#REF!"}},{"$f":"Podatnicy!#REF!","v":{"$error":"#REF!"}}]
[null,4258,{"$f":"Podatnicy!#REF!","v":{"$error":"#REF!"}},{"$f":"Podatnicy!#REF!","v":{"$error":"#REF!"}},{"$f":"Podatnicy!#REF!","v":{"$error":"#REF!"}}]
[null,4269,{"$f":"Podatnicy!#REF!","v":{"$error":"#REF!"}},{"$f":"Podatnicy!#REF!","v":{"$error":"#REF!"}},{"$f":"Podatnicy!#REF!","v":{"$error":"#REF!"}}]
[null,4272,{"$f":"Podatnicy!#REF!","v":{"$error":"#REF!"}},{"$f":"Podatnicy!#REF!","v":{"$error":"#REF!"}},{"$f":"Podatnicy!#REF!","v":{"$error":"#REF!"}}]
[null,4288,{"$f":"Podatnicy!#REF!","v":{"$error":"#REF!"}},{"$f":"Podatnicy!#REF!","v":{"$error":"#REF!"}},{"$f":"Podatnicy!#REF!","v":{"$error":"#REF!"}}]
[null,4289,{"$f":"Podatnicy!#REF!","v":{"$error":"#REF!"}},{"$f":"Podatnicy!#REF!","v":{"$error":"#REF!"}},{"$f":"Podatnicy!#REF!","v":{"$error":"#REF!"}}]
[null,4302,{"$f":"Podatnicy!#REF!","v":{"$error":"#REF!"}},{"$f":"Podatnicy!#REF!","v":{"$error":"#REF!"}},{"$f":"Podatnicy!#REF!","v":{"$error":"#REF!"}}]
[null,4309,{"$f":"Podatnicy!#REF!","v":{"$error":"#REF!"}},{"$f":"Podatnicy!#REF!","v":{"$error":"#REF!"}},{"$f":"Podatnicy!#REF!","v":{"$error":"#REF!"}}]
[null,4321,{"$f":"Podatnicy!#REF!","v":{"$error":"#REF!"}},{"$f":"Podatnicy!#REF!","v":{"$error":"#REF!"}},{"$f":"Podatnicy!#REF!","v":{"$error":"#REF!"}}]
[null,4324,{"$f":"Podatnicy!#REF!","v":{"$error":"#REF!"}},{"$f":"Podatnicy!#REF!","v":{"$error":"#REF!"}},{"$f":"Podatnicy!#REF!","v":{"$error":"#REF!"}}]
[null,4338,{"$f":"Podatnicy!#REF!","v":{"$error":"#REF!"}},{"$f":"Podatnicy!#REF!","v":{"$error":"#REF!"}},{"$f":"Podatnicy!#REF!","v":{"$error":"#REF!"}}]
[null,4342,{"$f":"Podatnicy!#REF!","v":{"$error":"#REF!"}},{"$f":"Podatnicy!#REF!","v":{"$error":"#REF!"}},{"$f":"Podatnicy!#REF!","v":{"$error":"#REF!"}}]
[null,4358,{"$f":"Podatnicy!#REF!","v":{"$error":"#REF!"}},{"$f":"Podatnicy!#REF!","v":{"$error":"#REF!"}},{"$f":"Podatnicy!#REF!","v":{"$error":"#REF!"}}]
[null,4361,{"$f":"Podatnicy!#REF!","v":{"$error":"#REF!"}},{"$f":"Podatnicy!#REF!","v":{"$error":"#REF!"}},{"$f":"Podatnicy!#REF!","v":{"$error":"#REF!"}}]
[null,4369,{"$f":"Podatnicy!#REF!","v":{"$error":"#REF!"}},{"$f":"Podatnicy!#REF!","v":{"$error":"#REF!"}},{"$f":"Podatnicy!#REF!","v":{"$error":"#REF!"}}]
[null,4379,{"$f":"Podatnicy!#REF!","v":{"$error":"#REF!"}},{"$f":"Podatnicy!#REF!","v":{"$error":"#REF!"}},{"$f":"Podatnicy!#REF!","v":{"$error":"#REF!"}}]
[null,4391,{"$f":"Podatnicy!#REF!","v":{"$error":"#REF!"}},{"$f":"Podatnicy!#REF!","v":{"$error":"#REF!"}},{"$f":"Podatnicy!#REF!","v":{"$error":"#REF!"}}]
[null,4398,{"$f":"Podatnicy!#REF!","v":{"$error":"#REF!"}},{"$f":"Podatnicy!#REF!","v":{"$error":"#REF!"}},{"$f":"Podatnicy!#REF!","v":{"$error":"#REF!"}}]
[null,4408,{"$f":"Podatnicy!#REF!","v":{"$error":"#REF!"}},{"$f":"Podatnicy!#REF!","v":{"$error":"#REF!"}},{"$f":"Podatnicy!#REF!","v":{"$error":"#REF!"}}]
[null,4412,{"$f":"Podatnicy!#REF!","v":{"$error":"#REF!"}},{"$f":"Podatnicy!#REF!","v":{"$error":"#REF!"}},{"$f":"Podatnicy!#REF!","v":{"$error":"#REF!"}}]
[null,4428,{"$f":"Podatnicy!#REF!","v":{"$error":"#REF!"}},{"$f":"Podatnicy!#REF!","v":{"$error":"#REF!"}},{"$f":"Podatnicy!#REF!","v":{"$error":"#REF!"}}]
[null,4431,{"$f":"Podatnicy!#REF!","v":{"$error":"#REF!"}},{"$f":"Podatnicy!#REF!","v":{"$error":"#REF!"}},{"$f":"Podatnicy!#REF!","v":{"$error":"#REF!"}}]
[null,4439,{"$f":"Podatnicy!#REF!","v":{"$error":"#REF!"}},{"$f":"Podatnicy!#REF!","v":{"$error":"#REF!"}},{"$f":"Podatnicy!#REF!","v":{"$error":"#REF!"}}]
[null,4449,{"$f":"Podatnicy!#REF!","v":{"$error":"#REF!"}},{"$f":"Podatnicy!#REF!","v":{"$error":"#REF!"}},{"$f":"Podatnicy!#REF!","v":{"$error":"#REF!"}}]
[null,4461,{"$f":"Podatnicy!#REF!","v":{"$error":"#REF!"}},{"$f":"Podatnicy!#REF!","v":{"$error":"#REF!"}},{"$f":"Podatnicy!#REF!","v":{"$error":"#REF!"}}]
[null,4468,{"$f":"Podatnicy!#REF!","v":{"$error":"#REF!"}},{"$f":"Podatnicy!#REF!","v":{"$error":"#REF!"}},{"$f":"Podatnicy!#REF!","v":{"$error":"#REF!"}}]
[null,4478,{"$f":"Podatnicy!#REF!","v":{"$error":"#REF!"}},{"$f":"Podatnicy!#REF!","v":{"$error":"#REF!"}},{"$f":"Podatnicy!#REF!","v":{"$error":"#REF!"}}]
[null,4482,{"$f":"Podatnicy!#REF!","v":{"$error":"#REF!"}},{"$f":"Podatnicy!#REF!","v":{"$error":"#REF!"}},{"$f":"Podatnicy!#REF!","v":{"$error":"#REF!"}}]
[null,4498,{"$f":"Podatnicy!#REF!","v":{"$error":"#REF!"}},{"$f":"Podatnicy!#REF!","v":{"$error":"#REF!"}},{"$f":"Podatnicy!#REF!","v":{"$error":"#REF!"}}]
[null,4501,{"$f":"Podatnicy!#REF!","v":{"$error":"#REF!"}},{"$f":"Podatnicy!#REF!","v":{"$error":"#REF!"}},{"$f":"Podatnicy!#REF!","v":{"$error":"#REF!"}}]
[null,4509,{"$f":"Podatnicy!#REF!","v":{"$error":"#REF!"}},{"$f":"Podatnicy!#REF!","v":{"$error":"#REF!"}},{"$f":"Podatnicy!#REF!","v":{"$error":"#REF!"}}]
[null,4519,{"$f":"Podatnicy!#REF!","v":{"$error":"#REF!"}},{"$f":"Podatnicy!#REF!","v":{"$error":"#REF!"}},{"$f":"Podatnicy!#REF!","v":{"$error":"#REF!"}}]
[null,4531,{"$f":"Podatnicy!#REF!","v":{"$error":"#REF!"}},{"$f":"Podatnicy!#REF!","v":{"$error":"#REF!"}},{"$f":"Podatnicy!#REF!","v":{"$error":"#REF!"}}]
[null,4538,{"$f":"Podatnicy!#REF!","v":{"$error":"#REF!"}},{"$f":"Podatnicy!#REF!","v":{"$error":"#REF!"}},{"$f":"Podatnicy!#REF!","v":{"$error":"#REF!"}}]
[null,4548,{"$f":"Podatnicy!#REF!","v":{"$error":"#REF!"}},{"$f":"Podatnicy!#REF!","v":{"$error":"#REF!"}},{"$f":"Podatnicy!#REF!","v":{"$error":"#REF!"}}]
[null,4552,{"$f":"Podatnicy!#REF!","v":{"$error":"#REF!"}},{"$f":"Podatnicy!#REF!","v":{"$error":"#REF!"}},{"$f":"Podatnicy!#REF!","v":{"$error":"#REF!"}}]
[null,4568,{"$f":"Podatnicy!#REF!","v":{"$error":"#REF!"}},{"$f":"Podatnicy!#REF!","v":{"$error":"#REF!"}},{"$f":"Podatnicy!#REF!","v":{"$error":"#REF!"}}]
[null,4571,{"$f":"Podatnicy!#REF!","v":{"$error":"#REF!"}},{"$f":"Podatnicy!#REF!","v":{"$error":"#REF!"}},{"$f":"Podatnicy!#REF!","v":{"$error":"#REF!"}}]
[null,4579,{"$f":"Podatnicy!#REF!","v":{"$error":"#REF!"}},{"$f":"Podatnicy!#REF!","v":{"$error":"#REF!"}},{"$f":"Podatnicy!#REF!","v":{"$error":"#REF!"}}]
[null,4589,{"$f":"Podatnicy!#REF!","v":{"$error":"#REF!"}},{"$f":"Podatnicy!#REF!","v":{"$error":"#REF!"}},{"$f":"Podatnicy!#REF!","v":{"$error":"#REF!"}}]
[null,4601,{"$f":"Podatnicy!#REF!","v":{"$error":"#REF!"}},{"$f":"Podatnicy!#REF!","v":{"$error":"#REF!"}},{"$f":"Podatnicy!#REF!","v":{"$error":"#REF!"}}]
[null,4608,{"$f":"Podatnicy!#REF!","v":{"$error":"#REF!"}},{"$f":"Podatnicy!#REF!","v":{"$error":"#REF!"}},{"$f":"Podatnicy!#REF!","v":{"$error":"#REF!"}}]
[null,4620,{"$f":"Podatnicy!#REF!","v":{"$error":"#REF!"}},{"$f":"Podatnicy!#REF!","v":{"$error":"#REF!"}},{"$f":"Podatnicy!#REF!","v":{"$error":"#REF!"}}]
[null,4628,{"$f":"Podatnicy!#REF!","v":{"$error":"#REF!"}},{"$f":"Podatnicy!#REF!","v":{"$error":"#REF!"}},{"$f":"Podatnicy!#REF!","v":{"$error":"#REF!"}}]
[null,4638,{"$f":"Podatnicy!#REF!","v":{"$error":"#REF!"}},{"$f":"Podatnicy!#REF!","v":{"$error":"#REF!"}},{"$f":"Podatnicy!#REF!","v":{"$error":"#REF!"}}]
[null,4641,{"$f":"Podatnicy!#REF!","v":{"$error":"#REF!"}},{"$f":"Podatnicy!#REF!","v":{"$error":"#REF!"}},{"$f":"Podatnicy!#REF!","v":{"$error":"#REF!"}}]
[null,4648,{"$f":"Podatnicy!#REF!","v":{"$error":"#REF!"}},{"$f":"Podatnicy!#REF!","v":{"$error":"#REF!"}},{"$f":"Podatnicy!#REF!","v":{"$error":"#REF!"}}]
[null,4659,{"$f":"Podatnicy!#REF!","v":{"$error":"#REF!"}},{"$f":"Podatnicy!#REF!","v":{"$error":"#REF!"}},{"$f":"Podatnicy!#REF!","v":{"$error":"#REF!"}}]
[null,4671,{"$f":"Podatnicy!#REF!","v":{"$error":"#REF!"}},{"$f":"Podatnicy!#REF!","v":{"$error":"#REF!"}},{"$f":"Podatnicy!#REF!","v":{"$error":"#REF!"}}]
[null,4678,{"$f":"Podatnicy!#REF!","v":{"$error":"#REF!"}},{"$f":"Podatnicy!#REF!","v":{"$error":"#REF!"}},{"$f":"Podatnicy!#REF!","v":{"$error":"#REF!"}}]
[null,4690,{"$f":"Podatnicy!#REF!","v":{"$error":"#REF!"}},{"$f":"Podatnicy!#REF!","v":{"$error":"#REF!"}},{"$f":"Podatnicy!#REF!","v":{"$error":"#REF!"}}]
[null,4698,{"$f":"Podatnicy!#REF!","v":{"$error":"#REF!"}},{"$f":"Podatnicy!#REF!","v":{"$error":"#REF!"}},{"$f":"Podatnicy!#REF!","v":{"$error":"#REF!"}}]
[null,4708,{"$f":"Podatnicy!#REF!","v":{"$error":"#REF!"}},{"$f":"Podatnicy!#REF!","v":{"$error":"#REF!"}},{"$f":"Podatnicy!#REF!","v":{"$error":"#REF!"}}]
[null,4711,{"$f":"Podatnicy!#REF!","v":{"$error":"#REF!"}},{"$f":"Podatnicy!#REF!","v":{"$error":"#REF!"}},{"$f":"Podatnicy!#REF!","v":{"$error":"#REF!"}}]
[null,4718,{"$f":"Podatnicy!#REF!","v":{"$error":"#REF!"}},{"$f":"Podatnicy!#REF!","v":{"$error":"#REF!"}},{"$f":"Podatnicy!#REF!","v":{"$error":"#REF!"}}]
[null,4729,{"$f":"Podatnicy!#REF!","v":{"$error":"#REF!"}},{"$f":"Podatnicy!#REF!","v":{"$error":"#REF!"}},{"$f":"Podatnicy!#REF!","v":{"$error":"#REF!"}}]
[null,4741,{"$f":"Podatnicy!#REF!","v":{"$error":"#REF!"}},{"$f":"Podatnicy!#REF!","v":{"$error":"#REF!"}},{"$f":"Podatnicy!#REF!","v":{"$error":"#REF!"}}]
[null,4748,{"$f":"Podatnicy!#REF!","v":{"$error":"#REF!"}},{"$f":"Podatnicy!#REF!","v":{"$error":"#REF!"}},{"$f":"Podatnicy!#REF!","v":{"$error":"#REF!"}}]
[null,4760,{"$f":"Podatnicy!#REF!","v":{"$error":"#REF!"}},{"$f":"Podatnicy!#REF!","v":{"$error":"#REF!"}},{"$f":"Podatnicy!#REF!","v":{"$error":"#REF!"}}]
[null,4768,{"$f":"Podatnicy!#REF!","v":{"$error":"#REF!"}},{"$f":"Podatnicy!#REF!","v":{"$error":"#REF!"}},{"$f":"Podatnicy!#REF!","v":{"$error":"#REF!"}}]
[null,4778,{"$f":"Podatnicy!#REF!","v":{"$error":"#REF!"}},{"$f":"Podatnicy!#REF!","v":{"$error":"#REF!"}},{"$f":"Podatnicy!#REF!","v":{"$error":"#REF!"}}]
[null,4781,{"$f":"Podatnicy!#REF!","v":{"$error":"#REF!"}},{"$f":"Podatnicy!#REF!","v":{"$error":"#REF!"}},{"$f":"Podatnicy!#REF!","v":{"$error":"#REF!"}}]
[null,4788,{"$f":"Podatnicy!#REF!","v":{"$error":"#REF!"}},{"$f":"Podatnicy!#REF!","v":{"$error":"#REF!"}},{"$f":"Podatnicy!#REF!","v":{"$error":"#REF!"}}]
[null,4799,{"$f":"Podatnicy!#REF!","v":{"$error":"#REF!"}},{"$f":"Podatnicy!#REF!","v":{"$error":"#REF!"}},{"$f":"Podatnicy!#REF!","v":{"$error":"#REF!"}}]
[null,4811,{"$f":"Podatnicy!#REF!","v":{"$error":"#REF!"}},{"$f":"Podatnicy!#REF!","v":{"$error":"#REF!"}},{"$f":"Podatnicy!#REF!","v":{"$error":"#REF!"}}]
[null,4818,{"$f":"Podatnicy!#REF!","v":{"$error":"#REF!"}},{"$f":"Podatnicy!#REF!","v":{"$error":"#REF!"}},{"$f":"Podatnicy!#REF!","v":{"$error":"#REF!"}}]
[null,4830,{"$f":"Podatnicy!#REF!","v":{"$error":"#REF!"}},{"$f":"Podatnicy!#REF!","v":{"$error":"#REF!"}},{"$f":"Podatnicy!#REF!","v":{"$error":"#REF!"}}]
[null,4838,{"$f":"Podatnicy!#REF!","v":{"$error":"#REF!"}},{"$f":"Podatnicy!#REF!","v":{"$error":"#REF!"}},{"$f":"Podatnicy!#REF!","v":{"$error":"#REF!"}}]
[null,4848,{"$f":"Podatnicy!#REF!","v":{"$error":"#REF!"}},{"$f":"Podatnicy!#REF!","v":{"$error":"#REF!"}},{"$f":"Podatnicy!#REF!","v":{"$error":"#REF!"}}]
[null,4851,{"$f":"Podatnicy!#REF!","v":{"$error":"#REF!"}},{"$f":"Podatnicy!#REF!","v":{"$error":"#REF!"}},{"$f":"Podatnicy!#REF!","v":{"$error":"#REF!"}}]
[null,4858,{"$f":"Podatnicy!#REF!","v":{"$error":"#REF!"}},{"$f":"Podatnicy!#REF!","v":{"$error":"#REF!"}},{"$f":"Podatnicy!#REF!","v":{"$error":"#REF!"}}]
[null,4869,{"$f":"Podatnicy!#REF!","v":{"$error":"#REF!"}},{"$f":"Podatnicy!#REF!","v":{"$error":"#REF!"}},{"$f":"Podatnicy!#REF!","v":{"$error":"#REF!"}}]
[null,4876,{"$f":"Podatnicy!#REF!","v":{"$error":"#REF!"}},{"$f":"Podatnicy!#REF!","v":{"$error":"#REF!"}},{"$f":"Podatnicy!#REF!","v":{"$error":"#REF!"}}]
[null,4888,{"$f":"Podatnicy!#REF!","v":{"$error":"#REF!"}},{"$f":"Podatnicy!#REF!","v":{"$error":"#REF!"}},{"$f":"Podatnicy!#REF!","v":{"$error":"#REF!"}}]
[null,4900,{"$f":"Podatnicy!#REF!","v":{"$error":"#REF!"}},{"$f":"Podatnicy!#REF!","v":{"$error":"#REF!"}},{"$f":"Podatnicy!#REF!","v":{"$error":"#REF!"}}]
[null,4907,{"$f":"Podatnicy!#REF!","v":{"$error":"#REF!"}},{"$f":"Podatnicy!#REF!","v":{"$error":"#REF!"}},{"$f":"Podatnicy!#REF!","v":{"$error":"#REF!"}}]
[null,4918,{"$f":"Podatnicy!#REF!","v":{"$error":"#REF!"}},{"$f":"Podatnicy!#REF!","v":{"$error":"#REF!"}},{"$f":"Podatnicy!#REF!","v":{"$error":"#REF!"}}]
[null,4921,{"$f":"Podatnicy!#REF!","v":{"$error":"#REF!"}},{"$f":"Podatnicy!#REF!","v":{"$error":"#REF!"}},{"$f":"Podatnicy!#REF!","v":{"$error":"#REF!"}}]
[null,4928,{"$f":"Podatnicy!#REF!","v":{"$error":"#REF!"}},{"$f":"Podatnicy!#REF!","v":{"$error":"#REF!"}},{"$f":"Podatnicy!#REF!","v":{"$error":"#REF!"}}]
[null,4940,{"$f":"Podatnicy!#REF!","v":{"$error":"#REF!"}},{"$f":"Podatnicy!#REF!","v":{"$error":"#REF!"}},{"$f":"Podatnicy!#REF!","v":{"$error":"#REF!"}}]
[null,4949,{"$f":"Podatnicy!#REF!","v":{"$error":"#REF!"}},{"$f":"Podatnicy!#REF!","v":{"$error":"#REF!"}},{"$f":"Podatnicy!#REF!","v":{"$error":"#REF!"}}]
[null,4958,{"$f":"Podatnicy!#REF!","v":{"$error":"#REF!"}},{"$f":"Podatnicy!#REF!","v":{"$error":"#REF!"}},{"$f":"Podatnicy!#REF!","v":{"$error":"#REF!"}}]
[null,4970,{"$f":"Podatnicy!#REF!","v":{"$error":"#REF!"}},{"$f":"Podatnicy!#REF!","v":{"$error":"#REF!"}},{"$f":"Podatnicy!#REF!","v":{"$error":"#REF!"}}]
[null,4977,{"$f":"Podatnicy!#REF!","v":{"$error":"#REF!"}},{"$f":"Podatnicy!#REF!","v":{"$error":"#REF!"}},{"$f":"Podatnicy!#REF!","v":{"$error":"#REF!"}}]
[null,4988,{"$f":"Podatnicy!#REF!","v":{"$error":"#REF!"}},{"$f":"Podatnicy!#REF!","v":{"$error":"#REF!"}},{"$f":"Podatnicy!#REF!","v":{"$error":"#REF!"}}]
[null,4995,{"$f":"Podatnicy!#REF!","v":{"$error":"#REF!"}},{"$f":"Podatnicy!#REF!","v":{"$error":"#REF!"}},{"$f":"Podatnicy!#REF!","v":{"$error":"#REF!"}}]
[null,4998,{"$f":"Podatnicy!#REF!","v":{"$error":"#REF!"}},{"$f":"Podatnicy!#REF!","v":{"$error":"#REF!"}},{"$f":"Podatnicy!#REF!","v":{"$error":"#REF!"}}]
[null,5010,{"$f":"Podatnicy!#REF!","v":{"$error":"#REF!"}},{"$f":"Podatnicy!#REF!","v":{"$error":"#REF!"}},{"$f":"Podatnicy!#REF!","v":{"$error":"#REF!"}}]
[null,5019,{"$f":"Podatnicy!#REF!","v":{"$error":"#REF!"}},{"$f":"Podatnicy!#REF!","v":{"$error":"#REF!"}},{"$f":"Podatnicy!#REF!","v":{"$error":"#REF!"}}]
[null,5028,{"$f":"Podatnicy!#REF!","v":{"$error":"#REF!"}},{"$f":"Podatnicy!#REF!","v":{"$error":"#REF!"}},{"$f":"Podatnicy!#REF!","v":{"$error":"#REF!"}}]
[null,5040,{"$f":"Podatnicy!#REF!","v":{"$error":"#REF!"}},{"$f":"Podatnicy!#REF!","v":{"$error":"#REF!"}},{"$f":"Podatnicy!#REF!","v":{"$error":"#REF!"}}]
[null,5047,{"$f":"Podatnicy!#REF!","v":{"$error":"#REF!"}},{"$f":"Podatnicy!#REF!","v":{"$error":"#REF!"}},{"$f":"Podatnicy!#REF!","v":{"$error":"#REF!"}}]
[null,5058,{"$f":"Podatnicy!#REF!","v":{"$error":"#REF!"}},{"$f":"Podatnicy!#REF!","v":{"$error":"#REF!"}},{"$f":"Podatnicy!#REF!","v":{"$error":"#REF!"}}]
[null,5065,{"$f":"Podatnicy!#REF!","v":{"$error":"#REF!"}},{"$f":"Podatnicy!#REF!","v":{"$error":"#REF!"}},{"$f":"Podatnicy!#REF!","v":{"$error":"#REF!"}}]
[null,5068,{"$f":"Podatnicy!#REF!","v":{"$error":"#REF!"}},{"$f":"Podatnicy!#REF!","v":{"$error":"#REF!"}},{"$f":"Podatnicy!#REF!","v":{"$error":"#REF!"}}]
[null,5080,{"$f":"Podatnicy!#REF!","v":{"$error":"#REF!"}},{"$f":"Podatnicy!#REF!","v":{"$error":"#REF!"}},{"$f":"Podatnicy!#REF!","v":{"$error":"#REF!"}}]
[null,5089,{"$f":"Podatnicy!#REF!","v":{"$error":"#REF!"}},{"$f":"Podatnicy!#REF!","v":{"$error":"#REF!"}},{"$f":"Podatnicy!#REF!","v":{"$error":"#REF!"}}]
[null,5098,{"$f":"Podatnicy!#REF!","v":{"$error":"#REF!"}},{"$f":"Podatnicy!#REF!","v":{"$error":"#REF!"}},{"$f":"Podatnicy!#REF!","v":{"$error":"#REF!"}}]
[null,5110,{"$f":"Podatnicy!#REF!","v":{"$error":"#REF!"}},{"$f":"Podatnicy!#REF!","v":{"$error":"#REF!"}},{"$f":"Podatnicy!#REF!","v":{"$error":"#REF!"}}]
[null,5117,{"$f":"Podatnicy!#REF!","v":{"$error":"#REF!"}},{"$f":"Podatnicy!#REF!","v":{"$error":"#REF!"}},{"$f":"Podatnicy!#REF!","v":{"$error":"#REF!"}}]
[null,5128,{"$f":"Podatnicy!#REF!","v":{"$error":"#REF!"}},{"$f":"Podatnicy!#REF!","v":{"$error":"#REF!"}},{"$f":"Podatnicy!#REF!","v":{"$error":"#REF!"}}]
[null,5135,{"$f":"Podatnicy!#REF!","v":{"$error":"#REF!"}},{"$f":"Podatnicy!#REF!","v":{"$error":"#REF!"}},{"$f":"Podatnicy!#REF!","v":{"$error":"#REF!"}}]
[null,5138,{"$f":"Podatnicy!#REF!","v":{"$error":"#REF!"}},{"$f":"Podatnicy!#REF!","v":{"$error":"#REF!"}},{"$f":"Podatnicy!#REF!","v":{"$error":"#REF!"}}]
[null,5150,{"$f":"Podatnicy!#REF!","v":{"$error":"#REF!"}},{"$f":"Podatnicy!#REF!","v":{"$error":"#REF!"}},{"$f":"Podatnicy!#REF!","v":{"$error":"#REF!"}}]
[null,5159,{"$f":"Podatnicy!#REF!","v":{"$error":"#REF!"}},{"$f":"Podatnicy!#REF!","v":{"$error":"#REF!"}},{"$f":"Podatnicy!#REF!","v":{"$error":"#REF!"}}]
[null,5168,{"$f":"Podatnicy!#REF!","v":{"$error":"#REF!"}},{"$f":"Podatnicy!#REF!","v":{"$error":"#REF!"}},{"$f":"Podatnicy!#REF!","v":{"$error":"#REF!"}}]
[null,5175,{"$f":"Podatnicy!#REF!","v":{"$error":"#REF!"}},{"$f":"Podatnicy!#REF!","v":{"$error":"#REF!"}},{"$f":"Podatnicy!#REF!","v":{"$error":"#REF!"}}]
[null,5187,{"$f":"Podatnicy!#REF!","v":{"$error":"#REF!"}},{"$f":"Podatnicy!#REF!","v":{"$error":"#REF!"}},{"$f":"Podatnicy!#REF!","v":{"$error":"#REF!"}}]
[null,5199,{"$f":"Podatnicy!#REF!","v":{"$error":"#REF!"}},{"$f":"Podatnicy!#REF!","v":{"$error":"#REF!"}},{"$f":"Podatnicy!#REF!","v":{"$error":"#REF!"}}]
[null,5200,{"$f":"Podatnicy!#REF!","v":{"$error":"#REF!"}},{"$f":"Podatnicy!#REF!","v":{"$error":"#REF!"}},{"$f":"Podatnicy!#REF!","v":{"$error":"#REF!"}}]
[null,5208,{"$f":"Podatnicy!#REF!","v":{"$error":"#REF!"}},{"$f":"Podatnicy!#REF!","v":{"$error":"#REF!"}},{"$f":"Podatnicy!#REF!","v":{"$error":"#REF!"}}]
[null,5220,{"$f":"Podatnicy!#REF!","v":{"$error":"#REF!"}},{"$f":"Podatnicy!#REF!","v":{"$error":"#REF!"}},{"$f":"Podatnicy!#REF!","v":{"$error":"#REF!"}}]
[null,5227,{"$f":"Podatnicy!#REF!","v":{"$error":"#REF!"}},{"$f":"Podatnicy!#REF!","v":{"$error":"#REF!"}},{"$f":"Podatnicy!#REF!","v":{"$error":"#REF!"}}]
[null,5239,{"$f":"Podatnicy!#REF!","v":{"$error":"#REF!"}},{"$f":"Podatnicy!#REF!","v":{"$error":"#REF!"}},{"$f":"Podatnicy!#REF!","v":{"$error":"#REF!"}}]
[null,5245,{"$f":"Podatnicy!#REF!","v":{"$error":"#REF!"}},{"$f":"Podatnicy!#REF!","v":{"$error":"#REF!"}},{"$f":"Podatnicy!#REF!","v":{"$error":"#REF!"}}]
[null,5257,{"$f":"Podatnicy!#REF!","v":{"$error":"#REF!"}},{"$f":"Podatnicy!#REF!","v":{"$error":"#REF!"}},{"$f":"Podatnicy!#REF!","v":{"$error":"#REF!"}}]
[null,5269,{"$f":"Podatnicy!#REF!","v":{"$error":"#REF!"}},{"$f":"Podatnicy!#REF!","v":{"$error":"#REF!"}},{"$f":"Podatnicy!#REF!","v":{"$error":"#REF!"}}]
[null,5270,{"$f":"Podatnicy!#REF!","v":{"$error":"#REF!"}},{"$f":"Podatnicy!#REF!","v":{"$error":"#REF!"}},{"$f":"Podatnicy!#REF!","v":{"$error":"#REF!"}}]
[null,5278,{"$f":"Podatnicy!#REF!","v":{"$error":"#REF!"}},{"$f":"Podatnicy!#REF!","v":{"$error":"#REF!"}},{"$f":"Podatnicy!#REF!","v":{"$error":"#REF!"}}]
[null,5294,{"$f":"Podatnicy!#REF!","v":{"$error":"#REF!"}},{"$f":"Podatnicy!#REF!","v":{"$error":"#REF!"}},{"$f":"Podatnicy!#REF!","v":{"$error":"#REF!"}}]
[null,5297,{"$f":"Podatnicy!#REF!","v":{"$error":"#REF!"}},{"$f":"Podatnicy!#REF!","v":{"$error":"#REF!"}},{"$f":"Podatnicy!#REF!","v":{"$error":"#REF!"}}]
[null,5309,{"$f":"Podatnicy!#REF!","v":{"$error":"#REF!"}},{"$f":"Podatnicy!#REF!","v":{"$error":"#REF!"}},{"$f":"Podatnicy!#REF!","v":{"$error":"#REF!"}}]
[null,5315,{"$f":"Podatnicy!#REF!","v":{"$error":"#REF!"}},{"$f":"Podatnicy!#REF!","v":{"$error":"#REF!"}},{"$f":"Podatnicy!#REF!","v":{"$error":"#REF!"}}]
[null,5327,{"$f":"Podatnicy!#REF!","v":{"$error":"#REF!"}},{"$f":"Podatnicy!#REF!","v":{"$error":"#REF!"}},{"$f":"Podatnicy!#REF!","v":{"$error":"#REF!"}}]
[null,5339,{"$f":"Podatnicy!#REF!","v":{"$error":"#REF!"}},{"$f":"Podatnicy!#REF!","v":{"$error":"#REF!"}},{"$f":"Podatnicy!#REF!","v":{"$error":"#REF!"}}]
[null,5340,{"$f":"Podatnicy!#REF!","v":{"$error":"#REF!"}},{"$f":"Podatnicy!#REF!","v":{"$error":"#REF!"}},{"$f":"Podatnicy!#REF!","v":{"$error":"#REF!"}}]
[null,5348,{"$f":"Podatnicy!#REF!","v":{"$error":"#REF!"}},{"$f":"Podatnicy!#REF!","v":{"$error":"#REF!"}},{"$f":"Podatnicy!#REF!","v":{"$error":"#REF!"}}]
[null,5364,{"$f":"Podatnicy!#REF!","v":{"$error":"#REF!"}},{"$f":"Podatnicy!#REF!","v":{"$error":"#REF!"}},{"$f":"Podatnicy!#REF!","v":{"$error":"#REF!"}}]
[null,5367,{"$f":"Podatnicy!#REF!","v":{"$error":"#REF!"}},{"$f":"Podatnicy!#REF!","v":{"$error":"#REF!"}},{"$f":"Podatnicy!#REF!","v":{"$error":"#REF!"}}]
[null,5379,{"$f":"Podatnicy!#REF!","v":{"$error":"#REF!"}},{"$f":"Podatnicy!#REF!","v":{"$error":"#REF!"}},{"$f":"Podatnicy!#REF!","v":{"$error":"#REF!"}}]
[null,5385,{"$f":"Podatnicy!#REF!","v":{"$error":"#REF!"}},{"$f":"Podatnicy!#REF!","v":{"$error":"#REF!"}},{"$f":"Podatnicy!#REF!","v":{"$error":"#REF!"}}]
[null,5397,{"$f":"Podatnicy!#REF!","v":{"$error":"#REF!"}},{"$f":"Podatnicy!#REF!","v":{"$error":"#REF!"}},{"$f":"Podatnicy!#REF!","v":{"$error":"#REF!"}}]
[null,5409,{"$f":"Podatnicy!#REF!","v":{"$error":"#REF!"}},{"$f":"Podatnicy!#REF!","v":{"$error":"#REF!"}},{"$f":"Podatnicy!#REF!","v":{"$error":"#REF!"}}]
[null,5410,{"$f":"Podatnicy!#REF!","v":{"$error":"#REF!"}},{"$f":"Podatnicy!#REF!","v":{"$error":"#REF!"}},{"$f":"Podatnicy!#REF!","v":{"$error":"#REF!"}}]
[null,5418,{"$f":"Podatnicy!#REF!","v":{"$error":"#REF!"}},{"$f":"Podatnicy!#REF!","v":{"$error":"#REF!"}},{"$f":"Podatnicy!#REF!","v":{"$error":"#REF!"}}]
[null,5434,{"$f":"Podatnicy!#REF!","v":{"$error":"#REF!"}},{"$f":"Podatnicy!#REF!","v":{"$error":"#REF!"}},{"$f":"Podatnicy!#REF!","v":{"$error":"#REF!"}}]
[null,5437,{"$f":"Podatnicy!#REF!","v":{"$error":"#REF!"}},{"$f":"Podatnicy!#REF!","v":{"$error":"#REF!"}},{"$f":"Podatnicy!#REF!","v":{"$error":"#REF!"}}]
[null,5449,{"$f":"Podatnicy!#REF!","v":{"$error":"#REF!"}},{"$f":"Podatnicy!#REF!","v":{"$error":"#REF!"}},{"$f":"Podatnicy!#REF!","v":{"$error":"#REF!"}}]
[null,5455,{"$f":"Podatnicy!#REF!","v":{"$error":"#REF!"}},{"$f":"Podatnicy!#REF!","v":{"$error":"#REF!"}},{"$f":"Podatnicy!#REF!","v":{"$error":"#REF!"}}]
[null,5467,{"$f":"Podatnicy!#REF!","v":{"$error":"#REF!"}},{"$f":"Podatnicy!#REF!","v":{"$error":"#REF!"}},{"$f":"Podatnicy!#REF!","v":{"$error":"#REF!"}}]
[null,5474,{"$f":"Podatnicy!#REF!","v":{"$error":"#REF!"}},{"$f":"Podatnicy!#REF!","v":{"$error":"#REF!"}},{"$f":"Podatnicy!#REF!","v":{"$error":"#REF!"}}]
[null,5486,{"$f":"Podatnicy!#REF!","v":{"$error":"#REF!"}},{"$f":"Podatnicy!#REF!","v":{"$error":"#REF!"}},{"$f":"Podatnicy!#REF!","v":{"$error":"#REF!"}}]
[null,5490,{"$f":"Podatnicy!#REF!","v":{"$error":"#REF!"}},{"$f":"Podatnicy!#REF!","v":{"$error":"#REF!"}},{"$f":"Podatnicy!#REF!","v":{"$error":"#REF!"}}]
[null,5504,{"$f":"Podatnicy!#REF!","v":{"$error":"#REF!"}},{"$f":"Podatnicy!#REF!","v":{"$error":"#REF!"}},{"$f":"Podatnicy!#REF!","v":{"$error":"#REF!"}}]
[null,5507,{"$f":"Podatnicy!#REF!","v":{"$error":"#REF!"}},{"$f":"Podatnicy!#REF!","v":{"$error":"#REF!"}},{"$f":"Podatnicy!#REF!","v":{"$error":"#REF!"}}]
[null,5519,{"$f":"Podatnicy!#REF!","v":{"$error":"#REF!"}},{"$f":"Podatnicy!#REF!","v":{"$error":"#REF!"}},{"$f":"Podatnicy!#REF!","v":{"$error":"#REF!"}}]
[null,5529,{"$f":"Podatnicy!#REF!","v":{"$error":"#REF!"}},{"$f":"Podatnicy!#REF!","v":{"$error":"#REF!"}},{"$f":"Podatnicy!#REF!","v":{"$error":"#REF!"}}]
[null,5537,{"$f":"Podatnicy!#REF!","v":{"$error":"#REF!"}},{"$f":"Podatnicy!#REF!","v":{"$error":"#REF!"}},{"$f":"Podatnicy!#REF!","v":{"$error":"#REF!"}}]
[null,5544,{"$f":"Podatnicy!#REF!","v":{"$error":"#REF!"}},{"$f":"Podatnicy!#REF!","v":{"$error":"#REF!"}},{"$f":"Podatnicy!#REF!","v":{"$error":"#REF!"}}]
[null,5556,{"$f":"Podatnicy!#REF!","v":{"$error":"#REF!"}},{"$f":"Podatnicy!#REF!","v":{"$error":"#REF!"}},{"$f":"Podatnicy!#REF!","v":{"$error":"#REF!"}}]
[null,5560,{"$f":"Podatnicy!#REF!","v":{"$error":"#REF!"}},{"$f":"Podatnicy!#REF!","v":{"$error":"#REF!"}},{"$f":"Podatnicy!#REF!","v":{"$error":"#REF!"}}]
[null,5574,{"$f":"Podatnicy!#REF!","v":{"$error":"#REF!"}},{"$f":"Podatnicy!#REF!","v":{"$error":"#REF!"}},{"$f":"Podatnicy!#REF!","v":{"$error":"#REF!"}}]
[null,5577,{"$f":"Podatnicy!#REF!","v":{"$error":"#REF!"}},{"$f":"Podatnicy!#REF!","v":{"$error":"#REF!"}},{"$f":"Podatnicy!#REF!","v":{"$error":"#REF!"}}]
[null,5589,{"$f":"Podatnicy!#REF!","v":{"$error":"#REF!"}},{"$f":"Podatnicy!#REF!","v":{"$error":"#REF!"}},{"$f":"Podatnicy!#REF!","v":{"$error":"#REF!"}}]
[null,5599,{"$f":"Podatnicy!#REF!","v":{"$error":"#REF!"}},{"$f":"Podatnicy!#REF!","v":{"$error":"#REF!"}},{"$f":"Podatnicy!#REF!","v":{"$error":"#REF!"}}]
[null,5607,{"$f":"Podatnicy!#REF!","v":{"$error":"#REF!"}},{"$f":"Podatnicy!#REF!","v":{"$error":"#REF!"}},{"$f":"Podatnicy!#REF!","v":{"$error":"#REF!"}}]
[null,5614,{"$f":"Podatnicy!#REF!","v":{"$error":"#REF!"}},{"$f":"Podatnicy!#REF!","v":{"$error":"#REF!"}},{"$f":"Podatnicy!#REF!","v":{"$error":"#REF!"}}]
[null,5626,{"$f":"Podatnicy!#REF!","v":{"$error":"#REF!"}},{"$f":"Podatnicy!#REF!","v":{"$error":"#REF!"}},{"$f":"Podatnicy!#REF!","v":{"$error":"#REF!"}}]
[null,5630,{"$f":"Podatnicy!#REF!","v":{"$error":"#REF!"}},{"$f":"Podatnicy!#REF!","v":{"$error":"#REF!"}},{"$f":"Podatnicy!#REF!","v":{"$error":"#REF!"}}]
[null,5644,{"$f":"Podatnicy!#REF!","v":{"$error":"#REF!"}},{"$f":"Podatnicy!#REF!","v":{"$error":"#REF!"}},{"$f":"Podatnicy!#REF!","v":{"$error":"#REF!"}}]
[null,5647,{"$f":"Podatnicy!#REF!","v":{"$error":"#REF!"}},{"$f":"Podatnicy!#REF!","v":{"$error":"#REF!"}},{"$f":"Podatnicy!#REF!","v":{"$error":"#REF!"}}]
[null,5663,{"$f":"Podatnicy!#REF!","v":{"$error":"#REF!"}},{"$f":"Podatnicy!#REF!","v":{"$error":"#REF!"}},{"$f":"Podatnicy!#REF!","v":{"$error":"#REF!"}}]
[null,5669,{"$f":"Podatnicy!#REF!","v":{"$error":"#REF!"}},{"$f":"Podatnicy!#REF!","v":{"$error":"#REF!"}},{"$f":"Podatnicy!#REF!","v":{"$error":"#REF!"}}]
[null,5677,{"$f":"Podatnicy!#REF!","v":{"$error":"#REF!"}},{"$f":"Podatnicy!#REF!","v":{"$error":"#REF!"}},{"$f":"Podatnicy!#REF!","v":{"$error":"#REF!"}}]
[null,5684,{"$f":"Podatnicy!#REF!","v":{"$error":"#REF!"}},{"$f":"Podatnicy!#REF!","v":{"$error":"#REF!"}},{"$f":"Podatnicy!#REF!","v":{"$error":"#REF!"}}]
[null,5696,{"$f":"Podatnicy!#REF!","v":{"$error":"#REF!"}},{"$f":"Podatnicy!#REF!","v":{"$error":"#REF!"}},{"$f":"Podatnicy!#REF!","v":{"$error":"#REF!"}}]
[null,5700,{"$f":"Podatnicy!#REF!","v":{"$error":"#REF!"}},{"$f":"Podatnicy!#REF!","v":{"$error":"#REF!"}},{"$f":"Podatnicy!#REF!","v":{"$error":"#REF!"}}]
[null,5714,{"$f":"Podatnicy!#REF!","v":{"$error":"#REF!"}},{"$f":"Podatnicy!#REF!","v":{"$error":"#REF!"}},{"$f":"Podatnicy!#REF!","v":{"$error":"#REF!"}}]
[null,5717,{"$f":"Podatnicy!#REF!","v":{"$error":"#REF!"}},{"$f":"Podatnicy!#REF!","v":{"$error":"#REF!"}},{"$f":"Podatnicy!#REF!","v":{"$error":"#REF!"}}]
[null,5733,{"$f":"Podatnicy!#REF!","v":{"$error":"#REF!"}},{"$f":"Podatnicy!#REF!","v":{"$error":"#REF!"}},{"$f":"Podatnicy!#REF!","v":{"$error":"#REF!"}}]
[null,5739,{"$f":"Podatnicy!#REF!","v":{"$error":"#REF!"}},{"$f":"Podatnicy!#REF!","v":{"$error":"#REF!"}},{"$f":"Podatnicy!#REF!","v":{"$error":"#REF!"}}]
[null,5747,{"$f":"Podatnicy!#REF!","v":{"$error":"#REF!"}},{"$f":"Podatnicy!#REF!","v":{"$error":"#REF!"}},{"$f":"Podatnicy!#REF!","v":{"$error":"#REF!"}}]
[null,5754,{"$f":"Podatnicy!#REF!","v":{"$error":"#REF!"}},{"$f":"Podatnicy!#REF!","v":{"$error":"#REF!"}},{"$f":"Podatnicy!#REF!","v":{"$error":"#REF!"}}]
[null,5766,{"$f":"Podatnicy!#REF!","v":{"$error":"#REF!"}},{"$f":"Podatnicy!#REF!","v":{"$error":"#REF!"}},{"$f":"Podatnicy!#REF!","v":{"$error":"#REF!"}}]
[null,5770,{"$f":"Podatnicy!#REF!","v":{"$error":"#REF!"}},{"$f":"Podatnicy!#REF!","v":{"$error":"#REF!"}},{"$f":"Podatnicy!#REF!","v":{"$error":"#REF!"}}]
[null,5784,{"$f":"Podatnicy!#REF!","v":{"$error":"#REF!"}},{"$f":"Podatnicy!#REF!","v":{"$error":"#REF!"}},{"$f":"Podatnicy!#REF!","v":{"$error":"#REF!"}}]
[null,5787,{"$f":"Podatnicy!#REF!","v":{"$error":"#REF!"}},{"$f":"Podatnicy!#REF!","v":{"$error":"#REF!"}},{"$f":"Podatnicy!#REF!","v":{"$error":"#REF!"}}]
[null,5803,{"$f":"Podatnicy!#REF!","v":{"$error":"#REF!"}},{"$f":"Podatnicy!#REF!","v":{"$error":"#REF!"}},{"$f":"Podatnicy!#REF!","v":{"$error":"#REF!"}}]
[null,5806,{"$f":"Podatnicy!#REF!","v":{"$error":"#REF!"}},{"$f":"Podatnicy!#REF!","v":{"$error":"#REF!"}},{"$f":"Podatnicy!#REF!","v":{"$error":"#REF!"}}]
[null,5819,{"$f":"Podatnicy!#REF!","v":{"$error":"#REF!"}},{"$f":"Podatnicy!#REF!","v":{"$error":"#REF!"}},{"$f":"Podatnicy!#REF!","v":{"$error":"#REF!"}}]
[null,5824,{"$f":"Podatnicy!#REF!","v":{"$error":"#REF!"}},{"$f":"Podatnicy!#REF!","v":{"$error":"#REF!"}},{"$f":"Podatnicy!#REF!","v":{"$error":"#REF!"}}]
[null,5836,{"$f":"Podatnicy!#REF!","v":{"$error":"#REF!"}},{"$f":"Podatnicy!#REF!","v":{"$error":"#REF!"}},{"$f":"Podatnicy!#REF!","v":{"$error":"#REF!"}}]
[null,5843,{"$f":"Podatnicy!#REF!","v":{"$error":"#REF!"}},{"$f":"Podatnicy!#REF!","v":{"$error":"#REF!"}},{"$f":"Podatnicy!#REF!","v":{"$error":"#REF!"}}]
[null,5850,{"$f":"Podatnicy!#REF!","v":{"$error":"#REF!"}},{"$f":"Podatnicy!#REF!","v":{"$error":"#REF!"}},{"$f":"Podatnicy!#REF!","v":{"$error":"#REF!"}}]
[null,5857,{"$f":"Podatnicy!#REF!","v":{"$error":"#REF!"}},{"$f":"Podatnicy!#REF!","v":{"$error":"#REF!"}},{"$f":"Podatnicy!#REF!","v":{"$error":"#REF!"}}]
[null,5873,{"$f":"Podatnicy!#REF!","v":{"$error":"#REF!"}},{"$f":"Podatnicy!#REF!","v":{"$error":"#REF!"}},{"$f":"Podatnicy!#REF!","v":{"$error":"#REF!"}}]
[null,5876,{"$f":"Podatnicy!#REF!","v":{"$error":"#REF!"}},{"$f":"Podatnicy!#REF!","v":{"$error":"#REF!"}},{"$f":"Podatnicy!#REF!","v":{"$error":"#REF!"}}]
[null,5889,{"$f":"Podatnicy!#REF!","v":{"$error":"#REF!"}},{"$f":"Podatnicy!#REF!","v":{"$error":"#REF!"}},{"$f":"Podatnicy!#REF!","v":{"$error":"#REF!"}}]
[null,5894,{"$f":"Podatnicy!#REF!","v":{"$error":"#REF!"}},{"$f":"Podatnicy!#REF!","v":{"$error":"#REF!"}},{"$f":"Podatnicy!#REF!","v":{"$error":"#REF!"}}]
[null,5906,{"$f":"Podatnicy!#REF!","v":{"$error":"#REF!"}},{"$f":"Podatnicy!#REF!","v":{"$error":"#REF!"}},{"$f":"Podatnicy!#REF!","v":{"$error":"#REF!"}}]
[null,5913,{"$f":"Podatnicy!#REF!","v":{"$error":"#REF!"}},{"$f":"Podatnicy!#REF!","v":{"$error":"#REF!"}},{"$f":"Podatnicy!#REF!","v":{"$error":"#REF!"}}]
[null,5920,{"$f":"Podatnicy!#REF!","v":{"$error":"#REF!"}},{"$f":"Podatnicy!#REF!","v":{"$error":"#REF!"}},{"$f":"Podatnicy!#REF!","v":{"$error":"#REF!"}}]
[null,5927,{"$f":"Podatnicy!#REF!","v":{"$error":"#REF!"}},{"$f":"Podatnicy!#REF!","v":{"$error":"#REF!"}},{"$f":"Podatnicy!#REF!","v":{"$error":"#REF!"}}]
[null,5943,{"$f":"Podatnicy!#REF!","v":{"$error":"#REF!"}},{"$f":"Podatnicy!#REF!","v":{"$error":"#REF!"}},{"$f":"Podatnicy!#REF!","v":{"$error":"#REF!"}}]
[null,5946,{"$f":"Podatnicy!#REF!","v":{"$error":"#REF!"}},{"$f":"Podatnicy!#REF!","v":{"$error":"#REF!"}},{"$f":"Podatnicy!#REF!","v":{"$error":"#REF!"}}]
[null,5959,{"$f":"Podatnicy!#REF!","v":{"$error":"#REF!"}},{"$f":"Podatnicy!#REF!","v":{"$error":"#REF!"}},{"$f":"Podatnicy!#REF!","v":{"$error":"#REF!"}}]
[null,5964,{"$f":"Podatnicy!#REF!","v":{"$error":"#REF!"}},{"$f":"Podatnicy!#REF!","v":{"$error":"#REF!"}},{"$f":"Podatnicy!#REF!","v":{"$error":"#REF!"}}]
[null,5976,{"$f":"Podatnicy!#REF!","v":{"$error":"#REF!"}},{"$f":"Podatnicy!#REF!","v":{"$error":"#REF!"}},{"$f":"Podatnicy!#REF!","v":{"$error":"#REF!"}}]
[null,5983,{"$f":"Podatnicy!#REF!","v":{"$error":"#REF!"}},{"$f":"Podatnicy!#REF!","v":{"$error":"#REF!"}},{"$f":"Podatnicy!#REF!","v":{"$error":"#REF!"}}]
[null,5990,{"$f":"Podatnicy!#REF!","v":{"$error":"#REF!"}},{"$f":"Podatnicy!#REF!","v":{"$error":"#REF!"}},{"$f":"Podatnicy!#REF!","v":{"$error":"#REF!"}}]
[null,5997,{"$f":"Podatnicy!#REF!","v":{"$error":"#REF!"}},{"$f":"Podatnicy!#REF!","v":{"$error":"#REF!"}},{"$f":"Podatnicy!#REF!","v":{"$error":"#REF!"}}]
[null,6013,{"$f":"Podatnicy!#REF!","v":{"$error":"#REF!"}},{"$f":"Podatnicy!#REF!","v":{"$error":"#REF!"}},{"$f":"Podatnicy!#REF!","v":{"$error":"#REF!"}}]
[null,6016,{"$f":"Podatnicy!#REF!","v":{"$error":"#REF!"}},{"$f":"Podatnicy!#REF!","v":{"$error":"#REF!"}},{"$f":"Podatnicy!#REF!","v":{"$error":"#REF!"}}]
[null,6029,{"$f":"Podatnicy!#REF!","v":{"$error":"#REF!"}},{"$f":"Podatnicy!#REF!","v":{"$error":"#REF!"}},{"$f":"Podatnicy!#REF!","v":{"$error":"#REF!"}}]
[null,6034,{"$f":"Podatnicy!#REF!","v":{"$error":"#REF!"}},{"$f":"Podatnicy!#REF!","v":{"$error":"#REF!"}},{"$f":"Podatnicy!#REF!","v":{"$error":"#REF!"}}]
[null,6046,{"$f":"Podatnicy!#REF!","v":{"$error":"#REF!"}},{"$f":"Podatnicy!#REF!","v":{"$error":"#REF!"}},{"$f":"Podatnicy!#REF!","v":{"$error":"#REF!"}}]
[null,6053,{"$f":"Podatnicy!#REF!","v":{"$error":"#REF!"}},{"$f":"Podatnicy!#REF!","v":{"$error":"#REF!"}},{"$f":"Podatnicy!#REF!","v":{"$error":"#REF!"}}]
[null,6060,{"$f":"Podatnicy!#REF!","v":{"$error":"#REF!"}},{"$f":"Podatnicy!#REF!","v":{"$error":"#REF!"}},{"$f":"Podatnicy!#REF!","v":{"$error":"#REF!"}}]
[null,6067,{"$f":"Podatnicy!#REF!","v":{"$error":"#REF!"}},{"$f":"Podatnicy!#REF!","v":{"$error":"#REF!"}},{"$f":"Podatnicy!#REF!","v":{"$error":"#REF!"}}]
[null,6083,{"$f":"Podatnicy!#REF!","v":{"$error":"#REF!"}},{"$f":"Podatnicy!#REF!","v":{"$error":"#REF!"}},{"$f":"Podatnicy!#REF!","v":{"$error":"#REF!"}}]
[null,6086,{"$f":"Podatnicy!#REF!","v":{"$error":"#REF!"}},{"$f":"Podatnicy!#REF!","v":{"$error":"#REF!"}},{"$f":"Podatnicy!#REF!","v":{"$error":"#REF!"}}]
[null,6093,{"$f":"Podatnicy!#REF!","v":{"$error":"#REF!"}},{"$f":"Podatnicy!#REF!","v":{"$error":"#REF!"}},{"$f":"Podatnicy!#REF!","v":{"$error":"#REF!"}}]
[null,6109,{"$f":"Podatnicy!#REF!","v":{"$error":"#REF!"}},{"$f":"Podatnicy!#REF!","v":{"$error":"#REF!"}},{"$f":"Podatnicy!#REF!","v":{"$error":"#REF!"}}]
[null,6116,{"$f":"Podatnicy!#REF!","v":{"$error":"#REF!"}},{"$f":"Podatnicy!#REF!","v":{"$error":"#REF!"}},{"$f":"Podatnicy!#REF!","v":{"$error":"#REF!"}}]
[null,6123,{"$f":"Podatnicy!#REF!","v":{"$error":"#REF!"}},{"$f":"Podatnicy!#REF!","v":{"$error":"#REF!"}},{"$f":"Podatnicy!#REF!","v":{"$error":"#REF!"}}]
[null,6135,{"$f":"Podatnicy!#REF!","v":{"$error":"#REF!"}},{"$f":"Podatnicy!#REF!","v":{"$error":"#REF!"}},{"$f":"Podatnicy!#REF!","v":{"$error":"#REF!"}}]
[null,6140,{"$f":"Podatnicy!#REF!","v":{"$error":"#REF!"}},{"$f":"Podatnicy!#REF!","v":{"$error":"#REF!"}},{"$f":"Podatnicy!#REF!","v":{"$error":"#REF!"}}]
[null,6153,{"$f":"Podatnicy!#REF!","v":{"$error":"#REF!"}},{"$f":"Podatnicy!#REF!","v":{"$error":"#REF!"}},{"$f":"Podatnicy!#REF!","v":{"$error":"#REF!"}}]
[null,6156,{"$f":"Podatnicy!#REF!","v":{"$error":"#REF!"}},{"$f":"Podatnicy!#REF!","v":{"$error":"#REF!"}},{"$f":"Podatnicy!#REF!","v":{"$error":"#REF!"}}]
[null,6163,{"$f":"Podatnicy!#REF!","v":{"$error":"#REF!"}},{"$f":"Podatnicy!#REF!","v":{"$error":"#REF!"}},{"$f":"Podatnicy!#REF!","v":{"$error":"#REF!"}}]
[null,6179,{"$f":"Podatnicy!#REF!","v":{"$error":"#REF!"}},{"$f":"Podatnicy!#REF!","v":{"$error":"#REF!"}},{"$f":"Podatnicy!#REF!","v":{"$error":"#REF!"}}]
[null,6186,{"$f":"Podatnicy!#REF!","v":{"$error":"#REF!"}},{"$f":"Podatnicy!#REF!","v":{"$error":"#REF!"}},{"$f":"Podatnicy!#REF!","v":{"$error":"#REF!"}}]
[null,6193,{"$f":"Podatnicy!#REF!","v":{"$error":"#REF!"}},{"$f":"Podatnicy!#REF!","v":{"$error":"#REF!"}},{"$f":"Podatnicy!#REF!","v":{"$error":"#REF!"}}]
[null,6205,{"$f":"Podatnicy!#REF!","v":{"$error":"#REF!"}},{"$f":"Podatnicy!#REF!","v":{"$error":"#REF!"}},{"$f":"Podatnicy!#REF!","v":{"$error":"#REF!"}}]
[null,6210,{"$f":"Podatnicy!#REF!","v":{"$error":"#REF!"}},{"$f":"Podatnicy!#REF!","v":{"$error":"#REF!"}},{"$f":"Podatnicy!#REF!","v":{"$error":"#REF!"}}]
[null,6223,{"$f":"Podatnicy!#REF!","v":{"$error":"#REF!"}},{"$f":"Podatnicy!#REF!","v":{"$error":"#REF!"}},{"$f":"Podatnicy!#REF!","v":{"$error":"#REF!"}}]
[null,6226,{"$f":"Podatnicy!#REF!","v":{"$error":"#REF!"}},{"$f":"Podatnicy!#REF!","v":{"$error":"#REF!"}},{"$f":"Podatnicy!#REF!","v":{"$error":"#REF!"}}]
[null,6233,{"$f":"Podatnicy!#REF!","v":{"$error":"#REF!"}},{"$f":"Podatnicy!#REF!","v":{"$error":"#REF!"}},{"$f":"Podatnicy!#REF!","v":{"$error":"#REF!"}}]
[null,6249,{"$f":"Podatnicy!#REF!","v":{"$error":"#REF!"}},{"$f":"Podatnicy!#REF!","v":{"$error":"#REF!"}},{"$f":"Podatnicy!#REF!","v":{"$error":"#REF!"}}]
[null,6251,{"$f":"Podatnicy!#REF!","v":{"$error":"#REF!"}},{"$f":"Podatnicy!#REF!","v":{"$error":"#REF!"}},{"$f":"Podatnicy!#REF!","v":{"$error":"#REF!"}}]
[null,6263,{"$f":"Podatnicy!#REF!","v":{"$error":"#REF!"}},{"$f":"Podatnicy!#REF!","v":{"$error":"#REF!"}},{"$f":"Podatnicy!#REF!","v":{"$error":"#REF!"}}]
[null,6275,{"$f":"Podatnicy!#REF!","v":{"$error":"#REF!"}},{"$f":"Podatnicy!#REF!","v":{"$error":"#REF!"}},{"$f":"Podatnicy!#REF!","v":{"$error":"#REF!"}}]
[null,6280,{"$f":"Podatnicy!#REF!","v":{"$error":"#REF!"}},{"$f":"Podatnicy!#REF!","v":{"$error":"#REF!"}},{"$f":"Podatnicy!#REF!","v":{"$error":"#REF!"}}]
[null,6293,{"$f":"Podatnicy!#REF!","v":{"$error":"#REF!"}},{"$f":"Podatnicy!#REF!","v":{"$error":"#REF!"}},{"$f":"Podatnicy!#REF!","v":{"$error":"#REF!"}}]
[null,6296,{"$f":"Podatnicy!#REF!","v":{"$error":"#REF!"}},{"$f":"Podatnicy!#REF!","v":{"$error":"#REF!"}},{"$f":"Podatnicy!#REF!","v":{"$error":"#REF!"}}]
[null,6303,{"$f":"Podatnicy!#REF!","v":{"$error":"#REF!"}},{"$f":"Podatnicy!#REF!","v":{"$error":"#REF!"}},{"$f":"Podatnicy!#REF!","v":{"$error":"#REF!"}}]
[null,6319,{"$f":"Podatnicy!#REF!","v":{"$error":"#REF!"}},{"$f":"Podatnicy!#REF!","v":{"$error":"#REF!"}},{"$f":"Podatnicy!#REF!","v":{"$error":"#REF!"}}]
[null,6321,{"$f":"Podatnicy!#REF!","v":{"$error":"#REF!"}},{"$f":"Podatnicy!#REF!","v":{"$error":"#REF!"}},{"$f":"Podatnicy!#REF!","v":{"$error":"#REF!"}}]
[null,6333,{"$f":"Podatnicy!#REF!","v":{"$error":"#REF!"}},{"$f":"Podatnicy!#REF!","v":{"$error":"#REF!"}},{"$f":"Podatnicy!#REF!","v":{"$error":"#REF!"}}]
[null,6345,{"$f":"Podatnicy!#REF!","v":{"$error":"#REF!"}},{"$f":"Podatnicy!#REF!","v":{"$error":"#REF!"}},{"$f":"Podatnicy!#REF!","v":{"$error":"#REF!"}}]
[null,6350,{"$f":"Podatnicy!#REF!","v":{"$error":"#REF!"}},{"$f":"Podatnicy!#REF!","v":{"$error":"#REF!"}},{"$f":"Podatnicy!#REF!","v":{"$error":"#REF!"}}]
[null,6363,{"$f":"Podatnicy!#REF!","v":{"$error":"#REF!"}},{"$f":"Podatnicy!#REF!","v":{"$error":"#REF!"}},{"$f":"Podatnicy!#REF!","v":{"$error":"#REF!"}}]
[null,6366,{"$f":"Podatnicy!#REF!","v":{"$error":"#REF!"}},{"$f":"Podatnicy!#REF!","v":{"$error":"#REF!"}},{"$f":"Podatnicy!#REF!","v":{"$error":"#REF!"}}]
[null,6373,{"$f":"Podatnicy!#REF!","v":{"$error":"#REF!"}},{"$f":"Podatnicy!#REF!","v":{"$error":"#REF!"}},{"$f":"Podatnicy!#REF!","v":{"$error":"#REF!"}}]
[null,6385,{"$f":"Podatnicy!#REF!","v":{"$error":"#REF!"}},{"$f":"Podatnicy!#REF!","v":{"$error":"#REF!"}},{"$f":"Podatnicy!#REF!","v":{"$error":"#REF!"}}]
[null,6391,{"$f":"Podatnicy!#REF!","v":{"$error":"#REF!"}},{"$f":"Podatnicy!#REF!","v":{"$error":"#REF!"}},{"$f":"Podatnicy!#REF!","v":{"$error":"#REF!"}}]
[null,6403,{"$f":"Podatnicy!#REF!","v":{"$error":"#REF!"}},{"$f":"Podatnicy!#REF!","v":{"$error":"#REF!"}},{"$f":"Podatnicy!#REF!","v":{"$error":"#REF!"}}]
[null,6415,{"$f":"Podatnicy!#REF!","v":{"$error":"#REF!"}},{"$f":"Podatnicy!#REF!","v":{"$error":"#REF!"}},{"$f":"Podatnicy!#REF!","v":{"$error":"#REF!"}}]
[null,6422,{"$f":"Podatnicy!#REF!","v":{"$error":"#REF!"}},{"$f":"Podatnicy!#REF!","v":{"$error":"#REF!"}},{"$f":"Podatnicy!#REF!","v":{"$error":"#REF!"}}]
[null,6430,{"$f":"Podatnicy!#REF!","v":{"$error":"#REF!"}},{"$f":"Podatnicy!#REF!","v":{"$error":"#REF!"}},{"$f":"Podatnicy!#REF!","v":{"$error":"#REF!"}}]
[null,6440,{"$f":"Podatnicy!#REF!","v":{"$error":"#REF!"}},{"$f":"Podatnicy!#REF!","v":{"$error":"#REF!"}},{"$f":"Podatnicy!#REF!","v":{"$error":"#REF!"}}]
[null,6443,{"$f":"Podatnicy!#REF!","v":{"$error":"#REF!"}},{"$f":"Podatnicy!#REF!","v":{"$error":"#REF!"}},{"$f":"Podatnicy!#REF!","v":{"$error":"#REF!"}}]
[null,6455,{"$f":"Podatnicy!#REF!","v":{"$error":"#REF!"}},{"$f":"Podatnicy!#REF!","v":{"$error":"#REF!"}},{"$f":"Podatnicy!#REF!","v":{"$error":"#REF!"}}]
[null,6461,{"$f":"Podatnicy!#REF!","v":{"$error":"#REF!"}},{"$f":"Podatnicy!#REF!","v":{"$error":"#REF!"}},{"$f":"Podatnicy!#REF!","v":{"$error":"#REF!"}}]
[null,6473,{"$f":"Podatnicy!#REF!","v":{"$error":"#REF!"}},{"$f":"Podatnicy!#REF!","v":{"$error":"#REF!"}},{"$f":"Podatnicy!#REF!","v":{"$error":"#REF!"}}]
[null,6485,{"$f":"Podatnicy!#REF!","v":{"$error":"#REF!"}},{"$f":"Podatnicy!#REF!","v":{"$error":"#REF!"}},{"$f":"Podatnicy!#REF!","v":{"$error":"#REF!"}}]
[null,6492,{"$f":"Podatnicy!#REF!","v":{"$error":"#REF!"}},{"$f":"Podatnicy!#REF!","v":{"$error":"#REF!"}},{"$f":"Podatnicy!#REF!","v":{"$error":"#REF!"}}]
[null,6500,{"$f":"Podatnicy!#REF!","v":{"$error":"#REF!"}},{"$f":"Podatnicy!#REF!","v":{"$error":"#REF!"}},{"$f":"Podatnicy!#REF!","v":{"$error":"#REF!"}}]
[null,6510,{"$f":"Podatnicy!#REF!","v":{"$error":"#REF!"}},{"$f":"Podatnicy!#REF!","v":{"$error":"#REF!"}},{"$f":"Podatnicy!#REF!","v":{"$error":"#REF!"}}]
[null,6513,{"$f":"Podatnicy!#REF!","v":{"$error":"#REF!"}},{"$f":"Podatnicy!#REF!","v":{"$error":"#REF!"}},{"$f":"Podatnicy!#REF!","v":{"$error":"#REF!"}}]
[null,6525,{"$f":"Podatnicy!#REF!","v":{"$error":"#REF!"}},{"$f":"Podatnicy!#REF!","v":{"$error":"#REF!"}},{"$f":"Podatnicy!#REF!","v":{"$error":"#REF!"}}]
[null,6531,{"$f":"Podatnicy!#REF!","v":{"$error":"#REF!"}},{"$f":"Podatnicy!#REF!","v":{"$error":"#REF!"}},{"$f":"Podatnicy!#REF!","v":{"$error":"#REF!"}}]
[null,6543,{"$f":"Podatnicy!#REF!","v":{"$error":"#REF!"}},{"$f":"Podatnicy!#REF!","v":{"$error":"#REF!"}},{"$f":"Podatnicy!#REF!","v":{"$error":"#REF!"}}]
[null,6550,{"$f":"Podatnicy!#REF!","v":{"$error":"#REF!"}},{"$f":"Podatnicy!#REF!","v":{"$error":"#REF!"}},{"$f":"Podatnicy!#REF!","v":{"$error":"#REF!"}}]
[null,6562,{"$f":"Podatnicy!#REF!","v":{"$error":"#REF!"}},{"$f":"Podatnicy!#REF!","v":{"$error":"#REF!"}},{"$f":"Podatnicy!#REF!","v":{"$error":"#REF!"}}]
[null,6570,{"$f":"Podatnicy!#REF!","v":{"$error":"#REF!"}},{"$f":"Podatnicy!#REF!","v":{"$error":"#REF!"}},{"$f":"Podatnicy!#REF!","v":{"$error":"#REF!"}}]
[null,6580,{"$f":"Podatnicy!#REF!","v":{"$error":"#REF!"}},{"$f":"Podatnicy!#REF!","v":{"$error":"#REF!"}},{"$f":"Podatnicy!#REF!","v":{"$error":"#REF!"}}]
[null,6583,{"$f":"Podatnicy!#REF!","v":{"$error":"#REF!"}},{"$f":"Podatnicy!#REF!","v":{"$error":"#REF!"}},{"$f":"Podatnicy!#REF!","v":{"$error":"#REF!"}}]
[null,6595,{"$f":"Podatnicy!#REF!","v":{"$error":"#REF!"}},{"$f":"Podatnicy!#REF!","v":{"$error":"#REF!"}},{"$f":"Podatnicy!#REF!","v":{"$error":"#REF!"}}]
[null,6601,{"$f":"Podatnicy!#REF!","v":{"$error":"#REF!"}},{"$f":"Podatnicy!#REF!","v":{"$error":"#REF!"}},{"$f":"Podatnicy!#REF!","v":{"$error":"#REF!"}}]
[null,6613,{"$f":"Podatnicy!#REF!","v":{"$error":"#REF!"}},{"$f":"Podatnicy!#REF!","v":{"$error":"#REF!"}},{"$f":"Podatnicy!#REF!","v":{"$error":"#REF!"}}]
[null,6620,{"$f":"Podatnicy!#REF!","v":{"$error":"#REF!"}},{"$f":"Podatnicy!#REF!","v":{"$error":"#REF!"}},{"$f":"Podatnicy!#REF!","v":{"$error":"#REF!"}}]
[null,6632,{"$f":"Podatnicy!#REF!","v":{"$error":"#REF!"}},{"$f":"Podatnicy!#REF!","v":{"$error":"#REF!"}},{"$f":"Podatnicy!#REF!","v":{"$error":"#REF!"}}]
[null,6640,{"$f":"Podatnicy!#REF!","v":{"$error":"#REF!"}},{"$f":"Podatnicy!#REF!","v":{"$error":"#REF!"}},{"$f":"Podatnicy!#REF!","v":{"$error":"#REF!"}}]
[null,6650,{"$f":"Podatnicy!#REF!","v":{"$error":"#REF!"}},{"$f":"Podatnicy!#REF!","v":{"$error":"#REF!"}},{"$f":"Podatnicy!#REF!","v":{"$error":"#REF!"}}]
[null,6653,{"$f":"Podatnicy!#REF!","v":{"$error":"#REF!"}},{"$f":"Podatnicy!#REF!","v":{"$error":"#REF!"}},{"$f":"Podatnicy!#REF!","v":{"$error":"#REF!"}}]
[null,6665,{"$f":"Podatnicy!#REF!","v":{"$error":"#REF!"}},{"$f":"Podatnicy!#REF!","v":{"$error":"#REF!"}},{"$f":"Podatnicy!#REF!","v":{"$error":"#REF!"}}]
[null,6672,{"$f":"Podatnicy!#REF!","v":{"$error":"#REF!"}},{"$f":"Podatnicy!#REF!","v":{"$error":"#REF!"}},{"$f":"Podatnicy!#REF!","v":{"$error":"#REF!"}}]
[null,6681,{"$f":"Podatnicy!#REF!","v":{"$error":"#REF!"}},{"$f":"Podatnicy!#REF!","v":{"$error":"#REF!"}},{"$f":"Podatnicy!#REF!","v":{"$error":"#REF!"}}]
[null,6690,{"$f":"Podatnicy!#REF!","v":{"$error":"#REF!"}},{"$f":"Podatnicy!#REF!","v":{"$error":"#REF!"}},{"$f":"Podatnicy!#REF!","v":{"$error":"#REF!"}}]
[null,6702,{"$f":"Podatnicy!#REF!","v":{"$error":"#REF!"}},{"$f":"Podatnicy!#REF!","v":{"$error":"#REF!"}},{"$f":"Podatnicy!#REF!","v":{"$error":"#REF!"}}]
[null,6714,{"$f":"Podatnicy!#REF!","v":{"$error":"#REF!"}},{"$f":"Podatnicy!#REF!","v":{"$error":"#REF!"}},{"$f":"Podatnicy!#REF!","v":{"$error":"#REF!"}}]
[null,6720,{"$f":"Podatnicy!#REF!","v":{"$error":"#REF!"}},{"$f":"Podatnicy!#REF!","v":{"$error":"#REF!"}},{"$f":"Podatnicy!#REF!","v":{"$error":"#REF!"}}]
[null,6723,{"$f":"Podatnicy!#REF!","v":{"$error":"#REF!"}},{"$f":"Podatnicy!#REF!","v":{"$error":"#REF!"}},{"$f":"Podatnicy!#REF!","v":{"$error":"#REF!"}}]
[null,6739,{"$f":"Podatnicy!#REF!","v":{"$error":"#REF!"}},{"$f":"Podatnicy!#REF!","v":{"$error":"#REF!"}},{"$f":"Podatnicy!#REF!","v":{"$error":"#REF!"}}]
[null,6742,{"$f":"Podatnicy!#REF!","v":{"$error":"#REF!"}},{"$f":"Podatnicy!#REF!","v":{"$error":"#REF!"}},{"$f":"Podatnicy!#REF!","v":{"$error":"#REF!"}}]
[null,6751,{"$f":"Podatnicy!#REF!","v":{"$error":"#REF!"}},{"$f":"Podatnicy!#REF!","v":{"$error":"#REF!"}},{"$f":"Podatnicy!#REF!","v":{"$error":"#REF!"}}]
[null,6760,{"$f":"Podatnicy!#REF!","v":{"$error":"#REF!"}},{"$f":"Podatnicy!#REF!","v":{"$error":"#REF!"}},{"$f":"Podatnicy!#REF!","v":{"$error":"#REF!"}}]
[null,6772,{"$f":"Podatnicy!#REF!","v":{"$error":"#REF!"}},{"$f":"Podatnicy!#REF!","v":{"$error":"#REF!"}},{"$f":"Podatnicy!#REF!","v":{"$error":"#REF!"}}]
[null,6784,{"$f":"Podatnicy!#REF!","v":{"$error":"#REF!"}},{"$f":"Podatnicy!#REF!","v":{"$error":"#REF!"}},{"$f":"Podatnicy!#REF!","v":{"$error":"#REF!"}}]
[null,6790,{"$f":"Podatnicy!#REF!","v":{"$error":"#REF!"}},{"$f":"Podatnicy!#REF!","v":{"$error":"#REF!"}},{"$f":"Podatnicy!#REF!","v":{"$error":"#REF!"}}]
[null,6793,{"$f":"Podatnicy!#REF!","v":{"$error":"#REF!"}},{"$f":"Podatnicy!#REF!","v":{"$error":"#REF!"}},{"$f":"Podatnicy!#REF!","v":{"$error":"#REF!"}}]
[null,6809,{"$f":"Podatnicy!#REF!","v":{"$error":"#REF!"}},{"$f":"Podatnicy!#REF!","v":{"$error":"#REF!"}},{"$f":"Podatnicy!#REF!","v":{"$error":"#REF!"}}]
[null,6812,{"$f":"Podatnicy!#REF!","v":{"$error":"#REF!"}},{"$f":"Podatnicy!#REF!","v":{"$error":"#REF!"}},{"$f":"Podatnicy!#REF!","v":{"$error":"#REF!"}}]
[null,6821,{"$f":"Podatnicy!#REF!","v":{"$error":"#REF!"}},{"$f":"Podatnicy!#REF!","v":{"$error":"#REF!"}},{"$f":"Podatnicy!#REF!","v":{"$error":"#REF!"}}]
[null,6830,{"$f":"Podatnicy!#REF!","v":{"$error":"#REF!"}},{"$f":"Podatnicy!#REF!","v":{"$error":"#REF!"}},{"$f":"Podatnicy!#REF!","v":{"$error":"#REF!"}}]
[null,6842,{"$f":"Podatnicy!#REF!","v":{"$error":"#REF!"}},{"$f":"Podatnicy!#REF!","v":{"$error":"#REF!"}},{"$f":"Podatnicy!#REF!","v":{"$error":"#REF!"}}]
[null,6854,{"$f":"Podatnicy!#REF!","v":{"$error":"#REF!"}},{"$f":"Podatnicy!#REF!","v":{"$error":"#REF!"}},{"$f":"Podatnicy!#REF!","v":{"$error":"#REF!"}}]
[null,6860,{"$f":"Podatnicy!#REF!","v":{"$error":"#REF!"}},{"$f":"Podatnicy!#REF!","v":{"$error":"#REF!"}},{"$f":"Podatnicy!#REF!","v":{"$error":"#REF!"}}]
[null,6863,{"$f":"Podatnicy!#REF!","v":{"$error":"#REF!"}},{"$f":"Podatnicy!#REF!","v":{"$error":"#REF!"}},{"$f":"Podatnicy!#REF!","v":{"$error":"#REF!"}}]
[null,6879,{"$f":"Podatnicy!#REF!","v":{"$error":"#REF!"}},{"$f":"Podatnicy!#REF!","v":{"$error":"#REF!"}},{"$f":"Podatnicy!#REF!","v":{"$error":"#REF!"}}]
[null,6882,{"$f":"Podatnicy!#REF!","v":{"$error":"#REF!"}},{"$f":"Podatnicy!#REF!","v":{"$error":"#REF!"}},{"$f":"Podatnicy!#REF!","v":{"$error":"#REF!"}}]
[null,6891,{"$f":"Podatnicy!#REF!","v":{"$error":"#REF!"}},{"$f":"Podatnicy!#REF!","v":{"$error":"#REF!"}},{"$f":"Podatnicy!#REF!","v":{"$error":"#REF!"}}]
[null,6900,{"$f":"Podatnicy!#REF!","v":{"$error":"#REF!"}},{"$f":"Podatnicy!#REF!","v":{"$error":"#REF!"}},{"$f":"Podatnicy!#REF!","v":{"$error":"#REF!"}}]
[null,6912,{"$f":"Podatnicy!#REF!","v":{"$error":"#REF!"}},{"$f":"Podatnicy!#REF!","v":{"$error":"#REF!"}},{"$f":"Podatnicy!#REF!","v":{"$error":"#REF!"}}]
[null,6919,{"$f":"Podatnicy!#REF!","v":{"$error":"#REF!"}},{"$f":"Podatnicy!#REF!","v":{"$error":"#REF!"}},{"$f":"Podatnicy!#REF!","v":{"$error":"#REF!"}}]
[null,6930,{"$f":"Podatnicy!#REF!","v":{"$error":"#REF!"}},{"$f":"Podatnicy!#REF!","v":{"$error":"#REF!"}},{"$f":"Podatnicy!#REF!","v":{"$error":"#REF!"}}]
[null,6933,{"$f":"Podatnicy!#REF!","v":{"$error":"#REF!"}},{"$f":"Podatnicy!#REF!","v":{"$error":"#REF!"}},{"$f":"Podatnicy!#REF!","v":{"$error":"#REF!"}}]
[null,6949,{"$f":"Podatnicy!#REF!","v":{"$error":"#REF!"}},{"$f":"Podatnicy!#REF!","v":{"$error":"#REF!"}},{"$f":"Podatnicy!#REF!","v":{"$error":"#REF!"}}]
[null,6952,{"$f":"Podatnicy!#REF!","v":{"$error":"#REF!"}},{"$f":"Podatnicy!#REF!","v":{"$error":"#REF!"}},{"$f":"Podatnicy!#REF!","v":{"$error":"#REF!"}}]
[null,6964,{"$f":"Podatnicy!#REF!","v":{"$error":"#REF!"}},{"$f":"Podatnicy!#REF!","v":{"$error":"#REF!"}},{"$f":"Podatnicy!#REF!","v":{"$error":"#REF!"}}]
[null,6971,{"$f":"Podatnicy!#REF!","v":{"$error":"#REF!"}},{"$f":"Podatnicy!#REF!","v":{"$error":"#REF!"}},{"$f":"Podatnicy!#REF!","v":{"$error":"#REF!"}}]
[null,6982,{"$f":"Podatnicy!#REF!","v":{"$error":"#REF!"}},{"$f":"Podatnicy!#REF!","v":{"$error":"#REF!"}},{"$f":"Podatnicy!#REF!","v":{"$error":"#REF!"}}]
[null,6989,{"$f":"Podatnicy!#REF!","v":{"$error":"#REF!"}},{"$f":"Podatnicy!#REF!","v":{"$error":"#REF!"}},{"$f":"Podatnicy!#REF!","v":{"$error":"#REF!"}}]
[null,7001,{"$f":"Podatnicy!#REF!","v":{"$error":"#REF!"}},{"$f":"Podatnicy!#REF!","v":{"$error":"#REF!"}},{"$f":"Podatnicy!#REF!","v":{"$error":"#REF!"}}]
[null,7010,{"$f":"Podatnicy!#REF!","v":{"$error":"#REF!"}},{"$f":"Podatnicy!#REF!","v":{"$error":"#REF!"}},{"$f":"Podatnicy!#REF!","v":{"$error":"#REF!"}}]
[null,7019,{"$f":"Podatnicy!#REF!","v":{"$error":"#REF!"}},{"$f":"Podatnicy!#REF!","v":{"$error":"#REF!"}},{"$f":"Podatnicy!#REF!","v":{"$error":"#REF!"}}]
[null,7022,{"$f":"Podatnicy!#REF!","v":{"$error":"#REF!"}},{"$f":"Podatnicy!#REF!","v":{"$error":"#REF!"}},{"$f":"Podatnicy!#REF!","v":{"$error":"#REF!"}}]
[null,7038,{"$f":"Podatnicy!#REF!","v":{"$error":"#REF!"}},{"$f":"Podatnicy!#REF!","v":{"$error":"#REF!"}},{"$f":"Podatnicy!#REF!","v":{"$error":"#REF!"}}]
[null,7041,{"$f":"Podatnicy!#REF!","v":{"$error":"#REF!"}},{"$f":"Podatnicy!#REF!","v":{"$error":"#REF!"}},{"$f":"Podatnicy!#REF!","v":{"$error":"#REF!"}}]
[null,7052,{"$f":"Podatnicy!#REF!","v":{"$error":"#REF!"}},{"$f":"Podatnicy!#REF!","v":{"$error":"#REF!"}},{"$f":"Podatnicy!#REF!","v":{"$error":"#REF!"}}]
[null,7059,{"$f":"Podatnicy!#REF!","v":{"$error":"#REF!"}},{"$f":"Podatnicy!#REF!","v":{"$error":"#REF!"}},{"$f":"Podatnicy!#REF!","v":{"$error":"#REF!"}}]
[null,7071,{"$f":"Podatnicy!#REF!","v":{"$error":"#REF!"}},{"$f":"Podatnicy!#REF!","v":{"$error":"#REF!"}},{"$f":"Podatnicy!#REF!","v":{"$error":"#REF!"}}]
[null,7080,{"$f":"Podatnicy!#REF!","v":{"$error":"#REF!"}},{"$f":"Podatnicy!#REF!","v":{"$error":"#REF!"}},{"$f":"Podatnicy!#REF!","v":{"$error":"#REF!"}}]
[null,7089,{"$f":"Podatnicy!#REF!","v":{"$error":"#REF!"}},{"$f":"Podatnicy!#REF!","v":{"$error":"#REF!"}},{"$f":"Podatnicy!#REF!","v":{"$error":"#REF!"}}]
[null,7092,{"$f":"Podatnicy!#REF!","v":{"$error":"#REF!"}},{"$f":"Podatnicy!#REF!","v":{"$error":"#REF!"}},{"$f":"Podatnicy!#REF!","v":{"$error":"#REF!"}}]
[null,7108,{"$f":"Podatnicy!#REF!","v":{"$error":"#REF!"}},{"$f":"Podatnicy!#REF!","v":{"$error":"#REF!"}},{"$f":"Podatnicy!#REF!","v":{"$error":"#REF!"}}]
[null,7111,{"$f":"Podatnicy!#REF!","v":{"$error":"#REF!"}},{"$f":"Podatnicy!#REF!","v":{"$error":"#REF!"}},{"$f":"Podatnicy!#REF!","v":{"$error":"#REF!"}}]
[null,7122,{"$f":"Podatnicy!#REF!","v":{"$error":"#REF!"}},{"$f":"Podatnicy!#REF!","v":{"$error":"#REF!"}},{"$f":"Podatnicy!#REF!","v":{"$error":"#REF!"}}]
[null,7129,{"$f":"Podatnicy!#REF!","v":{"$error":"#REF!"}},{"$f":"Podatnicy!#REF!","v":{"$error":"#REF!"}},{"$f":"Podatnicy!#REF!","v":{"$error":"#REF!"}}]
[null,7141,{"$f":"Podatnicy!#REF!","v":{"$error":"#REF!"}},{"$f":"Podatnicy!#REF!","v":{"$error":"#REF!"}},{"$f":"Podatnicy!#REF!","v":{"$error":"#REF!"}}]
[null,7150,{"$f":"Podatnicy!#REF!","v":{"$error":"#REF!"}},{"$f":"Podatnicy!#REF!","v":{"$error":"#REF!"}},{"$f":"Podatnicy!#REF!","v":{"$error":"#REF!"}}]
[null,7159,{"$f":"Podatnicy!#REF!","v":{"$error":"#REF!"}},{"$f":"Podatnicy!#REF!","v":{"$error":"#REF!"}},{"$f":"Podatnicy!#REF!","v":{"$error":"#REF!"}}]
[null,7162,{"$f":"Podatnicy!#REF!","v":{"$error":"#REF!"}},{"$f":"Podatnicy!#REF!","v":{"$error":"#REF!"}},{"$f":"Podatnicy!#REF!","v":{"$error":"#REF!"}}]
[null,7178,{"$f":"Podatnicy!#REF!","v":{"$error":"#REF!"}},{"$f":"Podatnicy!#REF!","v":{"$error":"#REF!"}},{"$f":"Podatnicy!#REF!","v":{"$error":"#REF!"}}]
[null,7181,{"$f":"Podatnicy!#REF!","v":{"$error":"#REF!"}},{"$f":"Podatnicy!#REF!","v":{"$error":"#REF!"}},{"$f":"Podatnicy!#REF!","v":{"$error":"#REF!"}}]
[null,7192,{"$f":"Podatnicy!#REF!","v":{"$error":"#REF!"}},{"$f":"Podatnicy!#REF!","v":{"$error":"#REF!"}},{"$f":"Podatnicy!#REF!","v":{"$error":"#REF!"}}]
[null,7199,{"$f":"Podatnicy!#REF!","v":{"$error":"#REF!"}},{"$f":"Podatnicy!#REF!","v":{"$error":"#REF!"}},{"$f":"Podatnicy!#REF!","v":{"$error":"#REF!"}}]
[null,7211,{"$f":"Podatnicy!#REF!","v":{"$error":"#REF!"}},{"$f":"Podatnicy!#REF!","v":{"$error":"#REF!"}},{"$f":"Podatnicy!#REF!","v":{"$error":"#REF!"}}]
[null,7220,{"$f":"Podatnicy!#REF!","v":{"$error":"#REF!"}},{"$f":"Podatnicy!#REF!","v":{"$error":"#REF!"}},{"$f":"Podatnicy!#REF!","v":{"$error":"#REF!"}}]
[null,7229,{"$f":"Podatnicy!#REF!","v":{"$error":"#REF!"}},{"$f":"Podatnicy!#REF!","v":{"$error":"#REF!"}},{"$f":"Podatnicy!#REF!","v":{"$error":"#REF!"}}]
[null,7232,{"$f":"Podatnicy!#REF!","v":{"$error":"#REF!"}},{"$f":"Podatnicy!#REF!","v":{"$error":"#REF!"}},{"$f":"Podatnicy!#REF!","v":{"$error":"#REF!"}}]
[null,7248,{"$f":"Podatnicy!#REF!","v":{"$error":"#REF!"}},{"$f":"Podatnicy!#REF!","v":{"$error":"#REF!"}},{"$f":"Podatnicy!#REF!","v":{"$error":"#REF!"}}]
[null,7251,{"$f":"Podatnicy!#REF!","v":{"$error":"#REF!"}},{"$f":"Podatnicy!#REF!","v":{"$error":"#REF!"}},{"$f":"Podatnicy!#REF!","v":{"$error":"#REF!"}}]
[null,7261,{"$f":"Podatnicy!#REF!","v":{"$error":"#REF!"}},{"$f":"Podatnicy!#REF!","v":{"$error":"#REF!"}},{"$f":"Podatnicy!#REF!","v":{"$error":"#REF!"}}]
[null,7269,{"$f":"Podatnicy!#REF!","v":{"$error":"#REF!"}},{"$f":"Podatnicy!#REF!","v":{"$error":"#REF!"}},{"$f":"Podatnicy!#REF!","v":{"$error":"#REF!"}}]
[null,7281,{"$f":"Podatnicy!#REF!","v":{"$error":"#REF!"}},{"$f":"Podatnicy!#REF!","v":{"$error":"#REF!"}},{"$f":"Podatnicy!#REF!","v":{"$error":"#REF!"}}]
[null,7288,{"$f":"Podatnicy!#REF!","v":{"$error":"#REF!"}},{"$f":"Podatnicy!#REF!","v":{"$error":"#REF!"}},{"$f":"Podatnicy!#REF!","v":{"$error":"#REF!"}}]
[null,7300,{"$f":"Podatnicy!#REF!","v":{"$error":"#REF!"}},{"$f":"Podatnicy!#REF!","v":{"$error":"#REF!"}},{"$f":"Podatnicy!#REF!","v":{"$error":"#REF!"}}]
[null,7302,{"$f":"Podatnicy!#REF!","v":{"$error":"#REF!"}},{"$f":"Podatnicy!#REF!","v":{"$error":"#REF!"}},{"$f":"Podatnicy!#REF!","v":{"$error":"#REF!"}}]
[null,7318,{"$f":"Podatnicy!#REF!","v":{"$error":"#REF!"}},{"$f":"Podatnicy!#REF!","v":{"$error":"#REF!"}},{"$f":"Podatnicy!#REF!","v":{"$error":"#REF!"}}]
[null,7321,{"$f":"Podatnicy!#REF!","v":{"$error":"#REF!"}},{"$f":"Podatnicy!#REF!","v":{"$error":"#REF!"}},{"$f":"Podatnicy!#REF!","v":{"$error":"#REF!"}}]
[null,7331,{"$f":"Podatnicy!#REF!","v":{"$error":"#REF!"}},{"$f":"Podatnicy!#REF!","v":{"$error":"#REF!"}},{"$f":"Podatnicy!#REF!","v":{"$error":"#REF!"}}]
[null,7339,{"$f":"Podatnicy!#REF!","v":{"$error":"#REF!"}},{"$f":"Podatnicy!#REF!","v":{"$error":"#REF!"}},{"$f":"Podatnicy!#REF!","v":{"$error":"#REF!"}}]
[null,7351,{"$f":"Podatnicy!#REF!","v":{"$error":"#REF!"}},{"$f":"Podatnicy!#REF!","v":{"$error":"#REF!"}},{"$f":"Podatnicy!#REF!","v":{"$error":"#REF!"}}]
[null,7358,{"$f":"Podatnicy!#REF!","v":{"$error":"#REF!"}},{"$f":"Podatnicy!#REF!","v":{"$error":"#REF!"}},{"$f":"Podatnicy!#REF!","v":{"$error":"#REF!"}}]
[null,7370,{"$f":"Podatnicy!#REF!","v":{"$error":"#REF!"}},{"$f":"Podatnicy!#REF!","v":{"$error":"#REF!"}},{"$f":"Podatnicy!#REF!","v":{"$error":"#REF!"}}]
[null,7372,{"$f":"Podatnicy!#REF!","v":{"$error":"#REF!"}},{"$f":"Podatnicy!#REF!","v":{"$error":"#REF!"}},{"$f":"Podatnicy!#REF!","v":{"$error":"#REF!"}}]
[null,7388,{"$f":"Podatnicy!#REF!","v":{"$error":"#REF!"}},{"$f":"Podatnicy!#REF!","v":{"$error":"#REF!"}},{"$f":"Podatnicy!#REF!","v":{"$error":"#REF!"}}]
[null,7391,{"$f":"Podatnicy!#REF!","v":{"$error":"#REF!"}},{"$f":"Podatnicy!#REF!","v":{"$error":"#REF!"}},{"$f":"Podatnicy!#REF!","v":{"$error":"#REF!"}}]
[null,7401,{"$f":"Podatnicy!#REF!","v":{"$error":"#REF!"}},{"$f":"Podatnicy!#REF!","v":{"$error":"#REF!"}},{"$f":"Podatnicy!#REF!","v":{"$error":"#REF!"}}]
[null,7409,{"$f":"Podatnicy!#REF!","v":{"$error":"#REF!"}},{"$f":"Podatnicy!#REF!","v":{"$error":"#REF!"}},{"$f":"Podatnicy!#REF!","v":{"$error":"#REF!"}}]
[null,7421,{"$f":"Podatnicy!#REF!","v":{"$error":"#REF!"}},{"$f":"Podatnicy!#REF!","v":{"$error":"#REF!"}},{"$f":"Podatnicy!#REF!","v":{"$error":"#REF!"}}]
[null,7428,{"$f":"Podatnicy!#REF!","v":{"$error":"#REF!"}},{"$f":"Podatnicy!#REF!","v":{"$error":"#REF!"}},{"$f":"Podatnicy!#REF!","v":{"$error":"#REF!"}}]
[null,7440,{"$f":"Podatnicy!#REF!","v":{"$error":"#REF!"}},{"$f":"Podatnicy!#REF!","v":{"$error":"#REF!"}},{"$f":"Podatnicy!#REF!","v":{"$error":"#REF!"}}]
[null,7442,{"$f":"Podatnicy!#REF!","v":{"$error":"#REF!"}},{"$f":"Podatnicy!#REF!","v":{"$error":"#REF!"}},{"$f":"Podatnicy!#REF!","v":{"$error":"#REF!"}}]
[null,7458,{"$f":"Podatnicy!#REF!","v":{"$error":"#REF!"}},{"$f":"Podatnicy!#REF!","v":{"$error":"#REF!"}},{"$f":"Podatnicy!#REF!","v":{"$error":"#REF!"}}]
[null,7461,{"$f":"Podatnicy!#REF!","v":{"$error":"#REF!"}},{"$f":"Podatnicy!#REF!","v":{"$error":"#REF!"}},{"$f":"Podatnicy!#REF!","v":{"$error":"#REF!"}}]
[null,7471,{"$f":"Podatnicy!#REF!","v":{"$error":"#REF!"}},{"$f":"Podatnicy!#REF!","v":{"$error":"#REF!"}},{"$f":"Podatnicy!#REF!","v":{"$error":"#REF!"}}]
[null,7479,{"$f":"Podatnicy!#REF!","v":{"$error":"#REF!"}},{"$f":"Podatnicy!#REF!","v":{"$error":"#REF!"}},{"$f":"Podatnicy!#REF!","v":{"$error":"#REF!"}}]
[null,7491,{"$f":"Podatnicy!#REF!","v":{"$error":"#REF!"}},{"$f":"Podatnicy!#REF!","v":{"$error":"#REF!"}},{"$f":"Podatnicy!#REF!","v":{"$error":"#REF!"}}]
[null,7498,{"$f":"Podatnicy!#REF!","v":{"$error":"#REF!"}},{"$f":"Podatnicy!#REF!","v":{"$error":"#REF!"}},{"$f":"Podatnicy!#REF!","v":{"$error":"#REF!"}}]
[null,7510,{"$f":"Podatnicy!#REF!","v":{"$error":"#REF!"}},{"$f":"Podatnicy!#REF!","v":{"$error":"#REF!"}},{"$f":"Podatnicy!#REF!","v":{"$error":"#REF!"}}]
[null,7516,{"$f":"Podatnicy!#REF!","v":{"$error":"#REF!"}},{"$f":"Podatnicy!#REF!","v":{"$error":"#REF!"}},{"$f":"Podatnicy!#REF!","v":{"$error":"#REF!"}}]
[null,7528,{"$f":"Podatnicy!#REF!","v":{"$error":"#REF!"}},{"$f":"Podatnicy!#REF!","v":{"$error":"#REF!"}},{"$f":"Podatnicy!#REF!","v":{"$error":"#REF!"}}]
[null,7531,{"$f":"Podatnicy!#REF!","v":{"$error":"#REF!"}},{"$f":"Podatnicy!#REF!","v":{"$error":"#REF!"}},{"$f":"Podatnicy!#REF!","v":{"$error":"#REF!"}}]
[null,7538,{"$f":"Podatnicy!#REF!","v":{"$error":"#REF!"}},{"$f":"Podatnicy!#REF!","v":{"$error":"#REF!"}},{"$f":"Podatnicy!#REF!","v":{"$error":"#REF!"}}]
[null,7551,{"$f":"Podatnicy!#REF!","v":{"$error":"#REF!"}},{"$f":"Podatnicy!#REF!","v":{"$error":"#REF!"}},{"$f":"Podatnicy!#REF!","v":{"$error":"#REF!"}}]
[null,7561,{"$f":"Podatnicy!#REF!","v":{"$error":"#REF!"}},{"$f":"Podatnicy!#REF!","v":{"$error":"#REF!"}},{"$f":"Podatnicy!#REF!","v":{"$error":"#REF!"}}]
[null,7568,{"$f":"Podatnicy!#REF!","v":{"$error":"#REF!"}},{"$f":"Podatnicy!#REF!","v":{"$error":"#REF!"}},{"$f":"Podatnicy!#REF!","v":{"$error":"#REF!"}}]
[null,7580,{"$f":"Podatnicy!#REF!","v":{"$error":"#REF!"}},{"$f":"Podatnicy!#REF!","v":{"$error":"#REF!"}},{"$f":"Podatnicy!#REF!","v":{"$error":"#REF!"}}]
[null,7582,{"$f":"Podatnicy!#REF!","v":{"$error":"#REF!"}},{"$f":"Podatnicy!#REF!","v":{"$error":"#REF!"}},{"$f":"Podatnicy!#REF!","v":{"$error":"#REF!"}}]
[null,7598,{"$f":"Podatnicy!#REF!","v":{"$error":"#REF!"}},{"$f":"Podatnicy!#REF!","v":{"$error":"#REF!"}},{"$f":"Podatnicy!#REF!","v":{"$error":"#REF!"}}]
[null,7601,{"$f":"Podatnicy!#REF!","v":{"$error":"#REF!"}},{"$f":"Podatnicy!#REF!","v":{"$error":"#REF!"}},{"$f":"Podatnicy!#REF!","v":{"$error":"#REF!"}}]
[null,7608,{"$f":"Podatnicy!#REF!","v":{"$error":"#REF!"}},{"$f":"Podatnicy!#REF!","v":{"$error":"#REF!"}},{"$f":"Podatnicy!#REF!","v":{"$error":"#REF!"}}]
[null,7621,{"$f":"Podatnicy!#REF!","v":{"$error":"#REF!"}},{"$f":"Podatnicy!#REF!","v":{"$error":"#REF!"}},{"$f":"Podatnicy!#REF!","v":{"$error":"#REF!"}}]
[null,7631,{"$f":"Podatnicy!#REF!","v":{"$error":"#REF!"}},{"$f":"Podatnicy!#REF!","v":{"$error":"#REF!"}},{"$f":"Podatnicy!#REF!","v":{"$error":"#REF!"}}]
[null,7638,{"$f":"Podatnicy!#REF!","v":{"$error":"#REF!"}},{"$f":"Podatnicy!#REF!","v":{"$error":"#REF!"}},{"$f":"Podatnicy!#REF!","v":{"$error":"#REF!"}}]
[null,7650,{"$f":"Podatnicy!#REF!","v":{"$error":"#REF!"}},{"$f":"Podatnicy!#REF!","v":{"$error":"#REF!"}},{"$f":"Podatnicy!#REF!","v":{"$error":"#REF!"}}]
[null,7652,{"$f":"Podatnicy!#REF!","v":{"$error":"#REF!"}},{"$f":"Podatnicy!#REF!","v":{"$error":"#REF!"}},{"$f":"Podatnicy!#REF!","v":{"$error":"#REF!"}}]
[null,7668,{"$f":"Podatnicy!#REF!","v":{"$error":"#REF!"}},{"$f":"Podatnicy!#REF!","v":{"$error":"#REF!"}},{"$f":"Podatnicy!#REF!","v":{"$error":"#REF!"}}]
[null,7671,{"$f":"Podatnicy!#REF!","v":{"$error":"#REF!"}},{"$f":"Podatnicy!#REF!","v":{"$error":"#REF!"}},{"$f":"Podatnicy!#REF!","v":{"$error":"#REF!"}}]
[null,7678,{"$f":"Podatnicy!#REF!","v":{"$error":"#REF!"}},{"$f":"Podatnicy!#REF!","v":{"$error":"#REF!"}},{"$f":"Podatnicy!#REF!","v":{"$error":"#REF!"}}]
[null,7691,{"$f":"Podatnicy!#REF!","v":{"$error":"#REF!"}},{"$f":"Podatnicy!#REF!","v":{"$error":"#REF!"}},{"$f":"Podatnicy!#REF!","v":{"$error":"#REF!"}}]
[null,7696,{"$f":"Podatnicy!#REF!","v":{"$error":"#REF!"}},{"$f":"Podatnicy!#REF!","v":{"$error":"#REF!"}},{"$f":"Podatnicy!#REF!","v":{"$error":"#REF!"}}]
[null,7708,{"$f":"Podatnicy!#REF!","v":{"$error":"#REF!"}},{"$f":"Podatnicy!#REF!","v":{"$error":"#REF!"}},{"$f":"Podatnicy!#REF!","v":{"$error":"#REF!"}}]
[null,7720,{"$f":"Podatnicy!#REF!","v":{"$error":"#REF!"}},{"$f":"Podatnicy!#REF!","v":{"$error":"#REF!"}},{"$f":"Podatnicy!#REF!","v":{"$error":"#REF!"}}]
[null,7722,{"$f":"Podatnicy!#REF!","v":{"$error":"#REF!"}},{"$f":"Podatnicy!#REF!","v":{"$error":"#REF!"}},{"$f":"Podatnicy!#REF!","v":{"$error":"#REF!"}}]
[null,7738,{"$f":"Podatnicy!#REF!","v":{"$error":"#REF!"}},{"$f":"Podatnicy!#REF!","v":{"$error":"#REF!"}},{"$f":"Podatnicy!#REF!","v":{"$error":"#REF!"}}]
[null,7741,{"$f":"Podatnicy!#REF!","v":{"$error":"#REF!"}},{"$f":"Podatnicy!#REF!","v":{"$error":"#REF!"}},{"$f":"Podatnicy!#REF!","v":{"$error":"#REF!"}}]
[null,7748,{"$f":"Podatnicy!#REF!","v":{"$error":"#REF!"}},{"$f":"Podatnicy!#REF!","v":{"$error":"#REF!"}},{"$f":"Podatnicy!#REF!","v":{"$error":"#REF!"}}]
[null,7761,{"$f":"Podatnicy!#REF!","v":{"$error":"#REF!"}},{"$f":"Podatnicy!#REF!","v":{"$error":"#REF!"}},{"$f":"Podatnicy!#REF!","v":{"$error":"#REF!"}}]
[null,7766,{"$f":"Podatnicy!#REF!","v":{"$error":"#REF!"}},{"$f":"Podatnicy!#REF!","v":{"$error":"#REF!"}},{"$f":"Podatnicy!#REF!","v":{"$error":"#REF!"}}]
[null,7778,{"$f":"Podatnicy!#REF!","v":{"$error":"#REF!"}},{"$f":"Podatnicy!#REF!","v":{"$error":"#REF!"}},{"$f":"Podatnicy!#REF!","v":{"$error":"#REF!"}}]
[null,7790,{"$f":"Podatnicy!#REF!","v":{"$error":"#REF!"}},{"$f":"Podatnicy!#REF!","v":{"$error":"#REF!"}},{"$f":"Podatnicy!#REF!","v":{"$error":"#REF!"}}]
[null,7792,{"$f":"Podatnicy!#REF!","v":{"$error":"#REF!"}},{"$f":"Podatnicy!#REF!","v":{"$error":"#REF!"}},{"$f":"Podatnicy!#REF!","v":{"$error":"#REF!"}}]
[null,7808,{"$f":"Podatnicy!#REF!","v":{"$error":"#REF!"}},{"$f":"Podatnicy!#REF!","v":{"$error":"#REF!"}},{"$f":"Podatnicy!#REF!","v":{"$error":"#REF!"}}]
[null,7815,{"$f":"Podatnicy!#REF!","v":{"$error":"#REF!"}},{"$f":"Podatnicy!#REF!","v":{"$error":"#REF!"}},{"$f":"Podatnicy!#REF!","v":{"$error":"#REF!"}}]
[null,7818,{"$f":"Podatnicy!#REF!","v":{"$error":"#REF!"}},{"$f":"Podatnicy!#REF!","v":{"$error":"#REF!"}},{"$f":"Podatnicy!#REF!","v":{"$error":"#REF!"}}]
[null,7830,{"$f":"Podatnicy!#REF!","v":{"$error":"#REF!"}},{"$f":"Podatnicy!#REF!","v":{"$error":"#REF!"}},{"$f":"Podatnicy!#REF!","v":{"$error":"#REF!"}}]
[null,7841,{"$f":"Podatnicy!#REF!","v":{"$error":"#REF!"}},{"$f":"Podatnicy!#REF!","v":{"$error":"#REF!"}},{"$f":"Podatnicy!#REF!","v":{"$error":"#REF!"}}]
[null,7848,{"$f":"Podatnicy!#REF!","v":{"$error":"#REF!"}},{"$f":"Podatnicy!#REF!","v":{"$error":"#REF!"}},{"$f":"Podatnicy!#REF!","v":{"$error":"#REF!"}}]
[null,7860,{"$f":"Podatnicy!#REF!","v":{"$error":"#REF!"}},{"$f":"Podatnicy!#REF!","v":{"$error":"#REF!"}},{"$f":"Podatnicy!#REF!","v":{"$error":"#REF!"}}]
[null,7867,{"$f":"Podatnicy!#REF!","v":{"$error":"#REF!"}},{"$f":"Podatnicy!#REF!","v":{"$error":"#REF!"}},{"$f":"Podatnicy!#REF!","v":{"$error":"#REF!"}}]
[null,7872,{"$f":"Podatnicy!#REF!","v":{"$error":"#REF!"}},{"$f":"Podatnicy!#REF!","v":{"$error":"#REF!"}},{"$f":"Podatnicy!#REF!","v":{"$error":"#REF!"}}]
[null,7885,{"$f":"Podatnicy!#REF!","v":{"$error":"#REF!"}},{"$f":"Podatnicy!#REF!","v":{"$error":"#REF!"}},{"$f":"Podatnicy!#REF!","v":{"$error":"#REF!"}}]
[null,7888,{"$f":"Podatnicy!#REF!","v":{"$error":"#REF!"}},{"$f":"Podatnicy!#REF!","v":{"$error":"#REF!"}},{"$f":"Podatnicy!#REF!","v":{"$error":"#REF!"}}]
[null,7900,{"$f":"Podatnicy!#REF!","v":{"$error":"#REF!"}},{"$f":"Podatnicy!#REF!","v":{"$error":"#REF!"}},{"$f":"Podatnicy!#REF!","v":{"$error":"#REF!"}}]
[null,7911,{"$f":"Podatnicy!#REF!","v":{"$error":"#REF!"}},{"$f":"Podatnicy!#REF!","v":{"$error":"#REF!"}},{"$f":"Podatnicy!#REF!","v":{"$error":"#REF!"}}]
[null,7918,{"$f":"Podatnicy!#REF!","v":{"$error":"#REF!"}},{"$f":"Podatnicy!#REF!","v":{"$error":"#REF!"}},{"$f":"Podatnicy!#REF!","v":{"$error":"#REF!"}}]
[null,7930,{"$f":"Podatnicy!#REF!","v":{"$error":"#REF!"}},{"$f":"Podatnicy!#REF!","v":{"$error":"#REF!"}},{"$f":"Podatnicy!#REF!","v":{"$error":"#REF!"}}]
[null,7937,{"$f":"Podatnicy!#REF!","v":{"$error":"#REF!"}},{"$f":"Podatnicy!#REF!","v":{"$error":"#REF!"}},{"$f":"Podatnicy!#REF!","v":{"$error":"#REF!"}}]
[null,7942,{"$f":"Podatnicy!#REF!","v":{"$error":"#REF!"}},{"$f":"Podatnicy!#REF!","v":{"$error":"#REF!"}},{"$f":"Podatnicy!#REF!","v":{"$error":"#REF!"}}]
[null,7955,{"$f":"Podatnicy!#REF!","v":{"$error":"#REF!"}},{"$f":"Podatnicy!#REF!","v":{"$error":"#REF!"}},{"$f":"Podatnicy!#REF!","v":{"$error":"#REF!"}}]
[null,7958,{"$f":"Podatnicy!#REF!","v":{"$error":"#REF!"}},{"$f":"Podatnicy!#REF!","v":{"$error":"#REF!"}},{"$f":"Podatnicy!#REF!","v":{"$error":"#REF!"}}]
[null,7970,{"$f":"Podatnicy!#REF!","v":{"$error":"#REF!"}},{"$f":"Podatnicy!#REF!","v":{"$error":"#REF!"}},{"$f":"Podatnicy!#REF!","v":{"$error":"#REF!"}}]
[null,7981,{"$f":"Podatnicy!#REF!","v":{"$error":"#REF!"}},{"$f":"Podatnicy!#REF!","v":{"$error":"#REF!"}},{"$f":"Podatnicy!#REF!","v":{"$error":"#REF!"}}]
[null,7988,{"$f":"Podatnicy!#REF!","v":{"$error":"#REF!"}},{"$f":"Podatnicy!#REF!","v":{"$error":"#REF!"}},{"$f":"Podatnicy!#REF!","v":{"$error":"#REF!"}}]
[null,7995,{"$f":"Podatnicy!#REF!","v":{"$error":"#REF!"}},{"$f":"Podatnicy!#REF!","v":{"$error":"#REF!"}},{"$f":"Podatnicy!#REF!","v":{"$error":"#REF!"}}]
[null,8007,{"$f":"Podatnicy!#REF!","v":{"$error":"#REF!"}},{"$f":"Podatnicy!#REF!","v":{"$error":"#REF!"}},{"$f":"Podatnicy!#REF!","v":{"$error":"#REF!"}}]
[null,8012,{"$f":"Podatnicy!#REF!","v":{"$error":"#REF!"}},{"$f":"Podatnicy!#REF!","v":{"$error":"#REF!"}},{"$f":"Podatnicy!#REF!","v":{"$error":"#REF!"}}]
[null,8025,{"$f":"Podatnicy!#REF!","v":{"$error":"#REF!"}},{"$f":"Podatnicy!#REF!","v":{"$error":"#REF!"}},{"$f":"Podatnicy!#REF!","v":{"$error":"#REF!"}}]
[null,8028,{"$f":"Podatnicy!#REF!","v":{"$error":"#REF!"}},{"$f":"Podatnicy!#REF!","v":{"$error":"#REF!"}},{"$f":"Podatnicy!#REF!","v":{"$error":"#REF!"}}]
[null,8040,{"$f":"Podatnicy!#REF!","v":{"$error":"#REF!"}},{"$f":"Podatnicy!#REF!","v":{"$error":"#REF!"}},{"$f":"Podatnicy!#REF!","v":{"$error":"#REF!"}}]
[null,8051,{"$f":"Podatnicy!#REF!","v":{"$error":"#REF!"}},{"$f":"Podatnicy!#REF!","v":{"$error":"#REF!"}},{"$f":"Podatnicy!#REF!","v":{"$error":"#REF!"}}]
[null,8058,{"$f":"Podatnicy!#REF!","v":{"$error":"#REF!"}},{"$f":"Podatnicy!#REF!","v":{"$error":"#REF!"}},{"$f":"Podatnicy!#REF!","v":{"$error":"#REF!"}}]
[null,8065,{"$f":"Podatnicy!#REF!","v":{"$error":"#REF!"}},{"$f":"Podatnicy!#REF!","v":{"$error":"#REF!"}},{"$f":"Podatnicy!#REF!","v":{"$error":"#REF!"}}]
[null,8077,{"$f":"Podatnicy!#REF!","v":{"$error":"#REF!"}},{"$f":"Podatnicy!#REF!","v":{"$error":"#REF!"}},{"$f":"Podatnicy!#REF!","v":{"$error":"#REF!"}}]
[null,8082,{"$f":"Podatnicy!#REF!","v":{"$error":"#REF!"}},{"$f":"Podatnicy!#REF!","v":{"$error":"#REF!"}},{"$f":"Podatnicy!#REF!","v":{"$error":"#REF!"}}]
[null,8095,{"$f":"Podatnicy!#REF!","v":{"$error":"#REF!"}},{"$f":"Podatnicy!#REF!","v":{"$error":"#REF!"}},{"$f":"Podatnicy!#REF!","v":{"$error":"#REF!"}}]
[null,8098,{"$f":"Podatnicy!#REF!","v":{"$error":"#REF!"}},{"$f":"Podatnicy!#REF!","v":{"$error":"#REF!"}},{"$f":"Podatnicy!#REF!","v":{"$error":"#REF!"}}]
[null,8110,{"$f":"Podatnicy!#REF!","v":{"$error":"#REF!"}},{"$f":"Podatnicy!#REF!","v":{"$error":"#REF!"}},{"$f":"Podatnicy!#REF!","v":{"$error":"#REF!"}}]
[null,8117,{"$f":"Podatnicy!#REF!","v":{"$error":"#REF!"}},{"$f":"Podatnicy!#REF!","v":{"$error":"#REF!"}},{"$f":"Podatnicy!#REF!","v":{"$error":"#REF!"}}]
[null,8131,{"$f":"Podatnicy!#REF!","v":{"$error":"#REF!"}},{"$f":"Podatnicy!#REF!","v":{"$error":"#REF!"}},{"$f":"Podatnicy!#REF!","v":{"$error":"#REF!"}}]
[null,8135,{"$f":"Podatnicy!#REF!","v":{"$error":"#REF!"}},{"$f":"Podatnicy!#REF!","v":{"$error":"#REF!"}},{"$f":"Podatnicy!#REF!","v":{"$error":"#REF!"}}]
[null,8147,{"$f":"Podatnicy!#REF!","v":{"$error":"#REF!"}},{"$f":"Podatnicy!#REF!","v":{"$error":"#REF!"}},{"$f":"Podatnicy!#REF!","v":{"$error":"#REF!"}}]
[null,8159,{"$f":"Podatnicy!#REF!","v":{"$error":"#REF!"}},{"$f":"Podatnicy!#REF!","v":{"$error":"#REF!"}},{"$f":"Podatnicy!#REF!","v":{"$error":"#REF!"}}]
[null,8162,{"$f":"Podatnicy!#REF!","v":{"$error":"#REF!"}},{"$f":"Podatnicy!#REF!","v":{"$error":"#REF!"}},{"$f":"Podatnicy!#REF!","v":{"$error":"#REF!"}}]
[null,8168,{"$f":"Podatnicy!#REF!","v":{"$error":"#REF!"}},{"$f":"Podatnicy!#REF!","v":{"$error":"#REF!"}},{"$f":"Podatnicy!#REF!","v":{"$error":"#REF!"}}]
[null,8184,{"$f":"Podatnicy!#REF!","v":{"$error":"#REF!"}},{"$f":"Podatnicy!#REF!","v":{"$error":"#REF!"}},{"$f":"Podatnicy!#REF!","v":{"$error":"#REF!"}}]
[null,8187,{"$f":"Podatnicy!#REF!","v":{"$error":"#REF!"}},{"$f":"Podatnicy!#REF!","v":{"$error":"#REF!"}},{"$f":"Podatnicy!#REF!","v":{"$error":"#REF!"}}]
[null,8201,{"$f":"Podatnicy!#REF!","v":{"$error":"#REF!"}},{"$f":"Podatnicy!#REF!","v":{"$error":"#REF!"}},{"$f":"Podatnicy!#REF!","v":{"$error":"#REF!"}}]
[null,8205,{"$f":"Podatnicy!#REF!","v":{"$error":"#REF!"}},{"$f":"Podatnicy!#REF!","v":{"$error":"#REF!"}},{"$f":"Podatnicy!#REF!","v":{"$error":"#REF!"}}]
[null,8217,{"$f":"Podatnicy!#REF!","v":{"$error":"#REF!"}},{"$f":"Podatnicy!#REF!","v":{"$error":"#REF!"}},{"$f":"Podatnicy!#REF!","v":{"$error":"#REF!"}}]
[null,8229,{"$f":"Podatnicy!#REF!","v":{"$error":"#REF!"}},{"$f":"Podatnicy!#REF!","v":{"$error":"#REF!"}},{"$f":"Podatnicy!#REF!","v":{"$error":"#REF!"}}]
[null,8232,{"$f":"Podatnicy!#REF!","v":{"$error":"#REF!"}},{"$f":"Podatnicy!#REF!","v":{"$error":"#REF!"}},{"$f":"Podatnicy!#REF!","v":{"$error":"#REF!"}}]
[null,8238,{"$f":"Podatnicy!#REF!","v":{"$error":"#REF!"}},{"$f":"Podatnicy!#REF!","v":{"$error":"#REF!"}},{"$f":"Podatnicy!#REF!","v":{"$error":"#REF!"}}]
[null,8254,{"$f":"Podatnicy!#REF!","v":{"$error":"#REF!"}},{"$f":"Podatnicy!#REF!","v":{"$error":"#REF!"}},{"$f":"Podatnicy!#REF!","v":{"$error":"#REF!"}}]
[null,8257,{"$f":"Podatnicy!#REF!","v":{"$error":"#REF!"}},{"$f":"Podatnicy!#REF!","v":{"$error":"#REF!"}},{"$f":"Podatnicy!#REF!","v":{"$error":"#REF!"}}]
[null,8271,{"$f":"Podatnicy!#REF!","v":{"$error":"#REF!"}},{"$f":"Podatnicy!#REF!","v":{"$error":"#REF!"}},{"$f":"Podatnicy!#REF!","v":{"$error":"#REF!"}}]
[null,8275,{"$f":"Podatnicy!#REF!","v":{"$error":"#REF!"}},{"$f":"Podatnicy!#REF!","v":{"$error":"#REF!"}},{"$f":"Podatnicy!#REF!","v":{"$error":"#REF!"}}]
[null,8287,{"$f":"Podatnicy!#REF!","v":{"$error":"#REF!"}},{"$f":"Podatnicy!#REF!","v":{"$error":"#REF!"}},{"$f":"Podatnicy!#REF!","v":{"$error":"#REF!"}}]
[null,8294,{"$f":"Podatnicy!#REF!","v":{"$error":"#REF!"}},{"$f":"Podatnicy!#REF!","v":{"$error":"#REF!"}},{"$f":"Podatnicy!#REF!","v":{"$error":"#REF!"}}]
[null,8302,{"$f":"Podatnicy!#REF!","v":{"$error":"#REF!"}},{"$f":"Podatnicy!#REF!","v":{"$error":"#REF!"}},{"$f":"Podatnicy!#REF!","v":{"$error":"#REF!"}}]
[null,8308,{"$f":"Podatnicy!#REF!","v":{"$error":"#REF!"}},{"$f":"Podatnicy!#REF!","v":{"$error":"#REF!"}},{"$f":"Podatnicy!#REF!","v":{"$error":"#REF!"}}]
[null,8324,{"$f":"Podatnicy!#REF!","v":{"$error":"#REF!"}},{"$f":"Podatnicy!#REF!","v":{"$error":"#REF!"}},{"$f":"Podatnicy!#REF!","v":{"$error":"#REF!"}}]
[null,8327,{"$f":"Podatnicy!#REF!","v":{"$error":"#REF!"}},{"$f":"Podatnicy!#REF!","v":{"$error":"#REF!"}},{"$f":"Podatnicy!#REF!","v":{"$error":"#REF!"}}]
[null,8341,{"$f":"Podatnicy!#REF!","v":{"$error":"#REF!"}},{"$f":"Podatnicy!#REF!","v":{"$error":"#REF!"}},{"$f":"Podatnicy!#REF!","v":{"$error":"#REF!"}}]
[null,8345,{"$f":"Podatnicy!#REF!","v":{"$error":"#REF!"}},{"$f":"Podatnicy!#REF!","v":{"$error":"#REF!"}},{"$f":"Podatnicy!#REF!","v":{"$error":"#REF!"}}]
[null,8357,{"$f":"Podatnicy!#REF!","v":{"$error":"#REF!"}},{"$f":"Podatnicy!#REF!","v":{"$error":"#REF!"}},{"$f":"Podatnicy!#REF!","v":{"$error":"#REF!"}}]
[null,8364,{"$f":"Podatnicy!#REF!","v":{"$error":"#REF!"}},{"$f":"Podatnicy!#REF!","v":{"$error":"#REF!"}},{"$f":"Podatnicy!#REF!","v":{"$error":"#REF!"}}]
[null,8372,{"$f":"Podatnicy!#REF!","v":{"$error":"#REF!"}},{"$f":"Podatnicy!#REF!","v":{"$error":"#REF!"}},{"$f":"Podatnicy!#REF!","v":{"$error":"#REF!"}}]
[null,8378,{"$f":"Podatnicy!#REF!","v":{"$error":"#REF!"}},{"$f":"Podatnicy!#REF!","v":{"$error":"#REF!"}},{"$f":"Podatnicy!#REF!","v":{"$error":"#REF!"}}]
[null,8394,{"$f":"Podatnicy!#REF!","v":{"$error":"#REF!"}},{"$f":"Podatnicy!#REF!","v":{"$error":"#REF!"}},{"$f":"Podatnicy!#REF!","v":{"$error":"#REF!"}}]
[null,8397,{"$f":"Podatnicy!#REF!","v":{"$error":"#REF!"}},{"$f":"Podatnicy!#REF!","v":{"$error":"#REF!"}},{"$f":"Podatnicy!#REF!","v":{"$error":"#REF!"}}]
[null,8409,{"$f":"Podatnicy!#REF!","v":{"$error":"#REF!"}},{"$f":"Podatnicy!#REF!","v":{"$error":"#REF!"}},{"$f":"Podatnicy!#REF!","v":{"$error":"#REF!"}}]
[null,8421,{"$f":"Podatnicy!#REF!","v":{"$error":"#REF!"}},{"$f":"Podatnicy!#REF!","v":{"$error":"#REF!"}},{"$f":"Podatnicy!#REF!","v":{"$error":"#REF!"}}]
[null,8427,{"$f":"Podatnicy!#REF!","v":{"$error":"#REF!"}},{"$f":"Podatnicy!#REF!","v":{"$error":"#REF!"}},{"$f":"Podatnicy!#REF!","v":{"$error":"#REF!"}}]
[null,8434,{"$f":"Podatnicy!#REF!","v":{"$error":"#REF!"}},{"$f":"Podatnicy!#REF!","v":{"$error":"#REF!"}},{"$f":"Podatnicy!#REF!","v":{"$error":"#REF!"}}]
[null,8446,{"$f":"Podatnicy!#REF!","v":{"$error":"#REF!"}},{"$f":"Podatnicy!#REF!","v":{"$error":"#REF!"}},{"$f":"Podatnicy!#REF!","v":{"$error":"#REF!"}}]
[null,8452,{"$f":"Podatnicy!#REF!","v":{"$error":"#REF!"}},{"$f":"Podatnicy!#REF!","v":{"$error":"#REF!"}},{"$f":"Podatnicy!#REF!","v":{"$error":"#REF!"}}]
[null,8464,{"$f":"Podatnicy!#REF!","v":{"$error":"#REF!"}},{"$f":"Podatnicy!#REF!","v":{"$error":"#REF!"}},{"$f":"Podatnicy!#REF!","v":{"$error":"#REF!"}}]
[null,8467,{"$f":"Podatnicy!#REF!","v":{"$error":"#REF!"}},{"$f":"Podatnicy!#REF!","v":{"$error":"#REF!"}},{"$f":"Podatnicy!#REF!","v":{"$error":"#REF!"}}]
[null,8483,{"$f":"Podatnicy!#REF!","v":{"$error":"#REF!"}},{"$f":"Podatnicy!#REF!","v":{"$error":"#REF!"}},{"$f":"Podatnicy!#REF!","v":{"$error":"#REF!"}}]
[null,8491,{"$f":"Podatnicy!#REF!","v":{"$error":"#REF!"}},{"$f":"Podatnicy!#REF!","v":{"$error":"#REF!"}},{"$f":"Podatnicy!#REF!","v":{"$error":"#REF!"}}]
[null,8497,{"$f":"Podatnicy!#REF!","v":{"$error":"#REF!"}},{"$f":"Podatnicy!#REF!","v":{"$error":"#REF!"}},{"$f":"Podatnicy!#REF!","v":{"$error":"#REF!"}}]
[null,8504,{"$f":"Podatnicy!#REF!","v":{"$error":"#REF!"}},{"$f":"Podatnicy!#REF!","v":{"$error":"#REF!"}},{"$f":"Podatnicy!#REF!","v":{"$error":"#REF!"}}]
[null,8516,{"$f":"Podatnicy!#REF!","v":{"$error":"#REF!"}},{"$f":"Podatnicy!#REF!","v":{"$error":"#REF!"}},{"$f":"Podatnicy!#REF!","v":{"$error":"#REF!"}}]
[null,8522,{"$f":"Podatnicy!#REF!","v":{"$error":"#REF!"}},{"$f":"Podatnicy!#REF!","v":{"$error":"#REF!"}},{"$f":"Podatnicy!#REF!","v":{"$error":"#REF!"}}]
[null,8534,{"$f":"Podatnicy!#REF!","v":{"$error":"#REF!"}},{"$f":"Podatnicy!#REF!","v":{"$error":"#REF!"}},{"$f":"Podatnicy!#REF!","v":{"$error":"#REF!"}}]
[null,8537,{"$f":"Podatnicy!#REF!","v":{"$error":"#REF!"}},{"$f":"Podatnicy!#REF!","v":{"$error":"#REF!"}},{"$f":"Podatnicy!#REF!","v":{"$error":"#REF!"}}]
[null,8553,{"$f":"Podatnicy!#REF!","v":{"$error":"#REF!"}},{"$f":"Podatnicy!#REF!","v":{"$error":"#REF!"}},{"$f":"Podatnicy!#REF!","v":{"$error":"#REF!"}}]
[null,8561,{"$f":"Podatnicy!#REF!","v":{"$error":"#REF!"}},{"$f":"Podatnicy!#REF!","v":{"$error":"#REF!"}},{"$f":"Podatnicy!#REF!","v":{"$error":"#REF!"}}]
[null,8567,{"$f":"Podatnicy!#REF!","v":{"$error":"#REF!"}},{"$f":"Podatnicy!#REF!","v":{"$error":"#REF!"}},{"$f":"Podatnicy!#REF!","v":{"$error":"#REF!"}}]
[null,8574,{"$f":"Podatnicy!#REF!","v":{"$error":"#REF!"}},{"$f":"Podatnicy!#REF!","v":{"$error":"#REF!"}},{"$f":"Podatnicy!#REF!","v":{"$error":"#REF!"}}]
[null,8586,{"$f":"Podatnicy!#REF!","v":{"$error":"#REF!"}},{"$f":"Podatnicy!#REF!","v":{"$error":"#REF!"}},{"$f":"Podatnicy!#REF!","v":{"$error":"#REF!"}}]
[null,8592,{"$f":"Podatnicy!#REF!","v":{"$error":"#REF!"}},{"$f":"Podatnicy!#REF!","v":{"$error":"#REF!"}},{"$f":"Podatnicy!#REF!","v":{"$error":"#REF!"}}]
[null,8604,{"$f":"Podatnicy!#REF!","v":{"$error":"#REF!"}},{"$f":"Podatnicy!#REF!","v":{"$error":"#REF!"}},{"$f":"Podatnicy!#REF!","v":{"$error":"#REF!"}}]
[null,8607,{"$f":"Podatnicy!#REF!","v":{"$error":"#REF!"}},{"$f":"Podatnicy!#REF!","v":{"$error":"#REF!"}},{"$f":"Podatnicy!#REF!","v":{"$error":"#REF!"}}]
[null,8623,{"$f":"Podatnicy!#REF!","v":{"$error":"#REF!"}},{"$f":"Podatnicy!#REF!","v":{"$error":"#REF!"}},{"$f":"Podatnicy!#REF!","v":{"$error":"#REF!"}}]
[null,8631,{"$f":"Podatnicy!#REF!","v":{"$error":"#REF!"}},{"$f":"Podatnicy!#REF!","v":{"$error":"#REF!"}},{"$f":"Podatnicy!#REF!","v":{"$error":"#REF!"}}]
[null,8637,{"$f":"Podatnicy!#REF!","v":{"$error":"#REF!"}},{"$f":"Podatnicy!#REF!","v":{"$error":"#REF!"}},{"$f":"Podatnicy!#REF!","v":{"$error":"#REF!"}}]
[null,8644,{"$f":"Podatnicy!#REF!","v":{"$error":"#REF!"}},{"$f":"Podatnicy!#REF!","v":{"$error":"#REF!"}},{"$f":"Podatnicy!#REF!","v":{"$error":"#REF!"}}]
[null,8656,{"$f":"Podatnicy!#REF!","v":{"$error":"#REF!"}},{"$f":"Podatnicy!#REF!","v":{"$error":"#REF!"}},{"$f":"Podatnicy!#REF!","v":{"$error":"#REF!"}}]
[null,8662,{"$f":"Podatnicy!#REF!","v":{"$error":"#REF!"}},{"$f":"Podatnicy!#REF!","v":{"$error":"#REF!"}},{"$f":"Podatnicy!#REF!","v":{"$error":"#REF!"}}]
[null,8674,{"$f":"Podatnicy!#REF!","v":{"$error":"#REF!"}},{"$f":"Podatnicy!#REF!","v":{"$error":"#REF!"}},{"$f":"Podatnicy!#REF!","v":{"$error":"#REF!"}}]
[null,8677,{"$f":"Podatnicy!#REF!","v":{"$error":"#REF!"}},{"$f":"Podatnicy!#REF!","v":{"$error":"#REF!"}},{"$f":"Podatnicy!#REF!","v":{"$error":"#REF!"}}]
[null,8693,{"$f":"Podatnicy!#REF!","v":{"$error":"#REF!"}},{"$f":"Podatnicy!#REF!","v":{"$error":"#REF!"}},{"$f":"Podatnicy!#REF!","v":{"$error":"#REF!"}}]
[null,8696,{"$f":"Podatnicy!#REF!","v":{"$error":"#REF!"}},{"$f":"Podatnicy!#REF!","v":{"$error":"#REF!"}},{"$f":"Podatnicy!#REF!","v":{"$error":"#REF!"}}]
[null,8703,{"$f":"Podatnicy!#REF!","v":{"$error":"#REF!"}},{"$f":"Podatnicy!#REF!","v":{"$error":"#REF!"}},{"$f":"Podatnicy!#REF!","v":{"$error":"#REF!"}}]
[null,8714,{"$f":"Podatnicy!#REF!","v":{"$error":"#REF!"}},{"$f":"Podatnicy!#REF!","v":{"$error":"#REF!"}},{"$f":"Podatnicy!#REF!","v":{"$error":"#REF!"}}]
[null,8726,{"$f":"Podatnicy!#REF!","v":{"$error":"#REF!"}},{"$f":"Podatnicy!#REF!","v":{"$error":"#REF!"}},{"$f":"Podatnicy!#REF!","v":{"$error":"#REF!"}}]
[null,8733,{"$f":"Podatnicy!#REF!","v":{"$error":"#REF!"}},{"$f":"Podatnicy!#REF!","v":{"$error":"#REF!"}},{"$f":"Podatnicy!#REF!","v":{"$error":"#REF!"}}]
[null,8742,{"$f":"Podatnicy!#REF!","v":{"$error":"#REF!"}},{"$f":"Podatnicy!#REF!","v":{"$error":"#REF!"}},{"$f":"Podatnicy!#REF!","v":{"$error":"#REF!"}}]
[null,8747,{"$f":"Podatnicy!#REF!","v":{"$error":"#REF!"}},{"$f":"Podatnicy!#REF!","v":{"$error":"#REF!"}},{"$f":"Podatnicy!#REF!","v":{"$error":"#REF!"}}]
[null,8763,{"$f":"Podatnicy!#REF!","v":{"$error":"#REF!"}},{"$f":"Podatnicy!#REF!","v":{"$error":"#REF!"}},{"$f":"Podatnicy!#REF!","v":{"$error":"#REF!"}}]
[null,8766,{"$f":"Podatnicy!#REF!","v":{"$error":"#REF!"}},{"$f":"Podatnicy!#REF!","v":{"$error":"#REF!"}},{"$f":"Podatnicy!#REF!","v":{"$error":"#REF!"}}]
[null,8773,{"$f":"Podatnicy!#REF!","v":{"$error":"#REF!"}},{"$f":"Podatnicy!#REF!","v":{"$error":"#REF!"}},{"$f":"Podatnicy!#REF!","v":{"$error":"#REF!"}}]
[null,8784,{"$f":"Podatnicy!#REF!","v":{"$error":"#REF!"}},{"$f":"Podatnicy!#REF!","v":{"$error":"#REF!"}},{"$f":"Podatnicy!#REF!","v":{"$error":"#REF!"}}]
[null,8796,{"$f":"Podatnicy!#REF!","v":{"$error":"#REF!"}},{"$f":"Podatnicy!#REF!","v":{"$error":"#REF!"}},{"$f":"Podatnicy!#REF!","v":{"$error":"#REF!"}}]
[null,8803,{"$f":"Podatnicy!#REF!","v":{"$error":"#REF!"}},{"$f":"Podatnicy!#REF!","v":{"$error":"#REF!"}},{"$f":"Podatnicy!#REF!","v":{"$error":"#REF!"}}]
[null,8812,{"$f":"Podatnicy!#REF!","v":{"$error":"#REF!"}},{"$f":"Podatnicy!#REF!","v":{"$error":"#REF!"}},{"$f":"Podatnicy!#REF!","v":{"$error":"#REF!"}}]
[null,8817,{"$f":"Podatnicy!#REF!","v":{"$error":"#REF!"}},{"$f":"Podatnicy!#REF!","v":{"$error":"#REF!"}},{"$f":"Podatnicy!#REF!","v":{"$error":"#REF!"}}]
[null,8833,{"$f":"Podatnicy!#REF!","v":{"$error":"#REF!"}},{"$f":"Podatnicy!#REF!","v":{"$error":"#REF!"}},{"$f":"Podatnicy!#REF!","v":{"$error":"#REF!"}}]
[null,8836,{"$f":"Podatnicy!#REF!","v":{"$error":"#REF!"}},{"$f":"Podatnicy!#REF!","v":{"$error":"#REF!"}},{"$f":"Podatnicy!#REF!","v":{"$error":"#REF!"}}]
[null,8843,{"$f":"Podatnicy!#REF!","v":{"$error":"#REF!"}},{"$f":"Podatnicy!#REF!","v":{"$error":"#REF!"}},{"$f":"Podatnicy!#REF!","v":{"$error":"#REF!"}}]
[null,8854,{"$f":"Podatnicy!#REF!","v":{"$error":"#REF!"}},{"$f":"Podatnicy!#REF!","v":{"$error":"#REF!"}},{"$f":"Podatnicy!#REF!","v":{"$error":"#REF!"}}]
[null,8866,{"$f":"Podatnicy!#REF!","v":{"$error":"#REF!"}},{"$f":"Podatnicy!#REF!","v":{"$error":"#REF!"}},{"$f":"Podatnicy!#REF!","v":{"$error":"#REF!"}}]
[null,8873,{"$f":"Podatnicy!#REF!","v":{"$error":"#REF!"}},{"$f":"Podatnicy!#REF!","v":{"$error":"#REF!"}},{"$f":"Podatnicy!#REF!","v":{"$error":"#REF!"}}]
[null,8882,{"$f":"Podatnicy!#REF!","v":{"$error":"#REF!"}},{"$f":"Podatnicy!#REF!","v":{"$error":"#REF!"}},{"$f":"Podatnicy!#REF!","v":{"$error":"#REF!"}}]
[null,8887,{"$f":"Podatnicy!#REF!","v":{"$error":"#REF!"}},{"$f":"Podatnicy!#REF!","v":{"$error":"#REF!"}},{"$f":"Podatnicy!#REF!","v":{"$error":"#REF!"}}]
[null,8903,{"$f":"Podatnicy!#REF!","v":{"$error":"#REF!"}},{"$f":"Podatnicy!#REF!","v":{"$error":"#REF!"}},{"$f":"Podatnicy!#REF!","v":{"$error":"#REF!"}}]
[null,8906,{"$f":"Podatnicy!#REF!","v":{"$error":"#REF!"}},{"$f":"Podatnicy!#REF!","v":{"$error":"#REF!"}},{"$f":"Podatnicy!#REF!","v":{"$error":"#REF!"}}]
[null,8913,{"$f":"Podatnicy!#REF!","v":{"$error":"#REF!"}},{"$f":"Podatnicy!#REF!","v":{"$error":"#REF!"}},{"$f":"Podatnicy!#REF!","v":{"$error":"#REF!"}}]
[null,8924,{"$f":"Podatnicy!#REF!","v":{"$error":"#REF!"}},{"$f":"Podatnicy!#REF!","v":{"$error":"#REF!"}},{"$f":"Podatnicy!#REF!","v":{"$error":"#REF!"}}]
[null,8936,{"$f":"Podatnicy!#REF!","v":{"$error":"#REF!"}},{"$f":"Podatnicy!#REF!","v":{"$error":"#REF!"}},{"$f":"Podatnicy!#REF!","v":{"$error":"#REF!"}}]
[null,8943,{"$f":"Podatnicy!#REF!","v":{"$error":"#REF!"}},{"$f":"Podatnicy!#REF!","v":{"$error":"#REF!"}},{"$f":"Podatnicy!#REF!","v":{"$error":"#REF!"}}]
[null,8952,{"$f":"Podatnicy!#REF!","v":{"$error":"#REF!"}},{"$f":"Podatnicy!#REF!","v":{"$error":"#REF!"}},{"$f":"Podatnicy!#REF!","v":{"$error":"#REF!"}}]
[null,8961,{"$f":"Podatnicy!#REF!","v":{"$error":"#REF!"}},{"$f":"Podatnicy!#REF!","v":{"$error":"#REF!"}},{"$f":"Podatnicy!#REF!","v":{"$error":"#REF!"}}]
[null,8973,{"$f":"Podatnicy!#REF!","v":{"$error":"#REF!"}},{"$f":"Podatnicy!#REF!","v":{"$error":"#REF!"}},{"$f":"Podatnicy!#REF!","v":{"$error":"#REF!"}}]
[null,8976,{"$f":"Podatnicy!#REF!","v":{"$error":"#REF!"}},{"$f":"Podatnicy!#REF!","v":{"$error":"#REF!"}},{"$f":"Podatnicy!#REF!","v":{"$error":"#REF!"}}]
[null,8983,{"$f":"Podatnicy!#REF!","v":{"$error":"#REF!"}},{"$f":"Podatnicy!#REF!","v":{"$error":"#REF!"}},{"$f":"Podatnicy!#REF!","v":{"$error":"#REF!"}}]
[null,8993,{"$f":"Podatnicy!#REF!","v":{"$error":"#REF!"}},{"$f":"Podatnicy!#REF!","v":{"$error":"#REF!"}},{"$f":"Podatnicy!#REF!","v":{"$error":"#REF!"}}]
[null,9006,{"$f":"Podatnicy!#REF!","v":{"$error":"#REF!"}},{"$f":"Podatnicy!#REF!","v":{"$error":"#REF!"}},{"$f":"Podatnicy!#REF!","v":{"$error":"#REF!"}}]
[null,9013,{"$f":"Podatnicy!#REF!","v":{"$error":"#REF!"}},{"$f":"Podatnicy!#REF!","v":{"$error":"#REF!"}},{"$f":"Podatnicy!#REF!","v":{"$error":"#REF!"}}]
[null,9025,{"$f":"Podatnicy!#REF!","v":{"$error":"#REF!"}},{"$f":"Podatnicy!#REF!","v":{"$error":"#REF!"}},{"$f":"Podatnicy!#REF!","v":{"$error":"#REF!"}}]
[null,9032,{"$f":"Podatnicy!#REF!","v":{"$error":"#REF!"}},{"$f":"Podatnicy!#REF!","v":{"$error":"#REF!"}},{"$f":"Podatnicy!#REF!","v":{"$error":"#REF!"}}]
[null,9043,{"$f":"Podatnicy!#REF!","v":{"$error":"#REF!"}},{"$f":"Podatnicy!#REF!","v":{"$error":"#REF!"}},{"$f":"Podatnicy!#REF!","v":{"$error":"#REF!"}}]
[null,9046,{"$f":"Podatnicy!#REF!","v":{"$error":"#REF!"}},{"$f":"Podatnicy!#REF!","v":{"$error":"#REF!"}},{"$f":"Podatnicy!#REF!","v":{"$error":"#REF!"}}]
[null,9053,{"$f":"Podatnicy!#REF!","v":{"$error":"#REF!"}},{"$f":"Podatnicy!#REF!","v":{"$error":"#REF!"}},{"$f":"Podatnicy!#REF!","v":{"$error":"#REF!"}}]
[null,9063,{"$f":"Podatnicy!#REF!","v":{"$error":"#REF!"}},{"$f":"Podatnicy!#REF!","v":{"$error":"#REF!"}},{"$f":"Podatnicy!#REF!","v":{"$error":"#REF!"}}]
[null,9071,{"$f":"Podatnicy!#REF!","v":{"$error":"#REF!"}},{"$f":"Podatnicy!#REF!","v":{"$error":"#REF!"}},{"$f":"Podatnicy!#REF!","v":{"$error":"#REF!"}}]
[null,9083,{"$f":"Podatnicy!#REF!","v":{"$error":"#REF!"}},{"$f":"Podatnicy!#REF!","v":{"$error":"#REF!"}},{"$f":"Podatnicy!#REF!","v":{"$error":"#REF!"}}]
[null,9095,{"$f":"Podatnicy!#REF!","v":{"$error":"#REF!"}},{"$f":"Podatnicy!#REF!","v":{"$error":"#REF!"}},{"$f":"Podatnicy!#REF!","v":{"$error":"#REF!"}}]
[null,9102,{"$f":"Podatnicy!#REF!","v":{"$error":"#REF!"}},{"$f":"Podatnicy!#REF!","v":{"$error":"#REF!"}},{"$f":"Podatnicy!#REF!","v":{"$error":"#REF!"}}]
[null,9113,{"$f":"Podatnicy!#REF!","v":{"$error":"#REF!"}},{"$f":"Podatnicy!#REF!","v":{"$error":"#REF!"}},{"$f":"Podatnicy!#REF!","v":{"$error":"#REF!"}}]
[null,9116,{"$f":"Podatnicy!#REF!","v":{"$error":"#REF!"}},{"$f":"Podatnicy!#REF!","v":{"$error":"#REF!"}},{"$f":"Podatnicy!#REF!","v":{"$error":"#REF!"}}]
[null,9123,{"$f":"Podatnicy!#REF!","v":{"$error":"#REF!"}},{"$f":"Podatnicy!#REF!","v":{"$error":"#REF!"}},{"$f":"Podatnicy!#REF!","v":{"$error":"#REF!"}}]
[null,9133,{"$f":"Podatnicy!#REF!","v":{"$error":"#REF!"}},{"$f":"Podatnicy!#REF!","v":{"$error":"#REF!"}},{"$f":"Podatnicy!#REF!","v":{"$error":"#REF!"}}]
[null,9141,{"$f":"Podatnicy!#REF!","v":{"$error":"#REF!"}},{"$f":"Podatnicy!#REF!","v":{"$error":"#REF!"}},{"$f":"Podatnicy!#REF!","v":{"$error":"#REF!"}}]
[null,9153,{"$f":"Podatnicy!#REF!","v":{"$error":"#REF!"}},{"$f":"Podatnicy!#REF!","v":{"$error":"#REF!"}},{"$f":"Podatnicy!#REF!","v":{"$error":"#REF!"}}]
[null,9165,{"$f":"Podatnicy!#REF!","v":{"$error":"#REF!"}},{"$f":"Podatnicy!#REF!","v":{"$error":"#REF!"}},{"$f":"Podatnicy!#REF!","v":{"$error":"#REF!"}}]
[null,9172,{"$f":"Podatnicy!#REF!","v":{"$error":"#REF!"}},{"$f":"Podatnicy!#REF!","v":{"$error":"#REF!"}},{"$f":"Podatnicy!#REF!","v":{"$error":"#REF!"}}]
[null,9183,{"$f":"Podatnicy!#REF!","v":{"$error":"#REF!"}},{"$f":"Podatnicy!#REF!","v":{"$error":"#REF!"}},{"$f":"Podatnicy!#REF!","v":{"$error":"#REF!"}}]
[null,9186,{"$f":"Podatnicy!#REF!","v":{"$error":"#REF!"}},{"$f":"Podatnicy!#REF!","v":{"$error":"#REF!"}},{"$f":"Podatnicy!#REF!","v":{"$error":"#REF!"}}]
[null,9193,{"$f":"Podatnicy!#REF!","v":{"$error":"#REF!"}},{"$f":"Podatnicy!#REF!","v":{"$error":"#REF!"}},{"$f":"Podatnicy!#REF!","v":{"$error":"#REF!"}}]
[null,9203,{"$f":"Podatnicy!#REF!","v":{"$error":"#REF!"}},{"$f":"Podatnicy!#REF!","v":{"$error":"#REF!"}},{"$f":"Podatnicy!#REF!","v":{"$error":"#REF!"}}]
[null,9211,{"$f":"Podatnicy!#REF!","v":{"$error":"#REF!"}},{"$f":"Podatnicy!#REF!","v":{"$error":"#REF!"}},{"$f":"Podatnicy!#REF!","v":{"$error":"#REF!"}}]
[null,9223,{"$f":"Podatnicy!#REF!","v":{"$error":"#REF!"}},{"$f":"Podatnicy!#REF!","v":{"$error":"#REF!"}},{"$f":"Podatnicy!#REF!","v":{"$error":"#REF!"}}]
[null,9235,{"$f":"Podatnicy!#REF!","v":{"$error":"#REF!"}},{"$f":"Podatnicy!#REF!","v":{"$error":"#REF!"}},{"$f":"Podatnicy!#REF!","v":{"$error":"#REF!"}}]
[null,9242,{"$f":"Podatnicy!#REF!","v":{"$error":"#REF!"}},{"$f":"Podatnicy!#REF!","v":{"$error":"#REF!"}},{"$f":"Podatnicy!#REF!","v":{"$error":"#REF!"}}]
[null,9253,{"$f":"Podatnicy!#REF!","v":{"$error":"#REF!"}},{"$f":"Podatnicy!#REF!","v":{"$error":"#REF!"}},{"$f":"Podatnicy!#REF!","v":{"$error":"#REF!"}}]
[null,9260,{"$f":"Podatnicy!#REF!","v":{"$error":"#REF!"}},{"$f":"Podatnicy!#REF!","v":{"$error":"#REF!"}},{"$f":"Podatnicy!#REF!","v":{"$error":"#REF!"}}]
[null,9263,{"$f":"Podatnicy!#REF!","v":{"$error":"#REF!"}},{"$f":"Podatnicy!#REF!","v":{"$error":"#REF!"}},{"$f":"Podatnicy!#REF!","v":{"$error":"#REF!"}}]
[null,9273,{"$f":"Podatnicy!#REF!","v":{"$error":"#REF!"}},{"$f":"Podatnicy!#REF!","v":{"$error":"#REF!"}},{"$f":"Podatnicy!#REF!","v":{"$error":"#REF!"}}]
[null,9281,{"$f":"Podatnicy!#REF!","v":{"$error":"#REF!"}},{"$f":"Podatnicy!#REF!","v":{"$error":"#REF!"}},{"$f":"Podatnicy!#REF!","v":{"$error":"#REF!"}}]
[null,9293,{"$f":"Podatnicy!#REF!","v":{"$error":"#REF!"}},{"$f":"Podatnicy!#REF!","v":{"$error":"#REF!"}},{"$f":"Podatnicy!#REF!","v":{"$error":"#REF!"}}]
[null,9305,{"$f":"Podatnicy!#REF!","v":{"$error":"#REF!"}},{"$f":"Podatnicy!#REF!","v":{"$error":"#REF!"}},{"$f":"Podatnicy!#REF!","v":{"$error":"#REF!"}}]
[null,9312,{"$f":"Podatnicy!#REF!","v":{"$error":"#REF!"}},{"$f":"Podatnicy!#REF!","v":{"$error":"#REF!"}},{"$f":"Podatnicy!#REF!","v":{"$error":"#REF!"}}]
[null,9322,{"$f":"Podatnicy!#REF!","v":{"$error":"#REF!"}},{"$f":"Podatnicy!#REF!","v":{"$error":"#REF!"}},{"$f":"Podatnicy!#REF!","v":{"$error":"#REF!"}}]
[null,9330,{"$f":"Podatnicy!#REF!","v":{"$error":"#REF!"}},{"$f":"Podatnicy!#REF!","v":{"$error":"#REF!"}},{"$f":"Podatnicy!#REF!","v":{"$error":"#REF!"}}]
[null,9333,{"$f":"Podatnicy!#REF!","v":{"$error":"#REF!"}},{"$f":"Podatnicy!#REF!","v":{"$error":"#REF!"}},{"$f":"Podatnicy!#REF!","v":{"$error":"#REF!"}}]
[null,9345,{"$f":"Podatnicy!#REF!","v":{"$error":"#REF!"}},{"$f":"Podatnicy!#REF!","v":{"$error":"#REF!"}},{"$f":"Podatnicy!#REF!","v":{"$error":"#REF!"}}]
[null,9353,{"$f":"Podatnicy!#REF!","v":{"$error":"#REF!"}},{"$f":"Podatnicy!#REF!","v":{"$error":"#REF!"}},{"$f":"Podatnicy!#REF!","v":{"$error":"#REF!"}}]
[null,9363,{"$f":"Podatnicy!#REF!","v":{"$error":"#REF!"}},{"$f":"Podatnicy!#REF!","v":{"$error":"#REF!"}},{"$f":"Podatnicy!#REF!","v":{"$error":"#REF!"}}]
[null,9375,{"$f":"Podatnicy!#REF!","v":{"$error":"#REF!"}},{"$f":"Podatnicy!#REF!","v":{"$error":"#REF!"}},{"$f":"Podatnicy!#REF!","v":{"$error":"#REF!"}}]
[null,9382,{"$f":"Podatnicy!#REF!","v":{"$error":"#REF!"}},{"$f":"Podatnicy!#REF!","v":{"$error":"#REF!"}},{"$f":"Podatnicy!#REF!","v":{"$error":"#REF!"}}]
[null,9392,{"$f":"Podatnicy!#REF!","v":{"$error":"#REF!"}},{"$f":"Podatnicy!#REF!","v":{"$error":"#REF!"}},{"$f":"Podatnicy!#REF!","v":{"$error":"#REF!"}}]
[null,9400,{"$f":"Podatnicy!#REF!","v":{"$error":"#REF!"}},{"$f":"Podatnicy!#REF!","v":{"$error":"#REF!"}},{"$f":"Podatnicy!#REF!","v":{"$error":"#REF!"}}]
[null,9403,{"$f":"Podatnicy!#REF!","v":{"$error":"#REF!"}},{"$f":"Podatnicy!#REF!","v":{"$error":"#REF!"}},{"$f":"Podatnicy!#REF!","v":{"$error":"#REF!"}}]
[null,9415,{"$f":"Podatnicy!#REF!","v":{"$error":"#REF!"}},{"$f":"Podatnicy!#REF!","v":{"$error":"#REF!"}},{"$f":"Podatnicy!#REF!","v":{"$error":"#REF!"}}]
[null,9423,{"$f":"Podatnicy!#REF!","v":{"$error":"#REF!"}},{"$f":"Podatnicy!#REF!","v":{"$error":"#REF!"}},{"$f":"Podatnicy!#REF!","v":{"$error":"#REF!"}}]
[null,9433,{"$f":"Podatnicy!#REF!","v":{"$error":"#REF!"}},{"$f":"Podatnicy!#REF!","v":{"$error":"#REF!"}},{"$f":"Podatnicy!#REF!","v":{"$error":"#REF!"}}]
[null,9440,{"$f":"Podatnicy!#REF!","v":{"$error":"#REF!"}},{"$f":"Podatnicy!#REF!","v":{"$error":"#REF!"}},{"$f":"Podatnicy!#REF!","v":{"$error":"#REF!"}}]
[null,9452,{"$f":"Podatnicy!#REF!","v":{"$error":"#REF!"}},{"$f":"Podatnicy!#REF!","v":{"$error":"#REF!"}},{"$f":"Podatnicy!#REF!","v":{"$error":"#REF!"}}]
[null,9462,{"$f":"Podatnicy!#REF!","v":{"$error":"#REF!"}},{"$f":"Podatnicy!#REF!","v":{"$error":"#REF!"}},{"$f":"Podatnicy!#REF!","v":{"$error":"#REF!"}}]
[null,9470,{"$f":"Podatnicy!#REF!","v":{"$error":"#REF!"}},{"$f":"Podatnicy!#REF!","v":{"$error":"#REF!"}},{"$f":"Podatnicy!#REF!","v":{"$error":"#REF!"}}]
[null,9473,{"$f":"Podatnicy!#REF!","v":{"$error":"#REF!"}},{"$f":"Podatnicy!#REF!","v":{"$error":"#REF!"}},{"$f":"Podatnicy!#REF!","v":{"$error":"#REF!"}}]
[null,9485,{"$f":"Podatnicy!#REF!","v":{"$error":"#REF!"}},{"$f":"Podatnicy!#REF!","v":{"$error":"#REF!"}},{"$f":"Podatnicy!#REF!","v":{"$error":"#REF!"}}]
[null,9493,{"$f":"Podatnicy!#REF!","v":{"$error":"#REF!"}},{"$f":"Podatnicy!#REF!","v":{"$error":"#REF!"}},{"$f":"Podatnicy!#REF!","v":{"$error":"#REF!"}}]
[null,9503,{"$f":"Podatnicy!#REF!","v":{"$error":"#REF!"}},{"$f":"Podatnicy!#REF!","v":{"$error":"#REF!"}},{"$f":"Podatnicy!#REF!","v":{"$error":"#REF!"}}]
[null,9510,{"$f":"Podatnicy!#REF!","v":{"$error":"#REF!"}},{"$f":"Podatnicy!#REF!","v":{"$error":"#REF!"}},{"$f":"Podatnicy!#REF!","v":{"$error":"#REF!"}}]
[null,9522,{"$f":"Podatnicy!#REF!","v":{"$error":"#REF!"}},{"$f":"Podatnicy!#REF!","v":{"$error":"#REF!"}},{"$f":"Podatnicy!#REF!","v":{"$error":"#REF!"}}]
[null,9532,{"$f":"Podatnicy!#REF!","v":{"$error":"#REF!"}},{"$f":"Podatnicy!#REF!","v":{"$error":"#REF!"}},{"$f":"Podatnicy!#REF!","v":{"$error":"#REF!"}}]
[null,9540,{"$f":"Podatnicy!#REF!","v":{"$error":"#REF!"}},{"$f":"Podatnicy!#REF!","v":{"$error":"#REF!"}},{"$f":"Podatnicy!#REF!","v":{"$error":"#REF!"}}]
[null,9543,{"$f":"Podatnicy!#REF!","v":{"$error":"#REF!"}},{"$f":"Podatnicy!#REF!","v":{"$error":"#REF!"}},{"$f":"Podatnicy!#REF!","v":{"$error":"#REF!"}}]
[null,9559,{"$f":"Podatnicy!#REF!","v":{"$error":"#REF!"}},{"$f":"Podatnicy!#REF!","v":{"$error":"#REF!"}},{"$f":"Podatnicy!#REF!","v":{"$error":"#REF!"}}]
[null,9563,{"$f":"Podatnicy!#REF!","v":{"$error":"#REF!"}},{"$f":"Podatnicy!#REF!","v":{"$error":"#REF!"}},{"$f":"Podatnicy!#REF!","v":{"$error":"#REF!"}}]
[null,9573,{"$f":"Podatnicy!#REF!","v":{"$error":"#REF!"}},{"$f":"Podatnicy!#REF!","v":{"$error":"#REF!"}},{"$f":"Podatnicy!#REF!","v":{"$error":"#REF!"}}]
[null,9580,{"$f":"Podatnicy!#REF!","v":{"$error":"#REF!"}},{"$f":"Podatnicy!#REF!","v":{"$error":"#REF!"}},{"$f":"Podatnicy!#REF!","v":{"$error":"#REF!"}}]
[null,9592,{"$f":"Podatnicy!#REF!","v":{"$error":"#REF!"}},{"$f":"Podatnicy!#REF!","v":{"$error":"#REF!"}},{"$f":"Podatnicy!#REF!","v":{"$error":"#REF!"}}]
[null,9604,{"$f":"Podatnicy!#REF!","v":{"$error":"#REF!"}},{"$f":"Podatnicy!#REF!","v":{"$error":"#REF!"}},{"$f":"Podatnicy!#REF!","v":{"$error":"#REF!"}}]
[null,9612,{"$f":"Podatnicy!#REF!","v":{"$error":"#REF!"}},{"$f":"Podatnicy!#REF!","v":{"$error":"#REF!"}},{"$f":"Podatnicy!#REF!","v":{"$error":"#REF!"}}]
[null,9613,{"$f":"Podatnicy!#REF!","v":{"$error":"#REF!"}},{"$f":"Podatnicy!#REF!","v":{"$error":"#REF!"}},{"$f":"Podatnicy!#REF!","v":{"$error":"#REF!"}}]
[null,9629,{"$f":"Podatnicy!#REF!","v":{"$error":"#REF!"}},{"$f":"Podatnicy!#REF!","v":{"$error":"#REF!"}},{"$f":"Podatnicy!#REF!","v":{"$error":"#REF!"}}]
[null,9632,{"$f":"Podatnicy!#REF!","v":{"$error":"#REF!"}},{"$f":"Podatnicy!#REF!","v":{"$error":"#REF!"}},{"$f":"Podatnicy!#REF!","v":{"$error":"#REF!"}}]
[null,9643,{"$f":"Podatnicy!#REF!","v":{"$error":"#REF!"}},{"$f":"Podatnicy!#REF!","v":{"$error":"#REF!"}},{"$f":"Podatnicy!#REF!","v":{"$error":"#REF!"}}]
[null,9650,{"$f":"Podatnicy!#REF!","v":{"$error":"#REF!"}},{"$f":"Podatnicy!#REF!","v":{"$error":"#REF!"}},{"$f":"Podatnicy!#REF!","v":{"$error":"#REF!"}}]
[null,9662,{"$f":"Podatnicy!#REF!","v":{"$error":"#REF!"}},{"$f":"Podatnicy!#REF!","v":{"$error":"#REF!"}},{"$f":"Podatnicy!#REF!","v":{"$error":"#REF!"}}]
[null,9674,{"$f":"Podatnicy!#REF!","v":{"$error":"#REF!"}},{"$f":"Podatnicy!#REF!","v":{"$error":"#REF!"}},{"$f":"Podatnicy!#REF!","v":{"$error":"#REF!"}}]
[null,9682,{"$f":"Podatnicy!#REF!","v":{"$error":"#REF!"}},{"$f":"Podatnicy!#REF!","v":{"$error":"#REF!"}},{"$f":"Podatnicy!#REF!","v":{"$error":"#REF!"}}]
[null,9683,{"$f":"Podatnicy!#REF!","v":{"$error":"#REF!"}},{"$f":"Podatnicy!#REF!","v":{"$error":"#REF!"}},{"$f":"Podatnicy!#REF!","v":{"$error":"#REF!"}}]
[null,9699,{"$f":"Podatnicy!#REF!","v":{"$error":"#REF!"}},{"$f":"Podatnicy!#REF!","v":{"$error":"#REF!"}},{"$f":"Podatnicy!#REF!","v":{"$error":"#REF!"}}]
[null,9702,{"$f":"Podatnicy!#REF!","v":{"$error":"#REF!"}},{"$f":"Podatnicy!#REF!","v":{"$error":"#REF!"}},{"$f":"Podatnicy!#REF!","v":{"$error":"#REF!"}}]
[null,9713,{"$f":"Podatnicy!#REF!","v":{"$error":"#REF!"}},{"$f":"Podatnicy!#REF!","v":{"$error":"#REF!"}},{"$f":"Podatnicy!#REF!","v":{"$error":"#REF!"}}]
[null,9720,{"$f":"Podatnicy!#REF!","v":{"$error":"#REF!"}},{"$f":"Podatnicy!#REF!","v":{"$error":"#REF!"}},{"$f":"Podatnicy!#REF!","v":{"$error":"#REF!"}}]
[null,9732,{"$f":"Podatnicy!#REF!","v":{"$error":"#REF!"}},{"$f":"Podatnicy!#REF!","v":{"$error":"#REF!"}},{"$f":"Podatnicy!#REF!","v":{"$error":"#REF!"}}]
[null,9739,{"$f":"Podatnicy!#REF!","v":{"$error":"#REF!"}},{"$f":"Podatnicy!#REF!","v":{"$error":"#REF!"}},{"$f":"Podatnicy!#REF!","v":{"$error":"#REF!"}}]
[null,9752,{"$f":"Podatnicy!#REF!","v":{"$error":"#REF!"}},{"$f":"Podatnicy!#REF!","v":{"$error":"#REF!"}},{"$f":"Podatnicy!#REF!","v":{"$error":"#REF!"}}]
[null,9753,{"$f":"Podatnicy!#REF!","v":{"$error":"#REF!"}},{"$f":"Podatnicy!#REF!","v":{"$error":"#REF!"}},{"$f":"Podatnicy!#REF!","v":{"$error":"#REF!"}}]
[null,9769,{"$f":"Podatnicy!#REF!","v":{"$error":"#REF!"}},{"$f":"Podatnicy!#REF!","v":{"$error":"#REF!"}},{"$f":"Podatnicy!#REF!","v":{"$error":"#REF!"}}]
[null,9772,{"$f":"Podatnicy!#REF!","v":{"$error":"#REF!"}},{"$f":"Podatnicy!#REF!","v":{"$error":"#REF!"}},{"$f":"Podatnicy!#REF!","v":{"$error":"#REF!"}}]
[null,9783,{"$f":"Podatnicy!#REF!","v":{"$error":"#REF!"}},{"$f":"Podatnicy!#REF!","v":{"$error":"#REF!"}},{"$f":"Podatnicy!#REF!","v":{"$error":"#REF!"}}]
[null,9790,{"$f":"Podatnicy!#REF!","v":{"$error":"#REF!"}},{"$f":"Podatnicy!#REF!","v":{"$error":"#REF!"}},{"$f":"Podatnicy!#REF!","v":{"$error":"#REF!"}}]
[null,9802,{"$f":"Podatnicy!#REF!","v":{"$error":"#REF!"}},{"$f":"Podatnicy!#REF!","v":{"$error":"#REF!"}},{"$f":"Podatnicy!#REF!","v":{"$error":"#REF!"}}]
[null,9809,{"$f":"Podatnicy!#REF!","v":{"$error":"#REF!"}},{"$f":"Podatnicy!#REF!","v":{"$error":"#REF!"}},{"$f":"Podatnicy!#REF!","v":{"$error":"#REF!"}}]
[null,9822,{"$f":"Podatnicy!#REF!","v":{"$error":"#REF!"}},{"$f":"Podatnicy!#REF!","v":{"$error":"#REF!"}},{"$f":"Podatnicy!#REF!","v":{"$error":"#REF!"}}]
[null,9823,{"$f":"Podatnicy!#REF!","v":{"$error":"#REF!"}},{"$f":"Podatnicy!#REF!","v":{"$error":"#REF!"}},{"$f":"Podatnicy!#REF!","v":{"$error":"#REF!"}}]
[null,9839,{"$f":"Podatnicy!#REF!","v":{"$error":"#REF!"}},{"$f":"Podatnicy!#REF!","v":{"$error":"#REF!"}},{"$f":"Podatnicy!#REF!","v":{"$error":"#REF!"}}]
[null,9842,{"$f":"Podatnicy!#REF!","v":{"$error":"#REF!"}},{"$f":"Podatnicy!#REF!","v":{"$error":"#REF!"}},{"$f":"Podatnicy!#REF!","v":{"$error":"#REF!"}}]
[null,9853,{"$f":"Podatnicy!#REF!","v":{"$error":"#REF!"}},{"$f":"Podatnicy!#REF!","v":{"$error":"#REF!"}},{"$f":"Podatnicy!#REF!","v":{"$error":"#REF!"}}]
[null,9860,{"$f":"Podatnicy!#REF!","v":{"$error":"#REF!"}},{"$f":"Podatnicy!#REF!","v":{"$error":"#REF!"}},{"$f":"Podatnicy!#REF!","v":{"$error":"#REF!"}}]
[null,9872,{"$f":"Podatnicy!#REF!","v":{"$error":"#REF!"}},{"$f":"Podatnicy!#REF!","v":{"$error":"#REF!"}},{"$f":"Podatnicy!#REF!","v":{"$error":"#REF!"}}]
[null,9879,{"$f":"Podatnicy!#REF!","v":{"$error":"#REF!"}},{"$f":"Podatnicy!#REF!","v":{"$error":"#REF!"}},{"$f":"Podatnicy!#REF!","v":{"$error":"#REF!"}}]
[null,9891,{"$f":"Podatnicy!#REF!","v":{"$error":"#REF!"}},{"$f":"Podatnicy!#REF!","v":{"$error":"#REF!"}},{"$f":"Podatnicy!#REF!","v":{"$error":"#REF!"}}]
[null,9894,{"$f":"Podatnicy!#REF!","v":{"$error":"#REF!"}},{"$f":"Podatnicy!#REF!","v":{"$error":"#REF!"}},{"$f":"Podatnicy!#REF!","v":{"$error":"#REF!"}}]
[null,9909,{"$f":"Podatnicy!#REF!","v":{"$error":"#REF!"}},{"$f":"Podatnicy!#REF!","v":{"$error":"#REF!"}},{"$f":"Podatnicy!#REF!","v":{"$error":"#REF!"}}]
[null,9912,{"$f":"Podatnicy!#REF!","v":{"$error":"#REF!"}},{"$f":"Podatnicy!#REF!","v":{"$error":"#REF!"}},{"$f":"Podatnicy!#REF!","v":{"$error":"#REF!"}}]
[null,9928,{"$f":"Podatnicy!#REF!","v":{"$error":"#REF!"}},{"$f":"Podatnicy!#REF!","v":{"$error":"#REF!"}},{"$f":"Podatnicy!#REF!","v":{"$error":"#REF!"}}]
[null,9933,{"$f":"Podatnicy!#REF!","v":{"$error":"#REF!"}},{"$f":"Podatnicy!#REF!","v":{"$error":"#REF!"}},{"$f":"Podatnicy!#REF!","v":{"$error":"#REF!"}}]
[null,9942,{"$f":"Podatnicy!#REF!","v":{"$error":"#REF!"}},{"$f":"Podatnicy!#REF!","v":{"$error":"#REF!"}},{"$f":"Podatnicy!#REF!","v":{"$error":"#REF!"}}]
[null,9949,{"$f":"Podatnicy!#REF!","v":{"$error":"#REF!"}},{"$f":"Podatnicy!#REF!","v":{"$error":"#REF!"}},{"$f":"Podatnicy!#REF!","v":{"$error":"#REF!"}}]
[null,9961,{"$f":"Podatnicy!#REF!","v":{"$error":"#REF!"}},{"$f":"Podatnicy!#REF!","v":{"$error":"#REF!"}},{"$f":"Podatnicy!#REF!","v":{"$error":"#REF!"}}]
[null,9964,{"$f":"Podatnicy!#REF!","v":{"$error":"#REF!"}},{"$f":"Podatnicy!#REF!","v":{"$error":"#REF!"}},{"$f":"Podatnicy!#REF!","v":{"$error":"#REF!"}}]
[null,9979,{"$f":"Podatnicy!#REF!","v":{"$error":"#REF!"}},{"$f":"Podatnicy!#REF!","v":{"$error":"#REF!"}},{"$f":"Podatnicy!#REF!","v":{"$error":"#REF!"}}]
[null,9982,{"$f":"Podatnicy!#REF!","v":{"$error":"#REF!"}},{"$f":"Podatnicy!#REF!","v":{"$error":"#REF!"}},{"$f":"Podatnicy!#REF!","v":{"$error":"#REF!"}}]
[null,9998,{"$f":"Podatnicy!#REF!","v":{"$error":"#REF!"}},{"$f":"Podatnicy!#REF!","v":{"$error":"#REF!"}},{"$f":"Podatnicy!#REF!","v":{"$error":"#REF!"}}]
[null,10003,{"$f":"Podatnicy!#REF!","v":{"$error":"#REF!"}},{"$f":"Podatnicy!#REF!","v":{"$error":"#REF!"}},{"$f":"Podatnicy!#REF!","v":{"$error":"#REF!"}}]
[null,10012,{"$f":"Podatnicy!#REF!","v":{"$error":"#REF!"}},{"$f":"Podatnicy!#REF!","v":{"$error":"#REF!"}},{"$f":"Podatnicy!#REF!","v":{"$error":"#REF!"}}]
[null,10019,{"$f":"Podatnicy!#REF!","v":{"$error":"#REF!"}},{"$f":"Podatnicy!#REF!","v":{"$error":"#REF!"}},{"$f":"Podatnicy!#REF!","v":{"$error":"#REF!"}}]
[null,10031,{"$f":"Podatnicy!#REF!","v":{"$error":"#REF!"}},{"$f":"Podatnicy!#REF!","v":{"$error":"#REF!"}},{"$f":"Podatnicy!#REF!","v":{"$error":"#REF!"}}]
[null,10034,{"$f":"Podatnicy!#REF!","v":{"$error":"#REF!"}},{"$f":"Podatnicy!#REF!","v":{"$error":"#REF!"}},{"$f":"Podatnicy!#REF!","v":{"$error":"#REF!"}}]
[null,10049,{"$f":"Podatnicy!#REF!","v":{"$error":"#REF!"}},{"$f":"Podatnicy!#REF!","v":{"$error":"#REF!"}},{"$f":"Podatnicy!#REF!","v":{"$error":"#REF!"}}]
[null,10052,{"$f":"Podatnicy!#REF!","v":{"$error":"#REF!"}},{"$f":"Podatnicy!#REF!","v":{"$error":"#REF!"}},{"$f":"Podatnicy!#REF!","v":{"$error":"#REF!"}}]
[null,10068,{"$f":"Podatnicy!#REF!","v":{"$error":"#REF!"}},{"$f":"Podatnicy!#REF!","v":{"$error":"#REF!"}},{"$f":"Podatnicy!#REF!","v":{"$error":"#REF!"}}]
[null,10073,{"$f":"Podatnicy!#REF!","v":{"$error":"#REF!"}},{"$f":"Podatnicy!#REF!","v":{"$error":"#REF!"}},{"$f":"Podatnicy!#REF!","v":{"$error":"#REF!"}}]
[null,10082,{"$f":"Podatnicy!#REF!","v":{"$error":"#REF!"}},{"$f":"Podatnicy!#REF!","v":{"$error":"#REF!"}},{"$f":"Podatnicy!#REF!","v":{"$error":"#REF!"}}]
[null,10089,{"$f":"Podatnicy!#REF!","v":{"$error":"#REF!"}},{"$f":"Podatnicy!#REF!","v":{"$error":"#REF!"}},{"$f":"Podatnicy!#REF!","v":{"$error":"#REF!"}}]
[null,10101,{"$f":"Podatnicy!#REF!","v":{"$error":"#REF!"}},{"$f":"Podatnicy!#REF!","v":{"$error":"#REF!"}},{"$f":"Podatnicy!#REF!","v":{"$error":"#REF!"}}]
[null,10104,{"$f":"Podatnicy!#REF!","v":{"$error":"#REF!"}},{"$f":"Podatnicy!#REF!","v":{"$error":"#REF!"}},{"$f":"Podatnicy!#REF!","v":{"$error":"#REF!"}}]
[null,10119,{"$f":"Podatnicy!#REF!","v":{"$error":"#REF!"}},{"$f":"Podatnicy!#REF!","v":{"$error":"#REF!"}},{"$f":"Podatnicy!#REF!","v":{"$error":"#REF!"}}]
[null,10122,{"$f":"Podatnicy!#REF!","v":{"$error":"#REF!"}},{"$f":"Podatnicy!#REF!","v":{"$error":"#REF!"}},{"$f":"Podatnicy!#REF!","v":{"$error":"#REF!"}}]
[null,10138,{"$f":"Podatnicy!#REF!","v":{"$error":"#REF!"}},{"$f":"Podatnicy!#REF!","v":{"$error":"#REF!"}},{"$f":"Podatnicy!#REF!","v":{"$error":"#REF!"}}]
[null,10143,{"$f":"Podatnicy!#REF!","v":{"$error":"#REF!"}},{"$f":"Podatnicy!#REF!","v":{"$error":"#REF!"}},{"$f":"Podatnicy!#REF!","v":{"$error":"#REF!"}}]
[null,10152,{"$f":"Podatnicy!#REF!","v":{"$error":"#REF!"}},{"$f":"Podatnicy!#REF!","v":{"$error":"#REF!"}},{"$f":"Podatnicy!#REF!","v":{"$error":"#REF!"}}]
[null,10159,{"$f":"Podatnicy!#REF!","v":{"$error":"#REF!"}},{"$f":"Podatnicy!#REF!","v":{"$error":"#REF!"}},{"$f":"Podatnicy!#REF!","v":{"$error":"#REF!"}}]
[null,10171,{"$f":"Podatnicy!#REF!","v":{"$error":"#REF!"}},{"$f":"Podatnicy!#REF!","v":{"$error":"#REF!"}},{"$f":"Podatnicy!#REF!","v":{"$error":"#REF!"}}]
[null,10178,{"$f":"Podatnicy!#REF!","v":{"$error":"#REF!"}},{"$f":"Podatnicy!#REF!","v":{"$error":"#REF!"}},{"$f":"Podatnicy!#REF!","v":{"$error":"#REF!"}}]
[null,10184,{"$f":"Podatnicy!#REF!","v":{"$error":"#REF!"}},{"$f":"Podatnicy!#REF!","v":{"$error":"#REF!"}},{"$f":"Podatnicy!#REF!","v":{"$error":"#REF!"}}]
[null,10192,{"$f":"Podatnicy!#REF!","v":{"$error":"#REF!"}},{"$f":"Podatnicy!#REF!","v":{"$error":"#REF!"}},{"$f":"Podatnicy!#REF!","v":{"$error":"#REF!"}}]
[null,10208,{"$f":"Podatnicy!#REF!","v":{"$error":"#REF!"}},{"$f":"Podatnicy!#REF!","v":{"$error":"#REF!"}},{"$f":"Podatnicy!#REF!","v":{"$error":"#REF!"}}]
[null,10211,{"$f":"Podatnicy!#REF!","v":{"$error":"#REF!"}},{"$f":"Podatnicy!#REF!","v":{"$error":"#REF!"}},{"$f":"Podatnicy!#REF!","v":{"$error":"#REF!"}}]
[null,10223,{"$f":"Podatnicy!#REF!","v":{"$error":"#REF!"}},{"$f":"Podatnicy!#REF!","v":{"$error":"#REF!"}},{"$f":"Podatnicy!#REF!","v":{"$error":"#REF!"}}]
[null,10229,{"$f":"Podatnicy!#REF!","v":{"$error":"#REF!"}},{"$f":"Podatnicy!#REF!","v":{"$error":"#REF!"}},{"$f":"Podatnicy!#REF!","v":{"$error":"#REF!"}}]
[null,10241,{"$f":"Podatnicy!#REF!","v":{"$error":"#REF!"}},{"$f":"Podatnicy!#REF!","v":{"$error":"#REF!"}},{"$f":"Podatnicy!#REF!","v":{"$error":"#REF!"}}]
[null,10248,{"$f":"Podatnicy!#REF!","v":{"$error":"#REF!"}},{"$f":"Podatnicy!#REF!","v":{"$error":"#REF!"}},{"$f":"Podatnicy!#REF!","v":{"$error":"#REF!"}}]
[null,10254,{"$f":"Podatnicy!#REF!","v":{"$error":"#REF!"}},{"$f":"Podatnicy!#REF!","v":{"$error":"#REF!"}},{"$f":"Podatnicy!#REF!","v":{"$error":"#REF!"}}]
[null,10262,{"$f":"Podatnicy!#REF!","v":{"$error":"#REF!"}},{"$f":"Podatnicy!#REF!","v":{"$error":"#REF!"}},{"$f":"Podatnicy!#REF!","v":{"$error":"#REF!"}}]
[null,10278,{"$f":"Podatnicy!#REF!","v":{"$error":"#REF!"}},{"$f":"Podatnicy!#REF!","v":{"$error":"#REF!"}},{"$f":"Podatnicy!#REF!","v":{"$error":"#REF!"}}]
[null,10281,{"$f":"Podatnicy!#REF!","v":{"$error":"#REF!"}},{"$f":"Podatnicy!#REF!","v":{"$error":"#REF!"}},{"$f":"Podatnicy!#REF!","v":{"$error":"#REF!"}}]
[null,10293,{"$f":"Podatnicy!#REF!","v":{"$error":"#REF!"}},{"$f":"Podatnicy!#REF!","v":{"$error":"#REF!"}},{"$f":"Podatnicy!#REF!","v":{"$error":"#REF!"}}]
[null,10299,{"$f":"Podatnicy!#REF!","v":{"$error":"#REF!"}},{"$f":"Podatnicy!#REF!","v":{"$error":"#REF!"}},{"$f":"Podatnicy!#REF!","v":{"$error":"#REF!"}}]
[null,10311,{"$f":"Podatnicy!#REF!","v":{"$error":"#REF!"}},{"$f":"Podatnicy!#REF!","v":{"$error":"#REF!"}},{"$f":"Podatnicy!#REF!","v":{"$error":"#REF!"}}]
[null,10318,{"$f":"Podatnicy!#REF!","v":{"$error":"#REF!"}},{"$f":"Podatnicy!#REF!","v":{"$error":"#REF!"}},{"$f":"Podatnicy!#REF!","v":{"$error":"#REF!"}}]
[null,10324,{"$f":"Podatnicy!#REF!","v":{"$error":"#REF!"}},{"$f":"Podatnicy!#REF!","v":{"$error":"#REF!"}},{"$f":"Podatnicy!#REF!","v":{"$error":"#REF!"}}]
[null,10336,{"$f":"Podatnicy!#REF!","v":{"$error":"#REF!"}},{"$f":"Podatnicy!#REF!","v":{"$error":"#REF!"}},{"$f":"Podatnicy!#REF!","v":{"$error":"#REF!"}}]
[null,10348,{"$f":"Podatnicy!#REF!","v":{"$error":"#REF!"}},{"$f":"Podatnicy!#REF!","v":{"$error":"#REF!"}},{"$f":"Podatnicy!#REF!","v":{"$error":"#REF!"}}]
[null,10351,{"$f":"Podatnicy!#REF!","v":{"$error":"#REF!"}},{"$f":"Podatnicy!#REF!","v":{"$error":"#REF!"}},{"$f":"Podatnicy!#REF!","v":{"$error":"#REF!"}}]
[null,10363,{"$f":"Podatnicy!#REF!","v":{"$error":"#REF!"}},{"$f":"Podatnicy!#REF!","v":{"$error":"#REF!"}},{"$f":"Podatnicy!#REF!","v":{"$error":"#REF!"}}]
[null,10369,{"$f":"Podatnicy!#REF!","v":{"$error":"#REF!"}},{"$f":"Podatnicy!#REF!","v":{"$error":"#REF!"}},{"$f":"Podatnicy!#REF!","v":{"$error":"#REF!"}}]
[null,10381,{"$f":"Podatnicy!#REF!","v":{"$error":"#REF!"}},{"$f":"Podatnicy!#REF!","v":{"$error":"#REF!"}},{"$f":"Podatnicy!#REF!","v":{"$error":"#REF!"}}]
[null,10388,{"$f":"Podatnicy!#REF!","v":{"$error":"#REF!"}},{"$f":"Podatnicy!#REF!","v":{"$error":"#REF!"}},{"$f":"Podatnicy!#REF!","v":{"$error":"#REF!"}}]
[null,10394,{"$f":"Podatnicy!#REF!","v":{"$error":"#REF!"}},{"$f":"Podatnicy!#REF!","v":{"$error":"#REF!"}},{"$f":"Podatnicy!#REF!","v":{"$error":"#REF!"}}]
[null,10406,{"$f":"Podatnicy!#REF!","v":{"$error":"#REF!"}},{"$f":"Podatnicy!#REF!","v":{"$error":"#REF!"}},{"$f":"Podatnicy!#REF!","v":{"$error":"#REF!"}}]
[null,10418,{"$f":"Podatnicy!#REF!","v":{"$error":"#REF!"}},{"$f":"Podatnicy!#REF!","v":{"$error":"#REF!"}},{"$f":"Podatnicy!#REF!","v":{"$error":"#REF!"}}]
[null,10421,{"$f":"Podatnicy!#REF!","v":{"$error":"#REF!"}},{"$f":"Podatnicy!#REF!","v":{"$error":"#REF!"}},{"$f":"Podatnicy!#REF!","v":{"$error":"#REF!"}}]
[null,10433,{"$f":"Podatnicy!#REF!","v":{"$error":"#REF!"}},{"$f":"Podatnicy!#REF!","v":{"$error":"#REF!"}},{"$f":"Podatnicy!#REF!","v":{"$error":"#REF!"}}]
[null,10439,{"$f":"Podatnicy!#REF!","v":{"$error":"#REF!"}},{"$f":"Podatnicy!#REF!","v":{"$error":"#REF!"}},{"$f":"Podatnicy!#REF!","v":{"$error":"#REF!"}}]
[null,10451,{"$f":"Podatnicy!#REF!","v":{"$error":"#REF!"}},{"$f":"Podatnicy!#REF!","v":{"$error":"#REF!"}},{"$f":"Podatnicy!#REF!","v":{"$error":"#REF!"}}]
[null,10458,{"$f":"Podatnicy!#REF!","v":{"$error":"#REF!"}},{"$f":"Podatnicy!#REF!","v":{"$error":"#REF!"}},{"$f":"Podatnicy!#REF!","v":{"$error":"#REF!"}}]
[null,10470,{"$f":"Podatnicy!#REF!","v":{"$error":"#REF!"}},{"$f":"Podatnicy!#REF!","v":{"$error":"#REF!"}},{"$f":"Podatnicy!#REF!","v":{"$error":"#REF!"}}]
[null,10474,{"$f":"Podatnicy!#REF!","v":{"$error":"#REF!"}},{"$f":"Podatnicy!#REF!","v":{"$error":"#REF!"}},{"$f":"Podatnicy!#REF!","v":{"$error":"#REF!"}}]
[null,10488,{"$f":"Podatnicy!#REF!","v":{"$error":"#REF!"}},{"$f":"Podatnicy!#REF!","v":{"$error":"#REF!"}},{"$f":"Podatnicy!#REF!","v":{"$error":"#REF!"}}]
[null,10491,{"$f":"Podatnicy!#REF!","v":{"$error":"#REF!"}},{"$f":"Podatnicy!#REF!","v":{"$error":"#REF!"}},{"$f":"Podatnicy!#REF!","v":{"$error":"#REF!"}}]
[null,10498,{"$f":"Podatnicy!#REF!","v":{"$error":"#REF!"}},{"$f":"Podatnicy!#REF!","v":{"$error":"#REF!"}},{"$f":"Podatnicy!#REF!","v":{"$error":"#REF!"}}]
[null,10513,{"$f":"Podatnicy!#REF!","v":{"$error":"#REF!"}},{"$f":"Podatnicy!#REF!","v":{"$error":"#REF!"}},{"$f":"Podatnicy!#REF!","v":{"$error":"#REF!"}}]
[null,10516,{"$f":"Podatnicy!#REF!","v":{"$error":"#REF!"}},{"$f":"Podatnicy!#REF!","v":{"$error":"#REF!"}},{"$f":"Podatnicy!#REF!","v":{"$error":"#REF!"}}]
[null,10528,{"$f":"Podatnicy!#REF!","v":{"$error":"#REF!"}},{"$f":"Podatnicy!#REF!","v":{"$error":"#REF!"}},{"$f":"Podatnicy!#REF!","v":{"$error":"#REF!"}}]
[null,10540,{"$f":"Podatnicy!#REF!","v":{"$error":"#REF!"}},{"$f":"Podatnicy!#REF!","v":{"$error":"#REF!"}},{"$f":"Podatnicy!#REF!","v":{"$error":"#REF!"}}]
[null,10544,{"$f":"Podatnicy!#REF!","v":{"$error":"#REF!"}},{"$f":"Podatnicy!#REF!","v":{"$error":"#REF!"}},{"$f":"Podatnicy!#REF!","v":{"$error":"#REF!"}}]
[null,10558,{"$f":"Podatnicy!#REF!","v":{"$error":"#REF!"}},{"$f":"Podatnicy!#REF!","v":{"$error":"#REF!"}},{"$f":"Podatnicy!#REF!","v":{"$error":"#REF!"}}]
[null,10561,{"$f":"Podatnicy!#REF!","v":{"$error":"#REF!"}},{"$f":"Podatnicy!#REF!","v":{"$error":"#REF!"}},{"$f":"Podatnicy!#REF!","v":{"$error":"#REF!"}}]
[null,10568,{"$f":"Podatnicy!#REF!","v":{"$error":"#REF!"}},{"$f":"Podatnicy!#REF!","v":{"$error":"#REF!"}},{"$f":"Podatnicy!#REF!","v":{"$error":"#REF!"}}]
[null,10583,{"$f":"Podatnicy!#REF!","v":{"$error":"#REF!"}},{"$f":"Podatnicy!#REF!","v":{"$error":"#REF!"}},{"$f":"Podatnicy!#REF!","v":{"$error":"#REF!"}}]
[null,10586,{"$f":"Podatnicy!#REF!","v":{"$error":"#REF!"}},{"$f":"Podatnicy!#REF!","v":{"$error":"#REF!"}},{"$f":"Podatnicy!#REF!","v":{"$error":"#REF!"}}]
[null,10598,{"$f":"Podatnicy!#REF!","v":{"$error":"#REF!"}},{"$f":"Podatnicy!#REF!","v":{"$error":"#REF!"}},{"$f":"Podatnicy!#REF!","v":{"$error":"#REF!"}}]
[null,10610,{"$f":"Podatnicy!#REF!","v":{"$error":"#REF!"}},{"$f":"Podatnicy!#REF!","v":{"$error":"#REF!"}},{"$f":"Podatnicy!#REF!","v":{"$error":"#REF!"}}]
[null,10614,{"$f":"Podatnicy!#REF!","v":{"$error":"#REF!"}},{"$f":"Podatnicy!#REF!","v":{"$error":"#REF!"}},{"$f":"Podatnicy!#REF!","v":{"$error":"#REF!"}}]
[null,10628,{"$f":"Podatnicy!#REF!","v":{"$error":"#REF!"}},{"$f":"Podatnicy!#REF!","v":{"$error":"#REF!"}},{"$f":"Podatnicy!#REF!","v":{"$error":"#REF!"}}]
[null,10635,{"$f":"Podatnicy!#REF!","v":{"$error":"#REF!"}},{"$f":"Podatnicy!#REF!","v":{"$error":"#REF!"}},{"$f":"Podatnicy!#REF!","v":{"$error":"#REF!"}}]
[null,10638,{"$f":"Podatnicy!#REF!","v":{"$error":"#REF!"}},{"$f":"Podatnicy!#REF!","v":{"$error":"#REF!"}},{"$f":"Podatnicy!#REF!","v":{"$error":"#REF!"}}]
[null,10653,{"$f":"Podatnicy!#REF!","v":{"$error":"#REF!"}},{"$f":"Podatnicy!#REF!","v":{"$error":"#REF!"}},{"$f":"Podatnicy!#REF!","v":{"$error":"#REF!"}}]
[null,10656,{"$f":"Podatnicy!#REF!","v":{"$error":"#REF!"}},{"$f":"Podatnicy!#REF!","v":{"$error":"#REF!"}},{"$f":"Podatnicy!#REF!","v":{"$error":"#REF!"}}]
[null,10668,{"$f":"Podatnicy!#REF!","v":{"$error":"#REF!"}},{"$f":"Podatnicy!#REF!","v":{"$error":"#REF!"}},{"$f":"Podatnicy!#REF!","v":{"$error":"#REF!"}}]
[null,10680,{"$f":"Podatnicy!#REF!","v":{"$error":"#REF!"}},{"$f":"Podatnicy!#REF!","v":{"$error":"#REF!"}},{"$f":"Podatnicy!#REF!","v":{"$error":"#REF!"}}]
[null,10684,{"$f":"Podatnicy!#REF!","v":{"$error":"#REF!"}},{"$f":"Podatnicy!#REF!","v":{"$error":"#REF!"}},{"$f":"Podatnicy!#REF!","v":{"$error":"#REF!"}}]
[null,10698,{"$f":"Podatnicy!#REF!","v":{"$error":"#REF!"}},{"$f":"Podatnicy!#REF!","v":{"$error":"#REF!"}},{"$f":"Podatnicy!#REF!","v":{"$error":"#REF!"}}]
[null,10705,{"$f":"Podatnicy!#REF!","v":{"$error":"#REF!"}},{"$f":"Podatnicy!#REF!","v":{"$error":"#REF!"}},{"$f":"Podatnicy!#REF!","v":{"$error":"#REF!"}}]
[null,10708,{"$f":"Podatnicy!#REF!","v":{"$error":"#REF!"}},{"$f":"Podatnicy!#REF!","v":{"$error":"#REF!"}},{"$f":"Podatnicy!#REF!","v":{"$error":"#REF!"}}]
[null,10723,{"$f":"Podatnicy!#REF!","v":{"$error":"#REF!"}},{"$f":"Podatnicy!#REF!","v":{"$error":"#REF!"}},{"$f":"Podatnicy!#REF!","v":{"$error":"#REF!"}}]
[null,10726,{"$f":"Podatnicy!#REF!","v":{"$error":"#REF!"}},{"$f":"Podatnicy!#REF!","v":{"$error":"#REF!"}},{"$f":"Podatnicy!#REF!","v":{"$error":"#REF!"}}]
[null,10738,{"$f":"Podatnicy!#REF!","v":{"$error":"#REF!"}},{"$f":"Podatnicy!#REF!","v":{"$error":"#REF!"}},{"$f":"Podatnicy!#REF!","v":{"$error":"#REF!"}}]
[null,10750,{"$f":"Podatnicy!#REF!","v":{"$error":"#REF!"}},{"$f":"Podatnicy!#REF!","v":{"$error":"#REF!"}},{"$f":"Podatnicy!#REF!","v":{"$error":"#REF!"}}]
[null,10757,{"$f":"Podatnicy!#REF!","v":{"$error":"#REF!"}},{"$f":"Podatnicy!#REF!","v":{"$error":"#REF!"}},{"$f":"Podatnicy!#REF!","v":{"$error":"#REF!"}}]
[null,10764,{"$f":"Podatnicy!#REF!","v":{"$error":"#REF!"}},{"$f":"Podatnicy!#REF!","v":{"$error":"#REF!"}},{"$f":"Podatnicy!#REF!","v":{"$error":"#REF!"}}]
[null,10775,{"$f":"Podatnicy!#REF!","v":{"$error":"#REF!"}},{"$f":"Podatnicy!#REF!","v":{"$error":"#REF!"}},{"$f":"Podatnicy!#REF!","v":{"$error":"#REF!"}}]
[null,10778,{"$f":"Podatnicy!#REF!","v":{"$error":"#REF!"}},{"$f":"Podatnicy!#REF!","v":{"$error":"#REF!"}},{"$f":"Podatnicy!#REF!","v":{"$error":"#REF!"}}]
[null,10790,{"$f":"Podatnicy!#REF!","v":{"$error":"#REF!"}},{"$f":"Podatnicy!#REF!","v":{"$error":"#REF!"}},{"$f":"Podatnicy!#REF!","v":{"$error":"#REF!"}}]
[null,10803,{"$f":"Podatnicy!#REF!","v":{"$error":"#REF!"}},{"$f":"Podatnicy!#REF!","v":{"$error":"#REF!"}},{"$f":"Podatnicy!#REF!","v":{"$error":"#REF!"}}]
[null,10808,{"$f":"Podatnicy!#REF!","v":{"$error":"#REF!"}},{"$f":"Podatnicy!#REF!","v":{"$error":"#REF!"}},{"$f":"Podatnicy!#REF!","v":{"$error":"#REF!"}}]
[null,10815,{"$f":"Podatnicy!#REF!","v":{"$error":"#REF!"}},{"$f":"Podatnicy!#REF!","v":{"$error":"#REF!"}},{"$f":"Podatnicy!#REF!","v":{"$error":"#REF!"}}]
[null,10827,{"$f":"Podatnicy!#REF!","v":{"$error":"#REF!"}},{"$f":"Podatnicy!#REF!","v":{"$error":"#REF!"}},{"$f":"Podatnicy!#REF!","v":{"$error":"#REF!"}}]
[null,10834,{"$f":"Podatnicy!#REF!","v":{"$error":"#REF!"}},{"$f":"Podatnicy!#REF!","v":{"$error":"#REF!"}},{"$f":"Podatnicy!#REF!","v":{"$error":"#REF!"}}]
[null,10845,{"$f":"Podatnicy!#REF!","v":{"$error":"#REF!"}},{"$f":"Podatnicy!#REF!","v":{"$error":"#REF!"}},{"$f":"Podatnicy!#REF!","v":{"$error":"#REF!"}}]
[null,10848,{"$f":"Podatnicy!#REF!","v":{"$error":"#REF!"}},{"$f":"Podatnicy!#REF!","v":{"$error":"#REF!"}},{"$f":"Podatnicy!#REF!","v":{"$error":"#REF!"}}]
[null,10860,{"$f":"Podatnicy!#REF!","v":{"$error":"#REF!"}},{"$f":"Podatnicy!#REF!","v":{"$error":"#REF!"}},{"$f":"Podatnicy!#REF!","v":{"$error":"#REF!"}}]
[null,10873,{"$f":"Podatnicy!#REF!","v":{"$error":"#REF!"}},{"$f":"Podatnicy!#REF!","v":{"$error":"#REF!"}},{"$f":"Podatnicy!#REF!","v":{"$error":"#REF!"}}]
[null,10878,{"$f":"Podatnicy!#REF!","v":{"$error":"#REF!"}},{"$f":"Podatnicy!#REF!","v":{"$error":"#REF!"}},{"$f":"Podatnicy!#REF!","v":{"$error":"#REF!"}}]
[null,10885,{"$f":"Podatnicy!#REF!","v":{"$error":"#REF!"}},{"$f":"Podatnicy!#REF!","v":{"$error":"#REF!"}},{"$f":"Podatnicy!#REF!","v":{"$error":"#REF!"}}]
[null,10897,{"$f":"Podatnicy!#REF!","v":{"$error":"#REF!"}},{"$f":"Podatnicy!#REF!","v":{"$error":"#REF!"}},{"$f":"Podatnicy!#REF!","v":{"$error":"#REF!"}}]
[null,10904,{"$f":"Podatnicy!#REF!","v":{"$error":"#REF!"}},{"$f":"Podatnicy!#REF!","v":{"$error":"#REF!"}},{"$f":"Podatnicy!#REF!","v":{"$error":"#REF!"}}]
[null,10915,{"$f":"Podatnicy!#REF!","v":{"$error":"#REF!"}},{"$f":"Podatnicy!#REF!","v":{"$error":"#REF!"}},{"$f":"Podatnicy!#REF!","v":{"$error":"#REF!"}}]
[null,10918,{"$f":"Podatnicy!#REF!","v":{"$error":"#REF!"}},{"$f":"Podatnicy!#REF!","v":{"$error":"#REF!"}},{"$f":"Podatnicy!#REF!","v":{"$error":"#REF!"}}]
[null,10930,{"$f":"Podatnicy!#REF!","v":{"$error":"#REF!"}},{"$f":"Podatnicy!#REF!","v":{"$error":"#REF!"}},{"$f":"Podatnicy!#REF!","v":{"$error":"#REF!"}}]
[null,10943,{"$f":"Podatnicy!#REF!","v":{"$error":"#REF!"}},{"$f":"Podatnicy!#REF!","v":{"$error":"#REF!"}},{"$f":"Podatnicy!#REF!","v":{"$error":"#REF!"}}]
[null,10948,{"$f":"Podatnicy!#REF!","v":{"$error":"#REF!"}},{"$f":"Podatnicy!#REF!","v":{"$error":"#REF!"}},{"$f":"Podatnicy!#REF!","v":{"$error":"#REF!"}}]
[null,10955,{"$f":"Podatnicy!#REF!","v":{"$error":"#REF!"}},{"$f":"Podatnicy!#REF!","v":{"$error":"#REF!"}},{"$f":"Podatnicy!#REF!","v":{"$error":"#REF!"}}]
[null,10967,{"$f":"Podatnicy!#REF!","v":{"$error":"#REF!"}},{"$f":"Podatnicy!#REF!","v":{"$error":"#REF!"}},{"$f":"Podatnicy!#REF!","v":{"$error":"#REF!"}}]
[null,10974,{"$f":"Podatnicy!#REF!","v":{"$error":"#REF!"}},{"$f":"Podatnicy!#REF!","v":{"$error":"#REF!"}},{"$f":"Podatnicy!#REF!","v":{"$error":"#REF!"}}]
[null,10985,{"$f":"Podatnicy!#REF!","v":{"$error":"#REF!"}},{"$f":"Podatnicy!#REF!","v":{"$error":"#REF!"}},{"$f":"Podatnicy!#REF!","v":{"$error":"#REF!"}}]
[null,10988,{"$f":"Podatnicy!#REF!","v":{"$error":"#REF!"}},{"$f":"Podatnicy!#REF!","v":{"$error":"#REF!"}},{"$f":"Podatnicy!#REF!","v":{"$error":"#REF!"}}]
[null,11004,{"$f":"Podatnicy!#REF!","v":{"$error":"#REF!"}},{"$f":"Podatnicy!#REF!","v":{"$error":"#REF!"}},{"$f":"Podatnicy!#REF!","v":{"$error":"#REF!"}}]
[null,11013,{"$f":"Podatnicy!#REF!","v":{"$error":"#REF!"}},{"$f":"Podatnicy!#REF!","v":{"$error":"#REF!"}},{"$f":"Podatnicy!#REF!","v":{"$error":"#REF!"}}]
[null,11018,{"$f":"Podatnicy!#REF!","v":{"$error":"#REF!"}},{"$f":"Podatnicy!#REF!","v":{"$error":"#REF!"}},{"$f":"Podatnicy!#REF!","v":{"$error":"#REF!"}}]
[null,11025,{"$f":"Podatnicy!#REF!","v":{"$error":"#REF!"}},{"$f":"Podatnicy!#REF!","v":{"$error":"#REF!"}},{"$f":"Podatnicy!#REF!","v":{"$error":"#REF!"}}]
[null,11037,{"$f":"Podatnicy!#REF!","v":{"$error":"#REF!"}},{"$f":"Podatnicy!#REF!","v":{"$error":"#REF!"}},{"$f":"Podatnicy!#REF!","v":{"$error":"#REF!"}}]
[null,11049,{"$f":"Podatnicy!#REF!","v":{"$error":"#REF!"}},{"$f":"Podatnicy!#REF!","v":{"$error":"#REF!"}},{"$f":"Podatnicy!#REF!","v":{"$error":"#REF!"}}]
[null,11054,{"$f":"Podatnicy!#REF!","v":{"$error":"#REF!"}},{"$f":"Podatnicy!#REF!","v":{"$error":"#REF!"}},{"$f":"Podatnicy!#REF!","v":{"$error":"#REF!"}}]
[null,11058,{"$f":"Podatnicy!#REF!","v":{"$error":"#REF!"}},{"$f":"Podatnicy!#REF!","v":{"$error":"#REF!"}},{"$f":"Podatnicy!#REF!","v":{"$error":"#REF!"}}]
[null,11074,{"$f":"Podatnicy!#REF!","v":{"$error":"#REF!"}},{"$f":"Podatnicy!#REF!","v":{"$error":"#REF!"}},{"$f":"Podatnicy!#REF!","v":{"$error":"#REF!"}}]
[null,11077,{"$f":"Podatnicy!#REF!","v":{"$error":"#REF!"}},{"$f":"Podatnicy!#REF!","v":{"$error":"#REF!"}},{"$f":"Podatnicy!#REF!","v":{"$error":"#REF!"}}]
[null,11085,{"$f":"Podatnicy!#REF!","v":{"$error":"#REF!"}},{"$f":"Podatnicy!#REF!","v":{"$error":"#REF!"}},{"$f":"Podatnicy!#REF!","v":{"$error":"#REF!"}}]
[null,11095,{"$f":"Podatnicy!#REF!","v":{"$error":"#REF!"}},{"$f":"Podatnicy!#REF!","v":{"$error":"#REF!"}},{"$f":"Podatnicy!#REF!","v":{"$error":"#REF!"}}]
[null,11107,{"$f":"Podatnicy!#REF!","v":{"$error":"#REF!"}},{"$f":"Podatnicy!#REF!","v":{"$error":"#REF!"}},{"$f":"Podatnicy!#REF!","v":{"$error":"#REF!"}}]
[null,11114,{"$f":"Podatnicy!#REF!","v":{"$error":"#REF!"}},{"$f":"Podatnicy!#REF!","v":{"$error":"#REF!"}},{"$f":"Podatnicy!#REF!","v":{"$error":"#REF!"}}]
[null,11124,{"$f":"Podatnicy!#REF!","v":{"$error":"#REF!"}},{"$f":"Podatnicy!#REF!","v":{"$error":"#REF!"}},{"$f":"Podatnicy!#REF!","v":{"$error":"#REF!"}}]
[null,11128,{"$f":"Podatnicy!#REF!","v":{"$error":"#REF!"}},{"$f":"Podatnicy!#REF!","v":{"$error":"#REF!"}},{"$f":"Podatnicy!#REF!","v":{"$error":"#REF!"}}]
[null,11144,{"$f":"Podatnicy!#REF!","v":{"$error":"#REF!"}},{"$f":"Podatnicy!#REF!","v":{"$error":"#REF!"}},{"$f":"Podatnicy!#REF!","v":{"$error":"#REF!"}}]
[null,11147,{"$f":"Podatnicy!#REF!","v":{"$error":"#REF!"}},{"$f":"Podatnicy!#REF!","v":{"$error":"#REF!"}},{"$f":"Podatnicy!#REF!","v":{"$error":"#REF!"}}]
[null,11155,{"$f":"Podatnicy!#REF!","v":{"$error":"#REF!"}},{"$f":"Podatnicy!#REF!","v":{"$error":"#REF!"}},{"$f":"Podatnicy!#REF!","v":{"$error":"#REF!"}}]
[null,11165,{"$f":"Podatnicy!#REF!","v":{"$error":"#REF!"}},{"$f":"Podatnicy!#REF!","v":{"$error":"#REF!"}},{"$f":"Podatnicy!#REF!","v":{"$error":"#REF!"}}]
[null,11177,{"$f":"Podatnicy!#REF!","v":{"$error":"#REF!"}},{"$f":"Podatnicy!#REF!","v":{"$error":"#REF!"}},{"$f":"Podatnicy!#REF!","v":{"$error":"#REF!"}}]
[null,11184,{"$f":"Podatnicy!#REF!","v":{"$error":"#REF!"}},{"$f":"Podatnicy!#REF!","v":{"$error":"#REF!"}},{"$f":"Podatnicy!#REF!","v":{"$error":"#REF!"}}]
[null,11194,{"$f":"Podatnicy!#REF!","v":{"$error":"#REF!"}},{"$f":"Podatnicy!#REF!","v":{"$error":"#REF!"}},{"$f":"Podatnicy!#REF!","v":{"$error":"#REF!"}}]
[null,11198,{"$f":"Podatnicy!#REF!","v":{"$error":"#REF!"}},{"$f":"Podatnicy!#REF!","v":{"$error":"#REF!"}},{"$f":"Podatnicy!#REF!","v":{"$error":"#REF!"}}]
[null,11214,{"$f":"Podatnicy!#REF!","v":{"$error":"#REF!"}},{"$f":"Podatnicy!#REF!","v":{"$error":"#REF!"}},{"$f":"Podatnicy!#REF!","v":{"$error":"#REF!"}}]
[null,11217,{"$f":"Podatnicy!#REF!","v":{"$error":"#REF!"}},{"$f":"Podatnicy!#REF!","v":{"$error":"#REF!"}},{"$f":"Podatnicy!#REF!","v":{"$error":"#REF!"}}]
[null,11225,{"$f":"Podatnicy!#REF!","v":{"$error":"#REF!"}},{"$f":"Podatnicy!#REF!","v":{"$error":"#REF!"}},{"$f":"Podatnicy!#REF!","v":{"$error":"#REF!"}}]
[null,11235,{"$f":"Podatnicy!#REF!","v":{"$error":"#REF!"}},{"$f":"Podatnicy!#REF!","v":{"$error":"#REF!"}},{"$f":"Podatnicy!#REF!","v":{"$error":"#REF!"}}]
[null,11247,{"$f":"Podatnicy!#REF!","v":{"$error":"#REF!"}},{"$f":"Podatnicy!#REF!","v":{"$error":"#REF!"}},{"$f":"Podatnicy!#REF!","v":{"$error":"#REF!"}}]
[null,11254,{"$f":"Podatnicy!#REF!","v":{"$error":"#REF!"}},{"$f":"Podatnicy!#REF!","v":{"$error":"#REF!"}},{"$f":"Podatnicy!#REF!","v":{"$error":"#REF!"}}]
[null,11264,{"$f":"Podatnicy!#REF!","v":{"$error":"#REF!"}},{"$f":"Podatnicy!#REF!","v":{"$error":"#REF!"}},{"$f":"Podatnicy!#REF!","v":{"$error":"#REF!"}}]
[null,11268,{"$f":"Podatnicy!#REF!","v":{"$error":"#REF!"}},{"$f":"Podatnicy!#REF!","v":{"$error":"#REF!"}},{"$f":"Podatnicy!#REF!","v":{"$error":"#REF!"}}]
[null,11284,{"$f":"Podatnicy!#REF!","v":{"$error":"#REF!"}},{"$f":"Podatnicy!#REF!","v":{"$error":"#REF!"}},{"$f":"Podatnicy!#REF!","v":{"$error":"#REF!"}}]
[null,11287,{"$f":"Podatnicy!#REF!","v":{"$error":"#REF!"}},{"$f":"Podatnicy!#REF!","v":{"$error":"#REF!"}},{"$f":"Podatnicy!#REF!","v":{"$error":"#REF!"}}]
[null,11295,{"$f":"Podatnicy!#REF!","v":{"$error":"#REF!"}},{"$f":"Podatnicy!#REF!","v":{"$error":"#REF!"}},{"$f":"Podatnicy!#REF!","v":{"$error":"#REF!"}}]
[null,11305,{"$f":"Podatnicy!#REF!","v":{"$error":"#REF!"}},{"$f":"Podatnicy!#REF!","v":{"$error":"#REF!"}},{"$f":"Podatnicy!#REF!","v":{"$error":"#REF!"}}]
[null,11317,{"$f":"Podatnicy!#REF!","v":{"$error":"#REF!"}},{"$f":"Podatnicy!#REF!","v":{"$error":"#REF!"}},{"$f":"Podatnicy!#REF!","v":{"$error":"#REF!"}}]
[null,11324,{"$f":"Podatnicy!#REF!","v":{"$error":"#REF!"}},{"$f":"Podatnicy!#REF!","v":{"$error":"#REF!"}},{"$f":"Podatnicy!#REF!","v":{"$error":"#REF!"}}]
[null,11336,{"$f":"Podatnicy!#REF!","v":{"$error":"#REF!"}},{"$f":"Podatnicy!#REF!","v":{"$error":"#REF!"}},{"$f":"Podatnicy!#REF!","v":{"$error":"#REF!"}}]
[null,11344,{"$f":"Podatnicy!#REF!","v":{"$error":"#REF!"}},{"$f":"Podatnicy!#REF!","v":{"$error":"#REF!"}},{"$f":"Podatnicy!#REF!","v":{"$error":"#REF!"}}]
[null,11354,{"$f":"Podatnicy!#REF!","v":{"$error":"#REF!"}},{"$f":"Podatnicy!#REF!","v":{"$error":"#REF!"}},{"$f":"Podatnicy!#REF!","v":{"$error":"#REF!"}}]
[null,11357,{"$f":"Podatnicy!#REF!","v":{"$error":"#REF!"}},{"$f":"Podatnicy!#REF!","v":{"$error":"#REF!"}},{"$f":"Podatnicy!#REF!","v":{"$error":"#REF!"}}]
[null,11373,{"$f":"Podatnicy!#REF!","v":{"$error":"#REF!"}},{"$f":"Podatnicy!#REF!","v":{"$error":"#REF!"}},{"$f":"Podatnicy!#REF!","v":{"$error":"#REF!"}}]
[null,11375,{"$f":"Podatnicy!#REF!","v":{"$error":"#REF!"}},{"$f":"Podatnicy!#REF!","v":{"$error":"#REF!"}},{"$f":"Podatnicy!#REF!","v":{"$error":"#REF!"}}]
[null,11387,{"$f":"Podatnicy!#REF!","v":{"$error":"#REF!"}},{"$f":"Podatnicy!#REF!","v":{"$error":"#REF!"}},{"$f":"Podatnicy!#REF!","v":{"$error":"#REF!"}}]
[null,11394,{"$f":"Podatnicy!#REF!","v":{"$error":"#REF!"}},{"$f":"Podatnicy!#REF!","v":{"$error":"#REF!"}},{"$f":"Podatnicy!#REF!","v":{"$error":"#REF!"}}]
[null,11406,{"$f":"Podatnicy!#REF!","v":{"$error":"#REF!"}},{"$f":"Podatnicy!#REF!","v":{"$error":"#REF!"}},{"$f":"Podatnicy!#REF!","v":{"$error":"#REF!"}}]
[null,11414,{"$f":"Podatnicy!#REF!","v":{"$error":"#REF!"}},{"$f":"Podatnicy!#REF!","v":{"$error":"#REF!"}},{"$f":"Podatnicy!#REF!","v":{"$error":"#REF!"}}]
[null,11424,{"$f":"Podatnicy!#REF!","v":{"$error":"#REF!"}},{"$f":"Podatnicy!#REF!","v":{"$error":"#REF!"}},{"$f":"Podatnicy!#REF!","v":{"$error":"#REF!"}}]
[null,11427,{"$f":"Podatnicy!#REF!","v":{"$error":"#REF!"}},{"$f":"Podatnicy!#REF!","v":{"$error":"#REF!"}},{"$f":"Podatnicy!#REF!","v":{"$error":"#REF!"}}]
[null,11443,{"$f":"Podatnicy!#REF!","v":{"$error":"#REF!"}},{"$f":"Podatnicy!#REF!","v":{"$error":"#REF!"}},{"$f":"Podatnicy!#REF!","v":{"$error":"#REF!"}}]
[null,11445,{"$f":"Podatnicy!#REF!","v":{"$error":"#REF!"}},{"$f":"Podatnicy!#REF!","v":{"$error":"#REF!"}},{"$f":"Podatnicy!#REF!","v":{"$error":"#REF!"}}]
[null,11457,{"$f":"Podatnicy!#REF!","v":{"$error":"#REF!"}},{"$f":"Podatnicy!#REF!","v":{"$error":"#REF!"}},{"$f":"Podatnicy!#REF!","v":{"$error":"#REF!"}}]
[null,11464,{"$f":"Podatnicy!#REF!","v":{"$error":"#REF!"}},{"$f":"Podatnicy!#REF!","v":{"$error":"#REF!"}},{"$f":"Podatnicy!#REF!","v":{"$error":"#REF!"}}]
[null,11476,{"$f":"Podatnicy!#REF!","v":{"$error":"#REF!"}},{"$f":"Podatnicy!#REF!","v":{"$error":"#REF!"}},{"$f":"Podatnicy!#REF!","v":{"$error":"#REF!"}}]
[null,11484,{"$f":"Podatnicy!#REF!","v":{"$error":"#REF!"}},{"$f":"Podatnicy!#REF!","v":{"$error":"#REF!"}},{"$f":"Podatnicy!#REF!","v":{"$error":"#REF!"}}]
[null,11494,{"$f":"Podatnicy!#REF!","v":{"$error":"#REF!"}},{"$f":"Podatnicy!#REF!","v":{"$error":"#REF!"}},{"$f":"Podatnicy!#REF!","v":{"$error":"#REF!"}}]
[null,11497,{"$f":"Podatnicy!#REF!","v":{"$error":"#REF!"}},{"$f":"Podatnicy!#REF!","v":{"$error":"#REF!"}},{"$f":"Podatnicy!#REF!","v":{"$error":"#REF!"}}]
[null,11513,{"$f":"Podatnicy!#REF!","v":{"$error":"#REF!"}},{"$f":"Podatnicy!#REF!","v":{"$error":"#REF!"}},{"$f":"Podatnicy!#REF!","v":{"$error":"#REF!"}}]
[null,11515,{"$f":"Podatnicy!#REF!","v":{"$error":"#REF!"}},{"$f":"Podatnicy!#REF!","v":{"$error":"#REF!"}},{"$f":"Podatnicy!#REF!","v":{"$error":"#REF!"}}]
[null,11527,{"$f":"Podatnicy!#REF!","v":{"$error":"#REF!"}},{"$f":"Podatnicy!#REF!","v":{"$error":"#REF!"}},{"$f":"Podatnicy!#REF!","v":{"$error":"#REF!"}}]
[null,11534,{"$f":"Podatnicy!#REF!","v":{"$error":"#REF!"}},{"$f":"Podatnicy!#REF!","v":{"$error":"#REF!"}},{"$f":"Podatnicy!#REF!","v":{"$error":"#REF!"}}]
[null,11546,{"$f":"Podatnicy!#REF!","v":{"$error":"#REF!"}},{"$f":"Podatnicy!#REF!","v":{"$error":"#REF!"}},{"$f":"Podatnicy!#REF!","v":{"$error":"#REF!"}}]
[null,11554,{"$f":"Podatnicy!#REF!","v":{"$error":"#REF!"}},{"$f":"Podatnicy!#REF!","v":{"$error":"#REF!"}},{"$f":"Podatnicy!#REF!","v":{"$error":"#REF!"}}]
[null,11564,{"$f":"Podatnicy!#REF!","v":{"$error":"#REF!"}},{"$f":"Podatnicy!#REF!","v":{"$error":"#REF!"}},{"$f":"Podatnicy!#REF!","v":{"$error":"#REF!"}}]
[null,11567,{"$f":"Podatnicy!#REF!","v":{"$error":"#REF!"}},{"$f":"Podatnicy!#REF!","v":{"$error":"#REF!"}},{"$f":"Podatnicy!#REF!","v":{"$error":"#REF!"}}]
[null,11583,{"$f":"Podatnicy!#REF!","v":{"$error":"#REF!"}},{"$f":"Podatnicy!#REF!","v":{"$error":"#REF!"}},{"$f":"Podatnicy!#REF!","v":{"$error":"#REF!"}}]
[null,11585,{"$f":"Podatnicy!#REF!","v":{"$error":"#REF!"}},{"$f":"Podatnicy!#REF!","v":{"$error":"#REF!"}},{"$f":"Podatnicy!#REF!","v":{"$error":"#REF!"}}]
[null,11592,{"$f":"Podatnicy!#REF!","v":{"$error":"#REF!"}},{"$f":"Podatnicy!#REF!","v":{"$error":"#REF!"}},{"$f":"Podatnicy!#REF!","v":{"$error":"#REF!"}}]
[null,11604,{"$f":"Podatnicy!#REF!","v":{"$error":"#REF!"}},{"$f":"Podatnicy!#REF!","v":{"$error":"#REF!"}},{"$f":"Podatnicy!#REF!","v":{"$error":"#REF!"}}]
[null,11616,{"$f":"Podatnicy!#REF!","v":{"$error":"#REF!"}},{"$f":"Podatnicy!#REF!","v":{"$error":"#REF!"}},{"$f":"Podatnicy!#REF!","v":{"$error":"#REF!"}}]
[null,11623,{"$f":"Podatnicy!#REF!","v":{"$error":"#REF!"}},{"$f":"Podatnicy!#REF!","v":{"$error":"#REF!"}},{"$f":"Podatnicy!#REF!","v":{"$error":"#REF!"}}]
[null,11634,{"$f":"Podatnicy!#REF!","v":{"$error":"#REF!"}},{"$f":"Podatnicy!#REF!","v":{"$error":"#REF!"}},{"$f":"Podatnicy!#REF!","v":{"$error":"#REF!"}}]
[null,11637,{"$f":"Podatnicy!#REF!","v":{"$error":"#REF!"}},{"$f":"Podatnicy!#REF!","v":{"$error":"#REF!"}},{"$f":"Podatnicy!#REF!","v":{"$error":"#REF!"}}]
[null,11653,{"$f":"Podatnicy!#REF!","v":{"$error":"#REF!"}},{"$f":"Podatnicy!#REF!","v":{"$error":"#REF!"}},{"$f":"Podatnicy!#REF!","v":{"$error":"#REF!"}}]
[null,11656,{"$f":"Podatnicy!#REF!","v":{"$error":"#REF!"}},{"$f":"Podatnicy!#REF!","v":{"$error":"#REF!"}},{"$f":"Podatnicy!#REF!","v":{"$error":"#REF!"}}]
[null,11665,{"$f":"Podatnicy!#REF!","v":{"$error":"#REF!"}},{"$f":"Podatnicy!#REF!","v":{"$error":"#REF!"}},{"$f":"Podatnicy!#REF!","v":{"$error":"#REF!"}}]
[null,11674,{"$f":"Podatnicy!#REF!","v":{"$error":"#REF!"}},{"$f":"Podatnicy!#REF!","v":{"$error":"#REF!"}},{"$f":"Podatnicy!#REF!","v":{"$error":"#REF!"}}]
[null,11686,{"$f":"Podatnicy!#REF!","v":{"$error":"#REF!"}},{"$f":"Podatnicy!#REF!","v":{"$error":"#REF!"}},{"$f":"Podatnicy!#REF!","v":{"$error":"#REF!"}}]
[null,11693,{"$f":"Podatnicy!#REF!","v":{"$error":"#REF!"}},{"$f":"Podatnicy!#REF!","v":{"$error":"#REF!"}},{"$f":"Podatnicy!#REF!","v":{"$error":"#REF!"}}]
[null,11704,{"$f":"Podatnicy!#REF!","v":{"$error":"#REF!"}},{"$f":"Podatnicy!#REF!","v":{"$error":"#REF!"}},{"$f":"Podatnicy!#REF!","v":{"$error":"#REF!"}}]
[null,11707,{"$f":"Podatnicy!#REF!","v":{"$error":"#REF!"}},{"$f":"Podatnicy!#REF!","v":{"$error":"#REF!"}},{"$f":"Podatnicy!#REF!","v":{"$error":"#REF!"}}]
[null,11723,{"$f":"Podatnicy!#REF!","v":{"$error":"#REF!"}},{"$f":"Podatnicy!#REF!","v":{"$error":"#REF!"}},{"$f":"Podatnicy!#REF!","v":{"$error":"#REF!"}}]
[null,11726,{"$f":"Podatnicy!#REF!","v":{"$error":"#REF!"}},{"$f":"Podatnicy!#REF!","v":{"$error":"#REF!"}},{"$f":"Podatnicy!#REF!","v":{"$error":"#REF!"}}]
[null,11735,{"$f":"Podatnicy!#REF!","v":{"$error":"#REF!"}},{"$f":"Podatnicy!#REF!","v":{"$error":"#REF!"}},{"$f":"Podatnicy!#REF!","v":{"$error":"#REF!"}}]
[null,11744,{"$f":"Podatnicy!#REF!","v":{"$error":"#REF!"}},{"$f":"Podatnicy!#REF!","v":{"$error":"#REF!"}},{"$f":"Podatnicy!#REF!","v":{"$error":"#REF!"}}]
[null,11756,{"$f":"Podatnicy!#REF!","v":{"$error":"#REF!"}},{"$f":"Podatnicy!#REF!","v":{"$error":"#REF!"}},{"$f":"Podatnicy!#REF!","v":{"$error":"#REF!"}}]
[null,11763,{"$f":"Podatnicy!#REF!","v":{"$error":"#REF!"}},{"$f":"Podatnicy!#REF!","v":{"$error":"#REF!"}},{"$f":"Podatnicy!#REF!","v":{"$error":"#REF!"}}]
[null,11774,{"$f":"Podatnicy!#REF!","v":{"$error":"#REF!"}},{"$f":"Podatnicy!#REF!","v":{"$error":"#REF!"}},{"$f":"Podatnicy!#REF!","v":{"$error":"#REF!"}}]
[null,11781,{"$f":"Podatnicy!#REF!","v":{"$error":"#REF!"}},{"$f":"Podatnicy!#REF!","v":{"$error":"#REF!"}},{"$f":"Podatnicy!#REF!","v":{"$error":"#REF!"}}]
[null,11793,{"$f":"Podatnicy!#REF!","v":{"$error":"#REF!"}},{"$f":"Podatnicy!#REF!","v":{"$error":"#REF!"}},{"$f":"Podatnicy!#REF!","v":{"$error":"#REF!"}}]
[null,11796,{"$f":"Podatnicy!#REF!","v":{"$error":"#REF!"}},{"$f":"Podatnicy!#REF!","v":{"$error":"#REF!"}},{"$f":"Podatnicy!#REF!","v":{"$error":"#REF!"}}]
[null,11805,{"$f":"Podatnicy!#REF!","v":{"$error":"#REF!"}},{"$f":"Podatnicy!#REF!","v":{"$error":"#REF!"}},{"$f":"Podatnicy!#REF!","v":{"$error":"#REF!"}}]
[null,11814,{"$f":"Podatnicy!#REF!","v":{"$error":"#REF!"}},{"$f":"Podatnicy!#REF!","v":{"$error":"#REF!"}},{"$f":"Podatnicy!#REF!","v":{"$error":"#REF!"}}]
[null,11826,{"$f":"Podatnicy!#REF!","v":{"$error":"#REF!"}},{"$f":"Podatnicy!#REF!","v":{"$error":"#REF!"}},{"$f":"Podatnicy!#REF!","v":{"$error":"#REF!"}}]
[null,11833,{"$f":"Podatnicy!#REF!","v":{"$error":"#REF!"}},{"$f":"Podatnicy!#REF!","v":{"$error":"#REF!"}},{"$f":"Podatnicy!#REF!","v":{"$error":"#REF!"}}]
[null,11844,{"$f":"Podatnicy!#REF!","v":{"$error":"#REF!"}},{"$f":"Podatnicy!#REF!","v":{"$error":"#REF!"}},{"$f":"Podatnicy!#REF!","v":{"$error":"#REF!"}}]
[null,11851,{"$f":"Podatnicy!#REF!","v":{"$error":"#REF!"}},{"$f":"Podatnicy!#REF!","v":{"$error":"#REF!"}},{"$f":"Podatnicy!#REF!","v":{"$error":"#REF!"}}]
[null,11863,{"$f":"Podatnicy!#REF!","v":{"$error":"#REF!"}},{"$f":"Podatnicy!#REF!","v":{"$error":"#REF!"}},{"$f":"Podatnicy!#REF!","v":{"$error":"#REF!"}}]
[null,11866,{"$f":"Podatnicy!#REF!","v":{"$error":"#REF!"}},{"$f":"Podatnicy!#REF!","v":{"$error":"#REF!"}},{"$f":"Podatnicy!#REF!","v":{"$error":"#REF!"}}]
[null,11875,{"$f":"Podatnicy!#REF!","v":{"$error":"#REF!"}},{"$f":"Podatnicy!#REF!","v":{"$error":"#REF!"}},{"$f":"Podatnicy!#REF!","v":{"$error":"#REF!"}}]
[null,11884,{"$f":"Podatnicy!#REF!","v":{"$error":"#REF!"}},{"$f":"Podatnicy!#REF!","v":{"$error":"#REF!"}},{"$f":"Podatnicy!#REF!","v":{"$error":"#REF!"}}]
[null,11891,{"$f":"Podatnicy!#REF!","v":{"$error":"#REF!"}},{"$f":"Podatnicy!#REF!","v":{"$error":"#REF!"}},{"$f":"Podatnicy!#REF!","v":{"$error":"#REF!"}}]
[null,11903,{"$f":"Podatnicy!#REF!","v":{"$error":"#REF!"}},{"$f":"Podatnicy!#REF!","v":{"$error":"#REF!"}},{"$f":"Podatnicy!#REF!","v":{"$error":"#REF!"}}]
[null,11915,{"$f":"Podatnicy!#REF!","v":{"$error":"#REF!"}},{"$f":"Podatnicy!#REF!","v":{"$error":"#REF!"}},{"$f":"Podatnicy!#REF!","v":{"$error":"#REF!"}}]
[null,11924,{"$f":"Podatnicy!#REF!","v":{"$error":"#REF!"}},{"$f":"Podatnicy!#REF!","v":{"$error":"#REF!"}},{"$f":"Podatnicy!#REF!","v":{"$error":"#REF!"}}]
[null,11933,{"$f":"Podatnicy!#REF!","v":{"$error":"#REF!"}},{"$f":"Podatnicy!#REF!","v":{"$error":"#REF!"}},{"$f":"Podatnicy!#REF!","v":{"$error":"#REF!"}}]
[null,11936,{"$f":"Podatnicy!#REF!","v":{"$error":"#REF!"}},{"$f":"Podatnicy!#REF!","v":{"$error":"#REF!"}},{"$f":"Podatnicy!#REF!","v":{"$error":"#REF!"}}]
[null,11943,{"$f":"Podatnicy!#REF!","v":{"$error":"#REF!"}},{"$f":"Podatnicy!#REF!","v":{"$error":"#REF!"}},{"$f":"Podatnicy!#REF!","v":{"$error":"#REF!"}}]
[null,11955,{"$f":"Podatnicy!#REF!","v":{"$error":"#REF!"}},{"$f":"Podatnicy!#REF!","v":{"$error":"#REF!"}},{"$f":"Podatnicy!#REF!","v":{"$error":"#REF!"}}]
[null,11961,{"$f":"Podatnicy!#REF!","v":{"$error":"#REF!"}},{"$f":"Podatnicy!#REF!","v":{"$error":"#REF!"}},{"$f":"Podatnicy!#REF!","v":{"$error":"#REF!"}}]
[null,11973,{"$f":"Podatnicy!#REF!","v":{"$error":"#REF!"}},{"$f":"Podatnicy!#REF!","v":{"$error":"#REF!"}},{"$f":"Podatnicy!#REF!","v":{"$error":"#REF!"}}]
[null,11985,{"$f":"Podatnicy!#REF!","v":{"$error":"#REF!"}},{"$f":"Podatnicy!#REF!","v":{"$error":"#REF!"}},{"$f":"Podatnicy!#REF!","v":{"$error":"#REF!"}}]
[null,11994,{"$f":"Podatnicy!#REF!","v":{"$error":"#REF!"}},{"$f":"Podatnicy!#REF!","v":{"$error":"#REF!"}},{"$f":"Podatnicy!#REF!","v":{"$error":"#REF!"}}]
[null,12003,{"$f":"Podatnicy!#REF!","v":{"$error":"#REF!"}},{"$f":"Podatnicy!#REF!","v":{"$error":"#REF!"}},{"$f":"Podatnicy!#REF!","v":{"$error":"#REF!"}}]
[null,12006,{"$f":"Podatnicy!#REF!","v":{"$error":"#REF!"}},{"$f":"Podatnicy!#REF!","v":{"$error":"#REF!"}},{"$f":"Podatnicy!#REF!","v":{"$error":"#REF!"}}]
[null,12013,{"$f":"Podatnicy!#REF!","v":{"$error":"#REF!"}},{"$f":"Podatnicy!#REF!","v":{"$error":"#REF!"}},{"$f":"Podatnicy!#REF!","v":{"$error":"#REF!"}}]
[null,12025,{"$f":"Podatnicy!#REF!","v":{"$error":"#REF!"}},{"$f":"Podatnicy!#REF!","v":{"$error":"#REF!"}},{"$f":"Podatnicy!#REF!","v":{"$error":"#REF!"}}]
[null,12031,{"$f":"Podatnicy!#REF!","v":{"$error":"#REF!"}},{"$f":"Podatnicy!#REF!","v":{"$error":"#REF!"}},{"$f":"Podatnicy!#REF!","v":{"$error":"#REF!"}}]
[null,12043,{"$f":"Podatnicy!#REF!","v":{"$error":"#REF!"}},{"$f":"Podatnicy!#REF!","v":{"$error":"#REF!"}},{"$f":"Podatnicy!#REF!","v":{"$error":"#REF!"}}]
[null,12055,{"$f":"Podatnicy!#REF!","v":{"$error":"#REF!"}},{"$f":"Podatnicy!#REF!","v":{"$error":"#REF!"}},{"$f":"Podatnicy!#REF!","v":{"$error":"#REF!"}}]
[null,12064,{"$f":"Podatnicy!#REF!","v":{"$error":"#REF!"}},{"$f":"Podatnicy!#REF!","v":{"$error":"#REF!"}},{"$f":"Podatnicy!#REF!","v":{"$error":"#REF!"}}]
[null,12073,{"$f":"Podatnicy!#REF!","v":{"$error":"#REF!"}},{"$f":"Podatnicy!#REF!","v":{"$error":"#REF!"}},{"$f":"Podatnicy!#REF!","v":{"$error":"#REF!"}}]
[null,12080,{"$f":"Podatnicy!#REF!","v":{"$error":"#REF!"}},{"$f":"Podatnicy!#REF!","v":{"$error":"#REF!"}},{"$f":"Podatnicy!#REF!","v":{"$error":"#REF!"}}]
[null,12083,{"$f":"Podatnicy!#REF!","v":{"$error":"#REF!"}},{"$f":"Podatnicy!#REF!","v":{"$error":"#REF!"}},{"$f":"Podatnicy!#REF!","v":{"$error":"#REF!"}}]
[null,12095,{"$f":"Podatnicy!#REF!","v":{"$error":"#REF!"}},{"$f":"Podatnicy!#REF!","v":{"$error":"#REF!"}},{"$f":"Podatnicy!#REF!","v":{"$error":"#REF!"}}]
[null,12101,{"$f":"Podatnicy!#REF!","v":{"$error":"#REF!"}},{"$f":"Podatnicy!#REF!","v":{"$error":"#REF!"}},{"$f":"Podatnicy!#REF!","v":{"$error":"#REF!"}}]
[null,12113,{"$f":"Podatnicy!#REF!","v":{"$error":"#REF!"}},{"$f":"Podatnicy!#REF!","v":{"$error":"#REF!"}},{"$f":"Podatnicy!#REF!","v":{"$error":"#REF!"}}]
[null,12125,{"$f":"Podatnicy!#REF!","v":{"$error":"#REF!"}},{"$f":"Podatnicy!#REF!","v":{"$error":"#REF!"}},{"$f":"Podatnicy!#REF!","v":{"$error":"#REF!"}}]
[null,12134,{"$f":"Podatnicy!#REF!","v":{"$error":"#REF!"}},{"$f":"Podatnicy!#REF!","v":{"$error":"#REF!"}},{"$f":"Podatnicy!#REF!","v":{"$error":"#REF!"}}]
[null,12143,{"$f":"Podatnicy!#REF!","v":{"$error":"#REF!"}},{"$f":"Podatnicy!#REF!","v":{"$error":"#REF!"}},{"$f":"Podatnicy!#REF!","v":{"$error":"#REF!"}}]
[null,12150,{"$f":"Podatnicy!#REF!","v":{"$error":"#REF!"}},{"$f":"Podatnicy!#REF!","v":{"$error":"#REF!"}},{"$f":"Podatnicy!#REF!","v":{"$error":"#REF!"}}]
[null,12153,{"$f":"Podatnicy!#REF!","v":{"$error":"#REF!"}},{"$f":"Podatnicy!#REF!","v":{"$error":"#REF!"}},{"$f":"Podatnicy!#REF!","v":{"$error":"#REF!"}}]
[null,12165,{"$f":"Podatnicy!#REF!","v":{"$error":"#REF!"}},{"$f":"Podatnicy!#REF!","v":{"$error":"#REF!"}},{"$f":"Podatnicy!#REF!","v":{"$error":"#REF!"}}]
[null,12171,{"$f":"Podatnicy!#REF!","v":{"$error":"#REF!"}},{"$f":"Podatnicy!#REF!","v":{"$error":"#REF!"}},{"$f":"Podatnicy!#REF!","v":{"$error":"#REF!"}}]
[null,12183,{"$f":"Podatnicy!#REF!","v":{"$error":"#REF!"}},{"$f":"Podatnicy!#REF!","v":{"$error":"#REF!"}},{"$f":"Podatnicy!#REF!","v":{"$error":"#REF!"}}]
[null,12195,{"$f":"Podatnicy!#REF!","v":{"$error":"#REF!"}},{"$f":"Podatnicy!#REF!","v":{"$error":"#REF!"}},{"$f":"Podatnicy!#REF!","v":{"$error":"#REF!"}}]
[null,12202,{"$f":"Podatnicy!#REF!","v":{"$error":"#REF!"}},{"$f":"Podatnicy!#REF!","v":{"$error":"#REF!"}},{"$f":"Podatnicy!#REF!","v":{"$error":"#REF!"}}]
[null,12206,{"$f":"Podatnicy!#REF!","v":{"$error":"#REF!"}},{"$f":"Podatnicy!#REF!","v":{"$error":"#REF!"}},{"$f":"Podatnicy!#REF!","v":{"$error":"#REF!"}}]
[null,12220,{"$f":"Podatnicy!#REF!","v":{"$error":"#REF!"}},{"$f":"Podatnicy!#REF!","v":{"$error":"#REF!"}},{"$f":"Podatnicy!#REF!","v":{"$error":"#REF!"}}]
[null,12223,{"$f":"Podatnicy!#REF!","v":{"$error":"#REF!"}},{"$f":"Podatnicy!#REF!","v":{"$error":"#REF!"}},{"$f":"Podatnicy!#REF!","v":{"$error":"#REF!"}}]
[null,12235,{"$f":"Podatnicy!#REF!","v":{"$error":"#REF!"}},{"$f":"Podatnicy!#REF!","v":{"$error":"#REF!"}},{"$f":"Podatnicy!#REF!","v":{"$error":"#REF!"}}]
[null,12245,{"$f":"Podatnicy!#REF!","v":{"$error":"#REF!"}},{"$f":"Podatnicy!#REF!","v":{"$error":"#REF!"}},{"$f":"Podatnicy!#REF!","v":{"$error":"#REF!"}}]
[null,12253,{"$f":"Podatnicy!#REF!","v":{"$error":"#REF!"}},{"$f":"Podatnicy!#REF!","v":{"$error":"#REF!"}},{"$f":"Podatnicy!#REF!","v":{"$error":"#REF!"}}]
[null,12260,{"$f":"Podatnicy!#REF!","v":{"$error":"#REF!"}},{"$f":"Podatnicy!#REF!","v":{"$error":"#REF!"}},{"$f":"Podatnicy!#REF!","v":{"$error":"#REF!"}}]
[null,12272,{"$f":"Podatnicy!#REF!","v":{"$error":"#REF!"}},{"$f":"Podatnicy!#REF!","v":{"$error":"#REF!"}},{"$f":"Podatnicy!#REF!","v":{"$error":"#REF!"}}]
[null,12276,{"$f":"Podatnicy!#REF!","v":{"$error":"#REF!"}},{"$f":"Podatnicy!#REF!","v":{"$error":"#REF!"}},{"$f":"Podatnicy!#REF!","v":{"$error":"#REF!"}}]
[null,12290,{"$f":"Podatnicy!#REF!","v":{"$error":"#REF!"}},{"$f":"Podatnicy!#REF!","v":{"$error":"#REF!"}},{"$f":"Podatnicy!#REF!","v":{"$error":"#REF!"}}]
[null,12293,{"$f":"Podatnicy!#REF!","v":{"$error":"#REF!"}},{"$f":"Podatnicy!#REF!","v":{"$error":"#REF!"}},{"$f":"Podatnicy!#REF!","v":{"$error":"#REF!"}}]
[null,12305,{"$f":"Podatnicy!#REF!","v":{"$error":"#REF!"}},{"$f":"Podatnicy!#REF!","v":{"$error":"#REF!"}},{"$f":"Podatnicy!#REF!","v":{"$error":"#REF!"}}]
[null,12315,{"$f":"Podatnicy!#REF!","v":{"$error":"#REF!"}},{"$f":"Podatnicy!#REF!","v":{"$error":"#REF!"}},{"$f":"Podatnicy!#REF!","v":{"$error":"#REF!"}}]
[null,12323,{"$f":"Podatnicy!#REF!","v":{"$error":"#REF!"}},{"$f":"Podatnicy!#REF!","v":{"$error":"#REF!"}},{"$f":"Podatnicy!#REF!","v":{"$error":"#REF!"}}]
[null,12330,{"$f":"Podatnicy!#REF!","v":{"$error":"#REF!"}},{"$f":"Podatnicy!#REF!","v":{"$error":"#REF!"}},{"$f":"Podatnicy!#REF!","v":{"$error":"#REF!"}}]
[null,12342,{"$f":"Podatnicy!#REF!","v":{"$error":"#REF!"}},{"$f":"Podatnicy!#REF!","v":{"$error":"#REF!"}},{"$f":"Podatnicy!#REF!","v":{"$error":"#REF!"}}]
[null,12346,{"$f":"Podatnicy!#REF!","v":{"$error":"#REF!"}},{"$f":"Podatnicy!#REF!","v":{"$error":"#REF!"}},{"$f":"Podatnicy!#REF!","v":{"$error":"#REF!"}}]
[null,12360,{"$f":"Podatnicy!#REF!","v":{"$error":"#REF!"}},{"$f":"Podatnicy!#REF!","v":{"$error":"#REF!"}},{"$f":"Podatnicy!#REF!","v":{"$error":"#REF!"}}]
[null,12363,{"$f":"Podatnicy!#REF!","v":{"$error":"#REF!"}},{"$f":"Podatnicy!#REF!","v":{"$error":"#REF!"}},{"$f":"Podatnicy!#REF!","v":{"$error":"#REF!"}}]
[null,12379,{"$f":"Podatnicy!#REF!","v":{"$error":"#REF!"}},{"$f":"Podatnicy!#REF!","v":{"$error":"#REF!"}},{"$f":"Podatnicy!#REF!","v":{"$error":"#REF!"}}]
[null,12385,{"$f":"Podatnicy!#REF!","v":{"$error":"#REF!"}},{"$f":"Podatnicy!#REF!","v":{"$error":"#REF!"}},{"$f":"Podatnicy!#REF!","v":{"$error":"#REF!"}}]
[null,12393,{"$f":"Podatnicy!#REF!","v":{"$error":"#REF!"}},{"$f":"Podatnicy!#REF!","v":{"$error":"#REF!"}},{"$f":"Podatnicy!#REF!","v":{"$error":"#REF!"}}]
[null,12400,{"$f":"Podatnicy!#REF!","v":{"$error":"#REF!"}},{"$f":"Podatnicy!#REF!","v":{"$error":"#REF!"}},{"$f":"Podatnicy!#REF!","v":{"$error":"#REF!"}}]
[null,12412,{"$f":"Podatnicy!#REF!","v":{"$error":"#REF!"}},{"$f":"Podatnicy!#REF!","v":{"$error":"#REF!"}},{"$f":"Podatnicy!#REF!","v":{"$error":"#REF!"}}]
[null,12416,{"$f":"Podatnicy!#REF!","v":{"$error":"#REF!"}},{"$f":"Podatnicy!#REF!","v":{"$error":"#REF!"}},{"$f":"Podatnicy!#REF!","v":{"$error":"#REF!"}}]
[null,12430,{"$f":"Podatnicy!#REF!","v":{"$error":"#REF!"}},{"$f":"Podatnicy!#REF!","v":{"$error":"#REF!"}},{"$f":"Podatnicy!#REF!","v":{"$error":"#REF!"}}]
[null,12433,{"$f":"Podatnicy!#REF!","v":{"$error":"#REF!"}},{"$f":"Podatnicy!#REF!","v":{"$error":"#REF!"}},{"$f":"Podatnicy!#REF!","v":{"$error":"#REF!"}}]
[null,12449,{"$f":"Podatnicy!#REF!","v":{"$error":"#REF!"}},{"$f":"Podatnicy!#REF!","v":{"$error":"#REF!"}},{"$f":"Podatnicy!#REF!","v":{"$error":"#REF!"}}]
[null,12455,{"$f":"Podatnicy!#REF!","v":{"$error":"#REF!"}},{"$f":"Podatnicy!#REF!","v":{"$error":"#REF!"}},{"$f":"Podatnicy!#REF!","v":{"$error":"#REF!"}}]
[null,12463,{"$f":"Podatnicy!#REF!","v":{"$error":"#REF!"}},{"$f":"Podatnicy!#REF!","v":{"$error":"#REF!"}},{"$f":"Podatnicy!#REF!","v":{"$error":"#REF!"}}]
[null,12470,{"$f":"Podatnicy!#REF!","v":{"$error":"#REF!"}},{"$f":"Podatnicy!#REF!","v":{"$error":"#REF!"}},{"$f":"Podatnicy!#REF!","v":{"$error":"#REF!"}}]
[null,12482,{"$f":"Podatnicy!#REF!","v":{"$error":"#REF!"}},{"$f":"Podatnicy!#REF!","v":{"$error":"#REF!"}},{"$f":"Podatnicy!#REF!","v":{"$error":"#REF!"}}]
[null,12494,{"$f":"Podatnicy!#REF!","v":{"$error":"#REF!"}},{"$f":"Podatnicy!#REF!","v":{"$error":"#REF!"}},{"$f":"Podatnicy!#REF!","v":{"$error":"#REF!"}}]
[null,12496,{"$f":"Podatnicy!#REF!","v":{"$error":"#REF!"}},{"$f":"Podatnicy!#REF!","v":{"$error":"#REF!"}},{"$f":"Podatnicy!#REF!","v":{"$error":"#REF!"}}]
[null,12503,{"$f":"Podatnicy!#REF!","v":{"$error":"#REF!"}},{"$f":"Podatnicy!#REF!","v":{"$error":"#REF!"}},{"$f":"Podatnicy!#REF!","v":{"$error":"#REF!"}}]
[null,12519,{"$f":"Podatnicy!#REF!","v":{"$error":"#REF!"}},{"$f":"Podatnicy!#REF!","v":{"$error":"#REF!"}},{"$f":"Podatnicy!#REF!","v":{"$error":"#REF!"}}]
[null,12522,{"$f":"Podatnicy!#REF!","v":{"$error":"#REF!"}},{"$f":"Podatnicy!#REF!","v":{"$error":"#REF!"}},{"$f":"Podatnicy!#REF!","v":{"$error":"#REF!"}}]
[null,12535,{"$f":"Podatnicy!#REF!","v":{"$error":"#REF!"}},{"$f":"Podatnicy!#REF!","v":{"$error":"#REF!"}},{"$f":"Podatnicy!#REF!","v":{"$error":"#REF!"}}]
[null,12540,{"$f":"Podatnicy!#REF!","v":{"$error":"#REF!"}},{"$f":"Podatnicy!#REF!","v":{"$error":"#REF!"}},{"$f":"Podatnicy!#REF!","v":{"$error":"#REF!"}}]
[null,12552,{"$f":"Podatnicy!#REF!","v":{"$error":"#REF!"}},{"$f":"Podatnicy!#REF!","v":{"$error":"#REF!"}},{"$f":"Podatnicy!#REF!","v":{"$error":"#REF!"}}]
[null,12559,{"$f":"Podatnicy!#REF!","v":{"$error":"#REF!"}},{"$f":"Podatnicy!#REF!","v":{"$error":"#REF!"}},{"$f":"Podatnicy!#REF!","v":{"$error":"#REF!"}}]
[null,12566,{"$f":"Podatnicy!#REF!","v":{"$error":"#REF!"}},{"$f":"Podatnicy!#REF!","v":{"$error":"#REF!"}},{"$f":"Podatnicy!#REF!","v":{"$error":"#REF!"}}]
[null,12573,{"$f":"Podatnicy!#REF!","v":{"$error":"#REF!"}},{"$f":"Podatnicy!#REF!","v":{"$error":"#REF!"}},{"$f":"Podatnicy!#REF!","v":{"$error":"#REF!"}}]
[null,12589,{"$f":"Podatnicy!#REF!","v":{"$error":"#REF!"}},{"$f":"Podatnicy!#REF!","v":{"$error":"#REF!"}},{"$f":"Podatnicy!#REF!","v":{"$error":"#REF!"}}]
[null,12592,{"$f":"Podatnicy!#REF!","v":{"$error":"#REF!"}},{"$f":"Podatnicy!#REF!","v":{"$error":"#REF!"}},{"$f":"Podatnicy!#REF!","v":{"$error":"#REF!"}}]
[null,12605,{"$f":"Podatnicy!#REF!","v":{"$error":"#REF!"}},{"$f":"Podatnicy!#REF!","v":{"$error":"#REF!"}},{"$f":"Podatnicy!#REF!","v":{"$error":"#REF!"}}]
[null,12610,{"$f":"Podatnicy!#REF!","v":{"$error":"#REF!"}},{"$f":"Podatnicy!#REF!","v":{"$error":"#REF!"}},{"$f":"Podatnicy!#REF!","v":{"$error":"#REF!"}}]
[null,12622,{"$f":"Podatnicy!#REF!","v":{"$error":"#REF!"}},{"$f":"Podatnicy!#REF!","v":{"$error":"#REF!"}},{"$f":"Podatnicy!#REF!","v":{"$error":"#REF!"}}]
[null,12629,{"$f":"Podatnicy!#REF!","v":{"$error":"#REF!"}},{"$f":"Podatnicy!#REF!","v":{"$error":"#REF!"}},{"$f":"Podatnicy!#REF!","v":{"$error":"#REF!"}}]
[null,12636,{"$f":"Podatnicy!#REF!","v":{"$error":"#REF!"}},{"$f":"Podatnicy!#REF!","v":{"$error":"#REF!"}},{"$f":"Podatnicy!#REF!","v":{"$error":"#REF!"}}]
[null,12643,{"$f":"Podatnicy!#REF!","v":{"$error":"#REF!"}},{"$f":"Podatnicy!#REF!","v":{"$error":"#REF!"}},{"$f":"Podatnicy!#REF!","v":{"$error":"#REF!"}}]
[null,12659,{"$f":"Podatnicy!#REF!","v":{"$error":"#REF!"}},{"$f":"Podatnicy!#REF!","v":{"$error":"#REF!"}},{"$f":"Podatnicy!#REF!","v":{"$error":"#REF!"}}]
[null,12662,{"$f":"Podatnicy!#REF!","v":{"$error":"#REF!"}},{"$f":"Podatnicy!#REF!","v":{"$error":"#REF!"}},{"$f":"Podatnicy!#REF!","v":{"$error":"#REF!"}}]
[null,12675,{"$f":"Podatnicy!#REF!","v":{"$error":"#REF!"}},{"$f":"Podatnicy!#REF!","v":{"$error":"#REF!"}},{"$f":"Podatnicy!#REF!","v":{"$error":"#REF!"}}]
[null,12680,{"$f":"Podatnicy!#REF!","v":{"$error":"#REF!"}},{"$f":"Podatnicy!#REF!","v":{"$error":"#REF!"}},{"$f":"Podatnicy!#REF!","v":{"$error":"#REF!"}}]
[null,12692,{"$f":"Podatnicy!#REF!","v":{"$error":"#REF!"}},{"$f":"Podatnicy!#REF!","v":{"$error":"#REF!"}},{"$f":"Podatnicy!#REF!","v":{"$error":"#REF!"}}]
[null,12699,{"$f":"Podatnicy!#REF!","v":{"$error":"#REF!"}},{"$f":"Podatnicy!#REF!","v":{"$error":"#REF!"}},{"$f":"Podatnicy!#REF!","v":{"$error":"#REF!"}}]
[null,12706,{"$f":"Podatnicy!#REF!","v":{"$error":"#REF!"}},{"$f":"Podatnicy!#REF!","v":{"$error":"#REF!"}},{"$f":"Podatnicy!#REF!","v":{"$error":"#REF!"}}]
[null,12713,{"$f":"Podatnicy!#REF!","v":{"$error":"#REF!"}},{"$f":"Podatnicy!#REF!","v":{"$error":"#REF!"}},{"$f":"Podatnicy!#REF!","v":{"$error":"#REF!"}}]
[null,12729,{"$f":"Podatnicy!#REF!","v":{"$error":"#REF!"}},{"$f":"Podatnicy!#REF!","v":{"$error":"#REF!"}},{"$f":"Podatnicy!#REF!","v":{"$error":"#REF!"}}]
[null,12732,{"$f":"Podatnicy!#REF!","v":{"$error":"#REF!"}},{"$f":"Podatnicy!#REF!","v":{"$error":"#REF!"}},{"$f":"Podatnicy!#REF!","v":{"$error":"#REF!"}}]
[null,12745,{"$f":"Podatnicy!#REF!","v":{"$error":"#REF!"}},{"$f":"Podatnicy!#REF!","v":{"$error":"#REF!"}},{"$f":"Podatnicy!#REF!","v":{"$error":"#REF!"}}]
[null,12750,{"$f":"Podatnicy!#REF!","v":{"$error":"#REF!"}},{"$f":"Podatnicy!#REF!","v":{"$error":"#REF!"}},{"$f":"Podatnicy!#REF!","v":{"$error":"#REF!"}}]
[null,12762,{"$f":"Podatnicy!#REF!","v":{"$error":"#REF!"}},{"$f":"Podatnicy!#REF!","v":{"$error":"#REF!"}},{"$f":"Podatnicy!#REF!","v":{"$error":"#REF!"}}]
[null,12769,{"$f":"Podatnicy!#REF!","v":{"$error":"#REF!"}},{"$f":"Podatnicy!#REF!","v":{"$error":"#REF!"}},{"$f":"Podatnicy!#REF!","v":{"$error":"#REF!"}}]
[null,12776,{"$f":"Podatnicy!#REF!","v":{"$error":"#REF!"}},{"$f":"Podatnicy!#REF!","v":{"$error":"#REF!"}},{"$f":"Podatnicy!#REF!","v":{"$error":"#REF!"}}]
[null,12783,{"$f":"Podatnicy!#REF!","v":{"$error":"#REF!"}},{"$f":"Podatnicy!#REF!","v":{"$error":"#REF!"}},{"$f":"Podatnicy!#REF!","v":{"$error":"#REF!"}}]
[null,12799,{"$f":"Podatnicy!#REF!","v":{"$error":"#REF!"}},{"$f":"Podatnicy!#REF!","v":{"$error":"#REF!"}},{"$f":"Podatnicy!#REF!","v":{"$error":"#REF!"}}]
[null,12802,{"$f":"Podatnicy!#REF!","v":{"$error":"#REF!"}},{"$f":"Podatnicy!#REF!","v":{"$error":"#REF!"}},{"$f":"Podatnicy!#REF!","v":{"$error":"#REF!"}}]
[null,12818,{"$f":"Podatnicy!#REF!","v":{"$error":"#REF!"}},{"$f":"Podatnicy!#REF!","v":{"$error":"#REF!"}},{"$f":"Podatnicy!#REF!","v":{"$error":"#REF!"}}]
[null,12825,{"$f":"Podatnicy!#REF!","v":{"$error":"#REF!"}},{"$f":"Podatnicy!#REF!","v":{"$error":"#REF!"}},{"$f":"Podatnicy!#REF!","v":{"$error":"#REF!"}}]
[null,12832,{"$f":"Podatnicy!#REF!","v":{"$error":"#REF!"}},{"$f":"Podatnicy!#REF!","v":{"$error":"#REF!"}},{"$f":"Podatnicy!#REF!","v":{"$error":"#REF!"}}]
[null,12839,{"$f":"Podatnicy!#REF!","v":{"$error":"#REF!"}},{"$f":"Podatnicy!#REF!","v":{"$error":"#REF!"}},{"$f":"Podatnicy!#REF!","v":{"$error":"#REF!"}}]
[null,12851,{"$f":"Podatnicy!#REF!","v":{"$error":"#REF!"}},{"$f":"Podatnicy!#REF!","v":{"$error":"#REF!"}},{"$f":"Podatnicy!#REF!","v":{"$error":"#REF!"}}]
[null,12856,{"$f":"Podatnicy!#REF!","v":{"$error":"#REF!"}},{"$f":"Podatnicy!#REF!","v":{"$error":"#REF!"}},{"$f":"Podatnicy!#REF!","v":{"$error":"#REF!"}}]
[null,12869,{"$f":"Podatnicy!#REF!","v":{"$error":"#REF!"}},{"$f":"Podatnicy!#REF!","v":{"$error":"#REF!"}},{"$f":"Podatnicy!#REF!","v":{"$error":"#REF!"}}]
[null,12872,{"$f":"Podatnicy!#REF!","v":{"$error":"#REF!"}},{"$f":"Podatnicy!#REF!","v":{"$error":"#REF!"}},{"$f":"Podatnicy!#REF!","v":{"$error":"#REF!"}}]
[null,12888,{"$f":"Podatnicy!#REF!","v":{"$error":"#REF!"}},{"$f":"Podatnicy!#REF!","v":{"$error":"#REF!"}},{"$f":"Podatnicy!#REF!","v":{"$error":"#REF!"}}]
[null,12895,{"$f":"Podatnicy!#REF!","v":{"$error":"#REF!"}},{"$f":"Podatnicy!#REF!","v":{"$error":"#REF!"}},{"$f":"Podatnicy!#REF!","v":{"$error":"#REF!"}}]
[null,12902,{"$f":"Podatnicy!#REF!","v":{"$error":"#REF!"}},{"$f":"Podatnicy!#REF!","v":{"$error":"#REF!"}},{"$f":"Podatnicy!#REF!","v":{"$error":"#REF!"}}]
[null,12909,{"$f":"Podatnicy!#REF!","v":{"$error":"#REF!"}},{"$f":"Podatnicy!#REF!","v":{"$error":"#REF!"}},{"$f":"Podatnicy!#REF!","v":{"$error":"#REF!"}}]
[null,12921,{"$f":"Podatnicy!#REF!","v":{"$error":"#REF!"}},{"$f":"Podatnicy!#REF!","v":{"$error":"#REF!"}},{"$f":"Podatnicy!#REF!","v":{"$error":"#REF!"}}]
[null,12926,{"$f":"Podatnicy!#REF!","v":{"$error":"#REF!"}},{"$f":"Podatnicy!#REF!","v":{"$error":"#REF!"}},{"$f":"Podatnicy!#REF!","v":{"$error":"#REF!"}}]
[null,12939,{"$f":"Podatnicy!#REF!","v":{"$error":"#REF!"}},{"$f":"Podatnicy!#REF!","v":{"$error":"#REF!"}},{"$f":"Podatnicy!#REF!","v":{"$error":"#REF!"}}]
[null,12942,{"$f":"Podatnicy!#REF!","v":{"$error":"#REF!"}},{"$f":"Podatnicy!#REF!","v":{"$error":"#REF!"}},{"$f":"Podatnicy!#REF!","v":{"$error":"#REF!"}}]
[null,12958,{"$f":"Podatnicy!#REF!","v":{"$error":"#REF!"}},{"$f":"Podatnicy!#REF!","v":{"$error":"#REF!"}},{"$f":"Podatnicy!#REF!","v":{"$error":"#REF!"}}]
[null,12965,{"$f":"Podatnicy!#REF!","v":{"$error":"#REF!"}},{"$f":"Podatnicy!#REF!","v":{"$error":"#REF!"}},{"$f":"Podatnicy!#REF!","v":{"$error":"#REF!"}}]
[null,12972,{"$f":"Podatnicy!#REF!","v":{"$error":"#REF!"}},{"$f":"Podatnicy!#REF!","v":{"$error":"#REF!"}},{"$f":"Podatnicy!#REF!","v":{"$error":"#REF!"}}]
[null,12979,{"$f":"Podatnicy!#REF!","v":{"$error":"#REF!"}},{"$f":"Podatnicy!#REF!","v":{"$error":"#REF!"}},{"$f":"Podatnicy!#REF!","v":{"$error":"#REF!"}}]
[null,12991,{"$f":"Podatnicy!#REF!","v":{"$error":"#REF!"}},{"$f":"Podatnicy!#REF!","v":{"$error":"#REF!"}},{"$f":"Podatnicy!#REF!","v":{"$error":"#REF!"}}]
[null,12996,{"$f":"Podatnicy!#REF!","v":{"$error":"#REF!"}},{"$f":"Podatnicy!#REF!","v":{"$error":"#REF!"}},{"$f":"Podatnicy!#REF!","v":{"$error":"#REF!"}}]
[null,13009,{"$f":"Podatnicy!#REF!","v":{"$error":"#REF!"}},{"$f":"Podatnicy!#REF!","v":{"$error":"#REF!"}},{"$f":"Podatnicy!#REF!","v":{"$error":"#REF!"}}]
[null,13012,{"$f":"Podatnicy!#REF!","v":{"$error":"#REF!"}},{"$f":"Podatnicy!#REF!","v":{"$error":"#REF!"}},{"$f":"Podatnicy!#REF!","v":{"$error":"#REF!"}}]
[null,13028,{"$f":"Podatnicy!#REF!","v":{"$error":"#REF!"}},{"$f":"Podatnicy!#REF!","v":{"$error":"#REF!"}},{"$f":"Podatnicy!#REF!","v":{"$error":"#REF!"}}]
[null,13035,{"$f":"Podatnicy!#REF!","v":{"$error":"#REF!"}},{"$f":"Podatnicy!#REF!","v":{"$error":"#REF!"}},{"$f":"Podatnicy!#REF!","v":{"$error":"#REF!"}}]
[null,13037,{"$f":"Podatnicy!#REF!","v":{"$error":"#REF!"}},{"$f":"Podatnicy!#REF!","v":{"$error":"#REF!"}},{"$f":"Podatnicy!#REF!","v":{"$error":"#REF!"}}]
[null,13049,{"$f":"Podatnicy!#REF!","v":{"$error":"#REF!"}},{"$f":"Podatnicy!#REF!","v":{"$error":"#REF!"}},{"$f":"Podatnicy!#REF!","v":{"$error":"#REF!"}}]
[null,13061,{"$f":"Podatnicy!#REF!","v":{"$error":"#REF!"}},{"$f":"Podatnicy!#REF!","v":{"$error":"#REF!"}},{"$f":"Podatnicy!#REF!","v":{"$error":"#REF!"}}]
[null,13066,{"$f":"Podatnicy!#REF!","v":{"$error":"#REF!"}},{"$f":"Podatnicy!#REF!","v":{"$error":"#REF!"}},{"$f":"Podatnicy!#REF!","v":{"$error":"#REF!"}}]
[null,13079,{"$f":"Podatnicy!#REF!","v":{"$error":"#REF!"}},{"$f":"Podatnicy!#REF!","v":{"$error":"#REF!"}},{"$f":"Podatnicy!#REF!","v":{"$error":"#REF!"}}]
[null,13082,{"$f":"Podatnicy!#REF!","v":{"$error":"#REF!"}},{"$f":"Podatnicy!#REF!","v":{"$error":"#REF!"}},{"$f":"Podatnicy!#REF!","v":{"$error":"#REF!"}}]
[null,13098,{"$f":"Podatnicy!#REF!","v":{"$error":"#REF!"}},{"$f":"Podatnicy!#REF!","v":{"$error":"#REF!"}},{"$f":"Podatnicy!#REF!","v":{"$error":"#REF!"}}]
[null,13101,{"$f":"Podatnicy!#REF!","v":{"$error":"#REF!"}},{"$f":"Podatnicy!#REF!","v":{"$error":"#REF!"}},{"$f":"Podatnicy!#REF!","v":{"$error":"#REF!"}}]
[null,13115,{"$f":"Podatnicy!#REF!","v":{"$error":"#REF!"}},{"$f":"Podatnicy!#REF!","v":{"$error":"#REF!"}},{"$f":"Podatnicy!#REF!","v":{"$error":"#REF!"}}]
[null,13119,{"$f":"Podatnicy!#REF!","v":{"$error":"#REF!"}},{"$f":"Podatnicy!#REF!","v":{"$error":"#REF!"}},{"$f":"Podatnicy!#REF!","v":{"$error":"#REF!"}}]
[null,13131,{"$f":"Podatnicy!#REF!","v":{"$error":"#REF!"}},{"$f":"Podatnicy!#REF!","v":{"$error":"#REF!"}},{"$f":"Podatnicy!#REF!","v":{"$error":"#REF!"}}]
[null,13138,{"$f":"Podatnicy!#REF!","v":{"$error":"#REF!"}},{"$f":"Podatnicy!#REF!","v":{"$error":"#REF!"}},{"$f":"Podatnicy!#REF!","v":{"$error":"#REF!"}}]
[null,13146,{"$f":"Podatnicy!#REF!","v":{"$error":"#REF!"}},{"$f":"Podatnicy!#REF!","v":{"$error":"#REF!"}},{"$f":"Podatnicy!#REF!","v":{"$error":"#REF!"}}]
[null,13156,{"$f":"Podatnicy!#REF!","v":{"$error":"#REF!"}},{"$f":"Podatnicy!#REF!","v":{"$error":"#REF!"}},{"$f":"Podatnicy!#REF!","v":{"$error":"#REF!"}}]
[null,13168,{"$f":"Podatnicy!#REF!","v":{"$error":"#REF!"}},{"$f":"Podatnicy!#REF!","v":{"$error":"#REF!"}},{"$f":"Podatnicy!#REF!","v":{"$error":"#REF!"}}]
[null,13171,{"$f":"Podatnicy!#REF!","v":{"$error":"#REF!"}},{"$f":"Podatnicy!#REF!","v":{"$error":"#REF!"}},{"$f":"Podatnicy!#REF!","v":{"$error":"#REF!"}}]
[null,13185,{"$f":"Podatnicy!#REF!","v":{"$error":"#REF!"}},{"$f":"Podatnicy!#REF!","v":{"$error":"#REF!"}},{"$f":"Podatnicy!#REF!","v":{"$error":"#REF!"}}]
[null,13189,{"$f":"Podatnicy!#REF!","v":{"$error":"#REF!"}},{"$f":"Podatnicy!#REF!","v":{"$error":"#REF!"}},{"$f":"Podatnicy!#REF!","v":{"$error":"#REF!"}}]
[null,13201,{"$f":"Podatnicy!#REF!","v":{"$error":"#REF!"}},{"$f":"Podatnicy!#REF!","v":{"$error":"#REF!"}},{"$f":"Podatnicy!#REF!","v":{"$error":"#REF!"}}]
[null,13208,{"$f":"Podatnicy!#REF!","v":{"$error":"#REF!"}},{"$f":"Podatnicy!#REF!","v":{"$error":"#REF!"}},{"$f":"Podatnicy!#REF!","v":{"$error":"#REF!"}}]
[null,13216,{"$f":"Podatnicy!#REF!","v":{"$error":"#REF!"}},{"$f":"Podatnicy!#REF!","v":{"$error":"#REF!"}},{"$f":"Podatnicy!#REF!","v":{"$error":"#REF!"}}]
[null,13226,{"$f":"Podatnicy!#REF!","v":{"$error":"#REF!"}},{"$f":"Podatnicy!#REF!","v":{"$error":"#REF!"}},{"$f":"Podatnicy!#REF!","v":{"$error":"#REF!"}}]
[null,13238,{"$f":"Podatnicy!#REF!","v":{"$error":"#REF!"}},{"$f":"Podatnicy!#REF!","v":{"$error":"#REF!"}},{"$f":"Podatnicy!#REF!","v":{"$error":"#REF!"}}]
[null,13241,{"$f":"Podatnicy!#REF!","v":{"$error":"#REF!"}},{"$f":"Podatnicy!#REF!","v":{"$error":"#REF!"}},{"$f":"Podatnicy!#REF!","v":{"$error":"#REF!"}}]
[null,13255,{"$f":"Podatnicy!#REF!","v":{"$error":"#REF!"}},{"$f":"Podatnicy!#REF!","v":{"$error":"#REF!"}},{"$f":"Podatnicy!#REF!","v":{"$error":"#REF!"}}]
[null,13259,{"$f":"Podatnicy!#REF!","v":{"$error":"#REF!"}},{"$f":"Podatnicy!#REF!","v":{"$error":"#REF!"}},{"$f":"Podatnicy!#REF!","v":{"$error":"#REF!"}}]
[null,13271,{"$f":"Podatnicy!#REF!","v":{"$error":"#REF!"}},{"$f":"Podatnicy!#REF!","v":{"$error":"#REF!"}},{"$f":"Podatnicy!#REF!","v":{"$error":"#REF!"}}]
[null,13278,{"$f":"Podatnicy!#REF!","v":{"$error":"#REF!"}},{"$f":"Podatnicy!#REF!","v":{"$error":"#REF!"}},{"$f":"Podatnicy!#REF!","v":{"$error":"#REF!"}}]
[null,13286,{"$f":"Podatnicy!#REF!","v":{"$error":"#REF!"}},{"$f":"Podatnicy!#REF!","v":{"$error":"#REF!"}},{"$f":"Podatnicy!#REF!","v":{"$error":"#REF!"}}]
[null,13296,{"$f":"Podatnicy!#REF!","v":{"$error":"#REF!"}},{"$f":"Podatnicy!#REF!","v":{"$error":"#REF!"}},{"$f":"Podatnicy!#REF!","v":{"$error":"#REF!"}}]
[null,13308,{"$f":"Podatnicy!#REF!","v":{"$error":"#REF!"}},{"$f":"Podatnicy!#REF!","v":{"$error":"#REF!"}},{"$f":"Podatnicy!#REF!","v":{"$error":"#REF!"}}]
[null,13311,{"$f":"Podatnicy!#REF!","v":{"$error":"#REF!"}},{"$f":"Podatnicy!#REF!","v":{"$error":"#REF!"}},{"$f":"Podatnicy!#REF!","v":{"$error":"#REF!"}}]
[null,13325,{"$f":"Podatnicy!#REF!","v":{"$error":"#REF!"}},{"$f":"Podatnicy!#REF!","v":{"$error":"#REF!"}},{"$f":"Podatnicy!#REF!","v":{"$error":"#REF!"}}]
[null,13329,{"$f":"Podatnicy!#REF!","v":{"$error":"#REF!"}},{"$f":"Podatnicy!#REF!","v":{"$error":"#REF!"}},{"$f":"Podatnicy!#REF!","v":{"$error":"#REF!"}}]
[null,13336,{"$f":"Podatnicy!#REF!","v":{"$error":"#REF!"}},{"$f":"Podatnicy!#REF!","v":{"$error":"#REF!"}},{"$f":"Podatnicy!#REF!","v":{"$error":"#REF!"}}]
[null,13348,{"$f":"Podatnicy!#REF!","v":{"$error":"#REF!"}},{"$f":"Podatnicy!#REF!","v":{"$error":"#REF!"}},{"$f":"Podatnicy!#REF!","v":{"$error":"#REF!"}}]
[null,13356,{"$f":"Podatnicy!#REF!","v":{"$error":"#REF!"}},{"$f":"Podatnicy!#REF!","v":{"$error":"#REF!"}},{"$f":"Podatnicy!#REF!","v":{"$error":"#REF!"}}]
[null,13366,{"$f":"Podatnicy!#REF!","v":{"$error":"#REF!"}},{"$f":"Podatnicy!#REF!","v":{"$error":"#REF!"}},{"$f":"Podatnicy!#REF!","v":{"$error":"#REF!"}}]
[null,13378,{"$f":"Podatnicy!#REF!","v":{"$error":"#REF!"}},{"$f":"Podatnicy!#REF!","v":{"$error":"#REF!"}},{"$f":"Podatnicy!#REF!","v":{"$error":"#REF!"}}]
[null,13381,{"$f":"Podatnicy!#REF!","v":{"$error":"#REF!"}},{"$f":"Podatnicy!#REF!","v":{"$error":"#REF!"}},{"$f":"Podatnicy!#REF!","v":{"$error":"#REF!"}}]
[null,13388,{"$f":"Podatnicy!#REF!","v":{"$error":"#REF!"}},{"$f":"Podatnicy!#REF!","v":{"$error":"#REF!"}},{"$f":"Podatnicy!#REF!","v":{"$error":"#REF!"}}]
[null,13397,{"$f":"Podatnicy!#REF!","v":{"$error":"#REF!"}},{"$f":"Podatnicy!#REF!","v":{"$error":"#REF!"}},{"$f":"Podatnicy!#REF!","v":{"$error":"#REF!"}}]
[null,13406,{"$f":"Podatnicy!#REF!","v":{"$error":"#REF!"}},{"$f":"Podatnicy!#REF!","v":{"$error":"#REF!"}},{"$f":"Podatnicy!#REF!","v":{"$error":"#REF!"}}]
[null,13418,{"$f":"Podatnicy!#REF!","v":{"$error":"#REF!"}},{"$f":"Podatnicy!#REF!","v":{"$error":"#REF!"}},{"$f":"Podatnicy!#REF!","v":{"$error":"#REF!"}}]
[null,13430,{"$f":"Podatnicy!#REF!","v":{"$error":"#REF!"}},{"$f":"Podatnicy!#REF!","v":{"$error":"#REF!"}},{"$f":"Podatnicy!#REF!","v":{"$error":"#REF!"}}]
[null,13436,{"$f":"Podatnicy!#REF!","v":{"$error":"#REF!"}},{"$f":"Podatnicy!#REF!","v":{"$error":"#REF!"}},{"$f":"Podatnicy!#REF!","v":{"$error":"#REF!"}}]
[null,13448,{"$f":"Podatnicy!#REF!","v":{"$error":"#REF!"}},{"$f":"Podatnicy!#REF!","v":{"$error":"#REF!"}},{"$f":"Podatnicy!#REF!","v":{"$error":"#REF!"}}]
[null,13451,{"$f":"Podatnicy!#REF!","v":{"$error":"#REF!"}},{"$f":"Podatnicy!#REF!","v":{"$error":"#REF!"}},{"$f":"Podatnicy!#REF!","v":{"$error":"#REF!"}}]
[null,13458,{"$f":"Podatnicy!#REF!","v":{"$error":"#REF!"}},{"$f":"Podatnicy!#REF!","v":{"$error":"#REF!"}},{"$f":"Podatnicy!#REF!","v":{"$error":"#REF!"}}]
[null,13467,{"$f":"Podatnicy!#REF!","v":{"$error":"#REF!"}},{"$f":"Podatnicy!#REF!","v":{"$error":"#REF!"}},{"$f":"Podatnicy!#REF!","v":{"$error":"#REF!"}}]
[null,13476,{"$f":"Podatnicy!#REF!","v":{"$error":"#REF!"}},{"$f":"Podatnicy!#REF!","v":{"$error":"#REF!"}},{"$f":"Podatnicy!#REF!","v":{"$error":"#REF!"}}]
[null,13488,{"$f":"Podatnicy!#REF!","v":{"$error":"#REF!"}},{"$f":"Podatnicy!#REF!","v":{"$error":"#REF!"}},{"$f":"Podatnicy!#REF!","v":{"$error":"#REF!"}}]
[null,13500,{"$f":"Podatnicy!#REF!","v":{"$error":"#REF!"}},{"$f":"Podatnicy!#REF!","v":{"$error":"#REF!"}},{"$f":"Podatnicy!#REF!","v":{"$error":"#REF!"}}]
[null,13506,{"$f":"Podatnicy!#REF!","v":{"$error":"#REF!"}},{"$f":"Podatnicy!#REF!","v":{"$error":"#REF!"}},{"$f":"Podatnicy!#REF!","v":{"$error":"#REF!"}}]
[null,13518,{"$f":"Podatnicy!#REF!","v":{"$error":"#REF!"}},{"$f":"Podatnicy!#REF!","v":{"$error":"#REF!"}},{"$f":"Podatnicy!#REF!","v":{"$error":"#REF!"}}]
[null,13525,{"$f":"Podatnicy!#REF!","v":{"$error":"#REF!"}},{"$f":"Podatnicy!#REF!","v":{"$error":"#REF!"}},{"$f":"Podatnicy!#REF!","v":{"$error":"#REF!"}}]
[null,13528,{"$f":"Podatnicy!#REF!","v":{"$error":"#REF!"}},{"$f":"Podatnicy!#REF!","v":{"$error":"#REF!"}},{"$f":"Podatnicy!#REF!","v":{"$error":"#REF!"}}]
[null,13537,{"$f":"Podatnicy!#REF!","v":{"$error":"#REF!"}},{"$f":"Podatnicy!#REF!","v":{"$error":"#REF!"}},{"$f":"Podatnicy!#REF!","v":{"$error":"#REF!"}}]
[null,13546,{"$f":"Podatnicy!#REF!","v":{"$error":"#REF!"}},{"$f":"Podatnicy!#REF!","v":{"$error":"#REF!"}},{"$f":"Podatnicy!#REF!","v":{"$error":"#REF!"}}]
[null,13558,{"$f":"Podatnicy!#REF!","v":{"$error":"#REF!"}},{"$f":"Podatnicy!#REF!","v":{"$error":"#REF!"}},{"$f":"Podatnicy!#REF!","v":{"$error":"#REF!"}}]
[null,13570,{"$f":"Podatnicy!#REF!","v":{"$error":"#REF!"}},{"$f":"Podatnicy!#REF!","v":{"$error":"#REF!"}},{"$f":"Podatnicy!#REF!","v":{"$error":"#REF!"}}]
[null,13576,{"$f":"Podatnicy!#REF!","v":{"$error":"#REF!"}},{"$f":"Podatnicy!#REF!","v":{"$error":"#REF!"}},{"$f":"Podatnicy!#REF!","v":{"$error":"#REF!"}}]
[null,13588,{"$f":"Podatnicy!#REF!","v":{"$error":"#REF!"}},{"$f":"Podatnicy!#REF!","v":{"$error":"#REF!"}},{"$f":"Podatnicy!#REF!","v":{"$error":"#REF!"}}]
[null,13595,{"$f":"Podatnicy!#REF!","v":{"$error":"#REF!"}},{"$f":"Podatnicy!#REF!","v":{"$error":"#REF!"}},{"$f":"Podatnicy!#REF!","v":{"$error":"#REF!"}}]
[null,13598,{"$f":"Podatnicy!#REF!","v":{"$error":"#REF!"}},{"$f":"Podatnicy!#REF!","v":{"$error":"#REF!"}},{"$f":"Podatnicy!#REF!","v":{"$error":"#REF!"}}]
[null,13607,{"$f":"Podatnicy!#REF!","v":{"$error":"#REF!"}},{"$f":"Podatnicy!#REF!","v":{"$error":"#REF!"}},{"$f":"Podatnicy!#REF!","v":{"$error":"#REF!"}}]
[null,13616,{"$f":"Podatnicy!#REF!","v":{"$error":"#REF!"}},{"$f":"Podatnicy!#REF!","v":{"$error":"#REF!"}},{"$f":"Podatnicy!#REF!","v":{"$error":"#REF!"}}]
[null,13628,{"$f":"Podatnicy!#REF!","v":{"$error":"#REF!"}},{"$f":"Podatnicy!#REF!","v":{"$error":"#REF!"}},{"$f":"Podatnicy!#REF!","v":{"$error":"#REF!"}}]
[null,13635,{"$f":"Podatnicy!#REF!","v":{"$error":"#REF!"}},{"$f":"Podatnicy!#REF!","v":{"$error":"#REF!"}},{"$f":"Podatnicy!#REF!","v":{"$error":"#REF!"}}]
[null,13646,{"$f":"Podatnicy!#REF!","v":{"$error":"#REF!"}},{"$f":"Podatnicy!#REF!","v":{"$error":"#REF!"}},{"$f":"Podatnicy!#REF!","v":{"$error":"#REF!"}}]
[null,13658,{"$f":"Podatnicy!#REF!","v":{"$error":"#REF!"}},{"$f":"Podatnicy!#REF!","v":{"$error":"#REF!"}},{"$f":"Podatnicy!#REF!","v":{"$error":"#REF!"}}]
[null,13665,{"$f":"Podatnicy!#REF!","v":{"$error":"#REF!"}},{"$f":"Podatnicy!#REF!","v":{"$error":"#REF!"}},{"$f":"Podatnicy!#REF!","v":{"$error":"#REF!"}}]
[null,13668,{"$f":"Podatnicy!#REF!","v":{"$error":"#REF!"}},{"$f":"Podatnicy!#REF!","v":{"$error":"#REF!"}},{"$f":"Podatnicy!#REF!","v":{"$error":"#REF!"}}]
[null,13680,{"$f":"Podatnicy!#REF!","v":{"$error":"#REF!"}},{"$f":"Podatnicy!#REF!","v":{"$error":"#REF!"}},{"$f":"Podatnicy!#REF!","v":{"$error":"#REF!"}}]
[null,13687,{"$f":"Podatnicy!#REF!","v":{"$error":"#REF!"}},{"$f":"Podatnicy!#REF!","v":{"$error":"#REF!"}},{"$f":"Podatnicy!#REF!","v":{"$error":"#REF!"}}]
[null,13698,{"$f":"Podatnicy!#REF!","v":{"$error":"#REF!"}},{"$f":"Podatnicy!#REF!","v":{"$error":"#REF!"}},{"$f":"Podatnicy!#REF!","v":{"$error":"#REF!"}}]
[null,13705,{"$f":"Podatnicy!#REF!","v":{"$error":"#REF!"}},{"$f":"Podatnicy!#REF!","v":{"$error":"#REF!"}},{"$f":"Podatnicy!#REF!","v":{"$error":"#REF!"}}]
[null,13717,{"$f":"Podatnicy!#REF!","v":{"$error":"#REF!"}},{"$f":"Podatnicy!#REF!","v":{"$error":"#REF!"}},{"$f":"Podatnicy!#REF!","v":{"$error":"#REF!"}}]
[null,13726,{"$f":"Podatnicy!#REF!","v":{"$error":"#REF!"}},{"$f":"Podatnicy!#REF!","v":{"$error":"#REF!"}},{"$f":"Podatnicy!#REF!","v":{"$error":"#REF!"}}]
[null,13735,{"$f":"Podatnicy!#REF!","v":{"$error":"#REF!"}},{"$f":"Podatnicy!#REF!","v":{"$error":"#REF!"}},{"$f":"Podatnicy!#REF!","v":{"$error":"#REF!"}}]
[null,13738,{"$f":"Podatnicy!#REF!","v":{"$error":"#REF!"}},{"$f":"Podatnicy!#REF!","v":{"$error":"#REF!"}},{"$f":"Podatnicy!#REF!","v":{"$error":"#REF!"}}]
[null,13750,{"$f":"Podatnicy!#REF!","v":{"$error":"#REF!"}},{"$f":"Podatnicy!#REF!","v":{"$error":"#REF!"}},{"$f":"Podatnicy!#REF!","v":{"$error":"#REF!"}}]
[null,13757,{"$f":"Podatnicy!#REF!","v":{"$error":"#REF!"}},{"$f":"Podatnicy!#REF!","v":{"$error":"#REF!"}},{"$f":"Podatnicy!#REF!","v":{"$error":"#REF!"}}]
[null,13768,{"$f":"Podatnicy!#REF!","v":{"$error":"#REF!"}},{"$f":"Podatnicy!#REF!","v":{"$error":"#REF!"}},{"$f":"Podatnicy!#REF!","v":{"$error":"#REF!"}}]
[null,13775,{"$f":"Podatnicy!#REF!","v":{"$error":"#REF!"}},{"$f":"Podatnicy!#REF!","v":{"$error":"#REF!"}},{"$f":"Podatnicy!#REF!","v":{"$error":"#REF!"}}]
[null,13787,{"$f":"Podatnicy!#REF!","v":{"$error":"#REF!"}},{"$f":"Podatnicy!#REF!","v":{"$error":"#REF!"}},{"$f":"Podatnicy!#REF!","v":{"$error":"#REF!"}}]
[null,13796,{"$f":"Podatnicy!#REF!","v":{"$error":"#REF!"}},{"$f":"Podatnicy!#REF!","v":{"$error":"#REF!"}},{"$f":"Podatnicy!#REF!","v":{"$error":"#REF!"}}]
[null,13805,{"$f":"Podatnicy!#REF!","v":{"$error":"#REF!"}},{"$f":"Podatnicy!#REF!","v":{"$error":"#REF!"}},{"$f":"Podatnicy!#REF!","v":{"$error":"#REF!"}}]
[null,13808,{"$f":"Podatnicy!#REF!","v":{"$error":"#REF!"}},{"$f":"Podatnicy!#REF!","v":{"$error":"#REF!"}},{"$f":"Podatnicy!#REF!","v":{"$error":"#REF!"}}]
[null,13824,{"$f":"Podatnicy!#REF!","v":{"$error":"#REF!"}},{"$f":"Podatnicy!#REF!","v":{"$error":"#REF!"}},{"$f":"Podatnicy!#REF!","v":{"$error":"#REF!"}}]
[null,13827,{"$f":"Podatnicy!#REF!","v":{"$error":"#REF!"}},{"$f":"Podatnicy!#REF!","v":{"$error":"#REF!"}},{"$f":"Podatnicy!#REF!","v":{"$error":"#REF!"}}]
[null,13838,{"$f":"Podatnicy!#REF!","v":{"$error":"#REF!"}},{"$f":"Podatnicy!#REF!","v":{"$error":"#REF!"}},{"$f":"Podatnicy!#REF!","v":{"$error":"#REF!"}}]
[null,13845,{"$f":"Podatnicy!#REF!","v":{"$error":"#REF!"}},{"$f":"Podatnicy!#REF!","v":{"$error":"#REF!"}},{"$f":"Podatnicy!#REF!","v":{"$error":"#REF!"}}]
[null,13857,{"$f":"Podatnicy!#REF!","v":{"$error":"#REF!"}},{"$f":"Podatnicy!#REF!","v":{"$error":"#REF!"}},{"$f":"Podatnicy!#REF!","v":{"$error":"#REF!"}}]
[null,13866,{"$f":"Podatnicy!#REF!","v":{"$error":"#REF!"}},{"$f":"Podatnicy!#REF!","v":{"$error":"#REF!"}},{"$f":"Podatnicy!#REF!","v":{"$error":"#REF!"}}]
[null,13875,{"$f":"Podatnicy!#REF!","v":{"$error":"#REF!"}},{"$f":"Podatnicy!#REF!","v":{"$error":"#REF!"}},{"$f":"Podatnicy!#REF!","v":{"$error":"#REF!"}}]
[null,13878,{"$f":"Podatnicy!#REF!","v":{"$error":"#REF!"}},{"$f":"Podatnicy!#REF!","v":{"$error":"#REF!"}},{"$f":"Podatnicy!#REF!","v":{"$error":"#REF!"}}]
[null,13894,{"$f":"Podatnicy!#REF!","v":{"$error":"#REF!"}},{"$f":"Podatnicy!#REF!","v":{"$error":"#REF!"}},{"$f":"Podatnicy!#REF!","v":{"$error":"#REF!"}}]
[null,13897,{"$f":"Podatnicy!#REF!","v":{"$error":"#REF!"}},{"$f":"Podatnicy!#REF!","v":{"$error":"#REF!"}},{"$f":"Podatnicy!#REF!","v":{"$error":"#REF!"}}]
[null,13908,{"$f":"Podatnicy!#REF!","v":{"$error":"#REF!"}},{"$f":"Podatnicy!#REF!","v":{"$error":"#REF!"}},{"$f":"Podatnicy!#REF!","v":{"$error":"#REF!"}}]
[null,13915,{"$f":"Podatnicy!#REF!","v":{"$error":"#REF!"}},{"$f":"Podatnicy!#REF!","v":{"$error":"#REF!"}},{"$f":"Podatnicy!#REF!","v":{"$error":"#REF!"}}]
[null,13927,{"$f":"Podatnicy!#REF!","v":{"$error":"#REF!"}},{"$f":"Podatnicy!#REF!","v":{"$error":"#REF!"}},{"$f":"Podatnicy!#REF!","v":{"$error":"#REF!"}}]
[null,13936,{"$f":"Podatnicy!#REF!","v":{"$error":"#REF!"}},{"$f":"Podatnicy!#REF!","v":{"$error":"#REF!"}},{"$f":"Podatnicy!#REF!","v":{"$error":"#REF!"}}]
[null,13945,{"$f":"Podatnicy!#REF!","v":{"$error":"#REF!"}},{"$f":"Podatnicy!#REF!","v":{"$error":"#REF!"}},{"$f":"Podatnicy!#REF!","v":{"$error":"#REF!"}}]
[null,13948,{"$f":"Podatnicy!#REF!","v":{"$error":"#REF!"}},{"$f":"Podatnicy!#REF!","v":{"$error":"#REF!"}},{"$f":"Podatnicy!#REF!","v":{"$error":"#REF!"}}]
[null,13964,{"$f":"Podatnicy!#REF!","v":{"$error":"#REF!"}},{"$f":"Podatnicy!#REF!","v":{"$error":"#REF!"}},{"$f":"Podatnicy!#REF!","v":{"$error":"#REF!"}}]
[null,13967,{"$f":"Podatnicy!#REF!","v":{"$error":"#REF!"}},{"$f":"Podatnicy!#REF!","v":{"$error":"#REF!"}},{"$f":"Podatnicy!#REF!","v":{"$error":"#REF!"}}]
[null,13977,{"$f":"Podatnicy!#REF!","v":{"$error":"#REF!"}},{"$f":"Podatnicy!#REF!","v":{"$error":"#REF!"}},{"$f":"Podatnicy!#REF!","v":{"$error":"#REF!"}}]
[null,13985,{"$f":"Podatnicy!#REF!","v":{"$error":"#REF!"}},{"$f":"Podatnicy!#REF!","v":{"$error":"#REF!"}},{"$f":"Podatnicy!#REF!","v":{"$error":"#REF!"}}]
[null,13997,{"$f":"Podatnicy!#REF!","v":{"$error":"#REF!"}},{"$f":"Podatnicy!#REF!","v":{"$error":"#REF!"}},{"$f":"Podatnicy!#REF!","v":{"$error":"#REF!"}}]
[null,14004,{"$f":"Podatnicy!#REF!","v":{"$error":"#REF!"}},{"$f":"Podatnicy!#REF!","v":{"$error":"#REF!"}},{"$f":"Podatnicy!#REF!","v":{"$error":"#REF!"}}]
[null,14016,{"$f":"Podatnicy!#REF!","v":{"$error":"#REF!"}},{"$f":"Podatnicy!#REF!","v":{"$error":"#REF!"}},{"$f":"Podatnicy!#REF!","v":{"$error":"#REF!"}}]
[null,14018,{"$f":"Podatnicy!#REF!","v":{"$error":"#REF!"}},{"$f":"Podatnicy!#REF!","v":{"$error":"#REF!"}},{"$f":"Podatnicy!#REF!","v":{"$error":"#REF!"}}]
[null,14034,{"$f":"Podatnicy!#REF!","v":{"$error":"#REF!"}},{"$f":"Podatnicy!#REF!","v":{"$error":"#REF!"}},{"$f":"Podatnicy!#REF!","v":{"$error":"#REF!"}}]
[null,14037,{"$f":"Podatnicy!#REF!","v":{"$error":"#REF!"}},{"$f":"Podatnicy!#REF!","v":{"$error":"#REF!"}},{"$f":"Podatnicy!#REF!","v":{"$error":"#REF!"}}]
[null,14047,{"$f":"Podatnicy!#REF!","v":{"$error":"#REF!"}},{"$f":"Podatnicy!#REF!","v":{"$error":"#REF!"}},{"$f":"Podatnicy!#REF!","v":{"$error":"#REF!"}}]
[null,14055,{"$f":"Podatnicy!#REF!","v":{"$error":"#REF!"}},{"$f":"Podatnicy!#REF!","v":{"$error":"#REF!"}},{"$f":"Podatnicy!#REF!","v":{"$error":"#REF!"}}]
[null,14067,{"$f":"Podatnicy!#REF!","v":{"$error":"#REF!"}},{"$f":"Podatnicy!#REF!","v":{"$error":"#REF!"}},{"$f":"Podatnicy!#REF!","v":{"$error":"#REF!"}}]
[null,14074,{"$f":"Podatnicy!#REF!","v":{"$error":"#REF!"}},{"$f":"Podatnicy!#REF!","v":{"$error":"#REF!"}},{"$f":"Podatnicy!#REF!","v":{"$error":"#REF!"}}]
[null,14086,{"$f":"Podatnicy!#REF!","v":{"$error":"#REF!"}},{"$f":"Podatnicy!#REF!","v":{"$error":"#REF!"}},{"$f":"Podatnicy!#REF!","v":{"$error":"#REF!"}}]
[null,14088,{"$f":"Podatnicy!#REF!","v":{"$error":"#REF!"}},{"$f":"Podatnicy!#REF!","v":{"$error":"#REF!"}},{"$f":"Podatnicy!#REF!","v":{"$error":"#REF!"}}]
[null,14104,{"$f":"Podatnicy!#REF!","v":{"$error":"#REF!"}},{"$f":"Podatnicy!#REF!","v":{"$error":"#REF!"}},{"$f":"Podatnicy!#REF!","v":{"$error":"#REF!"}}]
[null,14107,{"$f":"Podatnicy!#REF!","v":{"$error":"#REF!"}},{"$f":"Podatnicy!#REF!","v":{"$error":"#REF!"}},{"$f":"Podatnicy!#REF!","v":{"$error":"#REF!"}}]
[null,14117,{"$f":"Podatnicy!#REF!","v":{"$error":"#REF!"}},{"$f":"Podatnicy!#REF!","v":{"$error":"#REF!"}},{"$f":"Podatnicy!#REF!","v":{"$error":"#REF!"}}]
[null,14125,{"$f":"Podatnicy!#REF!","v":{"$error":"#REF!"}},{"$f":"Podatnicy!#REF!","v":{"$error":"#REF!"}},{"$f":"Podatnicy!#REF!","v":{"$error":"#REF!"}}]
[null,14137,{"$f":"Podatnicy!#REF!","v":{"$error":"#REF!"}},{"$f":"Podatnicy!#REF!","v":{"$error":"#REF!"}},{"$f":"Podatnicy!#REF!","v":{"$error":"#REF!"}}]
[null,14144,{"$f":"Podatnicy!#REF!","v":{"$error":"#REF!"}},{"$f":"Podatnicy!#REF!","v":{"$error":"#REF!"}},{"$f":"Podatnicy!#REF!","v":{"$error":"#REF!"}}]
[null,14156,{"$f":"Podatnicy!#REF!","v":{"$error":"#REF!"}},{"$f":"Podatnicy!#REF!","v":{"$error":"#REF!"}},{"$f":"Podatnicy!#REF!","v":{"$error":"#REF!"}}]
[null,14158,{"$f":"Podatnicy!#REF!","v":{"$error":"#REF!"}},{"$f":"Podatnicy!#REF!","v":{"$error":"#REF!"}},{"$f":"Podatnicy!#REF!","v":{"$error":"#REF!"}}]
[null,14174,{"$f":"Podatnicy!#REF!","v":{"$error":"#REF!"}},{"$f":"Podatnicy!#REF!","v":{"$error":"#REF!"}},{"$f":"Podatnicy!#REF!","v":{"$error":"#REF!"}}]
[null,14177,{"$f":"Podatnicy!#REF!","v":{"$error":"#REF!"}},{"$f":"Podatnicy!#REF!","v":{"$error":"#REF!"}},{"$f":"Podatnicy!#REF!","v":{"$error":"#REF!"}}]
[null,14187,{"$f":"Podatnicy!#REF!","v":{"$error":"#REF!"}},{"$f":"Podatnicy!#REF!","v":{"$error":"#REF!"}},{"$f":"Podatnicy!#REF!","v":{"$error":"#REF!"}}]
[null,14195,{"$f":"Podatnicy!#REF!","v":{"$error":"#REF!"}},{"$f":"Podatnicy!#REF!","v":{"$error":"#REF!"}},{"$f":"Podatnicy!#REF!","v":{"$error":"#REF!"}}]
[null,14207,{"$f":"Podatnicy!#REF!","v":{"$error":"#REF!"}},{"$f":"Podatnicy!#REF!","v":{"$error":"#REF!"}},{"$f":"Podatnicy!#REF!","v":{"$error":"#REF!"}}]
[null,14214,{"$f":"Podatnicy!#REF!","v":{"$error":"#REF!"}},{"$f":"Podatnicy!#REF!","v":{"$error":"#REF!"}},{"$f":"Podatnicy!#REF!","v":{"$error":"#REF!"}}]
[null,14226,{"$f":"Podatnicy!#REF!","v":{"$error":"#REF!"}},{"$f":"Podatnicy!#REF!","v":{"$error":"#REF!"}},{"$f":"Podatnicy!#REF!","v":{"$error":"#REF!"}}]
[null,14228,{"$f":"Podatnicy!#REF!","v":{"$error":"#REF!"}},{"$f":"Podatnicy!#REF!","v":{"$error":"#REF!"}},{"$f":"Podatnicy!#REF!","v":{"$error":"#REF!"}}]
[null,14244,{"$f":"Podatnicy!#REF!","v":{"$error":"#REF!"}},{"$f":"Podatnicy!#REF!","v":{"$error":"#REF!"}},{"$f":"Podatnicy!#REF!","v":{"$error":"#REF!"}}]
[null,14247,{"$f":"Podatnicy!#REF!","v":{"$error":"#REF!"}},{"$f":"Podatnicy!#REF!","v":{"$error":"#REF!"}},{"$f":"Podatnicy!#REF!","v":{"$error":"#REF!"}}]
[null,14263,{"$f":"Podatnicy!#REF!","v":{"$error":"#REF!"}},{"$f":"Podatnicy!#REF!","v":{"$error":"#REF!"}},{"$f":"Podatnicy!#REF!","v":{"$error":"#REF!"}}]
[null,14267,{"$f":"Podatnicy!#REF!","v":{"$error":"#REF!"}},{"$f":"Podatnicy!#REF!","v":{"$error":"#REF!"}},{"$f":"Podatnicy!#REF!","v":{"$error":"#REF!"}}]
[null,14277,{"$f":"Podatnicy!#REF!","v":{"$error":"#REF!"}},{"$f":"Podatnicy!#REF!","v":{"$error":"#REF!"}},{"$f":"Podatnicy!#REF!","v":{"$error":"#REF!"}}]
[null,14284,{"$f":"Podatnicy!#REF!","v":{"$error":"#REF!"}},{"$f":"Podatnicy!#REF!","v":{"$error":"#REF!"}},{"$f":"Podatnicy!#REF!","v":{"$error":"#REF!"}}]
[null,14296,{"$f":"Podatnicy!#REF!","v":{"$error":"#REF!"}},{"$f":"Podatnicy!#REF!","v":{"$error":"#REF!"}},{"$f":"Podatnicy!#REF!","v":{"$error":"#REF!"}}]
[null,14306,{"$f":"Podatnicy!#REF!","v":{"$error":"#REF!"}},{"$f":"Podatnicy!#REF!","v":{"$error":"#REF!"}},{"$f":"Podatnicy!#REF!","v":{"$error":"#REF!"}}]
[null,14314,{"$f":"Podatnicy!#REF!","v":{"$error":"#REF!"}},{"$f":"Podatnicy!#REF!","v":{"$error":"#REF!"}},{"$f":"Podatnicy!#REF!","v":{"$error":"#REF!"}}]
[null,14317,{"$f":"Podatnicy!#REF!","v":{"$error":"#REF!"}},{"$f":"Podatnicy!#REF!","v":{"$error":"#REF!"}},{"$f":"Podatnicy!#REF!","v":{"$error":"#REF!"}}]
[null,14333,{"$f":"Podatnicy!#REF!","v":{"$error":"#REF!"}},{"$f":"Podatnicy!#REF!","v":{"$error":"#REF!"}},{"$f":"Podatnicy!#REF!","v":{"$error":"#REF!"}}]
[null,14337,{"$f":"Podatnicy!#REF!","v":{"$error":"#REF!"}},{"$f":"Podatnicy!#REF!","v":{"$error":"#REF!"}},{"$f":"Podatnicy!#REF!","v":{"$error":"#REF!"}}]
[null,14347,{"$f":"Podatnicy!#REF!","v":{"$error":"#REF!"}},{"$f":"Podatnicy!#REF!","v":{"$error":"#REF!"}},{"$f":"Podatnicy!#REF!","v":{"$error":"#REF!"}}]
[null,14354,{"$f":"Podatnicy!#REF!","v":{"$error":"#REF!"}},{"$f":"Podatnicy!#REF!","v":{"$error":"#REF!"}},{"$f":"Podatnicy!#REF!","v":{"$error":"#REF!"}}]
[null,14366,{"$f":"Podatnicy!#REF!","v":{"$error":"#REF!"}},{"$f":"Podatnicy!#REF!","v":{"$error":"#REF!"}},{"$f":"Podatnicy!#REF!","v":{"$error":"#REF!"}}]
[null,14376,{"$f":"Podatnicy!#REF!","v":{"$error":"#REF!"}},{"$f":"Podatnicy!#REF!","v":{"$error":"#REF!"}},{"$f":"Podatnicy!#REF!","v":{"$error":"#REF!"}}]
[null,14384,{"$f":"Podatnicy!#REF!","v":{"$error":"#REF!"}},{"$f":"Podatnicy!#REF!","v":{"$error":"#REF!"}},{"$f":"Podatnicy!#REF!","v":{"$error":"#REF!"}}]
[null,14387,{"$f":"Podatnicy!#REF!","v":{"$error":"#REF!"}},{"$f":"Podatnicy!#REF!","v":{"$error":"#REF!"}},{"$f":"Podatnicy!#REF!","v":{"$error":"#REF!"}}]
[null,14403,{"$f":"Podatnicy!#REF!","v":{"$error":"#REF!"}},{"$f":"Podatnicy!#REF!","v":{"$error":"#REF!"}},{"$f":"Podatnicy!#REF!","v":{"$error":"#REF!"}}]
[null,14407,{"$f":"Podatnicy!#REF!","v":{"$error":"#REF!"}},{"$f":"Podatnicy!#REF!","v":{"$error":"#REF!"}},{"$f":"Podatnicy!#REF!","v":{"$error":"#REF!"}}]
[null,14412,{"$f":"Podatnicy!#REF!","v":{"$error":"#REF!"}},{"$f":"Podatnicy!#REF!","v":{"$error":"#REF!"}},{"$f":"Podatnicy!#REF!","v":{"$error":"#REF!"}}]
[null,14424,{"$f":"Podatnicy!#REF!","v":{"$error":"#REF!"}},{"$f":"Podatnicy!#REF!","v":{"$error":"#REF!"}},{"$f":"Podatnicy!#REF!","v":{"$error":"#REF!"}}]
[null,14436,{"$f":"Podatnicy!#REF!","v":{"$error":"#REF!"}},{"$f":"Podatnicy!#REF!","v":{"$error":"#REF!"}},{"$f":"Podatnicy!#REF!","v":{"$error":"#REF!"}}]
[null,14446,{"$f":"Podatnicy!#REF!","v":{"$error":"#REF!"}},{"$f":"Podatnicy!#REF!","v":{"$error":"#REF!"}},{"$f":"Podatnicy!#REF!","v":{"$error":"#REF!"}}]
[null,14454,{"$f":"Podatnicy!#REF!","v":{"$error":"#REF!"}},{"$f":"Podatnicy!#REF!","v":{"$error":"#REF!"}},{"$f":"Podatnicy!#REF!","v":{"$error":"#REF!"}}]
[null,14457,{"$f":"Podatnicy!#REF!","v":{"$error":"#REF!"}},{"$f":"Podatnicy!#REF!","v":{"$error":"#REF!"}},{"$f":"Podatnicy!#REF!","v":{"$error":"#REF!"}}]
[null,14473,{"$f":"Podatnicy!#REF!","v":{"$error":"#REF!"}},{"$f":"Podatnicy!#REF!","v":{"$error":"#REF!"}},{"$f":"Podatnicy!#REF!","v":{"$error":"#REF!"}}]
[null,14477,{"$f":"Podatnicy!#REF!","v":{"$error":"#REF!"}},{"$f":"Podatnicy!#REF!","v":{"$error":"#REF!"}},{"$f":"Podatnicy!#REF!","v":{"$error":"#REF!"}}]
[null,14482,{"$f":"Podatnicy!#REF!","v":{"$error":"#REF!"}},{"$f":"Podatnicy!#REF!","v":{"$error":"#REF!"}},{"$f":"Podatnicy!#REF!","v":{"$error":"#REF!"}}]
[null,14494,{"$f":"Podatnicy!#REF!","v":{"$error":"#REF!"}},{"$f":"Podatnicy!#REF!","v":{"$error":"#REF!"}},{"$f":"Podatnicy!#REF!","v":{"$error":"#REF!"}}]
[null,14506,{"$f":"Podatnicy!#REF!","v":{"$error":"#REF!"}},{"$f":"Podatnicy!#REF!","v":{"$error":"#REF!"}},{"$f":"Podatnicy!#REF!","v":{"$error":"#REF!"}}]
[null,14516,{"$f":"Podatnicy!#REF!","v":{"$error":"#REF!"}},{"$f":"Podatnicy!#REF!","v":{"$error":"#REF!"}},{"$f":"Podatnicy!#REF!","v":{"$error":"#REF!"}}]
[null,14524,{"$f":"Podatnicy!#REF!","v":{"$error":"#REF!"}},{"$f":"Podatnicy!#REF!","v":{"$error":"#REF!"}},{"$f":"Podatnicy!#REF!","v":{"$error":"#REF!"}}]
[null,14527,{"$f":"Podatnicy!#REF!","v":{"$error":"#REF!"}},{"$f":"Podatnicy!#REF!","v":{"$error":"#REF!"}},{"$f":"Podatnicy!#REF!","v":{"$error":"#REF!"}}]
[null,14543,{"$f":"Podatnicy!#REF!","v":{"$error":"#REF!"}},{"$f":"Podatnicy!#REF!","v":{"$error":"#REF!"}},{"$f":"Podatnicy!#REF!","v":{"$error":"#REF!"}}]
[null,14546,{"$f":"Podatnicy!#REF!","v":{"$error":"#REF!"}},{"$f":"Podatnicy!#REF!","v":{"$error":"#REF!"}},{"$f":"Podatnicy!#REF!","v":{"$error":"#REF!"}}]
[null,14557,{"$f":"Podatnicy!#REF!","v":{"$error":"#REF!"}},{"$f":"Podatnicy!#REF!","v":{"$error":"#REF!"}},{"$f":"Podatnicy!#REF!","v":{"$error":"#REF!"}}]
[null,14564,{"$f":"Podatnicy!#REF!","v":{"$error":"#REF!"}},{"$f":"Podatnicy!#REF!","v":{"$error":"#REF!"}},{"$f":"Podatnicy!#REF!","v":{"$error":"#REF!"}}]
[null,14576,{"$f":"Podatnicy!#REF!","v":{"$error":"#REF!"}},{"$f":"Podatnicy!#REF!","v":{"$error":"#REF!"}},{"$f":"Podatnicy!#REF!","v":{"$error":"#REF!"}}]
[null,14583,{"$f":"Podatnicy!#REF!","v":{"$error":"#REF!"}},{"$f":"Podatnicy!#REF!","v":{"$error":"#REF!"}},{"$f":"Podatnicy!#REF!","v":{"$error":"#REF!"}}]
[null,14588,{"$f":"Podatnicy!#REF!","v":{"$error":"#REF!"}},{"$f":"Podatnicy!#REF!","v":{"$error":"#REF!"}},{"$f":"Podatnicy!#REF!","v":{"$error":"#REF!"}}]
[null,14601,{"$f":"Podatnicy!#REF!","v":{"$error":"#REF!"}},{"$f":"Podatnicy!#REF!","v":{"$error":"#REF!"}},{"$f":"Podatnicy!#REF!","v":{"$error":"#REF!"}}]
[null,14613,{"$f":"Podatnicy!#REF!","v":{"$error":"#REF!"}},{"$f":"Podatnicy!#REF!","v":{"$error":"#REF!"}},{"$f":"Podatnicy!#REF!","v":{"$error":"#REF!"}}]
[null,14616,{"$f":"Podatnicy!#REF!","v":{"$error":"#REF!"}},{"$f":"Podatnicy!#REF!","v":{"$error":"#REF!"}},{"$f":"Podatnicy!#REF!","v":{"$error":"#REF!"}}]
[null,14627,{"$f":"Podatnicy!#REF!","v":{"$error":"#REF!"}},{"$f":"Podatnicy!#REF!","v":{"$error":"#REF!"}},{"$f":"Podatnicy!#REF!","v":{"$error":"#REF!"}}]
[null,14634,{"$f":"Podatnicy!#REF!","v":{"$error":"#REF!"}},{"$f":"Podatnicy!#REF!","v":{"$error":"#REF!"}},{"$f":"Podatnicy!#REF!","v":{"$error":"#REF!"}}]
[null,14646,{"$f":"Podatnicy!#REF!","v":{"$error":"#REF!"}},{"$f":"Podatnicy!#REF!","v":{"$error":"#REF!"}},{"$f":"Podatnicy!#REF!","v":{"$error":"#REF!"}}]
[null,14653,{"$f":"Podatnicy!#REF!","v":{"$error":"#REF!"}},{"$f":"Podatnicy!#REF!","v":{"$error":"#REF!"}},{"$f":"Podatnicy!#REF!","v":{"$error":"#REF!"}}]
[null,14658,{"$f":"Podatnicy!#REF!","v":{"$error":"#REF!"}},{"$f":"Podatnicy!#REF!","v":{"$error":"#REF!"}},{"$f":"Podatnicy!#REF!","v":{"$error":"#REF!"}}]
[null,14671,{"$f":"Podatnicy!#REF!","v":{"$error":"#REF!"}},{"$f":"Podatnicy!#REF!","v":{"$error":"#REF!"}},{"$f":"Podatnicy!#REF!","v":{"$error":"#REF!"}}]
[null,14683,{"$f":"Podatnicy!#REF!","v":{"$error":"#REF!"}},{"$f":"Podatnicy!#REF!","v":{"$error":"#REF!"}},{"$f":"Podatnicy!#REF!","v":{"$error":"#REF!"}}]
[null,14686,{"$f":"Podatnicy!#REF!","v":{"$error":"#REF!"}},{"$f":"Podatnicy!#REF!","v":{"$error":"#REF!"}},{"$f":"Podatnicy!#REF!","v":{"$error":"#REF!"}}]
[null,14697,{"$f":"Podatnicy!#REF!","v":{"$error":"#REF!"}},{"$f":"Podatnicy!#REF!","v":{"$error":"#REF!"}},{"$f":"Podatnicy!#REF!","v":{"$error":"#REF!"}}]
[null,14704,{"$f":"Podatnicy!#REF!","v":{"$error":"#REF!"}},{"$f":"Podatnicy!#REF!","v":{"$error":"#REF!"}},{"$f":"Podatnicy!#REF!","v":{"$error":"#REF!"}}]
[null,14716,{"$f":"Podatnicy!#REF!","v":{"$error":"#REF!"}},{"$f":"Podatnicy!#REF!","v":{"$error":"#REF!"}},{"$f":"Podatnicy!#REF!","v":{"$error":"#REF!"}}]
[null,14723,{"$f":"Podatnicy!#REF!","v":{"$error":"#REF!"}},{"$f":"Podatnicy!#REF!","v":{"$error":"#REF!"}},{"$f":"Podatnicy!#REF!","v":{"$error":"#REF!"}}]
[null,14728,{"$f":"Podatnicy!#REF!","v":{"$error":"#REF!"}},{"$f":"Podatnicy!#REF!","v":{"$error":"#REF!"}},{"$f":"Podatnicy!#REF!","v":{"$error":"#REF!"}}]
[null,14741,{"$f":"Podatnicy!#REF!","v":{"$error":"#REF!"}},{"$f":"Podatnicy!#REF!","v":{"$error":"#REF!"}},{"$f":"Podatnicy!#REF!","v":{"$error":"#REF!"}}]
[null,14753,{"$f":"Podatnicy!#REF!","v":{"$error":"#REF!"}},{"$f":"Podatnicy!#REF!","v":{"$error":"#REF!"}},{"$f":"Podatnicy!#REF!","v":{"$error":"#REF!"}}]
[null,14756,{"$f":"Podatnicy!#REF!","v":{"$error":"#REF!"}},{"$f":"Podatnicy!#REF!","v":{"$error":"#REF!"}},{"$f":"Podatnicy!#REF!","v":{"$error":"#REF!"}}]
[null,14767,{"$f":"Podatnicy!#REF!","v":{"$error":"#REF!"}},{"$f":"Podatnicy!#REF!","v":{"$error":"#REF!"}},{"$f":"Podatnicy!#REF!","v":{"$error":"#REF!"}}]
[null,14774,{"$f":"Podatnicy!#REF!","v":{"$error":"#REF!"}},{"$f":"Podatnicy!#REF!","v":{"$error":"#REF!"}},{"$f":"Podatnicy!#REF!","v":{"$error":"#REF!"}}]
[null,14781,{"$f":"Podatnicy!#REF!","v":{"$error":"#REF!"}},{"$f":"Podatnicy!#REF!","v":{"$error":"#REF!"}},{"$f":"Podatnicy!#REF!","v":{"$error":"#REF!"}}]
[null,14793,{"$f":"Podatnicy!#REF!","v":{"$error":"#REF!"}},{"$f":"Podatnicy!#REF!","v":{"$error":"#REF!"}},{"$f":"Podatnicy!#REF!","v":{"$error":"#REF!"}}]
[null,14798,{"$f":"Podatnicy!#REF!","v":{"$error":"#REF!"}},{"$f":"Podatnicy!#REF!","v":{"$error":"#REF!"}},{"$f":"Podatnicy!#REF!","v":{"$error":"#REF!"}}]
[null,14811,{"$f":"Podatnicy!#REF!","v":{"$error":"#REF!"}},{"$f":"Podatnicy!#REF!","v":{"$error":"#REF!"}},{"$f":"Podatnicy!#REF!","v":{"$error":"#REF!"}}]
[null,14823,{"$f":"Podatnicy!#REF!","v":{"$error":"#REF!"}},{"$f":"Podatnicy!#REF!","v":{"$error":"#REF!"}},{"$f":"Podatnicy!#REF!","v":{"$error":"#REF!"}}]
[null,14826,{"$f":"Podatnicy!#REF!","v":{"$error":"#REF!"}},{"$f":"Podatnicy!#REF!","v":{"$error":"#REF!"}},{"$f":"Podatnicy!#REF!","v":{"$error":"#REF!"}}]
[null,14833,{"$f":"Podatnicy!#REF!","v":{"$error":"#REF!"}},{"$f":"Podatnicy!#REF!","v":{"$error":"#REF!"}},{"$f":"Podatnicy!#REF!","v":{"$error":"#REF!"}}]
[null,14847,{"$f":"Podatnicy!#REF!","v":{"$error":"#REF!"}},{"$f":"Podatnicy!#REF!","v":{"$error":"#REF!"}},{"$f":"Podatnicy!#REF!","v":{"$error":"#REF!"}}]
[null,14851,{"$f":"Podatnicy!#REF!","v":{"$error":"#REF!"}},{"$f":"Podatnicy!#REF!","v":{"$error":"#REF!"}},{"$f":"Podatnicy!#REF!","v":{"$error":"#REF!"}}]
[null,14863,{"$f":"Podatnicy!#REF!","v":{"$error":"#REF!"}},{"$f":"Podatnicy!#REF!","v":{"$error":"#REF!"}},{"$f":"Podatnicy!#REF!","v":{"$error":"#REF!"}}]
[null,14875,{"$f":"Podatnicy!#REF!","v":{"$error":"#REF!"}},{"$f":"Podatnicy!#REF!","v":{"$error":"#REF!"}},{"$f":"Podatnicy!#REF!","v":{"$error":"#REF!"}}]
[null,14878,{"$f":"Podatnicy!#REF!","v":{"$error":"#REF!"}},{"$f":"Podatnicy!#REF!","v":{"$error":"#REF!"}},{"$f":"Podatnicy!#REF!","v":{"$error":"#REF!"}}]
[null,14893,{"$f":"Podatnicy!#REF!","v":{"$error":"#REF!"}},{"$f":"Podatnicy!#REF!","v":{"$error":"#REF!"}},{"$f":"Podatnicy!#REF!","v":{"$error":"#REF!"}}]
[null,14900,{"$f":"Podatnicy!#REF!","v":{"$error":"#REF!"}},{"$f":"Podatnicy!#REF!","v":{"$error":"#REF!"}},{"$f":"Podatnicy!#REF!","v":{"$error":"#REF!"}}]
[null,14903,{"$f":"Podatnicy!#REF!","v":{"$error":"#REF!"}},{"$f":"Podatnicy!#REF!","v":{"$error":"#REF!"}},{"$f":"Podatnicy!#REF!","v":{"$error":"#REF!"}}]
[null,14917,{"$f":"Podatnicy!#REF!","v":{"$error":"#REF!"}},{"$f":"Podatnicy!#REF!","v":{"$error":"#REF!"}},{"$f":"Podatnicy!#REF!","v":{"$error":"#REF!"}}]
[null,14921,{"$f":"Podatnicy!#REF!","v":{"$error":"#REF!"}},{"$f":"Podatnicy!#REF!","v":{"$error":"#REF!"}},{"$f":"Podatnicy!#REF!","v":{"$error":"#REF!"}}]
[null,14933,{"$f":"Podatnicy!#REF!","v":{"$error":"#REF!"}},{"$f":"Podatnicy!#REF!","v":{"$error":"#REF!"}},{"$f":"Podatnicy!#REF!","v":{"$error":"#REF!"}}]
[null,14945,{"$f":"Podatnicy!#REF!","v":{"$error":"#REF!"}},{"$f":"Podatnicy!#REF!","v":{"$error":"#REF!"}},{"$f":"Podatnicy!#REF!","v":{"$error":"#REF!"}}]
[null,14948,{"$f":"Podatnicy!#REF!","v":{"$error":"#REF!"}},{"$f":"Podatnicy!#REF!","v":{"$error":"#REF!"}},{"$f":"Podatnicy!#REF!","v":{"$error":"#REF!"}}]
[null,14963,{"$f":"Podatnicy!#REF!","v":{"$error":"#REF!"}},{"$f":"Podatnicy!#REF!","v":{"$error":"#REF!"}},{"$f":"Podatnicy!#REF!","v":{"$error":"#REF!"}}]
[null,14970,{"$f":"Podatnicy!#REF!","v":{"$error":"#REF!"}},{"$f":"Podatnicy!#REF!","v":{"$error":"#REF!"}},{"$f":"Podatnicy!#REF!","v":{"$error":"#REF!"}}]
[null,14973,{"$f":"Podatnicy!#REF!","v":{"$error":"#REF!"}},{"$f":"Podatnicy!#REF!","v":{"$error":"#REF!"}},{"$f":"Podatnicy!#REF!","v":{"$error":"#REF!"}}]
[null,14987,{"$f":"Podatnicy!#REF!","v":{"$error":"#REF!"}},{"$f":"Podatnicy!#REF!","v":{"$error":"#REF!"}},{"$f":"Podatnicy!#REF!","v":{"$error":"#REF!"}}]
[null,14991,{"$f":"Podatnicy!#REF!","v":{"$error":"#REF!"}},{"$f":"Podatnicy!#REF!","v":{"$error":"#REF!"}},{"$f":"Podatnicy!#REF!","v":{"$error":"#REF!"}}]
[null,15003,{"$f":"Podatnicy!#REF!","v":{"$error":"#REF!"}},{"$f":"Podatnicy!#REF!","v":{"$error":"#REF!"}},{"$f":"Podatnicy!#REF!","v":{"$error":"#REF!"}}]
[null,15015,{"$f":"Podatnicy!#REF!","v":{"$error":"#REF!"}},{"$f":"Podatnicy!#REF!","v":{"$error":"#REF!"}},{"$f":"Podatnicy!#REF!","v":{"$error":"#REF!"}}]
[null,15018,{"$f":"Podatnicy!#REF!","v":{"$error":"#REF!"}},{"$f":"Podatnicy!#REF!","v":{"$error":"#REF!"}},{"$f":"Podatnicy!#REF!","v":{"$error":"#REF!"}}]
[null,15033,{"$f":"Podatnicy!#REF!","v":{"$error":"#REF!"}},{"$f":"Podatnicy!#REF!","v":{"$error":"#REF!"}},{"$f":"Podatnicy!#REF!","v":{"$error":"#REF!"}}]
[null,15040,{"$f":"Podatnicy!#REF!","v":{"$error":"#REF!"}},{"$f":"Podatnicy!#REF!","v":{"$error":"#REF!"}},{"$f":"Podatnicy!#REF!","v":{"$error":"#REF!"}}]
[null,15043,{"$f":"Podatnicy!#REF!","v":{"$error":"#REF!"}},{"$f":"Podatnicy!#REF!","v":{"$error":"#REF!"}},{"$f":"Podatnicy!#REF!","v":{"$error":"#REF!"}}]
[null,15057,{"$f":"Podatnicy!#REF!","v":{"$error":"#REF!"}},{"$f":"Podatnicy!#REF!","v":{"$error":"#REF!"}},{"$f":"Podatnicy!#REF!","v":{"$error":"#REF!"}}]
[null,15061,{"$f":"Podatnicy!#REF!","v":{"$error":"#REF!"}},{"$f":"Podatnicy!#REF!","v":{"$error":"#REF!"}},{"$f":"Podatnicy!#REF!","v":{"$error":"#REF!"}}]
[null,15073,{"$f":"Podatnicy!#REF!","v":{"$error":"#REF!"}},{"$f":"Podatnicy!#REF!","v":{"$error":"#REF!"}},{"$f":"Podatnicy!#REF!","v":{"$error":"#REF!"}}]
[null,15080,{"$f":"Podatnicy!#REF!","v":{"$error":"#REF!"}},{"$f":"Podatnicy!#REF!","v":{"$error":"#REF!"}},{"$f":"Podatnicy!#REF!","v":{"$error":"#REF!"}}]
[null,15088,{"$f":"Podatnicy!#REF!","v":{"$error":"#REF!"}},{"$f":"Podatnicy!#REF!","v":{"$error":"#REF!"}},{"$f":"Podatnicy!#REF!","v":{"$error":"#REF!"}}]
[null,15103,{"$f":"Podatnicy!#REF!","v":{"$error":"#REF!"}},{"$f":"Podatnicy!#REF!","v":{"$error":"#REF!"}},{"$f":"Podatnicy!#REF!","v":{"$error":"#REF!"}}]
[null,15110,{"$f":"Podatnicy!#REF!","v":{"$error":"#REF!"}},{"$f":"Podatnicy!#REF!","v":{"$error":"#REF!"}},{"$f":"Podatnicy!#REF!","v":{"$error":"#REF!"}}]
[null,15113,{"$f":"Podatnicy!#REF!","v":{"$error":"#REF!"}},{"$f":"Podatnicy!#REF!","v":{"$error":"#REF!"}},{"$f":"Podatnicy!#REF!","v":{"$error":"#REF!"}}]
[null,15125,{"$f":"Podatnicy!#REF!","v":{"$error":"#REF!"}},{"$f":"Podatnicy!#REF!","v":{"$error":"#REF!"}},{"$f":"Podatnicy!#REF!","v":{"$error":"#REF!"}}]
[null,15137,{"$f":"Podatnicy!#REF!","v":{"$error":"#REF!"}},{"$f":"Podatnicy!#REF!","v":{"$error":"#REF!"}},{"$f":"Podatnicy!#REF!","v":{"$error":"#REF!"}}]
[null,15143,{"$f":"Podatnicy!#REF!","v":{"$error":"#REF!"}},{"$f":"Podatnicy!#REF!","v":{"$error":"#REF!"}},{"$f":"Podatnicy!#REF!","v":{"$error":"#REF!"}}]
[null,15150,{"$f":"Podatnicy!#REF!","v":{"$error":"#REF!"}},{"$f":"Podatnicy!#REF!","v":{"$error":"#REF!"}},{"$f":"Podatnicy!#REF!","v":{"$error":"#REF!"}}]
[null,15162,{"$f":"Podatnicy!#REF!","v":{"$error":"#REF!"}},{"$f":"Podatnicy!#REF!","v":{"$error":"#REF!"}},{"$f":"Podatnicy!#REF!","v":{"$error":"#REF!"}}]
[null,15168,{"$f":"Podatnicy!#REF!","v":{"$error":"#REF!"}},{"$f":"Podatnicy!#REF!","v":{"$error":"#REF!"}},{"$f":"Podatnicy!#REF!","v":{"$error":"#REF!"}}]
[null,15180,{"$f":"Podatnicy!#REF!","v":{"$error":"#REF!"}},{"$f":"Podatnicy!#REF!","v":{"$error":"#REF!"}},{"$f":"Podatnicy!#REF!","v":{"$error":"#REF!"}}]
[null,15183,{"$f":"Podatnicy!#REF!","v":{"$error":"#REF!"}},{"$f":"Podatnicy!#REF!","v":{"$error":"#REF!"}},{"$f":"Podatnicy!#REF!","v":{"$error":"#REF!"}}]
[null,15199,{"$f":"Podatnicy!#REF!","v":{"$error":"#REF!"}},{"$f":"Podatnicy!#REF!","v":{"$error":"#REF!"}},{"$f":"Podatnicy!#REF!","v":{"$error":"#REF!"}}]
[null,15207,{"$f":"Podatnicy!#REF!","v":{"$error":"#REF!"}},{"$f":"Podatnicy!#REF!","v":{"$error":"#REF!"}},{"$f":"Podatnicy!#REF!","v":{"$error":"#REF!"}}]
[null,15213,{"$f":"Podatnicy!#REF!","v":{"$error":"#REF!"}},{"$f":"Podatnicy!#REF!","v":{"$error":"#REF!"}},{"$f":"Podatnicy!#REF!","v":{"$error":"#REF!"}}]
[null,15220,{"$f":"Podatnicy!#REF!","v":{"$error":"#REF!"}},{"$f":"Podatnicy!#REF!","v":{"$error":"#REF!"}},{"$f":"Podatnicy!#REF!","v":{"$error":"#REF!"}}]
[null,15232,{"$f":"Podatnicy!#REF!","v":{"$error":"#REF!"}},{"$f":"Podatnicy!#REF!","v":{"$error":"#REF!"}},{"$f":"Podatnicy!#REF!","v":{"$error":"#REF!"}}]
[null,15238,{"$f":"Podatnicy!#REF!","v":{"$error":"#REF!"}},{"$f":"Podatnicy!#REF!","v":{"$error":"#REF!"}},{"$f":"Podatnicy!#REF!","v":{"$error":"#REF!"}}]
[null,15250,{"$f":"Podatnicy!#REF!","v":{"$error":"#REF!"}},{"$f":"Podatnicy!#REF!","v":{"$error":"#REF!"}},{"$f":"Podatnicy!#REF!","v":{"$error":"#REF!"}}]
[null,15253,{"$f":"Podatnicy!#REF!","v":{"$error":"#REF!"}},{"$f":"Podatnicy!#REF!","v":{"$error":"#REF!"}},{"$f":"Podatnicy!#REF!","v":{"$error":"#REF!"}}]
[null,15269,{"$f":"Podatnicy!#REF!","v":{"$error":"#REF!"}},{"$f":"Podatnicy!#REF!","v":{"$error":"#REF!"}},{"$f":"Podatnicy!#REF!","v":{"$error":"#REF!"}}]
[null,15277,{"$f":"Podatnicy!#REF!","v":{"$error":"#REF!"}},{"$f":"Podatnicy!#REF!","v":{"$error":"#REF!"}},{"$f":"Podatnicy!#REF!","v":{"$error":"#REF!"}}]
[null,15283,{"$f":"Podatnicy!#REF!","v":{"$error":"#REF!"}},{"$f":"Podatnicy!#REF!","v":{"$error":"#REF!"}},{"$f":"Podatnicy!#REF!","v":{"$error":"#REF!"}}]
[null,15290,{"$f":"Podatnicy!#REF!","v":{"$error":"#REF!"}},{"$f":"Podatnicy!#REF!","v":{"$error":"#REF!"}},{"$f":"Podatnicy!#REF!","v":{"$error":"#REF!"}}]
[null,15302,{"$f":"Podatnicy!#REF!","v":{"$error":"#REF!"}},{"$f":"Podatnicy!#REF!","v":{"$error":"#REF!"}},{"$f":"Podatnicy!#REF!","v":{"$error":"#REF!"}}]
[null,15308,{"$f":"Podatnicy!#REF!","v":{"$error":"#REF!"}},{"$f":"Podatnicy!#REF!","v":{"$error":"#REF!"}},{"$f":"Podatnicy!#REF!","v":{"$error":"#REF!"}}]
[null,15320,{"$f":"Podatnicy!#REF!","v":{"$error":"#REF!"}},{"$f":"Podatnicy!#REF!","v":{"$error":"#REF!"}},{"$f":"Podatnicy!#REF!","v":{"$error":"#REF!"}}]
[null,15323,{"$f":"Podatnicy!#REF!","v":{"$error":"#REF!"}},{"$f":"Podatnicy!#REF!","v":{"$error":"#REF!"}},{"$f":"Podatnicy!#REF!","v":{"$error":"#REF!"}}]
[null,15339,{"$f":"Podatnicy!#REF!","v":{"$error":"#REF!"}},{"$f":"Podatnicy!#REF!","v":{"$error":"#REF!"}},{"$f":"Podatnicy!#REF!","v":{"$error":"#REF!"}}]
[null,15347,{"$f":"Podatnicy!#REF!","v":{"$error":"#REF!"}},{"$f":"Podatnicy!#REF!","v":{"$error":"#REF!"}},{"$f":"Podatnicy!#REF!","v":{"$error":"#REF!"}}]
[null,15353,{"$f":"Podatnicy!#REF!","v":{"$error":"#REF!"}},{"$f":"Podatnicy!#REF!","v":{"$error":"#REF!"}},{"$f":"Podatnicy!#REF!","v":{"$error":"#REF!"}}]
[null,15360,{"$f":"Podatnicy!#REF!","v":{"$error":"#REF!"}},{"$f":"Podatnicy!#REF!","v":{"$error":"#REF!"}},{"$f":"Podatnicy!#REF!","v":{"$error":"#REF!"}}]
[null,15372,{"$f":"Podatnicy!#REF!","v":{"$error":"#REF!"}},{"$f":"Podatnicy!#REF!","v":{"$error":"#REF!"}},{"$f":"Podatnicy!#REF!","v":{"$error":"#REF!"}}]
[null,15378,{"$f":"Podatnicy!#REF!","v":{"$error":"#REF!"}},{"$f":"Podatnicy!#REF!","v":{"$error":"#REF!"}},{"$f":"Podatnicy!#REF!","v":{"$error":"#REF!"}}]
[null,15390,{"$f":"Podatnicy!#REF!","v":{"$error":"#REF!"}},{"$f":"Podatnicy!#REF!","v":{"$error":"#REF!"}},{"$f":"Podatnicy!#REF!","v":{"$error":"#REF!"}}]
[null,15393,{"$f":"Podatnicy!#REF!","v":{"$error":"#REF!"}},{"$f":"Podatnicy!#REF!","v":{"$error":"#REF!"}},{"$f":"Podatnicy!#REF!","v":{"$error":"#REF!"}}]
[null,15409,{"$f":"Podatnicy!#REF!","v":{"$error":"#REF!"}},{"$f":"Podatnicy!#REF!","v":{"$error":"#REF!"}},{"$f":"Podatnicy!#REF!","v":{"$error":"#REF!"}}]
[null,15412,{"$f":"Podatnicy!#REF!","v":{"$error":"#REF!"}},{"$f":"Podatnicy!#REF!","v":{"$error":"#REF!"}},{"$f":"Podatnicy!#REF!","v":{"$error":"#REF!"}}]
[null,15427,{"$f":"Podatnicy!#REF!","v":{"$error":"#REF!"}},{"$f":"Podatnicy!#REF!","v":{"$error":"#REF!"}},{"$f":"Podatnicy!#REF!","v":{"$error":"#REF!"}}]
[null,15430,{"$f":"Podatnicy!#REF!","v":{"$error":"#REF!"}},{"$f":"Podatnicy!#REF!","v":{"$error":"#REF!"}},{"$f":"Podatnicy!#REF!","v":{"$error":"#REF!"}}]
[null,15442,{"$f":"Podatnicy!#REF!","v":{"$error":"#REF!"}},{"$f":"Podatnicy!#REF!","v":{"$error":"#REF!"}},{"$f":"Podatnicy!#REF!","v":{"$error":"#REF!"}}]
[null,15449,{"$f":"Podatnicy!#REF!","v":{"$error":"#REF!"}},{"$f":"Podatnicy!#REF!","v":{"$error":"#REF!"}},{"$f":"Podatnicy!#REF!","v":{"$error":"#REF!"}}]
[null,15458,{"$f":"Podatnicy!#REF!","v":{"$error":"#REF!"}},{"$f":"Podatnicy!#REF!","v":{"$error":"#REF!"}},{"$f":"Podatnicy!#REF!","v":{"$error":"#REF!"}}]
[null,15463,{"$f":"Podatnicy!#REF!","v":{"$error":"#REF!"}},{"$f":"Podatnicy!#REF!","v":{"$error":"#REF!"}},{"$f":"Podatnicy!#REF!","v":{"$error":"#REF!"}}]
[null,15479,{"$f":"Podatnicy!#REF!","v":{"$error":"#REF!"}},{"$f":"Podatnicy!#REF!","v":{"$error":"#REF!"}},{"$f":"Podatnicy!#REF!","v":{"$error":"#REF!"}}]
[null,15482,{"$f":"Podatnicy!#REF!","v":{"$error":"#REF!"}},{"$f":"Podatnicy!#REF!","v":{"$error":"#REF!"}},{"$f":"Podatnicy!#REF!","v":{"$error":"#REF!"}}]
[null,15497,{"$f":"Podatnicy!#REF!","v":{"$error":"#REF!"}},{"$f":"Podatnicy!#REF!","v":{"$error":"#REF!"}},{"$f":"Podatnicy!#REF!","v":{"$error":"#REF!"}}]
[null,15500,{"$f":"Podatnicy!#REF!","v":{"$error":"#REF!"}},{"$f":"Podatnicy!#REF!","v":{"$error":"#REF!"}},{"$f":"Podatnicy!#REF!","v":{"$error":"#REF!"}}]
[null,15512,{"$f":"Podatnicy!#REF!","v":{"$error":"#REF!"}},{"$f":"Podatnicy!#REF!","v":{"$error":"#REF!"}},{"$f":"Podatnicy!#REF!","v":{"$error":"#REF!"}}]
[null,15519,{"$f":"Podatnicy!#REF!","v":{"$error":"#REF!"}},{"$f":"Podatnicy!#REF!","v":{"$error":"#REF!"}},{"$f":"Podatnicy!#REF!","v":{"$error":"#REF!"}}]
[null,15528,{"$f":"Podatnicy!#REF!","v":{"$error":"#REF!"}},{"$f":"Podatnicy!#REF!","v":{"$error":"#REF!"}},{"$f":"Podatnicy!#REF!","v":{"$error":"#REF!"}}]
[null,15533,{"$f":"Podatnicy!#REF!","v":{"$error":"#REF!"}},{"$f":"Podatnicy!#REF!","v":{"$error":"#REF!"}},{"$f":"Podatnicy!#REF!","v":{"$error":"#REF!"}}]
[null,15549,{"$f":"Podatnicy!#REF!","v":{"$error":"#REF!"}},{"$f":"Podatnicy!#REF!","v":{"$error":"#REF!"}},{"$f":"Podatnicy!#REF!","v":{"$error":"#REF!"}}]
[null,15552,{"$f":"Podatnicy!#REF!","v":{"$error":"#REF!"}},{"$f":"Podatnicy!#REF!","v":{"$error":"#REF!"}},{"$f":"Podatnicy!#REF!","v":{"$error":"#REF!"}}]
[null,15567,{"$f":"Podatnicy!#REF!","v":{"$error":"#REF!"}},{"$f":"Podatnicy!#REF!","v":{"$error":"#REF!"}},{"$f":"Podatnicy!#REF!","v":{"$error":"#REF!"}}]
[null,15570,{"$f":"Podatnicy!#REF!","v":{"$error":"#REF!"}},{"$f":"Podatnicy!#REF!","v":{"$error":"#REF!"}},{"$f":"Podatnicy!#REF!","v":{"$error":"#REF!"}}]
[null,15582,{"$f":"Podatnicy!#REF!","v":{"$error":"#REF!"}},{"$f":"Podatnicy!#REF!","v":{"$error":"#REF!"}},{"$f":"Podatnicy!#REF!","v":{"$error":"#REF!"}}]
[null,15589,{"$f":"Podatnicy!#REF!","v":{"$error":"#REF!"}},{"$f":"Podatnicy!#REF!","v":{"$error":"#REF!"}},{"$f":"Podatnicy!#REF!","v":{"$error":"#REF!"}}]
[null,15598,{"$f":"Podatnicy!#REF!","v":{"$error":"#REF!"}},{"$f":"Podatnicy!#REF!","v":{"$error":"#REF!"}},{"$f":"Podatnicy!#REF!","v":{"$error":"#REF!"}}]
[null,15603,{"$f":"Podatnicy!#REF!","v":{"$error":"#REF!"}},{"$f":"Podatnicy!#REF!","v":{"$error":"#REF!"}},{"$f":"Podatnicy!#REF!","v":{"$error":"#REF!"}}]
[null,15619,{"$f":"Podatnicy!#REF!","v":{"$error":"#REF!"}},{"$f":"Podatnicy!#REF!","v":{"$error":"#REF!"}},{"$f":"Podatnicy!#REF!","v":{"$error":"#REF!"}}]
[null,15622,{"$f":"Podatnicy!#REF!","v":{"$error":"#REF!"}},{"$f":"Podatnicy!#REF!","v":{"$error":"#REF!"}},{"$f":"Podatnicy!#REF!","v":{"$error":"#REF!"}}]
[null,15637,{"$f":"Podatnicy!#REF!","v":{"$error":"#REF!"}},{"$f":"Podatnicy!#REF!","v":{"$error":"#REF!"}},{"$f":"Podatnicy!#REF!","v":{"$error":"#REF!"}}]
[null,15640,{"$f":"Podatnicy!#REF!","v":{"$error":"#REF!"}},{"$f":"Podatnicy!#REF!","v":{"$error":"#REF!"}},{"$f":"Podatnicy!#REF!","v":{"$error":"#REF!"}}]
[null,15652,{"$f":"Podatnicy!#REF!","v":{"$error":"#REF!"}},{"$f":"Podatnicy!#REF!","v":{"$error":"#REF!"}},{"$f":"Podatnicy!#REF!","v":{"$error":"#REF!"}}]
[null,15659,{"$f":"Podatnicy!#REF!","v":{"$error":"#REF!"}},{"$f":"Podatnicy!#REF!","v":{"$error":"#REF!"}},{"$f":"Podatnicy!#REF!","v":{"$error":"#REF!"}}]
[null,15668,{"$f":"Podatnicy!#REF!","v":{"$error":"#REF!"}},{"$f":"Podatnicy!#REF!","v":{"$error":"#REF!"}},{"$f":"Podatnicy!#REF!","v":{"$error":"#REF!"}}]
[null,15677,{"$f":"Podatnicy!#REF!","v":{"$error":"#REF!"}},{"$f":"Podatnicy!#REF!","v":{"$error":"#REF!"}},{"$f":"Podatnicy!#REF!","v":{"$error":"#REF!"}}]
[null,15689,{"$f":"Podatnicy!#REF!","v":{"$error":"#REF!"}},{"$f":"Podatnicy!#REF!","v":{"$error":"#REF!"}},{"$f":"Podatnicy!#REF!","v":{"$error":"#REF!"}}]
[null,15692,{"$f":"Podatnicy!#REF!","v":{"$error":"#REF!"}},{"$f":"Podatnicy!#REF!","v":{"$error":"#REF!"}},{"$f":"Podatnicy!#REF!","v":{"$error":"#REF!"}}]
[null,15708,{"$f":"Podatnicy!#REF!","v":{"$error":"#REF!"}},{"$f":"Podatnicy!#REF!","v":{"$error":"#REF!"}},{"$f":"Podatnicy!#REF!","v":{"$error":"#REF!"}}]
[null,15709,{"$f":"Podatnicy!#REF!","v":{"$error":"#REF!"}},{"$f":"Podatnicy!#REF!","v":{"$error":"#REF!"}},{"$f":"Podatnicy!#REF!","v":{"$error":"#REF!"}}]
[null,15722,{"$f":"Podatnicy!#REF!","v":{"$error":"#REF!"}},{"$f":"Podatnicy!#REF!","v":{"$error":"#REF!"}},{"$f":"Podatnicy!#REF!","v":{"$error":"#REF!"}}]
[null,15729,{"$f":"Podatnicy!#REF!","v":{"$error":"#REF!"}},{"$f":"Podatnicy!#REF!","v":{"$error":"#REF!"}},{"$f":"Podatnicy!#REF!","v":{"$error":"#REF!"}}]
[null,15741,{"$f":"Podatnicy!#REF!","v":{"$error":"#REF!"}},{"$f":"Podatnicy!#REF!","v":{"$error":"#REF!"}},{"$f":"Podatnicy!#REF!","v":{"$error":"#REF!"}}]
[null,15748,{"$f":"Podatnicy!#REF!","v":{"$error":"#REF!"}},{"$f":"Podatnicy!#REF!","v":{"$error":"#REF!"}},{"$f":"Podatnicy!#REF!","v":{"$error":"#REF!"}}]
[null,15759,{"$f":"Podatnicy!#REF!","v":{"$error":"#REF!"}},{"$f":"Podatnicy!#REF!","v":{"$error":"#REF!"}},{"$f":"Podatnicy!#REF!","v":{"$error":"#REF!"}}]
[null,15762,{"$f":"Podatnicy!#REF!","v":{"$error":"#REF!"}},{"$f":"Podatnicy!#REF!","v":{"$error":"#REF!"}},{"$f":"Podatnicy!#REF!","v":{"$error":"#REF!"}}]
[null,15778,{"$f":"Podatnicy!#REF!","v":{"$error":"#REF!"}},{"$f":"Podatnicy!#REF!","v":{"$error":"#REF!"}},{"$f":"Podatnicy!#REF!","v":{"$error":"#REF!"}}]
[null,15779,{"$f":"Podatnicy!#REF!","v":{"$error":"#REF!"}},{"$f":"Podatnicy!#REF!","v":{"$error":"#REF!"}},{"$f":"Podatnicy!#REF!","v":{"$error":"#REF!"}}]
[null,15792,{"$f":"Podatnicy!#REF!","v":{"$error":"#REF!"}},{"$f":"Podatnicy!#REF!","v":{"$error":"#REF!"}},{"$f":"Podatnicy!#REF!","v":{"$error":"#REF!"}}]
[null,15799,{"$f":"Podatnicy!#REF!","v":{"$error":"#REF!"}},{"$f":"Podatnicy!#REF!","v":{"$error":"#REF!"}},{"$f":"Podatnicy!#REF!","v":{"$error":"#REF!"}}]
[null,15811,{"$f":"Podatnicy!#REF!","v":{"$error":"#REF!"}},{"$f":"Podatnicy!#REF!","v":{"$error":"#REF!"}},{"$f":"Podatnicy!#REF!","v":{"$error":"#REF!"}}]
[null,15818,{"$f":"Podatnicy!#REF!","v":{"$error":"#REF!"}},{"$f":"Podatnicy!#REF!","v":{"$error":"#REF!"}},{"$f":"Podatnicy!#REF!","v":{"$error":"#REF!"}}]
[null,15829,{"$f":"Podatnicy!#REF!","v":{"$error":"#REF!"}},{"$f":"Podatnicy!#REF!","v":{"$error":"#REF!"}},{"$f":"Podatnicy!#REF!","v":{"$error":"#REF!"}}]
[null,15832,{"$f":"Podatnicy!#REF!","v":{"$error":"#REF!"}},{"$f":"Podatnicy!#REF!","v":{"$error":"#REF!"}},{"$f":"Podatnicy!#REF!","v":{"$error":"#REF!"}}]
[null,15848,{"$f":"Podatnicy!#REF!","v":{"$error":"#REF!"}},{"$f":"Podatnicy!#REF!","v":{"$error":"#REF!"}},{"$f":"Podatnicy!#REF!","v":{"$error":"#REF!"}}]
[null,15849,{"$f":"Podatnicy!#REF!","v":{"$error":"#REF!"}},{"$f":"Podatnicy!#REF!","v":{"$error":"#REF!"}},{"$f":"Podatnicy!#REF!","v":{"$error":"#REF!"}}]
[null,15857,{"$f":"Podatnicy!#REF!","v":{"$error":"#REF!"}},{"$f":"Podatnicy!#REF!","v":{"$error":"#REF!"}},{"$f":"Podatnicy!#REF!","v":{"$error":"#REF!"}}]
[null,15869,{"$f":"Podatnicy!#REF!","v":{"$error":"#REF!"}},{"$f":"Podatnicy!#REF!","v":{"$error":"#REF!"}},{"$f":"Podatnicy!#REF!","v":{"$error":"#REF!"}}]
[null,15881,{"$f":"Podatnicy!#REF!","v":{"$error":"#REF!"}},{"$f":"Podatnicy!#REF!","v":{"$error":"#REF!"}},{"$f":"Podatnicy!#REF!","v":{"$error":"#REF!"}}]
[null,15888,{"$f":"Podatnicy!#REF!","v":{"$error":"#REF!"}},{"$f":"Podatnicy!#REF!","v":{"$error":"#REF!"}},{"$f":"Podatnicy!#REF!","v":{"$error":"#REF!"}}]
[null,15899,{"$f":"Podatnicy!#REF!","v":{"$error":"#REF!"}},{"$f":"Podatnicy!#REF!","v":{"$error":"#REF!"}},{"$f":"Podatnicy!#REF!","v":{"$error":"#REF!"}}]
[null,15902,{"$f":"Podatnicy!#REF!","v":{"$error":"#REF!"}},{"$f":"Podatnicy!#REF!","v":{"$error":"#REF!"}},{"$f":"Podatnicy!#REF!","v":{"$error":"#REF!"}}]
[null,15918,{"$f":"Podatnicy!#REF!","v":{"$error":"#REF!"}},{"$f":"Podatnicy!#REF!","v":{"$error":"#REF!"}},{"$f":"Podatnicy!#REF!","v":{"$error":"#REF!"}}]
[null,15919,{"$f":"Podatnicy!#REF!","v":{"$error":"#REF!"}},{"$f":"Podatnicy!#REF!","v":{"$error":"#REF!"}},{"$f":"Podatnicy!#REF!","v":{"$error":"#REF!"}}]
[null,15927,{"$f":"Podatnicy!#REF!","v":{"$error":"#REF!"}},{"$f":"Podatnicy!#REF!","v":{"$error":"#REF!"}},{"$f":"Podatnicy!#REF!","v":{"$error":"#REF!"}}]
[null,15939,{"$f":"Podatnicy!#REF!","v":{"$error":"#REF!"}},{"$f":"Podatnicy!#REF!","v":{"$error":"#REF!"}},{"$f":"Podatnicy!#REF!","v":{"$error":"#REF!"}}]
[null,15951,{"$f":"Podatnicy!#REF!","v":{"$error":"#REF!"}},{"$f":"Podatnicy!#REF!","v":{"$error":"#REF!"}},{"$f":"Podatnicy!#REF!","v":{"$error":"#REF!"}}]
[null,15958,{"$f":"Podatnicy!#REF!","v":{"$error":"#REF!"}},{"$f":"Podatnicy!#REF!","v":{"$error":"#REF!"}},{"$f":"Podatnicy!#REF!","v":{"$error":"#REF!"}}]
[null,15969,{"$f":"Podatnicy!#REF!","v":{"$error":"#REF!"}},{"$f":"Podatnicy!#REF!","v":{"$error":"#REF!"}},{"$f":"Podatnicy!#REF!","v":{"$error":"#REF!"}}]
[null,15972,{"$f":"Podatnicy!#REF!","v":{"$error":"#REF!"}},{"$f":"Podatnicy!#REF!","v":{"$error":"#REF!"}},{"$f":"Podatnicy!#REF!","v":{"$error":"#REF!"}}]
[null,15988,{"$f":"Podatnicy!#REF!","v":{"$error":"#REF!"}},{"$f":"Podatnicy!#REF!","v":{"$error":"#REF!"}},{"$f":"Podatnicy!#REF!","v":{"$error":"#REF!"}}]
[null,15991,{"$f":"Podatnicy!#REF!","v":{"$error":"#REF!"}},{"$f":"Podatnicy!#REF!","v":{"$error":"#REF!"}},{"$f":"Podatnicy!#REF!","v":{"$error":"#REF!"}}]
[null,15999,{"$f":"Podatnicy!#REF!","v":{"$error":"#REF!"}},{"$f":"Podatnicy!#REF!","v":{"$error":"#REF!"}},{"$f":"Podatnicy!#REF!","v":{"$error":"#REF!"}}]
[null,16009,{"$f":"Podatnicy!#REF!","v":{"$error":"#REF!"}},{"$f":"Podatnicy!#REF!","v":{"$error":"#REF!"}},{"$f":"Podatnicy!#REF!","v":{"$error":"#REF!"}}]
[null,16021,{"$f":"Podatnicy!#REF!","v":{"$error":"#REF!"}},{"$f":"Podatnicy!#REF!","v":{"$error":"#REF!"}},{"$f":"Podatnicy!#REF!","v":{"$error":"#REF!"}}]
[null,16028,{"$f":"Podatnicy!#REF!","v":{"$error":"#REF!"}},{"$f":"Podatnicy!#REF!","v":{"$error":"#REF!"}},{"$f":"Podatnicy!#REF!","v":{"$error":"#REF!"}}]
[null,16038,{"$f":"Podatnicy!#REF!","v":{"$error":"#REF!"}},{"$f":"Podatnicy!#REF!","v":{"$error":"#REF!"}},{"$f":"Podatnicy!#REF!","v":{"$error":"#REF!"}}]
[null,16046,{"$f":"Podatnicy!#REF!","v":{"$error":"#REF!"}},{"$f":"Podatnicy!#REF!","v":{"$error":"#REF!"}},{"$f":"Podatnicy!#REF!","v":{"$error":"#REF!"}}]
[null,16058,{"$f":"Podatnicy!#REF!","v":{"$error":"#REF!"}},{"$f":"Podatnicy!#REF!","v":{"$error":"#REF!"}},{"$f":"Podatnicy!#REF!","v":{"$error":"#REF!"}}]
[null,16061,{"$f":"Podatnicy!#REF!","v":{"$error":"#REF!"}},{"$f":"Podatnicy!#REF!","v":{"$error":"#REF!"}},{"$f":"Podatnicy!#REF!","v":{"$error":"#REF!"}}]
[null,16069,{"$f":"Podatnicy!#REF!","v":{"$error":"#REF!"}},{"$f":"Podatnicy!#REF!","v":{"$error":"#REF!"}},{"$f":"Podatnicy!#REF!","v":{"$error":"#REF!"}}]
[null,16079,{"$f":"Podatnicy!#REF!","v":{"$error":"#REF!"}},{"$f":"Podatnicy!#REF!","v":{"$error":"#REF!"}},{"$f":"Podatnicy!#REF!","v":{"$error":"#REF!"}}]
[null,16091,{"$f":"Podatnicy!#REF!","v":{"$error":"#REF!"}},{"$f":"Podatnicy!#REF!","v":{"$error":"#REF!"}},{"$f":"Podatnicy!#REF!","v":{"$error":"#REF!"}}]
[null,16098,{"$f":"Podatnicy!#REF!","v":{"$error":"#REF!"}},{"$f":"Podatnicy!#REF!","v":{"$error":"#REF!"}},{"$f":"Podatnicy!#REF!","v":{"$error":"#REF!"}}]
[null,16108,{"$f":"Podatnicy!#REF!","v":{"$error":"#REF!"}},{"$f":"Podatnicy!#REF!","v":{"$error":"#REF!"}},{"$f":"Podatnicy!#REF!","v":{"$error":"#REF!"}}]
[null,16116,{"$f":"Podatnicy!#REF!","v":{"$error":"#REF!"}},{"$f":"Podatnicy!#REF!","v":{"$error":"#REF!"}},{"$f":"Podatnicy!#REF!","v":{"$error":"#REF!"}}]
[null,16128,{"$f":"Podatnicy!#REF!","v":{"$error":"#REF!"}},{"$f":"Podatnicy!#REF!","v":{"$error":"#REF!"}},{"$f":"Podatnicy!#REF!","v":{"$error":"#REF!"}}]
[null,16131,{"$f":"Podatnicy!#REF!","v":{"$error":"#REF!"}},{"$f":"Podatnicy!#REF!","v":{"$error":"#REF!"}},{"$f":"Podatnicy!#REF!","v":{"$error":"#REF!"}}]
[null,16139,{"$f":"Podatnicy!#REF!","v":{"$error":"#REF!"}},{"$f":"Podatnicy!#REF!","v":{"$error":"#REF!"}},{"$f":"Podatnicy!#REF!","v":{"$error":"#REF!"}}]
[null,16149,{"$f":"Podatnicy!#REF!","v":{"$error":"#REF!"}},{"$f":"Podatnicy!#REF!","v":{"$error":"#REF!"}},{"$f":"Podatnicy!#REF!","v":{"$error":"#REF!"}}]
[null,16156,{"$f":"Podatnicy!#REF!","v":{"$error":"#REF!"}},{"$f":"Podatnicy!#REF!","v":{"$error":"#REF!"}},{"$f":"Podatnicy!#REF!","v":{"$error":"#REF!"}}]
[null,16168,{"$f":"Podatnicy!#REF!","v":{"$error":"#REF!"}},{"$f":"Podatnicy!#REF!","v":{"$error":"#REF!"}},{"$f":"Podatnicy!#REF!","v":{"$error":"#REF!"}}]
[null,16178,{"$f":"Podatnicy!#REF!","v":{"$error":"#REF!"}},{"$f":"Podatnicy!#REF!","v":{"$error":"#REF!"}},{"$f":"Podatnicy!#REF!","v":{"$error":"#REF!"}}]
[null,16186,{"$f":"Podatnicy!#REF!","v":{"$error":"#REF!"}},{"$f":"Podatnicy!#REF!","v":{"$error":"#REF!"}},{"$f":"Podatnicy!#REF!","v":{"$error":"#REF!"}}]
[null,16198,{"$f":"Podatnicy!#REF!","v":{"$error":"#REF!"}},{"$f":"Podatnicy!#REF!","v":{"$error":"#REF!"}},{"$f":"Podatnicy!#REF!","v":{"$error":"#REF!"}}]
[null,16201,{"$f":"Podatnicy!#REF!","v":{"$error":"#REF!"}},{"$f":"Podatnicy!#REF!","v":{"$error":"#REF!"}},{"$f":"Podatnicy!#REF!","v":{"$error":"#REF!"}}]
[null,16209,{"$f":"Podatnicy!#REF!","v":{"$error":"#REF!"}},{"$f":"Podatnicy!#REF!","v":{"$error":"#REF!"}},{"$f":"Podatnicy!#REF!","v":{"$error":"#REF!"}}]
[null,16219,{"$f":"Podatnicy!#REF!","v":{"$error":"#REF!"}},{"$f":"Podatnicy!#REF!","v":{"$error":"#REF!"}},{"$f":"Podatnicy!#REF!","v":{"$error":"#REF!"}}]
[null,16226,{"$f":"Podatnicy!#REF!","v":{"$error":"#REF!"}},{"$f":"Podatnicy!#REF!","v":{"$error":"#REF!"}},{"$f":"Podatnicy!#REF!","v":{"$error":"#REF!"}}]
[null,16238,{"$f":"Podatnicy!#REF!","v":{"$error":"#REF!"}},{"$f":"Podatnicy!#REF!","v":{"$error":"#REF!"}},{"$f":"Podatnicy!#REF!","v":{"$error":"#REF!"}}]
[null,16248,{"$f":"Podatnicy!#REF!","v":{"$error":"#REF!"}},{"$f":"Podatnicy!#REF!","v":{"$error":"#REF!"}},{"$f":"Podatnicy!#REF!","v":{"$error":"#REF!"}}]
[null,16256,{"$f":"Podatnicy!#REF!","v":{"$error":"#REF!"}},{"$f":"Podatnicy!#REF!","v":{"$error":"#REF!"}},{"$f":"Podatnicy!#REF!","v":{"$error":"#REF!"}}]
[null,16268,{"$f":"Podatnicy!#REF!","v":{"$error":"#REF!"}},{"$f":"Podatnicy!#REF!","v":{"$error":"#REF!"}},{"$f":"Podatnicy!#REF!","v":{"$error":"#REF!"}}]
[null,16271,{"$f":"Podatnicy!#REF!","v":{"$error":"#REF!"}},{"$f":"Podatnicy!#REF!","v":{"$error":"#REF!"}},{"$f":"Podatnicy!#REF!","v":{"$error":"#REF!"}}]
[null,16279,{"$f":"Podatnicy!#REF!","v":{"$error":"#REF!"}},{"$f":"Podatnicy!#REF!","v":{"$error":"#REF!"}},{"$f":"Podatnicy!#REF!","v":{"$error":"#REF!"}}]
[null,16289,{"$f":"Podatnicy!#REF!","v":{"$error":"#REF!"}},{"$f":"Podatnicy!#REF!","v":{"$error":"#REF!"}},{"$f":"Podatnicy!#REF!","v":{"$error":"#REF!"}}]
[null,16296,{"$f":"Podatnicy!#REF!","v":{"$error":"#REF!"}},{"$f":"Podatnicy!#REF!","v":{"$error":"#REF!"}},{"$f":"Podatnicy!#REF!","v":{"$error":"#REF!"}}]
[null,16308,{"$f":"Podatnicy!#REF!","v":{"$error":"#REF!"}},{"$f":"Podatnicy!#REF!","v":{"$error":"#REF!"}},{"$f":"Podatnicy!#REF!","v":{"$error":"#REF!"}}]
[null,16320,{"$f":"Podatnicy!#REF!","v":{"$error":"#REF!"}},{"$f":"Podatnicy!#REF!","v":{"$error":"#REF!"}},{"$f":"Podatnicy!#REF!","v":{"$error":"#REF!"}}]
[null,16328,{"$f":"Podatnicy!#REF!","v":{"$error":"#REF!"}},{"$f":"Podatnicy!#REF!","v":{"$error":"#REF!"}},{"$f":"Podatnicy!#REF!","v":{"$error":"#REF!"}}]
[null,16338,{"$f":"Podatnicy!#REF!","v":{"$error":"#REF!"}},{"$f":"Podatnicy!#REF!","v":{"$error":"#REF!"}},{"$f":"Podatnicy!#REF!","v":{"$error":"#REF!"}}]
[null,16345,{"$f":"Podatnicy!#REF!","v":{"$error":"#REF!"}},{"$f":"Podatnicy!#REF!","v":{"$error":"#REF!"}},{"$f":"Podatnicy!#REF!","v":{"$error":"#REF!"}}]
[null,16348,{"$f":"Podatnicy!#REF!","v":{"$error":"#REF!"}},{"$f":"Podatnicy!#REF!","v":{"$error":"#REF!"}},{"$f":"Podatnicy!#REF!","v":{"$error":"#REF!"}}]
[null,16359,{"$f":"Podatnicy!#REF!","v":{"$error":"#REF!"}},{"$f":"Podatnicy!#REF!","v":{"$error":"#REF!"}},{"$f":"Podatnicy!#REF!","v":{"$error":"#REF!"}}]
[null,16366,{"$f":"Podatnicy!#REF!","v":{"$error":"#REF!"}},{"$f":"Podatnicy!#REF!","v":{"$error":"#REF!"}},{"$f":"Podatnicy!#REF!","v":{"$error":"#REF!"}}]
[null,16378,{"$f":"Podatnicy!#REF!","v":{"$error":"#REF!"}},{"$f":"Podatnicy!#REF!","v":{"$error":"#REF!"}},{"$f":"Podatnicy!#REF!","v":{"$error":"#REF!"}}]
[null,16390,{"$f":"Podatnicy!#REF!","v":{"$error":"#REF!"}},{"$f":"Podatnicy!#REF!","v":{"$error":"#REF!"}},{"$f":"Podatnicy!#REF!","v":{"$error":"#REF!"}}]
[null,16398,{"$f":"Podatnicy!#REF!","v":{"$error":"#REF!"}},{"$f":"Podatnicy!#REF!","v":{"$error":"#REF!"}},{"$f":"Podatnicy!#REF!","v":{"$error":"#REF!"}}]
[null,16408,{"$f":"Podatnicy!#REF!","v":{"$error":"#REF!"}},{"$f":"Podatnicy!#REF!","v":{"$error":"#REF!"}},{"$f":"Podatnicy!#REF!","v":{"$error":"#REF!"}}]
[null,16415,{"$f":"Podatnicy!#REF!","v":{"$error":"#REF!"}},{"$f":"Podatnicy!#REF!","v":{"$error":"#REF!"}},{"$f":"Podatnicy!#REF!","v":{"$error":"#REF!"}}]
[null,16418,{"$f":"Podatnicy!#REF!","v":{"$error":"#REF!"}},{"$f":"Podatnicy!#REF!","v":{"$error":"#REF!"}},{"$f":"Podatnicy!#REF!","v":{"$error":"#REF!"}}]
[null,16429,{"$f":"Podatnicy!#REF!","v":{"$error":"#REF!"}},{"$f":"Podatnicy!#REF!","v":{"$error":"#REF!"}},{"$f":"Podatnicy!#REF!","v":{"$error":"#REF!"}}]
[null,16436,{"$f":"Podatnicy!#REF!","v":{"$error":"#REF!"}},{"$f":"Podatnicy!#REF!","v":{"$error":"#REF!"}},{"$f":"Podatnicy!#REF!","v":{"$error":"#REF!"}}]
[null,16448,{"$f":"Podatnicy!#REF!","v":{"$error":"#REF!"}},{"$f":"Podatnicy!#REF!","v":{"$error":"#REF!"}},{"$f":"Podatnicy!#REF!","v":{"$error":"#REF!"}}]
[null,16455,{"$f":"Podatnicy!#REF!","v":{"$error":"#REF!"}},{"$f":"Podatnicy!#REF!","v":{"$error":"#REF!"}},{"$f":"Podatnicy!#REF!","v":{"$error":"#REF!"}}]
[null,16468,{"$f":"Podatnicy!#REF!","v":{"$error":"#REF!"}},{"$f":"Podatnicy!#REF!","v":{"$error":"#REF!"}},{"$f":"Podatnicy!#REF!","v":{"$error":"#REF!"}}]
[null,16478,{"$f":"Podatnicy!#REF!","v":{"$error":"#REF!"}},{"$f":"Podatnicy!#REF!","v":{"$error":"#REF!"}},{"$f":"Podatnicy!#REF!","v":{"$error":"#REF!"}}]
[null,16485,{"$f":"Podatnicy!#REF!","v":{"$error":"#REF!"}},{"$f":"Podatnicy!#REF!","v":{"$error":"#REF!"}},{"$f":"Podatnicy!#REF!","v":{"$error":"#REF!"}}]
[null,16488,{"$f":"Podatnicy!#REF!","v":{"$error":"#REF!"}},{"$f":"Podatnicy!#REF!","v":{"$error":"#REF!"}},{"$f":"Podatnicy!#REF!","v":{"$error":"#REF!"}}]
[null,16499,{"$f":"Podatnicy!#REF!","v":{"$error":"#REF!"}},{"$f":"Podatnicy!#REF!","v":{"$error":"#REF!"}},{"$f":"Podatnicy!#REF!","v":{"$error":"#REF!"}}]
[null,16506,{"$f":"Podatnicy!#REF!","v":{"$error":"#REF!"}},{"$f":"Podatnicy!#REF!","v":{"$error":"#REF!"}},{"$f":"Podatnicy!#REF!","v":{"$error":"#REF!"}}]
[null,16518,{"$f":"Podatnicy!#REF!","v":{"$error":"#REF!"}},{"$f":"Podatnicy!#REF!","v":{"$error":"#REF!"}},{"$f":"Podatnicy!#REF!","v":{"$error":"#REF!"}}]
[null,16525,{"$f":"Podatnicy!#REF!","v":{"$error":"#REF!"}},{"$f":"Podatnicy!#REF!","v":{"$error":"#REF!"}},{"$f":"Podatnicy!#REF!","v":{"$error":"#REF!"}}]
[null,16538,{"$f":"Podatnicy!#REF!","v":{"$error":"#REF!"}},{"$f":"Podatnicy!#REF!","v":{"$error":"#REF!"}},{"$f":"Podatnicy!#REF!","v":{"$error":"#REF!"}}]
[null,16548,{"$f":"Podatnicy!#REF!","v":{"$error":"#REF!"}},{"$f":"Podatnicy!#REF!","v":{"$error":"#REF!"}},{"$f":"Podatnicy!#REF!","v":{"$error":"#REF!"}}]
[null,16555,{"$f":"Podatnicy!#REF!","v":{"$error":"#REF!"}},{"$f":"Podatnicy!#REF!","v":{"$error":"#REF!"}},{"$f":"Podatnicy!#REF!","v":{"$error":"#REF!"}}]
[null,16558,{"$f":"Podatnicy!#REF!","v":{"$error":"#REF!"}},{"$f":"Podatnicy!#REF!","v":{"$error":"#REF!"}},{"$f":"Podatnicy!#REF!","v":{"$error":"#REF!"}}]
[null,16569,{"$f":"Podatnicy!#REF!","v":{"$error":"#REF!"}},{"$f":"Podatnicy!#REF!","v":{"$error":"#REF!"}},{"$f":"Podatnicy!#REF!","v":{"$error":"#REF!"}}]
[null,16576,{"$f":"Podatnicy!#REF!","v":{"$error":"#REF!"}},{"$f":"Podatnicy!#REF!","v":{"$error":"#REF!"}},{"$f":"Podatnicy!#REF!","v":{"$error":"#REF!"}}]
[null,16588,{"$f":"Podatnicy!#REF!","v":{"$error":"#REF!"}},{"$f":"Podatnicy!#REF!","v":{"$error":"#REF!"}},{"$f":"Podatnicy!#REF!","v":{"$error":"#REF!"}}]
[null,16595,{"$f":"Podatnicy!#REF!","v":{"$error":"#REF!"}},{"$f":"Podatnicy!#REF!","v":{"$error":"#REF!"}},{"$f":"Podatnicy!#REF!","v":{"$error":"#REF!"}}]
[null,16607,{"$f":"Podatnicy!#REF!","v":{"$error":"#REF!"}},{"$f":"Podatnicy!#REF!","v":{"$error":"#REF!"}},{"$f":"Podatnicy!#REF!","v":{"$error":"#REF!"}}]
[null,16618,{"$f":"Podatnicy!#REF!","v":{"$error":"#REF!"}},{"$f":"Podatnicy!#REF!","v":{"$error":"#REF!"}},{"$f":"Podatnicy!#REF!","v":{"$error":"#REF!"}}]
[null,16625,{"$f":"Podatnicy!#REF!","v":{"$error":"#REF!"}},{"$f":"Podatnicy!#REF!","v":{"$error":"#REF!"}},{"$f":"Podatnicy!#REF!","v":{"$error":"#REF!"}}]
[null,16628,{"$f":"Podatnicy!#REF!","v":{"$error":"#REF!"}},{"$f":"Podatnicy!#REF!","v":{"$error":"#REF!"}},{"$f":"Podatnicy!#REF!","v":{"$error":"#REF!"}}]
[null,16644,{"$f":"Podatnicy!#REF!","v":{"$error":"#REF!"}},{"$f":"Podatnicy!#REF!","v":{"$error":"#REF!"}},{"$f":"Podatnicy!#REF!","v":{"$error":"#REF!"}}]
[null,16649,{"$f":"Podatnicy!#REF!","v":{"$error":"#REF!"}},{"$f":"Podatnicy!#REF!","v":{"$error":"#REF!"}},{"$f":"Podatnicy!#REF!","v":{"$error":"#REF!"}}]
[null,16658,{"$f":"Podatnicy!#REF!","v":{"$error":"#REF!"}},{"$f":"Podatnicy!#REF!","v":{"$error":"#REF!"}},{"$f":"Podatnicy!#REF!","v":{"$error":"#REF!"}}]
[null,16665,{"$f":"Podatnicy!#REF!","v":{"$error":"#REF!"}},{"$f":"Podatnicy!#REF!","v":{"$error":"#REF!"}},{"$f":"Podatnicy!#REF!","v":{"$error":"#REF!"}}]
[null,16677,{"$f":"Podatnicy!#REF!","v":{"$error":"#REF!"}},{"$f":"Podatnicy!#REF!","v":{"$error":"#REF!"}},{"$f":"Podatnicy!#REF!","v":{"$error":"#REF!"}}]
[null,16688,{"$f":"Podatnicy!#REF!","v":{"$error":"#REF!"}},{"$f":"Podatnicy!#REF!","v":{"$error":"#REF!"}},{"$f":"Podatnicy!#REF!","v":{"$error":"#REF!"}}]
[null,16695,{"$f":"Podatnicy!#REF!","v":{"$error":"#REF!"}},{"$f":"Podatnicy!#REF!","v":{"$error":"#REF!"}},{"$f":"Podatnicy!#REF!","v":{"$error":"#REF!"}}]
[null,16698,{"$f":"Podatnicy!#REF!","v":{"$error":"#REF!"}},{"$f":"Podatnicy!#REF!","v":{"$error":"#REF!"}},{"$f":"Podatnicy!#REF!","v":{"$error":"#REF!"}}]
[null,16714,{"$f":"Podatnicy!#REF!","v":{"$error":"#REF!"}},{"$f":"Podatnicy!#REF!","v":{"$error":"#REF!"}},{"$f":"Podatnicy!#REF!","v":{"$error":"#REF!"}}]
[null,16719,{"$f":"Podatnicy!#REF!","v":{"$error":"#REF!"}},{"$f":"Podatnicy!#REF!","v":{"$error":"#REF!"}},{"$f":"Podatnicy!#REF!","v":{"$error":"#REF!"}}]
[null,16728,{"$f":"Podatnicy!#REF!","v":{"$error":"#REF!"}},{"$f":"Podatnicy!#REF!","v":{"$error":"#REF!"}},{"$f":"Podatnicy!#REF!","v":{"$error":"#REF!"}}]
[null,16735,{"$f":"Podatnicy!#REF!","v":{"$error":"#REF!"}},{"$f":"Podatnicy!#REF!","v":{"$error":"#REF!"}},{"$f":"Podatnicy!#REF!","v":{"$error":"#REF!"}}]
[null,16747,{"$f":"Podatnicy!#REF!","v":{"$error":"#REF!"}},{"$f":"Podatnicy!#REF!","v":{"$error":"#REF!"}},{"$f":"Podatnicy!#REF!","v":{"$error":"#REF!"}}]
[null,16758,{"$f":"Podatnicy!#REF!","v":{"$error":"#REF!"}},{"$f":"Podatnicy!#REF!","v":{"$error":"#REF!"}},{"$f":"Podatnicy!#REF!","v":{"$error":"#REF!"}}]
[null,16765,{"$f":"Podatnicy!#REF!","v":{"$error":"#REF!"}},{"$f":"Podatnicy!#REF!","v":{"$error":"#REF!"}},{"$f":"Podatnicy!#REF!","v":{"$error":"#REF!"}}]
[null,16768,{"$f":"Podatnicy!#REF!","v":{"$error":"#REF!"}},{"$f":"Podatnicy!#REF!","v":{"$error":"#REF!"}},{"$f":"Podatnicy!#REF!","v":{"$error":"#REF!"}}]
[null,16784,{"$f":"Podatnicy!#REF!","v":{"$error":"#REF!"}},{"$f":"Podatnicy!#REF!","v":{"$error":"#REF!"}},{"$f":"Podatnicy!#REF!","v":{"$error":"#REF!"}}]
[null,16789,{"$f":"Podatnicy!#REF!","v":{"$error":"#REF!"}},{"$f":"Podatnicy!#REF!","v":{"$error":"#REF!"}},{"$f":"Podatnicy!#REF!","v":{"$error":"#REF!"}}]
[null,16798,{"$f":"Podatnicy!#REF!","v":{"$error":"#REF!"}},{"$f":"Podatnicy!#REF!","v":{"$error":"#REF!"}},{"$f":"Podatnicy!#REF!","v":{"$error":"#REF!"}}]
[null,16805,{"$f":"Podatnicy!#REF!","v":{"$error":"#REF!"}},{"$f":"Podatnicy!#REF!","v":{"$error":"#REF!"}},{"$f":"Podatnicy!#REF!","v":{"$error":"#REF!"}}]
[null,16817,{"$f":"Podatnicy!#REF!","v":{"$error":"#REF!"}},{"$f":"Podatnicy!#REF!","v":{"$error":"#REF!"}},{"$f":"Podatnicy!#REF!","v":{"$error":"#REF!"}}]
[null,16828,{"$f":"Podatnicy!#REF!","v":{"$error":"#REF!"}},{"$f":"Podatnicy!#REF!","v":{"$error":"#REF!"}},{"$f":"Podatnicy!#REF!","v":{"$error":"#REF!"}}]
[null,16835,{"$f":"Podatnicy!#REF!","v":{"$error":"#REF!"}},{"$f":"Podatnicy!#REF!","v":{"$error":"#REF!"}},{"$f":"Podatnicy!#REF!","v":{"$error":"#REF!"}}]
[null,16838,{"$f":"Podatnicy!#REF!","v":{"$error":"#REF!"}},{"$f":"Podatnicy!#REF!","v":{"$error":"#REF!"}},{"$f":"Podatnicy!#REF!","v":{"$error":"#REF!"}}]
[null,16854,{"$f":"Podatnicy!#REF!","v":{"$error":"#REF!"}},{"$f":"Podatnicy!#REF!","v":{"$error":"#REF!"}},{"$f":"Podatnicy!#REF!","v":{"$error":"#REF!"}}]
[null,16859,{"$f":"Podatnicy!#REF!","v":{"$error":"#REF!"}},{"$f":"Podatnicy!#REF!","v":{"$error":"#REF!"}},{"$f":"Podatnicy!#REF!","v":{"$error":"#REF!"}}]
[null,16868,{"$f":"Podatnicy!#REF!","v":{"$error":"#REF!"}},{"$f":"Podatnicy!#REF!","v":{"$error":"#REF!"}},{"$f":"Podatnicy!#REF!","v":{"$error":"#REF!"}}]
[null,16875,{"$f":"Podatnicy!#REF!","v":{"$error":"#REF!"}},{"$f":"Podatnicy!#REF!","v":{"$error":"#REF!"}},{"$f":"Podatnicy!#REF!","v":{"$error":"#REF!"}}]
[null,16887,{"$f":"Podatnicy!#REF!","v":{"$error":"#REF!"}},{"$f":"Podatnicy!#REF!","v":{"$error":"#REF!"}},{"$f":"Podatnicy!#REF!","v":{"$error":"#REF!"}}]
[null,16894,{"$f":"Podatnicy!#REF!","v":{"$error":"#REF!"}},{"$f":"Podatnicy!#REF!","v":{"$error":"#REF!"}},{"$f":"Podatnicy!#REF!","v":{"$error":"#REF!"}}]
[null,16900,{"$f":"Podatnicy!#REF!","v":{"$error":"#REF!"}},{"$f":"Podatnicy!#REF!","v":{"$error":"#REF!"}},{"$f":"Podatnicy!#REF!","v":{"$error":"#REF!"}}]
[null,16908,{"$f":"Podatnicy!#REF!","v":{"$error":"#REF!"}},{"$f":"Podatnicy!#REF!","v":{"$error":"#REF!"}},{"$f":"Podatnicy!#REF!","v":{"$error":"#REF!"}}]
[null,16924,{"$f":"Podatnicy!#REF!","v":{"$error":"#REF!"}},{"$f":"Podatnicy!#REF!","v":{"$error":"#REF!"}},{"$f":"Podatnicy!#REF!","v":{"$error":"#REF!"}}]
[null,16927,{"$f":"Podatnicy!#REF!","v":{"$error":"#REF!"}},{"$f":"Podatnicy!#REF!","v":{"$error":"#REF!"}},{"$f":"Podatnicy!#REF!","v":{"$error":"#REF!"}}]
[null,16939,{"$f":"Podatnicy!#REF!","v":{"$error":"#REF!"}},{"$f":"Podatnicy!#REF!","v":{"$error":"#REF!"}},{"$f":"Podatnicy!#REF!","v":{"$error":"#REF!"}}]
[null,16945,{"$f":"Podatnicy!#REF!","v":{"$error":"#REF!"}},{"$f":"Podatnicy!#REF!","v":{"$error":"#REF!"}},{"$f":"Podatnicy!#REF!","v":{"$error":"#REF!"}}]
[null,16957,{"$f":"Podatnicy!#REF!","v":{"$error":"#REF!"}},{"$f":"Podatnicy!#REF!","v":{"$error":"#REF!"}},{"$f":"Podatnicy!#REF!","v":{"$error":"#REF!"}}]
[null,16964,{"$f":"Podatnicy!#REF!","v":{"$error":"#REF!"}},{"$f":"Podatnicy!#REF!","v":{"$error":"#REF!"}},{"$f":"Podatnicy!#REF!","v":{"$error":"#REF!"}}]
[null,16970,{"$f":"Podatnicy!#REF!","v":{"$error":"#REF!"}},{"$f":"Podatnicy!#REF!","v":{"$error":"#REF!"}},{"$f":"Podatnicy!#REF!","v":{"$error":"#REF!"}}]
[null,16978,{"$f":"Podatnicy!#REF!","v":{"$error":"#REF!"}},{"$f":"Podatnicy!#REF!","v":{"$error":"#REF!"}},{"$f":"Podatnicy!#REF!","v":{"$error":"#REF!"}}]
[null,16994,{"$f":"Podatnicy!#REF!","v":{"$error":"#REF!"}},{"$f":"Podatnicy!#REF!","v":{"$error":"#REF!"}},{"$f":"Podatnicy!#REF!","v":{"$error":"#REF!"}}]
[null,16997,{"$f":"Podatnicy!#REF!","v":{"$error":"#REF!"}},{"$f":"Podatnicy!#REF!","v":{"$error":"#REF!"}},{"$f":"Podatnicy!#REF!","v":{"$error":"#REF!"}}]
[null,17009,{"$f":"Podatnicy!#REF!","v":{"$error":"#REF!"}},{"$f":"Podatnicy!#REF!","v":{"$error":"#REF!"}},{"$f":"Podatnicy!#REF!","v":{"$error":"#REF!"}}]
[null,17015,{"$f":"Podatnicy!#REF!","v":{"$error":"#REF!"}},{"$f":"Podatnicy!#REF!","v":{"$error":"#REF!"}},{"$f":"Podatnicy!#REF!","v":{"$error":"#REF!"}}]
[null,17027,{"$f":"Podatnicy!#REF!","v":{"$error":"#REF!"}},{"$f":"Podatnicy!#REF!","v":{"$error":"#REF!"}},{"$f":"Podatnicy!#REF!","v":{"$error":"#REF!"}}]
[null,17034,{"$f":"Podatnicy!#REF!","v":{"$error":"#REF!"}},{"$f":"Podatnicy!#REF!","v":{"$error":"#REF!"}},{"$f":"Podatnicy!#REF!","v":{"$error":"#REF!"}}]
[null,17040,{"$f":"Podatnicy!#REF!","v":{"$error":"#REF!"}},{"$f":"Podatnicy!#REF!","v":{"$error":"#REF!"}},{"$f":"Podatnicy!#REF!","v":{"$error":"#REF!"}}]
[null,17048,{"$f":"Podatnicy!#REF!","v":{"$error":"#REF!"}},{"$f":"Podatnicy!#REF!","v":{"$error":"#REF!"}},{"$f":"Podatnicy!#REF!","v":{"$error":"#REF!"}}]
[null,17064,{"$f":"Podatnicy!#REF!","v":{"$error":"#REF!"}},{"$f":"Podatnicy!#REF!","v":{"$error":"#REF!"}},{"$f":"Podatnicy!#REF!","v":{"$error":"#REF!"}}]
[null,17067,{"$f":"Podatnicy!#REF!","v":{"$error":"#REF!"}},{"$f":"Podatnicy!#REF!","v":{"$error":"#REF!"}},{"$f":"Podatnicy!#REF!","v":{"$error":"#REF!"}}]
[null,17079,{"$f":"Podatnicy!#REF!","v":{"$error":"#REF!"}},{"$f":"Podatnicy!#REF!","v":{"$error":"#REF!"}},{"$f":"Podatnicy!#REF!","v":{"$error":"#REF!"}}]
[null,17085,{"$f":"Podatnicy!#REF!","v":{"$error":"#REF!"}},{"$f":"Podatnicy!#REF!","v":{"$error":"#REF!"}},{"$f":"Podatnicy!#REF!","v":{"$error":"#REF!"}}]
[null,17097,{"$f":"Podatnicy!#REF!","v":{"$error":"#REF!"}},{"$f":"Podatnicy!#REF!","v":{"$error":"#REF!"}},{"$f":"Podatnicy!#REF!","v":{"$error":"#REF!"}}]
[null,17104,{"$f":"Podatnicy!#REF!","v":{"$error":"#REF!"}},{"$f":"Podatnicy!#REF!","v":{"$error":"#REF!"}},{"$f":"Podatnicy!#REF!","v":{"$error":"#REF!"}}]
[null,17110,{"$f":"Podatnicy!#REF!","v":{"$error":"#REF!"}},{"$f":"Podatnicy!#REF!","v":{"$error":"#REF!"}},{"$f":"Podatnicy!#REF!","v":{"$error":"#REF!"}}]
[null,17122,{"$f":"Podatnicy!#REF!","v":{"$error":"#REF!"}},{"$f":"Podatnicy!#REF!","v":{"$error":"#REF!"}},{"$f":"Podatnicy!#REF!","v":{"$error":"#REF!"}}]
[null,17134,{"$f":"Podatnicy!#REF!","v":{"$error":"#REF!"}},{"$f":"Podatnicy!#REF!","v":{"$error":"#REF!"}},{"$f":"Podatnicy!#REF!","v":{"$error":"#REF!"}}]
[null,17137,{"$f":"Podatnicy!#REF!","v":{"$error":"#REF!"}},{"$f":"Podatnicy!#REF!","v":{"$error":"#REF!"}},{"$f":"Podatnicy!#REF!","v":{"$error":"#REF!"}}]
[null,17149,{"$f":"Podatnicy!#REF!","v":{"$error":"#REF!"}},{"$f":"Podatnicy!#REF!","v":{"$error":"#REF!"}},{"$f":"Podatnicy!#REF!","v":{"$error":"#REF!"}}]
[null,17155,{"$f":"Podatnicy!#REF!","v":{"$error":"#REF!"}},{"$f":"Podatnicy!#REF!","v":{"$error":"#REF!"}},{"$f":"Podatnicy!#REF!","v":{"$error":"#REF!"}}]
[null,17167,{"$f":"Podatnicy!#REF!","v":{"$error":"#REF!"}},{"$f":"Podatnicy!#REF!","v":{"$error":"#REF!"}},{"$f":"Podatnicy!#REF!","v":{"$error":"#REF!"}}]
[null,17174,{"$f":"Podatnicy!#REF!","v":{"$error":"#REF!"}},{"$f":"Podatnicy!#REF!","v":{"$error":"#REF!"}},{"$f":"Podatnicy!#REF!","v":{"$error":"#REF!"}}]
[null,17186,{"$f":"Podatnicy!#REF!","v":{"$error":"#REF!"}},{"$f":"Podatnicy!#REF!","v":{"$error":"#REF!"}},{"$f":"Podatnicy!#REF!","v":{"$error":"#REF!"}}]
[null,17190,{"$f":"Podatnicy!#REF!","v":{"$error":"#REF!"}},{"$f":"Podatnicy!#REF!","v":{"$error":"#REF!"}},{"$f":"Podatnicy!#REF!","v":{"$error":"#REF!"}}]
[null,17204,{"$f":"Podatnicy!#REF!","v":{"$error":"#REF!"}},{"$f":"Podatnicy!#REF!","v":{"$error":"#REF!"}},{"$f":"Podatnicy!#REF!","v":{"$error":"#REF!"}}]
[null,17207,{"$f":"Podatnicy!#REF!","v":{"$error":"#REF!"}},{"$f":"Podatnicy!#REF!","v":{"$error":"#REF!"}},{"$f":"Podatnicy!#REF!","v":{"$error":"#REF!"}}]
[null,17223,{"$f":"Podatnicy!#REF!","v":{"$error":"#REF!"}},{"$f":"Podatnicy!#REF!","v":{"$error":"#REF!"}},{"$f":"Podatnicy!#REF!","v":{"$error":"#REF!"}}]
[null,17229,{"$f":"Podatnicy!#REF!","v":{"$error":"#REF!"}},{"$f":"Podatnicy!#REF!","v":{"$error":"#REF!"}},{"$f":"Podatnicy!#REF!","v":{"$error":"#REF!"}}]
[null,17232,{"$f":"Podatnicy!#REF!","v":{"$error":"#REF!"}},{"$f":"Podatnicy!#REF!","v":{"$error":"#REF!"}},{"$f":"Podatnicy!#REF!","v":{"$error":"#REF!"}}]
[null,17244,{"$f":"Podatnicy!#REF!","v":{"$error":"#REF!"}},{"$f":"Podatnicy!#REF!","v":{"$error":"#REF!"}},{"$f":"Podatnicy!#REF!","v":{"$error":"#REF!"}}]
[null,17256,{"$f":"Podatnicy!#REF!","v":{"$error":"#REF!"}},{"$f":"Podatnicy!#REF!","v":{"$error":"#REF!"}},{"$f":"Podatnicy!#REF!","v":{"$error":"#REF!"}}]
[null,17260,{"$f":"Podatnicy!#REF!","v":{"$error":"#REF!"}},{"$f":"Podatnicy!#REF!","v":{"$error":"#REF!"}},{"$f":"Podatnicy!#REF!","v":{"$error":"#REF!"}}]
[null,17274,{"$f":"Podatnicy!#REF!","v":{"$error":"#REF!"}},{"$f":"Podatnicy!#REF!","v":{"$error":"#REF!"}},{"$f":"Podatnicy!#REF!","v":{"$error":"#REF!"}}]
[null,17277,{"$f":"Podatnicy!#REF!","v":{"$error":"#REF!"}},{"$f":"Podatnicy!#REF!","v":{"$error":"#REF!"}},{"$f":"Podatnicy!#REF!","v":{"$error":"#REF!"}}]
[null,17293,{"$f":"Podatnicy!#REF!","v":{"$error":"#REF!"}},{"$f":"Podatnicy!#REF!","v":{"$error":"#REF!"}},{"$f":"Podatnicy!#REF!","v":{"$error":"#REF!"}}]
[null,17299,{"$f":"Podatnicy!#REF!","v":{"$error":"#REF!"}},{"$f":"Podatnicy!#REF!","v":{"$error":"#REF!"}},{"$f":"Podatnicy!#REF!","v":{"$error":"#REF!"}}]
[null,17302,{"$f":"Podatnicy!#REF!","v":{"$error":"#REF!"}},{"$f":"Podatnicy!#REF!","v":{"$error":"#REF!"}},{"$f":"Podatnicy!#REF!","v":{"$error":"#REF!"}}]
[null,17314,{"$f":"Podatnicy!#REF!","v":{"$error":"#REF!"}},{"$f":"Podatnicy!#REF!","v":{"$error":"#REF!"}},{"$f":"Podatnicy!#REF!","v":{"$error":"#REF!"}}]
[null,17326,{"$f":"Podatnicy!#REF!","v":{"$error":"#REF!"}},{"$f":"Podatnicy!#REF!","v":{"$error":"#REF!"}},{"$f":"Podatnicy!#REF!","v":{"$error":"#REF!"}}]
[null,17330,{"$f":"Podatnicy!#REF!","v":{"$error":"#REF!"}},{"$f":"Podatnicy!#REF!","v":{"$error":"#REF!"}},{"$f":"Podatnicy!#REF!","v":{"$error":"#REF!"}}]
[null,17344,{"$f":"Podatnicy!#REF!","v":{"$error":"#REF!"}},{"$f":"Podatnicy!#REF!","v":{"$error":"#REF!"}},{"$f":"Podatnicy!#REF!","v":{"$error":"#REF!"}}]
[null,17347,{"$f":"Podatnicy!#REF!","v":{"$error":"#REF!"}},{"$f":"Podatnicy!#REF!","v":{"$error":"#REF!"}},{"$f":"Podatnicy!#REF!","v":{"$error":"#REF!"}}]
[null,17363,{"$f":"Podatnicy!#REF!","v":{"$error":"#REF!"}},{"$f":"Podatnicy!#REF!","v":{"$error":"#REF!"}},{"$f":"Podatnicy!#REF!","v":{"$error":"#REF!"}}]
[null,17369,{"$f":"Podatnicy!#REF!","v":{"$error":"#REF!"}},{"$f":"Podatnicy!#REF!","v":{"$error":"#REF!"}},{"$f":"Podatnicy!#REF!","v":{"$error":"#REF!"}}]
[null,17372,{"$f":"Podatnicy!#REF!","v":{"$error":"#REF!"}},{"$f":"Podatnicy!#REF!","v":{"$error":"#REF!"}},{"$f":"Podatnicy!#REF!","v":{"$error":"#REF!"}}]
[null,17384,{"$f":"Podatnicy!#REF!","v":{"$error":"#REF!"}},{"$f":"Podatnicy!#REF!","v":{"$error":"#REF!"}},{"$f":"Podatnicy!#REF!","v":{"$error":"#REF!"}}]
[null,17396,{"$f":"Podatnicy!#REF!","v":{"$error":"#REF!"}},{"$f":"Podatnicy!#REF!","v":{"$error":"#REF!"}},{"$f":"Podatnicy!#REF!","v":{"$error":"#REF!"}}]
[null,17400,{"$f":"Podatnicy!#REF!","v":{"$error":"#REF!"}},{"$f":"Podatnicy!#REF!","v":{"$error":"#REF!"}},{"$f":"Podatnicy!#REF!","v":{"$error":"#REF!"}}]
[null,17414,{"$f":"Podatnicy!#REF!","v":{"$error":"#REF!"}},{"$f":"Podatnicy!#REF!","v":{"$error":"#REF!"}},{"$f":"Podatnicy!#REF!","v":{"$error":"#REF!"}}]
[null,17421,{"$f":"Podatnicy!#REF!","v":{"$error":"#REF!"}},{"$f":"Podatnicy!#REF!","v":{"$error":"#REF!"}},{"$f":"Podatnicy!#REF!","v":{"$error":"#REF!"}}]
[null,17433,{"$f":"Podatnicy!#REF!","v":{"$error":"#REF!"}},{"$f":"Podatnicy!#REF!","v":{"$error":"#REF!"}},{"$f":"Podatnicy!#REF!","v":{"$error":"#REF!"}}]
[null,17439,{"$f":"Podatnicy!#REF!","v":{"$error":"#REF!"}},{"$f":"Podatnicy!#REF!","v":{"$error":"#REF!"}},{"$f":"Podatnicy!#REF!","v":{"$error":"#REF!"}}]
[null,17442,{"$f":"Podatnicy!#REF!","v":{"$error":"#REF!"}},{"$f":"Podatnicy!#REF!","v":{"$error":"#REF!"}},{"$f":"Podatnicy!#REF!","v":{"$error":"#REF!"}}]
[null,17454,{"$f":"Podatnicy!#REF!","v":{"$error":"#REF!"}},{"$f":"Podatnicy!#REF!","v":{"$error":"#REF!"}},{"$f":"Podatnicy!#REF!","v":{"$error":"#REF!"}}]
[null,17466,{"$f":"Podatnicy!#REF!","v":{"$error":"#REF!"}},{"$f":"Podatnicy!#REF!","v":{"$error":"#REF!"}},{"$f":"Podatnicy!#REF!","v":{"$error":"#REF!"}}]
[null,17473,{"$f":"Podatnicy!#REF!","v":{"$error":"#REF!"}},{"$f":"Podatnicy!#REF!","v":{"$error":"#REF!"}},{"$f":"Podatnicy!#REF!","v":{"$error":"#REF!"}}]
[null,17480,{"$f":"Podatnicy!#REF!","v":{"$error":"#REF!"}},{"$f":"Podatnicy!#REF!","v":{"$error":"#REF!"}},{"$f":"Podatnicy!#REF!","v":{"$error":"#REF!"}}]
[null,17491,{"$f":"Podatnicy!#REF!","v":{"$error":"#REF!"}},{"$f":"Podatnicy!#REF!","v":{"$error":"#REF!"}},{"$f":"Podatnicy!#REF!","v":{"$error":"#REF!"}}]
[null,17503,{"$f":"Podatnicy!#REF!","v":{"$error":"#REF!"}},{"$f":"Podatnicy!#REF!","v":{"$error":"#REF!"}},{"$f":"Podatnicy!#REF!","v":{"$error":"#REF!"}}]
[null,17506,{"$f":"Podatnicy!#REF!","v":{"$error":"#REF!"}},{"$f":"Podatnicy!#REF!","v":{"$error":"#REF!"}},{"$f":"Podatnicy!#REF!","v":{"$error":"#REF!"}}]
[null,17519,{"$f":"Podatnicy!#REF!","v":{"$error":"#REF!"}},{"$f":"Podatnicy!#REF!","v":{"$error":"#REF!"}},{"$f":"Podatnicy!#REF!","v":{"$error":"#REF!"}}]
[null,17524,{"$f":"Podatnicy!#REF!","v":{"$error":"#REF!"}},{"$f":"Podatnicy!#REF!","v":{"$error":"#REF!"}},{"$f":"Podatnicy!#REF!","v":{"$error":"#REF!"}}]
[null,17536,{"$f":"Podatnicy!#REF!","v":{"$error":"#REF!"}},{"$f":"Podatnicy!#REF!","v":{"$error":"#REF!"}},{"$f":"Podatnicy!#REF!","v":{"$error":"#REF!"}}]
[null,17543,{"$f":"Podatnicy!#REF!","v":{"$error":"#REF!"}},{"$f":"Podatnicy!#REF!","v":{"$error":"#REF!"}},{"$f":"Podatnicy!#REF!","v":{"$error":"#REF!"}}]
[null,17550,{"$f":"Podatnicy!#REF!","v":{"$error":"#REF!"}},{"$f":"Podatnicy!#REF!","v":{"$error":"#REF!"}},{"$f":"Podatnicy!#REF!","v":{"$error":"#REF!"}}]
[null,17561,{"$f":"Podatnicy!#REF!","v":{"$error":"#REF!"}},{"$f":"Podatnicy!#REF!","v":{"$error":"#REF!"}},{"$f":"Podatnicy!#REF!","v":{"$error":"#REF!"}}]
[null,17573,{"$f":"Podatnicy!#REF!","v":{"$error":"#REF!"}},{"$f":"Podatnicy!#REF!","v":{"$error":"#REF!"}},{"$f":"Podatnicy!#REF!","v":{"$error":"#REF!"}}]
[null,17576,{"$f":"Podatnicy!#REF!","v":{"$error":"#REF!"}},{"$f":"Podatnicy!#REF!","v":{"$error":"#REF!"}},{"$f":"Podatnicy!#REF!","v":{"$error":"#REF!"}}]
[null,17589,{"$f":"Podatnicy!#REF!","v":{"$error":"#REF!"}},{"$f":"Podatnicy!#REF!","v":{"$error":"#REF!"}},{"$f":"Podatnicy!#REF!","v":{"$error":"#REF!"}}]
[null,17594,{"$f":"Podatnicy!#REF!","v":{"$error":"#REF!"}},{"$f":"Podatnicy!#REF!","v":{"$error":"#REF!"}},{"$f":"Podatnicy!#REF!","v":{"$error":"#REF!"}}]
[null,17601,{"$f":"Podatnicy!#REF!","v":{"$error":"#REF!"}},{"$f":"Podatnicy!#REF!","v":{"$error":"#REF!"}},{"$f":"Podatnicy!#REF!","v":{"$error":"#REF!"}}]
[null,17613,{"$f":"Podatnicy!#REF!","v":{"$error":"#REF!"}},{"$f":"Podatnicy!#REF!","v":{"$error":"#REF!"}},{"$f":"Podatnicy!#REF!","v":{"$error":"#REF!"}}]
[null,17620,{"$f":"Podatnicy!#REF!","v":{"$error":"#REF!"}},{"$f":"Podatnicy!#REF!","v":{"$error":"#REF!"}},{"$f":"Podatnicy!#REF!","v":{"$error":"#REF!"}}]
[null,17631,{"$f":"Podatnicy!#REF!","v":{"$error":"#REF!"}},{"$f":"Podatnicy!#REF!","v":{"$error":"#REF!"}},{"$f":"Podatnicy!#REF!","v":{"$error":"#REF!"}}]
[null,17643,{"$f":"Podatnicy!#REF!","v":{"$error":"#REF!"}},{"$f":"Podatnicy!#REF!","v":{"$error":"#REF!"}},{"$f":"Podatnicy!#REF!","v":{"$error":"#REF!"}}]
[null,17646,{"$f":"Podatnicy!#REF!","v":{"$error":"#REF!"}},{"$f":"Podatnicy!#REF!","v":{"$error":"#REF!"}},{"$f":"Podatnicy!#REF!","v":{"$error":"#REF!"}}]
[null,17659,{"$f":"Podatnicy!#REF!","v":{"$error":"#REF!"}},{"$f":"Podatnicy!#REF!","v":{"$error":"#REF!"}},{"$f":"Podatnicy!#REF!","v":{"$error":"#REF!"}}]
[null,17664,{"$f":"Podatnicy!#REF!","v":{"$error":"#REF!"}},{"$f":"Podatnicy!#REF!","v":{"$error":"#REF!"}},{"$f":"Podatnicy!#REF!","v":{"$error":"#REF!"}}]
[null,17671,{"$f":"Podatnicy!#REF!","v":{"$error":"#REF!"}},{"$f":"Podatnicy!#REF!","v":{"$error":"#REF!"}},{"$f":"Podatnicy!#REF!","v":{"$error":"#REF!"}}]
[null,17683,{"$f":"Podatnicy!#REF!","v":{"$error":"#REF!"}},{"$f":"Podatnicy!#REF!","v":{"$error":"#REF!"}},{"$f":"Podatnicy!#REF!","v":{"$error":"#REF!"}}]
[null,17690,{"$f":"Podatnicy!#REF!","v":{"$error":"#REF!"}},{"$f":"Podatnicy!#REF!","v":{"$error":"#REF!"}},{"$f":"Podatnicy!#REF!","v":{"$error":"#REF!"}}]
[null,17701,{"$f":"Podatnicy!#REF!","v":{"$error":"#REF!"}},{"$f":"Podatnicy!#REF!","v":{"$error":"#REF!"}},{"$f":"Podatnicy!#REF!","v":{"$error":"#REF!"}}]
[null,17713,{"$f":"Podatnicy!#REF!","v":{"$error":"#REF!"}},{"$f":"Podatnicy!#REF!","v":{"$error":"#REF!"}},{"$f":"Podatnicy!#REF!","v":{"$error":"#REF!"}}]
[null,17720,{"$f":"Podatnicy!#REF!","v":{"$error":"#REF!"}},{"$f":"Podatnicy!#REF!","v":{"$error":"#REF!"}},{"$f":"Podatnicy!#REF!","v":{"$error":"#REF!"}}]
[null,17729,{"$f":"Podatnicy!#REF!","v":{"$error":"#REF!"}},{"$f":"Podatnicy!#REF!","v":{"$error":"#REF!"}},{"$f":"Podatnicy!#REF!","v":{"$error":"#REF!"}}]
[null,17734,{"$f":"Podatnicy!#REF!","v":{"$error":"#REF!"}},{"$f":"Podatnicy!#REF!","v":{"$error":"#REF!"}},{"$f":"Podatnicy!#REF!","v":{"$error":"#REF!"}}]
[null,17741,{"$f":"Podatnicy!#REF!","v":{"$error":"#REF!"}},{"$f":"Podatnicy!#REF!","v":{"$error":"#REF!"}},{"$f":"Podatnicy!#REF!","v":{"$error":"#REF!"}}]
[null,17753,{"$f":"Podatnicy!#REF!","v":{"$error":"#REF!"}},{"$f":"Podatnicy!#REF!","v":{"$error":"#REF!"}},{"$f":"Podatnicy!#REF!","v":{"$error":"#REF!"}}]
[null,17765,{"$f":"Podatnicy!#REF!","v":{"$error":"#REF!"}},{"$f":"Podatnicy!#REF!","v":{"$error":"#REF!"}},{"$f":"Podatnicy!#REF!","v":{"$error":"#REF!"}}]
[null,17770,{"$f":"Podatnicy!#REF!","v":{"$error":"#REF!"}},{"$f":"Podatnicy!#REF!","v":{"$error":"#REF!"}},{"$f":"Podatnicy!#REF!","v":{"$error":"#REF!"}}]
[null,17783,{"$f":"Podatnicy!#REF!","v":{"$error":"#REF!"}},{"$f":"Podatnicy!#REF!","v":{"$error":"#REF!"}},{"$f":"Podatnicy!#REF!","v":{"$error":"#REF!"}}]
[null,17790,{"$f":"Podatnicy!#REF!","v":{"$error":"#REF!"}},{"$f":"Podatnicy!#REF!","v":{"$error":"#REF!"}},{"$f":"Podatnicy!#REF!","v":{"$error":"#REF!"}}]
[null,17793,{"$f":"Podatnicy!#REF!","v":{"$error":"#REF!"}},{"$f":"Podatnicy!#REF!","v":{"$error":"#REF!"}},{"$f":"Podatnicy!#REF!","v":{"$error":"#REF!"}}]
[null,17809,{"$f":"Podatnicy!#REF!","v":{"$error":"#REF!"}},{"$f":"Podatnicy!#REF!","v":{"$error":"#REF!"}},{"$f":"Podatnicy!#REF!","v":{"$error":"#REF!"}}]
[null,17811,{"$f":"Podatnicy!#REF!","v":{"$error":"#REF!"}},{"$f":"Podatnicy!#REF!","v":{"$error":"#REF!"}},{"$f":"Podatnicy!#REF!","v":{"$error":"#REF!"}}]
[null,17823,{"$f":"Podatnicy!#REF!","v":{"$error":"#REF!"}},{"$f":"Podatnicy!#REF!","v":{"$error":"#REF!"}},{"$f":"Podatnicy!#REF!","v":{"$error":"#REF!"}}]
[null,17835,{"$f":"Podatnicy!#REF!","v":{"$error":"#REF!"}},{"$f":"Podatnicy!#REF!","v":{"$error":"#REF!"}},{"$f":"Podatnicy!#REF!","v":{"$error":"#REF!"}}]
[null,17840,{"$f":"Podatnicy!#REF!","v":{"$error":"#REF!"}},{"$f":"Podatnicy!#REF!","v":{"$error":"#REF!"}},{"$f":"Podatnicy!#REF!","v":{"$error":"#REF!"}}]
[null,17853,{"$f":"Podatnicy!#REF!","v":{"$error":"#REF!"}},{"$f":"Podatnicy!#REF!","v":{"$error":"#REF!"}},{"$f":"Podatnicy!#REF!","v":{"$error":"#REF!"}}]
[null,17860,{"$f":"Podatnicy!#REF!","v":{"$error":"#REF!"}},{"$f":"Podatnicy!#REF!","v":{"$error":"#REF!"}},{"$f":"Podatnicy!#REF!","v":{"$error":"#REF!"}}]
[null,17863,{"$f":"Podatnicy!#REF!","v":{"$error":"#REF!"}},{"$f":"Podatnicy!#REF!","v":{"$error":"#REF!"}},{"$f":"Podatnicy!#REF!","v":{"$error":"#REF!"}}]
[null,17879,{"$f":"Podatnicy!#REF!","v":{"$error":"#REF!"}},{"$f":"Podatnicy!#REF!","v":{"$error":"#REF!"}},{"$f":"Podatnicy!#REF!","v":{"$error":"#REF!"}}]
[null,17881,{"$f":"Podatnicy!#REF!","v":{"$error":"#REF!"}},{"$f":"Podatnicy!#REF!","v":{"$error":"#REF!"}},{"$f":"Podatnicy!#REF!","v":{"$error":"#REF!"}}]
[null,17893,{"$f":"Podatnicy!#REF!","v":{"$error":"#REF!"}},{"$f":"Podatnicy!#REF!","v":{"$error":"#REF!"}},{"$f":"Podatnicy!#REF!","v":{"$error":"#REF!"}}]
[null,17900,{"$f":"Podatnicy!#REF!","v":{"$error":"#REF!"}},{"$f":"Podatnicy!#REF!","v":{"$error":"#REF!"}},{"$f":"Podatnicy!#REF!","v":{"$error":"#REF!"}}]
[null,17910,{"$f":"Podatnicy!#REF!","v":{"$error":"#REF!"}},{"$f":"Podatnicy!#REF!","v":{"$error":"#REF!"}},{"$f":"Podatnicy!#REF!","v":{"$error":"#REF!"}}]
[null,17923,{"$f":"Podatnicy!#REF!","v":{"$error":"#REF!"}},{"$f":"Podatnicy!#REF!","v":{"$error":"#REF!"}},{"$f":"Podatnicy!#REF!","v":{"$error":"#REF!"}}]
[null,17930,{"$f":"Podatnicy!#REF!","v":{"$error":"#REF!"}},{"$f":"Podatnicy!#REF!","v":{"$error":"#REF!"}},{"$f":"Podatnicy!#REF!","v":{"$error":"#REF!"}}]
[null,17933,{"$f":"Podatnicy!#REF!","v":{"$error":"#REF!"}},{"$f":"Podatnicy!#REF!","v":{"$error":"#REF!"}},{"$f":"Podatnicy!#REF!","v":{"$error":"#REF!"}}]
[null,17949,{"$f":"Podatnicy!#REF!","v":{"$error":"#REF!"}},{"$f":"Podatnicy!#REF!","v":{"$error":"#REF!"}},{"$f":"Podatnicy!#REF!","v":{"$error":"#REF!"}}]
[null,17951,{"$f":"Podatnicy!#REF!","v":{"$error":"#REF!"}},{"$f":"Podatnicy!#REF!","v":{"$error":"#REF!"}},{"$f":"Podatnicy!#REF!","v":{"$error":"#REF!"}}]
[null,17963,{"$f":"Podatnicy!#REF!","v":{"$error":"#REF!"}},{"$f":"Podatnicy!#REF!","v":{"$error":"#REF!"}},{"$f":"Podatnicy!#REF!","v":{"$error":"#REF!"}}]
[null,17970,{"$f":"Podatnicy!#REF!","v":{"$error":"#REF!"}},{"$f":"Podatnicy!#REF!","v":{"$error":"#REF!"}},{"$f":"Podatnicy!#REF!","v":{"$error":"#REF!"}}]
[null,17980,{"$f":"Podatnicy!#REF!","v":{"$error":"#REF!"}},{"$f":"Podatnicy!#REF!","v":{"$error":"#REF!"}},{"$f":"Podatnicy!#REF!","v":{"$error":"#REF!"}}]
[null,17993,{"$f":"Podatnicy!#REF!","v":{"$error":"#REF!"}},{"$f":"Podatnicy!#REF!","v":{"$error":"#REF!"}},{"$f":"Podatnicy!#REF!","v":{"$error":"#REF!"}}]
[null,18000,{"$f":"Podatnicy!#REF!","v":{"$error":"#REF!"}},{"$f":"Podatnicy!#REF!","v":{"$error":"#REF!"}},{"$f":"Podatnicy!#REF!","v":{"$error":"#REF!"}}]
[null,18003,{"$f":"Podatnicy!#REF!","v":{"$error":"#REF!"}},{"$f":"Podatnicy!#REF!","v":{"$error":"#REF!"}},{"$f":"Podatnicy!#REF!","v":{"$error":"#REF!"}}]
[null,18019,{"$f":"Podatnicy!#REF!","v":{"$error":"#REF!"}},{"$f":"Podatnicy!#REF!","v":{"$error":"#REF!"}},{"$f":"Podatnicy!#REF!","v":{"$error":"#REF!"}}]
[null,18021,{"$f":"Podatnicy!#REF!","v":{"$error":"#REF!"}},{"$f":"Podatnicy!#REF!","v":{"$error":"#REF!"}},{"$f":"Podatnicy!#REF!","v":{"$error":"#REF!"}}]
[null,18033,{"$f":"Podatnicy!#REF!","v":{"$error":"#REF!"}},{"$f":"Podatnicy!#REF!","v":{"$error":"#REF!"}},{"$f":"Podatnicy!#REF!","v":{"$error":"#REF!"}}]
[null,18040,{"$f":"Podatnicy!#REF!","v":{"$error":"#REF!"}},{"$f":"Podatnicy!#REF!","v":{"$error":"#REF!"}},{"$f":"Podatnicy!#REF!","v":{"$error":"#REF!"}}]
[null,18052,{"$f":"Podatnicy!#REF!","v":{"$error":"#REF!"}},{"$f":"Podatnicy!#REF!","v":{"$error":"#REF!"}},{"$f":"Podatnicy!#REF!","v":{"$error":"#REF!"}}]
[null,18060,{"$f":"Podatnicy!#REF!","v":{"$error":"#REF!"}},{"$f":"Podatnicy!#REF!","v":{"$error":"#REF!"}},{"$f":"Podatnicy!#REF!","v":{"$error":"#REF!"}}]
[null,18070,{"$f":"Podatnicy!#REF!","v":{"$error":"#REF!"}},{"$f":"Podatnicy!#REF!","v":{"$error":"#REF!"}},{"$f":"Podatnicy!#REF!","v":{"$error":"#REF!"}}]
[null,18073,{"$f":"Podatnicy!#REF!","v":{"$error":"#REF!"}},{"$f":"Podatnicy!#REF!","v":{"$error":"#REF!"}},{"$f":"Podatnicy!#REF!","v":{"$error":"#REF!"}}]
[null,18089,{"$f":"Podatnicy!#REF!","v":{"$error":"#REF!"}},{"$f":"Podatnicy!#REF!","v":{"$error":"#REF!"}},{"$f":"Podatnicy!#REF!","v":{"$error":"#REF!"}}]
[null,18091,{"$f":"Podatnicy!#REF!","v":{"$error":"#REF!"}},{"$f":"Podatnicy!#REF!","v":{"$error":"#REF!"}},{"$f":"Podatnicy!#REF!","v":{"$error":"#REF!"}}]
[null,18103,{"$f":"Podatnicy!#REF!","v":{"$error":"#REF!"}},{"$f":"Podatnicy!#REF!","v":{"$error":"#REF!"}},{"$f":"Podatnicy!#REF!","v":{"$error":"#REF!"}}]
[null,18110,{"$f":"Podatnicy!#REF!","v":{"$error":"#REF!"}},{"$f":"Podatnicy!#REF!","v":{"$error":"#REF!"}},{"$f":"Podatnicy!#REF!","v":{"$error":"#REF!"}}]
[null,18122,{"$f":"Podatnicy!#REF!","v":{"$error":"#REF!"}},{"$f":"Podatnicy!#REF!","v":{"$error":"#REF!"}},{"$f":"Podatnicy!#REF!","v":{"$error":"#REF!"}}]
[null,18130,{"$f":"Podatnicy!#REF!","v":{"$error":"#REF!"}},{"$f":"Podatnicy!#REF!","v":{"$error":"#REF!"}},{"$f":"Podatnicy!#REF!","v":{"$error":"#REF!"}}]
[null,18140,{"$f":"Podatnicy!#REF!","v":{"$error":"#REF!"}},{"$f":"Podatnicy!#REF!","v":{"$error":"#REF!"}},{"$f":"Podatnicy!#REF!","v":{"$error":"#REF!"}}]
[null,18143,{"$f":"Podatnicy!#REF!","v":{"$error":"#REF!"}},{"$f":"Podatnicy!#REF!","v":{"$error":"#REF!"}},{"$f":"Podatnicy!#REF!","v":{"$error":"#REF!"}}]
[null,18159,{"$f":"Podatnicy!#REF!","v":{"$error":"#REF!"}},{"$f":"Podatnicy!#REF!","v":{"$error":"#REF!"}},{"$f":"Podatnicy!#REF!","v":{"$error":"#REF!"}}]
[null,18161,{"$f":"Podatnicy!#REF!","v":{"$error":"#REF!"}},{"$f":"Podatnicy!#REF!","v":{"$error":"#REF!"}},{"$f":"Podatnicy!#REF!","v":{"$error":"#REF!"}}]
[null,18173,{"$f":"Podatnicy!#REF!","v":{"$error":"#REF!"}},{"$f":"Podatnicy!#REF!","v":{"$error":"#REF!"}},{"$f":"Podatnicy!#REF!","v":{"$error":"#REF!"}}]
[null,18180,{"$f":"Podatnicy!#REF!","v":{"$error":"#REF!"}},{"$f":"Podatnicy!#REF!","v":{"$error":"#REF!"}},{"$f":"Podatnicy!#REF!","v":{"$error":"#REF!"}}]
[null,18192,{"$f":"Podatnicy!#REF!","v":{"$error":"#REF!"}},{"$f":"Podatnicy!#REF!","v":{"$error":"#REF!"}},{"$f":"Podatnicy!#REF!","v":{"$error":"#REF!"}}]
[null,18200,{"$f":"Podatnicy!#REF!","v":{"$error":"#REF!"}},{"$f":"Podatnicy!#REF!","v":{"$error":"#REF!"}},{"$f":"Podatnicy!#REF!","v":{"$error":"#REF!"}}]
[null,18210,{"$f":"Podatnicy!#REF!","v":{"$error":"#REF!"}},{"$f":"Podatnicy!#REF!","v":{"$error":"#REF!"}},{"$f":"Podatnicy!#REF!","v":{"$error":"#REF!"}}]
[null,18213,{"$f":"Podatnicy!#REF!","v":{"$error":"#REF!"}},{"$f":"Podatnicy!#REF!","v":{"$error":"#REF!"}},{"$f":"Podatnicy!#REF!","v":{"$error":"#REF!"}}]
[null,18229,{"$f":"Podatnicy!#REF!","v":{"$error":"#REF!"}},{"$f":"Podatnicy!#REF!","v":{"$error":"#REF!"}},{"$f":"Podatnicy!#REF!","v":{"$error":"#REF!"}}]
[null,18231,{"$f":"Podatnicy!#REF!","v":{"$error":"#REF!"}},{"$f":"Podatnicy!#REF!","v":{"$error":"#REF!"}},{"$f":"Podatnicy!#REF!","v":{"$error":"#REF!"}}]
[null,18243,{"$f":"Podatnicy!#REF!","v":{"$error":"#REF!"}},{"$f":"Podatnicy!#REF!","v":{"$error":"#REF!"}},{"$f":"Podatnicy!#REF!","v":{"$error":"#REF!"}}]
[null,18250,{"$f":"Podatnicy!#REF!","v":{"$error":"#REF!"}},{"$f":"Podatnicy!#REF!","v":{"$error":"#REF!"}},{"$f":"Podatnicy!#REF!","v":{"$error":"#REF!"}}]
[null,18262,{"$f":"Podatnicy!#REF!","v":{"$error":"#REF!"}},{"$f":"Podatnicy!#REF!","v":{"$error":"#REF!"}},{"$f":"Podatnicy!#REF!","v":{"$error":"#REF!"}}]
[null,18270,{"$f":"Podatnicy!#REF!","v":{"$error":"#REF!"}},{"$f":"Podatnicy!#REF!","v":{"$error":"#REF!"}},{"$f":"Podatnicy!#REF!","v":{"$error":"#REF!"}}]
[null,18280,{"$f":"Podatnicy!#REF!","v":{"$error":"#REF!"}},{"$f":"Podatnicy!#REF!","v":{"$error":"#REF!"}},{"$f":"Podatnicy!#REF!","v":{"$error":"#REF!"}}]
[null,18283,{"$f":"Podatnicy!#REF!","v":{"$error":"#REF!"}},{"$f":"Podatnicy!#REF!","v":{"$error":"#REF!"}},{"$f":"Podatnicy!#REF!","v":{"$error":"#REF!"}}]
[null,18299,{"$f":"Podatnicy!#REF!","v":{"$error":"#REF!"}},{"$f":"Podatnicy!#REF!","v":{"$error":"#REF!"}},{"$f":"Podatnicy!#REF!","v":{"$error":"#REF!"}}]
[null,18301,{"$f":"Podatnicy!#REF!","v":{"$error":"#REF!"}},{"$f":"Podatnicy!#REF!","v":{"$error":"#REF!"}},{"$f":"Podatnicy!#REF!","v":{"$error":"#REF!"}}]
[null,18313,{"$f":"Podatnicy!#REF!","v":{"$error":"#REF!"}},{"$f":"Podatnicy!#REF!","v":{"$error":"#REF!"}},{"$f":"Podatnicy!#REF!","v":{"$error":"#REF!"}}]
[null,18320,{"$f":"Podatnicy!#REF!","v":{"$error":"#REF!"}},{"$f":"Podatnicy!#REF!","v":{"$error":"#REF!"}},{"$f":"Podatnicy!#REF!","v":{"$error":"#REF!"}}]
[null,18332,{"$f":"Podatnicy!#REF!","v":{"$error":"#REF!"}},{"$f":"Podatnicy!#REF!","v":{"$error":"#REF!"}},{"$f":"Podatnicy!#REF!","v":{"$error":"#REF!"}}]
[null,18339,{"$f":"Podatnicy!#REF!","v":{"$error":"#REF!"}},{"$f":"Podatnicy!#REF!","v":{"$error":"#REF!"}},{"$f":"Podatnicy!#REF!","v":{"$error":"#REF!"}}]
[null,18350,{"$f":"Podatnicy!#REF!","v":{"$error":"#REF!"}},{"$f":"Podatnicy!#REF!","v":{"$error":"#REF!"}},{"$f":"Podatnicy!#REF!","v":{"$error":"#REF!"}}]
[null,18353,{"$f":"Podatnicy!#REF!","v":{"$error":"#REF!"}},{"$f":"Podatnicy!#REF!","v":{"$error":"#REF!"}},{"$f":"Podatnicy!#REF!","v":{"$error":"#REF!"}}]
[null,18369,{"$f":"Podatnicy!#REF!","v":{"$error":"#REF!"}},{"$f":"Podatnicy!#REF!","v":{"$error":"#REF!"}},{"$f":"Podatnicy!#REF!","v":{"$error":"#REF!"}}]
[null,18372,{"$f":"Podatnicy!#REF!","v":{"$error":"#REF!"}},{"$f":"Podatnicy!#REF!","v":{"$error":"#REF!"}},{"$f":"Podatnicy!#REF!","v":{"$error":"#REF!"}}]
[null,18381,{"$f":"Podatnicy!#REF!","v":{"$error":"#REF!"}},{"$f":"Podatnicy!#REF!","v":{"$error":"#REF!"}},{"$f":"Podatnicy!#REF!","v":{"$error":"#REF!"}}]
[null,18390,{"$f":"Podatnicy!#REF!","v":{"$error":"#REF!"}},{"$f":"Podatnicy!#REF!","v":{"$error":"#REF!"}},{"$f":"Podatnicy!#REF!","v":{"$error":"#REF!"}}]
[null,18402,{"$f":"Podatnicy!#REF!","v":{"$error":"#REF!"}},{"$f":"Podatnicy!#REF!","v":{"$error":"#REF!"}},{"$f":"Podatnicy!#REF!","v":{"$error":"#REF!"}}]
[null,18409,{"$f":"Podatnicy!#REF!","v":{"$error":"#REF!"}},{"$f":"Podatnicy!#REF!","v":{"$error":"#REF!"}},{"$f":"Podatnicy!#REF!","v":{"$error":"#REF!"}}]
[null,18420,{"$f":"Podatnicy!#REF!","v":{"$error":"#REF!"}},{"$f":"Podatnicy!#REF!","v":{"$error":"#REF!"}},{"$f":"Podatnicy!#REF!","v":{"$error":"#REF!"}}]
[null,18423,{"$f":"Podatnicy!#REF!","v":{"$error":"#REF!"}},{"$f":"Podatnicy!#REF!","v":{"$error":"#REF!"}},{"$f":"Podatnicy!#REF!","v":{"$error":"#REF!"}}]
[null,18439,{"$f":"Podatnicy!#REF!","v":{"$error":"#REF!"}},{"$f":"Podatnicy!#REF!","v":{"$error":"#REF!"}},{"$f":"Podatnicy!#REF!","v":{"$error":"#REF!"}}]
[null,18442,{"$f":"Podatnicy!#REF!","v":{"$error":"#REF!"}},{"$f":"Podatnicy!#REF!","v":{"$error":"#REF!"}},{"$f":"Podatnicy!#REF!","v":{"$error":"#REF!"}}]
[null,18451,{"$f":"Podatnicy!#REF!","v":{"$error":"#REF!"}},{"$f":"Podatnicy!#REF!","v":{"$error":"#REF!"}},{"$f":"Podatnicy!#REF!","v":{"$error":"#REF!"}}]
[null,18460,{"$f":"Podatnicy!#REF!","v":{"$error":"#REF!"}},{"$f":"Podatnicy!#REF!","v":{"$error":"#REF!"}},{"$f":"Podatnicy!#REF!","v":{"$error":"#REF!"}}]
[null,18472,{"$f":"Podatnicy!#REF!","v":{"$error":"#REF!"}},{"$f":"Podatnicy!#REF!","v":{"$error":"#REF!"}},{"$f":"Podatnicy!#REF!","v":{"$error":"#REF!"}}]
[null,18479,{"$f":"Podatnicy!#REF!","v":{"$error":"#REF!"}},{"$f":"Podatnicy!#REF!","v":{"$error":"#REF!"}},{"$f":"Podatnicy!#REF!","v":{"$error":"#REF!"}}]
[null,18490,{"$f":"Podatnicy!#REF!","v":{"$error":"#REF!"}},{"$f":"Podatnicy!#REF!","v":{"$error":"#REF!"}},{"$f":"Podatnicy!#REF!","v":{"$error":"#REF!"}}]
[null,18497,{"$f":"Podatnicy!#REF!","v":{"$error":"#REF!"}},{"$f":"Podatnicy!#REF!","v":{"$error":"#REF!"}},{"$f":"Podatnicy!#REF!","v":{"$error":"#REF!"}}]
[null,18509,{"$f":"Podatnicy!#REF!","v":{"$error":"#REF!"}},{"$f":"Podatnicy!#REF!","v":{"$error":"#REF!"}},{"$f":"Podatnicy!#REF!","v":{"$error":"#REF!"}}]
[null,18512,{"$f":"Podatnicy!#REF!","v":{"$error":"#REF!"}},{"$f":"Podatnicy!#REF!","v":{"$error":"#REF!"}},{"$f":"Podatnicy!#REF!","v":{"$error":"#REF!"}}]
[null,18521,{"$f":"Podatnicy!#REF!","v":{"$error":"#REF!"}},{"$f":"Podatnicy!#REF!","v":{"$error":"#REF!"}},{"$f":"Podatnicy!#REF!","v":{"$error":"#REF!"}}]
[null,18530,{"$f":"Podatnicy!#REF!","v":{"$error":"#REF!"}},{"$f":"Podatnicy!#REF!","v":{"$error":"#REF!"}},{"$f":"Podatnicy!#REF!","v":{"$error":"#REF!"}}]
[null,18542,{"$f":"Podatnicy!#REF!","v":{"$error":"#REF!"}},{"$f":"Podatnicy!#REF!","v":{"$error":"#REF!"}},{"$f":"Podatnicy!#REF!","v":{"$error":"#REF!"}}]
[null,18549,{"$f":"Podatnicy!#REF!","v":{"$error":"#REF!"}},{"$f":"Podatnicy!#REF!","v":{"$error":"#REF!"}},{"$f":"Podatnicy!#REF!","v":{"$error":"#REF!"}}]
[null,18560,{"$f":"Podatnicy!#REF!","v":{"$error":"#REF!"}},{"$f":"Podatnicy!#REF!","v":{"$error":"#REF!"}},{"$f":"Podatnicy!#REF!","v":{"$error":"#REF!"}}]
[null,18567,{"$f":"Podatnicy!#REF!","v":{"$error":"#REF!"}},{"$f":"Podatnicy!#REF!","v":{"$error":"#REF!"}},{"$f":"Podatnicy!#REF!","v":{"$error":"#REF!"}}]
[null,18579,{"$f":"Podatnicy!#REF!","v":{"$error":"#REF!"}},{"$f":"Podatnicy!#REF!","v":{"$error":"#REF!"}},{"$f":"Podatnicy!#REF!","v":{"$error":"#REF!"}}]
[null,18582,{"$f":"Podatnicy!#REF!","v":{"$error":"#REF!"}},{"$f":"Podatnicy!#REF!","v":{"$error":"#REF!"}},{"$f":"Podatnicy!#REF!","v":{"$error":"#REF!"}}]
[null,18591,{"$f":"Podatnicy!#REF!","v":{"$error":"#REF!"}},{"$f":"Podatnicy!#REF!","v":{"$error":"#REF!"}},{"$f":"Podatnicy!#REF!","v":{"$error":"#REF!"}}]
[null,18600,{"$f":"Podatnicy!#REF!","v":{"$error":"#REF!"}},{"$f":"Podatnicy!#REF!","v":{"$error":"#REF!"}},{"$f":"Podatnicy!#REF!","v":{"$error":"#REF!"}}]
[null,18612,{"$f":"Podatnicy!#REF!","v":{"$error":"#REF!"}},{"$f":"Podatnicy!#REF!","v":{"$error":"#REF!"}},{"$f":"Podatnicy!#REF!","v":{"$error":"#REF!"}}]
[null,18619,{"$f":"Podatnicy!#REF!","v":{"$error":"#REF!"}},{"$f":"Podatnicy!#REF!","v":{"$error":"#REF!"}},{"$f":"Podatnicy!#REF!","v":{"$error":"#REF!"}}]
[null,18631,{"$f":"Podatnicy!#REF!","v":{"$error":"#REF!"}},{"$f":"Podatnicy!#REF!","v":{"$error":"#REF!"}},{"$f":"Podatnicy!#REF!","v":{"$error":"#REF!"}}]
[null,18640,{"$f":"Podatnicy!#REF!","v":{"$error":"#REF!"}},{"$f":"Podatnicy!#REF!","v":{"$error":"#REF!"}},{"$f":"Podatnicy!#REF!","v":{"$error":"#REF!"}}]
[null,18649,{"$f":"Podatnicy!#REF!","v":{"$error":"#REF!"}},{"$f":"Podatnicy!#REF!","v":{"$error":"#REF!"}},{"$f":"Podatnicy!#REF!","v":{"$error":"#REF!"}}]
[null,18652,{"$f":"Podatnicy!#REF!","v":{"$error":"#REF!"}},{"$f":"Podatnicy!#REF!","v":{"$error":"#REF!"}},{"$f":"Podatnicy!#REF!","v":{"$error":"#REF!"}}]
[null,18668,{"$f":"Podatnicy!#REF!","v":{"$error":"#REF!"}},{"$f":"Podatnicy!#REF!","v":{"$error":"#REF!"}},{"$f":"Podatnicy!#REF!","v":{"$error":"#REF!"}}]
[null,18671,{"$f":"Podatnicy!#REF!","v":{"$error":"#REF!"}},{"$f":"Podatnicy!#REF!","v":{"$error":"#REF!"}},{"$f":"Podatnicy!#REF!","v":{"$error":"#REF!"}}]
[null,18677,{"$f":"Podatnicy!#REF!","v":{"$error":"#REF!"}},{"$f":"Podatnicy!#REF!","v":{"$error":"#REF!"}},{"$f":"Podatnicy!#REF!","v":{"$error":"#REF!"}}]
[null,18689,{"$f":"Podatnicy!#REF!","v":{"$error":"#REF!"}},{"$f":"Podatnicy!#REF!","v":{"$error":"#REF!"}},{"$f":"Podatnicy!#REF!","v":{"$error":"#REF!"}}]
[null,18701,{"$f":"Podatnicy!#REF!","v":{"$error":"#REF!"}},{"$f":"Podatnicy!#REF!","v":{"$error":"#REF!"}},{"$f":"Podatnicy!#REF!","v":{"$error":"#REF!"}}]
[null,18710,{"$f":"Podatnicy!#REF!","v":{"$error":"#REF!"}},{"$f":"Podatnicy!#REF!","v":{"$error":"#REF!"}},{"$f":"Podatnicy!#REF!","v":{"$error":"#REF!"}}]
[null,18719,{"$f":"Podatnicy!#REF!","v":{"$error":"#REF!"}},{"$f":"Podatnicy!#REF!","v":{"$error":"#REF!"}},{"$f":"Podatnicy!#REF!","v":{"$error":"#REF!"}}]
[null,18722,{"$f":"Podatnicy!#REF!","v":{"$error":"#REF!"}},{"$f":"Podatnicy!#REF!","v":{"$error":"#REF!"}},{"$f":"Podatnicy!#REF!","v":{"$error":"#REF!"}}]
[null,18738,{"$f":"Podatnicy!#REF!","v":{"$error":"#REF!"}},{"$f":"Podatnicy!#REF!","v":{"$error":"#REF!"}},{"$f":"Podatnicy!#REF!","v":{"$error":"#REF!"}}]
[null,18741,{"$f":"Podatnicy!#REF!","v":{"$error":"#REF!"}},{"$f":"Podatnicy!#REF!","v":{"$error":"#REF!"}},{"$f":"Podatnicy!#REF!","v":{"$error":"#REF!"}}]
[null,18747,{"$f":"Podatnicy!#REF!","v":{"$error":"#REF!"}},{"$f":"Podatnicy!#REF!","v":{"$error":"#REF!"}},{"$f":"Podatnicy!#REF!","v":{"$error":"#REF!"}}]
[null,18759,{"$f":"Podatnicy!#REF!","v":{"$error":"#REF!"}},{"$f":"Podatnicy!#REF!","v":{"$error":"#REF!"}},{"$f":"Podatnicy!#REF!","v":{"$error":"#REF!"}}]
[null,18771,{"$f":"Podatnicy!#REF!","v":{"$error":"#REF!"}},{"$f":"Podatnicy!#REF!","v":{"$error":"#REF!"}},{"$f":"Podatnicy!#REF!","v":{"$error":"#REF!"}}]
[null,18780,{"$f":"Podatnicy!#REF!","v":{"$error":"#REF!"}},{"$f":"Podatnicy!#REF!","v":{"$error":"#REF!"}},{"$f":"Podatnicy!#REF!","v":{"$error":"#REF!"}}]
[null,18789,{"$f":"Podatnicy!#REF!","v":{"$error":"#REF!"}},{"$f":"Podatnicy!#REF!","v":{"$error":"#REF!"}},{"$f":"Podatnicy!#REF!","v":{"$error":"#REF!"}}]
[null,18792,{"$f":"Podatnicy!#REF!","v":{"$error":"#REF!"}},{"$f":"Podatnicy!#REF!","v":{"$error":"#REF!"}},{"$f":"Podatnicy!#REF!","v":{"$error":"#REF!"}}]
[null,18808,{"$f":"Podatnicy!#REF!","v":{"$error":"#REF!"}},{"$f":"Podatnicy!#REF!","v":{"$error":"#REF!"}},{"$f":"Podatnicy!#REF!","v":{"$error":"#REF!"}}]
[null,18811,{"$f":"Podatnicy!#REF!","v":{"$error":"#REF!"}},{"$f":"Podatnicy!#REF!","v":{"$error":"#REF!"}},{"$f":"Podatnicy!#REF!","v":{"$error":"#REF!"}}]
[null,18817,{"$f":"Podatnicy!#REF!","v":{"$error":"#REF!"}},{"$f":"Podatnicy!#REF!","v":{"$error":"#REF!"}},{"$f":"Podatnicy!#REF!","v":{"$error":"#REF!"}}]
[null,18829,{"$f":"Podatnicy!#REF!","v":{"$error":"#REF!"}},{"$f":"Podatnicy!#REF!","v":{"$error":"#REF!"}},{"$f":"Podatnicy!#REF!","v":{"$error":"#REF!"}}]
[null,18841,{"$f":"Podatnicy!#REF!","v":{"$error":"#REF!"}},{"$f":"Podatnicy!#REF!","v":{"$error":"#REF!"}},{"$f":"Podatnicy!#REF!","v":{"$error":"#REF!"}}]
[null,18850,{"$f":"Podatnicy!#REF!","v":{"$error":"#REF!"}},{"$f":"Podatnicy!#REF!","v":{"$error":"#REF!"}},{"$f":"Podatnicy!#REF!","v":{"$error":"#REF!"}}]
[null,18859,{"$f":"Podatnicy!#REF!","v":{"$error":"#REF!"}},{"$f":"Podatnicy!#REF!","v":{"$error":"#REF!"}},{"$f":"Podatnicy!#REF!","v":{"$error":"#REF!"}}]
[null,18866,{"$f":"Podatnicy!#REF!","v":{"$error":"#REF!"}},{"$f":"Podatnicy!#REF!","v":{"$error":"#REF!"}},{"$f":"Podatnicy!#REF!","v":{"$error":"#REF!"}}]
[null,18878,{"$f":"Podatnicy!#REF!","v":{"$error":"#REF!"}},{"$f":"Podatnicy!#REF!","v":{"$error":"#REF!"}},{"$f":"Podatnicy!#REF!","v":{"$error":"#REF!"}}]
[null,18881,{"$f":"Podatnicy!#REF!","v":{"$error":"#REF!"}},{"$f":"Podatnicy!#REF!","v":{"$error":"#REF!"}},{"$f":"Podatnicy!#REF!","v":{"$error":"#REF!"}}]
[null,18887,{"$f":"Podatnicy!#REF!","v":{"$error":"#REF!"}},{"$f":"Podatnicy!#REF!","v":{"$error":"#REF!"}},{"$f":"Podatnicy!#REF!","v":{"$error":"#REF!"}}]
[null,18899,{"$f":"Podatnicy!#REF!","v":{"$error":"#REF!"}},{"$f":"Podatnicy!#REF!","v":{"$error":"#REF!"}},{"$f":"Podatnicy!#REF!","v":{"$error":"#REF!"}}]
[null,18911,{"$f":"Podatnicy!#REF!","v":{"$error":"#REF!"}},{"$f":"Podatnicy!#REF!","v":{"$error":"#REF!"}},{"$f":"Podatnicy!#REF!","v":{"$error":"#REF!"}}]
[null,18918,{"$f":"Podatnicy!#REF!","v":{"$error":"#REF!"}},{"$f":"Podatnicy!#REF!","v":{"$error":"#REF!"}},{"$f":"Podatnicy!#REF!","v":{"$error":"#REF!"}}]
[null,18930,{"$f":"Podatnicy!#REF!","v":{"$error":"#REF!"}},{"$f":"Podatnicy!#REF!","v":{"$error":"#REF!"}},{"$f":"Podatnicy!#REF!","v":{"$error":"#REF!"}}]
[null,18936,{"$f":"Podatnicy!#REF!","v":{"$error":"#REF!"}},{"$f":"Podatnicy!#REF!","v":{"$error":"#REF!"}},{"$f":"Podatnicy!#REF!","v":{"$error":"#REF!"}}]
[null,18948,{"$f":"Podatnicy!#REF!","v":{"$error":"#REF!"}},{"$f":"Podatnicy!#REF!","v":{"$error":"#REF!"}},{"$f":"Podatnicy!#REF!","v":{"$error":"#REF!"}}]
[null,18951,{"$f":"Podatnicy!#REF!","v":{"$error":"#REF!"}},{"$f":"Podatnicy!#REF!","v":{"$error":"#REF!"}},{"$f":"Podatnicy!#REF!","v":{"$error":"#REF!"}}]
[null,18961,{"$f":"Podatnicy!#REF!","v":{"$error":"#REF!"}},{"$f":"Podatnicy!#REF!","v":{"$error":"#REF!"}},{"$f":"Podatnicy!#REF!","v":{"$error":"#REF!"}}]
[null,18969,{"$f":"Podatnicy!#REF!","v":{"$error":"#REF!"}},{"$f":"Podatnicy!#REF!","v":{"$error":"#REF!"}},{"$f":"Podatnicy!#REF!","v":{"$error":"#REF!"}}]
[null,18976,{"$f":"Podatnicy!#REF!","v":{"$error":"#REF!"}},{"$f":"Podatnicy!#REF!","v":{"$error":"#REF!"}},{"$f":"Podatnicy!#REF!","v":{"$error":"#REF!"}}]
[null,18988,{"$f":"Podatnicy!#REF!","v":{"$error":"#REF!"}},{"$f":"Podatnicy!#REF!","v":{"$error":"#REF!"}},{"$f":"Podatnicy!#REF!","v":{"$error":"#REF!"}}]
[null,19000,{"$f":"Podatnicy!#REF!","v":{"$error":"#REF!"}},{"$f":"Podatnicy!#REF!","v":{"$error":"#REF!"}},{"$f":"Podatnicy!#REF!","v":{"$error":"#REF!"}}]
[null,19006,{"$f":"Podatnicy!#REF!","v":{"$error":"#REF!"}},{"$f":"Podatnicy!#REF!","v":{"$error":"#REF!"}},{"$f":"Podatnicy!#REF!","v":{"$error":"#REF!"}}]
[null,19018,{"$f":"Podatnicy!#REF!","v":{"$error":"#REF!"}},{"$f":"Podatnicy!#REF!","v":{"$error":"#REF!"}},{"$f":"Podatnicy!#REF!","v":{"$error":"#REF!"}}]
[null,19021,{"$f":"Podatnicy!#REF!","v":{"$error":"#REF!"}},{"$f":"Podatnicy!#REF!","v":{"$error":"#REF!"}},{"$f":"Podatnicy!#REF!","v":{"$error":"#REF!"}}]
[null,19031,{"$f":"Podatnicy!#REF!","v":{"$error":"#REF!"}},{"$f":"Podatnicy!#REF!","v":{"$error":"#REF!"}},{"$f":"Podatnicy!#REF!","v":{"$error":"#REF!"}}]
[null,19039,{"$f":"Podatnicy!#REF!","v":{"$error":"#REF!"}},{"$f":"Podatnicy!#REF!","v":{"$error":"#REF!"}},{"$f":"Podatnicy!#REF!","v":{"$error":"#REF!"}}]
[null,19046,{"$f":"Podatnicy!#REF!","v":{"$error":"#REF!"}},{"$f":"Podatnicy!#REF!","v":{"$error":"#REF!"}},{"$f":"Podatnicy!#REF!","v":{"$error":"#REF!"}}]
[null,19058,{"$f":"Podatnicy!#REF!","v":{"$error":"#REF!"}},{"$f":"Podatnicy!#REF!","v":{"$error":"#REF!"}},{"$f":"Podatnicy!#REF!","v":{"$error":"#REF!"}}]
[null,19070,{"$f":"Podatnicy!#REF!","v":{"$error":"#REF!"}},{"$f":"Podatnicy!#REF!","v":{"$error":"#REF!"}},{"$f":"Podatnicy!#REF!","v":{"$error":"#REF!"}}]
[null,19076,{"$f":"Podatnicy!#REF!","v":{"$error":"#REF!"}},{"$f":"Podatnicy!#REF!","v":{"$error":"#REF!"}},{"$f":"Podatnicy!#REF!","v":{"$error":"#REF!"}}]
[null,19088,{"$f":"Podatnicy!#REF!","v":{"$error":"#REF!"}},{"$f":"Podatnicy!#REF!","v":{"$error":"#REF!"}},{"$f":"Podatnicy!#REF!","v":{"$error":"#REF!"}}]
[null,19091,{"$f":"Podatnicy!#REF!","v":{"$error":"#REF!"}},{"$f":"Podatnicy!#REF!","v":{"$error":"#REF!"}},{"$f":"Podatnicy!#REF!","v":{"$error":"#REF!"}}]
[null,19101,{"$f":"Podatnicy!#REF!","v":{"$error":"#REF!"}},{"$f":"Podatnicy!#REF!","v":{"$error":"#REF!"}},{"$f":"Podatnicy!#REF!","v":{"$error":"#REF!"}}]
[null,19109,{"$f":"Podatnicy!#REF!","v":{"$error":"#REF!"}},{"$f":"Podatnicy!#REF!","v":{"$error":"#REF!"}},{"$f":"Podatnicy!#REF!","v":{"$error":"#REF!"}}]
[null,19116,{"$f":"Podatnicy!#REF!","v":{"$error":"#REF!"}},{"$f":"Podatnicy!#REF!","v":{"$error":"#REF!"}},{"$f":"Podatnicy!#REF!","v":{"$error":"#REF!"}}]
[null,19128,{"$f":"Podatnicy!#REF!","v":{"$error":"#REF!"}},{"$f":"Podatnicy!#REF!","v":{"$error":"#REF!"}},{"$f":"Podatnicy!#REF!","v":{"$error":"#REF!"}}]
[null,19140,{"$f":"Podatnicy!#REF!","v":{"$error":"#REF!"}},{"$f":"Podatnicy!#REF!","v":{"$error":"#REF!"}},{"$f":"Podatnicy!#REF!","v":{"$error":"#REF!"}}]
[null,19146,{"$f":"Podatnicy!#REF!","v":{"$error":"#REF!"}},{"$f":"Podatnicy!#REF!","v":{"$error":"#REF!"}},{"$f":"Podatnicy!#REF!","v":{"$error":"#REF!"}}]
[null,19158,{"$f":"Podatnicy!#REF!","v":{"$error":"#REF!"}},{"$f":"Podatnicy!#REF!","v":{"$error":"#REF!"}},{"$f":"Podatnicy!#REF!","v":{"$error":"#REF!"}}]
[null,19165,{"$f":"Podatnicy!#REF!","v":{"$error":"#REF!"}},{"$f":"Podatnicy!#REF!","v":{"$error":"#REF!"}},{"$f":"Podatnicy!#REF!","v":{"$error":"#REF!"}}]
[null,19171,{"$f":"Podatnicy!#REF!","v":{"$error":"#REF!"}},{"$f":"Podatnicy!#REF!","v":{"$error":"#REF!"}},{"$f":"Podatnicy!#REF!","v":{"$error":"#REF!"}}]
[null,19179,{"$f":"Podatnicy!#REF!","v":{"$error":"#REF!"}},{"$f":"Podatnicy!#REF!","v":{"$error":"#REF!"}},{"$f":"Podatnicy!#REF!","v":{"$error":"#REF!"}}]
[null,19186,{"$f":"Podatnicy!#REF!","v":{"$error":"#REF!"}},{"$f":"Podatnicy!#REF!","v":{"$error":"#REF!"}},{"$f":"Podatnicy!#REF!","v":{"$error":"#REF!"}}]
[null,19198,{"$f":"Podatnicy!#REF!","v":{"$error":"#REF!"}},{"$f":"Podatnicy!#REF!","v":{"$error":"#REF!"}},{"$f":"Podatnicy!#REF!","v":{"$error":"#REF!"}}]
[null,19210,{"$f":"Podatnicy!#REF!","v":{"$error":"#REF!"}},{"$f":"Podatnicy!#REF!","v":{"$error":"#REF!"}},{"$f":"Podatnicy!#REF!","v":{"$error":"#REF!"}}]
[null,19212,{"$f":"Podatnicy!#REF!","v":{"$error":"#REF!"}},{"$f":"Podatnicy!#REF!","v":{"$error":"#REF!"}},{"$f":"Podatnicy!#REF!","v":{"$error":"#REF!"}}]
[null,19228,{"$f":"Podatnicy!#REF!","v":{"$error":"#REF!"}},{"$f":"Podatnicy!#REF!","v":{"$error":"#REF!"}},{"$f":"Podatnicy!#REF!","v":{"$error":"#REF!"}}]
[null,19235,{"$f":"Podatnicy!#REF!","v":{"$error":"#REF!"}},{"$f":"Podatnicy!#REF!","v":{"$error":"#REF!"}},{"$f":"Podatnicy!#REF!","v":{"$error":"#REF!"}}]
[null,19238,{"$f":"Podatnicy!#REF!","v":{"$error":"#REF!"}},{"$f":"Podatnicy!#REF!","v":{"$error":"#REF!"}},{"$f":"Podatnicy!#REF!","v":{"$error":"#REF!"}}]
[null,19251,{"$f":"Podatnicy!#REF!","v":{"$error":"#REF!"}},{"$f":"Podatnicy!#REF!","v":{"$error":"#REF!"}},{"$f":"Podatnicy!#REF!","v":{"$error":"#REF!"}}]
[null,19256,{"$f":"Podatnicy!#REF!","v":{"$error":"#REF!"}},{"$f":"Podatnicy!#REF!","v":{"$error":"#REF!"}},{"$f":"Podatnicy!#REF!","v":{"$error":"#REF!"}}]
[null,19268,{"$f":"Podatnicy!#REF!","v":{"$error":"#REF!"}},{"$f":"Podatnicy!#REF!","v":{"$error":"#REF!"}},{"$f":"Podatnicy!#REF!","v":{"$error":"#REF!"}}]
[null,19275,{"$f":"Podatnicy!#REF!","v":{"$error":"#REF!"}},{"$f":"Podatnicy!#REF!","v":{"$error":"#REF!"}},{"$f":"Podatnicy!#REF!","v":{"$error":"#REF!"}}]
[null,19282,{"$f":"Podatnicy!#REF!","v":{"$error":"#REF!"}},{"$f":"Podatnicy!#REF!","v":{"$error":"#REF!"}},{"$f":"Podatnicy!#REF!","v":{"$error":"#REF!"}}]
[null,19298,{"$f":"Podatnicy!#REF!","v":{"$error":"#REF!"}},{"$f":"Podatnicy!#REF!","v":{"$error":"#REF!"}},{"$f":"Podatnicy!#REF!","v":{"$error":"#REF!"}}]
[null,19305,{"$f":"Podatnicy!#REF!","v":{"$error":"#REF!"}},{"$f":"Podatnicy!#REF!","v":{"$error":"#REF!"}},{"$f":"Podatnicy!#REF!","v":{"$error":"#REF!"}}]
[null,19308,{"$f":"Podatnicy!#REF!","v":{"$error":"#REF!"}},{"$f":"Podatnicy!#REF!","v":{"$error":"#REF!"}},{"$f":"Podatnicy!#REF!","v":{"$error":"#REF!"}}]
[null,19321,{"$f":"Podatnicy!#REF!","v":{"$error":"#REF!"}},{"$f":"Podatnicy!#REF!","v":{"$error":"#REF!"}},{"$f":"Podatnicy!#REF!","v":{"$error":"#REF!"}}]
[null,19326,{"$f":"Podatnicy!#REF!","v":{"$error":"#REF!"}},{"$f":"Podatnicy!#REF!","v":{"$error":"#REF!"}},{"$f":"Podatnicy!#REF!","v":{"$error":"#REF!"}}]
[null,19338,{"$f":"Podatnicy!#REF!","v":{"$error":"#REF!"}},{"$f":"Podatnicy!#REF!","v":{"$error":"#REF!"}},{"$f":"Podatnicy!#REF!","v":{"$error":"#REF!"}}]
[null,19345,{"$f":"Podatnicy!#REF!","v":{"$error":"#REF!"}},{"$f":"Podatnicy!#REF!","v":{"$error":"#REF!"}},{"$f":"Podatnicy!#REF!","v":{"$error":"#REF!"}}]
[null,19352,{"$f":"Podatnicy!#REF!","v":{"$error":"#REF!"}},{"$f":"Podatnicy!#REF!","v":{"$error":"#REF!"}},{"$f":"Podatnicy!#REF!","v":{"$error":"#REF!"}}]
[null,19368,{"$f":"Podatnicy!#REF!","v":{"$error":"#REF!"}},{"$f":"Podatnicy!#REF!","v":{"$error":"#REF!"}},{"$f":"Podatnicy!#REF!","v":{"$error":"#REF!"}}]
[null,19375,{"$f":"Podatnicy!#REF!","v":{"$error":"#REF!"}},{"$f":"Podatnicy!#REF!","v":{"$error":"#REF!"}},{"$f":"Podatnicy!#REF!","v":{"$error":"#REF!"}}]
[null,19378,{"$f":"Podatnicy!#REF!","v":{"$error":"#REF!"}},{"$f":"Podatnicy!#REF!","v":{"$error":"#REF!"}},{"$f":"Podatnicy!#REF!","v":{"$error":"#REF!"}}]
[null,19391,{"$f":"Podatnicy!#REF!","v":{"$error":"#REF!"}},{"$f":"Podatnicy!#REF!","v":{"$error":"#REF!"}},{"$f":"Podatnicy!#REF!","v":{"$error":"#REF!"}}]
[null,19396,{"$f":"Podatnicy!#REF!","v":{"$error":"#REF!"}},{"$f":"Podatnicy!#REF!","v":{"$error":"#REF!"}},{"$f":"Podatnicy!#REF!","v":{"$error":"#REF!"}}]
[null,19408,{"$f":"Podatnicy!#REF!","v":{"$error":"#REF!"}},{"$f":"Podatnicy!#REF!","v":{"$error":"#REF!"}},{"$f":"Podatnicy!#REF!","v":{"$error":"#REF!"}}]
[null,19415,{"$f":"Podatnicy!#REF!","v":{"$error":"#REF!"}},{"$f":"Podatnicy!#REF!","v":{"$error":"#REF!"}},{"$f":"Podatnicy!#REF!","v":{"$error":"#REF!"}}]
[null,19422,{"$f":"Podatnicy!#REF!","v":{"$error":"#REF!"}},{"$f":"Podatnicy!#REF!","v":{"$error":"#REF!"}},{"$f":"Podatnicy!#REF!","v":{"$error":"#REF!"}}]
[null,19438,{"$f":"Podatnicy!#REF!","v":{"$error":"#REF!"}},{"$f":"Podatnicy!#REF!","v":{"$error":"#REF!"}},{"$f":"Podatnicy!#REF!","v":{"$error":"#REF!"}}]
[null,19445,{"$f":"Podatnicy!#REF!","v":{"$error":"#REF!"}},{"$f":"Podatnicy!#REF!","v":{"$error":"#REF!"}},{"$f":"Podatnicy!#REF!","v":{"$error":"#REF!"}}]
[null,19448,{"$f":"Podatnicy!#REF!","v":{"$error":"#REF!"}},{"$f":"Podatnicy!#REF!","v":{"$error":"#REF!"}},{"$f":"Podatnicy!#REF!","v":{"$error":"#REF!"}}]
[null,19461,{"$f":"Podatnicy!#REF!","v":{"$error":"#REF!"}},{"$f":"Podatnicy!#REF!","v":{"$error":"#REF!"}},{"$f":"Podatnicy!#REF!","v":{"$error":"#REF!"}}]
[null,19466,{"$f":"Podatnicy!#REF!","v":{"$error":"#REF!"}},{"$f":"Podatnicy!#REF!","v":{"$error":"#REF!"}},{"$f":"Podatnicy!#REF!","v":{"$error":"#REF!"}}]
[null,19478,{"$f":"Podatnicy!#REF!","v":{"$error":"#REF!"}},{"$f":"Podatnicy!#REF!","v":{"$error":"#REF!"}},{"$f":"Podatnicy!#REF!","v":{"$error":"#REF!"}}]
[null,19485,{"$f":"Podatnicy!#REF!","v":{"$error":"#REF!"}},{"$f":"Podatnicy!#REF!","v":{"$error":"#REF!"}},{"$f":"Podatnicy!#REF!","v":{"$error":"#REF!"}}]
[null,19497,{"$f":"Podatnicy!#REF!","v":{"$error":"#REF!"}},{"$f":"Podatnicy!#REF!","v":{"$error":"#REF!"}},{"$f":"Podatnicy!#REF!","v":{"$error":"#REF!"}}]
[null,19501,{"$f":"Podatnicy!#REF!","v":{"$error":"#REF!"}},{"$f":"Podatnicy!#REF!","v":{"$error":"#REF!"}},{"$f":"Podatnicy!#REF!","v":{"$error":"#REF!"}}]
[null,19502,{"$f":"Podatnicy!#REF!","v":{"$error":"#REF!"}},{"$f":"Podatnicy!#REF!","v":{"$error":"#REF!"}},{"$f":"Podatnicy!#REF!","v":{"$error":"#REF!"}}]
[null,19503,{"$f":"Podatnicy!#REF!","v":{"$error":"#REF!"}},{"$f":"Podatnicy!#REF!","v":{"$error":"#REF!"}},{"$f":"Podatnicy!#REF!","v":{"$error":"#REF!"}}]
[null,19504,{"$f":"Podatnicy!#REF!","v":{"$error":"#REF!"}},{"$f":"Podatnicy!#REF!","v":{"$error":"#REF!"}},{"$f":"Podatnicy!#REF!","v":{"$error":"#REF!"}}]
[null,19505,{"$f":"Podatnicy!#REF!","v":{"$error":"#REF!"}},{"$f":"Podatnicy!#REF!","v":{"$error":"#REF!"}},{"$f":"Podatnicy!#REF!","v":{"$error":"#REF!"}}]
[null,19506,{"$f":"Podatnicy!#REF!","v":{"$error":"#REF!"}},{"$f":"Podatnicy!#REF!","v":{"$error":"#REF!"}},{"$f":"Podatnicy!#REF!","v":{"$error":"#REF!"}}]
[null,19507,{"$f":"Podatnicy!#REF!","v":{"$error":"#REF!"}},{"$f":"Podatnicy!#REF!","v":{"$error":"#REF!"}},{"$f":"Podatnicy!#REF!","v":{"$error":"#REF!"}}]
[null,19508,{"$f":"Podatnicy!#REF!","v":{"$error":"#REF!"}},{"$f":"Podatnicy!#REF!","v":{"$error":"#REF!"}},{"$f":"Podatnicy!#REF!","v":{"$error":"#REF!"}}]
[null,19509,{"$f":"Podatnicy!#REF!","v":{"$error":"#REF!"}},{"$f":"Podatnicy!#REF!","v":{"$error":"#REF!"}},{"$f":"Podatnicy!#REF!","v":{"$error":"#REF!"}}]
[null,19510,{"$f":"Podatnicy!#REF!","v":{"$error":"#REF!"}},{"$f":"Podatnicy!#REF!","v":{"$error":"#REF!"}},{"$f":"Podatnicy!#REF!","v":{"$error":"#REF!"}}]
[null,19511,{"$f":"Podatnicy!#REF!","v":{"$error":"#REF!"}},{"$f":"Podatnicy!#REF!","v":{"$error":"#REF!"}},{"$f":"Podatnicy!#REF!","v":{"$error":"#REF!"}}]
[null,19512,{"$f":"Podatnicy!#REF!","v":{"$error":"#REF!"}},{"$f":"Podatnicy!#REF!","v":{"$error":"#REF!"}},{"$f":"Podatnicy!#REF!","v":{"$error":"#REF!"}}]
[null,19513,{"$f":"Podatnicy!#REF!","v":{"$error":"#REF!"}},{"$f":"Podatnicy!#REF!","v":{"$error":"#REF!"}},{"$f":"Podatnicy!#REF!","v":{"$error":"#REF!"}}]
[null,19514,{"$f":"Podatnicy!#REF!","v":{"$error":"#REF!"}},{"$f":"Podatnicy!#REF!","v":{"$error":"#REF!"}},{"$f":"Podatnicy!#REF!","v":{"$error":"#REF!"}}]
[null,19515,{"$f":"Podatnicy!#REF!","v":{"$error":"#REF!"}},{"$f":"Podatnicy!#REF!","v":{"$error":"#REF!"}},{"$f":"Podatnicy!#REF!","v":{"$error":"#REF!"}}]
[null,19516,{"$f":"Podatnicy!#REF!","v":{"$error":"#REF!"}},{"$f":"Podatnicy!#REF!","v":{"$error":"#REF!"}},{"$f":"Podatnicy!#REF!","v":{"$error":"#REF!"}}]
[null,19517,{"$f":"Podatnicy!#REF!","v":{"$error":"#REF!"}},{"$f":"Podatnicy!#REF!","v":{"$error":"#REF!"}},{"$f":"Podatnicy!#REF!","v":{"$error":"#REF!"}}]
[null,19518,{"$f":"Podatnicy!#REF!","v":{"$error":"#REF!"}},{"$f":"Podatnicy!#REF!","v":{"$error":"#REF!"}},{"$f":"Podatnicy!#REF!","v":{"$error":"#REF!"}}]
[null,19519,{"$f":"Podatnicy!#REF!","v":{"$error":"#REF!"}},{"$f":"Podatnicy!#REF!","v":{"$error":"#REF!"}},{"$f":"Podatnicy!#REF!","v":{"$error":"#REF!"}}]
[null,19520,{"$f":"Podatnicy!#REF!","v":{"$error":"#REF!"}},{"$f":"Podatnicy!#REF!","v":{"$error":"#REF!"}},{"$f":"Podatnicy!#REF!","v":{"$error":"#REF!"}}]
[null,19521,{"$f":"Podatnicy!#REF!","v":{"$error":"#REF!"}},{"$f":"Podatnicy!#REF!","v":{"$error":"#REF!"}},{"$f":"Podatnicy!#REF!","v":{"$error":"#REF!"}}]
[null,19522,{"$f":"Podatnicy!#REF!","v":{"$error":"#REF!"}},{"$f":"Podatnicy!#REF!","v":{"$error":"#REF!"}},{"$f":"Podatnicy!#REF!","v":{"$error":"#REF!"}}]
[null,19523,{"$f":"Podatnicy!#REF!","v":{"$error":"#REF!"}},{"$f":"Podatnicy!#REF!","v":{"$error":"#REF!"}},{"$f":"Podatnicy!#REF!","v":{"$error":"#REF!"}}]
[null,19524,{"$f":"Podatnicy!#REF!","v":{"$error":"#REF!"}},{"$f":"Podatnicy!#REF!","v":{"$error":"#REF!"}},{"$f":"Podatnicy!#REF!","v":{"$error":"#REF!"}}]
[null,19525,{"$f":"Podatnicy!#REF!","v":{"$error":"#REF!"}},{"$f":"Podatnicy!#REF!","v":{"$error":"#REF!"}},{"$f":"Podatnicy!#REF!","v":{"$error":"#REF!"}}]
[null,19526,{"$f":"Podatnicy!#REF!","v":{"$error":"#REF!"}},{"$f":"Podatnicy!#REF!","v":{"$error":"#REF!"}},{"$f":"Podatnicy!#REF!","v":{"$error":"#REF!"}}]
[null,19527,{"$f":"Podatnicy!#REF!","v":{"$error":"#REF!"}},{"$f":"Podatnicy!#REF!","v":{"$error":"#REF!"}},{"$f":"Podatnicy!#REF!","v":{"$error":"#REF!"}}]
[null,19528,{"$f":"Podatnicy!#REF!","v":{"$error":"#REF!"}},{"$f":"Podatnicy!#REF!","v":{"$error":"#REF!"}},{"$f":"Podatnicy!#REF!","v":{"$error":"#REF!"}}]
[null,19529,{"$f":"Podatnicy!#REF!","v":{"$error":"#REF!"}},{"$f":"Podatnicy!#REF!","v":{"$error":"#REF!"}},{"$f":"Podatnicy!#REF!","v":{"$error":"#REF!"}}]
[null,19530,{"$f":"Podatnicy!#REF!","v":{"$error":"#REF!"}},{"$f":"Podatnicy!#REF!","v":{"$error":"#REF!"}},{"$f":"Podatnicy!#REF!","v":{"$error":"#REF!"}}]
[null,19531,{"$f":"Podatnicy!#REF!","v":{"$error":"#REF!"}},{"$f":"Podatnicy!#REF!","v":{"$error":"#REF!"}},{"$f":"Podatnicy!#REF!","v":{"$error":"#REF!"}}]
[null,19532,{"$f":"Podatnicy!#REF!","v":{"$error":"#REF!"}},{"$f":"Podatnicy!#REF!","v":{"$error":"#REF!"}},{"$f":"Podatnicy!#REF!","v":{"$error":"#REF!"}}]
[null,19533,{"$f":"Podatnicy!#REF!","v":{"$error":"#REF!"}},{"$f":"Podatnicy!#REF!","v":{"$error":"#REF!"}},{"$f":"Podatnicy!#REF!","v":{"$error":"#REF!"}}]
[null,19534,{"$f":"Podatnicy!#REF!","v":{"$error":"#REF!"}},{"$f":"Podatnicy!#REF!","v":{"$error":"#REF!"}},{"$f":"Podatnicy!#REF!","v":{"$error":"#REF!"}}]
[null,19535,{"$f":"Podatnicy!#REF!","v":{"$error":"#REF!"}},{"$f":"Podatnicy!#REF!","v":{"$error":"#REF!"}},{"$f":"Podatnicy!#REF!","v":{"$error":"#REF!"}}]
[null,19536,{"$f":"Podatnicy!#REF!","v":{"$error":"#REF!"}},{"$f":"Podatnicy!#REF!","v":{"$error":"#REF!"}},{"$f":"Podatnicy!#REF!","v":{"$error":"#REF!"}}]
[null,19537,{"$f":"Podatnicy!#REF!","v":{"$error":"#REF!"}},{"$f":"Podatnicy!#REF!","v":{"$error":"#REF!"}},{"$f":"Podatnicy!#REF!","v":{"$error":"#REF!"}}]
[null,19538,{"$f":"Podatnicy!#REF!","v":{"$error":"#REF!"}},{"$f":"Podatnicy!#REF!","v":{"$error":"#REF!"}},{"$f":"Podatnicy!#REF!","v":{"$error":"#REF!"}}]
[null,19539,{"$f":"Podatnicy!#REF!","v":{"$error":"#REF!"}},{"$f":"Podatnicy!#REF!","v":{"$error":"#REF!"}},{"$f":"Podatnicy!#REF!","v":{"$error":"#REF!"}}]
[null,19540,{"$f":"Podatnicy!#REF!","v":{"$error":"#REF!"}},{"$f":"Podatnicy!#REF!","v":{"$error":"#REF!"}},{"$f":"Podatnicy!#REF!","v":{"$error":"#REF!"}}]
[null,19541,{"$f":"Podatnicy!#REF!","v":{"$error":"#REF!"}},{"$f":"Podatnicy!#REF!","v":{"$error":"#REF!"}},{"$f":"Podatnicy!#REF!","v":{"$error":"#REF!"}}]
[null,19542,{"$f":"Podatnicy!#REF!","v":{"$error":"#REF!"}},{"$f":"Podatnicy!#REF!","v":{"$error":"#REF!"}},{"$f":"Podatnicy!#REF!","v":{"$error":"#REF!"}}]
[null,19543,{"$f":"Podatnicy!#REF!","v":{"$error":"#REF!"}},{"$f":"Podatnicy!#REF!","v":{"$error":"#REF!"}},{"$f":"Podatnicy!#REF!","v":{"$error":"#REF!"}}]
[null,19544,{"$f":"Podatnicy!#REF!","v":{"$error":"#REF!"}},{"$f":"Podatnicy!#REF!","v":{"$error":"#REF!"}},{"$f":"Podatnicy!#REF!","v":{"$error":"#REF!"}}]
[null,19545,{"$f":"Podatnicy!#REF!","v":{"$error":"#REF!"}},{"$f":"Podatnicy!#REF!","v":{"$error":"#REF!"}},{"$f":"Podatnicy!#REF!","v":{"$error":"#REF!"}}]
[null,19546,{"$f":"Podatnicy!#REF!","v":{"$error":"#REF!"}},{"$f":"Podatnicy!#REF!","v":{"$error":"#REF!"}},{"$f":"Podatnicy!#REF!","v":{"$error":"#REF!"}}]
[null,19547,{"$f":"Podatnicy!#REF!","v":{"$error":"#REF!"}},{"$f":"Podatnicy!#REF!","v":{"$error":"#REF!"}},{"$f":"Podatnicy!#REF!","v":{"$error":"#REF!"}}]
[null,19548,{"$f":"Podatnicy!#REF!","v":{"$error":"#REF!"}},{"$f":"Podatnicy!#REF!","v":{"$error":"#REF!"}},{"$f":"Podatnicy!#REF!","v":{"$error":"#REF!"}}]
[null,19549,{"$f":"Podatnicy!#REF!","v":{"$error":"#REF!"}},{"$f":"Podatnicy!#REF!","v":{"$error":"#REF!"}},{"$f":"Podatnicy!#REF!","v":{"$error":"#REF!"}}]
[null,19550,{"$f":"Podatnicy!#REF!","v":{"$error":"#REF!"}},{"$f":"Podatnicy!#REF!","v":{"$error":"#REF!"}},{"$f":"Podatnicy!#REF!","v":{"$error":"#REF!"}}]
[null,19551,{"$f":"Podatnicy!#REF!","v":{"$error":"#REF!"}},{"$f":"Podatnicy!#REF!","v":{"$error":"#REF!"}},{"$f":"Podatnicy!#REF!","v":{"$error":"#REF!"}}]
[null,19552,{"$f":"Podatnicy!#REF!","v":{"$error":"#REF!"}},{"$f":"Podatnicy!#REF!","v":{"$error":"#REF!"}},{"$f":"Podatnicy!#REF!","v":{"$error":"#REF!"}}]
[null,19553,{"$f":"Podatnicy!#REF!","v":{"$error":"#REF!"}},{"$f":"Podatnicy!#REF!","v":{"$error":"#REF!"}},{"$f":"Podatnicy!#REF!","v":{"$error":"#REF!"}}]
[null,19554,{"$f":"Podatnicy!#REF!","v":{"$error":"#REF!"}},{"$f":"Podatnicy!#REF!","v":{"$error":"#REF!"}},{"$f":"Podatnicy!#REF!","v":{"$error":"#REF!"}}]
[null,19555,{"$f":"Podatnicy!#REF!","v":{"$error":"#REF!"}},{"$f":"Podatnicy!#REF!","v":{"$error":"#REF!"}},{"$f":"Podatnicy!#REF!","v":{"$error":"#REF!"}}]
[null,19556,{"$f":"Podatnicy!#REF!","v":{"$error":"#REF!"}},{"$f":"Podatnicy!#REF!","v":{"$error":"#REF!"}},{"$f":"Podatnicy!#REF!","v":{"$error":"#REF!"}}]
[null,19557,{"$f":"Podatnicy!#REF!","v":{"$error":"#REF!"}},{"$f":"Podatnicy!#REF!","v":{"$error":"#REF!"}},{"$f":"Podatnicy!#REF!","v":{"$error":"#REF!"}}]
[null,19558,{"$f":"Podatnicy!#REF!","v":{"$error":"#REF!"}},{"$f":"Podatnicy!#REF!","v":{"$error":"#REF!"}},{"$f":"Podatnicy!#REF!","v":{"$error":"#REF!"}}]
[null,19559,{"$f":"Podatnicy!#REF!","v":{"$error":"#REF!"}},{"$f":"Podatnicy!#REF!","v":{"$error":"#REF!"}},{"$f":"Podatnicy!#REF!","v":{"$error":"#REF!"}}]
[null,19560,{"$f":"Podatnicy!#REF!","v":{"$error":"#REF!"}},{"$f":"Podatnicy!#REF!","v":{"$error":"#REF!"}},{"$f":"Podatnicy!#REF!","v":{"$error":"#REF!"}}]
[null,19561,{"$f":"Podatnicy!#REF!","v":{"$error":"#REF!"}},{"$f":"Podatnicy!#REF!","v":{"$error":"#REF!"}},{"$f":"Podatnicy!#REF!","v":{"$error":"#REF!"}}]
[null,19562,{"$f":"Podatnicy!#REF!","v":{"$error":"#REF!"}},{"$f":"Podatnicy!#REF!","v":{"$error":"#REF!"}},{"$f":"Podatnicy!#REF!","v":{"$error":"#REF!"}}]
[null,19563,{"$f":"Podatnicy!#REF!","v":{"$error":"#REF!"}},{"$f":"Podatnicy!#REF!","v":{"$error":"#REF!"}},{"$f":"Podatnicy!#REF!","v":{"$error":"#REF!"}}]
[null,19564,{"$f":"Podatnicy!#REF!","v":{"$error":"#REF!"}},{"$f":"Podatnicy!#REF!","v":{"$error":"#REF!"}},{"$f":"Podatnicy!#REF!","v":{"$error":"#REF!"}}]
[null,19565,{"$f":"Podatnicy!#REF!","v":{"$error":"#REF!"}},{"$f":"Podatnicy!#REF!","v":{"$error":"#REF!"}},{"$f":"Podatnicy!#REF!","v":{"$error":"#REF!"}}]
[null,19566,{"$f":"Podatnicy!#REF!","v":{"$error":"#REF!"}},{"$f":"Podatnicy!#REF!","v":{"$error":"#REF!"}},{"$f":"Podatnicy!#REF!","v":{"$error":"#REF!"}}]
[null,19567,{"$f":"Podatnicy!#REF!","v":{"$error":"#REF!"}},{"$f":"Podatnicy!#REF!","v":{"$error":"#REF!"}},{"$f":"Podatnicy!#REF!","v":{"$error":"#REF!"}}]
[null,19568,{"$f":"Podatnicy!#REF!","v":{"$error":"#REF!"}},{"$f":"Podatnicy!#REF!","v":{"$error":"#REF!"}},{"$f":"Podatnicy!#REF!","v":{"$error":"#REF!"}}]
[null,19569,{"$f":"Podatnicy!#REF!","v":{"$error":"#REF!"}},{"$f":"Podatnicy!#REF!","v":{"$error":"#REF!"}},{"$f":"Podatnicy!#REF!","v":{"$error":"#REF!"}}]
[null,19570,{"$f":"Podatnicy!#REF!","v":{"$error":"#REF!"}},{"$f":"Podatnicy!#REF!","v":{"$error":"#REF!"}},{"$f":"Podatnicy!#REF!","v":{"$error":"#REF!"}}]
[null,19571,{"$f":"Podatnicy!#REF!","v":{"$error":"#REF!"}},{"$f":"Podatnicy!#REF!","v":{"$error":"#REF!"}},{"$f":"Podatnicy!#REF!","v":{"$error":"#REF!"}}]
[null,19572,{"$f":"Podatnicy!#REF!","v":{"$error":"#REF!"}},{"$f":"Podatnicy!#REF!","v":{"$error":"#REF!"}},{"$f":"Podatnicy!#REF!","v":{"$error":"#REF!"}}]
[null,19573,{"$f":"Podatnicy!#REF!","v":{"$error":"#REF!"}},{"$f":"Podatnicy!#REF!","v":{"$error":"#REF!"}},{"$f":"Podatnicy!#REF!","v":{"$error":"#REF!"}}]
[null,19574,{"$f":"Podatnicy!#REF!","v":{"$error":"#REF!"}},{"$f":"Podatnicy!#REF!","v":{"$error":"#REF!"}},{"$f":"Podatnicy!#REF!","v":{"$error":"#REF!"}}]
[null,19575,{"$f":"Podatnicy!#REF!","v":{"$error":"#REF!"}},{"$f":"Podatnicy!#REF!","v":{"$error":"#REF!"}},{"$f":"Podatnicy!#REF!","v":{"$error":"#REF!"}}]
[null,19576,{"$f":"Podatnicy!#REF!","v":{"$error":"#REF!"}},{"$f":"Podatnicy!#REF!","v":{"$error":"#REF!"}},{"$f":"Podatnicy!#REF!","v":{"$error":"#REF!"}}]
[null,19577,{"$f":"Podatnicy!#REF!","v":{"$error":"#REF!"}},{"$f":"Podatnicy!#REF!","v":{"$error":"#REF!"}},{"$f":"Podatnicy!#REF!","v":{"$error":"#REF!"}}]
[null,19578,{"$f":"Podatnicy!#REF!","v":{"$error":"#REF!"}},{"$f":"Podatnicy!#REF!","v":{"$error":"#REF!"}},{"$f":"Podatnicy!#REF!","v":{"$error":"#REF!"}}]
[null,19579,{"$f":"Podatnicy!#REF!","v":{"$error":"#REF!"}},{"$f":"Podatnicy!#REF!","v":{"$error":"#REF!"}},{"$f":"Podatnicy!#REF!","v":{"$error":"#REF!"}}]
[null,19580,{"$f":"Podatnicy!#REF!","v":{"$error":"#REF!"}},{"$f":"Podatnicy!#REF!","v":{"$error":"#REF!"}},{"$f":"Podatnicy!#REF!","v":{"$error":"#REF!"}}]
[null,19581,{"$f":"Podatnicy!#REF!","v":{"$error":"#REF!"}},{"$f":"Podatnicy!#REF!","v":{"$error":"#REF!"}},{"$f":"Podatnicy!#REF!","v":{"$error":"#REF!"}}]
[null,19582,{"$f":"Podatnicy!#REF!","v":{"$error":"#REF!"}},{"$f":"Podatnicy!#REF!","v":{"$error":"#REF!"}},{"$f":"Podatnicy!#REF!","v":{"$error":"#REF!"}}]
[null,19583,{"$f":"Podatnicy!#REF!","v":{"$error":"#REF!"}},{"$f":"Podatnicy!#REF!","v":{"$error":"#REF!"}},{"$f":"Podatnicy!#REF!","v":{"$error":"#REF!"}}]
[null,19584,{"$f":"Podatnicy!#REF!","v":{"$error":"#REF!"}},{"$f":"Podatnicy!#REF!","v":{"$error":"#REF!"}},{"$f":"Podatnicy!#REF!","v":{"$error":"#REF!"}}]
[null,19585,{"$f":"Podatnicy!#REF!","v":{"$error":"#REF!"}},{"$f":"Podatnicy!#REF!","v":{"$error":"#REF!"}},{"$f":"Podatnicy!#REF!","v":{"$error":"#REF!"}}]
[null,19586,{"$f":"Podatnicy!#REF!","v":{"$error":"#REF!"}},{"$f":"Podatnicy!#REF!","v":{"$error":"#REF!"}},{"$f":"Podatnicy!#REF!","v":{"$error":"#REF!"}}]
[null,19587,{"$f":"Podatnicy!#REF!","v":{"$error":"#REF!"}},{"$f":"Podatnicy!#REF!","v":{"$error":"#REF!"}},{"$f":"Podatnicy!#REF!","v":{"$error":"#REF!"}}]
[null,19588,{"$f":"Podatnicy!#REF!","v":{"$error":"#REF!"}},{"$f":"Podatnicy!#REF!","v":{"$error":"#REF!"}},{"$f":"Podatnicy!#REF!","v":{"$error":"#REF!"}}]
[null,19589,{"$f":"Podatnicy!#REF!","v":{"$error":"#REF!"}},{"$f":"Podatnicy!#REF!","v":{"$error":"#REF!"}},{"$f":"Podatnicy!#REF!","v":{"$error":"#REF!"}}]
[null,19590,{"$f":"Podatnicy!#REF!","v":{"$error":"#REF!"}},{"$f":"Podatnicy!#REF!","v":{"$error":"#REF!"}},{"$f":"Podatnicy!#REF!","v":{"$error":"#REF!"}}]
[null,19591,{"$f":"Podatnicy!#REF!","v":{"$error":"#REF!"}},{"$f":"Podatnicy!#REF!","v":{"$error":"#REF!"}},{"$f":"Podatnicy!#REF!","v":{"$error":"#REF!"}}]
[null,19592,{"$f":"Podatnicy!#REF!","v":{"$error":"#REF!"}},{"$f":"Podatnicy!#REF!","v":{"$error":"#REF!"}},{"$f":"Podatnicy!#REF!","v":{"$error":"#REF!"}}]
[null,19593,{"$f":"Podatnicy!#REF!","v":{"$error":"#REF!"}},{"$f":"Podatnicy!#REF!","v":{"$error":"#REF!"}},{"$f":"Podatnicy!#REF!","v":{"$error":"#REF!"}}]
[null,19594,{"$f":"Podatnicy!#REF!","v":{"$error":"#REF!"}},{"$f":"Podatnicy!#REF!","v":{"$error":"#REF!"}},{"$f":"Podatnicy!#REF!","v":{"$error":"#REF!"}}]
[null,19595,{"$f":"Podatnicy!#REF!","v":{"$error":"#REF!"}},{"$f":"Podatnicy!#REF!","v":{"$error":"#REF!"}},{"$f":"Podatnicy!#REF!","v":{"$error":"#REF!"}}]
[null,19596,{"$f":"Podatnicy!#REF!","v":{"$error":"#REF!"}},{"$f":"Podatnicy!#REF!","v":{"$error":"#REF!"}},{"$f":"Podatnicy!#REF!","v":{"$error":"#REF!"}}]
[null,19597,{"$f":"Podatnicy!#REF!","v":{"$error":"#REF!"}},{"$f":"Podatnicy!#REF!","v":{"$error":"#REF!"}},{"$f":"Podatnicy!#REF!","v":{"$error":"#REF!"}}]
[null,19598,{"$f":"Podatnicy!#REF!","v":{"$error":"#REF!"}},{"$f":"Podatnicy!#REF!","v":{"$error":"#REF!"}},{"$f":"Podatnicy!#REF!","v":{"$error":"#REF!"}}]
[null,19599,{"$f":"Podatnicy!#REF!","v":{"$error":"#REF!"}},{"$f":"Podatnicy!#REF!","v":{"$error":"#REF!"}},{"$f":"Podatnicy!#REF!","v":{"$error":"#REF!"}}]
[null,19600,{"$f":"Podatnicy!#REF!","v":{"$error":"#REF!"}},{"$f":"Podatnicy!#REF!","v":{"$error":"#REF!"}},{"$f":"Podatnicy!#REF!","v":{"$error":"#REF!"}}]
[null,19601,{"$f":"Podatnicy!#REF!","v":{"$error":"#REF!"}},{"$f":"Podatnicy!#REF!","v":{"$error":"#REF!"}},{"$f":"Podatnicy!#REF!","v":{"$error":"#REF!"}}]
[null,19602,{"$f":"Podatnicy!#REF!","v":{"$error":"#REF!"}},{"$f":"Podatnicy!#REF!","v":{"$error":"#REF!"}},{"$f":"Podatnicy!#REF!","v":{"$error":"#REF!"}}]
[null,19603,{"$f":"Podatnicy!#REF!","v":{"$error":"#REF!"}},{"$f":"Podatnicy!#REF!","v":{"$error":"#REF!"}},{"$f":"Podatnicy!#REF!","v":{"$error":"#REF!"}}]
[null,19604,{"$f":"Podatnicy!#REF!","v":{"$error":"#REF!"}},{"$f":"Podatnicy!#REF!","v":{"$error":"#REF!"}},{"$f":"Podatnicy!#REF!","v":{"$error":"#REF!"}}]
[null,19605,{"$f":"Podatnicy!#REF!","v":{"$error":"#REF!"}},{"$f":"Podatnicy!#REF!","v":{"$error":"#REF!"}},{"$f":"Podatnicy!#REF!","v":{"$error":"#REF!"}}]
[null,19606,{"$f":"Podatnicy!#REF!","v":{"$error":"#REF!"}},{"$f":"Podatnicy!#REF!","v":{"$error":"#REF!"}},{"$f":"Podatnicy!#REF!","v":{"$error":"#REF!"}}]
[null,19607,{"$f":"Podatnicy!#REF!","v":{"$error":"#REF!"}},{"$f":"Podatnicy!#REF!","v":{"$error":"#REF!"}},{"$f":"Podatnicy!#REF!","v":{"$error":"#REF!"}}]
[null,19608,{"$f":"Podatnicy!#REF!","v":{"$error":"#REF!"}},{"$f":"Podatnicy!#REF!","v":{"$error":"#REF!"}},{"$f":"Podatnicy!#REF!","v":{"$error":"#REF!"}}]
[null,19609,{"$f":"Podatnicy!#REF!","v":{"$error":"#REF!"}},{"$f":"Podatnicy!#REF!","v":{"$error":"#REF!"}},{"$f":"Podatnicy!#REF!","v":{"$error":"#REF!"}}]
[null,19610,{"$f":"Podatnicy!#REF!","v":{"$error":"#REF!"}},{"$f":"Podatnicy!#REF!","v":{"$error":"#REF!"}},{"$f":"Podatnicy!#REF!","v":{"$error":"#REF!"}}]
[null,19611,{"$f":"Podatnicy!#REF!","v":{"$error":"#REF!"}},{"$f":"Podatnicy!#REF!","v":{"$error":"#REF!"}},{"$f":"Podatnicy!#REF!","v":{"$error":"#REF!"}}]
[null,19612,{"$f":"Podatnicy!#REF!","v":{"$error":"#REF!"}},{"$f":"Podatnicy!#REF!","v":{"$error":"#REF!"}},{"$f":"Podatnicy!#REF!","v":{"$error":"#REF!"}}]
[null,19613,{"$f":"Podatnicy!#REF!","v":{"$error":"#REF!"}},{"$f":"Podatnicy!#REF!","v":{"$error":"#REF!"}},{"$f":"Podatnicy!#REF!","v":{"$error":"#REF!"}}]
[null,19614,{"$f":"Podatnicy!#REF!","v":{"$error":"#REF!"}},{"$f":"Podatnicy!#REF!","v":{"$error":"#REF!"}},{"$f":"Podatnicy!#REF!","v":{"$error":"#REF!"}}]
[null,19615,{"$f":"Podatnicy!#REF!","v":{"$error":"#REF!"}},{"$f":"Podatnicy!#REF!","v":{"$error":"#REF!"}},{"$f":"Podatnicy!#REF!","v":{"$error":"#REF!"}}]
[null,19616,{"$f":"Podatnicy!#REF!","v":{"$error":"#REF!"}},{"$f":"Podatnicy!#REF!","v":{"$error":"#REF!"}},{"$f":"Podatnicy!#REF!","v":{"$error":"#REF!"}}]
[null,19617,{"$f":"Podatnicy!#REF!","v":{"$error":"#REF!"}},{"$f":"Podatnicy!#REF!","v":{"$error":"#REF!"}},{"$f":"Podatnicy!#REF!","v":{"$error":"#REF!"}}]
[null,19618,{"$f":"Podatnicy!#REF!","v":{"$error":"#REF!"}},{"$f":"Podatnicy!#REF!","v":{"$error":"#REF!"}},{"$f":"Podatnicy!#REF!","v":{"$error":"#REF!"}}]
[null,19619,{"$f":"Podatnicy!#REF!","v":{"$error":"#REF!"}},{"$f":"Podatnicy!#REF!","v":{"$error":"#REF!"}},{"$f":"Podatnicy!#REF!","v":{"$error":"#REF!"}}]
[null,19620,{"$f":"Podatnicy!#REF!","v":{"$error":"#REF!"}},{"$f":"Podatnicy!#REF!","v":{"$error":"#REF!"}},{"$f":"Podatnicy!#REF!","v":{"$error":"#REF!"}}]
[null,19621,{"$f":"Podatnicy!#REF!","v":{"$error":"#REF!"}},{"$f":"Podatnicy!#REF!","v":{"$error":"#REF!"}},{"$f":"Podatnicy!#REF!","v":{"$error":"#REF!"}}]
[null,19622,{"$f":"Podatnicy!#REF!","v":{"$error":"#REF!"}},{"$f":"Podatnicy!#REF!","v":{"$error":"#REF!"}},{"$f":"Podatnicy!#REF!","v":{"$error":"#REF!"}}]
[null,19623,{"$f":"Podatnicy!#REF!","v":{"$error":"#REF!"}},{"$f":"Podatnicy!#REF!","v":{"$error":"#REF!"}},{"$f":"Podatnicy!#REF!","v":{"$error":"#REF!"}}]
[null,19624,{"$f":"Podatnicy!#REF!","v":{"$error":"#REF!"}},{"$f":"Podatnicy!#REF!","v":{"$error":"#REF!"}},{"$f":"Podatnicy!#REF!","v":{"$error":"#REF!"}}]
[null,19625,{"$f":"Podatnicy!#REF!","v":{"$error":"#REF!"}},{"$f":"Podatnicy!#REF!","v":{"$error":"#REF!"}},{"$f":"Podatnicy!#REF!","v":{"$error":"#REF!"}}]
[null,19626,{"$f":"Podatnicy!#REF!","v":{"$error":"#REF!"}},{"$f":"Podatnicy!#REF!","v":{"$error":"#REF!"}},{"$f":"Podatnicy!#REF!","v":{"$error":"#REF!"}}]
[null,19627,{"$f":"Podatnicy!#REF!","v":{"$error":"#REF!"}},{"$f":"Podatnicy!#REF!","v":{"$error":"#REF!"}},{"$f":"Podatnicy!#REF!","v":{"$error":"#REF!"}}]
[null,19628,{"$f":"Podatnicy!#REF!","v":{"$error":"#REF!"}},{"$f":"Podatnicy!#REF!","v":{"$error":"#REF!"}},{"$f":"Podatnicy!#REF!","v":{"$error":"#REF!"}}]
[null,19629,{"$f":"Podatnicy!#REF!","v":{"$error":"#REF!"}},{"$f":"Podatnicy!#REF!","v":{"$error":"#REF!"}},{"$f":"Podatnicy!#REF!","v":{"$error":"#REF!"}}]
[null,19630,{"$f":"Podatnicy!#REF!","v":{"$error":"#REF!"}},{"$f":"Podatnicy!#REF!","v":{"$error":"#REF!"}},{"$f":"Podatnicy!#REF!","v":{"$error":"#REF!"}}]
[null,19631,{"$f":"Podatnicy!#REF!","v":{"$error":"#REF!"}},{"$f":"Podatnicy!#REF!","v":{"$error":"#REF!"}},{"$f":"Podatnicy!#REF!","v":{"$error":"#REF!"}}]
[null,19632,{"$f":"Podatnicy!#REF!","v":{"$error":"#REF!"}},{"$f":"Podatnicy!#REF!","v":{"$error":"#REF!"}},{"$f":"Podatnicy!#REF!","v":{"$error":"#REF!"}}]
[null,19633,{"$f":"Podatnicy!#REF!","v":{"$error":"#REF!"}},{"$f":"Podatnicy!#REF!","v":{"$error":"#REF!"}},{"$f":"Podatnicy!#REF!","v":{"$error":"#REF!"}}]
[null,19634,{"$f":"Podatnicy!#REF!","v":{"$error":"#REF!"}},{"$f":"Podatnicy!#REF!","v":{"$error":"#REF!"}},{"$f":"Podatnicy!#REF!","v":{"$error":"#REF!"}}]
[null,19635,{"$f":"Podatnicy!#REF!","v":{"$error":"#REF!"}},{"$f":"Podatnicy!#REF!","v":{"$error":"#REF!"}},{"$f":"Podatnicy!#REF!","v":{"$error":"#REF!"}}]
[null,19636,{"$f":"Podatnicy!#REF!","v":{"$error":"#REF!"}},{"$f":"Podatnicy!#REF!","v":{"$error":"#REF!"}},{"$f":"Podatnicy!#REF!","v":{"$error":"#REF!"}}]
[null,19637,{"$f":"Podatnicy!#REF!","v":{"$error":"#REF!"}},{"$f":"Podatnicy!#REF!","v":{"$error":"#REF!"}},{"$f":"Podatnicy!#REF!","v":{"$error":"#REF!"}}]
[null,19638,{"$f":"Podatnicy!#REF!","v":{"$error":"#REF!"}},{"$f":"Podatnicy!#REF!","v":{"$error":"#REF!"}},{"$f":"Podatnicy!#REF!","v":{"$error":"#REF!"}}]
[null,19639,{"$f":"Podatnicy!#REF!","v":{"$error":"#REF!"}},{"$f":"Podatnicy!#REF!","v":{"$error":"#REF!"}},{"$f":"Podatnicy!#REF!","v":{"$error":"#REF!"}}]
[null,19640,{"$f":"Podatnicy!#REF!","v":{"$error":"#REF!"}},{"$f":"Podatnicy!#REF!","v":{"$error":"#REF!"}},{"$f":"Podatnicy!#REF!","v":{"$error":"#REF!"}}]
[null,19641,{"$f":"Podatnicy!#REF!","v":{"$error":"#REF!"}},{"$f":"Podatnicy!#REF!","v":{"$error":"#REF!"}},{"$f":"Podatnicy!#REF!","v":{"$error":"#REF!"}}]
[null,19642,{"$f":"Podatnicy!#REF!","v":{"$error":"#REF!"}},{"$f":"Podatnicy!#REF!","v":{"$error":"#REF!"}},{"$f":"Podatnicy!#REF!","v":{"$error":"#REF!"}}]
[null,19643,{"$f":"Podatnicy!#REF!","v":{"$error":"#REF!"}},{"$f":"Podatnicy!#REF!","v":{"$error":"#REF!"}},{"$f":"Podatnicy!#REF!","v":{"$error":"#REF!"}}]
[null,19644,{"$f":"Podatnicy!#REF!","v":{"$error":"#REF!"}},{"$f":"Podatnicy!#REF!","v":{"$error":"#REF!"}},{"$f":"Podatnicy!#REF!","v":{"$error":"#REF!"}}]
[null,19645,{"$f":"Podatnicy!#REF!","v":{"$error":"#REF!"}},{"$f":"Podatnicy!#REF!","v":{"$error":"#REF!"}},{"$f":"Podatnicy!#REF!","v":{"$error":"#REF!"}}]
[null,19646,{"$f":"Podatnicy!#REF!","v":{"$error":"#REF!"}},{"$f":"Podatnicy!#REF!","v":{"$error":"#REF!"}},{"$f":"Podatnicy!#REF!","v":{"$error":"#REF!"}}]
[null,19647,{"$f":"Podatnicy!#REF!","v":{"$error":"#REF!"}},{"$f":"Podatnicy!#REF!","v":{"$error":"#REF!"}},{"$f":"Podatnicy!#REF!","v":{"$error":"#REF!"}}]
[null,19648,{"$f":"Podatnicy!#REF!","v":{"$error":"#REF!"}},{"$f":"Podatnicy!#REF!","v":{"$error":"#REF!"}},{"$f":"Podatnicy!#REF!","v":{"$error":"#REF!"}}]
[null,19649,{"$f":"Podatnicy!#REF!","v":{"$error":"#REF!"}},{"$f":"Podatnicy!#REF!","v":{"$error":"#REF!"}},{"$f":"Podatnicy!#REF!","v":{"$error":"#REF!"}}]
[null,19650,{"$f":"Podatnicy!#REF!","v":{"$error":"#REF!"}},{"$f":"Podatnicy!#REF!","v":{"$error":"#REF!"}},{"$f":"Podatnicy!#REF!","v":{"$error":"#REF!"}}]
[null,19651,{"$f":"Podatnicy!#REF!","v":{"$error":"#REF!"}},{"$f":"Podatnicy!#REF!","v":{"$error":"#REF!"}},{"$f":"Podatnicy!#REF!","v":{"$error":"#REF!"}}]
[null,19652,{"$f":"Podatnicy!#REF!","v":{"$error":"#REF!"}},{"$f":"Podatnicy!#REF!","v":{"$error":"#REF!"}},{"$f":"Podatnicy!#REF!","v":{"$error":"#REF!"}}]
[null,19653,{"$f":"Podatnicy!#REF!","v":{"$error":"#REF!"}},{"$f":"Podatnicy!#REF!","v":{"$error":"#REF!"}},{"$f":"Podatnicy!#REF!","v":{"$error":"#REF!"}}]
[null,19654,{"$f":"Podatnicy!#REF!","v":{"$error":"#REF!"}},{"$f":"Podatnicy!#REF!","v":{"$error":"#REF!"}},{"$f":"Podatnicy!#REF!","v":{"$error":"#REF!"}}]
[null,19655,{"$f":"Podatnicy!#REF!","v":{"$error":"#REF!"}},{"$f":"Podatnicy!#REF!","v":{"$error":"#REF!"}},{"$f":"Podatnicy!#REF!","v":{"$error":"#REF!"}}]
[null,19656,{"$f":"Podatnicy!#REF!","v":{"$error":"#REF!"}},{"$f":"Podatnicy!#REF!","v":{"$error":"#REF!"}},{"$f":"Podatnicy!#REF!","v":{"$error":"#REF!"}}]
[null,19657,{"$f":"Podatnicy!#REF!","v":{"$error":"#REF!"}},{"$f":"Podatnicy!#REF!","v":{"$error":"#REF!"}},{"$f":"Podatnicy!#REF!","v":{"$error":"#REF!"}}]
[null,19658,{"$f":"Podatnicy!#REF!","v":{"$error":"#REF!"}},{"$f":"Podatnicy!#REF!","v":{"$error":"#REF!"}},{"$f":"Podatnicy!#REF!","v":{"$error":"#REF!"}}]
[null,19659,{"$f":"Podatnicy!#REF!","v":{"$error":"#REF!"}},{"$f":"Podatnicy!#REF!","v":{"$error":"#REF!"}},{"$f":"Podatnicy!#REF!","v":{"$error":"#REF!"}}]
[null,19660,{"$f":"Podatnicy!#REF!","v":{"$error":"#REF!"}},{"$f":"Podatnicy!#REF!","v":{"$error":"#REF!"}},{"$f":"Podatnicy!#REF!","v":{"$error":"#REF!"}}]
[null,19661,{"$f":"Podatnicy!#REF!","v":{"$error":"#REF!"}},{"$f":"Podatnicy!#REF!","v":{"$error":"#REF!"}},{"$f":"Podatnicy!#REF!","v":{"$error":"#REF!"}}]
[null,19662,{"$f":"Podatnicy!#REF!","v":{"$error":"#REF!"}},{"$f":"Podatnicy!#REF!","v":{"$error":"#REF!"}},{"$f":"Podatnicy!#REF!","v":{"$error":"#REF!"}}]
[null,19663,{"$f":"Podatnicy!#REF!","v":{"$error":"#REF!"}},{"$f":"Podatnicy!#REF!","v":{"$error":"#REF!"}},{"$f":"Podatnicy!#REF!","v":{"$error":"#REF!"}}]
[null,19664,{"$f":"Podatnicy!#REF!","v":{"$error":"#REF!"}},{"$f":"Podatnicy!#REF!","v":{"$error":"#REF!"}},{"$f":"Podatnicy!#REF!","v":{"$error":"#REF!"}}]
[null,19665,{"$f":"Podatnicy!#REF!","v":{"$error":"#REF!"}},{"$f":"Podatnicy!#REF!","v":{"$error":"#REF!"}},{"$f":"Podatnicy!#REF!","v":{"$error":"#REF!"}}]
[null,19666,{"$f":"Podatnicy!#REF!","v":{"$error":"#REF!"}},{"$f":"Podatnicy!#REF!","v":{"$error":"#REF!"}},{"$f":"Podatnicy!#REF!","v":{"$error":"#REF!"}}]
[null,19667,{"$f":"Podatnicy!#REF!","v":{"$error":"#REF!"}},{"$f":"Podatnicy!#REF!","v":{"$error":"#REF!"}},{"$f":"Podatnicy!#REF!","v":{"$error":"#REF!"}}]
[null,19668,{"$f":"Podatnicy!#REF!","v":{"$error":"#REF!"}},{"$f":"Podatnicy!#REF!","v":{"$error":"#REF!"}},{"$f":"Podatnicy!#REF!","v":{"$error":"#REF!"}}]
[null,19669,{"$f":"Podatnicy!#REF!","v":{"$error":"#REF!"}},{"$f":"Podatnicy!#REF!","v":{"$error":"#REF!"}},{"$f":"Podatnicy!#REF!","v":{"$error":"#REF!"}}]
[null,19670,{"$f":"Podatnicy!#REF!","v":{"$error":"#REF!"}},{"$f":"Podatnicy!#REF!","v":{"$error":"#REF!"}},{"$f":"Podatnicy!#REF!","v":{"$error":"#REF!"}}]
[null,19671,{"$f":"Podatnicy!#REF!","v":{"$error":"#REF!"}},{"$f":"Podatnicy!#REF!","v":{"$error":"#REF!"}},{"$f":"Podatnicy!#REF!","v":{"$error":"#REF!"}}]
[null,19672,{"$f":"Podatnicy!#REF!","v":{"$error":"#REF!"}},{"$f":"Podatnicy!#REF!","v":{"$error":"#REF!"}},{"$f":"Podatnicy!#REF!","v":{"$error":"#REF!"}}]
[null,19673,{"$f":"Podatnicy!#REF!","v":{"$error":"#REF!"}},{"$f":"Podatnicy!#REF!","v":{"$error":"#REF!"}},{"$f":"Podatnicy!#REF!","v":{"$error":"#REF!"}}]
[null,19674,{"$f":"Podatnicy!#REF!","v":{"$error":"#REF!"}},{"$f":"Podatnicy!#REF!","v":{"$error":"#REF!"}},{"$f":"Podatnicy!#REF!","v":{"$error":"#REF!"}}]
[null,19675,{"$f":"Podatnicy!#REF!","v":{"$error":"#REF!"}},{"$f":"Podatnicy!#REF!","v":{"$error":"#REF!"}},{"$f":"Podatnicy!#REF!","v":{"$error":"#REF!"}}]
[null,19676,{"$f":"Podatnicy!#REF!","v":{"$error":"#REF!"}},{"$f":"Podatnicy!#REF!","v":{"$error":"#REF!"}},{"$f":"Podatnicy!#REF!","v":{"$error":"#REF!"}}]
[null,19677,{"$f":"Podatnicy!#REF!","v":{"$error":"#REF!"}},{"$f":"Podatnicy!#REF!","v":{"$error":"#REF!"}},{"$f":"Podatnicy!#REF!","v":{"$error":"#REF!"}}]
[null,19678,{"$f":"Podatnicy!#REF!","v":{"$error":"#REF!"}},{"$f":"Podatnicy!#REF!","v":{"$error":"#REF!"}},{"$f":"Podatnicy!#REF!","v":{"$error":"#REF!"}}]
[null,19679,{"$f":"Podatnicy!#REF!","v":{"$error":"#REF!"}},{"$f":"Podatnicy!#REF!","v":{"$error":"#REF!"}},{"$f":"Podatnicy!#REF!","v":{"$error":"#REF!"}}]
[null,19680,{"$f":"Podatnicy!#REF!","v":{"$error":"#REF!"}},{"$f":"Podatnicy!#REF!","v":{"$error":"#REF!"}},{"$f":"Podatnicy!#REF!","v":{"$error":"#REF!"}}]
[null,19681,{"$f":"Podatnicy!#REF!","v":{"$error":"#REF!"}},{"$f":"Podatnicy!#REF!","v":{"$error":"#REF!"}},{"$f":"Podatnicy!#REF!","v":{"$error":"#REF!"}}]
[null,19682,{"$f":"Podatnicy!#REF!","v":{"$error":"#REF!"}},{"$f":"Podatnicy!#REF!","v":{"$error":"#REF!"}},{"$f":"Podatnicy!#REF!","v":{"$error":"#REF!"}}]
[null,19683,{"$f":"Podatnicy!#REF!","v":{"$error":"#REF!"}},{"$f":"Podatnicy!#REF!","v":{"$error":"#REF!"}},{"$f":"Podatnicy!#REF!","v":{"$error":"#REF!"}}]
[null,19684,{"$f":"Podatnicy!#REF!","v":{"$error":"#REF!"}},{"$f":"Podatnicy!#REF!","v":{"$error":"#REF!"}},{"$f":"Podatnicy!#REF!","v":{"$error":"#REF!"}}]
[null,19685,{"$f":"Podatnicy!#REF!","v":{"$error":"#REF!"}},{"$f":"Podatnicy!#REF!","v":{"$error":"#REF!"}},{"$f":"Podatnicy!#REF!","v":{"$error":"#REF!"}}]
[null,19686,{"$f":"Podatnicy!#REF!","v":{"$error":"#REF!"}},{"$f":"Podatnicy!#REF!","v":{"$error":"#REF!"}},{"$f":"Podatnicy!#REF!","v":{"$error":"#REF!"}}]
[null,19687,{"$f":"Podatnicy!#REF!","v":{"$error":"#REF!"}},{"$f":"Podatnicy!#REF!","v":{"$error":"#REF!"}},{"$f":"Podatnicy!#REF!","v":{"$error":"#REF!"}}]
[null,19688,{"$f":"Podatnicy!#REF!","v":{"$error":"#REF!"}},{"$f":"Podatnicy!#REF!","v":{"$error":"#REF!"}},{"$f":"Podatnicy!#REF!","v":{"$error":"#REF!"}}]
[null,19689,{"$f":"Podatnicy!#REF!","v":{"$error":"#REF!"}},{"$f":"Podatnicy!#REF!","v":{"$error":"#REF!"}},{"$f":"Podatnicy!#REF!","v":{"$error":"#REF!"}}]
[null,19690,{"$f":"Podatnicy!#REF!","v":{"$error":"#REF!"}},{"$f":"Podatnicy!#REF!","v":{"$error":"#REF!"}},{"$f":"Podatnicy!#REF!","v":{"$error":"#REF!"}}]
[null,19691,{"$f":"Podatnicy!#REF!","v":{"$error":"#REF!"}},{"$f":"Podatnicy!#REF!","v":{"$error":"#REF!"}},{"$f":"Podatnicy!#REF!","v":{"$error":"#REF!"}}]
[null,19692,{"$f":"Podatnicy!#REF!","v":{"$error":"#REF!"}},{"$f":"Podatnicy!#REF!","v":{"$error":"#REF!"}},{"$f":"Podatnicy!#REF!","v":{"$error":"#REF!"}}]
[null,19693,{"$f":"Podatnicy!#REF!","v":{"$error":"#REF!"}},{"$f":"Podatnicy!#REF!","v":{"$error":"#REF!"}},{"$f":"Podatnicy!#REF!","v":{"$error":"#REF!"}}]
[null,19694,{"$f":"Podatnicy!#REF!","v":{"$error":"#REF!"}},{"$f":"Podatnicy!#REF!","v":{"$error":"#REF!"}},{"$f":"Podatnicy!#REF!","v":{"$error":"#REF!"}}]
[null,19695,{"$f":"Podatnicy!#REF!","v":{"$error":"#REF!"}},{"$f":"Podatnicy!#REF!","v":{"$error":"#REF!"}},{"$f":"Podatnicy!#REF!","v":{"$error":"#REF!"}}]
[null,19696,{"$f":"Podatnicy!#REF!","v":{"$error":"#REF!"}},{"$f":"Podatnicy!#REF!","v":{"$error":"#REF!"}},{"$f":"Podatnicy!#REF!","v":{"$error":"#REF!"}}]
[null,19697,{"$f":"Podatnicy!#REF!","v":{"$error":"#REF!"}},{"$f":"Podatnicy!#REF!","v":{"$error":"#REF!"}},{"$f":"Podatnicy!#REF!","v":{"$error":"#REF!"}}]
[null,19698,{"$f":"Podatnicy!#REF!","v":{"$error":"#REF!"}},{"$f":"Podatnicy!#REF!","v":{"$error":"#REF!"}},{"$f":"Podatnicy!#REF!","v":{"$error":"#REF!"}}]
[null,19699,{"$f":"Podatnicy!#REF!","v":{"$error":"#REF!"}},{"$f":"Podatnicy!#REF!","v":{"$error":"#REF!"}},{"$f":"Podatnicy!#REF!","v":{"$error":"#REF!"}}]
[null,19700,{"$f":"Podatnicy!#REF!","v":{"$error":"#REF!"}},{"$f":"Podatnicy!#REF!","v":{"$error":"#REF!"}},{"$f":"Podatnicy!#REF!","v":{"$error":"#REF!"}}]
[null,19701,{"$f":"Podatnicy!#REF!","v":{"$error":"#REF!"}},{"$f":"Podatnicy!#REF!","v":{"$error":"#REF!"}},{"$f":"Podatnicy!#REF!","v":{"$error":"#REF!"}}]
[null,19702,{"$f":"Podatnicy!#REF!","v":{"$error":"#REF!"}},{"$f":"Podatnicy!#REF!","v":{"$error":"#REF!"}},{"$f":"Podatnicy!#REF!","v":{"$error":"#REF!"}}]
[null,19703,{"$f":"Podatnicy!#REF!","v":{"$error":"#REF!"}},{"$f":"Podatnicy!#REF!","v":{"$error":"#REF!"}},{"$f":"Podatnicy!#REF!","v":{"$error":"#REF!"}}]
[null,19704,{"$f":"Podatnicy!#REF!","v":{"$error":"#REF!"}},{"$f":"Podatnicy!#REF!","v":{"$error":"#REF!"}},{"$f":"Podatnicy!#REF!","v":{"$error":"#REF!"}}]
[null,19705,{"$f":"Podatnicy!#REF!","v":{"$error":"#REF!"}},{"$f":"Podatnicy!#REF!","v":{"$error":"#REF!"}},{"$f":"Podatnicy!#REF!","v":{"$error":"#REF!"}}]
[null,19706,{"$f":"Podatnicy!#REF!","v":{"$error":"#REF!"}},{"$f":"Podatnicy!#REF!","v":{"$error":"#REF!"}},{"$f":"Podatnicy!#REF!","v":{"$error":"#REF!"}}]
[null,19707,{"$f":"Podatnicy!#REF!","v":{"$error":"#REF!"}},{"$f":"Podatnicy!#REF!","v":{"$error":"#REF!"}},{"$f":"Podatnicy!#REF!","v":{"$error":"#REF!"}}]
[null,19708,{"$f":"Podatnicy!#REF!","v":{"$error":"#REF!"}},{"$f":"Podatnicy!#REF!","v":{"$error":"#REF!"}},{"$f":"Podatnicy!#REF!","v":{"$error":"#REF!"}}]
[null,19709,{"$f":"Podatnicy!#REF!","v":{"$error":"#REF!"}},{"$f":"Podatnicy!#REF!","v":{"$error":"#REF!"}},{"$f":"Podatnicy!#REF!","v":{"$error":"#REF!"}}]
[null,19710,{"$f":"Podatnicy!#REF!","v":{"$error":"#REF!"}},{"$f":"Podatnicy!#REF!","v":{"$error":"#REF!"}},{"$f":"Podatnicy!#REF!","v":{"$error":"#REF!"}}]
[null,19711,{"$f":"Podatnicy!#REF!","v":{"$error":"#REF!"}},{"$f":"Podatnicy!#REF!","v":{"$error":"#REF!"}},{"$f":"Podatnicy!#REF!","v":{"$error":"#REF!"}}]
[null,19712,{"$f":"Podatnicy!#REF!","v":{"$error":"#REF!"}},{"$f":"Podatnicy!#REF!","v":{"$error":"#REF!"}},{"$f":"Podatnicy!#REF!","v":{"$error":"#REF!"}}]
[null,19713,{"$f":"Podatnicy!#REF!","v":{"$error":"#REF!"}},{"$f":"Podatnicy!#REF!","v":{"$error":"#REF!"}},{"$f":"Podatnicy!#REF!","v":{"$error":"#REF!"}}]
[null,19714,{"$f":"Podatnicy!#REF!","v":{"$error":"#REF!"}},{"$f":"Podatnicy!#REF!","v":{"$error":"#REF!"}},{"$f":"Podatnicy!#REF!","v":{"$error":"#REF!"}}]
[null,19715,{"$f":"Podatnicy!#REF!","v":{"$error":"#REF!"}},{"$f":"Podatnicy!#REF!","v":{"$error":"#REF!"}},{"$f":"Podatnicy!#REF!","v":{"$error":"#REF!"}}]
[null,19716,{"$f":"Podatnicy!#REF!","v":{"$error":"#REF!"}},{"$f":"Podatnicy!#REF!","v":{"$error":"#REF!"}},{"$f":"Podatnicy!#REF!","v":{"$error":"#REF!"}}]
[null,19717,{"$f":"Podatnicy!#REF!","v":{"$error":"#REF!"}},{"$f":"Podatnicy!#REF!","v":{"$error":"#REF!"}},{"$f":"Podatnicy!#REF!","v":{"$error":"#REF!"}}]
[null,19718,{"$f":"Podatnicy!#REF!","v":{"$error":"#REF!"}},{"$f":"Podatnicy!#REF!","v":{"$error":"#REF!"}},{"$f":"Podatnicy!#REF!","v":{"$error":"#REF!"}}]
[null,19719,{"$f":"Podatnicy!#REF!","v":{"$error":"#REF!"}},{"$f":"Podatnicy!#REF!","v":{"$error":"#REF!"}},{"$f":"Podatnicy!#REF!","v":{"$error":"#REF!"}}]
[null,19720,{"$f":"Podatnicy!#REF!","v":{"$error":"#REF!"}},{"$f":"Podatnicy!#REF!","v":{"$error":"#REF!"}},{"$f":"Podatnicy!#REF!","v":{"$error":"#REF!"}}]
[null,19721,{"$f":"Podatnicy!#REF!","v":{"$error":"#REF!"}},{"$f":"Podatnicy!#REF!","v":{"$error":"#REF!"}},{"$f":"Podatnicy!#REF!","v":{"$error":"#REF!"}}]
[null,19722,{"$f":"Podatnicy!#REF!","v":{"$error":"#REF!"}},{"$f":"Podatnicy!#REF!","v":{"$error":"#REF!"}},{"$f":"Podatnicy!#REF!","v":{"$error":"#REF!"}}]
[null,19723,{"$f":"Podatnicy!#REF!","v":{"$error":"#REF!"}},{"$f":"Podatnicy!#REF!","v":{"$error":"#REF!"}},{"$f":"Podatnicy!#REF!","v":{"$error":"#REF!"}}]
[null,19724,{"$f":"Podatnicy!#REF!","v":{"$error":"#REF!"}},{"$f":"Podatnicy!#REF!","v":{"$error":"#REF!"}},{"$f":"Podatnicy!#REF!","v":{"$error":"#REF!"}}]
[null,19725,{"$f":"Podatnicy!#REF!","v":{"$error":"#REF!"}},{"$f":"Podatnicy!#REF!","v":{"$error":"#REF!"}},{"$f":"Podatnicy!#REF!","v":{"$error":"#REF!"}}]
[null,19726,{"$f":"Podatnicy!#REF!","v":{"$error":"#REF!"}},{"$f":"Podatnicy!#REF!","v":{"$error":"#REF!"}},{"$f":"Podatnicy!#REF!","v":{"$error":"#REF!"}}]
[null,19727,{"$f":"Podatnicy!#REF!","v":{"$error":"#REF!"}},{"$f":"Podatnicy!#REF!","v":{"$error":"#REF!"}},{"$f":"Podatnicy!#REF!","v":{"$error":"#REF!"}}]
[null,19728,{"$f":"Podatnicy!#REF!","v":{"$error":"#REF!"}},{"$f":"Podatnicy!#REF!","v":{"$error":"#REF!"}},{"$f":"Podatnicy!#REF!","v":{"$error":"#REF!"}}]
[null,19729,{"$f":"Podatnicy!#REF!","v":{"$error":"#REF!"}},{"$f":"Podatnicy!#REF!","v":{"$error":"#REF!"}},{"$f":"Podatnicy!#REF!","v":{"$error":"#REF!"}}]
[null,19730,{"$f":"Podatnicy!#REF!","v":{"$error":"#REF!"}},{"$f":"Podatnicy!#REF!","v":{"$error":"#REF!"}},{"$f":"Podatnicy!#REF!","v":{"$error":"#REF!"}}]
[null,19731,{"$f":"Podatnicy!#REF!","v":{"$error":"#REF!"}},{"$f":"Podatnicy!#REF!","v":{"$error":"#REF!"}},{"$f":"Podatnicy!#REF!","v":{"$error":"#REF!"}}]
[null,19732,{"$f":"Podatnicy!#REF!","v":{"$error":"#REF!"}},{"$f":"Podatnicy!#REF!","v":{"$error":"#REF!"}},{"$f":"Podatnicy!#REF!","v":{"$error":"#REF!"}}]
[null,19733,{"$f":"Podatnicy!#REF!","v":{"$error":"#REF!"}},{"$f":"Podatnicy!#REF!","v":{"$error":"#REF!"}},{"$f":"Podatnicy!#REF!","v":{"$error":"#REF!"}}]
[null,19734,{"$f":"Podatnicy!#REF!","v":{"$error":"#REF!"}},{"$f":"Podatnicy!#REF!","v":{"$error":"#REF!"}},{"$f":"Podatnicy!#REF!","v":{"$error":"#REF!"}}]
[null,19735,{"$f":"Podatnicy!#REF!","v":{"$error":"#REF!"}},{"$f":"Podatnicy!#REF!","v":{"$error":"#REF!"}},{"$f":"Podatnicy!#REF!","v":{"$error":"#REF!"}}]
[null,19736,{"$f":"Podatnicy!#REF!","v":{"$error":"#REF!"}},{"$f":"Podatnicy!#REF!","v":{"$error":"#REF!"}},{"$f":"Podatnicy!#REF!","v":{"$error":"#REF!"}}]
[null,19737,{"$f":"Podatnicy!#REF!","v":{"$error":"#REF!"}},{"$f":"Podatnicy!#REF!","v":{"$error":"#REF!"}},{"$f":"Podatnicy!#REF!","v":{"$error":"#REF!"}}]
[null,19738,{"$f":"Podatnicy!#REF!","v":{"$error":"#REF!"}},{"$f":"Podatnicy!#REF!","v":{"$error":"#REF!"}},{"$f":"Podatnicy!#REF!","v":{"$error":"#REF!"}}]
[null,19739,{"$f":"Podatnicy!#REF!","v":{"$error":"#REF!"}},{"$f":"Podatnicy!#REF!","v":{"$error":"#REF!"}},{"$f":"Podatnicy!#REF!","v":{"$error":"#REF!"}}]
[null,19740,{"$f":"Podatnicy!#REF!","v":{"$error":"#REF!"}},{"$f":"Podatnicy!#REF!","v":{"$error":"#REF!"}},{"$f":"Podatnicy!#REF!","v":{"$error":"#REF!"}}]
[null,19741,{"$f":"Podatnicy!#REF!","v":{"$error":"#REF!"}},{"$f":"Podatnicy!#REF!","v":{"$error":"#REF!"}},{"$f":"Podatnicy!#REF!","v":{"$error":"#REF!"}}]
[null,19742,{"$f":"Podatnicy!#REF!","v":{"$error":"#REF!"}},{"$f":"Podatnicy!#REF!","v":{"$error":"#REF!"}},{"$f":"Podatnicy!#REF!","v":{"$error":"#REF!"}}]
[null,19743,{"$f":"Podatnicy!#REF!","v":{"$error":"#REF!"}},{"$f":"Podatnicy!#REF!","v":{"$error":"#REF!"}},{"$f":"Podatnicy!#REF!","v":{"$error":"#REF!"}}]
[null,19744,{"$f":"Podatnicy!#REF!","v":{"$error":"#REF!"}},{"$f":"Podatnicy!#REF!","v":{"$error":"#REF!"}},{"$f":"Podatnicy!#REF!","v":{"$error":"#REF!"}}]
[null,19745,{"$f":"Podatnicy!#REF!","v":{"$error":"#REF!"}},{"$f":"Podatnicy!#REF!","v":{"$error":"#REF!"}},{"$f":"Podatnicy!#REF!","v":{"$error":"#REF!"}}]
[null,19746,{"$f":"Podatnicy!#REF!","v":{"$error":"#REF!"}},{"$f":"Podatnicy!#REF!","v":{"$error":"#REF!"}},{"$f":"Podatnicy!#REF!","v":{"$error":"#REF!"}}]
[null,19747,{"$f":"Podatnicy!#REF!","v":{"$error":"#REF!"}},{"$f":"Podatnicy!#REF!","v":{"$error":"#REF!"}},{"$f":"Podatnicy!#REF!","v":{"$error":"#REF!"}}]
[null,19748,{"$f":"Podatnicy!#REF!","v":{"$error":"#REF!"}},{"$f":"Podatnicy!#REF!","v":{"$error":"#REF!"}},{"$f":"Podatnicy!#REF!","v":{"$error":"#REF!"}}]
[null,19749,{"$f":"Podatnicy!#REF!","v":{"$error":"#REF!"}},{"$f":"Podatnicy!#REF!","v":{"$error":"#REF!"}},{"$f":"Podatnicy!#REF!","v":{"$error":"#REF!"}}]
[null,19750,{"$f":"Podatnicy!#REF!","v":{"$error":"#REF!"}},{"$f":"Podatnicy!#REF!","v":{"$error":"#REF!"}},{"$f":"Podatnicy!#REF!","v":{"$error":"#REF!"}}]
[null,19751,{"$f":"Podatnicy!#REF!","v":{"$error":"#REF!"}},{"$f":"Podatnicy!#REF!","v":{"$error":"#REF!"}},{"$f":"Podatnicy!#REF!","v":{"$error":"#REF!"}}]
[null,19752,{"$f":"Podatnicy!#REF!","v":{"$error":"#REF!"}},{"$f":"Podatnicy!#REF!","v":{"$error":"#REF!"}},{"$f":"Podatnicy!#REF!","v":{"$error":"#REF!"}}]
[null,19753,{"$f":"Podatnicy!#REF!","v":{"$error":"#REF!"}},{"$f":"Podatnicy!#REF!","v":{"$error":"#REF!"}},{"$f":"Podatnicy!#REF!","v":{"$error":"#REF!"}}]
[null,19754,{"$f":"Podatnicy!#REF!","v":{"$error":"#REF!"}},{"$f":"Podatnicy!#REF!","v":{"$error":"#REF!"}},{"$f":"Podatnicy!#REF!","v":{"$error":"#REF!"}}]
[null,19755,{"$f":"Podatnicy!#REF!","v":{"$error":"#REF!"}},{"$f":"Podatnicy!#REF!","v":{"$error":"#REF!"}},{"$f":"Podatnicy!#REF!","v":{"$error":"#REF!"}}]
[null,19756,{"$f":"Podatnicy!#REF!","v":{"$error":"#REF!"}},{"$f":"Podatnicy!#REF!","v":{"$error":"#REF!"}},{"$f":"Podatnicy!#REF!","v":{"$error":"#REF!"}}]
[null,19757,{"$f":"Podatnicy!#REF!","v":{"$error":"#REF!"}},{"$f":"Podatnicy!#REF!","v":{"$error":"#REF!"}},{"$f":"Podatnicy!#REF!","v":{"$error":"#REF!"}}]
[null,19758,{"$f":"Podatnicy!#REF!","v":{"$error":"#REF!"}},{"$f":"Podatnicy!#REF!","v":{"$error":"#REF!"}},{"$f":"Podatnicy!#REF!","v":{"$error":"#REF!"}}]
[null,19759,{"$f":"Podatnicy!#REF!","v":{"$error":"#REF!"}},{"$f":"Podatnicy!#REF!","v":{"$error":"#REF!"}},{"$f":"Podatnicy!#REF!","v":{"$error":"#REF!"}}]
[null,19760,{"$f":"Podatnicy!#REF!","v":{"$error":"#REF!"}},{"$f":"Podatnicy!#REF!","v":{"$error":"#REF!"}},{"$f":"Podatnicy!#REF!","v":{"$error":"#REF!"}}]
[null,19761,{"$f":"Podatnicy!#REF!","v":{"$error":"#REF!"}},{"$f":"Podatnicy!#REF!","v":{"$error":"#REF!"}},{"$f":"Podatnicy!#REF!","v":{"$error":"#REF!"}}]
[null,19762,{"$f":"Podatnicy!#REF!","v":{"$error":"#REF!"}},{"$f":"Podatnicy!#REF!","v":{"$error":"#REF!"}},{"$f":"Podatnicy!#REF!","v":{"$error":"#REF!"}}]
[null,19763,{"$f":"Podatnicy!#REF!","v":{"$error":"#REF!"}},{"$f":"Podatnicy!#REF!","v":{"$error":"#REF!"}},{"$f":"Podatnicy!#REF!","v":{"$error":"#REF!"}}]
[null,19764,{"$f":"Podatnicy!#REF!","v":{"$error":"#REF!"}},{"$f":"Podatnicy!#REF!","v":{"$error":"#REF!"}},{"$f":"Podatnicy!#REF!","v":{"$error":"#REF!"}}]
[null,19765,{"$f":"Podatnicy!#REF!","v":{"$error":"#REF!"}},{"$f":"Podatnicy!#REF!","v":{"$error":"#REF!"}},{"$f":"Podatnicy!#REF!","v":{"$error":"#REF!"}}]
[null,19766,{"$f":"Podatnicy!#REF!","v":{"$error":"#REF!"}},{"$f":"Podatnicy!#REF!","v":{"$error":"#REF!"}},{"$f":"Podatnicy!#REF!","v":{"$error":"#REF!"}}]
[null,19767,{"$f":"Podatnicy!#REF!","v":{"$error":"#REF!"}},{"$f":"Podatnicy!#REF!","v":{"$error":"#REF!"}},{"$f":"Podatnicy!#REF!","v":{"$error":"#REF!"}}]
[null,19768,{"$f":"Podatnicy!#REF!","v":{"$error":"#REF!"}},{"$f":"Podatnicy!#REF!","v":{"$error":"#REF!"}},{"$f":"Podatnicy!#REF!","v":{"$error":"#REF!"}}]
[null,19769,{"$f":"Podatnicy!#REF!","v":{"$error":"#REF!"}},{"$f":"Podatnicy!#REF!","v":{"$error":"#REF!"}},{"$f":"Podatnicy!#REF!","v":{"$error":"#REF!"}}]
[null,19770,{"$f":"Podatnicy!#REF!","v":{"$error":"#REF!"}},{"$f":"Podatnicy!#REF!","v":{"$error":"#REF!"}},{"$f":"Podatnicy!#REF!","v":{"$error":"#REF!"}}]
[null,19771,{"$f":"Podatnicy!#REF!","v":{"$error":"#REF!"}},{"$f":"Podatnicy!#REF!","v":{"$error":"#REF!"}},{"$f":"Podatnicy!#REF!","v":{"$error":"#REF!"}}]
[null,19772,{"$f":"Podatnicy!#REF!","v":{"$error":"#REF!"}},{"$f":"Podatnicy!#REF!","v":{"$error":"#REF!"}},{"$f":"Podatnicy!#REF!","v":{"$error":"#REF!"}}]
[null,19773,{"$f":"Podatnicy!#REF!","v":{"$error":"#REF!"}},{"$f":"Podatnicy!#REF!","v":{"$error":"#REF!"}},{"$f":"Podatnicy!#REF!","v":{"$error":"#REF!"}}]
[null,19774,{"$f":"Podatnicy!#REF!","v":{"$error":"#REF!"}},{"$f":"Podatnicy!#REF!","v":{"$error":"#REF!"}},{"$f":"Podatnicy!#REF!","v":{"$error":"#REF!"}}]
[null,19775,{"$f":"Podatnicy!#REF!","v":{"$error":"#REF!"}},{"$f":"Podatnicy!#REF!","v":{"$error":"#REF!"}},{"$f":"Podatnicy!#REF!","v":{"$error":"#REF!"}}]
[null,19776,{"$f":"Podatnicy!#REF!","v":{"$error":"#REF!"}},{"$f":"Podatnicy!#REF!","v":{"$error":"#REF!"}},{"$f":"Podatnicy!#REF!","v":{"$error":"#REF!"}}]
[null,19777,{"$f":"Podatnicy!#REF!","v":{"$error":"#REF!"}},{"$f":"Podatnicy!#REF!","v":{"$error":"#REF!"}},{"$f":"Podatnicy!#REF!","v":{"$error":"#REF!"}}]
[null,19778,{"$f":"Podatnicy!#REF!","v":{"$error":"#REF!"}},{"$f":"Podatnicy!#REF!","v":{"$error":"#REF!"}},{"$f":"Podatnicy!#REF!","v":{"$error":"#REF!"}}]
[null,19779,{"$f":"Podatnicy!#REF!","v":{"$error":"#REF!"}},{"$f":"Podatnicy!#REF!","v":{"$error":"#REF!"}},{"$f":"Podatnicy!#REF!","v":{"$error":"#REF!"}}]
[null,19780,{"$f":"Podatnicy!#REF!","v":{"$error":"#REF!"}},{"$f":"Podatnicy!#REF!","v":{"$error":"#REF!"}},{"$f":"Podatnicy!#REF!","v":{"$error":"#REF!"}}]
[null,19781,{"$f":"Podatnicy!#REF!","v":{"$error":"#REF!"}},{"$f":"Podatnicy!#REF!","v":{"$error":"#REF!"}},{"$f":"Podatnicy!#REF!","v":{"$error":"#REF!"}}]
[null,19782,{"$f":"Podatnicy!#REF!","v":{"$error":"#REF!"}},{"$f":"Podatnicy!#REF!","v":{"$error":"#REF!"}},{"$f":"Podatnicy!#REF!","v":{"$error":"#REF!"}}]
[null,19783,{"$f":"Podatnicy!#REF!","v":{"$error":"#REF!"}},{"$f":"Podatnicy!#REF!","v":{"$error":"#REF!"}},{"$f":"Podatnicy!#REF!","v":{"$error":"#REF!"}}]
[null,19784,{"$f":"Podatnicy!#REF!","v":{"$error":"#REF!"}},{"$f":"Podatnicy!#REF!","v":{"$error":"#REF!"}},{"$f":"Podatnicy!#REF!","v":{"$error":"#REF!"}}]
[null,19785,{"$f":"Podatnicy!#REF!","v":{"$error":"#REF!"}},{"$f":"Podatnicy!#REF!","v":{"$error":"#REF!"}},{"$f":"Podatnicy!#REF!","v":{"$error":"#REF!"}}]
[null,19786,{"$f":"Podatnicy!#REF!","v":{"$error":"#REF!"}},{"$f":"Podatnicy!#REF!","v":{"$error":"#REF!"}},{"$f":"Podatnicy!#REF!","v":{"$error":"#REF!"}}]
[null,19787,{"$f":"Podatnicy!#REF!","v":{"$error":"#REF!"}},{"$f":"Podatnicy!#REF!","v":{"$error":"#REF!"}},{"$f":"Podatnicy!#REF!","v":{"$error":"#REF!"}}]
[null,19788,{"$f":"Podatnicy!#REF!","v":{"$error":"#REF!"}},{"$f":"Podatnicy!#REF!","v":{"$error":"#REF!"}},{"$f":"Podatnicy!#REF!","v":{"$error":"#REF!"}}]
[null,19789,{"$f":"Podatnicy!#REF!","v":{"$error":"#REF!"}},{"$f":"Podatnicy!#REF!","v":{"$error":"#REF!"}},{"$f":"Podatnicy!#REF!","v":{"$error":"#REF!"}}]
[null,19790,{"$f":"Podatnicy!#REF!","v":{"$error":"#REF!"}},{"$f":"Podatnicy!#REF!","v":{"$error":"#REF!"}},{"$f":"Podatnicy!#REF!","v":{"$error":"#REF!"}}]
[null,19791,{"$f":"Podatnicy!#REF!","v":{"$error":"#REF!"}},{"$f":"Podatnicy!#REF!","v":{"$error":"#REF!"}},{"$f":"Podatnicy!#REF!","v":{"$error":"#REF!"}}]
[null,19792,{"$f":"Podatnicy!#REF!","v":{"$error":"#REF!"}},{"$f":"Podatnicy!#REF!","v":{"$error":"#REF!"}},{"$f":"Podatnicy!#REF!","v":{"$error":"#REF!"}}]
[null,19793,{"$f":"Podatnicy!#REF!","v":{"$error":"#REF!"}},{"$f":"Podatnicy!#REF!","v":{"$error":"#REF!"}},{"$f":"Podatnicy!#REF!","v":{"$error":"#REF!"}}]
[null,19794,{"$f":"Podatnicy!#REF!","v":{"$error":"#REF!"}},{"$f":"Podatnicy!#REF!","v":{"$error":"#REF!"}},{"$f":"Podatnicy!#REF!","v":{"$error":"#REF!"}}]
[null,19795,{"$f":"Podatnicy!#REF!","v":{"$error":"#REF!"}},{"$f":"Podatnicy!#REF!","v":{"$error":"#REF!"}},{"$f":"Podatnicy!#REF!","v":{"$error":"#REF!"}}]
[null,19796,{"$f":"Podatnicy!#REF!","v":{"$error":"#REF!"}},{"$f":"Podatnicy!#REF!","v":{"$error":"#REF!"}},{"$f":"Podatnicy!#REF!","v":{"$error":"#REF!"}}]
[null,19797,{"$f":"Podatnicy!#REF!","v":{"$error":"#REF!"}},{"$f":"Podatnicy!#REF!","v":{"$error":"#REF!"}},{"$f":"Podatnicy!#REF!","v":{"$error":"#REF!"}}]
[null,19798,{"$f":"Podatnicy!#REF!","v":{"$error":"#REF!"}},{"$f":"Podatnicy!#REF!","v":{"$error":"#REF!"}},{"$f":"Podatnicy!#REF!","v":{"$error":"#REF!"}}]
[null,19799,{"$f":"Podatnicy!#REF!","v":{"$error":"#REF!"}},{"$f":"Podatnicy!#REF!","v":{"$error":"#REF!"}},{"$f":"Podatnicy!#REF!","v":{"$error":"#REF!"}}]
[null,19800,{"$f":"Podatnicy!#REF!","v":{"$error":"#REF!"}},{"$f":"Podatnicy!#REF!","v":{"$error":"#REF!"}},{"$f":"Podatnicy!#REF!","v":{"$error":"#REF!"}}]
[null,19801,{"$f":"Podatnicy!#REF!","v":{"$error":"#REF!"}},{"$f":"Podatnicy!#REF!","v":{"$error":"#REF!"}},{"$f":"Podatnicy!#REF!","v":{"$error":"#REF!"}}]
[null,19802,{"$f":"Podatnicy!#REF!","v":{"$error":"#REF!"}},{"$f":"Podatnicy!#REF!","v":{"$error":"#REF!"}},{"$f":"Podatnicy!#REF!","v":{"$error":"#REF!"}}]
[null,19803,{"$f":"Podatnicy!#REF!","v":{"$error":"#REF!"}},{"$f":"Podatnicy!#REF!","v":{"$error":"#REF!"}},{"$f":"Podatnicy!#REF!","v":{"$error":"#REF!"}}]
[null,19804,{"$f":"Podatnicy!#REF!","v":{"$error":"#REF!"}},{"$f":"Podatnicy!#REF!","v":{"$error":"#REF!"}},{"$f":"Podatnicy!#REF!","v":{"$error":"#REF!"}}]
[null,19805,{"$f":"Podatnicy!#REF!","v":{"$error":"#REF!"}},{"$f":"Podatnicy!#REF!","v":{"$error":"#REF!"}},{"$f":"Podatnicy!#REF!","v":{"$error":"#REF!"}}]
[null,19806,{"$f":"Podatnicy!#REF!","v":{"$error":"#REF!"}},{"$f":"Podatnicy!#REF!","v":{"$error":"#REF!"}},{"$f":"Podatnicy!#REF!","v":{"$error":"#REF!"}}]
[null,19807,{"$f":"Podatnicy!#REF!","v":{"$error":"#REF!"}},{"$f":"Podatnicy!#REF!","v":{"$error":"#REF!"}},{"$f":"Podatnicy!#REF!","v":{"$error":"#REF!"}}]
[null,19808,{"$f":"Podatnicy!#REF!","v":{"$error":"#REF!"}},{"$f":"Podatnicy!#REF!","v":{"$error":"#REF!"}},{"$f":"Podatnicy!#REF!","v":{"$error":"#REF!"}}]
[null,19809,{"$f":"Podatnicy!#REF!","v":{"$error":"#REF!"}},{"$f":"Podatnicy!#REF!","v":{"$error":"#REF!"}},{"$f":"Podatnicy!#REF!","v":{"$error":"#REF!"}}]
[null,19810,{"$f":"Podatnicy!#REF!","v":{"$error":"#REF!"}},{"$f":"Podatnicy!#REF!","v":{"$error":"#REF!"}},{"$f":"Podatnicy!#REF!","v":{"$error":"#REF!"}}]
[null,19811,{"$f":"Podatnicy!#REF!","v":{"$error":"#REF!"}},{"$f":"Podatnicy!#REF!","v":{"$error":"#REF!"}},{"$f":"Podatnicy!#REF!","v":{"$error":"#REF!"}}]
[null,19812,{"$f":"Podatnicy!#REF!","v":{"$error":"#REF!"}},{"$f":"Podatnicy!#REF!","v":{"$error":"#REF!"}},{"$f":"Podatnicy!#REF!","v":{"$error":"#REF!"}}]
[null,19813,{"$f":"Podatnicy!#REF!","v":{"$error":"#REF!"}},{"$f":"Podatnicy!#REF!","v":{"$error":"#REF!"}},{"$f":"Podatnicy!#REF!","v":{"$error":"#REF!"}}]
[null,19814,{"$f":"Podatnicy!#REF!","v":{"$error":"#REF!"}},{"$f":"Podatnicy!#REF!","v":{"$error":"#REF!"}},{"$f":"Podatnicy!#REF!","v":{"$error":"#REF!"}}]
[null,19815,{"$f":"Podatnicy!#REF!","v":{"$error":"#REF!"}},{"$f":"Podatnicy!#REF!","v":{"$error":"#REF!"}},{"$f":"Podatnicy!#REF!","v":{"$error":"#REF!"}}]
[null,19816,{"$f":"Podatnicy!#REF!","v":{"$error":"#REF!"}},{"$f":"Podatnicy!#REF!","v":{"$error":"#REF!"}},{"$f":"Podatnicy!#REF!","v":{"$error":"#REF!"}}]
[null,19817,{"$f":"Podatnicy!#REF!","v":{"$error":"#REF!"}},{"$f":"Podatnicy!#REF!","v":{"$error":"#REF!"}},{"$f":"Podatnicy!#REF!","v":{"$error":"#REF!"}}]
[null,19818,{"$f":"Podatnicy!#REF!","v":{"$error":"#REF!"}},{"$f":"Podatnicy!#REF!","v":{"$error":"#REF!"}},{"$f":"Podatnicy!#REF!","v":{"$error":"#REF!"}}]
[null,19819,{"$f":"Podatnicy!#REF!","v":{"$error":"#REF!"}},{"$f":"Podatnicy!#REF!","v":{"$error":"#REF!"}},{"$f":"Podatnicy!#REF!","v":{"$error":"#REF!"}}]
[null,19820,{"$f":"Podatnicy!#REF!","v":{"$error":"#REF!"}},{"$f":"Podatnicy!#REF!","v":{"$error":"#REF!"}},{"$f":"Podatnicy!#REF!","v":{"$error":"#REF!"}}]
[null,19821,{"$f":"Podatnicy!#REF!","v":{"$error":"#REF!"}},{"$f":"Podatnicy!#REF!","v":{"$error":"#REF!"}},{"$f":"Podatnicy!#REF!","v":{"$error":"#REF!"}}]
[null,19822,{"$f":"Podatnicy!#REF!","v":{"$error":"#REF!"}},{"$f":"Podatnicy!#REF!","v":{"$error":"#REF!"}},{"$f":"Podatnicy!#REF!","v":{"$error":"#REF!"}}]
[null,19823,{"$f":"Podatnicy!#REF!","v":{"$error":"#REF!"}},{"$f":"Podatnicy!#REF!","v":{"$error":"#REF!"}},{"$f":"Podatnicy!#REF!","v":{"$error":"#REF!"}}]
[null,19824,{"$f":"Podatnicy!#REF!","v":{"$error":"#REF!"}},{"$f":"Podatnicy!#REF!","v":{"$error":"#REF!"}},{"$f":"Podatnicy!#REF!","v":{"$error":"#REF!"}}]
[null,19825,{"$f":"Podatnicy!#REF!","v":{"$error":"#REF!"}},{"$f":"Podatnicy!#REF!","v":{"$error":"#REF!"}},{"$f":"Podatnicy!#REF!","v":{"$error":"#REF!"}}]
[null,19826,{"$f":"Podatnicy!#REF!","v":{"$error":"#REF!"}},{"$f":"Podatnicy!#REF!","v":{"$error":"#REF!"}},{"$f":"Podatnicy!#REF!","v":{"$error":"#REF!"}}]
[null,19827,{"$f":"Podatnicy!#REF!","v":{"$error":"#REF!"}},{"$f":"Podatnicy!#REF!","v":{"$error":"#REF!"}},{"$f":"Podatnicy!#REF!","v":{"$error":"#REF!"}}]
[null,19828,{"$f":"Podatnicy!#REF!","v":{"$error":"#REF!"}},{"$f":"Podatnicy!#REF!","v":{"$error":"#REF!"}},{"$f":"Podatnicy!#REF!","v":{"$error":"#REF!"}}]
[null,19829,{"$f":"Podatnicy!#REF!","v":{"$error":"#REF!"}},{"$f":"Podatnicy!#REF!","v":{"$error":"#REF!"}},{"$f":"Podatnicy!#REF!","v":{"$error":"#REF!"}}]
[null,19830,{"$f":"Podatnicy!#REF!","v":{"$error":"#REF!"}},{"$f":"Podatnicy!#REF!","v":{"$error":"#REF!"}},{"$f":"Podatnicy!#REF!","v":{"$error":"#REF!"}}]
[null,19831,{"$f":"Podatnicy!#REF!","v":{"$error":"#REF!"}},{"$f":"Podatnicy!#REF!","v":{"$error":"#REF!"}},{"$f":"Podatnicy!#REF!","v":{"$error":"#REF!"}}]
[null,19832,{"$f":"Podatnicy!#REF!","v":{"$error":"#REF!"}},{"$f":"Podatnicy!#REF!","v":{"$error":"#REF!"}},{"$f":"Podatnicy!#REF!","v":{"$error":"#REF!"}}]
[null,19833,{"$f":"Podatnicy!#REF!","v":{"$error":"#REF!"}},{"$f":"Podatnicy!#REF!","v":{"$error":"#REF!"}},{"$f":"Podatnicy!#REF!","v":{"$error":"#REF!"}}]
[null,19834,{"$f":"Podatnicy!#REF!","v":{"$error":"#REF!"}},{"$f":"Podatnicy!#REF!","v":{"$error":"#REF!"}},{"$f":"Podatnicy!#REF!","v":{"$error":"#REF!"}}]
[null,19835,{"$f":"Podatnicy!#REF!","v":{"$error":"#REF!"}},{"$f":"Podatnicy!#REF!","v":{"$error":"#REF!"}},{"$f":"Podatnicy!#REF!","v":{"$error":"#REF!"}}]
[null,19836,{"$f":"Podatnicy!#REF!","v":{"$error":"#REF!"}},{"$f":"Podatnicy!#REF!","v":{"$error":"#REF!"}},{"$f":"Podatnicy!#REF!","v":{"$error":"#REF!"}}]
[null,19837,{"$f":"Podatnicy!#REF!","v":{"$error":"#REF!"}},{"$f":"Podatnicy!#REF!","v":{"$error":"#REF!"}},{"$f":"Podatnicy!#REF!","v":{"$error":"#REF!"}}]
[null,19838,{"$f":"Podatnicy!#REF!","v":{"$error":"#REF!"}},{"$f":"Podatnicy!#REF!","v":{"$error":"#REF!"}},{"$f":"Podatnicy!#REF!","v":{"$error":"#REF!"}}]
[null,19839,{"$f":"Podatnicy!#REF!","v":{"$error":"#REF!"}},{"$f":"Podatnicy!#REF!","v":{"$error":"#REF!"}},{"$f":"Podatnicy!#REF!","v":{"$error":"#REF!"}}]
[null,19840,{"$f":"Podatnicy!#REF!","v":{"$error":"#REF!"}},{"$f":"Podatnicy!#REF!","v":{"$error":"#REF!"}},{"$f":"Podatnicy!#REF!","v":{"$error":"#REF!"}}]
[null,19841,{"$f":"Podatnicy!#REF!","v":{"$error":"#REF!"}},{"$f":"Podatnicy!#REF!","v":{"$error":"#REF!"}},{"$f":"Podatnicy!#REF!","v":{"$error":"#REF!"}}]
[null,19842,{"$f":"Podatnicy!#REF!","v":{"$error":"#REF!"}},{"$f":"Podatnicy!#REF!","v":{"$error":"#REF!"}},{"$f":"Podatnicy!#REF!","v":{"$error":"#REF!"}}]
[null,19843,{"$f":"Podatnicy!#REF!","v":{"$error":"#REF!"}},{"$f":"Podatnicy!#REF!","v":{"$error":"#REF!"}},{"$f":"Podatnicy!#REF!","v":{"$error":"#REF!"}}]
[null,19844,{"$f":"Podatnicy!#REF!","v":{"$error":"#REF!"}},{"$f":"Podatnicy!#REF!","v":{"$error":"#REF!"}},{"$f":"Podatnicy!#REF!","v":{"$error":"#REF!"}}]
[null,19845,{"$f":"Podatnicy!#REF!","v":{"$error":"#REF!"}},{"$f":"Podatnicy!#REF!","v":{"$error":"#REF!"}},{"$f":"Podatnicy!#REF!","v":{"$error":"#REF!"}}]
[null,19846,{"$f":"Podatnicy!#REF!","v":{"$error":"#REF!"}},{"$f":"Podatnicy!#REF!","v":{"$error":"#REF!"}},{"$f":"Podatnicy!#REF!","v":{"$error":"#REF!"}}]
[null,19847,{"$f":"Podatnicy!#REF!","v":{"$error":"#REF!"}},{"$f":"Podatnicy!#REF!","v":{"$error":"#REF!"}},{"$f":"Podatnicy!#REF!","v":{"$error":"#REF!"}}]
[null,19848,{"$f":"Podatnicy!#REF!","v":{"$error":"#REF!"}},{"$f":"Podatnicy!#REF!","v":{"$error":"#REF!"}},{"$f":"Podatnicy!#REF!","v":{"$error":"#REF!"}}]
[null,19849,{"$f":"Podatnicy!#REF!","v":{"$error":"#REF!"}},{"$f":"Podatnicy!#REF!","v":{"$error":"#REF!"}},{"$f":"Podatnicy!#REF!","v":{"$error":"#REF!"}}]
[null,19850,{"$f":"Podatnicy!#REF!","v":{"$error":"#REF!"}},{"$f":"Podatnicy!#REF!","v":{"$error":"#REF!"}},{"$f":"Podatnicy!#REF!","v":{"$error":"#REF!"}}]
[null,19851,{"$f":"Podatnicy!#REF!","v":{"$error":"#REF!"}},{"$f":"Podatnicy!#REF!","v":{"$error":"#REF!"}},{"$f":"Podatnicy!#REF!","v":{"$error":"#REF!"}}]
[null,19852,{"$f":"Podatnicy!#REF!","v":{"$error":"#REF!"}},{"$f":"Podatnicy!#REF!","v":{"$error":"#REF!"}},{"$f":"Podatnicy!#REF!","v":{"$error":"#REF!"}}]
[null,19853,{"$f":"Podatnicy!#REF!","v":{"$error":"#REF!"}},{"$f":"Podatnicy!#REF!","v":{"$error":"#REF!"}},{"$f":"Podatnicy!#REF!","v":{"$error":"#REF!"}}]
[null,19854,{"$f":"Podatnicy!#REF!","v":{"$error":"#REF!"}},{"$f":"Podatnicy!#REF!","v":{"$error":"#REF!"}},{"$f":"Podatnicy!#REF!","v":{"$error":"#REF!"}}]
[null,19855,{"$f":"Podatnicy!#REF!","v":{"$error":"#REF!"}},{"$f":"Podatnicy!#REF!","v":{"$error":"#REF!"}},{"$f":"Podatnicy!#REF!","v":{"$error":"#REF!"}}]
[null,19856,{"$f":"Podatnicy!#REF!","v":{"$error":"#REF!"}},{"$f":"Podatnicy!#REF!","v":{"$error":"#REF!"}},{"$f":"Podatnicy!#REF!","v":{"$error":"#REF!"}}]
[null,19857,{"$f":"Podatnicy!#REF!","v":{"$error":"#REF!"}},{"$f":"Podatnicy!#REF!","v":{"$error":"#REF!"}},{"$f":"Podatnicy!#REF!","v":{"$error":"#REF!"}}]
[null,19858,{"$f":"Podatnicy!#REF!","v":{"$error":"#REF!"}},{"$f":"Podatnicy!#REF!","v":{"$error":"#REF!"}},{"$f":"Podatnicy!#REF!","v":{"$error":"#REF!"}}]
[null,19859,{"$f":"Podatnicy!#REF!","v":{"$error":"#REF!"}},{"$f":"Podatnicy!#REF!","v":{"$error":"#REF!"}},{"$f":"Podatnicy!#REF!","v":{"$error":"#REF!"}}]
[null,19860,{"$f":"Podatnicy!#REF!","v":{"$error":"#REF!"}},{"$f":"Podatnicy!#REF!","v":{"$error":"#REF!"}},{"$f":"Podatnicy!#REF!","v":{"$error":"#REF!"}}]
[null,19861,{"$f":"Podatnicy!#REF!","v":{"$error":"#REF!"}},{"$f":"Podatnicy!#REF!","v":{"$error":"#REF!"}},{"$f":"Podatnicy!#REF!","v":{"$error":"#REF!"}}]
[null,19862,{"$f":"Podatnicy!#REF!","v":{"$error":"#REF!"}},{"$f":"Podatnicy!#REF!","v":{"$error":"#REF!"}},{"$f":"Podatnicy!#REF!","v":{"$error":"#REF!"}}]
[null,19863,{"$f":"Podatnicy!#REF!","v":{"$error":"#REF!"}},{"$f":"Podatnicy!#REF!","v":{"$error":"#REF!"}},{"$f":"Podatnicy!#REF!","v":{"$error":"#REF!"}}]
[null,19864,{"$f":"Podatnicy!#REF!","v":{"$error":"#REF!"}},{"$f":"Podatnicy!#REF!","v":{"$error":"#REF!"}},{"$f":"Podatnicy!#REF!","v":{"$error":"#REF!"}}]
[null,19865,{"$f":"Podatnicy!#REF!","v":{"$error":"#REF!"}},{"$f":"Podatnicy!#REF!","v":{"$error":"#REF!"}},{"$f":"Podatnicy!#REF!","v":{"$error":"#REF!"}}]
[null,19866,{"$f":"Podatnicy!#REF!","v":{"$error":"#REF!"}},{"$f":"Podatnicy!#REF!","v":{"$error":"#REF!"}},{"$f":"Podatnicy!#REF!","v":{"$error":"#REF!"}}]
[null,19867,{"$f":"Podatnicy!#REF!","v":{"$error":"#REF!"}},{"$f":"Podatnicy!#REF!","v":{"$error":"#REF!"}},{"$f":"Podatnicy!#REF!","v":{"$error":"#REF!"}}]
[null,19868,{"$f":"Podatnicy!#REF!","v":{"$error":"#REF!"}},{"$f":"Podatnicy!#REF!","v":{"$error":"#REF!"}},{"$f":"Podatnicy!#REF!","v":{"$error":"#REF!"}}]
[null,19869,{"$f":"Podatnicy!#REF!","v":{"$error":"#REF!"}},{"$f":"Podatnicy!#REF!","v":{"$error":"#REF!"}},{"$f":"Podatnicy!#REF!","v":{"$error":"#REF!"}}]
[null,19870,{"$f":"Podatnicy!#REF!","v":{"$error":"#REF!"}},{"$f":"Podatnicy!#REF!","v":{"$error":"#REF!"}},{"$f":"Podatnicy!#REF!","v":{"$error":"#REF!"}}]
[null,19871,{"$f":"Podatnicy!#REF!","v":{"$error":"#REF!"}},{"$f":"Podatnicy!#REF!","v":{"$error":"#REF!"}},{"$f":"Podatnicy!#REF!","v":{"$error":"#REF!"}}]
[null,19872,{"$f":"Podatnicy!#REF!","v":{"$error":"#REF!"}},{"$f":"Podatnicy!#REF!","v":{"$error":"#REF!"}},{"$f":"Podatnicy!#REF!","v":{"$error":"#REF!"}}]
[null,19873,{"$f":"Podatnicy!#REF!","v":{"$error":"#REF!"}},{"$f":"Podatnicy!#REF!","v":{"$error":"#REF!"}},{"$f":"Podatnicy!#REF!","v":{"$error":"#REF!"}}]
[null,19874,{"$f":"Podatnicy!#REF!","v":{"$error":"#REF!"}},{"$f":"Podatnicy!#REF!","v":{"$error":"#REF!"}},{"$f":"Podatnicy!#REF!","v":{"$error":"#REF!"}}]
[null,19875,{"$f":"Podatnicy!#REF!","v":{"$error":"#REF!"}},{"$f":"Podatnicy!#REF!","v":{"$error":"#REF!"}},{"$f":"Podatnicy!#REF!","v":{"$error":"#REF!"}}]
[null,19876,{"$f":"Podatnicy!#REF!","v":{"$error":"#REF!"}},{"$f":"Podatnicy!#REF!","v":{"$error":"#REF!"}},{"$f":"Podatnicy!#REF!","v":{"$error":"#REF!"}}]
[null,19877,{"$f":"Podatnicy!#REF!","v":{"$error":"#REF!"}},{"$f":"Podatnicy!#REF!","v":{"$error":"#REF!"}},{"$f":"Podatnicy!#REF!","v":{"$error":"#REF!"}}]
[null,19878,{"$f":"Podatnicy!#REF!","v":{"$error":"#REF!"}},{"$f":"Podatnicy!#REF!","v":{"$error":"#REF!"}},{"$f":"Podatnicy!#REF!","v":{"$error":"#REF!"}}]
[null,19879,{"$f":"Podatnicy!#REF!","v":{"$error":"#REF!"}},{"$f":"Podatnicy!#REF!","v":{"$error":"#REF!"}},{"$f":"Podatnicy!#REF!","v":{"$error":"#REF!"}}]
[null,19880,{"$f":"Podatnicy!#REF!","v":{"$error":"#REF!"}},{"$f":"Podatnicy!#REF!","v":{"$error":"#REF!"}},{"$f":"Podatnicy!#REF!","v":{"$error":"#REF!"}}]
[null,19881,{"$f":"Podatnicy!#REF!","v":{"$error":"#REF!"}},{"$f":"Podatnicy!#REF!","v":{"$error":"#REF!"}},{"$f":"Podatnicy!#REF!","v":{"$error":"#REF!"}}]
[null,19882,{"$f":"Podatnicy!#REF!","v":{"$error":"#REF!"}},{"$f":"Podatnicy!#REF!","v":{"$error":"#REF!"}},{"$f":"Podatnicy!#REF!","v":{"$error":"#REF!"}}]
[null,19883,{"$f":"Podatnicy!#REF!","v":{"$error":"#REF!"}},{"$f":"Podatnicy!#REF!","v":{"$error":"#REF!"}},{"$f":"Podatnicy!#REF!","v":{"$error":"#REF!"}}]
[null,19884,{"$f":"Podatnicy!#REF!","v":{"$error":"#REF!"}},{"$f":"Podatnicy!#REF!","v":{"$error":"#REF!"}},{"$f":"Podatnicy!#REF!","v":{"$error":"#REF!"}}]
[null,19885,{"$f":"Podatnicy!#REF!","v":{"$error":"#REF!"}},{"$f":"Podatnicy!#REF!","v":{"$error":"#REF!"}},{"$f":"Podatnicy!#REF!","v":{"$error":"#REF!"}}]
[null,19886,{"$f":"Podatnicy!#REF!","v":{"$error":"#REF!"}},{"$f":"Podatnicy!#REF!","v":{"$error":"#REF!"}},{"$f":"Podatnicy!#REF!","v":{"$error":"#REF!"}}]
[null,19887,{"$f":"Podatnicy!#REF!","v":{"$error":"#REF!"}},{"$f":"Podatnicy!#REF!","v":{"$error":"#REF!"}},{"$f":"Podatnicy!#REF!","v":{"$error":"#REF!"}}]
[null,19888,{"$f":"Podatnicy!#REF!","v":{"$error":"#REF!"}},{"$f":"Podatnicy!#REF!","v":{"$error":"#REF!"}},{"$f":"Podatnicy!#REF!","v":{"$error":"#REF!"}}]
[null,19889,{"$f":"Podatnicy!#REF!","v":{"$error":"#REF!"}},{"$f":"Podatnicy!#REF!","v":{"$error":"#REF!"}},{"$f":"Podatnicy!#REF!","v":{"$error":"#REF!"}}]
[null,19890,{"$f":"Podatnicy!#REF!","v":{"$error":"#REF!"}},{"$f":"Podatnicy!#REF!","v":{"$error":"#REF!"}},{"$f":"Podatnicy!#REF!","v":{"$error":"#REF!"}}]
[null,19891,{"$f":"Podatnicy!#REF!","v":{"$error":"#REF!"}},{"$f":"Podatnicy!#REF!","v":{"$error":"#REF!"}},{"$f":"Podatnicy!#REF!","v":{"$error":"#REF!"}}]
[null,19892,{"$f":"Podatnicy!#REF!","v":{"$error":"#REF!"}},{"$f":"Podatnicy!#REF!","v":{"$error":"#REF!"}},{"$f":"Podatnicy!#REF!","v":{"$error":"#REF!"}}]
[null,19893,{"$f":"Podatnicy!#REF!","v":{"$error":"#REF!"}},{"$f":"Podatnicy!#REF!","v":{"$error":"#REF!"}},{"$f":"Podatnicy!#REF!","v":{"$error":"#REF!"}}]
[null,19894,{"$f":"Podatnicy!#REF!","v":{"$error":"#REF!"}},{"$f":"Podatnicy!#REF!","v":{"$error":"#REF!"}},{"$f":"Podatnicy!#REF!","v":{"$error":"#REF!"}}]
[null,19895,{"$f":"Podatnicy!#REF!","v":{"$error":"#REF!"}},{"$f":"Podatnicy!#REF!","v":{"$error":"#REF!"}},{"$f":"Podatnicy!#REF!","v":{"$error":"#REF!"}}]
[null,19896,{"$f":"Podatnicy!#REF!","v":{"$error":"#REF!"}},{"$f":"Podatnicy!#REF!","v":{"$error":"#REF!"}},{"$f":"Podatnicy!#REF!","v":{"$error":"#REF!"}}]
[null,19897,{"$f":"Podatnicy!#REF!","v":{"$error":"#REF!"}},{"$f":"Podatnicy!#REF!","v":{"$error":"#REF!"}},{"$f":"Podatnicy!#REF!","v":{"$error":"#REF!"}}]
[null,19898,{"$f":"Podatnicy!#REF!","v":{"$error":"#REF!"}},{"$f":"Podatnicy!#REF!","v":{"$error":"#REF!"}},{"$f":"Podatnicy!#REF!","v":{"$error":"#REF!"}}]
[null,19899,{"$f":"Podatnicy!#REF!","v":{"$error":"#REF!"}},{"$f":"Podatnicy!#REF!","v":{"$error":"#REF!"}},{"$f":"Podatnicy!#REF!","v":{"$error":"#REF!"}}]
[null,19900,{"$f":"Podatnicy!#REF!","v":{"$error":"#REF!"}},{"$f":"Podatnicy!#REF!","v":{"$error":"#REF!"}},{"$f":"Podatnicy!#REF!","v":{"$error":"#REF!"}}]
[null,19901,{"$f":"Podatnicy!#REF!","v":{"$error":"#REF!"}},{"$f":"Podatnicy!#REF!","v":{"$error":"#REF!"}},{"$f":"Podatnicy!#REF!","v":{"$error":"#REF!"}}]
[null,19902,{"$f":"Podatnicy!#REF!","v":{"$error":"#REF!"}},{"$f":"Podatnicy!#REF!","v":{"$error":"#REF!"}},{"$f":"Podatnicy!#REF!","v":{"$error":"#REF!"}}]
[null,19903,{"$f":"Podatnicy!#REF!","v":{"$error":"#REF!"}},{"$f":"Podatnicy!#REF!","v":{"$error":"#REF!"}},{"$f":"Podatnicy!#REF!","v":{"$error":"#REF!"}}]
[null,19904,{"$f":"Podatnicy!#REF!","v":{"$error":"#REF!"}},{"$f":"Podatnicy!#REF!","v":{"$error":"#REF!"}},{"$f":"Podatnicy!#REF!","v":{"$error":"#REF!"}}]
[null,19905,{"$f":"Podatnicy!#REF!","v":{"$error":"#REF!"}},{"$f":"Podatnicy!#REF!","v":{"$error":"#REF!"}},{"$f":"Podatnicy!#REF!","v":{"$error":"#REF!"}}]
[null,19906,{"$f":"Podatnicy!#REF!","v":{"$error":"#REF!"}},{"$f":"Podatnicy!#REF!","v":{"$error":"#REF!"}},{"$f":"Podatnicy!#REF!","v":{"$error":"#REF!"}}]
[null,19907,{"$f":"Podatnicy!#REF!","v":{"$error":"#REF!"}},{"$f":"Podatnicy!#REF!","v":{"$error":"#REF!"}},{"$f":"Podatnicy!#REF!","v":{"$error":"#REF!"}}]
[null,19908,{"$f":"Podatnicy!#REF!","v":{"$error":"#REF!"}},{"$f":"Podatnicy!#REF!","v":{"$error":"#REF!"}},{"$f":"Podatnicy!#REF!","v":{"$error":"#REF!"}}]
[null,19909,{"$f":"Podatnicy!#REF!","v":{"$error":"#REF!"}},{"$f":"Podatnicy!#REF!","v":{"$error":"#REF!"}},{"$f":"Podatnicy!#REF!","v":{"$error":"#REF!"}}]
[null,19910,{"$f":"Podatnicy!#REF!","v":{"$error":"#REF!"}},{"$f":"Podatnicy!#REF!","v":{"$error":"#REF!"}},{"$f":"Podatnicy!#REF!","v":{"$error":"#REF!"}}]
[null,19911,{"$f":"Podatnicy!#REF!","v":{"$error":"#REF!"}},{"$f":"Podatnicy!#REF!","v":{"$error":"#REF!"}},{"$f":"Podatnicy!#REF!","v":{"$error":"#REF!"}}]
[null,19912,{"$f":"Podatnicy!#REF!","v":{"$error":"#REF!"}},{"$f":"Podatnicy!#REF!","v":{"$error":"#REF!"}},{"$f":"Podatnicy!#REF!","v":{"$error":"#REF!"}}]
[null,19913,{"$f":"Podatnicy!#REF!","v":{"$error":"#REF!"}},{"$f":"Podatnicy!#REF!","v":{"$error":"#REF!"}},{"$f":"Podatnicy!#REF!","v":{"$error":"#REF!"}}]
[null,19914,{"$f":"Podatnicy!#REF!","v":{"$error":"#REF!"}},{"$f":"Podatnicy!#REF!","v":{"$error":"#REF!"}},{"$f":"Podatnicy!#REF!","v":{"$error":"#REF!"}}]
[null,19915,{"$f":"Podatnicy!#REF!","v":{"$error":"#REF!"}},{"$f":"Podatnicy!#REF!","v":{"$error":"#REF!"}},{"$f":"Podatnicy!#REF!","v":{"$error":"#REF!"}}]
[null,19916,{"$f":"Podatnicy!#REF!","v":{"$error":"#REF!"}},{"$f":"Podatnicy!#REF!","v":{"$error":"#REF!"}},{"$f":"Podatnicy!#REF!","v":{"$error":"#REF!"}}]
[null,19917,{"$f":"Podatnicy!#REF!","v":{"$error":"#REF!"}},{"$f":"Podatnicy!#REF!","v":{"$error":"#REF!"}},{"$f":"Podatnicy!#REF!","v":{"$error":"#REF!"}}]
[null,19918,{"$f":"Podatnicy!#REF!","v":{"$error":"#REF!"}},{"$f":"Podatnicy!#REF!","v":{"$error":"#REF!"}},{"$f":"Podatnicy!#REF!","v":{"$error":"#REF!"}}]
[null,19919,{"$f":"Podatnicy!#REF!","v":{"$error":"#REF!"}},{"$f":"Podatnicy!#REF!","v":{"$error":"#REF!"}},{"$f":"Podatnicy!#REF!","v":{"$error":"#REF!"}}]
[null,19920,{"$f":"Podatnicy!#REF!","v":{"$error":"#REF!"}},{"$f":"Podatnicy!#REF!","v":{"$error":"#REF!"}},{"$f":"Podatnicy!#REF!","v":{"$error":"#REF!"}}]
[null,19921,{"$f":"Podatnicy!#REF!","v":{"$error":"#REF!"}},{"$f":"Podatnicy!#REF!","v":{"$error":"#REF!"}},{"$f":"Podatnicy!#REF!","v":{"$error":"#REF!"}}]
[null,19922,{"$f":"Podatnicy!#REF!","v":{"$error":"#REF!"}},{"$f":"Podatnicy!#REF!","v":{"$error":"#REF!"}},{"$f":"Podatnicy!#REF!","v":{"$error":"#REF!"}}]
[null,19923,{"$f":"Podatnicy!#REF!","v":{"$error":"#REF!"}},{"$f":"Podatnicy!#REF!","v":{"$error":"#REF!"}},{"$f":"Podatnicy!#REF!","v":{"$error":"#REF!"}}]
[null,19924,{"$f":"Podatnicy!#REF!","v":{"$error":"#REF!"}},{"$f":"Podatnicy!#REF!","v":{"$error":"#REF!"}},{"$f":"Podatnicy!#REF!","v":{"$error":"#REF!"}}]
[null,19925,{"$f":"Podatnicy!#REF!","v":{"$error":"#REF!"}},{"$f":"Podatnicy!#REF!","v":{"$error":"#REF!"}},{"$f":"Podatnicy!#REF!","v":{"$error":"#REF!"}}]
[null,19926,{"$f":"Podatnicy!#REF!","v":{"$error":"#REF!"}},{"$f":"Podatnicy!#REF!","v":{"$error":"#REF!"}},{"$f":"Podatnicy!#REF!","v":{"$error":"#REF!"}}]
[null,19927,{"$f":"Podatnicy!#REF!","v":{"$error":"#REF!"}},{"$f":"Podatnicy!#REF!","v":{"$error":"#REF!"}},{"$f":"Podatnicy!#REF!","v":{"$error":"#REF!"}}]
[null,19928,{"$f":"Podatnicy!#REF!","v":{"$error":"#REF!"}},{"$f":"Podatnicy!#REF!","v":{"$error":"#REF!"}},{"$f":"Podatnicy!#REF!","v":{"$error":"#REF!"}}]
[null,19929,{"$f":"Podatnicy!#REF!","v":{"$error":"#REF!"}},{"$f":"Podatnicy!#REF!","v":{"$error":"#REF!"}},{"$f":"Podatnicy!#REF!","v":{"$error":"#REF!"}}]
[null,19930,{"$f":"Podatnicy!#REF!","v":{"$error":"#REF!"}},{"$f":"Podatnicy!#REF!","v":{"$error":"#REF!"}},{"$f":"Podatnicy!#REF!","v":{"$error":"#REF!"}}]
[null,19931,{"$f":"Podatnicy!#REF!","v":{"$error":"#REF!"}},{"$f":"Podatnicy!#REF!","v":{"$error":"#REF!"}},{"$f":"Podatnicy!#REF!","v":{"$error":"#REF!"}}]
[null,19932,{"$f":"Podatnicy!#REF!","v":{"$error":"#REF!"}},{"$f":"Podatnicy!#REF!","v":{"$error":"#REF!"}},{"$f":"Podatnicy!#REF!","v":{"$error":"#REF!"}}]
[null,19933,{"$f":"Podatnicy!#REF!","v":{"$error":"#REF!"}},{"$f":"Podatnicy!#REF!","v":{"$error":"#REF!"}},{"$f":"Podatnicy!#REF!","v":{"$error":"#REF!"}}]
[null,19934,{"$f":"Podatnicy!#REF!","v":{"$error":"#REF!"}},{"$f":"Podatnicy!#REF!","v":{"$error":"#REF!"}},{"$f":"Podatnicy!#REF!","v":{"$error":"#REF!"}}]
[null,19935,{"$f":"Podatnicy!#REF!","v":{"$error":"#REF!"}},{"$f":"Podatnicy!#REF!","v":{"$error":"#REF!"}},{"$f":"Podatnicy!#REF!","v":{"$error":"#REF!"}}]
[null,19936,{"$f":"Podatnicy!#REF!","v":{"$error":"#REF!"}},{"$f":"Podatnicy!#REF!","v":{"$error":"#REF!"}},{"$f":"Podatnicy!#REF!","v":{"$error":"#REF!"}}]
[null,19937,{"$f":"Podatnicy!#REF!","v":{"$error":"#REF!"}},{"$f":"Podatnicy!#REF!","v":{"$error":"#REF!"}},{"$f":"Podatnicy!#REF!","v":{"$error":"#REF!"}}]
[null,19938,{"$f":"Podatnicy!#REF!","v":{"$error":"#REF!"}},{"$f":"Podatnicy!#REF!","v":{"$error":"#REF!"}},{"$f":"Podatnicy!#REF!","v":{"$error":"#REF!"}}]
[null,19939,{"$f":"Podatnicy!#REF!","v":{"$error":"#REF!"}},{"$f":"Podatnicy!#REF!","v":{"$error":"#REF!"}},{"$f":"Podatnicy!#REF!","v":{"$error":"#REF!"}}]
[null,19940,{"$f":"Podatnicy!#REF!","v":{"$error":"#REF!"}},{"$f":"Podatnicy!#REF!","v":{"$error":"#REF!"}},{"$f":"Podatnicy!#REF!","v":{"$error":"#REF!"}}]
[null,19941,{"$f":"Podatnicy!#REF!","v":{"$error":"#REF!"}},{"$f":"Podatnicy!#REF!","v":{"$error":"#REF!"}},{"$f":"Podatnicy!#REF!","v":{"$error":"#REF!"}}]
[null,19942,{"$f":"Podatnicy!#REF!","v":{"$error":"#REF!"}},{"$f":"Podatnicy!#REF!","v":{"$error":"#REF!"}},{"$f":"Podatnicy!#REF!","v":{"$error":"#REF!"}}]
[null,19943,{"$f":"Podatnicy!#REF!","v":{"$error":"#REF!"}},{"$f":"Podatnicy!#REF!","v":{"$error":"#REF!"}},{"$f":"Podatnicy!#REF!","v":{"$error":"#REF!"}}]
[null,19944,{"$f":"Podatnicy!#REF!","v":{"$error":"#REF!"}},{"$f":"Podatnicy!#REF!","v":{"$error":"#REF!"}},{"$f":"Podatnicy!#REF!","v":{"$error":"#REF!"}}]
[null,19945,{"$f":"Podatnicy!#REF!","v":{"$error":"#REF!"}},{"$f":"Podatnicy!#REF!","v":{"$error":"#REF!"}},{"$f":"Podatnicy!#REF!","v":{"$error":"#REF!"}}]
[null,19946,{"$f":"Podatnicy!#REF!","v":{"$error":"#REF!"}},{"$f":"Podatnicy!#REF!","v":{"$error":"#REF!"}},{"$f":"Podatnicy!#REF!","v":{"$error":"#REF!"}}]
[null,19947,{"$f":"Podatnicy!#REF!","v":{"$error":"#REF!"}},{"$f":"Podatnicy!#REF!","v":{"$error":"#REF!"}},{"$f":"Podatnicy!#REF!","v":{"$error":"#REF!"}}]
[null,19948,{"$f":"Podatnicy!#REF!","v":{"$error":"#REF!"}},{"$f":"Podatnicy!#REF!","v":{"$error":"#REF!"}},{"$f":"Podatnicy!#REF!","v":{"$error":"#REF!"}}]
[null,19949,{"$f":"Podatnicy!#REF!","v":{"$error":"#REF!"}},{"$f":"Podatnicy!#REF!","v":{"$error":"#REF!"}},{"$f":"Podatnicy!#REF!","v":{"$error":"#REF!"}}]
[null,19950,{"$f":"Podatnicy!#REF!","v":{"$error":"#REF!"}},{"$f":"Podatnicy!#REF!","v":{"$error":"#REF!"}},{"$f":"Podatnicy!#REF!","v":{"$error":"#REF!"}}]
[null,19951,{"$f":"Podatnicy!#REF!","v":{"$error":"#REF!"}},{"$f":"Podatnicy!#REF!","v":{"$error":"#REF!"}},{"$f":"Podatnicy!#REF!","v":{"$error":"#REF!"}}]
[null,19952,{"$f":"Podatnicy!#REF!","v":{"$error":"#REF!"}},{"$f":"Podatnicy!#REF!","v":{"$error":"#REF!"}},{"$f":"Podatnicy!#REF!","v":{"$error":"#REF!"}}]
[null,19953,{"$f":"Podatnicy!#REF!","v":{"$error":"#REF!"}},{"$f":"Podatnicy!#REF!","v":{"$error":"#REF!"}},{"$f":"Podatnicy!#REF!","v":{"$error":"#REF!"}}]
[null,19954,{"$f":"Podatnicy!#REF!","v":{"$error":"#REF!"}},{"$f":"Podatnicy!#REF!","v":{"$error":"#REF!"}},{"$f":"Podatnicy!#REF!","v":{"$error":"#REF!"}}]
[null,19955,{"$f":"Podatnicy!#REF!","v":{"$error":"#REF!"}},{"$f":"Podatnicy!#REF!","v":{"$error":"#REF!"}},{"$f":"Podatnicy!#REF!","v":{"$error":"#REF!"}}]
[null,19956,{"$f":"Podatnicy!#REF!","v":{"$error":"#REF!"}},{"$f":"Podatnicy!#REF!","v":{"$error":"#REF!"}},{"$f":"Podatnicy!#REF!","v":{"$error":"#REF!"}}]
[null,19957,{"$f":"Podatnicy!#REF!","v":{"$error":"#REF!"}},{"$f":"Podatnicy!#REF!","v":{"$error":"#REF!"}},{"$f":"Podatnicy!#REF!","v":{"$error":"#REF!"}}]
[null,19958,{"$f":"Podatnicy!#REF!","v":{"$error":"#REF!"}},{"$f":"Podatnicy!#REF!","v":{"$error":"#REF!"}},{"$f":"Podatnicy!#REF!","v":{"$error":"#REF!"}}]
[null,19959,{"$f":"Podatnicy!#REF!","v":{"$error":"#REF!"}},{"$f":"Podatnicy!#REF!","v":{"$error":"#REF!"}},{"$f":"Podatnicy!#REF!","v":{"$error":"#REF!"}}]
[null,19960,{"$f":"Podatnicy!#REF!","v":{"$error":"#REF!"}},{"$f":"Podatnicy!#REF!","v":{"$error":"#REF!"}},{"$f":"Podatnicy!#REF!","v":{"$error":"#REF!"}}]
[null,19961,{"$f":"Podatnicy!#REF!","v":{"$error":"#REF!"}},{"$f":"Podatnicy!#REF!","v":{"$error":"#REF!"}},{"$f":"Podatnicy!#REF!","v":{"$error":"#REF!"}}]
[null,19962,{"$f":"Podatnicy!#REF!","v":{"$error":"#REF!"}},{"$f":"Podatnicy!#REF!","v":{"$error":"#REF!"}},{"$f":"Podatnicy!#REF!","v":{"$error":"#REF!"}}]
[null,19963,{"$f":"Podatnicy!#REF!","v":{"$error":"#REF!"}},{"$f":"Podatnicy!#REF!","v":{"$error":"#REF!"}},{"$f":"Podatnicy!#REF!","v":{"$error":"#REF!"}}]
[null,19964,{"$f":"Podatnicy!#REF!","v":{"$error":"#REF!"}},{"$f":"Podatnicy!#REF!","v":{"$error":"#REF!"}},{"$f":"Podatnicy!#REF!","v":{"$error":"#REF!"}}]
[null,19965,{"$f":"Podatnicy!#REF!","v":{"$error":"#REF!"}},{"$f":"Podatnicy!#REF!","v":{"$error":"#REF!"}},{"$f":"Podatnicy!#REF!","v":{"$error":"#REF!"}}]
[null,19966,{"$f":"Podatnicy!#REF!","v":{"$error":"#REF!"}},{"$f":"Podatnicy!#REF!","v":{"$error":"#REF!"}},{"$f":"Podatnicy!#REF!","v":{"$error":"#REF!"}}]
[null,19967,{"$f":"Podatnicy!#REF!","v":{"$error":"#REF!"}},{"$f":"Podatnicy!#REF!","v":{"$error":"#REF!"}},{"$f":"Podatnicy!#REF!","v":{"$error":"#REF!"}}]
[null,19968,{"$f":"Podatnicy!#REF!","v":{"$error":"#REF!"}},{"$f":"Podatnicy!#REF!","v":{"$error":"#REF!"}},{"$f":"Podatnicy!#REF!","v":{"$error":"#REF!"}}]
[null,19969,{"$f":"Podatnicy!#REF!","v":{"$error":"#REF!"}},{"$f":"Podatnicy!#REF!","v":{"$error":"#REF!"}},{"$f":"Podatnicy!#REF!","v":{"$error":"#REF!"}}]
[null,19970,{"$f":"Podatnicy!#REF!","v":{"$error":"#REF!"}},{"$f":"Podatnicy!#REF!","v":{"$error":"#REF!"}},{"$f":"Podatnicy!#REF!","v":{"$error":"#REF!"}}]
[null,19971,{"$f":"Podatnicy!#REF!","v":{"$error":"#REF!"}},{"$f":"Podatnicy!#REF!","v":{"$error":"#REF!"}},{"$f":"Podatnicy!#REF!","v":{"$error":"#REF!"}}]
[null,19972,{"$f":"Podatnicy!#REF!","v":{"$error":"#REF!"}},{"$f":"Podatnicy!#REF!","v":{"$error":"#REF!"}},{"$f":"Podatnicy!#REF!","v":{"$error":"#REF!"}}]
[null,19973,{"$f":"Podatnicy!#REF!","v":{"$error":"#REF!"}},{"$f":"Podatnicy!#REF!","v":{"$error":"#REF!"}},{"$f":"Podatnicy!#REF!","v":{"$error":"#REF!"}}]
[null,19974,{"$f":"Podatnicy!#REF!","v":{"$error":"#REF!"}},{"$f":"Podatnicy!#REF!","v":{"$error":"#REF!"}},{"$f":"Podatnicy!#REF!","v":{"$error":"#REF!"}}]
[null,19975,{"$f":"Podatnicy!#REF!","v":{"$error":"#REF!"}},{"$f":"Podatnicy!#REF!","v":{"$error":"#REF!"}},{"$f":"Podatnicy!#REF!","v":{"$error":"#REF!"}}]
[null,19976,{"$f":"Podatnicy!#REF!","v":{"$error":"#REF!"}},{"$f":"Podatnicy!#REF!","v":{"$error":"#REF!"}},{"$f":"Podatnicy!#REF!","v":{"$error":"#REF!"}}]
[null,19977,{"$f":"Podatnicy!#REF!","v":{"$error":"#REF!"}},{"$f":"Podatnicy!#REF!","v":{"$error":"#REF!"}},{"$f":"Podatnicy!#REF!","v":{"$error":"#REF!"}}]
[null,19978,{"$f":"Podatnicy!#REF!","v":{"$error":"#REF!"}},{"$f":"Podatnicy!#REF!","v":{"$error":"#REF!"}},{"$f":"Podatnicy!#REF!","v":{"$error":"#REF!"}}]
[null,19979,{"$f":"Podatnicy!#REF!","v":{"$error":"#REF!"}},{"$f":"Podatnicy!#REF!","v":{"$error":"#REF!"}},{"$f":"Podatnicy!#REF!","v":{"$error":"#REF!"}}]
[null,19980,{"$f":"Podatnicy!#REF!","v":{"$error":"#REF!"}},{"$f":"Podatnicy!#REF!","v":{"$error":"#REF!"}},{"$f":"Podatnicy!#REF!","v":{"$error":"#REF!"}}]
[null,19981,{"$f":"Podatnicy!#REF!","v":{"$error":"#REF!"}},{"$f":"Podatnicy!#REF!","v":{"$error":"#REF!"}},{"$f":"Podatnicy!#REF!","v":{"$error":"#REF!"}}]
[null,19982,{"$f":"Podatnicy!#REF!","v":{"$error":"#REF!"}},{"$f":"Podatnicy!#REF!","v":{"$error":"#REF!"}},{"$f":"Podatnicy!#REF!","v":{"$error":"#REF!"}}]
[null,19983,{"$f":"Podatnicy!#REF!","v":{"$error":"#REF!"}},{"$f":"Podatnicy!#REF!","v":{"$error":"#REF!"}},{"$f":"Podatnicy!#REF!","v":{"$error":"#REF!"}}]
[null,19984,{"$f":"Podatnicy!#REF!","v":{"$error":"#REF!"}},{"$f":"Podatnicy!#REF!","v":{"$error":"#REF!"}},{"$f":"Podatnicy!#REF!","v":{"$error":"#REF!"}}]
[null,19985,{"$f":"Podatnicy!#REF!","v":{"$error":"#REF!"}},{"$f":"Podatnicy!#REF!","v":{"$error":"#REF!"}},{"$f":"Podatnicy!#REF!","v":{"$error":"#REF!"}}]
[null,19986,{"$f":"Podatnicy!#REF!","v":{"$error":"#REF!"}},{"$f":"Podatnicy!#REF!","v":{"$error":"#REF!"}},{"$f":"Podatnicy!#REF!","v":{"$error":"#REF!"}}]
[null,19987,{"$f":"Podatnicy!#REF!","v":{"$error":"#REF!"}},{"$f":"Podatnicy!#REF!","v":{"$error":"#REF!"}},{"$f":"Podatnicy!#REF!","v":{"$error":"#REF!"}}]
[null,19988,{"$f":"Podatnicy!#REF!","v":{"$error":"#REF!"}},{"$f":"Podatnicy!#REF!","v":{"$error":"#REF!"}},{"$f":"Podatnicy!#REF!","v":{"$error":"#REF!"}}]
[null,19989,{"$f":"Podatnicy!#REF!","v":{"$error":"#REF!"}},{"$f":"Podatnicy!#REF!","v":{"$error":"#REF!"}},{"$f":"Podatnicy!#REF!","v":{"$error":"#REF!"}}]
[null,19990,{"$f":"Podatnicy!#REF!","v":{"$error":"#REF!"}},{"$f":"Podatnicy!#REF!","v":{"$error":"#REF!"}},{"$f":"Podatnicy!#REF!","v":{"$error":"#REF!"}}]
[null,19991,{"$f":"Podatnicy!#REF!","v":{"$error":"#REF!"}},{"$f":"Podatnicy!#REF!","v":{"$error":"#REF!"}},{"$f":"Podatnicy!#REF!","v":{"$error":"#REF!"}}]
[null,19992,{"$f":"Podatnicy!#REF!","v":{"$error":"#REF!"}},{"$f":"Podatnicy!#REF!","v":{"$error":"#REF!"}},{"$f":"Podatnicy!#REF!","v":{"$error":"#REF!"}}]
[null,19993,{"$f":"Podatnicy!#REF!","v":{"$error":"#REF!"}},{"$f":"Podatnicy!#REF!","v":{"$error":"#REF!"}},{"$f":"Podatnicy!#REF!","v":{"$error":"#REF!"}}]
[null,19994,{"$f":"Podatnicy!#REF!","v":{"$error":"#REF!"}},{"$f":"Podatnicy!#REF!","v":{"$error":"#REF!"}},{"$f":"Podatnicy!#REF!","v":{"$error":"#REF!"}}]
[null,19995,{"$f":"Podatnicy!#REF!","v":{"$error":"#REF!"}},{"$f":"Podatnicy!#REF!","v":{"$error":"#REF!"}},{"$f":"Podatnicy!#REF!","v":{"$error":"#REF!"}}]
[null,19996,{"$f":"Podatnicy!#REF!","v":{"$error":"#REF!"}},{"$f":"Podatnicy!#REF!","v":{"$error":"#REF!"}},{"$f":"Podatnicy!#REF!","v":{"$error":"#REF!"}}]
[null,19997,{"$f":"Podatnicy!#REF!","v":{"$error":"#REF!"}},{"$f":"Podatnicy!#REF!","v":{"$error":"#REF!"}},{"$f":"Podatnicy!#REF!","v":{"$error":"#REF!"}}]
[null,19998,{"$f":"Podatnicy!#REF!","v":{"$error":"#REF!"}},{"$f":"Podatnicy!#REF!","v":{"$error":"#REF!"}},{"$f":"Podatnicy!#REF!","v":{"$error":"#REF!"}}]
[null,19999,{"$f":"Podatnicy!#REF!","v":{"$error":"#REF!"}},{"$f":"Podatnicy!#REF!","v":{"$error":"#REF!"}},{"$f":"Podatnicy!#REF!","v":{"$error":"#REF!"}}]
[null,20000,{"$f":"Podatnicy!#REF!","v":{"$error":"#REF!"}},{"$f":"Podatnicy!#REF!","v":{"$error":"#REF!"}},{"$f":"Podatnicy!#REF!","v":{"$error":"#REF!"}}]

{"sheet":"PIT-11","index":3,"n_rows":307,"n_cols":50,"rows_kept":307,"cut":false,"hidden":false,"merged":[[0,0,0,24],[0,25,0,44],[1,1,1,43],[2,2,2,42],[3,2,4,9],[3,10,3,42],[4,10,4,42],[7,2,7,10],[7,11,7,28],[7,29,7,39],[7,40,7,42],[8,2,8,42],[9,2,9,42],[5,2,5,42],[6,2,6,12],[6,13,6,17],[6,18,6,21],[6,22,6,28],[6,29,6,34],[6,35,6,39],[6,40,6,42],[13,2,13,42],[14,2,14,10],[14,11,14,41],[15,2,15,10],[15,11,15,41],[16,2,16,10],[16,11,16,41],[10,2,10,42],[11,2,12,20],[11,21,11,26],[11,27,11,36],[11,37,11,42],[12,21,12,26],[12,27,12,36],[12,37,12,42],[21,2,21,10],[21,11,21,41],[22,2,22,10],[22,11,22,41],[23,2,23,10],[23,11,23,41],[17,2,17,10],[17,11,17,41],[18,2,19,10],[18,11,18,41],[19,11,19,41],[20,2,20,10],[20,11,20,41],[27,2,27,10],[27,11,27,41],[28,2,28,10],[28,11,28,41],[29,2,29,42],[30,2,30,42],[24,2,24,10],[24,11,24,41],[25,2,25,10],[25,11,25,41],[26,2,26,10],[26,11,26,41],[34,2,34,4],[34,5,34,17],[34,18,34,26],[34,27,34,42],[35,2,35,42],[36,2,36,42],[31,2,31,4],[31,5,31,42],[32,2,32,4],[32,5,32,42],[33,2,33,4],[33,5,33,42],[37,2,37,10],[37,11,37,28],[37,29,37,42],[38,2,38,4],[38,5,38,42],[39,2,39,4],[39,5,39,11],[39,12,39,31],[39,32,39,42],[43,2,43,4],[43,5,43,42],[44,2,44,42],[45,2,45,42],[46,2,46,4],[46,5,46,42],[40,2,40,4],[40,5,40,42],[41,2,41,4],[41,5,41,42],[42,2,42,4],[42,5,42,42],[49,5,50,9],[49,10,50,25],[49,26,49,42],[50,2,50,4],[50,26,50,42],[51,2,51,4],[51,5,51,25],[51,26,51,42],[47,2,47,4],[47,5,47,10],[47,11,47,28],[47,29,47,42],[48,2,48,4],[48,5,48,13],[48,14,48,17],[48,18,48,25],[48,26,48,42],[54,2,54,4],[54,5,54,30],[54,31,54,42],[55,2,55,4],[55,5,55,18],[55,19,55,35],[55,36,55,42],[52,2,52,4],[52,5,52,25],[52,26,52,32],[52,33,52,42],[53,2,53,4],[53,5,53,30],[53,31,53,42],[58,2,58,4],[58,5,58,30],[58,31,58,42],[59,2,59,4],[59,5,59,35],[59,36,59,39],[59,40,59,42],[56,2,56,4],[56,5,56,18],[56,19,56,35],[56,36,56,42],[57,2,57,4],[57,5,57,30],[57,31,57,42],[62,2,62,4],[62,5,62,35],[62,36,62,42],[63,2,63,42],[64,2,64,42],[65,2,65,4],[65,5,65,42],[60,2,60,4],[60,5,60,35],[60,36,60,39],[60,40,60,42],[61,2,61,4],[61,5,61,35],[61,36,61,42],[68,2,68,4],[68,5,68,7],[68,8,68,25],[68,27,68,42],[69,2,69,4],[69,5,69,7],[69,8,69,25],[69,27,69,42],[66,2,66,4],[66,5,66,42],[67,2,67,4],[67,5,67,7],[67,8,67,25],[67,27,67,42],[73,2,73,42],[74,2,74,42],[75,2,75,42],[76,2,77,9],[76,10,76,42],[77,10,77,42],[70,2,70,4],[70,5,70,7],[70,8,70,25],[70,27,70,42],[71,2,71,42],[72,2,72,37],[72,38,72,40],[72,41,72,42],[78,2,78,42],[79,2,79,42],[80,2,80,42],[81,2,83,4],[81,5,83,17],[81,18,81,23],[81,24,81,29],[81,30,81,34],[81,35,81,38],[81,39,81,42],[82,18,82,23],[82,24,82,29],[82,30,82,34],[82,35,82,38],[82,39,82,42],[83,18,83,23],[83,24,83,29],[83,30,83,34],[83,35,83,38],[83,39,83,42],[86,35,94,38],[86,39,94,42],[87,5,87,17],[88,5,88,17],[89,5,89,17],[90,5,91,17],[84,39,84,42],[85,2,91,4],[85,5,85,17],[85,18,85,23],[85,24,85,29],[85,30,85,34],[85,35,85,38],[85,39,85,42],[86,5,86,17],[86,18,91,23],[84,2,84,4],[84,5,84,17],[84,18,84,23],[84,24,84,29],[84,30,84,34],[84,35,84,38],[92,2,94,4],[92,5,92,17],[92,18,92,23],[92,24,92,29],[93,5,93,17],[93,18,94,23],[93,24,94,29],[94,5,94,17],[86,24,91,29],[96,30,101,34],[86,30,94,34],[96,35,101,38],[96,39,101,42],[97,5,97,17],[98,5,98,17],[98,18,98,23],[98,24,98,29],[95,5,95,17],[95,18,95,23],[95,24,95,29],[95,30,95,34],[95,35,95,38],[95,39,95,42],[99,5,99,17],[99,18,101,23],[99,24,101,29],[100,5,100,17],[101,5,101,17],[102,5,102,17],[102,18,102,23],[102,24,102,29],[96,5,96,17],[96,18,97,23],[96,24,97,29],[102,35,102,38],[102,39,102,42],[103,5,103,17],[103,18,104,23],[103,24,104,29],[103,30,108,34],[103,35,108,38],[103,39,108,42],[104,5,104,17],[105,5,105,17],[105,18,105,23],[105,24,105,29],[106,5,106,17],[106,18,108,23],[106,24,108,29],[107,5,107,17],[108,5,108,17],[102,30,102,34],[109,39,109,42],[110,5,110,17],[110,18,110,23],[110,24,110,29],[110,30,110,34],[110,35,110,38],[110,39,110,42],[109,2,110,4],[109,5,109,17],[109,18,109,23],[109,24,109,29],[109,30,109,34],[109,35,109,38],[116,5,116,17],[117,2,120,4],[117,5,117,17],[117,18,117,23],[117,24,117,29],[117,30,117,34],[111,39,111,42],[112,5,112,17],[112,18,116,23],[112,24,116,29],[112,30,116,34],[112,35,116,38],[112,39,116,42],[113,5,113,17],[114,5,114,17],[115,5,115,17],[111,2,114,4],[111,5,111,17],[111,18,111,23],[111,24,111,29],[111,30,111,34],[111,35,111,38],[117,35,117,38],[117,39,117,42],[118,5,118,17],[118,18,120,23],[118,24,120,29],[118,30,120,34],[118,35,120,38],[118,39,120,42],[119,5,119,17],[120,5,120,17],[122,5,122,17],[122,18,123,23],[122,24,123,29],[122,30,123,34],[122,35,123,38],[122,39,123,42],[123,5,123,17],[121,5,121,17],[121,18,121,23],[121,24,121,29],[121,30,121,34],[121,35,121,38],[121,39,121,42],[125,5,125,17],[125,18,126,23],[125,24,126,29],[125,30,126,34],[125,35,126,38],[125,39,126,42],[126,5,126,17],[132,5,132,17],[124,5,124,17],[124,18,124,23],[124,24,124,29],[124,30,124,34],[124,35,124,38],[124,39,124,42],[127,39,127,42],[128,39,132,42],[127,2,132,4],[127,5,127,17],[127,18,127,23],[127,24,127,29],[127,30,127,34],[127,35,127,38],[130,24,130,29],[131,5,131,17],[133,35,133,38],[131,18,132,23],[131,24,132,29],[128,5,128,17],[128,18,129,23],[128,24,129,29],[128,30,132,34],[128,35,132,38],[129,5,129,17],[130,5,130,17],[130,18,130,23],[133,39,133,42],[134,5,134,17],[134,18,135,23],[134,24,135,29],[134,30,135,34],[134,35,135,38],[134,39,135,42],[135,5,135,17],[138,2,138,4],[138,5,138,17],[133,2,135,4],[133,5,133,17],[133,18,133,23],[133,24,133,29],[133,30,133,34],[139,2,139,4],[139,5,139,17],[139,18,139,23],[139,24,139,29],[136,39,136,42],[137,5,137,17],[137,18,138,23],[137,24,138,29],[137,30,138,34],[137,35,138,38],[137,39,138,42],[136,2,137,4],[136,5,136,17],[136,18,136,23],[136,24,136,29],[136,30,136,34],[136,35,136,38],[139,30,139,34],[139,35,139,38],[139,39,139,42],[140,2,140,4],[140,5,140,17],[140,18,140,23],[140,24,140,29],[140,30,140,34],[140,35,140,38],[140,39,140,42],[141,39,141,42],[142,2,142,4],[142,5,142,17],[142,18,142,23],[142,24,142,29],[142,30,142,34],[142,35,142,38],[142,39,142,42],[141,2,141,4],[141,5,141,17],[141,18,141,23],[141,24,141,29],[141,30,141,34],[141,35,141,38],[143,39,143,42],[144,2,144,4],[144,5,144,17],[144,18,145,23],[144,24,145,29],[144,30,145,34],[144,35,145,38],[144,39,145,42],[145,2,145,4],[145,5,145,17],[143,2,143,4],[143,5,143,17],[143,18,143,23],[143,24,143,29],[143,30,143,34],[143,35,143,38],[148,2,148,4],[148,5,148,34],[148,35,148,42],[149,2,149,4],[149,5,149,34],[149,35,150,42],[150,2,150,4],[150,5,150,34],[146,39,146,42],[147,2,147,4],[147,5,147,17],[147,18,147,23],[147,24,147,29],[147,30,147,34],[147,35,147,38],[147,39,147,42],[146,2,146,4],[146,5,146,17],[146,18,146,23],[146,24,146,29],[146,30,146,34],[146,35,146,38],[154,2,154,4],[154,5,154,34],[154,35,154,42],[155,2,155,4],[155,5,155,34],[155,35,156,42],[156,2,156,4],[156,5,156,34],[151,2,151,4],[151,5,151,34],[151,35,151,42],[152,2,152,4],[152,5,152,34],[152,35,153,42],[153,2,153,4],[153,5,153,34],[161,2,161,42],[162,2,163,9],[162,10,162,42],[163,10,163,42],[164,2,164,42],[165,2,165,42],[157,2,157,42],[158,2,158,9],[158,10,158,11],[158,12,158,42],[159,2,159,42],[160,2,160,42],[169,2,169,5],[169,6,169,34],[169,35,169,42],[170,2,170,5],[170,6,170,34],[170,35,170,42],[166,6,166,42],[167,2,167,5],[167,6,167,34],[167,35,167,42],[168,2,168,5],[168,6,168,34],[168,35,168,42],[173,2,173,5],[173,6,173,34],[173,35,173,42],[174,2,174,5],[174,6,174,34],[174,35,174,42],[171,2,171,5],[171,6,171,34],[171,35,171,42],[172,2,172,5],[172,6,172,34],[172,35,172,42],[177,2,177,5],[177,6,177,34],[177,35,177,42],[178,2,178,42],[179,2,179,42],[180,2,180,42],[175,2,175,5],[175,6,175,34],[175,35,175,42],[176,2,176,5],[176,6,176,34],[176,35,176,42],[184,2,184,5],[184,6,184,34],[184,35,184,42],[185,2,185,5],[185,6,185,34],[185,35,185,42],[181,2,181,42],[182,2,182,5],[182,6,182,34],[182,35,182,42],[183,2,183,5],[183,6,183,34],[183,35,183,42],[188,2,188,5],[188,6,188,34],[188,35,188,42],[189,2,189,5],[189,6,189,34],[189,35,190,42],[190,2,190,5],[190,6,190,34],[186,2,186,5],[186,6,186,34],[186,35,186,42],[187,2,187,5],[187,6,187,34],[187,35,187,42],[193,2,193,5],[193,6,194,8],[193,9,193,34],[193,35,193,42],[194,2,194,5],[194,9,194,34],[194,35,194,42],[191,2,191,5],[191,6,192,8],[191,9,191,34],[191,35,191,42],[192,2,192,5],[192,9,192,34],[192,35,192,42],[197,2,197,5],[197,6,198,8],[197,9,197,34],[197,35,197,42],[198,2,198,5],[198,9,198,34],[198,35,198,42],[195,2,195,5],[195,6,196,8],[195,9,195,34],[195,35,195,42],[196,2,196,5],[196,9,196,34],[196,35,196,42],[202,2,202,5],[202,6,203,8],[202,9,202,34],[202,35,202,42],[203,2,203,5],[203,9,203,34],[203,35,203,42],[199,2,199,5],[199,6,199,34],[199,35,199,42],[200,2,200,5],[200,6,200,34],[200,35,201,42],[201,2,201,5],[201,6,201,34],[206,2,206,5],[206,6,207,8],[206,9,206,34],[206,35,206,42],[207,2,207,5],[207,9,207,34],[207,35,207,42],[204,2,204,5],[204,6,205,8],[204,9,204,34],[204,35,204,42],[205,2,205,5],[205,9,205,34],[205,35,205,42],[208,2,208,5],[208,6,208,42],[209,2,209,5],[209,6,209,11],[209,12,209,18],[209,19,209,21],[209,22,209,23],[209,24,209,31],[209,32,209,33],[209,35,209,42],[213,6,213,34],[213,35,213,42],[214,6,214,34],[214,35,214,42],[215,6,215,34],[215,35,215,42],[210,6,210,42],[211,6,211,21],[211,22,211,28],[211,29,211,42],[212,6,212,34],[212,35,212,42],[221,2,221,42],[222,2,222,42],[223,6,223,42],[224,6,224,42],[225,2,225,5],[225,6,225,42],[216,2,216,42],[217,2,217,42],[218,2,218,42],[219,2,219,5],[219,6,219,42],[220,2,220,5],[220,6,220,42],[231,2,232,9],[231,10,231,42],[232,10,232,42],[233,2,233,42],[234,3,234,42],[235,3,235,42],[226,2,226,42],[227,2,227,37],[227,38,227,40],[227,41,227,42],[228,2,228,42],[230,2,230,42],[242,3,242,42],[243,3,243,42],[244,3,244,42],[245,3,245,42],[246,3,246,42],[247,3,247,42],[236,3,236,42],[237,3,237,42],[238,3,238,42],[239,3,239,42],[240,3,240,42],[241,3,241,42],[254,3,254,42],[255,3,255,42],[256,3,256,42],[257,3,257,42],[258,3,258,42],[259,3,259,42],[248,3,248,42],[249,3,249,42],[250,3,250,42],[251,3,251,42],[252,3,252,42],[253,3,253,42],[266,3,266,42],[267,3,267,42],[268,3,268,42],[269,3,269,42],[270,3,270,42],[271,3,271,42],[260,3,260,42],[261,3,261,42],[262,3,262,42],[263,3,263,42],[264,3,264,42],[265,3,265,42],[278,3,278,42],[279,3,279,42],[280,3,280,42],[281,3,281,42],[282,3,282,42],[283,3,283,42],[272,3,272,42],[273,3,273,42],[274,3,274,42],[275,3,275,42],[276,3,276,42],[277,3,277,42],[290,3,290,42],[291,3,291,42],[292,3,292,42],[293,3,293,42],[294,3,294,42],[295,3,295,42],[284,3,284,42],[285,3,285,42],[286,3,286,42],[287,3,287,42],[288,3,288,42],[289,3,289,42],[307,2,307,42],[302,2,302,42],[303,2,303,42],[304,2,304,42],[305,2,305,42],[306,2,306,9],[306,10,306,11],[306,12,306,42],[296,3,296,42],[297,3,297,42],[298,3,298,42],[299,3,299,42],[300,3,300,42],[301,2,301,42]]}
[]
[]
[]
[null,null," POLTAX",null,null,null,null,null,null,null,"POLA JASNE WYPEŁNIA SKŁADAJĄCY, POLA CIEMNE WYPEŁNIA URZĄD. WYPEŁNIAĆ DUŻYMI, DRUKOWANYMI LITERAMI, CZARNYM LUB NIEBIESKIM KOLOREM."]
[null,null,null,null,null,null,null,null,null,null,"Składanie w wersji elektronicznej: www.podatki.gov.pl"]
[]
[null,null," 1. Identyfikator podatkowy NIP1) /",null,null,null,null,null,null,null,null,null,null," numer PESEL",null,null,null,null,"(niepotrzebne skreślić)",null,null,null,"składającego",null,null,null,null,null,null," 2. Nr dokumentu",null,null,null,null,null,null,null,null,null,null," 3. Status"]
[]
[null,null,"  PIT-11"]
[null,null,"     INFORMACJA O PRZYCHODACH Z INNYCH ŹRÓDEŁ ORAZ O DOCHODACH"]
[null,null,"I POBRANYCH ZALICZKACH NA PODATEK DOCHODOWY"]
[null,null,"w roku2)",null,null,null,null,null,null,null,null,null,null,null,null,null,null,null,null,null,null," 4. Rok",null,null,null,null,null,null,null,null,null,null,null,null,null,null,null," 5. Nr informacji3)"]
[]
[]
[null,null," Podstawa prawna:",null,null,null,null,null,null,null,null,"Art. 35 ust. 64), art. 39 ust. 1, art. 42 ust. 2 pkt 1, art. 42a ust. 1, art. 42e ust. 6 ustawy z dnia 26 lipca 1991 r. o podatku"]
[null,null,null,null,null,null,null,null,null,null,null,"dochodowym od osób fizycznych (Dz. U. z 2021 r. poz. 1128, z późn. zm.), zwanej dalej „ustawą”; art. 35a ust. 5 ustawy,"]
[null,null,null,null,null,null,null,null,null,null,null,"w brzmieniu obowiązującym przed dniem 26 października 2007 r.5)"]
[null,null," Składający:",null,null,null,null,null,null,null,null,"Płatnicy podatku dochodowego od osób fizycznych, a także niebędący płatnikami: rolnicy, osoby fizyczne prowadzące"]
[null,null,null,null,null,null,null,null,null,null,null,"działalność gospodarczą, osoby prawne i ich jednostki organizacyjne oraz jednostki organizacyjne niemające osobowości"]
[null,null,null,null,null,null,null,null,null,null,null,"prawnej."]
[null,null," Termin doręczenia:",null,null,null,null,null,null,null,null,"Do końca stycznia roku następującego po roku podatkowym5) – dla informacji składanych urzędowi skarbowemu; do końca"]
[null,null,null,null,null,null,null,null,null,null,null,"lutego roku następującego po roku podatkowym – dla informacji przesyłanych podatnikowi; w terminie 14 dni od złożenia"]
[null,null,null,null,null,null,null,null,null,null,null,"pisemnego wniosku przez podatnika – w przypadku gdy w trakcie roku podatkowego ustał obowiązek poboru zaliczki przez"]
[null,null,null,null,null,null,null,null,null,null,null,"płatników, o których mowa w art. 39 ust. 1 ustawy; do dnia zaprzestania działalności6) – w przypadku gdy składający"]
[null,null,null,null,null,null,null,null,null,null,null,"zaprzestali działalności przed końcem stycznia lub odpowiednio przed końcem lutego roku następującego po roku"]
[null,null,null,null,null,null,null,null,null,null,null,"podatkowym."]
[]
[null,null," Otrzymuje:",null,null,null,null,null,null,null,null,"Podatnik oraz urząd skarbowy według miejsca zamieszkania podatnika, a w przypadku podatników, o których mowa w art. 3 "]
[null,null,null,null,null,null,null,null,null,null,null,"ust. 2a ustawy, urząd skarbowy w sprawach opodatkowania osób zagranicznych."]
[]
[null,null,"  A. MIEJSCE I CEL SKŁADANIA INFORMACJI"]
[null,null,null,null,null," 6. Urząd skarbowy, do którego adresowana jest informacja7)"]
[]
[null,null,null,null,null," 7. Cel złożenia formularza (zaznaczyć właściwy kwadrat):"]
[null,null,null,null,null,null,null,null,null,null,null,null,null,null,null,null,null,null," 1. złożenie informacji",null,null,null,null,null,null,null,null,"    2. korekta informacji 8)"]
[]
[null,null," B. DANE IDENTYFIKACYJNE SKŁADAJĄCEGO"]
[null,null,null,null,null,null,null,null,null,null,null,"               * - dotyczy składającego niebędącego osobą fizyczną",null,null,null,null,null,null,null,null,null,null,null,null,null,null,null,null,null,"   ** - dotyczy składającego będącego osobą fizyczną"]
[null,null,null,null,null," 8. Rodzaj składającego (zaznaczyć właściwy kwadrat):"]
[null,null,null,null,null,null,null,null,null,null,null,null,"     1. składający niebędący osobą fizyczną",null,null,null,null,null,null,null,null,null,null,null,null,null,null,null,null,null,null,null," 2. osoba fizyczna"]
[null,null,null,null,null," 9. Nazwa pełna *"]
[]
[null,null,null,null,null," 10. Nazwisko, pierwsze imię, data urodzenia9) **"]
[]
[]
[null,null," C. DANE IDENTYFIKACYJNE I ADRES ZAMIESZKANIA PODATNIKA"]
[null,null,null,null,null," 11. Rodzaj obowiązku podatkowego podatnika (zaznaczyć właściwy kwadrat):"]
[null,null,null,null,null,null,null,null,null,null,null," 1. nieograniczony obowiązek podatkowy (rezydent)",null,null,null,null,null,null,null,null,null,null,null,null,null,null,null,null,null," 2. ograniczony obowiązek podatkowy (nierezydent)10)"]
[null,null,null,null,null," 12. Identyfikator podatkowy NIP",null,null,null,null,null,null,null,null,"/ numer PESEL",null,null,null,"(niepotrzebne skreślić)",null,null,null,null,null,null,null," 13. Zagraniczny numer identyfikacyjny podatnika (numer dokumentu"]
[null,null,null,null,null,null,null,null,null,null,null,null,null,null,null,null,null,null,null,null,null,null,null,null,null,null,"        stwierdzającego tożsamość)11)"]
[]
[null,null,null,null,null," 14. Rodzaj numeru identyfikacyjnego (dokumentu stwierdzającego tożsamość)12)",null,null,null,null,null,null,null,null,null,null,null,null,null,null,null,null,null,null,null,null," 15. Kraj wydania numeru identyfikacyjnego (dokumentu stwierdzającego"]
[null,null,null,null,null,null,null,null,null,null,null,null,null,null,null,null,null,null,null,null,null,null,null,null,null,null,"       tożsamość)12)"]
[null,null,null,null,null," 16. Nazwisko",null,null,null,null,null,null,null,null,null,null,null,null,null,null,null,null,null,null,null,null,null,null,null,null,null," 17. Pierwsze imię"]
[null,null,null,null,null,null,null,null,null,null,null,null,null,null,null,null,null,null,null,null,null,null,null,null,null,null,null,null,null,null,null,null,null,null,null,null,null,null,null,null,null,null,null,null,null,null,null,null,null,{"$f":"PROPER(F55&\" \"&AF55)","v":" "}]
[null,null,null,null,null," 18. Data urodzenia (dzień - miesiąc - rok)",null,null,null,null,null,null,null,null,null,null,null,null,null," 19. Kraj",null,null,null,null,null,null,null,null,null,null,null,null,null,null,null,null," 20. Województwo"]
[]
[null,null,null,null,null," 21. Powiat",null,null,null,null,null,null,null,null,null,null,null,null,null,null,null,null,null,null,null,null,null,null,null,null,null," 22. Gmina"]
[]
[null,null,null,null,null," 23. Ulica",null,null,null,null,null,null,null,null,null,null,null,null,null,null,null,null,null,null,null,null,null,null,null,null,null,null,null,null,null,null," 24. Nr domu",null,null,null," 25. Nr lokalu"]
[]
[null,null,null,null,null," 26. Miejscowość",null,null,null,null,null,null,null,null,null,null,null,null,null,null,null,null,null,null,null,null,null,null,null,null,null,null,null,null,null,null," 27. Kod pocztowy"]
[]
[]
[null,null," D. INFORMACJA O KOSZTACH UZYSKANIA PRZYCHODU Z TYTUŁU STOSUNKU SŁUŻBOWEGO,"]
[null,null,null,null,null,"STOSUNKU PRACY, SPÓŁDZIELCZEGO STOSUNKU PRACY ORAZ PRACY NAKŁADCZEJ"]
[null,null,null,null,null," 28. Koszty uzyskania przychodów, wykazane w poz. 30, zostały uwzględnione do wysokości przysługującej podatnikowi (zaznaczyć właściwy kwadrat):"]
[null,null,null,null,null,null,null,null," 1. z jednego stosunku pracy (stosunków pokrewnych)",null,null,null,null,null,null,null,null,null,null,null,null,null,null,null,null,null,null," 2. z więcej niż jednego stosunku pracy (stosunków pokrewnych)"]
[null,null,null,null,null,null,null,null," 3. z jednego stosunku pracy (stosunków pokrewnych), podwyższone",null,null,null,null,null,null,null,null,null,null,null,null,null,null,null,null,null,null," 4. z więcej niż jednego stosunku pracy (stosunków pokrewnych),"]
[null,null,null,null,null,null,null,null," w związku z zamieszkiwaniem podatnika poza miejscowością, w której",null,null,null,null,null,null,null,null,null,null,null,null,null,null,null,null,null,null," podwyższone w związku z zamieszkiwaniem podatnika poza "]
[null,null,null,null,null,null,null,null," znajduje się zakład pracy",null,null,null,null,null,null,null,null,null,null,null,null,null,null,null,null,null,null," miejscowością, w której znajduje się zakład pracy"]
[]
[null,null,null,null,null,null,null,null,null,null,null,null,null,null,null,null,null,null,null,null,null,null,null,null,null,null,null,null,null,null,null,null,null,null,null,null,null,null,"PIT-11(29)",null,null,"1/4"]
[]
[]
[]
[null,null," POLTAX",null,null,null,null,null,null,null,"POLA JASNE WYPEŁNIA SKŁADAJĄCY, POLA CIEMNE WYPEŁNIA URZĄD. WYPEŁNIAĆ DUŻYMI, DRUKOWANYMI LITERAMI, CZARNYM LUB NIEBIESKIM KOLOREM."]
[null,null,null,null,null,null,null,null,null,null,"Składanie w wersji elektronicznej: www.podatki.gov.pl"]
[]
[null,null," E. DOCHODY PODATNIKA, POBRANE ZALICZKI ORAZ POBRANE SKŁADKI NA UBEZPIECZENIA"]
[null,null,"     SPOŁECZNE (część tę wypełniają składający będący płatnikami)"]
[null,null,null,null,null,"Źródła przychodów",null,null,null,null,null,null,null,null,null,null,null,null,"Przychód 13)",null,null,null,null,null,"Koszty uzyskania",null,null,null,null,null," Dochód",null,null,null,null,"Dochód zwolniony",null,null,null,"Zaliczka pobrana"]
[null,null,null,null,null,null,null,null,null,null,null,null,null,null,null,null,null,null,null,null,null,null,null,null,"przychodów 14)",null,null,null,null,null," (b - c)",null,null,null,null,"od podatku13)",null,null,null,"przez płatnika15)"]
[null,null,null,null,null,null,null,null,null,null,null,null,null,null,null,null,null,null,"zł,       gr ",null,null,null,null,null,"zł,       gr ",null,null,null,null,null,"zł,       gr ",null,null,null,null,"zł,       gr ",null,null,null," zł  "]
[null,null,null,null,null,"a",null,null,null,null,null,null,null,null,null,null,null,null,"b",null,null,null,null,null,"c",null,null,null,null,null,"d",null,null,null,null,"e",null,null,null,"f"]
[null,null,null,null,null," 1. Należności ze stosunku: pracy, służbowego,",null,null,null,null,null,null,null,null,null,null,null,null," 29. ",null,null,null,null,null," 30. ",null,null,null,null,null," 31. ",null,null,null,null," 32. ",null,null,null," 33. "]
[null,null,null,null,null,"     spółdzielczego i z pracy nakładczej,"]
[null,null,null,null,null,"     wypłacone przez zakład pracy oraz"]
[null,null,null,null,null,"     płatników, o których mowa w art. 42e ust. 1"]
[null,null,null,null,null,"     ustawy, z wyjątkiem należności wykazanych"]
[null,null,null,null,null,"     w wierszu 2 albo 316)"]
[]
[null,null,null,null,null,"W poz. 34 należy wykazać przychody, do których",null,null,null,null,null,null,null,null,null,null,null,null," 34. ",null,null,null,null,null," 35. "]
[null,null,null,null,null,"zastosowano odliczenie kosztów uzyskania"]
[null,null,null,null,null,"przychodów na podstawie art. 22 ust. 9 pkt 3 ustawy."]
[null,null,null,null,null," 2. Należności z tytułów wymienionych w wierszu 1,",null,null,null,null,null,null,null,null,null,null,null,null," 36. ",null,null,null,null,null," 37. ",null,null,null,null,null," 38. ",null,null,null,null," 39. ",null,null,null," 40. "]
[null,null,null,null,null,"     otrzymane przez podatników do ukończenia"]
[null,null,null,null,null,"     26. roku życia17)"]
[null,null,null,null,null,"     W poz. 41 należy wykazać przychody, do",null,null,null,null,null,null,null,null,null,null,null,null," 41. ",null,null,null,null,null," 42. "]
[null,null,null,null,null,"     których zastosowano odliczenie kosztów"]
[null,null,null,null,null,"     uzyskania przychodów na podstawie art. 22"]
[null,null,null,null,null,"     ust. 9 pkt 3 ustawy."]
[null,null,null,null,null," 3. Należności z tytułów wymienionych",null,null,null,null,null,null,null,null,null,null,null,null," 43. ",null,null,null,null,null," 44. ",null,null,null,null,null," 45. ",null,null,null,null," 46. ",null,null,null," 47. "]
[null,null,null,null,null,"     w wierszu 1, otrzymane przez podatników"]
[null,null,null,null,null,"     od ukończenia wieku emerytalnego18)"]
[null,null,null,null,null,"     W poz. 48 należy wykazać przychody, do",null,null,null,null,null,null,null,null,null,null,null,null," 48. ",null,null,null,null,null," 49. "]
[null,null,null,null,null,"     których zastosowano odliczenie kosztów"]
[null,null,null,null,null,"     uzyskania przychodów na podstawie art. 22"]
[null,null,null,null,null,"     ust. 9 pkt 3 ustawy."]
[null,null,null,null,null," 4. Emerytury - renty zagraniczne",null,null,null,null,null,null,null,null,null,null,null,null," 50. ",null,null,null,null,null,null,null,null,null,null,null," 51. ",null,null,null,null," 52. ",null,null,null," 53. "]
[]
[null,null,null,null,null," 5. Działalność wykonywana osobiście, o której",null,null,null,null,null,null,null,null,null,null,null,null," 54. ",null,null,null,null,null," 55. ",null,null,null,null,null," 56. ",null,null,null,null,null,null,null,null," 57. "]
[null,null,null,null,null,"     mowa w art. 13 pkt 2, 4-9 ustawy, w tym"]
[null,null,null,null,null,"     z umowy o dzieło oraz czynności związane"]
[null,null,null,null,null,"     z pełnieniem obowiązków społecznych lub"]
[null,null,null,null,null,"     obywatelskich, z wyjątkiem należności"]
[null,null,null,null,null,"     wykazanych w wierszach 6 i 7 albo 8"]
[null,null,null,null,null," 6. Należności z tytułu umowy zlecenia, o której",null,null,null,null,null,null,null,null,null,null,null,null," 58. ",null,null,null,null,null," 59. ",null,null,null,null,null," 60. ",null,null,null,null,null,null,null,null," 61. "]
[null,null,null,null,null,"     mowa w art. 13 pkt 8 ustawy, z wyjątkiem"]
[null,null,null,null,null,"     należności wykazanych w wierszu 7 albo 816)"]
[]
[null,null,null,null,null," 7. Należności z tytułu wymienionego",null,null,null,null,null,null,null,null,null,null,null,null," 62. ",null,null,null,null,null," 63. ",null,null,null,null,null," 64. ",null,null,null,null,null,null,null,null," 65. "]
[null,null,null,null,null,"     w wierszu 6, otrzymane przez podatników"]
[null,null,null,null,null,"     do ukończenia 26. roku życia17)"]
[null,null,null,null,null," 8. Należności z tytułu wymienionego w ",null,null,null,null,null,null,null,null,null,null,null,null," 66. ",null,null,null,null,null," 67. ",null,null,null,null,null," 68. ",null,null,null,null,null,null,null,null," 69. "]
[null,null,null,null,null,"     wierszu 6, otrzymane przez podatników od"]
[null,null,null,null,null,"     ukończenia wieku emerytalnego18)"]
[null,null,null,null,null," 9. Prawa autorskie i inne prawa, o których",null,null,null,null,null,null,null,null,null,null,null,null," 70. ",null,null,null,null,null,null,null,null,null,null,null," 71. ",null,null,null,null,null,null,null,null," 72. "]
[null,null,null,null,null,"     mowa w art. 18 ustawy"]
[]
[null,null,null,null,null,"W poz. 73 należy wykazać przychody, ",null,null,null,null,null,null,null,null,null,null,null,null," 73. ",null,null,null,null,null," 74. "]
[null,null,null,null,null,"do których zastosowano koszty uzyskania "]
[null,null,null,null,null,"przychodów na podstawie art. 22 ust. 9 pkt 1-3."]
[null,null,null,null,null," 10. Należności z tytułu praktyk absolwenckich",null,null,null,null,null,null,null,null,null,null,null,null," 75. ",null,null,null,null,null,null,null,null,null,null,null," 76. ",null,null,null,null,null,null,null,null," 77. "]
[null,null,null,null,null,"  lub staży uczniowskich, z wyjątkiem"]
[null,null,null,null,null,"  należności wykazanych w wierszu 11"]
[null,null,null,null,null," 11. Należności z tytułu wymienionego w ",null,null,null,null,null,null,null,null,null,null,null,null," 78. ",null,null,null,null,null,null,null,null,null,null,null," 79. ",null,null,null,null,null,null,null,null," 80. "]
[null,null,null,null,null,"  wierszu 10, otrzymane przez podatników"]
[null,null,null,null,null,"  do ukończenia 26. roku życia17)"]
[null,null,null,null,null," 12. Zasiłki macierzyńskie, z wyjątkiem",null,null,null,null,null,null,null,null,null,null,null,null," 81. ",null,null,null,null,null,null,null,null,null,null,null," 82. ",null,null,null,null,null,null,null,null," 83. "]
[null,null,null,null,null,"  zasiłków wykazanych w wierszu 13 albo 14"]
[null,null,null,null,null," 13. Zasiłki macierzyńskie otrzymane przez",null,null,null,null,null,null,null,null,null,null,null,null," 84. ",null,null,null,null,null,null,null,null,null,null,null," 85. ",null,null,null,null,null,null,null,null," 86. "]
[null,null,null,null,null,"  podatników do ukończenia 26. roku życia17)"]
[null,null,null,null,null," 14. Zasiłki macierzyńskie otrzymane przez",null,null,null,null,null,null,null,null,null,null,null,null," 87. ",null,null,null,null,null,null,null,null,null,null,null," 88. ",null,null,null,null,null,null,null,null," 89. "]
[null,null,null,null,null,"  podatników od ukończenia wieku"]
[null,null,null,null,null,"  emerytalnego18)"]
[null,null,null,null,null," 15. Inne źródła19)",null,null,null,null,null,null,null,null,null,null,null,null," 90. ",null,null,null,null,null," 91. ",null,null,null,null,null," 92. ",null,null,null,null," 93. ",null,null,null," 94. "]
[]
[null,null,null,null,null," Składki na ubezpieczenia społeczne, o których mowa w przepisach ustawy, podlegające odliczeniu od",null,null,null,null,null,null,null,null,null,null,null,null,null,null,null,null,null,null,null,null,null,null,null,null,null,null,null,null,null," 95. "]
[null,null,null,null,null," dochodu20), w tym zagraniczne, o których mowa w art. 26 ust. 1 pkt 2a ustawy, z wyjątkiem wykazanych"]
[null,null,null,null,null," w poz. 96"]
[null,null,null,null,null," Składki na ubezpieczenia społeczne, o których mowa w przepisach ustawy20), w tym zagraniczne, o których",null,null,null,null,null,null,null,null,null,null,null,null,null,null,null,null,null,null,null,null,null,null,null,null,null,null,null,null,null," 96. "]
[null,null,null,null,null," mowa w art. 26 ust. 1 pkt 2a ustawy, których podstawę wymiaru stanowi przychód wymieniony w wierszach"]
[null,null,null,null,null,"  2, 3, 7, 8 i 11 części E"]
[null,null,null,null,null," Składki na ubezpieczenia społeczne, o których mowa w przepisach ustawy, których podstawę wymiaru",null,null,null,null,null,null,null,null,null,null,null,null,null,null,null,null,null,null,null,null,null,null,null,null,null,null,null,null,null," 97. "]
[null,null,null,null,null," stanowi przychód zwolniony na podstawie art. 21 ust. 1 pkt 148 oraz 152-154 ustawy, wykazane odpowiednio"]
[null,null,null,null,null," w poz. 110, 111, 112, 115 i 116"]
[]
[null,null,"PIT-11(29)",null,null,null,null,null,null,null,"2/4"]
[]
[]
[]
[null,null," POLTAX",null,null,null,null,null,null,null,"POLA JASNE WYPEŁNIA SKŁADAJĄCY, POLA CIEMNE WYPEŁNIA URZĄD. WYPEŁNIAĆ DUŻYMI, DRUKOWANYMI LITERAMI, CZARNYM LUB NIEBIESKIM KOLOREM."]
[null,null,null,null,null,null,null,null,null,null,"Składanie w wersji elektronicznej: www.podatki.gov.pl"]
[]
[null,null," F. INFORMACJA O WYSOKOŚCI PRZYCHODÓW, O KTÓRYCH MOWA W ART. 20 UST. 1 USTAWY"]
[null,null,null,null,null,null,"(część tę wypełniają składający niebędący płatnikami, o których mowa w art. 42a ustawy, w tym rolnicy)"]
[null,null,null,null,null,null,"Rodzaj przychodu (wymienić):",null,null,null,null,null,null,null,null,null,null,null,null,null,null,null,null,null,null,null,null,null,null,null,null,null,null,null,null,"Przychód"]
[null,null,null,null,null,null," Wynagrodzenie z tytułu umowy o pomocy przy zbiorach",null,null,null,null,null,null,null,null,null,null,null,null,null,null,null,null,null,null,null,null,null,null,null,null,null,null,null,null," 98. "]
[]
[null,null,null,null,null,null," 99. ",null,null,null,null,null,null,null,null,null,null,null,null,null,null,null,null,null,null,null,null,null,null,null,null,null,null,null,null," 100. "]
[]
[null,null,null,null,null,null," 101. ",null,null,null,null,null,null,null,null,null,null,null,null,null,null,null,null,null,null,null,null,null,null,null,null,null,null,null,null," 102. "]
[]
[null,null,null,null,null,null," 103. ",null,null,null,null,null,null,null,null,null,null,null,null,null,null,null,null,null,null,null,null,null,null,null,null,null,null,null,null," 104. "]
[]
[null,null,null,null,null,null," Razem",null,null,null,null,null,null,null,null,null,null,null,null,null,null,null,null,null,null,null,null,null,null,null,null,null,null,null,null," 105. "]
[null,null,null,null,null,null," Suma kwot z poz.: 98, 100, 102 i 104."]
[]
[null,null," G. INFORMACJA O PRZYCHODACH ZWOLNIONYCH OD PODATKU, ZAŁĄCZNIKU ORAZ"]
[null,null,"     O POBRANYCH PRZEZ PŁATNIKA SKŁADKACH: NA UBEZPIECZENIE ZDROWOTNE ORAZ"]
[null,null,"     CZŁONKOWSKICH NA RZECZ ZWIĄZKÓW ZAWODOWYCH (część tę wypełniają składający będący płatnikami)"]
[null,null,null,null,null,null," Przychody z tytułu stypendium, o którym mowa w art. 21 ust. 1 pkt 40b ustawy",null,null,null,null,null,null,null,null,null,null,null,null,null,null,null,null,null,null,null,null,null,null,null,null,null,null,null,null," 106. "]
[null,null,null,null,null,null," Należy wykazać kwotę stypendium, do wysokości limitu zwolnienia21)."]
[null,null,null,null,null,null," Przychody otrzymywane z zagranicy, o których mowa w art. 21 ust. 1 pkt 74 ustawy, między innymi renty",null,null,null,null,null,null,null,null,null,null,null,null,null,null,null,null,null,null,null,null,null,null,null,null,null,null,null,null," 107. "]
[null,null,null,null,null,null," inwalidzkie z tytułu inwalidztwa wojennego"]
[null,null,null,null,null,null," Przychody pochodzące ze środków bezzwrotnej pomocy zagranicznej, o których mowa",null,null,null,null,null,null,null,null,null,null,null,null,null,null,null,null,null,null,null,null,null,null,null,null,null,null,null,null," 108. "]
[null,null,null,null,null,null," w art. 21 ust. 1 pkt 46 ustawy"]
[null,null,null,null,null,null," Przychody ze stosunku pracy i stosunków pokrewnych, z umów zlecenia, praktyk absolwenckich lub staży",null,null,null,null,null,null,null,null,null,null,null,null,null,null,null,null,null,null,null,null,null,null,null,null,null,null,null,null," 109. "]
[null,null,null,null,null,null," uczniowskich oraz z zasiłków macierzyńskich, o których mowa w art. 21 ust. 1 pkt 148 ustawy"]
[null,null,null,null,null,null," Należy wykazać kwotę przychodu, do wysokości limitu zwolnienia22)."]
[null,null,null,null,null,null,"w tym:",null,null," przychody ze stosunku pracy i stosunków pokrewnych",null,null,null,null,null,null,null,null,null,null,null,null,null,null,null,null,null,null,null,null,null,null,null,null,null," 110. "]
[]
[null,null,null,null,null,null,null,null,null," przychody z umów zlecenia",null,null,null,null,null,null,null,null,null,null,null,null,null,null,null,null,null,null,null,null,null,null,null,null,null," 111."]
[]
[null,null,null,null,null,null,null,null,null," przychody z tytułu praktyk absolwenckich lub staży uczniowskich",null,null,null,null,null,null,null,null,null,null,null,null,null,null,null,null,null,null,null,null,null,null,null,null,null," 112. "]
[]
[null,null,null,null,null,null,null,null,null," przychody z zasiłków macierzyńskich",null,null,null,null,null,null,null,null,null,null,null,null,null,null,null,null,null,null,null,null,null,null,null,null,null," 113. "]
[]
[null,null,null,null,null,null," Przychody ze stosunku pracy i stosunków pokrewnych, z umów zlecenia oraz z zasiłków macierzyńskich",null,null,null,null,null,null,null,null,null,null,null,null,null,null,null,null,null,null,null,null,null,null,null,null,null,null,null,null," 114. "]
[null,null,null,null,null,null," o których mowa w art. 21 ust. 1 pkt 152-154 ustawy"]
[null,null,null,null,null,null," Należy wykazać kwotę przychodu, do wysokości limitu zwolnienia22)."]
[null,null,null,null,null,null,"w tym:",null,null," przychody ze stosunku pracy i stosunków pokrewnych",null,null,null,null,null,null,null,null,null,null,null,null,null,null,null,null,null,null,null,null,null,null,null,null,null," 115. "]
[]
[null,null,null,null,null,null,null,null,null," przychody z umów zlecenia",null,null,null,null,null,null,null,null,null,null,null,null,null,null,null,null,null,null,null,null,null,null,null,null,null," 116. "]
[]
[null,null,null,null,null,null,null,null,null," przychody z zasiłków macierzyńskich",null,null,null,null,null,null,null,null,null,null,null,null,null,null,null,null,null,null,null,null,null,null,null,null,null," 117. "]
[]
[null,null,null,null,null,null," Rodzaj (podstawa prawna) przychodu zwolnionego od podatku, wykazanego w poz. 114 (należy zaznaczyć właściwy (-we) kwadrat (-ty)):"]
[null,null,null,null,null,null," 118. ",null,null,null,null,null,"art. 21 ust. 1 pkt 152 ustawy",null,null,null,null,null,null,"119. ",null,null,null,null,"art. 21 ust. 1 pkt 153 ustawy",null,null,null,null,null,null,null,"120. ",null,null,"art. 21 ust. 1 pkt 154 ustawy"]
[null,null,null,null,null,null," 121. Do niniejszej informacji dołączono informację PIT-R (należy zaznaczyć właściwy kwadrat):"]
[null,null,null,null,null,null,null,null,null,null,null,null,null,null,null,null,null,null,null,null,null,null,"1. tak",null,null,null,null,null,null,"2. nie"]
[null,null,null,null,null,null," Składki na ubezpieczenie zdrowotne pobrane przez płatnika do wysokości 9% podstawy jej wymiaru23)",null,null,null,null,null,null,null,null,null,null,null,null,null,null,null,null,null,null,null,null,null,null,null,null,null,null,null,null," 122. "]
[]
[null,null,null,null,null,null," Składki członkowskie na rzecz związków zawodowych pobrane przez płatnika, podlegające odliczeniu od",null,null,null,null,null,null,null,null,null,null,null,null,null,null,null,null,null,null,null,null,null,null,null,null,null,null,null,null," 123. "]
[null,null,null,null,null,null," dochodu, o których mowa w art. 26 ust. 1 pkt 2c ustawy"]
[]
[null,null," H. PODPIS PŁATNIKA LUB OSOBY WYZNACZONEJ DO OBLICZENIA I POBRANIA PODATKU/"]
[null,null,"     PEŁNOMOCNIKA PŁATNIKA (część tę wypełniają składający będący płatnikami)"]
[null,null,null,null,null,null," 124. Imię, nazwisko, podpis albo nadruk z imieniem, nazwiskiem oraz stanowiskiem służbowym"]
[]
[]
[null,null," I. PODPIS OSOBY UPOWAŻNIONEJ DO SPORZĄDZENIA INFORMACJI"]
[null,null,null,null,null,null,"(część tę wypełniają składający niebędący płatnikami, którzy wypełnili część F)"]
[null,null,null,null,null,null," 125. Imię, nazwisko, podpis albo nadruk z imieniem, nazwiskiem oraz stanowiskiem służbowym"]
[]
[]
[null,null,null,null,null,null,null,null,null,null,null,null,null,null,null,null,null,null,null,null,null,null,null,null,null,null,null,null,null,null,null,null,null,null,null,null,null,null,"PIT-11(29)",null,null,"3/4"]
[]
[]
[]
[null,null," POLTAX",null,null,null,null,null,null,null,"POLA JASNE WYPEŁNIA SKŁADAJĄCY, POLA CIEMNE WYPEŁNIA URZĄD. WYPEŁNIAĆ DUŻYMI, DRUKOWANYMI LITERAMI, CZARNYM LUB NIEBIESKIM KOLOREM."]
[null,null,null,null,null,null,null,null,null,null,"Składanie w wersji elektronicznej: www.podatki.gov.pl"]
[null,null,"Objaśnienia"]
[null,null,"1)","W przypadku przedsiębiorstwa w spadku należy podać identyfikator podatkowy NIP zmarłego przedsiębiorcy."]
[null,null,"2)","Jeżeli w odniesieniu do dochodów (przychodów) osoby fizycznej uzyskanych w roku, o którym mowa w poz. 4, składający sporządza i przesyła więcej niż jedną informację"]
[null,null,null,"PIT-11 (niebędącą korektą poprzedniej), w informacji tej nie uwzględnia się kwot wykazanych w uprzednio przesłanych informacjach (nie sumuje się ich). W przypadku gdy"]
[null,null,null,"sporządzone i przesłane w trakcie roku podatkowego informacje PIT-11 zawierają kompletne dane niezbędne do sporządzenia zeznania podatkowego, płatnik nie przesyła"]
[null,null,null,"informacji PIT-11 po zakończeniu roku."]
[null,null,"3)","Jeżeli w odniesieniu do dochodów (przychodów) osoby fizycznej uzyskanych w roku, o którym mowa w poz. 4, składający sporządza i przesyła więcej niż jedną informację PIT-11"]
[null,null,null,"(niebędącą korektą poprzedniej), należy podać kolejny numer składanej informacji dotyczącej tego roku podatkowego."]
[null,null,"4)","Od 1 stycznia 2023 r. art. 35 ust. 6 ustawy zastępuje dotychczasowy art. 35 ust. 10 ustawy. Przepis art. 35 ust. 6 ustawy ma zastosowanie do dochodów (przychodów)"]
[null,null,null,"uzyskanych od 1 stycznia 2023 r."]
[null,null,"5)","Art. 35a ustawy został uchylony z dniem 26 października 2007 r. ustawą z dnia 24 sierpnia 2007 r. o zmianie ustawy o promocji zatrudnienia i instytucjach rynku pracy oraz"]
[null,null,null,"o zmianie niektórych innych ustaw (Dz. U. poz. 1243). Uchylony przepis na mocy art. 7 ust. 7 powołanej ustawy ma zastosowanie do płatników do czasu obowiązywania umowy"]
[null,null,null,"aktywizacyjnej zawartej przed dniem 26 października 2007 r. W tym przypadku płatnik przekazuje informację podatnikowi i urzędowi skarbowemu w terminie do końca lutego"]
[null,null,null,"roku następującego po roku podatkowym."]
[null,null,"6)","W przypadku przedsiębiorstwa w spadku za dzień zaprzestania działalności uważa się dzień wygaśnięcia zarządu sukcesyjnego albo wygaśnięcia uprawnienia do powołania"]
[null,null,null,"zarządcy sukcesyjnego, jeżeli zarząd sukcesyjny nie został ustanowiony i dokonano zgłoszenia, o którym mowa w art. 12 ust. 1c ustawy z dnia 13 października 1995 r."]
[null,null,null,"o zasadach ewidencji i identyfikacji podatników i płatników (Dz. U. z 2022 r. poz. 166)."]
[null,null,"7)","Ilekroć w informacji jest mowa o urzędzie skarbowym, w tym o urzędzie skarbowym, do którego adresowana jest informacja – oznacza to urząd skarbowy, przy pomocy którego"]
[null,null,null,"właściwy dla podatnika naczelnik urzędu skarbowego wykonuje swoje zadania."]
[null,null,"8)","Zgodnie z art. 81 ustawy z dnia 29 sierpnia 1997 r. – Ordynacja podatkowa (Dz. U. z 2021 r. poz. 1540, z późn. zm.), zwanej dalej „Ordynacją podatkową”."]
[null,null,"9)","W przypadku przedsiębiorstwa w spadku należy podać dane identyfikacyjne zmarłego przedsiębiorcy."]
[null,null,"10)","W przypadku zaznaczenia kwadratu nr 2 w poz. 19-27 należy podać kraj inny niż Rzeczypospolita Polska oraz adres zamieszkania za granicą; dodatkowo kod kraju wydania"]
[null,null,null,"dokumentu powinien być zgodny z krajem adresu zamieszkania."]
[null,null,"11)","W poz. 13 należy podać numer służący identyfikacji do celów podatkowych lub ubezpieczeń społecznych uzyskany w państwie, w którym podatnik ma miejsce zamieszkania."]
[null,null,null,"W przypadku braku takiego numeru w poz. 13 należy podać numer dokumentu stwierdzającego tożsamość podatnika, uzyskanego w tym państwie."]
[null,null,"12)","Poz. 14 i 15 należy wypełnić, jeżeli w poz. 13 podano zagraniczny numer identyfikacyjny podatnika lub numer dokumentu stwierdzającego tożsamość podatnika."]
[null,null,"13)","W kwocie przychodów, w części E, nie uwzględnia się przychodów wolnych od podatku na podstawie przepisów ustawy oraz przychodów, od których na podstawie przepisów"]
[null,null,null,"Ordynacji podatkowej zaniechano poboru podatku; jednakże w kolumnie e należy wykazać dochody zwolnione od podatku na podstawie umów o unikaniu podwójnego"]
[null,null,null,"opodatkowania lub innych umów międzynarodowych."]
[null,null,"14)","W kwocie kosztów uzyskania przychodów wykazuje się koszty faktycznie uwzględnione przez płatnika przy poborze zaliczek na podatek."]
[null,null,"15)","W przypadku gdy zakład pracy pobierał zaliczki na podatek zarówno od należności ze stosunku: pracy, służbowego, spółdzielczego i z pracy nakładczej, o których mowa"]
[null,null,null,"w art. 12 ust. 1 ustawy, jak i zasiłków pieniężnych z ubezpieczenia społecznego, o których mowa w art. 20 ust. 1 ustawy, łączną kwotę zaliczek pobranych z tych źródeł wykazuje"]
[null,null,null,"tylko raz. Kwotę tę płatnik może wykazać w wierszu 1, odpowiednio w wierszach 2, 3, 12, 13, 14 albo 15 części E."]
[null,null,"16)","W wierszu 1 i odpowiednio wierszu 6 części E wykazuje się również przychody z wymienionych tam tytułów otrzymane przez podatników, którzy przenieśli miejsce zamieszkania"]
[null,null,null,"na terytorium Rzeczypospolitej Polskiej (tzw. ulga na powrót) oraz otrzymane przez podatników, którzy w roku podatkowym wychowywali co najmniej czworo dzieci (tzw. ulga dla"]
[null,null,null,"rodzin 4+), jeśli płatnik w trakcie roku pobierał od tych przychodów zaliczki na podatek w sytuacji gdy podatnik nie złożył płatnikowi oświadczenia o spełnieniu warunków do"]
[null,null,null,"stosowania zwolnień od podatku, o których mowa w art. 21 ust. 1 pkt 152 i 153 ustawy, albo z powodu przekroczenia limitu przychodu zwolnionego od podatku (sumy kwot"]
[null,null,null,"wykazanych w poz. 109 i 114), gdy zwolnienie było stosowane w trakcie roku. W wierszach tych należy odpowiednio wykazać przychody uzyskane przez podatników wraz"]
[null,null,null,"z kwotą kosztów uzyskania przychodów oraz sumą zaliczek na podatek pobranych przez płatnika."]
[null,null,"17)","Wiersze 2, 7, 11 i 13 części E wypełnia się, jeśli płatnik w trakcie roku pobierał od tych przychodów zaliczki na podatek w związku ze złożeniem przez podatnika oświadczenia"]
[null,null,null,"o rezygnacji ze stosowania w trakcie roku zwolnienia od podatku, o którym mowa w art. 21 ust. 1 pkt 148 ustawy (tzw. ulga dla młodych) albo z powodu przekroczenia limitu"]
[null,null,null,"przychodu zwolnionego od podatku (sumy kwot wykazanych w poz. 109 i 114), gdy zwolnienie było stosowane w trakcie roku. W wierszach tych należy odpowiednio wykazać"]
[null,null,null,"przychody uzyskane przez podatników do ukończenia 26. roku życia wraz z kwotą kosztów uzyskania przychodów oraz sumą zaliczek na podatek pobranych przez płatnika."]
[null,null,null,"Przychody ze stosunku pracy i stosunków pokrewnych uzyskane przez podatnika po dniu ukończenia 26. roku życia płatnik wykazuje w wierszu 1, odpowiednio przychody"]
[null,null,null,"z umów zlecenia, o których mowa w art. 13 pkt 8 ustawy, płatnik wykazuje w wierszu 6, przychody z praktyk absolwenckich lub staży uczniowskich, płatnik wykazuje w wierszu"]
[null,null,null,"10, a przychody z zasiłków macierzyńskich płatnik wykazuje w wierszu 12."]
[null,null,"18)","Wiersze 3, 8 i 14 części E wypełnia się, jeśli płatnik w trakcie roku pobierał od tych przychodów zaliczki na podatek w sytuacji gdy podatnik nie złożył płatnikowi oświadczenia"]
[null,null,null,"o spełnieniu warunków do stosowania zwolnienia od podatku, o którym mowa w art. 21 ust. 1 pkt 154 ustawy (tzw. ulgi dla seniora) albo z powodu przekroczenia limitu"]
[null,null,null,"przychodu zwolnionego od podatku (sumy kwot wykazanych w poz. 109 i 114), gdy zwolnienie było stosowane w trakcie roku. W wierszach tych należy odpowiednio wykazać"]
[null,null,null,"przychody uzyskane przez podatników po ukończeniu 60. roku życia w przypadku kobiety i 65. roku życia w przypadku mężczyzny, pod warunkiem że podatnik podlega z tytułu"]
[null,null,null,"uzyskania tych przychodów ubezpieczeniom społecznym w rozumieniu ustawy z dnia 13 października 1998 r. o systemie ubezpieczeń społecznych (Dz. U. z 2022 r. poz. 1009,"]
[null,null,"","z późn. zm.). W wierszach tych należy odpowiednio wykazać kwoty kosztów uzyskania przychodów oraz sumy zaliczek na podatek pobranych przez płatnika. Przychody ze"]
[null,null,"","stosunku pracy i stosunków pokrewnych uzyskane przez podatnika przed ukończeniem ww. wieku płatnik wykazuje w wierszu 1, odpowiednio przychody z umów zlecenia,"]
[null,null,"","o których mowa w art. 13 pkt 8 ustawy płatnik wykazuje w wierszu 6, a z zasiłków macierzyńskich – w wierszu 12."]
[null,null,"19)","W wierszu 15 części E wykazuje się m.in. zasiłki pieniężne z ubezpieczenia społecznego wypłacone przez zakład pracy, z wyjątkiem zasiłków macierzyńskich wykazanych"]
[null,null,null,"w wierszach 12, 13 i 14, należności z tytułu członkostwa w rolniczej spółdzielni produkcyjnej, należności za pracę przypadające tymczasowo aresztowanym lub skazanym,"]
[null,null,null,"świadczenia wypłacone z Funduszów: Pracy i Gwarantowanych Świadczeń Pracowniczych, należności wynikające z umowy aktywizacyjnej, a także kwotę stypendium, o którym"]
[null,null,null,"mowa w art. 21 ust. 1 pkt 40b ustawy, w wysokości przekraczającej kwotę zwolnioną od podatku (wykazaną w poz. 106)."]
[null,null,"20)","W poz. 95 i 96 nie wykazuje się składek, których podstawę wymiaru stanowi dochód (przychód) zwolniony od podatku na podstawie ustawy, oraz składek, których podstawę"]
[null,null,null,"wymiaru stanowi dochód, od którego na podstawie przepisów Ordynacji podatkowej zaniechano poboru podatku, a w przypadku składek zagranicznych, których podstawę"]
[null,null,null,"wymiaru stanowi dochód (przychód) zwolniony od podatku na podstawie umów o unikaniu podwójnego opodatkowania."]
[null,null,"21)","Limit zwolnienia od podatku wynosi 3 800 zł w roku podatkowym."]
[null,null,"22)","Limit zwolnienia od podatku przychodów wykazanych w poz. 109 i 114 wynosi łącznie 85 528 zł w roku podatkowym."]
[null,null,"23)","W poz. 122 wykazuje się składki na ubezpieczenie zdrowotne, o których mowa w ustawie z dnia 27 sierpnia 2004 r. o świadczeniach opieki zdrowotnej finansowanych ze"]
[null,null,null,"środków publicznych (Dz. U. z 2021 r. poz. 1285, z późn. zm.). Składki wykazane w poz. 122 są uwzględniane w kwocie składek do obliczenia w zeznaniu podatkowym"]
[null,null,null,"dodatkowego zwrotu z tytułu ulgi na dzieci, zgodnie z art. 27f ust. 9 ustawy."]
[]
[]
[null,null," Pouczenie"]
[null,null,"   Za uchybienie obowiązkom płatnika, a także za złożenie informacji nieprawdziwej grozi odpowiedzialność przewidziana w Kodeksie karnym skarbowym."]
[]
[]
[]
[null,null,"PIT-11(29)",null,null,null,null,null,null,null,"4/4"]

{"sheet":"Instrukcja","index":4,"n_rows":2479,"n_cols":35,"rows_kept":2479,"cut":false,"hidden":false,"merged":[[43,1,43,11],[36,4,36,7],[0,1,0,16],[39,4,39,7],[9,1,9,4],[32,4,32,7],[41,1,41,11]]}
[null,"Instrukcja obsługi przygotowania informacji PIT11 / PIT-11Z",null,null,null,null,null,null,null,null,null,null,null,null,null,null,null,null,null,null,null,null,null,"Płatnik/Składający","URZĄD SKARBOWY W ALEKSANDROWIE KUJAWSKIM","0402","kod","nazwa","DOLNOŚLĄSKIE",11,"Nr","Powiat","kod","POLSKA","PL"]
[null,"I - Wprowadzanie danych",null,null,null,null,null,null,null,null,null,null,null,null,null,null,null,null,null,null,null,null,null,null,"URZĄD SKARBOWY W AUGUSTOWIE","2002",1111,"BOLESŁAWIEC-MIEJSKA","KUJAWSKO-POMORSKIE",12,11,"BOLESŁAWIECKI",1111,"AFGANISTAN","AF"]
[null,"Wprowadź wszystkie dane, które mają być wstawione do formularza PIT-11",null,null,null,null,null,null,null,null,null,null,null,null,null,null,null,null,null,null,null,null,null,null,"URZĄD SKARBOWY W BARTOSZYCACH","2802",1111,"BOLESŁAWIEC-WIEJSKA","LUBELSKIE",13,11,"DZIERŻONIOWSKI",1112,"ALAND ISLANDS","AX"]
[null,"1) na arkuszu \"Płatnik\" (przekładka na dole ekranu)   2) na arkuszu \"Podatnicy\"  (przekładka na dole ekranu)",null,null,null,null,null,null,null,null,null,null,null,null,null,null,null,null,null,null,null,null,null,null,"URZĄD SKARBOWY W BEŁCHATOWIE","1002",1111,"GROMADKA","LUBUSKIE",14,11,"GŁOGOWSKI",1113,"ALBANIA","AL"]
[null,null,null,null,null,null,null,null,null,null,null,null,null,null,null,null,null,null,null,null,null,null,null,null,"URZĄD SKARBOWY W BĘDZINIE","2402",1111,"NOWOGRODZIEC","ŁÓDZKIE",15,11,"GÓROWSKI",1114,"ALGIERIA","DZ"]
[null,null,null,null,null,null,null,null,null,null,null,null,null,null,null,null,null,null,null,null,null,null,null,null,"URZĄD SKARBOWY W BIAŁEJ PODLASKIEJ","0602",1111,"OSIECZNICA","MAŁOPOLSKIE",16,11,"JAWORSKI",1115,"ANDORA","AD"]
[null,"II - Przygotowanie programu do wydruku dwustronnego PIT-11",null,null,null,null,null,null,null,null,null,null,null,null,null,null,null,null,null,null,null,null,null,null,"URZĄD SKARBOWY W BIAŁOBRZEGACH","1402",1111,"WARTA BOLESŁAWIECKA","MAZOWIECKIE",17,11,"JELENIOGÓRSKI",1116,"ANGOLA","AO"]
[null,"Jeżeli wydruki będą wykonywane na drukarce laserowej posiadającej moduł wydruku dwustronnego",null,null,null,null,null,null,null,null,null,null,null,null,null,null,null,null,null,null,null,null,null,null,"URZĄD SKARBOWY W BIAŁOGARDZIE","3202",1112,"BIELAWA","OPOLSKIE",18,11,"KAMIENNOGÓRSKI",1117,"ANGUILLA","AI"]
[null,"ustaw wydruk dwustronny arkusza PIT-11 (Ustawienia strony / Opcje / Wydruk dwustronny)",null,null,null,null,null,null,null,null,null,null,null,null,null,null,null,null,null,null,null,null,null,null,"PIERWSZY URZĄD SKARBOWY W BIAŁYMSTOKU","2003",1112,"DZIERŻONIÓW-MIEJSKA","PODKARPACKIE",19,11,"KŁODZKI",1118,"ANTARKTYDA","AQ"]
[null,null,null,null,null,null,null,null,null,null,null,null,null,null,null,null,null,null,null,null,null,null,null,null,"DRUGI URZĄD SKARBOWY W BIAŁYMSTOKU","2004",1112,"DZIERŻONIÓW-WIEJSKA","PODLASKIE",20,11,"LEGNICKI",1119,"ANTIGUA I BARBUDA","AG"]
[null,"Przyciskiem na arkuszu \"PIT-11\" \"Wyłącz tło\" włącz lub wyłącz tło w formularzu, np. dla oszczędności toneru.",null,null,null,null,null,null,null,null,null,null,null,null,null,null,null,null,null,null,null,null,null,null,"URZĄD SKARBOWY W BIELSKU PODLASKIM","2005",1112,"ŁAGIEWNIKI","POMORSKIE",21,11,"LUBAŃSKI",1120,"ANTYLE HOLENDERSKIE","AN"]
[null,null,null,null,null,null,null,null,null,null,null,null,null,null,null,null,null,null,null,null,null,null,null,null,"PIERWSZY URZĄD SKARBOWY W BIELSKU-BIAŁEJ","2403",1112,"NIEMCZA","ŚLĄSKIE",22,11,"LUBIŃSKI",1121,"ARABIA SAUDYJSKA","SA"]
[null,"III - Wydruki",null,null,null,null,null,null,null,null,null,null,null,null,null,null,null,null,null,null,null,null,null,null,"DRUGI URZĄD SKARBOWY W BIELSKU-BIAŁEJ","2404",1112,"PIESZYCE","ŚWIĘTOKRZYSKIE",23,11,"LWÓWECKI",1122,"ARGENTYNA","AR"]
[null,"Dla drukarki laserowej z modułem wydruku dwustronnego.",null,null,null,null,null,null,null,null,null,null,null,null,null,null,null,null,null,null,null,null,null,null,"URZĄD SKARBOWY W BIŁGORAJU","0603",1112,"PIŁAWA GÓRNA","WARMIŃSKO-MAZURSKIE",24,11,"MILICKI",1123,"ARMENIA","AM"]
[null,"Wpisz na arkuszu Podatnicy w komórkach C3 i C4 przedział informacji, które mają być wydrukowane.",null,null,null,null,null,null,null,null,null,null,null,null,null,null,null,null,null,null,null,null,null,null,"URZĄD SKARBOWY W BOCHNI","1202",1113,"GŁOGÓW-MIEJSKA","WIELKOPOLSKIE",25,11,"OLEŚNICKI",1124,"ARUBA","AW"]
[null,"Ustaw w komórce C5 liczbę kopii 1 i uruchom wydruk dwukrotnie aby nie trzeba było rozdzielać informacji.",null,null,null,null,null,null,null,null,null,null,null,null,null,null,null,null,null,null,null,null,null,null,"URZĄD SKARBOWY W BOLESŁAWCU","0202",1113,"GŁOGÓW-WIEJSKA","ZACHODNIOPOMORSKIE",26,11,"OŁAWSKI",1125,"AUSTRALIA","AU"]
[null,"Przed każdym wydrukiem możesz włączyć lub wyłączyć tło w druku PIT-11 (patrz wyżej)",null,null,null,null,null,null,null,null,null,null,null,null,null,null,null,null,null,null,null,null,null,null,"URZĄD SKARBOWY W BRANIEWIE","2803",1113,"JERZMANOWA",null,null,11,"POLKOWICKI",1126,"AUSTRIA","AT"]
[null,"np. dla pracownika wydruk z tłem, własną kopię bez tła dla oszczędności tonera.",null,null,null,null,null,null,null,null,null,null,null,null,null,null,null,null,null,null,null,null,null,null,"URZĄD SKARBOWY W BRODNICY","0403",1113,"KOTLA",null,null,11,"STRZELIŃSKI",1127,"AZERBEJDŻAN","AZ"]
[null,null,null,null,null,null,null,null,null,null,null,null,null,null,null,null,null,null,null,null,null,null,null,null,"URZĄD SKARBOWY W BRZEGU","1602",1113,"PĘCŁAW",null,null,11,"ŚREDZKI ",1128,"BAHAMY","BS"]
[null,"Dla drukarki laserowej z wydrukiem jednostronnym",null,null,null,null,null,null,null,null,null,null,null,null,null,null,null,null,null,null,null,null,null,null,"URZĄD SKARBOWY W BRZESKU","1203",1113,"ŻUKOWICE",null,null,11,"ŚWIDNICKI ",1129,"BAHRAJN","BH"]
[null,"Wpisz na arkuszu Podatnicy w komórkach C3 i C4 przedział informacji, które mają być wydrukowane.",null,null,null,null,null,null,null,null,null,null,null,null,null,null,null,null,null,null,null,null,null,null,"URZĄD SKARBOWY W BRZEZINACH","1003",1114,"GÓRA",null,null,11,"TRZEBNICKI",1130,"BANGLADESZ","BD"]
[null,"Ustaw w komórce C5 liczbę kopii 2 gdyż do wydruku drugiej strony trzeba będzie ręcznie przełożyć kartki.",null,null,null,null,null,null,null,null,null,null,null,null,null,null,null,null,null,null,null,null,null,null,"URZĄD SKARBOWY W BRZOZOWIE","1802",1114,"JEMIELNO",null,null,11,"WAŁBRZYSKI",1131,"BARBADOS","BB"]
[null,null,null,null,null,null,null,null,null,null,null,null,null,null,null,null,null,null,null,null,null,null,null,null,"URZĄD SKARBOWY W BUSKU-ZDROJU","2602",1114,"NIECHLÓW",null,null,11,"WOŁOWSKI",1132,"BELGIA","BE"]
[null,"IV - Zapisywanie PIT-11 do plików pdf",null,null,null,null,null,null,null,null,null,null,null,null,null,null,null,null,null,null,null,null,null,null,"PIERWSZY URZĄD SKARBOWY W BYDGOSZCZY","0404",1114,"WĄSOSZ",null,null,11,"WROCŁAWSKI",1133,"BELIZE","BZ"]
[null,"Funkcja działa tylko dla Excel 2007 lub nowszych",null,null,null,null,null,null,null,null,null,null,null,null,null,null,null,null,null,null,null,null,null,null,"DRUGI URZĄD SKARBOWY W BYDGOSZCZY","0405",1115,"BOLKÓW",null,null,11,"ZĄBKOWICKI",1134,"BENIN","BJ"]
[null,"Pliki pdf zapisywane są do folderu, z którego uruchomiono plik programu.",null,null,null,null,null,null,null,null,null,null,null,null,null,null,null,null,null,null,null,null,null,null,"TRZECI URZĄD SKARBOWY W BYDGOSZCZY","0406",1115,"JAWOR",null,null,11,"ZGORZELECKI",1135,"BERMUDY","BM"]
[null,"Pliki w formacie pdf można wykorzystać dla celów archiwalnych zamiast papierowych kopii.",null,null,null,null,null,null,null,null,null,null,null,null,null,null,null,null,null,null,null,null,null,null,"URZĄD SKARBOWY W BYSTRZYCY KŁODZKIEJ","0203",1115,"MĘCINKA",null,null,11,"ZŁOTORYJSKI",1136,"BHUTAN","BT"]
[null,null,null,null,null,null,null,null,null,null,null,null,null,null,null,null,null,null,null,null,null,null,null,null,"URZĄD SKARBOWY W BYTOMIU","2405",1115,"MŚCIWOJÓW",null,null,11,"M.JELENIA GÓRA",1137,"BIAŁORUŚ","BY"]
[null,null,null,null,null,null,null,null,null,null,null,null,null,null,null,null,null,null,null,null,null,null,null,null,"URZĄD SKARBOWY W BYTOWIE","2202",1115,"PASZOWICE",null,null,11,"M.LEGNICA",1138,"BOLIWIA","BO"]
[null,"V - Wysyłka elektroniczna informacji PIT-11 do systemu eDeklaracje",null,null,null,null,null,null,null,null,null,null,null,null,null,null,null,null,null,null,null,null,null,null,"URZĄD SKARBOWY W CHEŁMIE","0604",1115,"WĄDROŻE WIELKIE",null,null,11,"M.WROCŁAW",1139,"BOŚNIA I HERCEGOWINA","BA"]
[null,"Program wysyła informacje bezpośrednio do systemu eDeklaracje.",null,null,null,null,null,null,null,null,null,null,null,null,null,null,null,null,null,null,null,null,null,null,"URZĄD SKARBOWY W CHEŁMNIE","0407",1116,"JANOWICE WIELKIE",null,null,12,"ALEKSANDROWSKI",1211,"BOTSWANA","BW"]
[null,"Wysyłana jest deklaracja zbiorcza PIT-11Z (co najmniej dwie) lub pojedynczo PIT-11.",null,null,null,null,null,null,null,null,null,null,null,null,null,null,null,null,null,null,null,null,null,null,"URZĄD SKARBOWY W CHODZIEŻY","3037",1116,"JEŻÓW SUDECKI",null,null,12,"BRODNICKI",1212,"BRAZYLIA","BR"]
[null,null,null,null,null,null,null,null,null,null,null,null,null,null,null,null,null,null,null,null,null,null,null,null,"URZĄD SKARBOWY W CHOJNICACH","2203",1116,"KARPACZ",null,null,12,"BYDGOSKI",1213,"BRUNEI DARUSSALAM","BN"]
[null,"Wysyłka przez płatnika będącego osobą fizyczną wymaga wpisania przychodu z zeznania podatkowego sprzed 2-ch lat.",null,null,null,null,null,null,null,null,null,null,null,null,null,null,null,null,null,null,null,null,null,null,"URZĄD SKARBOWY W CHORZOWIE","2406",1116,"KOWARY",null,null,12,"CHEŁMIŃSKI",1214,"BRYTYJSKIE TERYTORIUM OCEANU INDYJSKIEGO","IO"]
[null,"Wysyłka przez płatnika nie będącego osobą fizyczną wymaga posiadania podpisu cyfrowego i złożonego wcześniej do US pełnomocnictwa UPL-1.",null,null,null,null,null,null,null,null,null,null,null,null,null,null,null,null,null,null,null,null,null,null,"URZĄD SKARBOWY W CHOSZCZNIE","3203",1116,"MYSŁAKOWICE",null,null,12,"GOLUBSKO-DOBRZYŃSKI",1215,"BUŁGARIA","BG"]
[null,"Wysyłka deklaracji zbiorczej wymaga zainstalowania programu 7-ZIP do folderu C:\\Program Files\\7-Zip\\",null,null,null,null,null,null,null,null,null,null,null,null,null,null,null,null,null,null,null,null,null,null,"URZĄD SKARBOWY W CHRZANOWIE","1204",1116,"PIECHOWICE",null,null,12,"GRUDZIĄDZKI",1216,"BURKINA FASO","BF"]
[null,"do pobrania na stronie:",null,null,"http://www.7-zip.org",null,null,null,null,null,null,null,null,null,null,null,null,null,null,null,null,null,null,null,"URZĄD SKARBOWY W CIECHANOWIE","1403",1116,"PODGÓRZYN",null,null,12,"INOWROCŁAWSKI",1217,"BURUNDI","BI"]
[null,null,null,null,null,null,null,null,null,null,null,null,null,null,null,null,null,null,null,null,null,null,null,null,"URZĄD SKARBOWY W CIESZYNIE","2407",1116,"STARA KAMIENICA",null,null,12,"LIPNOWSKI",1218,"CEUTA","XC"]
[null,"Uwaga - program działa wyłącznie przy włączonym makro.",null,null,null,null,null,null,null,null,null,null,null,null,null,null,null,null,null,null,null,null,null,null,"URZĄD SKARBOWY W CZARNKOWIE","3002",1116,"SZKLARSKA PORĘBA",null,null,12,"MOGILEŃSKI",1219,"CHILE","CL"]
[null,null,null,null,null,null,null,null,null,null,null,null,null,null,null,null,null,null,null,null,null,null,null,null,"URZĄD SKARBOWY W CZECHOWICACH-DZIEDZICACH","2408",1117,"KAMIENNA GÓRA-MIEJSKA",null,null,12,"NAKIELSKI",1220,"CHINY","CN"]
[null,"VI - Instrukcja składania podpisu cyfrowego",null,null,null,null,null,null,null,null,null,null,null,null,null,null,null,null,null,null,null,null,null,null,"PIERWSZY URZĄD SKARBOWY W CZĘSTOCHOWIE","2409",1117,"KAMIENNA GÓRA-WIEJSKA",null,null,12,"RADZIEJOWSKI",1221,"CHORWACJA","HR"]
[null,"kliknij-instrukcja wysyłki do e-Deklaracje.pdf",null,null,null,null,null,null,null,null,null,null,null,null,null,null,null,null,null,null,null,null,null,null,"DRUGI URZĄD SKARBOWY W CZĘSTOCHOWIE","2410",1117,"LUBAWKA",null,null,12,"RYPIŃSKI",1222,"CYPR","CY"]
[null,"Zobacz jak skonfigurować swój program do podpisu cyfrowego na potrzeby e-Deklaracje",null,null,null,null,null,null,null,null,null,null,null,null,null,null,null,null,null,null,null,null,null,null,"URZĄD SKARBOWY W CZŁUCHOWIE","2204",1117,"MARCISZÓW",null,null,12,"SĘPOLEŃSKI",1223,"CZAD","TD"]
[null,"kliknij-konfiguracja podpisu cyfrowego.pdf",null,null,null,null,null,null,null,null,null,null,null,null,null,null,null,null,null,null,null,null,null,null,"URZĄD SKARBOWY W DĄBROWIE GÓRNICZEJ","2411",1118,"BYSTRZYCA KŁODZKA",null,null,12,"ŚWIECKI",1224,"CZARNOGÓRA","ME"]
[null,"dla:",null,null,null,null,null,null,null,null,null,null,null,null,null,null,null,null,null,null,null,null,null,null,"URZĄD SKARBOWY W DĄBROWIE TARNOWSKIEJ","1205",1118,"DUSZNIKI-ZDRÓJ",null,null,12,"TORUŃSKI",1225,"DANIA","DK"]
[null,null,"- PEM-HEART-Signature 3.9",null,null,null,null,null,null,null,null,null,null,null,null,null,null,null,null,null,null,null,null,null,"URZĄD SKARBOWY W DĘBICY","1803",1118,"KŁODZKO-MIEJSKA",null,null,12,"TUCHOLSKI",1226,"DOMINIKA","DM"]
[null,null,"- Szafir 2.0.0 ",null,null,null,null,null,null,null,null,null,null,null,null,null,null,null,null,null,null,null,null,null,"URZĄD SKARBOWY W DRAWSKU POMORSKIM","3204",1118,"KŁODZKO-WIEJSKA",null,null,12,"WĄBRZESKI",1227,"DOMINIKANA","DO"]
[null,null,"- Sigillum Sign ",null,null,null,null,null,null,null,null,null,null,null,null,null,null,null,null,null,null,null,null,null,"URZĄD SKARBOWY W DREZDENKU","0812",1118,"KUDOWA-ZDRÓJ",null,null,12,"WŁOCŁAWSKI",1228,"DŻIBUTI","DJ"]
[null,null,"- proCertum SmartSign",null,null,null,null,null,null,null,null,null,null,null,null,null,null,null,null,null,null,null,null,null,"URZĄD SKARBOWY W DZIAŁDOWIE","2804",1118,"LĄDEK-ZDRÓJ",null,null,12,"ŻNIŃSKI",1229,"EGIPT","EG"]
[null,null,null,null,null,null,null,null,null,null,null,null,null,null,null,null,null,null,null,null,null,null,null,null,"URZĄD SKARBOWY W DZIERŻONIOWIE","0204",1118,"LEWIN KŁODZKI",null,null,12,"M.BYDGOSZCZ",1230,"EKWADOR","EC"]
[null,null,null,null,null,null,null,null,null,null,null,null,null,null,null,null,null,null,null,null,null,null,null,null,"URZĄD SKARBOWY W ELBLĄGU","2805",1118,"MIĘDZYLESIE",null,null,12,"M.GRUDZIĄDZ",1231,"ERYTREA","ER"]
[null,null,null,null,null,null,null,null,null,null,null,null,null,null,null,null,null,null,null,null,null,null,null,null,"URZĄD SKARBOWY W EŁKU","2806",1118,"NOWA RUDA-MIEJSKA",null,null,12,"M.TORUŃ",1232,"ESTONIA","EE"]
[null,null,null,null,null,null,null,null,null,null,null,null,null,null,null,null,null,null,null,null,null,null,null,null,"URZĄD SKARBOWY W GARWOLINIE","1404",1118,"NOWA RUDA-WIEJSKA",null,null,12,"M.WŁOCŁAWEK",1233,"ETIOPIA","ET"]
[null,null,null,null,null,null,null,null,null,null,null,null,null,null,null,null,null,null,null,null,null,null,null,null,"PIERWSZY URZĄD SKARBOWY W GDAŃSKU","2205",1118,"POLANICA-ZDRÓJ",null,null,13,"BIALSKI",1311,"FALKLANDY","FK"]
[null,null,null,null,null,null,null,null,null,null,null,null,null,null,null,null,null,null,null,null,null,null,null,null,"DRUGI URZĄD SKARBOWY W GDAŃSKU","2206",1118,"RADKÓW",null,null,13,"BIŁGORAJSKI",1312,"FIDŻI REPUBLIKA","FJ"]
[null,null,null,null,null,null,null,null,null,null,null,null,null,null,null,null,null,null,null,null,null,null,null,null,"TRZECI URZĄD SKARBOWY W GDAŃSKU","2207",1118,"STRONIE ŚLĄSKIE",null,null,13,"CHEŁMSKI",1313,"FILIPINY","PH"]
[null,null,null,null,null,null,null,null,null,null,null,null,null,null,null,null,null,null,null,null,null,null,null,null,"PIERWSZY URZĄD SKARBOWY W GDYNI","2208",1118,"SZCZYTNA",null,null,13,"HRUBIESZOWSKI",1314,"FINLANDIA","FI"]
[null,null,null,null,null,null,null,null,null,null,null,null,null,null,null,null,null,null,null,null,null,null,null,null,"DRUGI URZĄD SKARBOWY W GDYNI","2209",1119,"CHOJNÓW-MIEJSKA",null,null,13,"JANOWSKI",1315,"FRANCJA","FR"]
[null,null,null,null,null,null,null,null,null,null,null,null,null,null,null,null,null,null,null,null,null,null,null,null,"URZĄD SKARBOWY W GIŻYCKU","2807",1119,"CHOJNÓW-WIEJSKA",null,null,13,"KRASNOSTAWSKI",1316,"FRANCUSKIE TERYTORIUM POŁUDNIOWE","TF"]
[null,null,null,null,null,null,null,null,null,null,null,null,null,null,null,null,null,null,null,null,null,null,null,null,"PIERWSZY URZĄD SKARBOWY W GLIWICACH","2412",1119,"KROTOSZYCE",null,null,13,"KRAŚNICKI",1317,"GABON","GA"]
[null,null,null,null,null,null,null,null,null,null,null,null,null,null,null,null,null,null,null,null,null,null,null,null,"DRUGI URZĄD SKARBOWY W GLIWICACH","2413",1119,"KUNICE",null,null,13,"LUBARTOWSKI",1318,"GAMBIA","GM"]
[null,null,null,null,null,null,null,null,null,null,null,null,null,null,null,null,null,null,null,null,null,null,null,null,"URZĄD SKARBOWY W GŁOGOWIE","0205",1119,"LEGNICKIE POLE",null,null,13,"LUBELSKI",1319,"GHANA","GH"]
[null,null,null,null,null,null,null,null,null,null,null,null,null,null,null,null,null,null,null,null,null,null,null,null,"URZĄD SKARBOWY W GŁOWNIE","1004",1119,"MIŁKOWICE",null,null,13,"ŁĘCZYŃSKI",1320,"GIBRALTAR","GI"]
[null,null,null,null,null,null,null,null,null,null,null,null,null,null,null,null,null,null,null,null,null,null,null,null,"URZĄD SKARBOWY W GŁUBCZYCACH","1603",1119,"PROCHOWICE",null,null,13,"ŁUKOWSKI",1321,"GRECJA","GR"]
[null,null,null,null,null,null,null,null,null,null,null,null,null,null,null,null,null,null,null,null,null,null,null,null,"URZĄD SKARBOWY W GNIEŹNIE","3003",1119,"RUJA",null,null,13,"OPOLSKI ",1322,"GRENADA","GD"]
[null,null,null,null,null,null,null,null,null,null,null,null,null,null,null,null,null,null,null,null,null,null,null,null,"URZĄD SKARBOWY W GOLENIOWIE","3205",1120,"LEŚNA",null,null,13,"PARCZEWSKI",1323,"GRENLANDIA","GL"]
[null,null,null,null,null,null,null,null,null,null,null,null,null,null,null,null,null,null,null,null,null,null,null,null,"URZĄD SKARBOWY W GOLUBIU-DOBRZYNIU","0422",1120,"LUBAŃ-MIEJSKA",null,null,13,"PUŁAWSKI",1324,"GRUZJA","GE"]
[null,null,null,null,null,null,null,null,null,null,null,null,null,null,null,null,null,null,null,null,null,null,null,null,"URZĄD SKARBOWY W GORLICACH","1206",1120,"LUBAŃ-WIEJSKA",null,null,13,"RADZYŃSKI",1325,"GUAM","GU"]
[null,null,null,null,null,null,null,null,null,null,null,null,null,null,null,null,null,null,null,null,null,null,null,null,"URZĄD SKARBOWY W GORZOWIE WIELKOPOLSKIM","0802",1120,"OLSZYNA",null,null,13,"RYCKI",1326,"GUERNSEY","GG"]
[null,null,null,null,null,null,null,null,null,null,null,null,null,null,null,null,null,null,null,null,null,null,null,null,"URZĄD SKARBOWY W GOSTYNINIE","1405",1120,"PLATERÓWKA",null,null,13,"ŚWIDNICKI",1327,"GUJANA","GY"]
[null,null,null,null,null,null,null,null,null,null,null,null,null,null,null,null,null,null,null,null,null,null,null,null,"URZĄD SKARBOWY W GOSTYNIU","3004",1120,"SIEKIERCZYN",null,null,13,"TOMASZOWSKI ",1328,"GUJANA FRANCUSKA","GF"]
[null,null,null,null,null,null,null,null,null,null,null,null,null,null,null,null,null,null,null,null,null,null,null,null,"URZĄD SKARBOWY W GÓRZE","0233",1120,"ŚWIERADÓW-ZDRÓJ",null,null,13,"WŁODAWSKI",1329,"GWADELUPA","GP"]
[null,null,null,null,null,null,null,null,null,null,null,null,null,null,null,null,null,null,null,null,null,null,null,null,"URZĄD SKARBOWY W GRAJEWIE","2006",1121,"LUBIN-MIEJSKA",null,null,13,"ZAMOJSKI",1330,"GWATEMALA","GT"]
[null,null,null,null,null,null,null,null,null,null,null,null,null,null,null,null,null,null,null,null,null,null,null,null,"URZĄD SKARBOWY W GRODZISKU MAZOWIECKIM","1406",1121,"LUBIN-WIEJSKA",null,null,13,"M.BIAŁA PODLASKA",1331,"GWINEA","GN"]
[null,null,null,null,null,null,null,null,null,null,null,null,null,null,null,null,null,null,null,null,null,null,null,null,"URZĄD SKARBOWY W GRODZISKU WIELKOPOLSKIM","3005",1121,"RUDNA",null,null,13,"M.CHEŁM",1332,"GWINEA RÓWNIKOWA","GQ"]
[null,null,null,null,null,null,null,null,null,null,null,null,null,null,null,null,null,null,null,null,null,null,null,null,"URZĄD SKARBOWY W GRÓJCU","1407",1121,"ŚCINAWA",null,null,13,"M.LUBLIN",1333,"GWINEA-BISSAU","GW"]
[null,null,null,null,null,null,null,null,null,null,null,null,null,null,null,null,null,null,null,null,null,null,null,null,"URZĄD SKARBOWY W GRUDZIĄDZU","0408",1122,"GRYFÓW ŚLĄSKI",null,null,13,"M.ZAMOŚĆ",1334,"HAITI","HT"]
[null,null,null,null,null,null,null,null,null,null,null,null,null,null,null,null,null,null,null,null,null,null,null,null,"URZĄD SKARBOWY W GRYFICACH","3206",1122,"LUBOMIERZ",null,null,14,"GORZOWSKI",1411,"HISZPANIA","ES"]
[null,null,null,null,null,null,null,null,null,null,null,null,null,null,null,null,null,null,null,null,null,null,null,null,"URZĄD SKARBOWY W GRYFINIE","3207",1122,"LWÓWEK ŚLĄSKI",null,null,14,"KROŚNIEŃSKI ",1412,"HONDURAS","HN"]
[null,null,null,null,null,null,null,null,null,null,null,null,null,null,null,null,null,null,null,null,null,null,null,null,"URZĄD SKARBOWY W HAJNÓWCE","2015",1122,"MIRSK",null,null,14,"MIĘDZYRZECKI",1413,"HONGKONG","HK"]
[null,null,null,null,null,null,null,null,null,null,null,null,null,null,null,null,null,null,null,null,null,null,null,null,"URZĄD SKARBOWY W HRUBIESZOWIE","0605",1122,"WLEŃ",null,null,14,"NOWOSOLSKI",1414,"INDIE","IN"]
[null,null,null,null,null,null,null,null,null,null,null,null,null,null,null,null,null,null,null,null,null,null,null,null,"URZĄD SKARBOWY W IŁAWIE","2808",1123,"CIESZKÓW",null,null,14,"SŁUBICKI",1415,"INDONEZJA","ID"]
[null,null,null,null,null,null,null,null,null,null,null,null,null,null,null,null,null,null,null,null,null,null,null,null,"URZĄD SKARBOWY W INOWROCŁAWIU","0409",1123,"KROŚNICE",null,null,14,"STRZELECKO-DREZDENECKI",1416,"IRAK","IQ"]
[null,null,null,null,null,null,null,null,null,null,null,null,null,null,null,null,null,null,null,null,null,null,null,null,"URZĄD SKARBOWY W JANOWIE LUBELSKIM","0606",1123,"MILICZ",null,null,14,"SULĘCIŃSKI",1417,"IRAN","IR"]
[null,null,null,null,null,null,null,null,null,null,null,null,null,null,null,null,null,null,null,null,null,null,null,null,"URZĄD SKARBOWY W JAROCINIE","3006",1124,"BIERUTÓW",null,null,14,"ŚWIEBODZIŃSKI",1418,"IRLANDIA","IE"]
[null,null,null,null,null,null,null,null,null,null,null,null,null,null,null,null,null,null,null,null,null,null,null,null,"URZĄD SKARBOWY W JAROSŁAWIU","1804",1124,"DOBROSZYCE",null,null,14,"ZIELONOGÓRSKI",1419,"ISLANDIA","IS"]
[null,null,null,null,null,null,null,null,null,null,null,null,null,null,null,null,null,null,null,null,null,null,null,null,"URZĄD SKARBOWY W JASTRZĘBIU-ZDROJU","2414",1124,"DZIADOWA KŁODA",null,null,14,"ŻAGAŃSKI",1420,"IZRAEL","IL"]
[null,null,null,null,null,null,null,null,null,null,null,null,null,null,null,null,null,null,null,null,null,null,null,null,"URZĄD SKARBOWY W JAŚLE","1805",1124,"MIĘDZYBÓRZ",null,null,14,"ŻARSKI",1421,"JAMAJKA","JM"]
[null,null,null,null,null,null,null,null,null,null,null,null,null,null,null,null,null,null,null,null,null,null,null,null,"URZĄD SKARBOWY W JAWORZE","0206",1124,"OLEŚNICA-MIEJSKA",null,null,14,"WSCHOWSKI",1422,"JAPONIA","JP"]
[null,null,null,null,null,null,null,null,null,null,null,null,null,null,null,null,null,null,null,null,null,null,null,null,"URZĄD SKARBOWY W JAWORZNIE","2415",1124,"OLEŚNICA-WIEJSKA",null,null,14,"M.GORZÓW WIELKOPOLSKI",1423,"JEMEN","YE"]
[null,null,null,null,null,null,null,null,null,null,null,null,null,null,null,null,null,null,null,null,null,null,null,null,"URZĄD SKARBOWY W JELENIEJ GÓRZE","0207",1124,"SYCÓW",null,null,14,"M.ZIELONA GÓRA",1424,"JERSEY","JE"]
[null,null,null,null,null,null,null,null,null,null,null,null,null,null,null,null,null,null,null,null,null,null,null,null,"URZĄD SKARBOWY W JĘDRZEJOWIE","2603",1124,"TWARDOGÓRA",null,null,15,"BEŁCHATOWSKI",1511,"JORDANIA","JO"]
[null,null,null,null,null,null,null,null,null,null,null,null,null,null,null,null,null,null,null,null,null,null,null,null,"PIERWSZY URZĄD SKARBOWY W KALISZU","3007",1125,"DOMANIÓW",null,null,15,"KUTNOWSKI",1512,"KAJMANY","KY"]
[null,null,null,null,null,null,null,null,null,null,null,null,null,null,null,null,null,null,null,null,null,null,null,null,"DRUGI URZĄD SKARBOWY W KALISZU","3008",1125,"JELCZ-LASKOWICE",null,null,15,"ŁASKI",1513,"KAMBODŻA","KH"]
[null,null,null,null,null,null,null,null,null,null,null,null,null,null,null,null,null,null,null,null,null,null,null,null,"URZĄD SKARBOWY W KAMIENIU POMORSKIM","3208",1125,"OŁAWA-MIEJSKA",null,null,15,"ŁĘCZYCKI",1514,"KAMERUN","CM"]
[null,null,null,null,null,null,null,null,null,null,null,null,null,null,null,null,null,null,null,null,null,null,null,null,"URZĄD SKARBOWY W KAMIENNEJ GÓRZE","0208",1125,"OŁAWA-WIEJSKA",null,null,15,"ŁOWICKI",1515,"KANADA","CA"]
[null,null,null,null,null,null,null,null,null,null,null,null,null,null,null,null,null,null,null,null,null,null,null,null,"URZĄD SKARBOWY W KARTUZACH","2210",1126,"CHOCIANÓW",null,null,15,"ŁÓDZKI WSCHODNI",1516,"KATAR","QA"]
[null,null,null,null,null,null,null,null,null,null,null,null,null,null,null,null,null,null,null,null,null,null,null,null,"PIERWSZY URZĄD SKARBOWY W KATOWICACH","2416",1126,"GAWORZYCE",null,null,15,"OPOCZYŃSKI",1517,"KAZACHSTAN","KZ"]
[null,null,null,null,null,null,null,null,null,null,null,null,null,null,null,null,null,null,null,null,null,null,null,null,"DRUGI URZĄD SKARBOWY W KATOWICACH","2417",1126,"GRĘBOCICE",null,null,15,"PABIANICKI",1518,"KENIA","KE"]
[null,null,null,null,null,null,null,null,null,null,null,null,null,null,null,null,null,null,null,null,null,null,null,null,"URZĄD SKARBOWY W KAZIMIERZY WIELKIEJ","2614",1126,"POLKOWICE",null,null,15,"PAJĘCZAŃSKI",1519,"KIRGISTAN","KG"]
[null,null,null,null,null,null,null,null,null,null,null,null,null,null,null,null,null,null,null,null,null,null,null,null,"URZĄD SKARBOWY W KĘDZIERZYNIE-KOŹLU","1604",1126,"PRZEMKÓW",null,null,15,"PIOTRKOWSKI",1520,"KIRIBATI","KI"]
[null,null,null,null,null,null,null,null,null,null,null,null,null,null,null,null,null,null,null,null,null,null,null,null,"URZĄD SKARBOWY W KĘPNIE","3009",1126,"RADWANICE",null,null,15,"PODDĘBICKI",1521,"KOLUMBIA","CO"]
[null,null,null,null,null,null,null,null,null,null,null,null,null,null,null,null,null,null,null,null,null,null,null,null,"URZĄD SKARBOWY W KĘTRZYNIE","2809",1127,"BORÓW",null,null,15,"RADOMSZCZAŃSKI",1522,"KOMORY","KM"]
[null,null,null,null,null,null,null,null,null,null,null,null,null,null,null,null,null,null,null,null,null,null,null,null,"PIERWSZY URZĄD SKARBOWY W KIELCACH","2604",1127,"KONDRATOWICE",null,null,15,"RAWSKI",1523,"KONGO","CG"]
[null,null,null,null,null,null,null,null,null,null,null,null,null,null,null,null,null,null,null,null,null,null,null,null,"DRUGI URZĄD SKARBOWY W KIELCACH","2605",1127,"PRZEWORNO",null,null,15,"SIERADZKI",1524,"KONGO, REPUBLIKA DEMOKRATYCZNA","CD"]
[null,null,null,null,null,null,null,null,null,null,null,null,null,null,null,null,null,null,null,null,null,null,null,null,"URZĄD SKARBOWY W KLUCZBORKU","1605",1127,"STRZELIN",null,null,15,"SKIERNIEWICKI",1525,"KOREAŃSKA REPUBLIKA LUDOWO-DEMOKRATYCZNA","KP"]
[null,null,null,null,null,null,null,null,null,null,null,null,null,null,null,null,null,null,null,null,null,null,null,null,"URZĄD SKARBOWY W KŁOBUCKU","2418",1127,"WIĄZÓW",null,null,15,"TOMASZOWSKI",1526,"KOSOWO","XK"]
[null,null,null,null,null,null,null,null,null,null,null,null,null,null,null,null,null,null,null,null,null,null,null,null,"URZĄD SKARBOWY W KŁODZKU","0209",1128,"KOSTOMŁOTY",null,null,15,"WIELUŃSKI",1527,"KOSTARYKA","CR"]
[null,null,null,null,null,null,null,null,null,null,null,null,null,null,null,null,null,null,null,null,null,null,null,null,"URZĄD SKARBOWY W KOLBUSZOWEJ","1806",1128,"MALCZYCE",null,null,15,"WIERUSZOWSKI",1528,"KUBA","CU"]
[null,null,null,null,null,null,null,null,null,null,null,null,null,null,null,null,null,null,null,null,null,null,null,null,"URZĄD SKARBOWY W KOLE","3010",1128,"MIĘKINIA",null,null,15,"ZDUŃSKOWOLSKI",1529,"KUWEJT","KW"]
[null,null,null,null,null,null,null,null,null,null,null,null,null,null,null,null,null,null,null,null,null,null,null,null,"URZĄD SKARBOWY W KOLNIE","2007",1128,"ŚRODA ŚLĄSKA",null,null,15,"ZGIERSKI",1530,"LAOS","LA"]
[null,null,null,null,null,null,null,null,null,null,null,null,null,null,null,null,null,null,null,null,null,null,null,null,"URZĄD SKARBOWY W KOŁOBRZEGU","3209",1128,"UDANIN",null,null,15,"BRZEZIŃSKI",1531,"LESOTHO","LS"]
[null,null,null,null,null,null,null,null,null,null,null,null,null,null,null,null,null,null,null,null,null,null,null,null,"URZĄD SKARBOWY W KONINIE","3011",1129,"DOBROMIERZ",null,null,15,"M.ŁÓDŹ",1532,"LIBAN","LB"]
[null,null,null,null,null,null,null,null,null,null,null,null,null,null,null,null,null,null,null,null,null,null,null,null,"URZĄD SKARBOWY W KOŃSKICH","2606",1129,"JAWORZYNA ŚLĄSKA",null,null,15,"M.PIOTRKÓW TRYBUNALSKI",1533,"LIBERIA","LR"]
[null,null,null,null,null,null,null,null,null,null,null,null,null,null,null,null,null,null,null,null,null,null,null,null,"PIERWSZY URZĄD SKARBOWY W KOSZALINIE","3210",1129,"MARCINOWICE",null,null,15,"M.SKIERNIEWICE",1534,"LIBIA","LY"]
[null,null,null,null,null,null,null,null,null,null,null,null,null,null,null,null,null,null,null,null,null,null,null,null,"DRUGI URZĄD SKARBOWY W KOSZALINIE","3211",1129,"STRZEGOM",null,null,16,"BOCHEŃSKI",1611,"LIECHTENSTEIN","LI"]
[null,null,null,null,null,null,null,null,null,null,null,null,null,null,null,null,null,null,null,null,null,null,null,null,"URZĄD SKARBOWY W KOŚCIANIE","3012",1129,"ŚWIDNICA-MIEJSKA",null,null,16,"BRZESKI ",1612,"LITWA","LT"]
[null,null,null,null,null,null,null,null,null,null,null,null,null,null,null,null,null,null,null,null,null,null,null,null,"URZĄD SKARBOWY W KOŚCIERZYNIE","2211",1129,"ŚWIDNICA-WIEJSKA",null,null,16,"CHRZANOWSKI",1613,"ŁOTWA","LV"]
[null,null,null,null,null,null,null,null,null,null,null,null,null,null,null,null,null,null,null,null,null,null,null,null,"URZĄD SKARBOWY W KOZIENICACH","1408",1129,"ŚWIEBODZICE",null,null,16,"DĄBROWSKI",1614,"LUKSEMBURG","LU"]
[null,null,null,null,null,null,null,null,null,null,null,null,null,null,null,null,null,null,null,null,null,null,null,null,"PIERWSZY URZĄD SKARBOWY KRAKÓW","1207",1129,"ŻARÓW",null,null,16,"GORLICKI",1615,"MACEDONIA","MK"]
[null,null,null,null,null,null,null,null,null,null,null,null,null,null,null,null,null,null,null,null,null,null,null,null,"DRUGI URZĄD SKARBOWY KRAKÓW","1228",1130,"OBORNIKI ŚLĄSKIE",null,null,16,"KRAKOWSKI",1616,"MADAGASKAR","MG"]
[null,null,null,null,null,null,null,null,null,null,null,null,null,null,null,null,null,null,null,null,null,null,null,null,"URZĄD SKARBOWY KRAKÓW-KROWODRZA","1208",1130,"PRUSICE",null,null,16,"LIMANOWSKI",1617,"MAJOTTA","YT"]
[null,null,null,null,null,null,null,null,null,null,null,null,null,null,null,null,null,null,null,null,null,null,null,null,"URZĄD SKARBOWY KRAKÓW-NOWA HUTA","1209",1130,"TRZEBNICA",null,null,16,"MIECHOWSKI",1618,"MAKAU","MO"]
[null,null,null,null,null,null,null,null,null,null,null,null,null,null,null,null,null,null,null,null,null,null,null,null,"URZĄD SKARBOWY KRAKÓW-PODGÓRZE","1210",1130,"WISZNIA MAŁA",null,null,16,"MYŚLENICKI",1619,"MALAWI","MW"]
[null,null,null,null,null,null,null,null,null,null,null,null,null,null,null,null,null,null,null,null,null,null,null,null,"URZĄD SKARBOWY KRAKÓW-PRĄDNIK","1211",1130,"ZAWONIA",null,null,16,"NOWOSĄDECKI",1620,"MALEDIWY","MV"]
[null,null,null,null,null,null,null,null,null,null,null,null,null,null,null,null,null,null,null,null,null,null,null,null,"URZĄD SKARBOWY KRAKÓW-STARE MIASTO","1212",1130,"ŻMIGRÓD",null,null,16,"NOWOTARSKI",1621,"MALEZJA","MY"]
[null,null,null,null,null,null,null,null,null,null,null,null,null,null,null,null,null,null,null,null,null,null,null,null,"URZĄD SKARBOWY KRAKÓW-ŚRÓDMIEŚCIE","1213",1131,"BOGUSZÓW-GORCE",null,null,16,"OLKUSKI",1622,"MALI","ML"]
[null,null,null,null,null,null,null,null,null,null,null,null,null,null,null,null,null,null,null,null,null,null,null,null,"URZĄD SKARBOWY W KRAPKOWICACH","1613",1131,"CZARNY BÓR",null,null,16,"OŚWIĘCIMSKI",1623,"MALTA","MT"]
[null,null,null,null,null,null,null,null,null,null,null,null,null,null,null,null,null,null,null,null,null,null,null,null,"URZĄD SKARBOWY W KRASNYMSTAWIE","0607",1131,"GŁUSZYCA",null,null,16,"PROSZOWICKI",1624,"MARIANY PÓŁNOCNE","MP"]
[null,null,null,null,null,null,null,null,null,null,null,null,null,null,null,null,null,null,null,null,null,null,null,null,"URZĄD SKARBOWY W KRAŚNIKU","0608",1131,"JEDLINA-ZDRÓJ",null,null,16,"SUSKI",1625,"MAROKO","MA"]
[null,null,null,null,null,null,null,null,null,null,null,null,null,null,null,null,null,null,null,null,null,null,null,null,"URZĄD SKARBOWY W KROŚNIE","1807",1131,"MIEROSZÓW",null,null,16,"TARNOWSKI",1626,"MARTYNIKA","MQ"]
[null,null,null,null,null,null,null,null,null,null,null,null,null,null,null,null,null,null,null,null,null,null,null,null,"URZĄD SKARBOWY W KROŚNIE ODRZAŃSKIM","0803",1131,"STARE BOGACZOWICE",null,null,16,"TATRZAŃSKI",1627,"MAURETANIA","MR"]
[null,null,null,null,null,null,null,null,null,null,null,null,null,null,null,null,null,null,null,null,null,null,null,null,"URZĄD SKARBOWY W KROTOSZYNIE","3013",1131,"SZCZAWNO-ZDRÓJ",null,null,16,"WADOWICKI",1628,"MAURITIUS","MU"]
[null,null,null,null,null,null,null,null,null,null,null,null,null,null,null,null,null,null,null,null,null,null,null,null,"URZĄD SKARBOWY W KUTNIE","1005",1131,"WALIM",null,null,16,"WIELICKI",1629,"MEKSYK","MX"]
[null,null,null,null,null,null,null,null,null,null,null,null,null,null,null,null,null,null,null,null,null,null,null,null,"URZĄD SKARBOWY W KWIDZYNIE","2212",1131,"WAŁBRZYCH",null,null,16,"M.KRAKÓW",1630,"MELILLA","XL"]
[null,null,null,null,null,null,null,null,null,null,null,null,null,null,null,null,null,null,null,null,null,null,null,null,"URZĄD SKARBOWY W LEGIONOWIE","1409",1132,"BRZEG DOLNY",null,null,16,"M.NOWY SĄCZ",1631,"MIKRONEZJA","FM"]
[null,null,null,null,null,null,null,null,null,null,null,null,null,null,null,null,null,null,null,null,null,null,null,null,"URZĄD SKARBOWY W LEGNICY","0210",1132,"WIŃSKO",null,null,16,"M.TARNÓW",1632,"MINOR","UM"]
[null,null,null,null,null,null,null,null,null,null,null,null,null,null,null,null,null,null,null,null,null,null,null,null,"URZĄD SKARBOWY W LESKU","1808",1132,"WOŁÓW",null,null,17,"BIAŁOBRZESKI",1711,"MOŁDOWA","MD"]
[null,null,null,null,null,null,null,null,null,null,null,null,null,null,null,null,null,null,null,null,null,null,null,null,"URZĄD SKARBOWY W LESZNIE","3014",1133,"CZERNICA",null,null,17,"CIECHANOWSKI",1712,"MONAKO","MC"]
[null,null,null,null,null,null,null,null,null,null,null,null,null,null,null,null,null,null,null,null,null,null,null,null,"URZĄD SKARBOWY W LEŻAJSKU","1809",1133,"DŁUGOŁĘKA",null,null,17,"GARWOLIŃSKI",1713,"MONGOLIA","MN"]
[null,null,null,null,null,null,null,null,null,null,null,null,null,null,null,null,null,null,null,null,null,null,null,null,"URZĄD SKARBOWY W LĘBORKU","2213",1133,"JORDANÓW ŚLĄSKI",null,null,17,"GOSTYNIŃSKI",1714,"MONTSERRAT","MS"]
[null,null,null,null,null,null,null,null,null,null,null,null,null,null,null,null,null,null,null,null,null,null,null,null,"URZĄD SKARBOWY W LIMANOWEJ","1214",1133,"KĄTY WROCŁAWSKIE",null,null,17,"GRODZISKI ",1715,"MOZAMBIK","MZ"]
[null,null,null,null,null,null,null,null,null,null,null,null,null,null,null,null,null,null,null,null,null,null,null,null,"URZĄD SKARBOWY W LIPNIE","0410",1133,"KOBIERZYCE",null,null,17,"GRÓJECKI",1716,"MYANMAR (BURMA)","MM"]
[null,null,null,null,null,null,null,null,null,null,null,null,null,null,null,null,null,null,null,null,null,null,null,null,"URZĄD SKARBOWY W LIPSKU","1447",1133,"MIETKÓW",null,null,17,"KOZIENICKI",1717,"NAMIBIA","NA"]
[null,null,null,null,null,null,null,null,null,null,null,null,null,null,null,null,null,null,null,null,null,null,null,null,"URZĄD SKARBOWY W LUBACZOWIE","1810",1133,"SIECHNICE",null,null,17,"LEGIONOWSKI",1718,"NAURU","NR"]
[null,null,null,null,null,null,null,null,null,null,null,null,null,null,null,null,null,null,null,null,null,null,null,null,"URZĄD SKARBOWY W LUBANIU","0211",1133,"SOBÓTKA",null,null,17,"LIPSKI",1719,"NEPAL","NP"]
[null,null,null,null,null,null,null,null,null,null,null,null,null,null,null,null,null,null,null,null,null,null,null,null,"URZĄD SKARBOWY W LUBARTOWIE","0609",1133,"ŻÓRAWINA",null,null,17,"ŁOSICKI",1720,"NIDERLANDY (HOLANDIA)","NL"]
[null,null,null,null,null,null,null,null,null,null,null,null,null,null,null,null,null,null,null,null,null,null,null,null,"URZĄD SKARBOWY W LUBINIE","0212",1134,"BARDO",null,null,17,"MAKOWSKI",1721,"NIEMCY","DE"]
[null,null,null,null,null,null,null,null,null,null,null,null,null,null,null,null,null,null,null,null,null,null,null,null,"PIERWSZY URZĄD SKARBOWY W LUBLINIE","0610",1134,"CIEPŁOWODY",null,null,17,"MIŃSKI",1722,"NIGER","NE"]
[null,null,null,null,null,null,null,null,null,null,null,null,null,null,null,null,null,null,null,null,null,null,null,null,"DRUGI URZĄD SKARBOWY W LUBLINIE","0611",1134,"KAMIENIEC ZĄBKOWICKI",null,null,17,"MŁAWSKI",1723,"NIGERIA","NG"]
[null,null,null,null,null,null,null,null,null,null,null,null,null,null,null,null,null,null,null,null,null,null,null,null,"TRZECI URZĄD SKARBOWY W LUBLINIE","0612",1134,"STOSZOWICE",null,null,17,"NOWODWORSKI ",1724,"NIKARAGUA","NI"]
[null,null,null,null,null,null,null,null,null,null,null,null,null,null,null,null,null,null,null,null,null,null,null,null,"URZĄD SKARBOWY W LUBLIŃCU","2419",1134,"ZĄBKOWICE ŚLĄSKIE",null,null,17,"OSTROŁĘCKI",1725,"NIUE","NU"]
[null,null,null,null,null,null,null,null,null,null,null,null,null,null,null,null,null,null,null,null,null,null,null,null,"URZĄD SKARBOWY W LWÓWKU ŚLĄSKIM","0213",1134,"ZIĘBICE",null,null,17,"OSTROWSKI ",1726,"NORFOLK","NF"]
[null,null,null,null,null,null,null,null,null,null,null,null,null,null,null,null,null,null,null,null,null,null,null,null,"URZĄD SKARBOWY W ŁAŃCUCIE","1811",1134,"ZŁOTY STOK",null,null,17,"OTWOCKI",1727,"NORWEGIA","NO"]
[null,null,null,null,null,null,null,null,null,null,null,null,null,null,null,null,null,null,null,null,null,null,null,null,"URZĄD SKARBOWY W ŁASKU","1006",1135,"BOGATYNIA",null,null,17,"PIASECZYŃSKI",1728,"NOWA KALEDONIA","NC"]
[null,null,null,null,null,null,null,null,null,null,null,null,null,null,null,null,null,null,null,null,null,null,null,null,"URZĄD SKARBOWY W ŁĘCZNEJ","0621",1135,"PIEŃSK",null,null,17,"PŁOCKI",1729,"NOWA ZELANDIA","NZ"]
[null,null,null,null,null,null,null,null,null,null,null,null,null,null,null,null,null,null,null,null,null,null,null,null,"URZĄD SKARBOWY W ŁĘCZYCY","1028",1135,"SULIKÓW",null,null,17,"PŁOŃSKI",1730,"OKUPOWANE TERYTORIUM PALESTYNY","PS"]
[null,null,null,null,null,null,null,null,null,null,null,null,null,null,null,null,null,null,null,null,null,null,null,null,"URZĄD SKARBOWY W ŁOMŻY","2008",1135,"WĘGLINIEC",null,null,17,"PRUSZKOWSKI",1731,"OMAN","OM"]
[null,null,null,null,null,null,null,null,null,null,null,null,null,null,null,null,null,null,null,null,null,null,null,null,"URZĄD SKARBOWY W ŁOSICACH","1410",1135,"ZAWIDÓW",null,null,17,"PRZASNYSKI",1732,"PAKISTAN","PK"]
[null,null,null,null,null,null,null,null,null,null,null,null,null,null,null,null,null,null,null,null,null,null,null,null,"URZĄD SKARBOWY W ŁOWICZU","1007",1135,"ZGORZELEC-MIEJSKA",null,null,17,"PRZYSUSKI",1733,"PALAU","PW"]
[null,null,null,null,null,null,null,null,null,null,null,null,null,null,null,null,null,null,null,null,null,null,null,null,"PIERWSZY URZĄD SKARBOWY ŁÓDŹ-BAŁUTY","1008",1135,"ZGORZELEC-WIEJSKA",null,null,17,"PUŁTUSKI",1734,"PANAMA","PA"]
[null,null,null,null,null,null,null,null,null,null,null,null,null,null,null,null,null,null,null,null,null,null,null,null,"DRUGI URZĄD SKARBOWY ŁÓDŹ-BAŁUTY","1009",1136,"PIELGRZYMKA",null,null,17,"RADOMSKI",1735,"PAPUA NOWA GWINEA","PG"]
[null,null,null,null,null,null,null,null,null,null,null,null,null,null,null,null,null,null,null,null,null,null,null,null,"PIERWSZY URZĄD SKARBOWY ŁÓDŹ-GÓRNA","1010",1136,"ŚWIERZAWA",null,null,17,"SIEDLECKI",1736,"PARAGWAJ","PY"]
[null,null,null,null,null,null,null,null,null,null,null,null,null,null,null,null,null,null,null,null,null,null,null,null,"DRUGI URZĄD SKARBOWY ŁÓDŹ-GÓRNA","1011",1136,"WOJCIESZÓW",null,null,17,"SIERPECKI",1737,"PERU","PE"]
[null,null,null,null,null,null,null,null,null,null,null,null,null,null,null,null,null,null,null,null,null,null,null,null,"URZĄD SKARBOWY ŁÓDŹ-POLESIE","1012",1136,"ZAGRODNO",null,null,17,"SOCHACZEWSKI",1738,"PITCAIRN","PN"]
[null,null,null,null,null,null,null,null,null,null,null,null,null,null,null,null,null,null,null,null,null,null,null,null,"URZĄD SKARBOWY ŁÓDŹ-ŚRÓDMIEŚCIE","1013",1136,"ZŁOTORYJA-MIEJSKA",null,null,17,"SOKOŁOWSKI",1739,"POLINEZJA FRANCUSKA","PF"]
[null,null,null,null,null,null,null,null,null,null,null,null,null,null,null,null,null,null,null,null,null,null,null,null,"URZĄD SKARBOWY ŁÓDŹ-WIDZEW","1014",1136,"ZŁOTORYJA-WIEJSKA",null,null,17,"SZYDŁOWIECKI",1740,"POŁUDNIOWA GEORGIA I POŁUD.WYSPY SANDWICH","GS"]
[null,null,null,null,null,null,null,null,null,null,null,null,null,null,null,null,null,null,null,null,null,null,null,null,"URZĄD SKARBOWY W ŁUKOWIE","0613",1137,"M.JELENIA GÓRA",null,null,17,"WARSZAWSKI ZACHODNI",1742,"PORTUGALIA","PT"]
[null,null,null,null,null,null,null,null,null,null,null,null,null,null,null,null,null,null,null,null,null,null,null,null,"URZĄD SKARBOWY W MAKOWIE MAZOWIECKIM","1411",1138,"M.LEGNICA",null,null,17,"WĘGROWSKI",1743,"PORTORYKO","PR"]
[null,null,null,null,null,null,null,null,null,null,null,null,null,null,null,null,null,null,null,null,null,null,null,null,"URZĄD SKARBOWY W MALBORKU","2214",1139,"M.WROCŁAW",null,null,17,"WOŁOMIŃSKI",1744,"REP.ŚRODKOWOAFRYKAŃSKA","CF"]
[null,null,null,null,null,null,null,null,null,null,null,null,null,null,null,null,null,null,null,null,null,null,null,null,"URZĄD SKARBOWY W MIECHOWIE","1215",1211,"ALEKSANDRÓW KUJAWSKI-MIEJSKA",null,null,17,"WYSZKOWSKI",1745,"REPUBLIKA CZESKA","CZ"]
[null,null,null,null,null,null,null,null,null,null,null,null,null,null,null,null,null,null,null,null,null,null,null,null,"URZĄD SKARBOWY W MIELCU","1812",1211,"ALEKSANDRÓW KUJAWSKI-WIEJSKA",null,null,17,"ZWOLEŃSKI",1746,"REPUBLIKA KOREI","KR"]
[null,null,null,null,null,null,null,null,null,null,null,null,null,null,null,null,null,null,null,null,null,null,null,null,"URZĄD SKARBOWY W MIĘDZYCHODZIE","3015",1211,"BĄDKOWO",null,null,17,"ŻUROMIŃSKI",1747,"REPUBLIKA POŁUDNIOWEJ AFRYKI","ZA"]
[null,null,null,null,null,null,null,null,null,null,null,null,null,null,null,null,null,null,null,null,null,null,null,null,"URZĄD SKARBOWY W MIĘDZYRZECZU","0804",1211,"CIECHOCINEK",null,null,17,"ŻYRARDOWSKI",1748,"REUNION","RE"]
[null,null,null,null,null,null,null,null,null,null,null,null,null,null,null,null,null,null,null,null,null,null,null,null,"URZĄD SKARBOWY W MIKOŁOWIE","2420",1211,"KONECK",null,null,17,"M.OSTROŁĘKA",1749,"ROSJA","RU"]
[null,null,null,null,null,null,null,null,null,null,null,null,null,null,null,null,null,null,null,null,null,null,null,null,"URZĄD SKARBOWY W MILICZU","0214",1211,"NIESZAWA",null,null,17,"M.PŁOCK",1750,"RUMUNIA","RO"]
[null,null,null,null,null,null,null,null,null,null,null,null,null,null,null,null,null,null,null,null,null,null,null,null,"URZĄD SKARBOWY W MIŃSKU MAZOWIECKIM","1412",1211,"RACIĄŻEK",null,null,17,"M.RADOM",1751,"RWANDA","RW"]
[null,null,null,null,null,null,null,null,null,null,null,null,null,null,null,null,null,null,null,null,null,null,null,null,"URZĄD SKARBOWY W MŁAWIE","1413",1211,"WAGANIEC",null,null,17,"M.SIEDLCE",1752,"SAHARA ZACHODNIA","EH"]
[null,null,null,null,null,null,null,null,null,null,null,null,null,null,null,null,null,null,null,null,null,null,null,null,"URZĄD SKARBOWY W MOGILNIE","0411",1211,"ZAKRZEWO",null,null,17,"M.ST.WARSZAWA",1753,"SAINT BARTHELEMY","BL"]
[null,null,null,null,null,null,null,null,null,null,null,null,null,null,null,null,null,null,null,null,null,null,null,null,"URZĄD SKARBOWY W MOŃKACH","2009",1212,"BARTNICZKA",null,null,18,"BRZESKI",1811,"SAINT KITTS I NEVIS","KN"]
[null,null,null,null,null,null,null,null,null,null,null,null,null,null,null,null,null,null,null,null,null,null,null,null,"URZĄD SKARBOWY W MYSŁOWICACH","2421",1212,"BOBROWO",null,null,18,"GŁUBCZYCKI",1812,"SAINT LUCIA","LC"]
[null,null,null,null,null,null,null,null,null,null,null,null,null,null,null,null,null,null,null,null,null,null,null,null,"URZĄD SKARBOWY W MYSZKOWIE","2422",1212,"BRODNICA-MIEJSKA",null,null,18,"KĘDZIERZYŃSKO-KOZIELSKI",1813,"SAINT MARTIN","MF"]
[null,null,null,null,null,null,null,null,null,null,null,null,null,null,null,null,null,null,null,null,null,null,null,null,"URZĄD SKARBOWY W MYŚLENICACH","1216",1212,"BRODNICA-WIEJSKA",null,null,18,"KLUCZBORSKI",1814,"SAINT VINCENT I GRENADYNY","VC"]
[null,null,null,null,null,null,null,null,null,null,null,null,null,null,null,null,null,null,null,null,null,null,null,null,"URZĄD SKARBOWY W MYŚLIBORZU","3212",1212,"BRZOZIE",null,null,18,"KRAPKOWICKI",1815,"SALWADOR","SV"]
[null,null,null,null,null,null,null,null,null,null,null,null,null,null,null,null,null,null,null,null,null,null,null,null,"URZĄD SKARBOWY W NAKLE NAD NOTECIĄ","0412",1212,"GÓRZNO",null,null,18,"NAMYSŁOWSKI",1816,"SAMOA","WS"]
[null,null,null,null,null,null,null,null,null,null,null,null,null,null,null,null,null,null,null,null,null,null,null,null,"URZĄD SKARBOWY W NAMYSŁOWIE","1606",1212,"JABŁONOWO POMORSKIE",null,null,18,"NYSKI",1817,"SAMOA AMERYKAŃSKIE","AS"]
[null,null,null,null,null,null,null,null,null,null,null,null,null,null,null,null,null,null,null,null,null,null,null,null,"URZĄD SKARBOWY W NIDZICY","2810",1212,"OSIEK",null,null,18,"OLESKI",1818,"SAN MARINO","SM"]
[null,null,null,null,null,null,null,null,null,null,null,null,null,null,null,null,null,null,null,null,null,null,null,null,"URZĄD SKARBOWY W NISKU","1823",1212,"ŚWIEDZIEBNIA",null,null,18,"OPOLSKI",1819,"SENEGAL","SN"]
[null,null,null,null,null,null,null,null,null,null,null,null,null,null,null,null,null,null,null,null,null,null,null,null,"URZĄD SKARBOWY W NOWEJ RUDZIE","0215",1212,"ZBICZNO",null,null,18,"PRUDNICKI",1820,"SERBIA","RS"]
[null,null,null,null,null,null,null,null,null,null,null,null,null,null,null,null,null,null,null,null,null,null,null,null,"URZĄD SKARBOWY W NOWEJ SOLI","0805",1213,"BIAŁE BŁOTA",null,null,18,"STRZELECKI",1821,"SESZELE","SC"]
[null,null,null,null,null,null,null,null,null,null,null,null,null,null,null,null,null,null,null,null,null,null,null,null,"URZĄD SKARBOWY W NOWYM DWORZE MAZOWIECKIM","1414",1213,"DĄBROWA CHEŁMIŃSKA",null,null,18,"M.OPOLE",1822,"SIERRA LEONE","SL"]
[null,null,null,null,null,null,null,null,null,null,null,null,null,null,null,null,null,null,null,null,null,null,null,null,"URZĄD SKARBOWY W NOWYM MIEŚCIE LUBAWSKIM","2811",1213,"DOBRCZ",null,null,19,"BIESZCZADZKI",1911,"SINGAPUR","SG"]
[null,null,null,null,null,null,null,null,null,null,null,null,null,null,null,null,null,null,null,null,null,null,null,null,"URZĄD SKARBOWY W NOWYM SĄCZU","1217",1213,"KORONOWO",null,null,19,"BRZOZOWSKI",1912,"SŁOWACJA","SK"]
[null,null,null,null,null,null,null,null,null,null,null,null,null,null,null,null,null,null,null,null,null,null,null,null,"URZĄD SKARBOWY W NOWYM TARGU","1218",1213,"NOWA WIEŚ WIELKA",null,null,19,"DĘBICKI",1913,"SŁOWENIA","SI"]
[null,null,null,null,null,null,null,null,null,null,null,null,null,null,null,null,null,null,null,null,null,null,null,null,"URZĄD SKARBOWY W NOWYM TOMYŚLU","3016",1213,"OSIELSKO",null,null,19,"JAROSŁAWSKI",1914,"SOMALIA","SO"]
[null,null,null,null,null,null,null,null,null,null,null,null,null,null,null,null,null,null,null,null,null,null,null,null,"URZĄD SKARBOWY W NYSIE","1607",1213,"SICIENKO",null,null,19,"JASIELSKI",1915,"SRI LANKA","LK"]
[null,null,null,null,null,null,null,null,null,null,null,null,null,null,null,null,null,null,null,null,null,null,null,null,"URZĄD SKARBOWY W OBORNIKACH","3038",1213,"SOLEC KUJAWSKI",null,null,19,"KOLBUSZOWSKI",1916,"SAINT PIERRE I MIQUELON","PM"]
[null,null,null,null,null,null,null,null,null,null,null,null,null,null,null,null,null,null,null,null,null,null,null,null,"URZĄD SKARBOWY W OLECKU","2812",1214,"CHEŁMNO-MIEJSKA",null,null,19,"KROŚNIEŃSKI",1917,"STANY ZJEDNOCZONE AMERYKI","US"]
[null,null,null,null,null,null,null,null,null,null,null,null,null,null,null,null,null,null,null,null,null,null,null,null,"URZĄD SKARBOWY W OLEŚNICY","0216",1214,"CHEŁMNO-WIEJSKA",null,null,19,"LEŻAJSKI",1918,"SUAZI","SZ"]
[null,null,null,null,null,null,null,null,null,null,null,null,null,null,null,null,null,null,null,null,null,null,null,null,"URZĄD SKARBOWY W OLEŚNIE","1608",1214,"KIJEWO KRÓLEWSKIE",null,null,19,"LUBACZOWSKI",1919,"SUDAN","SD"]
[null,null,null,null,null,null,null,null,null,null,null,null,null,null,null,null,null,null,null,null,null,null,null,null,"URZĄD SKARBOWY W OLKUSZU","1219",1214,"LISEWO",null,null,19,"ŁAŃCUCKI",1920,"SURINAM","SR"]
[null,null,null,null,null,null,null,null,null,null,null,null,null,null,null,null,null,null,null,null,null,null,null,null,"URZĄD SKARBOWY W OLSZTYNIE","2813",1214,"PAPOWO BISKUPIE",null,null,19,"MIELECKI",1921,"SVALBARD I JAN MAYEN","SJ"]
[null,null,null,null,null,null,null,null,null,null,null,null,null,null,null,null,null,null,null,null,null,null,null,null,"URZĄD SKARBOWY W OŁAWIE","0217",1214,"STOLNO",null,null,19,"NIŻAŃSKI",1922,"ŚWIĘTA HELENA","SH"]
[null,null,null,null,null,null,null,null,null,null,null,null,null,null,null,null,null,null,null,null,null,null,null,null,"URZĄD SKARBOWY W OPATOWIE","2607",1214,"UNISŁAW",null,null,19,"PRZEMYSKI",1923,"SYRIA","SY"]
[null,null,null,null,null,null,null,null,null,null,null,null,null,null,null,null,null,null,null,null,null,null,null,null,"URZĄD SKARBOWY W OPOCZNIE","1015",1215,"CIECHOCIN",null,null,19,"PRZEWORSKI",1924,"SZWAJCARIA","CH"]
[null,null,null,null,null,null,null,null,null,null,null,null,null,null,null,null,null,null,null,null,null,null,null,null,"PIERWSZY URZĄD SKARBOWY W OPOLU","1609",1215,"GOLUB-DOBRZYŃ-MIEJSKA",null,null,19,"ROPCZYCKO-SĘDZISZOWSKI",1925,"SZWECJA","SE"]
[null,null,null,null,null,null,null,null,null,null,null,null,null,null,null,null,null,null,null,null,null,null,null,null,"DRUGI URZĄD SKARBOWY W OPOLU","1610",1215,"GOLUB-DOBRZYŃ-WIEJSKA",null,null,19,"RZESZOWSKI",1926,"TADŻYKISTAN","TJ"]
[null,null,null,null,null,null,null,null,null,null,null,null,null,null,null,null,null,null,null,null,null,null,null,null,"URZĄD SKARBOWY W OPOLU LUBELSKIM","0614",1215,"KOWALEWO POMORSKIE",null,null,19,"SANOCKI",1927,"TAJLANDIA","TH"]
[null,null,null,null,null,null,null,null,null,null,null,null,null,null,null,null,null,null,null,null,null,null,null,null,"URZĄD SKARBOWY W OSTROŁĘCE","1415",1215,"RADOMIN",null,null,19,"STALOWOWOLSKI",1928,"TAJWAN","TW"]
[null,null,null,null,null,null,null,null,null,null,null,null,null,null,null,null,null,null,null,null,null,null,null,null,"URZĄD SKARBOWY W OSTROWCU ŚWIĘTOKRZYSKIM","2608",1215,"ZBÓJNO",null,null,19,"STRZYŻOWSKI",1929,"TANZANIA","TZ"]
[null,null,null,null,null,null,null,null,null,null,null,null,null,null,null,null,null,null,null,null,null,null,null,null,"URZĄD SKARBOWY W OSTROWI MAZOWIECKIEJ","1416",1216,"GRUDZIĄDZ",null,null,19,"TARNOBRZESKI",1930,"TOGO","TG"]
[null,null,null,null,null,null,null,null,null,null,null,null,null,null,null,null,null,null,null,null,null,null,null,null,"URZĄD SKARBOWY W OSTROWIE WIELKOPOLSKIM","3017",1216,"GRUTA",null,null,19,"LESKI",1931,"TOKELAU","TK"]
[null,null,null,null,null,null,null,null,null,null,null,null,null,null,null,null,null,null,null,null,null,null,null,null,"URZĄD SKARBOWY W OSTRÓDZIE","2814",1216,"ŁASIN",null,null,19,"M.KROSNO",1932,"TONGA","TO"]
[null,null,null,null,null,null,null,null,null,null,null,null,null,null,null,null,null,null,null,null,null,null,null,null,"URZĄD SKARBOWY W OSTRZESZOWIE","3018",1216,"RADZYŃ CHEŁMIŃSKI",null,null,19,"M.PRZEMYŚL",1933,"TRYNIDAD I TOBAGO","TT"]
[null,null,null,null,null,null,null,null,null,null,null,null,null,null,null,null,null,null,null,null,null,null,null,null,"URZĄD SKARBOWY W OŚWIĘCIMIU","1220",1216,"ROGÓŹNO",null,null,19,"M.RZESZÓW",1934,"TUNEZJA","TN"]
[null,null,null,null,null,null,null,null,null,null,null,null,null,null,null,null,null,null,null,null,null,null,null,null,"URZĄD SKARBOWY W OTWOCKU","1417",1216,"ŚWIECIE NAD OSĄ",null,null,19,"M.TARNOBRZEG",1935,"TURCJA","TR"]
[null,null,null,null,null,null,null,null,null,null,null,null,null,null,null,null,null,null,null,null,null,null,null,null,"URZĄD SKARBOWY W PABIANICACH","1016",1217,"DĄBROWA BISKUPIA",null,null,20,"AUGUSTOWSKI",2011,"TURKMENISTAN","TM"]
[null,null,null,null,null,null,null,null,null,null,null,null,null,null,null,null,null,null,null,null,null,null,null,null,"URZĄD SKARBOWY W PAJĘCZNIE","1029",1217,"GNIEWKOWO",null,null,20,"BIAŁOSTOCKI",2012,"TUVALU","TV"]
[null,null,null,null,null,null,null,null,null,null,null,null,null,null,null,null,null,null,null,null,null,null,null,null,"URZĄD SKARBOWY W PARCZEWIE","0615",1217,"INOWROCŁAW-MIEJSKA",null,null,20,"BIELSKI ",2013,"UGANDA","UG"]
[null,null,null,null,null,null,null,null,null,null,null,null,null,null,null,null,null,null,null,null,null,null,null,null,"URZĄD SKARBOWY W PIASECZNIE","1418",1217,"INOWROCŁAW-WIEJSKA",null,null,20,"GRAJEWSKI",2014,"UKRAINA","UA"]
[null,null,null,null,null,null,null,null,null,null,null,null,null,null,null,null,null,null,null,null,null,null,null,null,"URZĄD SKARBOWY W PIEKARACH ŚLĄSKICH","2423",1217,"JANIKOWO",null,null,20,"HAJNOWSKI",2015,"URUGWAJ","UY"]
[null,null,null,null,null,null,null,null,null,null,null,null,null,null,null,null,null,null,null,null,null,null,null,null,"URZĄD SKARBOWY W PILE","3019",1217,"KRUSZWICA",null,null,20,"KOLNEŃSKI",2016,"UZBEKISTAN","UZ"]
[null,null,null,null,null,null,null,null,null,null,null,null,null,null,null,null,null,null,null,null,null,null,null,null,"URZĄD SKARBOWY W PIŃCZOWIE","2609",1217,"PAKOŚĆ",null,null,20,"ŁOMŻYŃSKI",2017,"VANUATU","VU"]
[null,null,null,null,null,null,null,null,null,null,null,null,null,null,null,null,null,null,null,null,null,null,null,null,"URZĄD SKARBOWY W PIOTRKOWIE TRYBUNALSKIM","1017",1217,"ROJEWO",null,null,20,"MONIECKI",2018,"WALLIS I FUTUNA","WF"]
[null,null,null,null,null,null,null,null,null,null,null,null,null,null,null,null,null,null,null,null,null,null,null,null,"URZĄD SKARBOWY W PISZU","2815",1217,"ZŁOTNIKI KUJAWSKIE",null,null,20,"SEJNEŃSKI",2019,"WATYKAN","VA"]
[null,null,null,null,null,null,null,null,null,null,null,null,null,null,null,null,null,null,null,null,null,null,null,null,"URZĄD SKARBOWY W PLESZEWIE","3039",1218,"BOBROWNIKI",null,null,20,"SIEMIATYCKI",2020,"WĘGRY","HU"]
[null,null,null,null,null,null,null,null,null,null,null,null,null,null,null,null,null,null,null,null,null,null,null,null,"URZĄD SKARBOWY W PŁOCKU","1419",1218,"CHROSTKOWO",null,null,20,"SOKÓLSKI",2021,"WENEZUELA","VE"]
[null,null,null,null,null,null,null,null,null,null,null,null,null,null,null,null,null,null,null,null,null,null,null,null,"URZĄD SKARBOWY W PŁOŃSKU","1420",1218,"DOBRZYŃ NAD WISŁĄ",null,null,20,"SUWALSKI",2022,"WIELKA BRYTANIA","GB"]
[null,null,null,null,null,null,null,null,null,null,null,null,null,null,null,null,null,null,null,null,null,null,null,null,"URZĄD SKARBOWY W PODDĘBICACH","1018",1218,"KIKÓŁ",null,null,20,"WYSOKOMAZOWIECKI",2023,"WIETNAM","VN"]
[null,null,null,null,null,null,null,null,null,null,null,null,null,null,null,null,null,null,null,null,null,null,null,null,"URZĄD SKARBOWY W POLKOWICACH","0234",1218,"LIPNO-MIEJSKA",null,null,20,"ZAMBROWSKI",2024,"WŁOCHY","IT"]
[null,null,null,null,null,null,null,null,null,null,null,null,null,null,null,null,null,null,null,null,null,null,null,null,"PIERWSZY URZĄD SKARBOWY W POZNANIU","3023",1218,"LIPNO-WIEJSKA",null,null,20,"M.BIAŁYSTOK",2025,"WSCHODNI TIMOR","TL"]
[null,null,null,null,null,null,null,null,null,null,null,null,null,null,null,null,null,null,null,null,null,null,null,null,"URZĄD SKARBOWY POZNAŃ-GRUNWALD","3020",1218,"SKĘPE",null,null,20,"M.ŁOMŻA",2026,"WYBRZEŻE KOŚCI SŁONIOWEJ","CI"]
[null,null,null,null,null,null,null,null,null,null,null,null,null,null,null,null,null,null,null,null,null,null,null,null,"URZĄD SKARBOWY POZNAŃ-JEŻYCE","3021",1218,"TŁUCHOWO",null,null,20,"M.SUWAŁKI",2027,"WYSPA BOUVETA","BV"]
[null,null,null,null,null,null,null,null,null,null,null,null,null,null,null,null,null,null,null,null,null,null,null,null,"URZĄD SKARBOWY POZNAŃ-NOWE MIASTO","3022",1218,"WIELGIE",null,null,21,"BYTOWSKI",2111,"WYSPA BOŻEGO NARODZENIA","CX"]
[null,null,null,null,null,null,null,null,null,null,null,null,null,null,null,null,null,null,null,null,null,null,null,null,"URZĄD SKARBOWY POZNAŃ-WILDA","3026",1219,"DĄBROWA",null,null,21,"CHOJNICKI",2112,"WYSPA MAN","IM"]
[null,null,null,null,null,null,null,null,null,null,null,null,null,null,null,null,null,null,null,null,null,null,null,null,"URZĄD SKARBOWY POZNAŃ-WINOGRADY","3025",1219,"JEZIORA WIELKIE",null,null,21,"CZŁUCHOWSKI",2113,"WYSPY COOKA","CK"]
[null,null,null,null,null,null,null,null,null,null,null,null,null,null,null,null,null,null,null,null,null,null,null,null,"URZĄD SKARBOWY W PROSZOWICACH","1221",1219,"MOGILNO",null,null,21,"GDAŃSKI",2114,"WYSPY DZIEWICZE-USA","VI"]
[null,null,null,null,null,null,null,null,null,null,null,null,null,null,null,null,null,null,null,null,null,null,null,null,"URZĄD SKARBOWY W PRUDNIKU","1611",1219,"STRZELNO",null,null,21,"KARTUSKI",2115,"WYSPY DZIEWICZE-W.B.","VG"]
[null,null,null,null,null,null,null,null,null,null,null,null,null,null,null,null,null,null,null,null,null,null,null,null,"URZĄD SKARBOWY W PRUSZCZU GDAŃSKIM","2221",1220,"KCYNIA",null,null,21,"KOŚCIERSKI",2116,"WYSPY HEARD I MCDONALD","HM"]
[null,null,null,null,null,null,null,null,null,null,null,null,null,null,null,null,null,null,null,null,null,null,null,null,"URZĄD SKARBOWY W PRUSZKOWIE","1421",1220,"MROCZA",null,null,21,"KWIDZYŃSKI",2117,"WYSPY KOKOSOWE (KEELINGA)","CC"]
[null,null,null,null,null,null,null,null,null,null,null,null,null,null,null,null,null,null,null,null,null,null,null,null,"URZĄD SKARBOWY W PRZASNYSZU","1422",1220,"NAKŁO NAD NOTECIĄ",null,null,21,"LĘBORSKI",2118,"WYSPY MARSHALLA","MH"]
[null,null,null,null,null,null,null,null,null,null,null,null,null,null,null,null,null,null,null,null,null,null,null,null,"URZĄD SKARBOWY W PRZEMYŚLU","1813",1220,"SADKI",null,null,21,"MALBORSKI",2119,"WYSPY OWCZE","FO"]
[null,null,null,null,null,null,null,null,null,null,null,null,null,null,null,null,null,null,null,null,null,null,null,null,"URZĄD SKARBOWY W PRZEWORSKU","1814",1220,"SZUBIN",null,null,21,"NOWODWORSKI",2120,"WYSPY SALOMONA","SB"]
[null,null,null,null,null,null,null,null,null,null,null,null,null,null,null,null,null,null,null,null,null,null,null,null,"URZĄD SKARBOWY W PRZYSUSZE","1448",1221,"BYTOŃ",null,null,21,"PUCKI",2121,"WYSPY ŚWIĘTEGO TOMASZA I KSIĄŻĘCA","ST"]
[null,null,null,null,null,null,null,null,null,null,null,null,null,null,null,null,null,null,null,null,null,null,null,null,"URZĄD SKARBOWY W PSZCZYNIE","2424",1221,"DOBRE",null,null,21,"SŁUPSKI",2122,"WYSPY TURKS I CAICOS","TC"]
[null,null,null,null,null,null,null,null,null,null,null,null,null,null,null,null,null,null,null,null,null,null,null,null,"URZĄD SKARBOWY W PUCKU","2215",1221,"OSIĘCINY",null,null,21,"STAROGARDZKI",2123,"ZAMBIA","ZM"]
[null,null,null,null,null,null,null,null,null,null,null,null,null,null,null,null,null,null,null,null,null,null,null,null,"URZĄD SKARBOWY W PUŁAWACH","0616",1221,"PIOTRKÓW KUJAWSKI",null,null,21,"TCZEWSKI",2124,"ZIELONY PRZYLĄDEK","CV"]
[null,null,null,null,null,null,null,null,null,null,null,null,null,null,null,null,null,null,null,null,null,null,null,null,"URZĄD SKARBOWY W PUŁTUSKU","1423",1221,"RADZIEJÓW-MIEJSKA",null,null,21,"WEJHEROWSKI",2125,"ZIMBABWE","ZW"]
[null,null,null,null,null,null,null,null,null,null,null,null,null,null,null,null,null,null,null,null,null,null,null,null,"URZĄD SKARBOWY W PYRZYCACH","3213",1221,"RADZIEJÓW-WIEJSKA",null,null,21,"SZTUMSKI",2126,"ZJEDNOCZONE EMIRATY ARABSKIE","AE"]
[null,null,null,null,null,null,null,null,null,null,null,null,null,null,null,null,null,null,null,null,null,null,null,null,"URZĄD SKARBOWY W RACIBORZU","2425",1221,"TOPÓLKA",null,null,21,"M.GDAŃSK",2127]
[null,null,null,null,null,null,null,null,null,null,null,null,null,null,null,null,null,null,null,null,null,null,null,null,"PIERWSZY URZĄD SKARBOWY W RADOMIU","1424",1222,"BRZUZE",null,null,21,"M.GDYNIA",2128]
[null,null,null,null,null,null,null,null,null,null,null,null,null,null,null,null,null,null,null,null,null,null,null,null,"DRUGI URZĄD SKARBOWY W RADOMIU","1425",1222,"ROGOWO",null,null,21,"M.SŁUPSK",2129]
[null,null,null,null,null,null,null,null,null,null,null,null,null,null,null,null,null,null,null,null,null,null,null,null,"URZĄD SKARBOWY W RADOMSKU","1019",1222,"RYPIN-MIEJSKA",null,null,21,"M.SOPOT",2130]
[null,null,null,null,null,null,null,null,null,null,null,null,null,null,null,null,null,null,null,null,null,null,null,null,"URZĄD SKARBOWY W RADZIEJOWIE","0413",1222,"RYPIN-WIEJSKA",null,null,22,"BĘDZIŃSKI",2211]
[null,null,null,null,null,null,null,null,null,null,null,null,null,null,null,null,null,null,null,null,null,null,null,null,"URZĄD SKARBOWY W RADZYNIU PODLASKIM","0617",1222,"SKRWILNO",null,null,22,"BIELSKI",2212]
[null,null,null,null,null,null,null,null,null,null,null,null,null,null,null,null,null,null,null,null,null,null,null,null,"URZĄD SKARBOWY W RAWICZU","3027",1222,"WĄPIELSK",null,null,22,"CIESZYŃSKI",2213]
[null,null,null,null,null,null,null,null,null,null,null,null,null,null,null,null,null,null,null,null,null,null,null,null,"URZĄD SKARBOWY W RAWIE MAZOWIECKIEJ","1020",1223,"KAMIEŃ KRAJEŃSKI",null,null,22,"CZĘSTOCHOWSKI",2214]
[null,null,null,null,null,null,null,null,null,null,null,null,null,null,null,null,null,null,null,null,null,null,null,null,"URZĄD SKARBOWY W ROPCZYCACH","1815",1223,"SĘPÓLNO KRAJEŃSKIE",null,null,22,"GLIWICKI",2215]
[null,null,null,null,null,null,null,null,null,null,null,null,null,null,null,null,null,null,null,null,null,null,null,null,"URZĄD SKARBOWY W RUDZIE ŚLĄSKIEJ","2426",1223,"SOŚNO",null,null,22,"KŁOBUCKI",2216]
[null,null,null,null,null,null,null,null,null,null,null,null,null,null,null,null,null,null,null,null,null,null,null,null,"URZĄD SKARBOWY W RYBNIKU","2427",1223,"WIĘCBORK",null,null,22,"LUBLINIECKI",2217]
[null,null,null,null,null,null,null,null,null,null,null,null,null,null,null,null,null,null,null,null,null,null,null,null,"URZĄD SKARBOWY W RYKACH","0622",1224,"BUKOWIEC",null,null,22,"MIKOŁOWSKI",2218]
[null,null,null,null,null,null,null,null,null,null,null,null,null,null,null,null,null,null,null,null,null,null,null,null,"URZĄD SKARBOWY W RYPINIE","0414",1224,"DRAGACZ",null,null,22,"MYSZKOWSKI",2219]
[null,null,null,null,null,null,null,null,null,null,null,null,null,null,null,null,null,null,null,null,null,null,null,null,"PIERWSZY URZĄD SKARBOWY W RZESZOWIE","1816",1224,"DRZYCIM",null,null,22,"PSZCZYŃSKI",2220]
[null,null,null,null,null,null,null,null,null,null,null,null,null,null,null,null,null,null,null,null,null,null,null,null,"DRUGI URZĄD SKARBOWY W RZESZOWIE","1822",1224,"JEŻEWO",null,null,22,"RACIBORSKI",2221]
[null,null,null,null,null,null,null,null,null,null,null,null,null,null,null,null,null,null,null,null,null,null,null,null,"URZĄD SKARBOWY W SANDOMIERZU","2610",1224,"LNIANO",null,null,22,"RYBNICKI",2222]
[null,null,null,null,null,null,null,null,null,null,null,null,null,null,null,null,null,null,null,null,null,null,null,null,"URZĄD SKARBOWY W SANOKU","1817",1224,"NOWE",null,null,22,"TARNOGÓRSKI",2223]
[null,null,null,null,null,null,null,null,null,null,null,null,null,null,null,null,null,null,null,null,null,null,null,null,"URZĄD SKARBOWY W SĘPÓLNIE KRAJEŃSKIM","0423",1224,"OSIE",null,null,22,"BIERUŃSKO-LĘDZIŃSKI",2224]
[null,null,null,null,null,null,null,null,null,null,null,null,null,null,null,null,null,null,null,null,null,null,null,null,"URZĄD SKARBOWY W SIEDLCACH","1426",1224,"PRUSZCZ",null,null,22,"WODZISŁAWSKI",2225]
[null,null,null,null,null,null,null,null,null,null,null,null,null,null,null,null,null,null,null,null,null,null,null,null,"URZĄD SKARBOWY W SIEMIANOWICACH ŚLĄSKICH","2428",1224,"ŚWIECIE",null,null,22,"ZAWIERCIAŃSKI",2226]
[null,null,null,null,null,null,null,null,null,null,null,null,null,null,null,null,null,null,null,null,null,null,null,null,"URZĄD SKARBOWY W SIEMIATYCZACH","2010",1224,"ŚWIEKATOWO",null,null,22,"ŻYWIECKI",2227]
[null,null,null,null,null,null,null,null,null,null,null,null,null,null,null,null,null,null,null,null,null,null,null,null,"URZĄD SKARBOWY W SIERADZU","1021",1224,"WARLUBIE",null,null,22,"M.BIELSKO-BIAŁA",2228]
[null,null,null,null,null,null,null,null,null,null,null,null,null,null,null,null,null,null,null,null,null,null,null,null,"URZĄD SKARBOWY W SIERPCU","1427",1225,"CHEŁMŻA-MIEJSKA",null,null,22,"M.BYTOM",2229]
[null,null,null,null,null,null,null,null,null,null,null,null,null,null,null,null,null,null,null,null,null,null,null,null,"URZĄD SKARBOWY W SKARŻYSKU-KAMIENNEJ","2611",1225,"CHEŁMŻA-WIEJSKA",null,null,22,"M.CHORZÓW",2230]
[null,null,null,null,null,null,null,null,null,null,null,null,null,null,null,null,null,null,null,null,null,null,null,null,"URZĄD SKARBOWY W SKIERNIEWICACH","1022",1225,"CZERNIKOWO",null,null,22,"M.CZĘSTOCHOWA",2231]
[null,null,null,null,null,null,null,null,null,null,null,null,null,null,null,null,null,null,null,null,null,null,null,null,"URZĄD SKARBOWY W SŁUBICACH","0806",1225,"LUBICZ",null,null,22,"M.DĄBROWA GÓRNICZA",2232]
[null,null,null,null,null,null,null,null,null,null,null,null,null,null,null,null,null,null,null,null,null,null,null,null,"URZĄD SKARBOWY W SŁUPCY","3028",1225,"ŁUBIANKA",null,null,22,"M.GLIWICE",2233]
[null,null,null,null,null,null,null,null,null,null,null,null,null,null,null,null,null,null,null,null,null,null,null,null,"URZĄD SKARBOWY W SŁUPSKU","2216",1225,"ŁYSOMICE",null,null,22,"M.JASTRZĘBIE-ZDRÓJ",2234]
[null,null,null,null,null,null,null,null,null,null,null,null,null,null,null,null,null,null,null,null,null,null,null,null,"URZĄD SKARBOWY W SOCHACZEWIE","1428",1225,"OBROWO",null,null,22,"M.JAWORZNO",2235]
[null,null,null,null,null,null,null,null,null,null,null,null,null,null,null,null,null,null,null,null,null,null,null,null,"URZĄD SKARBOWY W SOKOŁOWIE PODLASKIM","1429",1225,"WIELKA NIESZAWKA",null,null,22,"M.KATOWICE",2236]
[null,null,null,null,null,null,null,null,null,null,null,null,null,null,null,null,null,null,null,null,null,null,null,null,"URZĄD SKARBOWY W SOKÓŁCE","2011",1225,"ZŁAWIEŚ WIELKA",null,null,22,"M.MYSŁOWICE",2237]
[null,null,null,null,null,null,null,null,null,null,null,null,null,null,null,null,null,null,null,null,null,null,null,null,"URZĄD SKARBOWY W SOPOCIE","2217",1226,"CEKCYN",null,null,22,"M.PIEKARY ŚLĄSKIE",2238]
[null,null,null,null,null,null,null,null,null,null,null,null,null,null,null,null,null,null,null,null,null,null,null,null,"URZĄD SKARBOWY W SOSNOWCU","2429",1226,"GOSTYCYN",null,null,22,"M.RUDA ŚLĄSKA",2239]
[null,null,null,null,null,null,null,null,null,null,null,null,null,null,null,null,null,null,null,null,null,null,null,null,"URZĄD SKARBOWY W STALOWEJ WOLI","1818",1226,"KĘSOWO",null,null,22,"M.RYBNIK",2240]
[null,null,null,null,null,null,null,null,null,null,null,null,null,null,null,null,null,null,null,null,null,null,null,null,"URZĄD SKARBOWY W STARACHOWICACH","2612",1226,"LUBIEWO",null,null,22,"M.SIEMIANOWICE ŚLĄSKIE",2241]
[null,null,null,null,null,null,null,null,null,null,null,null,null,null,null,null,null,null,null,null,null,null,null,null,"URZĄD SKARBOWY W STARGARDZIE","3214",1226,"ŚLIWICE",null,null,22,"M.SOSNOWIEC",2242]
[null,null,null,null,null,null,null,null,null,null,null,null,null,null,null,null,null,null,null,null,null,null,null,null,"URZĄD SKARBOWY W STAROGARDZIE GDAŃSKIM","2218",1226,"TUCHOLA",null,null,22,"M.ŚWIĘTOCHŁOWICE",2243]
[null,null,null,null,null,null,null,null,null,null,null,null,null,null,null,null,null,null,null,null,null,null,null,null,"URZĄD SKARBOWY W STASZOWIE","2613",1227,"DĘBOWA ŁĄKA",null,null,22,"M.TYCHY",2244]
[null,null,null,null,null,null,null,null,null,null,null,null,null,null,null,null,null,null,null,null,null,null,null,null,"URZĄD SKARBOWY W STRZELCACH OPOLSKICH","1612",1227,"KSIĄŻKI",null,null,22,"M.ZABRZE",2245]
[null,null,null,null,null,null,null,null,null,null,null,null,null,null,null,null,null,null,null,null,null,null,null,null,"URZĄD SKARBOWY W STRZELINIE","0218",1227,"PŁUŻNICA",null,null,22,"M.ŻORY",2246]
[null,null,null,null,null,null,null,null,null,null,null,null,null,null,null,null,null,null,null,null,null,null,null,null,"URZĄD SKARBOWY W STRZYŻOWIE","1819",1227,"WĄBRZEŹNO-MIEJSKA",null,null,23,"BUSKI",2311]
[null,null,null,null,null,null,null,null,null,null,null,null,null,null,null,null,null,null,null,null,null,null,null,null,"URZĄD SKARBOWY W SUCHEJ BESKIDZKIEJ","1222",1227,"WĄBRZEŹNO-WIEJSKA",null,null,23,"JĘDRZEJOWSKI",2312]
[null,null,null,null,null,null,null,null,null,null,null,null,null,null,null,null,null,null,null,null,null,null,null,null,"URZĄD SKARBOWY W SULĘCINIE","0813",1228,"BARUCHOWO",null,null,23,"KAZIMIERSKI",2313]
[null,null,null,null,null,null,null,null,null,null,null,null,null,null,null,null,null,null,null,null,null,null,null,null,"URZĄD SKARBOWY W SUWAŁKACH","2012",1228,"BONIEWO",null,null,23,"KIELECKI",2314]
[null,null,null,null,null,null,null,null,null,null,null,null,null,null,null,null,null,null,null,null,null,null,null,null,"URZĄD SKARBOWY W SZAMOTUŁACH","3029",1228,"BRZEŚĆ KUJAWSKI",null,null,23,"KONECKI",2315]
[null,null,null,null,null,null,null,null,null,null,null,null,null,null,null,null,null,null,null,null,null,null,null,null,"PIERWSZY URZĄD SKARBOWY W SZCZECINIE","3215",1228,"CHOCEŃ",null,null,23,"OPATOWSKI",2316]
[null,null,null,null,null,null,null,null,null,null,null,null,null,null,null,null,null,null,null,null,null,null,null,null,"DRUGI URZĄD SKARBOWY W SZCZECINIE","3216",1228,"CHODECZ",null,null,23,"OSTROWIECKI",2317]
[null,null,null,null,null,null,null,null,null,null,null,null,null,null,null,null,null,null,null,null,null,null,null,null,"TRZECI URZĄD SKARBOWY W SZCZECINIE","3217",1228,"FABIANKI",null,null,23,"PIŃCZOWSKI",2318]
[null,null,null,null,null,null,null,null,null,null,null,null,null,null,null,null,null,null,null,null,null,null,null,null,"URZĄD SKARBOWY W SZCZECINKU","3218",1228,"IZBICA KUJAWSKA",null,null,23,"SANDOMIERSKI",2319]
[null,null,null,null,null,null,null,null,null,null,null,null,null,null,null,null,null,null,null,null,null,null,null,null,"URZĄD SKARBOWY W SZCZYTNIE","2816",1228,"KOWAL-MIEJSKA",null,null,23,"SKARŻYSKI",2320]
[null,null,null,null,null,null,null,null,null,null,null,null,null,null,null,null,null,null,null,null,null,null,null,null,"URZĄD SKARBOWY W SZYDŁOWCU","1430",1228,"KOWAL-WIEJSKA",null,null,23,"STARACHOWICKI",2321]
[null,null,null,null,null,null,null,null,null,null,null,null,null,null,null,null,null,null,null,null,null,null,null,null,"URZĄD SKARBOWY W ŚREMIE","3030",1228,"LUBANIE",null,null,23,"STASZOWSKI",2322]
[null,null,null,null,null,null,null,null,null,null,null,null,null,null,null,null,null,null,null,null,null,null,null,null,"URZĄD SKARBOWY W ŚRODZIE ŚLĄSKIEJ","0219",1228,"LUBIEŃ KUJAWSKI",null,null,23,"WŁOSZCZOWSKI",2323]
[null,null,null,null,null,null,null,null,null,null,null,null,null,null,null,null,null,null,null,null,null,null,null,null,"URZĄD SKARBOWY W ŚRODZIE WIELKOPOLSKIEJ","3031",1228,"LUBRANIEC",null,null,23,"M.KIELCE",2324]
[null,null,null,null,null,null,null,null,null,null,null,null,null,null,null,null,null,null,null,null,null,null,null,null,"URZĄD SKARBOWY W ŚWIDNICY","0220",1228,"WŁOCŁAWEK",null,null,24,"BARTOSZYCKI",2411]
[null,null,null,null,null,null,null,null,null,null,null,null,null,null,null,null,null,null,null,null,null,null,null,null,"URZĄD SKARBOWY W ŚWIEBODZINIE","0807",1229,"BARCIN",null,null,24,"BRANIEWSKI",2412]
[null,null,null,null,null,null,null,null,null,null,null,null,null,null,null,null,null,null,null,null,null,null,null,null,"URZĄD SKARBOWY W ŚWIECIU","0415",1229,"GĄSAWA",null,null,24,"DZIAŁDOWSKI",2413]
[null,null,null,null,null,null,null,null,null,null,null,null,null,null,null,null,null,null,null,null,null,null,null,null,"URZĄD SKARBOWY W ŚWINOUJŚCIU","3219",1229,"JANOWIEC WIELKOPOLSKI",null,null,24,"ELBLĄSKI",2414]
[null,null,null,null,null,null,null,null,null,null,null,null,null,null,null,null,null,null,null,null,null,null,null,null,"URZĄD SKARBOWY W TARNOBRZEGU","1820",1229,"ŁABISZYN",null,null,24,"EŁCKI",2415]
[null,null,null,null,null,null,null,null,null,null,null,null,null,null,null,null,null,null,null,null,null,null,null,null,"PIERWSZY URZĄD SKARBOWY W TARNOWIE","1223",1229,"ROGOWO",null,null,24,"GIŻYCKI",2416]
[null,null,null,null,null,null,null,null,null,null,null,null,null,null,null,null,null,null,null,null,null,null,null,null,"DRUGI URZĄD SKARBOWY W TARNOWIE","1224",1229,"ŻNIN",null,null,24,"IŁAWSKI",2417]
[null,null,null,null,null,null,null,null,null,null,null,null,null,null,null,null,null,null,null,null,null,null,null,null,"URZĄD SKARBOWY W TARNOWSKICH GÓRACH","2430",1230,"M.BYDGOSZCZ",null,null,24,"KĘTRZYŃSKI",2418]
[null,null,null,null,null,null,null,null,null,null,null,null,null,null,null,null,null,null,null,null,null,null,null,null,"URZĄD SKARBOWY W TCZEWIE","2219",1231,"M.GRUDZIĄDZ",null,null,24,"LIDZBARSKI",2419]
[null,null,null,null,null,null,null,null,null,null,null,null,null,null,null,null,null,null,null,null,null,null,null,null,"URZĄD SKARBOWY W TOMASZOWIE LUBELSKIM","0618",1232,"M.TORUŃ",null,null,24,"MRĄGOWSKI",2420]
[null,null,null,null,null,null,null,null,null,null,null,null,null,null,null,null,null,null,null,null,null,null,null,null,"URZĄD SKARBOWY W TOMASZOWIE MAZOWIECKIM","1023",1233,"M.WŁOCŁAWEK",null,null,24,"NIDZICKI",2421]
[null,null,null,null,null,null,null,null,null,null,null,null,null,null,null,null,null,null,null,null,null,null,null,null,"PIERWSZY URZĄD SKARBOWY W TORUNIU","0416",1311,"BIAŁA PODLASKA",null,null,24,"NOWOMIEJSKI",2422]
[null,null,null,null,null,null,null,null,null,null,null,null,null,null,null,null,null,null,null,null,null,null,null,null,"DRUGI URZĄD SKARBOWY W TORUNIU","0417",1311,"DRELÓW",null,null,24,"OLECKI",2423]
[null,null,null,null,null,null,null,null,null,null,null,null,null,null,null,null,null,null,null,null,null,null,null,null,"URZĄD SKARBOWY W TRZEBNICY","0221",1311,"JANÓW PODLASKI",null,null,24,"OLSZTYŃSKI",2424]
[null,null,null,null,null,null,null,null,null,null,null,null,null,null,null,null,null,null,null,null,null,null,null,null,"URZĄD SKARBOWY W TUCHOLI","0418",1311,"KODEŃ",null,null,24,"OSTRÓDZKI",2425]
[null,null,null,null,null,null,null,null,null,null,null,null,null,null,null,null,null,null,null,null,null,null,null,null,"URZĄD SKARBOWY W TURKU","3032",1311,"KONSTANTYNÓW",null,null,24,"PISKI",2426]
[null,null,null,null,null,null,null,null,null,null,null,null,null,null,null,null,null,null,null,null,null,null,null,null,"URZĄD SKARBOWY W TYCHACH","2431",1311,"LEŚNA PODLASKA",null,null,24,"SZCZYCIEŃSKI",2427]
[null,null,null,null,null,null,null,null,null,null,null,null,null,null,null,null,null,null,null,null,null,null,null,null,"URZĄD SKARBOWY W USTRZYKACH DOLNYCH","1821",1311,"ŁOMAZY",null,null,24,"GOŁDAPSKI",2428]
[null,null,null,null,null,null,null,null,null,null,null,null,null,null,null,null,null,null,null,null,null,null,null,null,"URZĄD SKARBOWY W WADOWICACH","1225",1311,"MIĘDZYRZEC PODLASKI-MIEJSKA",null,null,24,"WĘGORZEWSKI",2429]
[null,null,null,null,null,null,null,null,null,null,null,null,null,null,null,null,null,null,null,null,null,null,null,null,"URZĄD SKARBOWY W WAŁBRZYCHU","0222",1311,"MIĘDZYRZEC PODLASKI-WIEJSKA",null,null,24,"M.ELBLĄG",2430]
[null,null,null,null,null,null,null,null,null,null,null,null,null,null,null,null,null,null,null,null,null,null,null,null,"URZĄD SKARBOWY W WAŁCZU","3220",1311,"PISZCZAC",null,null,24,"M.OLSZTYN",2431]
[null,null,null,null,null,null,null,null,null,null,null,null,null,null,null,null,null,null,null,null,null,null,null,null,"URZĄD SKARBOWY WARSZAWA-BEMOWO","1431",1311,"ROKITNO",null,null,25,"CHODZIESKI",2511]
[null,null,null,null,null,null,null,null,null,null,null,null,null,null,null,null,null,null,null,null,null,null,null,null,"URZĄD SKARBOWY WARSZAWA-BIELANY","1432",1311,"ROSSOSZ",null,null,25,"CZARNKOWSKO-TRZCIANECKI",2512]
[null,null,null,null,null,null,null,null,null,null,null,null,null,null,null,null,null,null,null,null,null,null,null,null,"URZĄD SKARBOWY WARSZAWA-MOKOTÓW","1433",1311,"SŁAWATYCZE",null,null,25,"GNIEŹNIEŃSKI",2513]
[null,null,null,null,null,null,null,null,null,null,null,null,null,null,null,null,null,null,null,null,null,null,null,null,"URZĄD SKARBOWY WARSZAWA-PRAGA","1434",1311,"SOSNÓWKA",null,null,25,"GOSTYŃSKI",2514]
[null,null,null,null,null,null,null,null,null,null,null,null,null,null,null,null,null,null,null,null,null,null,null,null,"PIERWSZY URZĄD SKARBOWY WARSZAWA-ŚRÓDMIEŚCIE","1435",1311,"TERESPOL-MIEJSKA",null,null,25,"GRODZISKI",2515]
[null,null,null,null,null,null,null,null,null,null,null,null,null,null,null,null,null,null,null,null,null,null,null,null,"TRZECI URZĄD SKARBOWY WARSZAWA-ŚRÓDMIEŚCIE","1449",1311,"TERESPOL-WIEJSKA",null,null,25,"JAROCIŃSKI",2516]
[null,null,null,null,null,null,null,null,null,null,null,null,null,null,null,null,null,null,null,null,null,null,null,null,"URZĄD SKARBOWY WARSZAWA-TARGÓWEK","1437",1311,"TUCZNA",null,null,25,"KALISKI",2517]
[null,null,null,null,null,null,null,null,null,null,null,null,null,null,null,null,null,null,null,null,null,null,null,null,"URZĄD SKARBOWY WARSZAWA-URSYNÓW","1438",1311,"WISZNICE",null,null,25,"KĘPIŃSKI",2518]
[null,null,null,null,null,null,null,null,null,null,null,null,null,null,null,null,null,null,null,null,null,null,null,null,"URZĄD SKARBOWY WARSZAWA-WAWER","1439",1311,"ZALESIE",null,null,25,"KOLSKI",2519]
[null,null,null,null,null,null,null,null,null,null,null,null,null,null,null,null,null,null,null,null,null,null,null,null,"URZĄD SKARBOWY WARSZAWA-WOLA","1440",1312,"ALEKSANDRÓW",null,null,25,"KONIŃSKI",2520]
[null,null,null,null,null,null,null,null,null,null,null,null,null,null,null,null,null,null,null,null,null,null,null,null,"URZĄD SKARBOWY W WĄBRZEŹNIE","0419",1312,"BIŁGORAJ-MIEJSKA",null,null,25,"KOŚCIAŃSKI",2521]
[null,null,null,null,null,null,null,null,null,null,null,null,null,null,null,null,null,null,null,null,null,null,null,null,"URZĄD SKARBOWY W WĄGROWCU","3033",1312,"BIŁGORAJ-WIEJSKA",null,null,25,"KROTOSZYŃSKI",2522]
[null,null,null,null,null,null,null,null,null,null,null,null,null,null,null,null,null,null,null,null,null,null,null,null,"URZĄD SKARBOWY W WEJHEROWIE","2220",1312,"BISZCZA",null,null,25,"LESZCZYŃSKI",2523]
[null,null,null,null,null,null,null,null,null,null,null,null,null,null,null,null,null,null,null,null,null,null,null,null,"URZĄD SKARBOWY W WĘGROWIE","1441",1312,"FRAMPOL",null,null,25,"MIĘDZYCHODZKI",2524]
[null,null,null,null,null,null,null,null,null,null,null,null,null,null,null,null,null,null,null,null,null,null,null,null,"URZĄD SKARBOWY W WIELICZCE","1226",1312,"GORAJ",null,null,25,"NOWOTOMYSKI",2525]
[null,null,null,null,null,null,null,null,null,null,null,null,null,null,null,null,null,null,null,null,null,null,null,null,"URZĄD SKARBOWY W WIELUNIU","1024",1312,"JÓZEFÓW",null,null,25,"OBORNICKI",2526]
[null,null,null,null,null,null,null,null,null,null,null,null,null,null,null,null,null,null,null,null,null,null,null,null,"URZĄD SKARBOWY W WIERUSZOWIE","1027",1312,"KSIĘŻPOL",null,null,25,"OSTROWSKI",2527]
[null,null,null,null,null,null,null,null,null,null,null,null,null,null,null,null,null,null,null,null,null,null,null,null,"URZĄD SKARBOWY WE WŁOCŁAWKU","0420",1312,"ŁUKOWA",null,null,25,"OSTRZESZOWSKI",2528]
[null,null,null,null,null,null,null,null,null,null,null,null,null,null,null,null,null,null,null,null,null,null,null,null,"URZĄD SKARBOWY WE WŁODAWIE","0619",1312,"OBSZA",null,null,25,"PILSKI",2529]
[null,null,null,null,null,null,null,null,null,null,null,null,null,null,null,null,null,null,null,null,null,null,null,null,"URZĄD SKARBOWY WE WŁOSZCZOWIE","2615",1312,"POTOK GÓRNY",null,null,25,"PLESZEWSKI",2530]
[null,null,null,null,null,null,null,null,null,null,null,null,null,null,null,null,null,null,null,null,null,null,null,null,"URZĄD SKARBOWY W WODZISŁAWIU ŚLĄSKIM","2432",1312,"TARNOGRÓD",null,null,25,"POZNAŃSKI",2531]
[null,null,null,null,null,null,null,null,null,null,null,null,null,null,null,null,null,null,null,null,null,null,null,null,"URZĄD SKARBOWY W WOLSZTYNIE","3034",1312,"TERESZPOL",null,null,25,"RAWICKI",2532]
[null,null,null,null,null,null,null,null,null,null,null,null,null,null,null,null,null,null,null,null,null,null,null,null,"URZĄD SKARBOWY W WOŁOMINIE","1442",1312,"TUROBIN",null,null,25,"SŁUPECKI",2533]
[null,null,null,null,null,null,null,null,null,null,null,null,null,null,null,null,null,null,null,null,null,null,null,null,"URZĄD SKARBOWY W WOŁOWIE","0223",1313,"BIAŁOPOLE",null,null,25,"SZAMOTULSKI",2534]
[null,null,null,null,null,null,null,null,null,null,null,null,null,null,null,null,null,null,null,null,null,null,null,null,"PIERWSZY URZĄD SKARBOWY WE WROCŁAWIU","0229",1313,"CHEŁM",null,null,25,"ŚREDZKI",2535]
[null,null,null,null,null,null,null,null,null,null,null,null,null,null,null,null,null,null,null,null,null,null,null,null,"URZĄD SKARBOWY WROCŁAW-FABRYCZNA","0224",1313,"DOROHUSK",null,null,25,"ŚREMSKI",2536]
[null,null,null,null,null,null,null,null,null,null,null,null,null,null,null,null,null,null,null,null,null,null,null,null,"URZĄD SKARBOWY WROCŁAW-KRZYKI","0225",1313,"DUBIENKA",null,null,25,"TURECKI",2537]
[null,null,null,null,null,null,null,null,null,null,null,null,null,null,null,null,null,null,null,null,null,null,null,null,"URZĄD SKARBOWY WROCŁAW-PSIE POLE","0226",1313,"KAMIEŃ",null,null,25,"WĄGROWIECKI",2538]
[null,null,null,null,null,null,null,null,null,null,null,null,null,null,null,null,null,null,null,null,null,null,null,null,"URZĄD SKARBOWY WROCŁAW-STARE MIASTO","0227",1313,"LEŚNIOWICE",null,null,25,"WOLSZTYŃSKI",2539]
[null,null,null,null,null,null,null,null,null,null,null,null,null,null,null,null,null,null,null,null,null,null,null,null,"URZĄD SKARBOWY WROCŁAW-ŚRÓDMIEŚCIE","0228",1313,"REJOWIEC FABRYCZNY-MIEJSKA",null,null,25,"WRZESIŃSKI",2540]
[null,null,null,null,null,null,null,null,null,null,null,null,null,null,null,null,null,null,null,null,null,null,null,null,"URZĄD SKARBOWY WE WRZEŚNI","3035",1313,"REJOWIEC FABRYCZNY-WIEJSKA",null,null,25,"ZŁOTOWSKI",2541]
[null,null,null,null,null,null,null,null,null,null,null,null,null,null,null,null,null,null,null,null,null,null,null,null,"URZĄD SKARBOWY WE WSCHOWIE","0814",1313,"RUDA-HUTA",null,null,25,"M.KALISZ",2542]
[null,null,null,null,null,null,null,null,null,null,null,null,null,null,null,null,null,null,null,null,null,null,null,null,"URZĄD SKARBOWY W WYSOKIEM MAZOWIECKIEM","2013",1313,"SAWIN",null,null,25,"M.KONIN",2543]
[null,null,null,null,null,null,null,null,null,null,null,null,null,null,null,null,null,null,null,null,null,null,null,null,"URZĄD SKARBOWY W WYSZKOWIE","1443",1313,"SIEDLISZCZE",null,null,25,"M.LESZNO",2544]
[null,null,null,null,null,null,null,null,null,null,null,null,null,null,null,null,null,null,null,null,null,null,null,null,"URZĄD SKARBOWY W ZABRZU","2433",1313,"WIERZBICA",null,null,25,"M.POZNAŃ",2545]
[null,null,null,null,null,null,null,null,null,null,null,null,null,null,null,null,null,null,null,null,null,null,null,null,"URZĄD SKARBOWY W ZAKOPANEM","1227",1313,"WOJSŁAWICE",null,null,26,"BIAŁOGARDZKI",2611]
[null,null,null,null,null,null,null,null,null,null,null,null,null,null,null,null,null,null,null,null,null,null,null,null,"URZĄD SKARBOWY W ZAMBROWIE","2014",1313,"ŻMUDŹ",null,null,26,"CHOSZCZEŃSKI",2612]
[null,null,null,null,null,null,null,null,null,null,null,null,null,null,null,null,null,null,null,null,null,null,null,null,"URZĄD SKARBOWY W ZAMOŚCIU","0620",1314,"DOŁHOBYCZÓW",null,null,26,"DRAWSKI",2613]
[null,null,null,null,null,null,null,null,null,null,null,null,null,null,null,null,null,null,null,null,null,null,null,null,"URZĄD SKARBOWY W ZAWIERCIU","2434",1314,"HORODŁO",null,null,26,"GOLENIOWSKI",2614]
[null,null,null,null,null,null,null,null,null,null,null,null,null,null,null,null,null,null,null,null,null,null,null,null,"URZĄD SKARBOWY W ZĄBKOWICACH ŚLĄSKICH","0230",1314,"HRUBIESZÓW-MIEJSKA",null,null,26,"GRYFICKI",2615]
[null,null,null,null,null,null,null,null,null,null,null,null,null,null,null,null,null,null,null,null,null,null,null,null,"URZĄD SKARBOWY W ZDUŃSKIEJ WOLI","1025",1314,"HRUBIESZÓW-WIEJSKA",null,null,26,"GRYFIŃSKI",2616]
[null,null,null,null,null,null,null,null,null,null,null,null,null,null,null,null,null,null,null,null,null,null,null,null,"URZĄD SKARBOWY W ZGIERZU","1026",1314,"MIRCZE",null,null,26,"KAMIEŃSKI",2617]
[null,null,null,null,null,null,null,null,null,null,null,null,null,null,null,null,null,null,null,null,null,null,null,null,"URZĄD SKARBOWY W ZGORZELCU","0231",1314,"TRZESZCZANY",null,null,26,"KOŁOBRZESKI",2618]
[null,null,null,null,null,null,null,null,null,null,null,null,null,null,null,null,null,null,null,null,null,null,null,null,"PIERWSZY URZĄD SKARBOWY W ZIELONEJ GÓRZE","0808",1314,"UCHANIE",null,null,26,"KOSZALIŃSKI",2619]
[null,null,null,null,null,null,null,null,null,null,null,null,null,null,null,null,null,null,null,null,null,null,null,null,"DRUGI URZĄD SKARBOWY W ZIELONEJ GÓRZE","0809",1314,"WERBKOWICE",null,null,26,"MYŚLIBORSKI",2620]
[null,null,null,null,null,null,null,null,null,null,null,null,null,null,null,null,null,null,null,null,null,null,null,null,"URZĄD SKARBOWY W ZŁOTORYI","0232",1315,"BATORZ",null,null,26,"POLICKI",2621]
[null,null,null,null,null,null,null,null,null,null,null,null,null,null,null,null,null,null,null,null,null,null,null,null,"URZĄD SKARBOWY W ZŁOTOWIE","3036",1315,"CHRZANÓW",null,null,26,"PYRZYCKI",2622]
[null,null,null,null,null,null,null,null,null,null,null,null,null,null,null,null,null,null,null,null,null,null,null,null,"URZĄD SKARBOWY W ZWOLENIU","1444",1315,"DZWOLA",null,null,26,"SŁAWIEŃSKI",2623]
[null,null,null,null,null,null,null,null,null,null,null,null,null,null,null,null,null,null,null,null,null,null,null,null,"URZĄD SKARBOWY W ŻAGANIU","0810",1315,"GODZISZÓW",null,null,26,"STARGARDZKI",2624]
[null,null,null,null,null,null,null,null,null,null,null,null,null,null,null,null,null,null,null,null,null,null,null,null,"URZĄD SKARBOWY W ŻARACH","0811",1315,"JANÓW LUBELSKI",null,null,26,"SZCZECINECKI",2625]
[null,null,null,null,null,null,null,null,null,null,null,null,null,null,null,null,null,null,null,null,null,null,null,null,"URZĄD SKARBOWY W ŻNINIE","0421",1315,"MODLIBORZYCE",null,null,26,"ŚWIDWIŃSKI",2626]
[null,null,null,null,null,null,null,null,null,null,null,null,null,null,null,null,null,null,null,null,null,null,null,null,"URZĄD SKARBOWY W ŻORACH","2435",1315,"POTOK WIELKI",null,null,26,"WAŁECKI",2627]
[null,null,null,null,null,null,null,null,null,null,null,null,null,null,null,null,null,null,null,null,null,null,null,null,"URZĄD SKARBOWY W ŻUROMINIE","1445",1316,"FAJSŁAWICE",null,null,26,"ŁOBESKI",2628]
[null,null,null,null,null,null,null,null,null,null,null,null,null,null,null,null,null,null,null,null,null,null,null,null,"URZĄD SKARBOWY W ŻYRARDOWIE","1446",1316,"GORZKÓW",null,null,26,"M.KOSZALIN",2629]
[null,null,null,null,null,null,null,null,null,null,null,null,null,null,null,null,null,null,null,null,null,null,null,null,"URZĄD SKARBOWY W ŻYWCU","2436",1316,"IZBICA",null,null,26,"M.SZCZECIN",2630]
[null,null,null,null,null,null,null,null,null,null,null,null,null,null,null,null,null,null,null,null,null,null,null,null,null,null,1316,"KRASNYSTAW-MIEJSKA",null,null,26,"M.ŚWINOUJŚCIE",2631]
[null,null,null,null,null,null,null,null,null,null,null,null,null,null,null,null,null,null,null,null,null,null,null,null,null,null,1316,"KRASNYSTAW-WIEJSKA"]
[null,null,null,null,null,null,null,null,null,null,null,null,null,null,null,null,null,null,null,null,null,null,null,null,null,null,1316,"KRAŚNICZYN"]
[null,null,null,null,null,null,null,null,null,null,null,null,null,null,null,null,null,null,null,null,null,null,null,null,null,null,1316,"ŁOPIENNIK GÓRNY"]
[null,null,null,null,null,null,null,null,null,null,null,null,null,null,null,null,null,null,null,null,null,null,null,null,null,null,1316,"REJOWIEC"]
[null,null,null,null,null,null,null,null,null,null,null,null,null,null,null,null,null,null,null,null,null,null,null,null,null,null,1316,"RUDNIK"]
[null,null,null,null,null,null,null,null,null,null,null,null,null,null,null,null,null,null,null,null,null,null,null,null,null,null,1316,"SIENNICA RÓŻANA"]
[null,null,null,null,null,null,null,null,null,null,null,null,null,null,null,null,null,null,null,null,null,null,null,null,null,null,1316,"ŻÓŁKIEWKA"]
[null,null,null,null,null,null,null,null,null,null,null,null,null,null,null,null,null,null,null,null,null,null,null,null,null,null,1317,"ANNOPOL"]
[null,null,null,null,null,null,null,null,null,null,null,null,null,null,null,null,null,null,null,null,null,null,null,null,null,null,1317,"DZIERZKOWICE"]
[null,null,null,null,null,null,null,null,null,null,null,null,null,null,null,null,null,null,null,null,null,null,null,null,null,null,1317,"GOŚCIERADÓW"]
[null,null,null,null,null,null,null,null,null,null,null,null,null,null,null,null,null,null,null,null,null,null,null,null,null,null,1317,"KRAŚNIK-MIEJSKA"]
[null,null,null,null,null,null,null,null,null,null,null,null,null,null,null,null,null,null,null,null,null,null,null,null,null,null,1317,"KRAŚNIK-WIEJSKA"]
[null,null,null,null,null,null,null,null,null,null,null,null,null,null,null,null,null,null,null,null,null,null,null,null,null,null,1317,"SZASTARKA"]
[null,null,null,null,null,null,null,null,null,null,null,null,null,null,null,null,null,null,null,null,null,null,null,null,null,null,1317,"TRZYDNIK DUŻY"]
[null,null,null,null,null,null,null,null,null,null,null,null,null,null,null,null,null,null,null,null,null,null,null,null,null,null,1317,"URZĘDÓW"]
[null,null,null,null,null,null,null,null,null,null,null,null,null,null,null,null,null,null,null,null,null,null,null,null,null,null,1317,"WILKOŁAZ"]
[null,null,null,null,null,null,null,null,null,null,null,null,null,null,null,null,null,null,null,null,null,null,null,null,null,null,1317,"ZAKRZÓWEK"]
[null,null,null,null,null,null,null,null,null,null,null,null,null,null,null,null,null,null,null,null,null,null,null,null,null,null,1318,"ABRAMÓW"]
[null,null,null,null,null,null,null,null,null,null,null,null,null,null,null,null,null,null,null,null,null,null,null,null,null,null,1318,"FIRLEJ"]
[null,null,null,null,null,null,null,null,null,null,null,null,null,null,null,null,null,null,null,null,null,null,null,null,null,null,1318,"JEZIORZANY"]
[null,null,null,null,null,null,null,null,null,null,null,null,null,null,null,null,null,null,null,null,null,null,null,null,null,null,1318,"KAMIONKA"]
[null,null,null,null,null,null,null,null,null,null,null,null,null,null,null,null,null,null,null,null,null,null,null,null,null,null,1318,"KOCK"]
[null,null,null,null,null,null,null,null,null,null,null,null,null,null,null,null,null,null,null,null,null,null,null,null,null,null,1318,"LUBARTÓW-MIEJSKA"]
[null,null,null,null,null,null,null,null,null,null,null,null,null,null,null,null,null,null,null,null,null,null,null,null,null,null,1318,"LUBARTÓW-WIEJSKA"]
[null,null,null,null,null,null,null,null,null,null,null,null,null,null,null,null,null,null,null,null,null,null,null,null,null,null,1318,"MICHÓW"]
[null,null,null,null,null,null,null,null,null,null,null,null,null,null,null,null,null,null,null,null,null,null,null,null,null,null,1318,"NIEDŹWIADA"]
[null,null,null,null,null,null,null,null,null,null,null,null,null,null,null,null,null,null,null,null,null,null,null,null,null,null,1318,"OSTRÓW LUBELSKI"]
[null,null,null,null,null,null,null,null,null,null,null,null,null,null,null,null,null,null,null,null,null,null,null,null,null,null,1318,"OSTRÓWEK"]
[null,null,null,null,null,null,null,null,null,null,null,null,null,null,null,null,null,null,null,null,null,null,null,null,null,null,1318,"SERNIKI"]
[null,null,null,null,null,null,null,null,null,null,null,null,null,null,null,null,null,null,null,null,null,null,null,null,null,null,1318,"UŚCIMÓW"]
[null,null,null,null,null,null,null,null,null,null,null,null,null,null,null,null,null,null,null,null,null,null,null,null,null,null,1319,"BEŁŻYCE"]
[null,null,null,null,null,null,null,null,null,null,null,null,null,null,null,null,null,null,null,null,null,null,null,null,null,null,1319,"BORZECHÓW"]
[null,null,null,null,null,null,null,null,null,null,null,null,null,null,null,null,null,null,null,null,null,null,null,null,null,null,1319,"BYCHAWA"]
[null,null,null,null,null,null,null,null,null,null,null,null,null,null,null,null,null,null,null,null,null,null,null,null,null,null,1319,"GARBÓW"]
[null,null,null,null,null,null,null,null,null,null,null,null,null,null,null,null,null,null,null,null,null,null,null,null,null,null,1319,"GŁUSK"]
[null,null,null,null,null,null,null,null,null,null,null,null,null,null,null,null,null,null,null,null,null,null,null,null,null,null,1319,"JABŁONNA"]
[null,null,null,null,null,null,null,null,null,null,null,null,null,null,null,null,null,null,null,null,null,null,null,null,null,null,1319,"JASTKÓW"]
[null,null,null,null,null,null,null,null,null,null,null,null,null,null,null,null,null,null,null,null,null,null,null,null,null,null,1319,"KONOPNICA"]
[null,null,null,null,null,null,null,null,null,null,null,null,null,null,null,null,null,null,null,null,null,null,null,null,null,null,1319,"KRZCZONÓW"]
[null,null,null,null,null,null,null,null,null,null,null,null,null,null,null,null,null,null,null,null,null,null,null,null,null,null,1319,"NIEDRZWICA DUŻA"]
[null,null,null,null,null,null,null,null,null,null,null,null,null,null,null,null,null,null,null,null,null,null,null,null,null,null,1319,"NIEMCE"]
[null,null,null,null,null,null,null,null,null,null,null,null,null,null,null,null,null,null,null,null,null,null,null,null,null,null,1319,"STRZYŻEWICE"]
[null,null,null,null,null,null,null,null,null,null,null,null,null,null,null,null,null,null,null,null,null,null,null,null,null,null,1319,"WOJCIECHÓW"]
[null,null,null,null,null,null,null,null,null,null,null,null,null,null,null,null,null,null,null,null,null,null,null,null,null,null,1319,"WÓLKA"]
[null,null,null,null,null,null,null,null,null,null,null,null,null,null,null,null,null,null,null,null,null,null,null,null,null,null,1319,"WYSOKIE"]
[null,null,null,null,null,null,null,null,null,null,null,null,null,null,null,null,null,null,null,null,null,null,null,null,null,null,1319,"ZAKRZEW"]
[null,null,null,null,null,null,null,null,null,null,null,null,null,null,null,null,null,null,null,null,null,null,null,null,null,null,1320,"CYCÓW"]
[null,null,null,null,null,null,null,null,null,null,null,null,null,null,null,null,null,null,null,null,null,null,null,null,null,null,1320,"LUDWIN"]
[null,null,null,null,null,null,null,null,null,null,null,null,null,null,null,null,null,null,null,null,null,null,null,null,null,null,1320,"ŁĘCZNA"]
[null,null,null,null,null,null,null,null,null,null,null,null,null,null,null,null,null,null,null,null,null,null,null,null,null,null,1320,"MILEJÓW"]
[null,null,null,null,null,null,null,null,null,null,null,null,null,null,null,null,null,null,null,null,null,null,null,null,null,null,1320,"PUCHACZÓW"]
[null,null,null,null,null,null,null,null,null,null,null,null,null,null,null,null,null,null,null,null,null,null,null,null,null,null,1320,"SPICZYN"]
[null,null,null,null,null,null,null,null,null,null,null,null,null,null,null,null,null,null,null,null,null,null,null,null,null,null,1321,"ADAMÓW"]
[null,null,null,null,null,null,null,null,null,null,null,null,null,null,null,null,null,null,null,null,null,null,null,null,null,null,1321,"KRZYWDA"]
[null,null,null,null,null,null,null,null,null,null,null,null,null,null,null,null,null,null,null,null,null,null,null,null,null,null,1321,"ŁUKÓW-MIEJSKA"]
[null,null,null,null,null,null,null,null,null,null,null,null,null,null,null,null,null,null,null,null,null,null,null,null,null,null,1321,"ŁUKÓW-WIEJSKA"]
[null,null,null,null,null,null,null,null,null,null,null,null,null,null,null,null,null,null,null,null,null,null,null,null,null,null,1321,"SEROKOMLA"]
[null,null,null,null,null,null,null,null,null,null,null,null,null,null,null,null,null,null,null,null,null,null,null,null,null,null,1321,"STANIN"]
[null,null,null,null,null,null,null,null,null,null,null,null,null,null,null,null,null,null,null,null,null,null,null,null,null,null,1321,"STOCZEK ŁUKOWSKI-MIEJSKA"]
[null,null,null,null,null,null,null,null,null,null,null,null,null,null,null,null,null,null,null,null,null,null,null,null,null,null,1321,"STOCZEK ŁUKOWSKI-WIEJSKA"]
[null,null,null,null,null,null,null,null,null,null,null,null,null,null,null,null,null,null,null,null,null,null,null,null,null,null,1321,"TRZEBIESZÓW"]
[null,null,null,null,null,null,null,null,null,null,null,null,null,null,null,null,null,null,null,null,null,null,null,null,null,null,1321,"WOJCIESZKÓW"]
[null,null,null,null,null,null,null,null,null,null,null,null,null,null,null,null,null,null,null,null,null,null,null,null,null,null,1321,"WOLA MYSŁOWSKA"]
[null,null,null,null,null,null,null,null,null,null,null,null,null,null,null,null,null,null,null,null,null,null,null,null,null,null,1322,"CHODEL"]
[null,null,null,null,null,null,null,null,null,null,null,null,null,null,null,null,null,null,null,null,null,null,null,null,null,null,1322,"JÓZEFÓW"]
[null,null,null,null,null,null,null,null,null,null,null,null,null,null,null,null,null,null,null,null,null,null,null,null,null,null,1322,"KARCZMISKA"]
[null,null,null,null,null,null,null,null,null,null,null,null,null,null,null,null,null,null,null,null,null,null,null,null,null,null,1322,"ŁAZISKA"]
[null,null,null,null,null,null,null,null,null,null,null,null,null,null,null,null,null,null,null,null,null,null,null,null,null,null,1322,"OPOLE LUBELSKIE"]
[null,null,null,null,null,null,null,null,null,null,null,null,null,null,null,null,null,null,null,null,null,null,null,null,null,null,1322,"PONIATOWA"]
[null,null,null,null,null,null,null,null,null,null,null,null,null,null,null,null,null,null,null,null,null,null,null,null,null,null,1322,"WILKÓW"]
[null,null,null,null,null,null,null,null,null,null,null,null,null,null,null,null,null,null,null,null,null,null,null,null,null,null,1323,"DĘBOWA KŁODA"]
[null,null,null,null,null,null,null,null,null,null,null,null,null,null,null,null,null,null,null,null,null,null,null,null,null,null,1323,"JABŁOŃ"]
[null,null,null,null,null,null,null,null,null,null,null,null,null,null,null,null,null,null,null,null,null,null,null,null,null,null,1323,"MILANÓW"]
[null,null,null,null,null,null,null,null,null,null,null,null,null,null,null,null,null,null,null,null,null,null,null,null,null,null,1323,"PARCZEW"]
[null,null,null,null,null,null,null,null,null,null,null,null,null,null,null,null,null,null,null,null,null,null,null,null,null,null,1323,"PODEDWÓRZE"]
[null,null,null,null,null,null,null,null,null,null,null,null,null,null,null,null,null,null,null,null,null,null,null,null,null,null,1323,"SIEMIEŃ"]
[null,null,null,null,null,null,null,null,null,null,null,null,null,null,null,null,null,null,null,null,null,null,null,null,null,null,1323,"SOSNOWICA"]
[null,null,null,null,null,null,null,null,null,null,null,null,null,null,null,null,null,null,null,null,null,null,null,null,null,null,1324,"BARANÓW"]
[null,null,null,null,null,null,null,null,null,null,null,null,null,null,null,null,null,null,null,null,null,null,null,null,null,null,1324,"JANOWIEC"]
[null,null,null,null,null,null,null,null,null,null,null,null,null,null,null,null,null,null,null,null,null,null,null,null,null,null,1324,"KAZIMIERZ DOLNY"]
[null,null,null,null,null,null,null,null,null,null,null,null,null,null,null,null,null,null,null,null,null,null,null,null,null,null,1324,"KOŃSKOWOLA"]
[null,null,null,null,null,null,null,null,null,null,null,null,null,null,null,null,null,null,null,null,null,null,null,null,null,null,1324,"KURÓW"]
[null,null,null,null,null,null,null,null,null,null,null,null,null,null,null,null,null,null,null,null,null,null,null,null,null,null,1324,"MARKUSZÓW"]
[null,null,null,null,null,null,null,null,null,null,null,null,null,null,null,null,null,null,null,null,null,null,null,null,null,null,1324,"NAŁĘCZÓW"]
[null,null,null,null,null,null,null,null,null,null,null,null,null,null,null,null,null,null,null,null,null,null,null,null,null,null,1324,"PUŁAWY-MIEJSKA"]
[null,null,null,null,null,null,null,null,null,null,null,null,null,null,null,null,null,null,null,null,null,null,null,null,null,null,1324,"PUŁAWY-WIEJSKA"]
[null,null,null,null,null,null,null,null,null,null,null,null,null,null,null,null,null,null,null,null,null,null,null,null,null,null,1324,"WĄWOLNICA"]
[null,null,null,null,null,null,null,null,null,null,null,null,null,null,null,null,null,null,null,null,null,null,null,null,null,null,1324,"ŻYRZYN"]
[null,null,null,null,null,null,null,null,null,null,null,null,null,null,null,null,null,null,null,null,null,null,null,null,null,null,1325,"BORKI"]
[null,null,null,null,null,null,null,null,null,null,null,null,null,null,null,null,null,null,null,null,null,null,null,null,null,null,1325,"CZEMIERNIKI"]
[null,null,null,null,null,null,null,null,null,null,null,null,null,null,null,null,null,null,null,null,null,null,null,null,null,null,1325,"KĄKOLEWNICA"]
[null,null,null,null,null,null,null,null,null,null,null,null,null,null,null,null,null,null,null,null,null,null,null,null,null,null,1325,"KOMARÓWKA PODLASKA"]
[null,null,null,null,null,null,null,null,null,null,null,null,null,null,null,null,null,null,null,null,null,null,null,null,null,null,1325,"RADZYŃ PODLASKI-MIEJSKA"]
[null,null,null,null,null,null,null,null,null,null,null,null,null,null,null,null,null,null,null,null,null,null,null,null,null,null,1325,"RADZYŃ PODLASKI-WIEJSKA"]
[null,null,null,null,null,null,null,null,null,null,null,null,null,null,null,null,null,null,null,null,null,null,null,null,null,null,1325,"ULAN-MAJORAT"]
[null,null,null,null,null,null,null,null,null,null,null,null,null,null,null,null,null,null,null,null,null,null,null,null,null,null,1325,"WOHYŃ"]
[null,null,null,null,null,null,null,null,null,null,null,null,null,null,null,null,null,null,null,null,null,null,null,null,null,null,1326,"DĘBLIN"]
[null,null,null,null,null,null,null,null,null,null,null,null,null,null,null,null,null,null,null,null,null,null,null,null,null,null,1326,"KŁOCZEW"]
[null,null,null,null,null,null,null,null,null,null,null,null,null,null,null,null,null,null,null,null,null,null,null,null,null,null,1326,"NOWODWÓR"]
[null,null,null,null,null,null,null,null,null,null,null,null,null,null,null,null,null,null,null,null,null,null,null,null,null,null,1326,"RYKI"]
[null,null,null,null,null,null,null,null,null,null,null,null,null,null,null,null,null,null,null,null,null,null,null,null,null,null,1326,"STĘŻYCA"]
[null,null,null,null,null,null,null,null,null,null,null,null,null,null,null,null,null,null,null,null,null,null,null,null,null,null,1326,"UŁĘŻ"]
[null,null,null,null,null,null,null,null,null,null,null,null,null,null,null,null,null,null,null,null,null,null,null,null,null,null,1327,"MEŁGIEW"]
[null,null,null,null,null,null,null,null,null,null,null,null,null,null,null,null,null,null,null,null,null,null,null,null,null,null,1327,"PIASKI"]
[null,null,null,null,null,null,null,null,null,null,null,null,null,null,null,null,null,null,null,null,null,null,null,null,null,null,1327,"RYBCZEWICE"]
[null,null,null,null,null,null,null,null,null,null,null,null,null,null,null,null,null,null,null,null,null,null,null,null,null,null,1327,"ŚWIDNIK"]
[null,null,null,null,null,null,null,null,null,null,null,null,null,null,null,null,null,null,null,null,null,null,null,null,null,null,1327,"TRAWNIKI"]
[null,null,null,null,null,null,null,null,null,null,null,null,null,null,null,null,null,null,null,null,null,null,null,null,null,null,1328,"BEŁŻEC"]
[null,null,null,null,null,null,null,null,null,null,null,null,null,null,null,null,null,null,null,null,null,null,null,null,null,null,1328,"JARCZÓW"]
[null,null,null,null,null,null,null,null,null,null,null,null,null,null,null,null,null,null,null,null,null,null,null,null,null,null,1328,"KRYNICE"]
[null,null,null,null,null,null,null,null,null,null,null,null,null,null,null,null,null,null,null,null,null,null,null,null,null,null,1328,"LUBYCZA KRÓLEWSKA"]
[null,null,null,null,null,null,null,null,null,null,null,null,null,null,null,null,null,null,null,null,null,null,null,null,null,null,1328,"ŁASZCZÓW"]
[null,null,null,null,null,null,null,null,null,null,null,null,null,null,null,null,null,null,null,null,null,null,null,null,null,null,1328,"RACHANIE"]
[null,null,null,null,null,null,null,null,null,null,null,null,null,null,null,null,null,null,null,null,null,null,null,null,null,null,1328,"SUSIEC"]
[null,null,null,null,null,null,null,null,null,null,null,null,null,null,null,null,null,null,null,null,null,null,null,null,null,null,1328,"TARNAWATKA"]
[null,null,null,null,null,null,null,null,null,null,null,null,null,null,null,null,null,null,null,null,null,null,null,null,null,null,1328,"TELATYN"]
[null,null,null,null,null,null,null,null,null,null,null,null,null,null,null,null,null,null,null,null,null,null,null,null,null,null,1328,"TOMASZÓW LUBELSKI-MIEJSKA"]
[null,null,null,null,null,null,null,null,null,null,null,null,null,null,null,null,null,null,null,null,null,null,null,null,null,null,1328,"TOMASZÓW LUBELSKI-WIEJSKA"]
[null,null,null,null,null,null,null,null,null,null,null,null,null,null,null,null,null,null,null,null,null,null,null,null,null,null,1328,"TYSZOWCE"]
[null,null,null,null,null,null,null,null,null,null,null,null,null,null,null,null,null,null,null,null,null,null,null,null,null,null,1328,"ULHÓWEK"]
[null,null,null,null,null,null,null,null,null,null,null,null,null,null,null,null,null,null,null,null,null,null,null,null,null,null,1329,"HANNA"]
[null,null,null,null,null,null,null,null,null,null,null,null,null,null,null,null,null,null,null,null,null,null,null,null,null,null,1329,"HAŃSK"]
[null,null,null,null,null,null,null,null,null,null,null,null,null,null,null,null,null,null,null,null,null,null,null,null,null,null,1329,"STARY BRUS"]
[null,null,null,null,null,null,null,null,null,null,null,null,null,null,null,null,null,null,null,null,null,null,null,null,null,null,1329,"URSZULIN"]
[null,null,null,null,null,null,null,null,null,null,null,null,null,null,null,null,null,null,null,null,null,null,null,null,null,null,1329,"WŁODAWA-MIEJSKA"]
[null,null,null,null,null,null,null,null,null,null,null,null,null,null,null,null,null,null,null,null,null,null,null,null,null,null,1329,"WŁODAWA-WIEJSKA"]
[null,null,null,null,null,null,null,null,null,null,null,null,null,null,null,null,null,null,null,null,null,null,null,null,null,null,1329,"WOLA UHRUSKA"]
[null,null,null,null,null,null,null,null,null,null,null,null,null,null,null,null,null,null,null,null,null,null,null,null,null,null,1329,"WYRYKI"]
[null,null,null,null,null,null,null,null,null,null,null,null,null,null,null,null,null,null,null,null,null,null,null,null,null,null,1330,"ADAMÓW"]
[null,null,null,null,null,null,null,null,null,null,null,null,null,null,null,null,null,null,null,null,null,null,null,null,null,null,1330,"GRABOWIEC"]
[null,null,null,null,null,null,null,null,null,null,null,null,null,null,null,null,null,null,null,null,null,null,null,null,null,null,1330,"KOMARÓW-OSADA"]
[null,null,null,null,null,null,null,null,null,null,null,null,null,null,null,null,null,null,null,null,null,null,null,null,null,null,1330,"KRASNOBRÓD"]
[null,null,null,null,null,null,null,null,null,null,null,null,null,null,null,null,null,null,null,null,null,null,null,null,null,null,1330,"ŁABUNIE"]
[null,null,null,null,null,null,null,null,null,null,null,null,null,null,null,null,null,null,null,null,null,null,null,null,null,null,1330,"MIĄCZYN"]
[null,null,null,null,null,null,null,null,null,null,null,null,null,null,null,null,null,null,null,null,null,null,null,null,null,null,1330,"NIELISZ"]
[null,null,null,null,null,null,null,null,null,null,null,null,null,null,null,null,null,null,null,null,null,null,null,null,null,null,1330,"RADECZNICA"]
[null,null,null,null,null,null,null,null,null,null,null,null,null,null,null,null,null,null,null,null,null,null,null,null,null,null,1330,"SITNO"]
[null,null,null,null,null,null,null,null,null,null,null,null,null,null,null,null,null,null,null,null,null,null,null,null,null,null,1330,"SKIERBIESZÓW"]
[null,null,null,null,null,null,null,null,null,null,null,null,null,null,null,null,null,null,null,null,null,null,null,null,null,null,1330,"STARY ZAMOŚĆ"]
[null,null,null,null,null,null,null,null,null,null,null,null,null,null,null,null,null,null,null,null,null,null,null,null,null,null,1330,"SUŁÓW"]
[null,null,null,null,null,null,null,null,null,null,null,null,null,null,null,null,null,null,null,null,null,null,null,null,null,null,1330,"SZCZEBRZESZYN"]
[null,null,null,null,null,null,null,null,null,null,null,null,null,null,null,null,null,null,null,null,null,null,null,null,null,null,1330,"ZAMOŚĆ"]
[null,null,null,null,null,null,null,null,null,null,null,null,null,null,null,null,null,null,null,null,null,null,null,null,null,null,1330,"ZWIERZYNIEC"]
[null,null,null,null,null,null,null,null,null,null,null,null,null,null,null,null,null,null,null,null,null,null,null,null,null,null,1331,"M.BIAŁA PODLASKA"]
[null,null,null,null,null,null,null,null,null,null,null,null,null,null,null,null,null,null,null,null,null,null,null,null,null,null,1332,"M.CHEŁM"]
[null,null,null,null,null,null,null,null,null,null,null,null,null,null,null,null,null,null,null,null,null,null,null,null,null,null,1333,"M.LUBLIN"]
[null,null,null,null,null,null,null,null,null,null,null,null,null,null,null,null,null,null,null,null,null,null,null,null,null,null,1334,"M.ZAMOŚĆ"]
[null,null,null,null,null,null,null,null,null,null,null,null,null,null,null,null,null,null,null,null,null,null,null,null,null,null,1411,"BOGDANIEC"]
[null,null,null,null,null,null,null,null,null,null,null,null,null,null,null,null,null,null,null,null,null,null,null,null,null,null,1411,"DESZCZNO"]
[null,null,null,null,null,null,null,null,null,null,null,null,null,null,null,null,null,null,null,null,null,null,null,null,null,null,1411,"KŁODAWA"]
[null,null,null,null,null,null,null,null,null,null,null,null,null,null,null,null,null,null,null,null,null,null,null,null,null,null,1411,"KOSTRZYN NAD ODRĄ"]
[null,null,null,null,null,null,null,null,null,null,null,null,null,null,null,null,null,null,null,null,null,null,null,null,null,null,1411,"LUBISZYN"]
[null,null,null,null,null,null,null,null,null,null,null,null,null,null,null,null,null,null,null,null,null,null,null,null,null,null,1411,"SANTOK"]
[null,null,null,null,null,null,null,null,null,null,null,null,null,null,null,null,null,null,null,null,null,null,null,null,null,null,1411,"WITNICA"]
[null,null,null,null,null,null,null,null,null,null,null,null,null,null,null,null,null,null,null,null,null,null,null,null,null,null,1412,"BOBROWICE"]
[null,null,null,null,null,null,null,null,null,null,null,null,null,null,null,null,null,null,null,null,null,null,null,null,null,null,1412,"BYTNICA"]
[null,null,null,null,null,null,null,null,null,null,null,null,null,null,null,null,null,null,null,null,null,null,null,null,null,null,1412,"DĄBIE"]
[null,null,null,null,null,null,null,null,null,null,null,null,null,null,null,null,null,null,null,null,null,null,null,null,null,null,1412,"GUBIN-MIEJSKA"]
[null,null,null,null,null,null,null,null,null,null,null,null,null,null,null,null,null,null,null,null,null,null,null,null,null,null,1412,"GUBIN-WIEJSKA"]
[null,null,null,null,null,null,null,null,null,null,null,null,null,null,null,null,null,null,null,null,null,null,null,null,null,null,1412,"KROSNO ODRZAŃSKIE"]
[null,null,null,null,null,null,null,null,null,null,null,null,null,null,null,null,null,null,null,null,null,null,null,null,null,null,1412,"MASZEWO"]
[null,null,null,null,null,null,null,null,null,null,null,null,null,null,null,null,null,null,null,null,null,null,null,null,null,null,1413,"BLEDZEW"]
[null,null,null,null,null,null,null,null,null,null,null,null,null,null,null,null,null,null,null,null,null,null,null,null,null,null,1413,"MIĘDZYRZECZ"]
[null,null,null,null,null,null,null,null,null,null,null,null,null,null,null,null,null,null,null,null,null,null,null,null,null,null,1413,"PRZYTOCZNA"]
[null,null,null,null,null,null,null,null,null,null,null,null,null,null,null,null,null,null,null,null,null,null,null,null,null,null,1413,"PSZCZEW"]
[null,null,null,null,null,null,null,null,null,null,null,null,null,null,null,null,null,null,null,null,null,null,null,null,null,null,1413,"SKWIERZYNA"]
[null,null,null,null,null,null,null,null,null,null,null,null,null,null,null,null,null,null,null,null,null,null,null,null,null,null,1413,"TRZCIEL"]
[null,null,null,null,null,null,null,null,null,null,null,null,null,null,null,null,null,null,null,null,null,null,null,null,null,null,1414,"BYTOM ODRZAŃSKI"]
[null,null,null,null,null,null,null,null,null,null,null,null,null,null,null,null,null,null,null,null,null,null,null,null,null,null,1414,"KOLSKO"]
[null,null,null,null,null,null,null,null,null,null,null,null,null,null,null,null,null,null,null,null,null,null,null,null,null,null,1414,"KOŻUCHÓW"]
[null,null,null,null,null,null,null,null,null,null,null,null,null,null,null,null,null,null,null,null,null,null,null,null,null,null,1414,"NOWA SÓL-MIEJSKA"]
[null,null,null,null,null,null,null,null,null,null,null,null,null,null,null,null,null,null,null,null,null,null,null,null,null,null,1414,"NOWA SÓL-WIEJSKA"]
[null,null,null,null,null,null,null,null,null,null,null,null,null,null,null,null,null,null,null,null,null,null,null,null,null,null,1414,"NOWE MIASTECZKO"]
[null,null,null,null,null,null,null,null,null,null,null,null,null,null,null,null,null,null,null,null,null,null,null,null,null,null,1414,"OTYŃ"]
[null,null,null,null,null,null,null,null,null,null,null,null,null,null,null,null,null,null,null,null,null,null,null,null,null,null,1414,"SIEDLISKO"]
[null,null,null,null,null,null,null,null,null,null,null,null,null,null,null,null,null,null,null,null,null,null,null,null,null,null,1415,"CYBINKA"]
[null,null,null,null,null,null,null,null,null,null,null,null,null,null,null,null,null,null,null,null,null,null,null,null,null,null,1415,"GÓRZYCA"]
[null,null,null,null,null,null,null,null,null,null,null,null,null,null,null,null,null,null,null,null,null,null,null,null,null,null,1415,"OŚNO LUBUSKIE"]
[null,null,null,null,null,null,null,null,null,null,null,null,null,null,null,null,null,null,null,null,null,null,null,null,null,null,1415,"RZEPIN"]
[null,null,null,null,null,null,null,null,null,null,null,null,null,null,null,null,null,null,null,null,null,null,null,null,null,null,1415,"SŁUBICE"]
[null,null,null,null,null,null,null,null,null,null,null,null,null,null,null,null,null,null,null,null,null,null,null,null,null,null,1416,"DOBIEGNIEW"]
[null,null,null,null,null,null,null,null,null,null,null,null,null,null,null,null,null,null,null,null,null,null,null,null,null,null,1416,"DREZDENKO"]
[null,null,null,null,null,null,null,null,null,null,null,null,null,null,null,null,null,null,null,null,null,null,null,null,null,null,1416,"STARE KUROWO"]
[null,null,null,null,null,null,null,null,null,null,null,null,null,null,null,null,null,null,null,null,null,null,null,null,null,null,1416,"STRZELCE KRAJEŃSKIE"]
[null,null,null,null,null,null,null,null,null,null,null,null,null,null,null,null,null,null,null,null,null,null,null,null,null,null,1416,"ZWIERZYN"]
[null,null,null,null,null,null,null,null,null,null,null,null,null,null,null,null,null,null,null,null,null,null,null,null,null,null,1417,"KRZESZYCE"]
[null,null,null,null,null,null,null,null,null,null,null,null,null,null,null,null,null,null,null,null,null,null,null,null,null,null,1417,"LUBNIEWICE"]
[null,null,null,null,null,null,null,null,null,null,null,null,null,null,null,null,null,null,null,null,null,null,null,null,null,null,1417,"SŁOŃSK"]
[null,null,null,null,null,null,null,null,null,null,null,null,null,null,null,null,null,null,null,null,null,null,null,null,null,null,1417,"SULĘCIN"]
[null,null,null,null,null,null,null,null,null,null,null,null,null,null,null,null,null,null,null,null,null,null,null,null,null,null,1417,"TORZYM"]
[null,null,null,null,null,null,null,null,null,null,null,null,null,null,null,null,null,null,null,null,null,null,null,null,null,null,1418,"LUBRZA"]
[null,null,null,null,null,null,null,null,null,null,null,null,null,null,null,null,null,null,null,null,null,null,null,null,null,null,1418,"ŁAGÓW"]
[null,null,null,null,null,null,null,null,null,null,null,null,null,null,null,null,null,null,null,null,null,null,null,null,null,null,1418,"SKĄPE"]
[null,null,null,null,null,null,null,null,null,null,null,null,null,null,null,null,null,null,null,null,null,null,null,null,null,null,1418,"SZCZANIEC"]
[null,null,null,null,null,null,null,null,null,null,null,null,null,null,null,null,null,null,null,null,null,null,null,null,null,null,1418,"ŚWIEBODZIN"]
[null,null,null,null,null,null,null,null,null,null,null,null,null,null,null,null,null,null,null,null,null,null,null,null,null,null,1418,"ZBĄSZYNEK"]
[null,null,null,null,null,null,null,null,null,null,null,null,null,null,null,null,null,null,null,null,null,null,null,null,null,null,1419,"BABIMOST"]
[null,null,null,null,null,null,null,null,null,null,null,null,null,null,null,null,null,null,null,null,null,null,null,null,null,null,1419,"BOJADŁA"]
[null,null,null,null,null,null,null,null,null,null,null,null,null,null,null,null,null,null,null,null,null,null,null,null,null,null,1419,"CZERWIEŃSK"]
[null,null,null,null,null,null,null,null,null,null,null,null,null,null,null,null,null,null,null,null,null,null,null,null,null,null,1419,"KARGOWA"]
[null,null,null,null,null,null,null,null,null,null,null,null,null,null,null,null,null,null,null,null,null,null,null,null,null,null,1419,"NOWOGRÓD BOBRZAŃSKI"]
[null,null,null,null,null,null,null,null,null,null,null,null,null,null,null,null,null,null,null,null,null,null,null,null,null,null,1419,"SULECHÓW"]
[null,null,null,null,null,null,null,null,null,null,null,null,null,null,null,null,null,null,null,null,null,null,null,null,null,null,1419,"ŚWIDNICA"]
[null,null,null,null,null,null,null,null,null,null,null,null,null,null,null,null,null,null,null,null,null,null,null,null,null,null,1419,"TRZEBIECHÓW"]
[null,null,null,null,null,null,null,null,null,null,null,null,null,null,null,null,null,null,null,null,null,null,null,null,null,null,1419,"ZABÓR"]
[null,null,null,null,null,null,null,null,null,null,null,null,null,null,null,null,null,null,null,null,null,null,null,null,null,null,1420,"BRZEŹNICA"]
[null,null,null,null,null,null,null,null,null,null,null,null,null,null,null,null,null,null,null,null,null,null,null,null,null,null,1420,"GOZDNICA"]
[null,null,null,null,null,null,null,null,null,null,null,null,null,null,null,null,null,null,null,null,null,null,null,null,null,null,1420,"IŁOWA"]
[null,null,null,null,null,null,null,null,null,null,null,null,null,null,null,null,null,null,null,null,null,null,null,null,null,null,1420,"MAŁOMICE"]
[null,null,null,null,null,null,null,null,null,null,null,null,null,null,null,null,null,null,null,null,null,null,null,null,null,null,1420,"NIEGOSŁAWICE"]
[null,null,null,null,null,null,null,null,null,null,null,null,null,null,null,null,null,null,null,null,null,null,null,null,null,null,1420,"SZPROTAWA"]
[null,null,null,null,null,null,null,null,null,null,null,null,null,null,null,null,null,null,null,null,null,null,null,null,null,null,1420,"WYMIARKI"]
[null,null,null,null,null,null,null,null,null,null,null,null,null,null,null,null,null,null,null,null,null,null,null,null,null,null,1420,"ŻAGAŃ-MIEJSKA"]
[null,null,null,null,null,null,null,null,null,null,null,null,null,null,null,null,null,null,null,null,null,null,null,null,null,null,1420,"ŻAGAŃ-WIEJSKA"]
[null,null,null,null,null,null,null,null,null,null,null,null,null,null,null,null,null,null,null,null,null,null,null,null,null,null,1421,"BRODY"]
[null,null,null,null,null,null,null,null,null,null,null,null,null,null,null,null,null,null,null,null,null,null,null,null,null,null,1421,"JASIEŃ"]
[null,null,null,null,null,null,null,null,null,null,null,null,null,null,null,null,null,null,null,null,null,null,null,null,null,null,1421,"LIPINKI ŁUŻYCKIE"]
[null,null,null,null,null,null,null,null,null,null,null,null,null,null,null,null,null,null,null,null,null,null,null,null,null,null,1421,"LUBSKO"]
[null,null,null,null,null,null,null,null,null,null,null,null,null,null,null,null,null,null,null,null,null,null,null,null,null,null,1421,"ŁĘKNICA"]
[null,null,null,null,null,null,null,null,null,null,null,null,null,null,null,null,null,null,null,null,null,null,null,null,null,null,1421,"PRZEWÓZ"]
[null,null,null,null,null,null,null,null,null,null,null,null,null,null,null,null,null,null,null,null,null,null,null,null,null,null,1421,"TRZEBIEL"]
[null,null,null,null,null,null,null,null,null,null,null,null,null,null,null,null,null,null,null,null,null,null,null,null,null,null,1421,"TUPLICE"]
[null,null,null,null,null,null,null,null,null,null,null,null,null,null,null,null,null,null,null,null,null,null,null,null,null,null,1421,"ŻARY-MIEJSKA"]
[null,null,null,null,null,null,null,null,null,null,null,null,null,null,null,null,null,null,null,null,null,null,null,null,null,null,1421,"ŻARY-WIEJSKA"]
[null,null,null,null,null,null,null,null,null,null,null,null,null,null,null,null,null,null,null,null,null,null,null,null,null,null,1422,"SŁAWA"]
[null,null,null,null,null,null,null,null,null,null,null,null,null,null,null,null,null,null,null,null,null,null,null,null,null,null,1422,"SZLICHTYNGOWA"]
[null,null,null,null,null,null,null,null,null,null,null,null,null,null,null,null,null,null,null,null,null,null,null,null,null,null,1422,"WSCHOWA"]
[null,null,null,null,null,null,null,null,null,null,null,null,null,null,null,null,null,null,null,null,null,null,null,null,null,null,1423,"M.GORZÓW WIELKOPOLSKI"]
[null,null,null,null,null,null,null,null,null,null,null,null,null,null,null,null,null,null,null,null,null,null,null,null,null,null,1424,"M.ZIELONA GÓRA"]
[null,null,null,null,null,null,null,null,null,null,null,null,null,null,null,null,null,null,null,null,null,null,null,null,null,null,1511,"BEŁCHATÓW-MIEJSKA"]
[null,null,null,null,null,null,null,null,null,null,null,null,null,null,null,null,null,null,null,null,null,null,null,null,null,null,1511,"BEŁCHATÓW-WIEJSKA"]
[null,null,null,null,null,null,null,null,null,null,null,null,null,null,null,null,null,null,null,null,null,null,null,null,null,null,1511,"DRUŻBICE"]
[null,null,null,null,null,null,null,null,null,null,null,null,null,null,null,null,null,null,null,null,null,null,null,null,null,null,1511,"KLESZCZÓW"]
[null,null,null,null,null,null,null,null,null,null,null,null,null,null,null,null,null,null,null,null,null,null,null,null,null,null,1511,"KLUKI"]
[null,null,null,null,null,null,null,null,null,null,null,null,null,null,null,null,null,null,null,null,null,null,null,null,null,null,1511,"RUSIEC"]
[null,null,null,null,null,null,null,null,null,null,null,null,null,null,null,null,null,null,null,null,null,null,null,null,null,null,1511,"SZCZERCÓW"]
[null,null,null,null,null,null,null,null,null,null,null,null,null,null,null,null,null,null,null,null,null,null,null,null,null,null,1511,"ZELÓW"]
[null,null,null,null,null,null,null,null,null,null,null,null,null,null,null,null,null,null,null,null,null,null,null,null,null,null,1512,"BEDLNO"]
[null,null,null,null,null,null,null,null,null,null,null,null,null,null,null,null,null,null,null,null,null,null,null,null,null,null,1512,"DĄBROWICE"]
[null,null,null,null,null,null,null,null,null,null,null,null,null,null,null,null,null,null,null,null,null,null,null,null,null,null,1512,"KROŚNIEWICE"]
[null,null,null,null,null,null,null,null,null,null,null,null,null,null,null,null,null,null,null,null,null,null,null,null,null,null,1512,"KRZYŻANÓW"]
[null,null,null,null,null,null,null,null,null,null,null,null,null,null,null,null,null,null,null,null,null,null,null,null,null,null,1512,"KUTNO-MIEJSKA"]
[null,null,null,null,null,null,null,null,null,null,null,null,null,null,null,null,null,null,null,null,null,null,null,null,null,null,1512,"KUTNO-WIEJSKA"]
[null,null,null,null,null,null,null,null,null,null,null,null,null,null,null,null,null,null,null,null,null,null,null,null,null,null,1512,"ŁANIĘTA"]
[null,null,null,null,null,null,null,null,null,null,null,null,null,null,null,null,null,null,null,null,null,null,null,null,null,null,1512,"NOWE OSTROWY"]
[null,null,null,null,null,null,null,null,null,null,null,null,null,null,null,null,null,null,null,null,null,null,null,null,null,null,1512,"OPORÓW"]
[null,null,null,null,null,null,null,null,null,null,null,null,null,null,null,null,null,null,null,null,null,null,null,null,null,null,1512,"STRZELCE"]
[null,null,null,null,null,null,null,null,null,null,null,null,null,null,null,null,null,null,null,null,null,null,null,null,null,null,1512,"ŻYCHLIN"]
[null,null,null,null,null,null,null,null,null,null,null,null,null,null,null,null,null,null,null,null,null,null,null,null,null,null,1513,"BUCZEK"]
[null,null,null,null,null,null,null,null,null,null,null,null,null,null,null,null,null,null,null,null,null,null,null,null,null,null,1513,"ŁASK"]
[null,null,null,null,null,null,null,null,null,null,null,null,null,null,null,null,null,null,null,null,null,null,null,null,null,null,1513,"SĘDZIEJOWICE"]
[null,null,null,null,null,null,null,null,null,null,null,null,null,null,null,null,null,null,null,null,null,null,null,null,null,null,1513,"WIDAWA"]
[null,null,null,null,null,null,null,null,null,null,null,null,null,null,null,null,null,null,null,null,null,null,null,null,null,null,1513,"WODZIERADY"]
[null,null,null,null,null,null,null,null,null,null,null,null,null,null,null,null,null,null,null,null,null,null,null,null,null,null,1514,"DASZYNA"]
[null,null,null,null,null,null,null,null,null,null,null,null,null,null,null,null,null,null,null,null,null,null,null,null,null,null,1514,"GÓRA ŚWIĘTEJ MAŁGORZATY"]
[null,null,null,null,null,null,null,null,null,null,null,null,null,null,null,null,null,null,null,null,null,null,null,null,null,null,1514,"GRABÓW"]
[null,null,null,null,null,null,null,null,null,null,null,null,null,null,null,null,null,null,null,null,null,null,null,null,null,null,1514,"ŁĘCZYCA-MIEJSKA"]
[null,null,null,null,null,null,null,null,null,null,null,null,null,null,null,null,null,null,null,null,null,null,null,null,null,null,1514,"ŁĘCZYCA-WIEJSKA"]
[null,null,null,null,null,null,null,null,null,null,null,null,null,null,null,null,null,null,null,null,null,null,null,null,null,null,1514,"PIĄTEK"]
[null,null,null,null,null,null,null,null,null,null,null,null,null,null,null,null,null,null,null,null,null,null,null,null,null,null,1514,"ŚWINICE WARCKIE"]
[null,null,null,null,null,null,null,null,null,null,null,null,null,null,null,null,null,null,null,null,null,null,null,null,null,null,1514,"WITONIA"]
[null,null,null,null,null,null,null,null,null,null,null,null,null,null,null,null,null,null,null,null,null,null,null,null,null,null,1515,"BIELAWY"]
[null,null,null,null,null,null,null,null,null,null,null,null,null,null,null,null,null,null,null,null,null,null,null,null,null,null,1515,"CHĄŚNO"]
[null,null,null,null,null,null,null,null,null,null,null,null,null,null,null,null,null,null,null,null,null,null,null,null,null,null,1515,"DOMANIEWICE"]
[null,null,null,null,null,null,null,null,null,null,null,null,null,null,null,null,null,null,null,null,null,null,null,null,null,null,1515,"KIERNOZIA"]
[null,null,null,null,null,null,null,null,null,null,null,null,null,null,null,null,null,null,null,null,null,null,null,null,null,null,1515,"KOCIERZEW POŁUDNIOWY"]
[null,null,null,null,null,null,null,null,null,null,null,null,null,null,null,null,null,null,null,null,null,null,null,null,null,null,1515,"ŁOWICZ-MIEJSKA"]
[null,null,null,null,null,null,null,null,null,null,null,null,null,null,null,null,null,null,null,null,null,null,null,null,null,null,1515,"ŁOWICZ-WIEJSKA"]
[null,null,null,null,null,null,null,null,null,null,null,null,null,null,null,null,null,null,null,null,null,null,null,null,null,null,1515,"ŁYSZKOWICE"]
[null,null,null,null,null,null,null,null,null,null,null,null,null,null,null,null,null,null,null,null,null,null,null,null,null,null,1515,"NIEBORÓW"]
[null,null,null,null,null,null,null,null,null,null,null,null,null,null,null,null,null,null,null,null,null,null,null,null,null,null,1515,"ZDUNY"]
[null,null,null,null,null,null,null,null,null,null,null,null,null,null,null,null,null,null,null,null,null,null,null,null,null,null,1516,"ANDRESPOL"]
[null,null,null,null,null,null,null,null,null,null,null,null,null,null,null,null,null,null,null,null,null,null,null,null,null,null,1516,"BRÓJCE"]
[null,null,null,null,null,null,null,null,null,null,null,null,null,null,null,null,null,null,null,null,null,null,null,null,null,null,1516,"KOLUSZKI"]
[null,null,null,null,null,null,null,null,null,null,null,null,null,null,null,null,null,null,null,null,null,null,null,null,null,null,1516,"NOWOSOLNA"]
[null,null,null,null,null,null,null,null,null,null,null,null,null,null,null,null,null,null,null,null,null,null,null,null,null,null,1516,"RZGÓW"]
[null,null,null,null,null,null,null,null,null,null,null,null,null,null,null,null,null,null,null,null,null,null,null,null,null,null,1516,"TUSZYN"]
[null,null,null,null,null,null,null,null,null,null,null,null,null,null,null,null,null,null,null,null,null,null,null,null,null,null,1517,"BIAŁACZÓW"]
[null,null,null,null,null,null,null,null,null,null,null,null,null,null,null,null,null,null,null,null,null,null,null,null,null,null,1517,"DRZEWICA"]
[null,null,null,null,null,null,null,null,null,null,null,null,null,null,null,null,null,null,null,null,null,null,null,null,null,null,1517,"MNISZKÓW"]
[null,null,null,null,null,null,null,null,null,null,null,null,null,null,null,null,null,null,null,null,null,null,null,null,null,null,1517,"OPOCZNO"]
[null,null,null,null,null,null,null,null,null,null,null,null,null,null,null,null,null,null,null,null,null,null,null,null,null,null,1517,"PARADYŻ"]
[null,null,null,null,null,null,null,null,null,null,null,null,null,null,null,null,null,null,null,null,null,null,null,null,null,null,1517,"POŚWIĘTNE"]
[null,null,null,null,null,null,null,null,null,null,null,null,null,null,null,null,null,null,null,null,null,null,null,null,null,null,1517,"SŁAWNO"]
[null,null,null,null,null,null,null,null,null,null,null,null,null,null,null,null,null,null,null,null,null,null,null,null,null,null,1517,"ŻARNÓW"]
[null,null,null,null,null,null,null,null,null,null,null,null,null,null,null,null,null,null,null,null,null,null,null,null,null,null,1518,"DŁUTÓW"]
[null,null,null,null,null,null,null,null,null,null,null,null,null,null,null,null,null,null,null,null,null,null,null,null,null,null,1518,"DOBROŃ"]
[null,null,null,null,null,null,null,null,null,null,null,null,null,null,null,null,null,null,null,null,null,null,null,null,null,null,1518,"KONSTANTYNÓW ŁÓDZKI"]
[null,null,null,null,null,null,null,null,null,null,null,null,null,null,null,null,null,null,null,null,null,null,null,null,null,null,1518,"KSAWERÓW"]
[null,null,null,null,null,null,null,null,null,null,null,null,null,null,null,null,null,null,null,null,null,null,null,null,null,null,1518,"LUTOMIERSK"]
[null,null,null,null,null,null,null,null,null,null,null,null,null,null,null,null,null,null,null,null,null,null,null,null,null,null,1518,"PABIANICE-MIEJSKA"]
[null,null,null,null,null,null,null,null,null,null,null,null,null,null,null,null,null,null,null,null,null,null,null,null,null,null,1518,"PABIANICE-WIEJSKA"]
[null,null,null,null,null,null,null,null,null,null,null,null,null,null,null,null,null,null,null,null,null,null,null,null,null,null,1519,"DZIAŁOSZYN"]
[null,null,null,null,null,null,null,null,null,null,null,null,null,null,null,null,null,null,null,null,null,null,null,null,null,null,1519,"KIEŁCZYGŁÓW"]
[null,null,null,null,null,null,null,null,null,null,null,null,null,null,null,null,null,null,null,null,null,null,null,null,null,null,1519,"NOWA BRZEŹNICA"]
[null,null,null,null,null,null,null,null,null,null,null,null,null,null,null,null,null,null,null,null,null,null,null,null,null,null,1519,"PAJĘCZNO"]
[null,null,null,null,null,null,null,null,null,null,null,null,null,null,null,null,null,null,null,null,null,null,null,null,null,null,1519,"RZĄŚNIA"]
[null,null,null,null,null,null,null,null,null,null,null,null,null,null,null,null,null,null,null,null,null,null,null,null,null,null,1519,"SIEMKOWICE"]
[null,null,null,null,null,null,null,null,null,null,null,null,null,null,null,null,null,null,null,null,null,null,null,null,null,null,1519,"STRZELCE WIELKIE"]
[null,null,null,null,null,null,null,null,null,null,null,null,null,null,null,null,null,null,null,null,null,null,null,null,null,null,1519,"SULMIERZYCE"]
[null,null,null,null,null,null,null,null,null,null,null,null,null,null,null,null,null,null,null,null,null,null,null,null,null,null,1520,"ALEKSANDRÓW"]
[null,null,null,null,null,null,null,null,null,null,null,null,null,null,null,null,null,null,null,null,null,null,null,null,null,null,1520,"CZARNOCIN"]
[null,null,null,null,null,null,null,null,null,null,null,null,null,null,null,null,null,null,null,null,null,null,null,null,null,null,1520,"GORZKOWICE"]
[null,null,null,null,null,null,null,null,null,null,null,null,null,null,null,null,null,null,null,null,null,null,null,null,null,null,1520,"GRABICA"]
[null,null,null,null,null,null,null,null,null,null,null,null,null,null,null,null,null,null,null,null,null,null,null,null,null,null,1520,"ŁĘKI SZLACHECKIE"]
[null,null,null,null,null,null,null,null,null,null,null,null,null,null,null,null,null,null,null,null,null,null,null,null,null,null,1520,"MOSZCZENICA"]
[null,null,null,null,null,null,null,null,null,null,null,null,null,null,null,null,null,null,null,null,null,null,null,null,null,null,1520,"RĘCZNO"]
[null,null,null,null,null,null,null,null,null,null,null,null,null,null,null,null,null,null,null,null,null,null,null,null,null,null,1520,"ROZPRZA"]
[null,null,null,null,null,null,null,null,null,null,null,null,null,null,null,null,null,null,null,null,null,null,null,null,null,null,1520,"SULEJÓW"]
[null,null,null,null,null,null,null,null,null,null,null,null,null,null,null,null,null,null,null,null,null,null,null,null,null,null,1520,"WOLA KRZYSZTOPORSKA"]
[null,null,null,null,null,null,null,null,null,null,null,null,null,null,null,null,null,null,null,null,null,null,null,null,null,null,1520,"WOLBÓRZ"]
[null,null,null,null,null,null,null,null,null,null,null,null,null,null,null,null,null,null,null,null,null,null,null,null,null,null,1521,"DALIKÓW"]
[null,null,null,null,null,null,null,null,null,null,null,null,null,null,null,null,null,null,null,null,null,null,null,null,null,null,1521,"PĘCZNIEW"]
[null,null,null,null,null,null,null,null,null,null,null,null,null,null,null,null,null,null,null,null,null,null,null,null,null,null,1521,"PODDĘBICE"]
[null,null,null,null,null,null,null,null,null,null,null,null,null,null,null,null,null,null,null,null,null,null,null,null,null,null,1521,"UNIEJÓW"]
[null,null,null,null,null,null,null,null,null,null,null,null,null,null,null,null,null,null,null,null,null,null,null,null,null,null,1521,"WARTKOWICE"]
[null,null,null,null,null,null,null,null,null,null,null,null,null,null,null,null,null,null,null,null,null,null,null,null,null,null,1521,"ZADZIM"]
[null,null,null,null,null,null,null,null,null,null,null,null,null,null,null,null,null,null,null,null,null,null,null,null,null,null,1522,"DOBRYSZYCE"]
[null,null,null,null,null,null,null,null,null,null,null,null,null,null,null,null,null,null,null,null,null,null,null,null,null,null,1522,"GIDLE"]
[null,null,null,null,null,null,null,null,null,null,null,null,null,null,null,null,null,null,null,null,null,null,null,null,null,null,1522,"GOMUNICE"]
[null,null,null,null,null,null,null,null,null,null,null,null,null,null,null,null,null,null,null,null,null,null,null,null,null,null,1522,"KAMIEŃSK"]
[null,null,null,null,null,null,null,null,null,null,null,null,null,null,null,null,null,null,null,null,null,null,null,null,null,null,1522,"KOBIELE WIELKIE"]
[null,null,null,null,null,null,null,null,null,null,null,null,null,null,null,null,null,null,null,null,null,null,null,null,null,null,1522,"KODRĄB"]
[null,null,null,null,null,null,null,null,null,null,null,null,null,null,null,null,null,null,null,null,null,null,null,null,null,null,1522,"LGOTA WIELKA"]
[null,null,null,null,null,null,null,null,null,null,null,null,null,null,null,null,null,null,null,null,null,null,null,null,null,null,1522,"ŁADZICE"]
[null,null,null,null,null,null,null,null,null,null,null,null,null,null,null,null,null,null,null,null,null,null,null,null,null,null,1522,"MASŁOWICE"]
[null,null,null,null,null,null,null,null,null,null,null,null,null,null,null,null,null,null,null,null,null,null,null,null,null,null,1522,"PRZEDBÓRZ"]
[null,null,null,null,null,null,null,null,null,null,null,null,null,null,null,null,null,null,null,null,null,null,null,null,null,null,1522,"RADOMSKO-MIEJSKA"]
[null,null,null,null,null,null,null,null,null,null,null,null,null,null,null,null,null,null,null,null,null,null,null,null,null,null,1522,"RADOMSKO-WIEJSKA"]
[null,null,null,null,null,null,null,null,null,null,null,null,null,null,null,null,null,null,null,null,null,null,null,null,null,null,1522,"WIELGOMŁYNY"]
[null,null,null,null,null,null,null,null,null,null,null,null,null,null,null,null,null,null,null,null,null,null,null,null,null,null,1522,"ŻYTNO"]
[null,null,null,null,null,null,null,null,null,null,null,null,null,null,null,null,null,null,null,null,null,null,null,null,null,null,1523,"BIAŁA RAWSKA"]
[null,null,null,null,null,null,null,null,null,null,null,null,null,null,null,null,null,null,null,null,null,null,null,null,null,null,1523,"CIELĄDZ"]
[null,null,null,null,null,null,null,null,null,null,null,null,null,null,null,null,null,null,null,null,null,null,null,null,null,null,1523,"RAWA MAZOWIECKA-MIEJSKA"]
[null,null,null,null,null,null,null,null,null,null,null,null,null,null,null,null,null,null,null,null,null,null,null,null,null,null,1523,"RAWA MAZOWIECKA-WIEJSKA"]
[null,null,null,null,null,null,null,null,null,null,null,null,null,null,null,null,null,null,null,null,null,null,null,null,null,null,1523,"REGNÓW"]
[null,null,null,null,null,null,null,null,null,null,null,null,null,null,null,null,null,null,null,null,null,null,null,null,null,null,1523,"SADKOWICE"]
[null,null,null,null,null,null,null,null,null,null,null,null,null,null,null,null,null,null,null,null,null,null,null,null,null,null,1524,"BŁASZKI"]
[null,null,null,null,null,null,null,null,null,null,null,null,null,null,null,null,null,null,null,null,null,null,null,null,null,null,1524,"BRĄSZEWICE"]
[null,null,null,null,null,null,null,null,null,null,null,null,null,null,null,null,null,null,null,null,null,null,null,null,null,null,1524,"BRZEŹNIO"]
[null,null,null,null,null,null,null,null,null,null,null,null,null,null,null,null,null,null,null,null,null,null,null,null,null,null,1524,"BURZENIN"]
[null,null,null,null,null,null,null,null,null,null,null,null,null,null,null,null,null,null,null,null,null,null,null,null,null,null,1524,"GOSZCZANÓW"]
[null,null,null,null,null,null,null,null,null,null,null,null,null,null,null,null,null,null,null,null,null,null,null,null,null,null,1524,"KLONOWA"]
[null,null,null,null,null,null,null,null,null,null,null,null,null,null,null,null,null,null,null,null,null,null,null,null,null,null,1524,"SIERADZ-MIEJSKA"]
[null,null,null,null,null,null,null,null,null,null,null,null,null,null,null,null,null,null,null,null,null,null,null,null,null,null,1524,"SIERADZ-WIEJSKA"]
[null,null,null,null,null,null,null,null,null,null,null,null,null,null,null,null,null,null,null,null,null,null,null,null,null,null,1524,"WARTA"]
[null,null,null,null,null,null,null,null,null,null,null,null,null,null,null,null,null,null,null,null,null,null,null,null,null,null,1524,"WRÓBLEW"]
[null,null,null,null,null,null,null,null,null,null,null,null,null,null,null,null,null,null,null,null,null,null,null,null,null,null,1524,"ZŁOCZEW"]
[null,null,null,null,null,null,null,null,null,null,null,null,null,null,null,null,null,null,null,null,null,null,null,null,null,null,1525,"BOLIMÓW"]
[null,null,null,null,null,null,null,null,null,null,null,null,null,null,null,null,null,null,null,null,null,null,null,null,null,null,1525,"GŁUCHÓW"]
[null,null,null,null,null,null,null,null,null,null,null,null,null,null,null,null,null,null,null,null,null,null,null,null,null,null,1525,"GODZIANÓW"]
[null,null,null,null,null,null,null,null,null,null,null,null,null,null,null,null,null,null,null,null,null,null,null,null,null,null,1525,"KOWIESY"]
[null,null,null,null,null,null,null,null,null,null,null,null,null,null,null,null,null,null,null,null,null,null,null,null,null,null,1525,"LIPCE REYMONTOWSKIE"]
[null,null,null,null,null,null,null,null,null,null,null,null,null,null,null,null,null,null,null,null,null,null,null,null,null,null,1525,"MAKÓW"]
[null,null,null,null,null,null,null,null,null,null,null,null,null,null,null,null,null,null,null,null,null,null,null,null,null,null,1525,"NOWY KAWĘCZYN"]
[null,null,null,null,null,null,null,null,null,null,null,null,null,null,null,null,null,null,null,null,null,null,null,null,null,null,1525,"SKIERNIEWICE"]
[null,null,null,null,null,null,null,null,null,null,null,null,null,null,null,null,null,null,null,null,null,null,null,null,null,null,1525,"SŁUPIA"]
[null,null,null,null,null,null,null,null,null,null,null,null,null,null,null,null,null,null,null,null,null,null,null,null,null,null,1526,"BĘDKÓW"]
[null,null,null,null,null,null,null,null,null,null,null,null,null,null,null,null,null,null,null,null,null,null,null,null,null,null,1526,"BUDZISZEWICE"]
[null,null,null,null,null,null,null,null,null,null,null,null,null,null,null,null,null,null,null,null,null,null,null,null,null,null,1526,"CZERNIEWICE"]
[null,null,null,null,null,null,null,null,null,null,null,null,null,null,null,null,null,null,null,null,null,null,null,null,null,null,1526,"INOWŁÓDZ"]
[null,null,null,null,null,null,null,null,null,null,null,null,null,null,null,null,null,null,null,null,null,null,null,null,null,null,1526,"LUBOCHNIA"]
[null,null,null,null,null,null,null,null,null,null,null,null,null,null,null,null,null,null,null,null,null,null,null,null,null,null,1526,"ROKICINY"]
[null,null,null,null,null,null,null,null,null,null,null,null,null,null,null,null,null,null,null,null,null,null,null,null,null,null,1526,"RZECZYCA"]
[null,null,null,null,null,null,null,null,null,null,null,null,null,null,null,null,null,null,null,null,null,null,null,null,null,null,1526,"TOMASZÓW MAZOWIECKI-MIEJSKA"]
[null,null,null,null,null,null,null,null,null,null,null,null,null,null,null,null,null,null,null,null,null,null,null,null,null,null,1526,"TOMASZÓW MAZOWIECKI-WIEJSKA"]
[null,null,null,null,null,null,null,null,null,null,null,null,null,null,null,null,null,null,null,null,null,null,null,null,null,null,1526,"UJAZD"]
[null,null,null,null,null,null,null,null,null,null,null,null,null,null,null,null,null,null,null,null,null,null,null,null,null,null,1526,"ŻELECHLINEK"]
[null,null,null,null,null,null,null,null,null,null,null,null,null,null,null,null,null,null,null,null,null,null,null,null,null,null,1527,"BIAŁA"]
[null,null,null,null,null,null,null,null,null,null,null,null,null,null,null,null,null,null,null,null,null,null,null,null,null,null,1527,"CZARNOŻYŁY"]
[null,null,null,null,null,null,null,null,null,null,null,null,null,null,null,null,null,null,null,null,null,null,null,null,null,null,1527,"KONOPNICA"]
[null,null,null,null,null,null,null,null,null,null,null,null,null,null,null,null,null,null,null,null,null,null,null,null,null,null,1527,"MOKRSKO"]
[null,null,null,null,null,null,null,null,null,null,null,null,null,null,null,null,null,null,null,null,null,null,null,null,null,null,1527,"OSJAKÓW"]
[null,null,null,null,null,null,null,null,null,null,null,null,null,null,null,null,null,null,null,null,null,null,null,null,null,null,1527,"OSTRÓWEK"]
[null,null,null,null,null,null,null,null,null,null,null,null,null,null,null,null,null,null,null,null,null,null,null,null,null,null,1527,"PĄTNÓW"]
[null,null,null,null,null,null,null,null,null,null,null,null,null,null,null,null,null,null,null,null,null,null,null,null,null,null,1527,"SKOMLIN"]
[null,null,null,null,null,null,null,null,null,null,null,null,null,null,null,null,null,null,null,null,null,null,null,null,null,null,1527,"WIELUŃ"]
[null,null,null,null,null,null,null,null,null,null,null,null,null,null,null,null,null,null,null,null,null,null,null,null,null,null,1527,"WIERZCHLAS"]
[null,null,null,null,null,null,null,null,null,null,null,null,null,null,null,null,null,null,null,null,null,null,null,null,null,null,1528,"BOLESŁAWIEC"]
[null,null,null,null,null,null,null,null,null,null,null,null,null,null,null,null,null,null,null,null,null,null,null,null,null,null,1528,"CZASTARY"]
[null,null,null,null,null,null,null,null,null,null,null,null,null,null,null,null,null,null,null,null,null,null,null,null,null,null,1528,"GALEWICE"]
[null,null,null,null,null,null,null,null,null,null,null,null,null,null,null,null,null,null,null,null,null,null,null,null,null,null,1528,"LUTUTÓW"]
[null,null,null,null,null,null,null,null,null,null,null,null,null,null,null,null,null,null,null,null,null,null,null,null,null,null,1528,"ŁUBNICE"]
[null,null,null,null,null,null,null,null,null,null,null,null,null,null,null,null,null,null,null,null,null,null,null,null,null,null,1528,"SOKOLNIKI"]
[null,null,null,null,null,null,null,null,null,null,null,null,null,null,null,null,null,null,null,null,null,null,null,null,null,null,1528,"WIERUSZÓW"]
[null,null,null,null,null,null,null,null,null,null,null,null,null,null,null,null,null,null,null,null,null,null,null,null,null,null,1529,"SZADEK"]
[null,null,null,null,null,null,null,null,null,null,null,null,null,null,null,null,null,null,null,null,null,null,null,null,null,null,1529,"ZAPOLICE"]
[null,null,null,null,null,null,null,null,null,null,null,null,null,null,null,null,null,null,null,null,null,null,null,null,null,null,1529,"ZDUŃSKA WOLA-MIEJSKA"]
[null,null,null,null,null,null,null,null,null,null,null,null,null,null,null,null,null,null,null,null,null,null,null,null,null,null,1529,"ZDUŃSKA WOLA-WIEJSKA"]
[null,null,null,null,null,null,null,null,null,null,null,null,null,null,null,null,null,null,null,null,null,null,null,null,null,null,1530,"ALEKSANDRÓW ŁÓDZKI"]
[null,null,null,null,null,null,null,null,null,null,null,null,null,null,null,null,null,null,null,null,null,null,null,null,null,null,1530,"GŁOWNO-MIEJSKA"]
[null,null,null,null,null,null,null,null,null,null,null,null,null,null,null,null,null,null,null,null,null,null,null,null,null,null,1530,"GŁOWNO-WIEJSKA"]
[null,null,null,null,null,null,null,null,null,null,null,null,null,null,null,null,null,null,null,null,null,null,null,null,null,null,1530,"OZORKÓW-MIEJSKA"]
[null,null,null,null,null,null,null,null,null,null,null,null,null,null,null,null,null,null,null,null,null,null,null,null,null,null,1530,"OZORKÓW-WIEJSKA"]
[null,null,null,null,null,null,null,null,null,null,null,null,null,null,null,null,null,null,null,null,null,null,null,null,null,null,1530,"PARZĘCZEW"]
[null,null,null,null,null,null,null,null,null,null,null,null,null,null,null,null,null,null,null,null,null,null,null,null,null,null,1530,"STRYKÓW"]
[null,null,null,null,null,null,null,null,null,null,null,null,null,null,null,null,null,null,null,null,null,null,null,null,null,null,1530,"ZGIERZ-MIEJSKA"]
[null,null,null,null,null,null,null,null,null,null,null,null,null,null,null,null,null,null,null,null,null,null,null,null,null,null,1530,"ZGIERZ-WIEJSKA"]
[null,null,null,null,null,null,null,null,null,null,null,null,null,null,null,null,null,null,null,null,null,null,null,null,null,null,1531,"BRZEZINY-MIEJSKA"]
[null,null,null,null,null,null,null,null,null,null,null,null,null,null,null,null,null,null,null,null,null,null,null,null,null,null,1531,"BRZEZINY-WIEJSKA"]
[null,null,null,null,null,null,null,null,null,null,null,null,null,null,null,null,null,null,null,null,null,null,null,null,null,null,1531,"DMOSIN"]
[null,null,null,null,null,null,null,null,null,null,null,null,null,null,null,null,null,null,null,null,null,null,null,null,null,null,1531,"JEŻÓW"]
[null,null,null,null,null,null,null,null,null,null,null,null,null,null,null,null,null,null,null,null,null,null,null,null,null,null,1531,"ROGÓW"]
[null,null,null,null,null,null,null,null,null,null,null,null,null,null,null,null,null,null,null,null,null,null,null,null,null,null,1532,"M.ŁÓDŹ"]
[null,null,null,null,null,null,null,null,null,null,null,null,null,null,null,null,null,null,null,null,null,null,null,null,null,null,1533,"M.PIOTRKÓW TRYBUNALSKI"]
[null,null,null,null,null,null,null,null,null,null,null,null,null,null,null,null,null,null,null,null,null,null,null,null,null,null,1534,"M.SKIERNIEWICE"]
[null,null,null,null,null,null,null,null,null,null,null,null,null,null,null,null,null,null,null,null,null,null,null,null,null,null,1611,"BOCHNIA-MIEJSKA"]
[null,null,null,null,null,null,null,null,null,null,null,null,null,null,null,null,null,null,null,null,null,null,null,null,null,null,1611,"BOCHNIA-WIEJSKA"]
[null,null,null,null,null,null,null,null,null,null,null,null,null,null,null,null,null,null,null,null,null,null,null,null,null,null,1611,"DRWINIA"]
[null,null,null,null,null,null,null,null,null,null,null,null,null,null,null,null,null,null,null,null,null,null,null,null,null,null,1611,"LIPNICA MUROWANA"]
[null,null,null,null,null,null,null,null,null,null,null,null,null,null,null,null,null,null,null,null,null,null,null,null,null,null,1611,"ŁAPANÓW"]
[null,null,null,null,null,null,null,null,null,null,null,null,null,null,null,null,null,null,null,null,null,null,null,null,null,null,1611,"NOWY WIŚNICZ"]
[null,null,null,null,null,null,null,null,null,null,null,null,null,null,null,null,null,null,null,null,null,null,null,null,null,null,1611,"RZEZAWA"]
[null,null,null,null,null,null,null,null,null,null,null,null,null,null,null,null,null,null,null,null,null,null,null,null,null,null,1611,"TRZCIANA"]
[null,null,null,null,null,null,null,null,null,null,null,null,null,null,null,null,null,null,null,null,null,null,null,null,null,null,1611,"ŻEGOCINA"]
[null,null,null,null,null,null,null,null,null,null,null,null,null,null,null,null,null,null,null,null,null,null,null,null,null,null,1612,"BORZĘCIN"]
[null,null,null,null,null,null,null,null,null,null,null,null,null,null,null,null,null,null,null,null,null,null,null,null,null,null,1612,"BRZESKO"]
[null,null,null,null,null,null,null,null,null,null,null,null,null,null,null,null,null,null,null,null,null,null,null,null,null,null,1612,"CZCHÓW"]
[null,null,null,null,null,null,null,null,null,null,null,null,null,null,null,null,null,null,null,null,null,null,null,null,null,null,1612,"DĘBNO"]
[null,null,null,null,null,null,null,null,null,null,null,null,null,null,null,null,null,null,null,null,null,null,null,null,null,null,1612,"GNOJNIK"]
[null,null,null,null,null,null,null,null,null,null,null,null,null,null,null,null,null,null,null,null,null,null,null,null,null,null,1612,"IWKOWA"]
[null,null,null,null,null,null,null,null,null,null,null,null,null,null,null,null,null,null,null,null,null,null,null,null,null,null,1612,"SZCZUROWA"]
[null,null,null,null,null,null,null,null,null,null,null,null,null,null,null,null,null,null,null,null,null,null,null,null,null,null,1613,"ALWERNIA"]
[null,null,null,null,null,null,null,null,null,null,null,null,null,null,null,null,null,null,null,null,null,null,null,null,null,null,1613,"BABICE"]
[null,null,null,null,null,null,null,null,null,null,null,null,null,null,null,null,null,null,null,null,null,null,null,null,null,null,1613,"CHRZANÓW"]
[null,null,null,null,null,null,null,null,null,null,null,null,null,null,null,null,null,null,null,null,null,null,null,null,null,null,1613,"LIBIĄŻ"]
[null,null,null,null,null,null,null,null,null,null,null,null,null,null,null,null,null,null,null,null,null,null,null,null,null,null,1613,"TRZEBINIA"]
[null,null,null,null,null,null,null,null,null,null,null,null,null,null,null,null,null,null,null,null,null,null,null,null,null,null,1614,"BOLESŁAW"]
[null,null,null,null,null,null,null,null,null,null,null,null,null,null,null,null,null,null,null,null,null,null,null,null,null,null,1614,"DĄBROWA TARNOWSKA"]
[null,null,null,null,null,null,null,null,null,null,null,null,null,null,null,null,null,null,null,null,null,null,null,null,null,null,1614,"GRĘBOSZÓW"]
[null,null,null,null,null,null,null,null,null,null,null,null,null,null,null,null,null,null,null,null,null,null,null,null,null,null,1614,"MĘDRZECHÓW"]
[null,null,null,null,null,null,null,null,null,null,null,null,null,null,null,null,null,null,null,null,null,null,null,null,null,null,1614,"OLESNO"]
[null,null,null,null,null,null,null,null,null,null,null,null,null,null,null,null,null,null,null,null,null,null,null,null,null,null,1614,"RADGOSZCZ"]
[null,null,null,null,null,null,null,null,null,null,null,null,null,null,null,null,null,null,null,null,null,null,null,null,null,null,1614,"SZCZUCIN"]
[null,null,null,null,null,null,null,null,null,null,null,null,null,null,null,null,null,null,null,null,null,null,null,null,null,null,1615,"BIECZ"]
[null,null,null,null,null,null,null,null,null,null,null,null,null,null,null,null,null,null,null,null,null,null,null,null,null,null,1615,"BOBOWA"]
[null,null,null,null,null,null,null,null,null,null,null,null,null,null,null,null,null,null,null,null,null,null,null,null,null,null,1615,"GORLICE-MIEJSKA"]
[null,null,null,null,null,null,null,null,null,null,null,null,null,null,null,null,null,null,null,null,null,null,null,null,null,null,1615,"GORLICE-WIEJSKA"]
[null,null,null,null,null,null,null,null,null,null,null,null,null,null,null,null,null,null,null,null,null,null,null,null,null,null,1615,"LIPINKI"]
[null,null,null,null,null,null,null,null,null,null,null,null,null,null,null,null,null,null,null,null,null,null,null,null,null,null,1615,"ŁUŻNA"]
[null,null,null,null,null,null,null,null,null,null,null,null,null,null,null,null,null,null,null,null,null,null,null,null,null,null,1615,"MOSZCZENICA"]
[null,null,null,null,null,null,null,null,null,null,null,null,null,null,null,null,null,null,null,null,null,null,null,null,null,null,1615,"ROPA"]
[null,null,null,null,null,null,null,null,null,null,null,null,null,null,null,null,null,null,null,null,null,null,null,null,null,null,1615,"SĘKOWA"]
[null,null,null,null,null,null,null,null,null,null,null,null,null,null,null,null,null,null,null,null,null,null,null,null,null,null,1615,"UŚCIE GORLICKIE"]
[null,null,null,null,null,null,null,null,null,null,null,null,null,null,null,null,null,null,null,null,null,null,null,null,null,null,1616,"CZERNICHÓW"]
[null,null,null,null,null,null,null,null,null,null,null,null,null,null,null,null,null,null,null,null,null,null,null,null,null,null,1616,"IGOŁOMIA-WAWRZEŃCZYCE"]
[null,null,null,null,null,null,null,null,null,null,null,null,null,null,null,null,null,null,null,null,null,null,null,null,null,null,1616,"IWANOWICE"]
[null,null,null,null,null,null,null,null,null,null,null,null,null,null,null,null,null,null,null,null,null,null,null,null,null,null,1616,"JERZMANOWICE-PRZEGINIA"]
[null,null,null,null,null,null,null,null,null,null,null,null,null,null,null,null,null,null,null,null,null,null,null,null,null,null,1616,"KOCMYRZÓW-LUBORZYCA"]
[null,null,null,null,null,null,null,null,null,null,null,null,null,null,null,null,null,null,null,null,null,null,null,null,null,null,1616,"KRZESZOWICE"]
[null,null,null,null,null,null,null,null,null,null,null,null,null,null,null,null,null,null,null,null,null,null,null,null,null,null,1616,"LISZKI"]
[null,null,null,null,null,null,null,null,null,null,null,null,null,null,null,null,null,null,null,null,null,null,null,null,null,null,1616,"MICHAŁOWICE"]
[null,null,null,null,null,null,null,null,null,null,null,null,null,null,null,null,null,null,null,null,null,null,null,null,null,null,1616,"MOGILANY"]
[null,null,null,null,null,null,null,null,null,null,null,null,null,null,null,null,null,null,null,null,null,null,null,null,null,null,1616,"SKAŁA"]
[null,null,null,null,null,null,null,null,null,null,null,null,null,null,null,null,null,null,null,null,null,null,null,null,null,null,1616,"SKAWINA"]
[null,null,null,null,null,null,null,null,null,null,null,null,null,null,null,null,null,null,null,null,null,null,null,null,null,null,1616,"SŁOMNIKI"]
[null,null,null,null,null,null,null,null,null,null,null,null,null,null,null,null,null,null,null,null,null,null,null,null,null,null,1616,"SUŁOSZOWA"]
[null,null,null,null,null,null,null,null,null,null,null,null,null,null,null,null,null,null,null,null,null,null,null,null,null,null,1616,"ŚWIĄTNIKI GÓRNE"]
[null,null,null,null,null,null,null,null,null,null,null,null,null,null,null,null,null,null,null,null,null,null,null,null,null,null,1616,"WIELKA WIEŚ"]
[null,null,null,null,null,null,null,null,null,null,null,null,null,null,null,null,null,null,null,null,null,null,null,null,null,null,1616,"ZABIERZÓW"]
[null,null,null,null,null,null,null,null,null,null,null,null,null,null,null,null,null,null,null,null,null,null,null,null,null,null,1616,"ZIELONKI"]
[null,null,null,null,null,null,null,null,null,null,null,null,null,null,null,null,null,null,null,null,null,null,null,null,null,null,1617,"DOBRA"]
[null,null,null,null,null,null,null,null,null,null,null,null,null,null,null,null,null,null,null,null,null,null,null,null,null,null,1617,"JODŁOWNIK"]
[null,null,null,null,null,null,null,null,null,null,null,null,null,null,null,null,null,null,null,null,null,null,null,null,null,null,1617,"KAMIENICA"]
[null,null,null,null,null,null,null,null,null,null,null,null,null,null,null,null,null,null,null,null,null,null,null,null,null,null,1617,"LASKOWA"]
[null,null,null,null,null,null,null,null,null,null,null,null,null,null,null,null,null,null,null,null,null,null,null,null,null,null,1617,"LIMANOWA-MIEJSKA"]
[null,null,null,null,null,null,null,null,null,null,null,null,null,null,null,null,null,null,null,null,null,null,null,null,null,null,1617,"LIMANOWA-WIEJSKA"]
[null,null,null,null,null,null,null,null,null,null,null,null,null,null,null,null,null,null,null,null,null,null,null,null,null,null,1617,"ŁUKOWICA"]
[null,null,null,null,null,null,null,null,null,null,null,null,null,null,null,null,null,null,null,null,null,null,null,null,null,null,1617,"MSZANA DOLNA-MIEJSKA"]
[null,null,null,null,null,null,null,null,null,null,null,null,null,null,null,null,null,null,null,null,null,null,null,null,null,null,1617,"MSZANA DOLNA-WIEJSKA"]
[null,null,null,null,null,null,null,null,null,null,null,null,null,null,null,null,null,null,null,null,null,null,null,null,null,null,1617,"NIEDŹWIEDŹ"]
[null,null,null,null,null,null,null,null,null,null,null,null,null,null,null,null,null,null,null,null,null,null,null,null,null,null,1617,"SŁOPNICE"]
[null,null,null,null,null,null,null,null,null,null,null,null,null,null,null,null,null,null,null,null,null,null,null,null,null,null,1617,"TYMBARK"]
[null,null,null,null,null,null,null,null,null,null,null,null,null,null,null,null,null,null,null,null,null,null,null,null,null,null,1618,"CHARSZNICA"]
[null,null,null,null,null,null,null,null,null,null,null,null,null,null,null,null,null,null,null,null,null,null,null,null,null,null,1618,"GOŁCZA"]
[null,null,null,null,null,null,null,null,null,null,null,null,null,null,null,null,null,null,null,null,null,null,null,null,null,null,1618,"KOZŁÓW"]
[null,null,null,null,null,null,null,null,null,null,null,null,null,null,null,null,null,null,null,null,null,null,null,null,null,null,1618,"KSIĄŻ WIELKI"]
[null,null,null,null,null,null,null,null,null,null,null,null,null,null,null,null,null,null,null,null,null,null,null,null,null,null,1618,"MIECHÓW"]
[null,null,null,null,null,null,null,null,null,null,null,null,null,null,null,null,null,null,null,null,null,null,null,null,null,null,1618,"RACŁAWICE"]
[null,null,null,null,null,null,null,null,null,null,null,null,null,null,null,null,null,null,null,null,null,null,null,null,null,null,1618,"SŁABOSZÓW"]
[null,null,null,null,null,null,null,null,null,null,null,null,null,null,null,null,null,null,null,null,null,null,null,null,null,null,1619,"DOBCZYCE"]
[null,null,null,null,null,null,null,null,null,null,null,null,null,null,null,null,null,null,null,null,null,null,null,null,null,null,1619,"LUBIEŃ"]
[null,null,null,null,null,null,null,null,null,null,null,null,null,null,null,null,null,null,null,null,null,null,null,null,null,null,1619,"MYŚLENICE"]
[null,null,null,null,null,null,null,null,null,null,null,null,null,null,null,null,null,null,null,null,null,null,null,null,null,null,1619,"PCIM"]
[null,null,null,null,null,null,null,null,null,null,null,null,null,null,null,null,null,null,null,null,null,null,null,null,null,null,1619,"RACIECHOWICE"]
[null,null,null,null,null,null,null,null,null,null,null,null,null,null,null,null,null,null,null,null,null,null,null,null,null,null,1619,"SIEPRAW"]
[null,null,null,null,null,null,null,null,null,null,null,null,null,null,null,null,null,null,null,null,null,null,null,null,null,null,1619,"SUŁKOWICE"]
[null,null,null,null,null,null,null,null,null,null,null,null,null,null,null,null,null,null,null,null,null,null,null,null,null,null,1619,"TOKARNIA"]
[null,null,null,null,null,null,null,null,null,null,null,null,null,null,null,null,null,null,null,null,null,null,null,null,null,null,1619,"WIŚNIOWA"]
[null,null,null,null,null,null,null,null,null,null,null,null,null,null,null,null,null,null,null,null,null,null,null,null,null,null,1620,"CHEŁMIEC"]
[null,null,null,null,null,null,null,null,null,null,null,null,null,null,null,null,null,null,null,null,null,null,null,null,null,null,1620,"GRÓDEK NAD DUNAJCEM"]
[null,null,null,null,null,null,null,null,null,null,null,null,null,null,null,null,null,null,null,null,null,null,null,null,null,null,1620,"GRYBÓW-MIEJSKA"]
[null,null,null,null,null,null,null,null,null,null,null,null,null,null,null,null,null,null,null,null,null,null,null,null,null,null,1620,"GRYBÓW-WIEJSKA"]
[null,null,null,null,null,null,null,null,null,null,null,null,null,null,null,null,null,null,null,null,null,null,null,null,null,null,1620,"KAMIONKA WIELKA"]
[null,null,null,null,null,null,null,null,null,null,null,null,null,null,null,null,null,null,null,null,null,null,null,null,null,null,1620,"KORZENNA"]
[null,null,null,null,null,null,null,null,null,null,null,null,null,null,null,null,null,null,null,null,null,null,null,null,null,null,1620,"KRYNICA-ZDRÓJ"]
[null,null,null,null,null,null,null,null,null,null,null,null,null,null,null,null,null,null,null,null,null,null,null,null,null,null,1620,"ŁABOWA"]
[null,null,null,null,null,null,null,null,null,null,null,null,null,null,null,null,null,null,null,null,null,null,null,null,null,null,1620,"ŁĄCKO"]
[null,null,null,null,null,null,null,null,null,null,null,null,null,null,null,null,null,null,null,null,null,null,null,null,null,null,1620,"ŁOSOSINA DOLNA"]
[null,null,null,null,null,null,null,null,null,null,null,null,null,null,null,null,null,null,null,null,null,null,null,null,null,null,1620,"MUSZYNA"]
[null,null,null,null,null,null,null,null,null,null,null,null,null,null,null,null,null,null,null,null,null,null,null,null,null,null,1620,"NAWOJOWA"]
[null,null,null,null,null,null,null,null,null,null,null,null,null,null,null,null,null,null,null,null,null,null,null,null,null,null,1620,"PIWNICZNA-ZDRÓJ"]
[null,null,null,null,null,null,null,null,null,null,null,null,null,null,null,null,null,null,null,null,null,null,null,null,null,null,1620,"PODEGRODZIE"]
[null,null,null,null,null,null,null,null,null,null,null,null,null,null,null,null,null,null,null,null,null,null,null,null,null,null,1620,"RYTRO"]
[null,null,null,null,null,null,null,null,null,null,null,null,null,null,null,null,null,null,null,null,null,null,null,null,null,null,1620,"STARY SĄCZ"]
[null,null,null,null,null,null,null,null,null,null,null,null,null,null,null,null,null,null,null,null,null,null,null,null,null,null,1621,"CZARNY DUNAJEC"]
[null,null,null,null,null,null,null,null,null,null,null,null,null,null,null,null,null,null,null,null,null,null,null,null,null,null,1621,"CZORSZTYN"]
[null,null,null,null,null,null,null,null,null,null,null,null,null,null,null,null,null,null,null,null,null,null,null,null,null,null,1621,"JABŁONKA"]
[null,null,null,null,null,null,null,null,null,null,null,null,null,null,null,null,null,null,null,null,null,null,null,null,null,null,1621,"KROŚCIENKO NAD DUNAJCEM"]
[null,null,null,null,null,null,null,null,null,null,null,null,null,null,null,null,null,null,null,null,null,null,null,null,null,null,1621,"LIPNICA WIELKA"]
[null,null,null,null,null,null,null,null,null,null,null,null,null,null,null,null,null,null,null,null,null,null,null,null,null,null,1621,"ŁAPSZE NIŻNE"]
[null,null,null,null,null,null,null,null,null,null,null,null,null,null,null,null,null,null,null,null,null,null,null,null,null,null,1621,"NOWY TARG-MIEJSKA"]
[null,null,null,null,null,null,null,null,null,null,null,null,null,null,null,null,null,null,null,null,null,null,null,null,null,null,1621,"NOWY TARG-WIEJSKA"]
[null,null,null,null,null,null,null,null,null,null,null,null,null,null,null,null,null,null,null,null,null,null,null,null,null,null,1621,"OCHOTNICA DOLNA"]
[null,null,null,null,null,null,null,null,null,null,null,null,null,null,null,null,null,null,null,null,null,null,null,null,null,null,1621,"RABA WYŻNA"]
[null,null,null,null,null,null,null,null,null,null,null,null,null,null,null,null,null,null,null,null,null,null,null,null,null,null,1621,"RABKA-ZDRÓJ"]
[null,null,null,null,null,null,null,null,null,null,null,null,null,null,null,null,null,null,null,null,null,null,null,null,null,null,1621,"SPYTKOWICE"]
[null,null,null,null,null,null,null,null,null,null,null,null,null,null,null,null,null,null,null,null,null,null,null,null,null,null,1621,"SZAFLARY"]
[null,null,null,null,null,null,null,null,null,null,null,null,null,null,null,null,null,null,null,null,null,null,null,null,null,null,1621,"SZCZAWNICA"]
[null,null,null,null,null,null,null,null,null,null,null,null,null,null,null,null,null,null,null,null,null,null,null,null,null,null,1622,"BOLESŁAW"]
[null,null,null,null,null,null,null,null,null,null,null,null,null,null,null,null,null,null,null,null,null,null,null,null,null,null,1622,"BUKOWNO"]
[null,null,null,null,null,null,null,null,null,null,null,null,null,null,null,null,null,null,null,null,null,null,null,null,null,null,1622,"KLUCZE"]
[null,null,null,null,null,null,null,null,null,null,null,null,null,null,null,null,null,null,null,null,null,null,null,null,null,null,1622,"OLKUSZ"]
[null,null,null,null,null,null,null,null,null,null,null,null,null,null,null,null,null,null,null,null,null,null,null,null,null,null,1622,"TRZYCIĄŻ"]
[null,null,null,null,null,null,null,null,null,null,null,null,null,null,null,null,null,null,null,null,null,null,null,null,null,null,1622,"WOLBROM"]
[null,null,null,null,null,null,null,null,null,null,null,null,null,null,null,null,null,null,null,null,null,null,null,null,null,null,1623,"BRZESZCZE"]
[null,null,null,null,null,null,null,null,null,null,null,null,null,null,null,null,null,null,null,null,null,null,null,null,null,null,1623,"CHEŁMEK"]
[null,null,null,null,null,null,null,null,null,null,null,null,null,null,null,null,null,null,null,null,null,null,null,null,null,null,1623,"KĘTY"]
[null,null,null,null,null,null,null,null,null,null,null,null,null,null,null,null,null,null,null,null,null,null,null,null,null,null,1623,"OSIEK"]
[null,null,null,null,null,null,null,null,null,null,null,null,null,null,null,null,null,null,null,null,null,null,null,null,null,null,1623,"OŚWIĘCIM-MIEJSKA"]
[null,null,null,null,null,null,null,null,null,null,null,null,null,null,null,null,null,null,null,null,null,null,null,null,null,null,1623,"OŚWIĘCIM-WIEJSKA"]
[null,null,null,null,null,null,null,null,null,null,null,null,null,null,null,null,null,null,null,null,null,null,null,null,null,null,1623,"POLANKA WIELKA"]
[null,null,null,null,null,null,null,null,null,null,null,null,null,null,null,null,null,null,null,null,null,null,null,null,null,null,1623,"PRZECISZÓW"]
[null,null,null,null,null,null,null,null,null,null,null,null,null,null,null,null,null,null,null,null,null,null,null,null,null,null,1623,"ZATOR"]
[null,null,null,null,null,null,null,null,null,null,null,null,null,null,null,null,null,null,null,null,null,null,null,null,null,null,1624,"KONIUSZA"]
[null,null,null,null,null,null,null,null,null,null,null,null,null,null,null,null,null,null,null,null,null,null,null,null,null,null,1624,"KOSZYCE"]
[null,null,null,null,null,null,null,null,null,null,null,null,null,null,null,null,null,null,null,null,null,null,null,null,null,null,1624,"NOWE BRZESKO"]
[null,null,null,null,null,null,null,null,null,null,null,null,null,null,null,null,null,null,null,null,null,null,null,null,null,null,1624,"PAŁECZNICA"]
[null,null,null,null,null,null,null,null,null,null,null,null,null,null,null,null,null,null,null,null,null,null,null,null,null,null,1624,"PROSZOWICE"]
[null,null,null,null,null,null,null,null,null,null,null,null,null,null,null,null,null,null,null,null,null,null,null,null,null,null,1624,"RADZIEMICE"]
[null,null,null,null,null,null,null,null,null,null,null,null,null,null,null,null,null,null,null,null,null,null,null,null,null,null,1625,"BUDZÓW"]
[null,null,null,null,null,null,null,null,null,null,null,null,null,null,null,null,null,null,null,null,null,null,null,null,null,null,1625,"BYSTRA-SIDZINA"]
[null,null,null,null,null,null,null,null,null,null,null,null,null,null,null,null,null,null,null,null,null,null,null,null,null,null,1625,"JORDANÓW-MIEJSKA"]
[null,null,null,null,null,null,null,null,null,null,null,null,null,null,null,null,null,null,null,null,null,null,null,null,null,null,1625,"JORDANÓW-WIEJSKA"]
[null,null,null,null,null,null,null,null,null,null,null,null,null,null,null,null,null,null,null,null,null,null,null,null,null,null,1625,"MAKÓW PODHALAŃSKI"]
[null,null,null,null,null,null,null,null,null,null,null,null,null,null,null,null,null,null,null,null,null,null,null,null,null,null,1625,"STRYSZAWA"]
[null,null,null,null,null,null,null,null,null,null,null,null,null,null,null,null,null,null,null,null,null,null,null,null,null,null,1625,"SUCHA BESKIDZKA"]
[null,null,null,null,null,null,null,null,null,null,null,null,null,null,null,null,null,null,null,null,null,null,null,null,null,null,1625,"ZAWOJA"]
[null,null,null,null,null,null,null,null,null,null,null,null,null,null,null,null,null,null,null,null,null,null,null,null,null,null,1625,"ZEMBRZYCE"]
[null,null,null,null,null,null,null,null,null,null,null,null,null,null,null,null,null,null,null,null,null,null,null,null,null,null,1626,"CIĘŻKOWICE"]
[null,null,null,null,null,null,null,null,null,null,null,null,null,null,null,null,null,null,null,null,null,null,null,null,null,null,1626,"GROMNIK"]
[null,null,null,null,null,null,null,null,null,null,null,null,null,null,null,null,null,null,null,null,null,null,null,null,null,null,1626,"LISIA GÓRA"]
[null,null,null,null,null,null,null,null,null,null,null,null,null,null,null,null,null,null,null,null,null,null,null,null,null,null,1626,"PLEŚNA"]
[null,null,null,null,null,null,null,null,null,null,null,null,null,null,null,null,null,null,null,null,null,null,null,null,null,null,1626,"RADŁÓW"]
[null,null,null,null,null,null,null,null,null,null,null,null,null,null,null,null,null,null,null,null,null,null,null,null,null,null,1626,"RYGLICE"]
[null,null,null,null,null,null,null,null,null,null,null,null,null,null,null,null,null,null,null,null,null,null,null,null,null,null,1626,"RZEPIENNIK STRZYŻEWSKI"]
[null,null,null,null,null,null,null,null,null,null,null,null,null,null,null,null,null,null,null,null,null,null,null,null,null,null,1626,"SKRZYSZÓW"]
[null,null,null,null,null,null,null,null,null,null,null,null,null,null,null,null,null,null,null,null,null,null,null,null,null,null,1626,"SZERZYNY"]
[null,null,null,null,null,null,null,null,null,null,null,null,null,null,null,null,null,null,null,null,null,null,null,null,null,null,1626,"TARNÓW"]
[null,null,null,null,null,null,null,null,null,null,null,null,null,null,null,null,null,null,null,null,null,null,null,null,null,null,1626,"TUCHÓW"]
[null,null,null,null,null,null,null,null,null,null,null,null,null,null,null,null,null,null,null,null,null,null,null,null,null,null,1626,"WIERZCHOSŁAWICE"]
[null,null,null,null,null,null,null,null,null,null,null,null,null,null,null,null,null,null,null,null,null,null,null,null,null,null,1626,"WIETRZYCHOWICE"]
[null,null,null,null,null,null,null,null,null,null,null,null,null,null,null,null,null,null,null,null,null,null,null,null,null,null,1626,"WOJNICZ"]
[null,null,null,null,null,null,null,null,null,null,null,null,null,null,null,null,null,null,null,null,null,null,null,null,null,null,1626,"ZAKLICZYN"]
[null,null,null,null,null,null,null,null,null,null,null,null,null,null,null,null,null,null,null,null,null,null,null,null,null,null,1626,"ŻABNO"]
[null,null,null,null,null,null,null,null,null,null,null,null,null,null,null,null,null,null,null,null,null,null,null,null,null,null,1627,"BIAŁY DUNAJEC"]
[null,null,null,null,null,null,null,null,null,null,null,null,null,null,null,null,null,null,null,null,null,null,null,null,null,null,1627,"BUKOWINA TATRZAŃSKA"]
[null,null,null,null,null,null,null,null,null,null,null,null,null,null,null,null,null,null,null,null,null,null,null,null,null,null,1627,"KOŚCIELISKO"]
[null,null,null,null,null,null,null,null,null,null,null,null,null,null,null,null,null,null,null,null,null,null,null,null,null,null,1627,"PORONIN"]
[null,null,null,null,null,null,null,null,null,null,null,null,null,null,null,null,null,null,null,null,null,null,null,null,null,null,1627,"ZAKOPANE"]
[null,null,null,null,null,null,null,null,null,null,null,null,null,null,null,null,null,null,null,null,null,null,null,null,null,null,1628,"ANDRYCHÓW"]
[null,null,null,null,null,null,null,null,null,null,null,null,null,null,null,null,null,null,null,null,null,null,null,null,null,null,1628,"BRZEŹNICA"]
[null,null,null,null,null,null,null,null,null,null,null,null,null,null,null,null,null,null,null,null,null,null,null,null,null,null,1628,"KALWARIA ZEBRZYDOWSKA"]
[null,null,null,null,null,null,null,null,null,null,null,null,null,null,null,null,null,null,null,null,null,null,null,null,null,null,1628,"LANCKORONA"]
[null,null,null,null,null,null,null,null,null,null,null,null,null,null,null,null,null,null,null,null,null,null,null,null,null,null,1628,"MUCHARZ"]
[null,null,null,null,null,null,null,null,null,null,null,null,null,null,null,null,null,null,null,null,null,null,null,null,null,null,1628,"SPYTKOWICE"]
[null,null,null,null,null,null,null,null,null,null,null,null,null,null,null,null,null,null,null,null,null,null,null,null,null,null,1628,"STRYSZÓW"]
[null,null,null,null,null,null,null,null,null,null,null,null,null,null,null,null,null,null,null,null,null,null,null,null,null,null,1628,"TOMICE"]
[null,null,null,null,null,null,null,null,null,null,null,null,null,null,null,null,null,null,null,null,null,null,null,null,null,null,1628,"WADOWICE"]
[null,null,null,null,null,null,null,null,null,null,null,null,null,null,null,null,null,null,null,null,null,null,null,null,null,null,1628,"WIEPRZ"]
[null,null,null,null,null,null,null,null,null,null,null,null,null,null,null,null,null,null,null,null,null,null,null,null,null,null,1629,"BISKUPICE"]
[null,null,null,null,null,null,null,null,null,null,null,null,null,null,null,null,null,null,null,null,null,null,null,null,null,null,1629,"GDÓW"]
[null,null,null,null,null,null,null,null,null,null,null,null,null,null,null,null,null,null,null,null,null,null,null,null,null,null,1629,"KŁAJ"]
[null,null,null,null,null,null,null,null,null,null,null,null,null,null,null,null,null,null,null,null,null,null,null,null,null,null,1629,"NIEPOŁOMICE"]
[null,null,null,null,null,null,null,null,null,null,null,null,null,null,null,null,null,null,null,null,null,null,null,null,null,null,1629,"WIELICZKA"]
[null,null,null,null,null,null,null,null,null,null,null,null,null,null,null,null,null,null,null,null,null,null,null,null,null,null,1630,"M.KRAKÓW"]
[null,null,null,null,null,null,null,null,null,null,null,null,null,null,null,null,null,null,null,null,null,null,null,null,null,null,1631,"M.NOWY SĄCZ"]
[null,null,null,null,null,null,null,null,null,null,null,null,null,null,null,null,null,null,null,null,null,null,null,null,null,null,1632,"M.TARNÓW"]
[null,null,null,null,null,null,null,null,null,null,null,null,null,null,null,null,null,null,null,null,null,null,null,null,null,null,1711,"BIAŁOBRZEGI"]
[null,null,null,null,null,null,null,null,null,null,null,null,null,null,null,null,null,null,null,null,null,null,null,null,null,null,1711,"PROMNA"]
[null,null,null,null,null,null,null,null,null,null,null,null,null,null,null,null,null,null,null,null,null,null,null,null,null,null,1711,"RADZANÓW"]
[null,null,null,null,null,null,null,null,null,null,null,null,null,null,null,null,null,null,null,null,null,null,null,null,null,null,1711,"STARA BŁOTNICA"]
[null,null,null,null,null,null,null,null,null,null,null,null,null,null,null,null,null,null,null,null,null,null,null,null,null,null,1711,"STROMIEC"]
[null,null,null,null,null,null,null,null,null,null,null,null,null,null,null,null,null,null,null,null,null,null,null,null,null,null,1711,"WYŚMIERZYCE"]
[null,null,null,null,null,null,null,null,null,null,null,null,null,null,null,null,null,null,null,null,null,null,null,null,null,null,1712,"CIECHANÓW-MIEJSKA"]
[null,null,null,null,null,null,null,null,null,null,null,null,null,null,null,null,null,null,null,null,null,null,null,null,null,null,1712,"CIECHANÓW-WIEJSKA"]
[null,null,null,null,null,null,null,null,null,null,null,null,null,null,null,null,null,null,null,null,null,null,null,null,null,null,1712,"GLINOJECK"]
[null,null,null,null,null,null,null,null,null,null,null,null,null,null,null,null,null,null,null,null,null,null,null,null,null,null,1712,"GOŁYMIN-OŚRODEK"]
[null,null,null,null,null,null,null,null,null,null,null,null,null,null,null,null,null,null,null,null,null,null,null,null,null,null,1712,"GRUDUSK"]
[null,null,null,null,null,null,null,null,null,null,null,null,null,null,null,null,null,null,null,null,null,null,null,null,null,null,1712,"OJRZEŃ"]
[null,null,null,null,null,null,null,null,null,null,null,null,null,null,null,null,null,null,null,null,null,null,null,null,null,null,1712,"OPINOGÓRA GÓRNA"]
[null,null,null,null,null,null,null,null,null,null,null,null,null,null,null,null,null,null,null,null,null,null,null,null,null,null,1712,"REGIMIN"]
[null,null,null,null,null,null,null,null,null,null,null,null,null,null,null,null,null,null,null,null,null,null,null,null,null,null,1712,"SOŃSK"]
[null,null,null,null,null,null,null,null,null,null,null,null,null,null,null,null,null,null,null,null,null,null,null,null,null,null,1713,"BOROWIE"]
[null,null,null,null,null,null,null,null,null,null,null,null,null,null,null,null,null,null,null,null,null,null,null,null,null,null,1713,"GARWOLIN-MIEJSKA"]
[null,null,null,null,null,null,null,null,null,null,null,null,null,null,null,null,null,null,null,null,null,null,null,null,null,null,1713,"GARWOLIN-WIEJSKA"]
[null,null,null,null,null,null,null,null,null,null,null,null,null,null,null,null,null,null,null,null,null,null,null,null,null,null,1713,"GÓRZNO"]
[null,null,null,null,null,null,null,null,null,null,null,null,null,null,null,null,null,null,null,null,null,null,null,null,null,null,1713,"ŁASKARZEW-MIEJSKA"]
[null,null,null,null,null,null,null,null,null,null,null,null,null,null,null,null,null,null,null,null,null,null,null,null,null,null,1713,"ŁASKARZEW-WIEJSKA"]
[null,null,null,null,null,null,null,null,null,null,null,null,null,null,null,null,null,null,null,null,null,null,null,null,null,null,1713,"MACIEJOWICE"]
[null,null,null,null,null,null,null,null,null,null,null,null,null,null,null,null,null,null,null,null,null,null,null,null,null,null,1713,"MIASTKÓW KOŚCIELNY"]
[null,null,null,null,null,null,null,null,null,null,null,null,null,null,null,null,null,null,null,null,null,null,null,null,null,null,1713,"PARYSÓW"]
[null,null,null,null,null,null,null,null,null,null,null,null,null,null,null,null,null,null,null,null,null,null,null,null,null,null,1713,"PILAWA"]
[null,null,null,null,null,null,null,null,null,null,null,null,null,null,null,null,null,null,null,null,null,null,null,null,null,null,1713,"SOBOLEW"]
[null,null,null,null,null,null,null,null,null,null,null,null,null,null,null,null,null,null,null,null,null,null,null,null,null,null,1713,"TROJANÓW"]
[null,null,null,null,null,null,null,null,null,null,null,null,null,null,null,null,null,null,null,null,null,null,null,null,null,null,1713,"WILGA"]
[null,null,null,null,null,null,null,null,null,null,null,null,null,null,null,null,null,null,null,null,null,null,null,null,null,null,1713,"ŻELECHÓW"]
[null,null,null,null,null,null,null,null,null,null,null,null,null,null,null,null,null,null,null,null,null,null,null,null,null,null,1714,"GOSTYNIN-MIEJSKA"]
[null,null,null,null,null,null,null,null,null,null,null,null,null,null,null,null,null,null,null,null,null,null,null,null,null,null,1714,"GOSTYNIN-WIEJSKA"]
[null,null,null,null,null,null,null,null,null,null,null,null,null,null,null,null,null,null,null,null,null,null,null,null,null,null,1714,"PACYNA"]
[null,null,null,null,null,null,null,null,null,null,null,null,null,null,null,null,null,null,null,null,null,null,null,null,null,null,1714,"SANNIKI"]
[null,null,null,null,null,null,null,null,null,null,null,null,null,null,null,null,null,null,null,null,null,null,null,null,null,null,1714,"SZCZAWIN KOŚCIELNY"]
[null,null,null,null,null,null,null,null,null,null,null,null,null,null,null,null,null,null,null,null,null,null,null,null,null,null,1715,"BARANÓW"]
[null,null,null,null,null,null,null,null,null,null,null,null,null,null,null,null,null,null,null,null,null,null,null,null,null,null,1715,"GRODZISK MAZOWIECKI"]
[null,null,null,null,null,null,null,null,null,null,null,null,null,null,null,null,null,null,null,null,null,null,null,null,null,null,1715,"JAKTORÓW"]
[null,null,null,null,null,null,null,null,null,null,null,null,null,null,null,null,null,null,null,null,null,null,null,null,null,null,1715,"MILANÓWEK"]
[null,null,null,null,null,null,null,null,null,null,null,null,null,null,null,null,null,null,null,null,null,null,null,null,null,null,1715,"PODKOWA LEŚNA"]
[null,null,null,null,null,null,null,null,null,null,null,null,null,null,null,null,null,null,null,null,null,null,null,null,null,null,1715,"ŻABIA WOLA"]
[null,null,null,null,null,null,null,null,null,null,null,null,null,null,null,null,null,null,null,null,null,null,null,null,null,null,1716,"BELSK DUŻY"]
[null,null,null,null,null,null,null,null,null,null,null,null,null,null,null,null,null,null,null,null,null,null,null,null,null,null,1716,"BŁĘDÓW"]
[null,null,null,null,null,null,null,null,null,null,null,null,null,null,null,null,null,null,null,null,null,null,null,null,null,null,1716,"CHYNÓW"]
[null,null,null,null,null,null,null,null,null,null,null,null,null,null,null,null,null,null,null,null,null,null,null,null,null,null,1716,"GOSZCZYN"]
[null,null,null,null,null,null,null,null,null,null,null,null,null,null,null,null,null,null,null,null,null,null,null,null,null,null,1716,"GRÓJEC"]
[null,null,null,null,null,null,null,null,null,null,null,null,null,null,null,null,null,null,null,null,null,null,null,null,null,null,1716,"JASIENIEC"]
[null,null,null,null,null,null,null,null,null,null,null,null,null,null,null,null,null,null,null,null,null,null,null,null,null,null,1716,"MOGIELNICA"]
[null,null,null,null,null,null,null,null,null,null,null,null,null,null,null,null,null,null,null,null,null,null,null,null,null,null,1716,"NOWE MIASTO NAD PILICĄ"]
[null,null,null,null,null,null,null,null,null,null,null,null,null,null,null,null,null,null,null,null,null,null,null,null,null,null,1716,"PNIEWY"]
[null,null,null,null,null,null,null,null,null,null,null,null,null,null,null,null,null,null,null,null,null,null,null,null,null,null,1716,"WARKA"]
[null,null,null,null,null,null,null,null,null,null,null,null,null,null,null,null,null,null,null,null,null,null,null,null,null,null,1717,"GARBATKA-LETNISKO"]
[null,null,null,null,null,null,null,null,null,null,null,null,null,null,null,null,null,null,null,null,null,null,null,null,null,null,1717,"GŁOWACZÓW"]
[null,null,null,null,null,null,null,null,null,null,null,null,null,null,null,null,null,null,null,null,null,null,null,null,null,null,1717,"GNIEWOSZÓW"]
[null,null,null,null,null,null,null,null,null,null,null,null,null,null,null,null,null,null,null,null,null,null,null,null,null,null,1717,"GRABÓW NAD PILICĄ"]
[null,null,null,null,null,null,null,null,null,null,null,null,null,null,null,null,null,null,null,null,null,null,null,null,null,null,1717,"KOZIENICE"]
[null,null,null,null,null,null,null,null,null,null,null,null,null,null,null,null,null,null,null,null,null,null,null,null,null,null,1717,"MAGNUSZEW"]
[null,null,null,null,null,null,null,null,null,null,null,null,null,null,null,null,null,null,null,null,null,null,null,null,null,null,1717,"SIECIECHÓW"]
[null,null,null,null,null,null,null,null,null,null,null,null,null,null,null,null,null,null,null,null,null,null,null,null,null,null,1718,"JABŁONNA"]
[null,null,null,null,null,null,null,null,null,null,null,null,null,null,null,null,null,null,null,null,null,null,null,null,null,null,1718,"LEGIONOWO"]
[null,null,null,null,null,null,null,null,null,null,null,null,null,null,null,null,null,null,null,null,null,null,null,null,null,null,1718,"NIEPORĘT"]
[null,null,null,null,null,null,null,null,null,null,null,null,null,null,null,null,null,null,null,null,null,null,null,null,null,null,1718,"SEROCK"]
[null,null,null,null,null,null,null,null,null,null,null,null,null,null,null,null,null,null,null,null,null,null,null,null,null,null,1718,"WIELISZEW"]
[null,null,null,null,null,null,null,null,null,null,null,null,null,null,null,null,null,null,null,null,null,null,null,null,null,null,1719,"CHOTCZA"]
[null,null,null,null,null,null,null,null,null,null,null,null,null,null,null,null,null,null,null,null,null,null,null,null,null,null,1719,"CIEPIELÓW"]
[null,null,null,null,null,null,null,null,null,null,null,null,null,null,null,null,null,null,null,null,null,null,null,null,null,null,1719,"LIPSKO"]
[null,null,null,null,null,null,null,null,null,null,null,null,null,null,null,null,null,null,null,null,null,null,null,null,null,null,1719,"RZECZNIÓW"]
[null,null,null,null,null,null,null,null,null,null,null,null,null,null,null,null,null,null,null,null,null,null,null,null,null,null,1719,"SIENNO"]
[null,null,null,null,null,null,null,null,null,null,null,null,null,null,null,null,null,null,null,null,null,null,null,null,null,null,1719,"SOLEC NAD WISŁĄ"]
[null,null,null,null,null,null,null,null,null,null,null,null,null,null,null,null,null,null,null,null,null,null,null,null,null,null,1720,"HUSZLEW"]
[null,null,null,null,null,null,null,null,null,null,null,null,null,null,null,null,null,null,null,null,null,null,null,null,null,null,1720,"ŁOSICE"]
[null,null,null,null,null,null,null,null,null,null,null,null,null,null,null,null,null,null,null,null,null,null,null,null,null,null,1720,"OLSZANKA"]
[null,null,null,null,null,null,null,null,null,null,null,null,null,null,null,null,null,null,null,null,null,null,null,null,null,null,1720,"PLATERÓW"]
[null,null,null,null,null,null,null,null,null,null,null,null,null,null,null,null,null,null,null,null,null,null,null,null,null,null,1720,"SARNAKI"]
[null,null,null,null,null,null,null,null,null,null,null,null,null,null,null,null,null,null,null,null,null,null,null,null,null,null,1720,"STARA KORNICA"]
[null,null,null,null,null,null,null,null,null,null,null,null,null,null,null,null,null,null,null,null,null,null,null,null,null,null,1721,"CZERWONKA"]
[null,null,null,null,null,null,null,null,null,null,null,null,null,null,null,null,null,null,null,null,null,null,null,null,null,null,1721,"KARNIEWO"]
[null,null,null,null,null,null,null,null,null,null,null,null,null,null,null,null,null,null,null,null,null,null,null,null,null,null,1721,"KRASNOSIELC"]
[null,null,null,null,null,null,null,null,null,null,null,null,null,null,null,null,null,null,null,null,null,null,null,null,null,null,1721,"MAKÓW MAZOWIECKI"]
[null,null,null,null,null,null,null,null,null,null,null,null,null,null,null,null,null,null,null,null,null,null,null,null,null,null,1721,"MŁYNARZE"]
[null,null,null,null,null,null,null,null,null,null,null,null,null,null,null,null,null,null,null,null,null,null,null,null,null,null,1721,"PŁONIAWY-BRAMURA"]
[null,null,null,null,null,null,null,null,null,null,null,null,null,null,null,null,null,null,null,null,null,null,null,null,null,null,1721,"RÓŻAN"]
[null,null,null,null,null,null,null,null,null,null,null,null,null,null,null,null,null,null,null,null,null,null,null,null,null,null,1721,"RZEWNIE"]
[null,null,null,null,null,null,null,null,null,null,null,null,null,null,null,null,null,null,null,null,null,null,null,null,null,null,1721,"SYPNIEWO"]
[null,null,null,null,null,null,null,null,null,null,null,null,null,null,null,null,null,null,null,null,null,null,null,null,null,null,1721,"SZELKÓW"]
[null,null,null,null,null,null,null,null,null,null,null,null,null,null,null,null,null,null,null,null,null,null,null,null,null,null,1722,"CEGŁÓW"]
[null,null,null,null,null,null,null,null,null,null,null,null,null,null,null,null,null,null,null,null,null,null,null,null,null,null,1722,"DĘBE WIELKIE"]
[null,null,null,null,null,null,null,null,null,null,null,null,null,null,null,null,null,null,null,null,null,null,null,null,null,null,1722,"DOBRE"]
[null,null,null,null,null,null,null,null,null,null,null,null,null,null,null,null,null,null,null,null,null,null,null,null,null,null,1722,"HALINÓW"]
[null,null,null,null,null,null,null,null,null,null,null,null,null,null,null,null,null,null,null,null,null,null,null,null,null,null,1722,"JAKUBÓW"]
[null,null,null,null,null,null,null,null,null,null,null,null,null,null,null,null,null,null,null,null,null,null,null,null,null,null,1722,"KAŁUSZYN"]
[null,null,null,null,null,null,null,null,null,null,null,null,null,null,null,null,null,null,null,null,null,null,null,null,null,null,1722,"LATOWICZ"]
[null,null,null,null,null,null,null,null,null,null,null,null,null,null,null,null,null,null,null,null,null,null,null,null,null,null,1722,"MIŃSK MAZOWIECKI-MIEJSKA"]
[null,null,null,null,null,null,null,null,null,null,null,null,null,null,null,null,null,null,null,null,null,null,null,null,null,null,1722,"MIŃSK MAZOWIECKI-WIEJSKA"]
[null,null,null,null,null,null,null,null,null,null,null,null,null,null,null,null,null,null,null,null,null,null,null,null,null,null,1722,"MROZY"]
[null,null,null,null,null,null,null,null,null,null,null,null,null,null,null,null,null,null,null,null,null,null,null,null,null,null,1722,"SIENNICA"]
[null,null,null,null,null,null,null,null,null,null,null,null,null,null,null,null,null,null,null,null,null,null,null,null,null,null,1722,"STANISŁAWÓW"]
[null,null,null,null,null,null,null,null,null,null,null,null,null,null,null,null,null,null,null,null,null,null,null,null,null,null,1722,"SULEJÓWEK"]
[null,null,null,null,null,null,null,null,null,null,null,null,null,null,null,null,null,null,null,null,null,null,null,null,null,null,1723,"DZIERZGOWO"]
[null,null,null,null,null,null,null,null,null,null,null,null,null,null,null,null,null,null,null,null,null,null,null,null,null,null,1723,"LIPOWIEC KOŚCIELNY"]
[null,null,null,null,null,null,null,null,null,null,null,null,null,null,null,null,null,null,null,null,null,null,null,null,null,null,1723,"MŁAWA"]
[null,null,null,null,null,null,null,null,null,null,null,null,null,null,null,null,null,null,null,null,null,null,null,null,null,null,1723,"RADZANÓW"]
[null,null,null,null,null,null,null,null,null,null,null,null,null,null,null,null,null,null,null,null,null,null,null,null,null,null,1723,"STRZEGOWO"]
[null,null,null,null,null,null,null,null,null,null,null,null,null,null,null,null,null,null,null,null,null,null,null,null,null,null,1723,"STUPSK"]
[null,null,null,null,null,null,null,null,null,null,null,null,null,null,null,null,null,null,null,null,null,null,null,null,null,null,1723,"SZREŃSK"]
[null,null,null,null,null,null,null,null,null,null,null,null,null,null,null,null,null,null,null,null,null,null,null,null,null,null,1723,"SZYDŁOWO"]
[null,null,null,null,null,null,null,null,null,null,null,null,null,null,null,null,null,null,null,null,null,null,null,null,null,null,1723,"WIECZFNIA KOŚCIELNA"]
[null,null,null,null,null,null,null,null,null,null,null,null,null,null,null,null,null,null,null,null,null,null,null,null,null,null,1723,"WIŚNIEWO"]
[null,null,null,null,null,null,null,null,null,null,null,null,null,null,null,null,null,null,null,null,null,null,null,null,null,null,1724,"CZOSNÓW"]
[null,null,null,null,null,null,null,null,null,null,null,null,null,null,null,null,null,null,null,null,null,null,null,null,null,null,1724,"LEONCIN"]
[null,null,null,null,null,null,null,null,null,null,null,null,null,null,null,null,null,null,null,null,null,null,null,null,null,null,1724,"NASIELSK"]
[null,null,null,null,null,null,null,null,null,null,null,null,null,null,null,null,null,null,null,null,null,null,null,null,null,null,1724,"NOWY DWÓR MAZOWIECKI"]
[null,null,null,null,null,null,null,null,null,null,null,null,null,null,null,null,null,null,null,null,null,null,null,null,null,null,1724,"POMIECHÓWEK"]
[null,null,null,null,null,null,null,null,null,null,null,null,null,null,null,null,null,null,null,null,null,null,null,null,null,null,1724,"ZAKROCZYM"]
[null,null,null,null,null,null,null,null,null,null,null,null,null,null,null,null,null,null,null,null,null,null,null,null,null,null,1725,"BARANOWO"]
[null,null,null,null,null,null,null,null,null,null,null,null,null,null,null,null,null,null,null,null,null,null,null,null,null,null,1725,"CZARNIA"]
[null,null,null,null,null,null,null,null,null,null,null,null,null,null,null,null,null,null,null,null,null,null,null,null,null,null,1725,"CZERWIN"]
[null,null,null,null,null,null,null,null,null,null,null,null,null,null,null,null,null,null,null,null,null,null,null,null,null,null,1725,"GOWOROWO"]
[null,null,null,null,null,null,null,null,null,null,null,null,null,null,null,null,null,null,null,null,null,null,null,null,null,null,1725,"KADZIDŁO"]
[null,null,null,null,null,null,null,null,null,null,null,null,null,null,null,null,null,null,null,null,null,null,null,null,null,null,1725,"LELIS"]
[null,null,null,null,null,null,null,null,null,null,null,null,null,null,null,null,null,null,null,null,null,null,null,null,null,null,1725,"ŁYSE"]
[null,null,null,null,null,null,null,null,null,null,null,null,null,null,null,null,null,null,null,null,null,null,null,null,null,null,1725,"MYSZYNIEC"]
[null,null,null,null,null,null,null,null,null,null,null,null,null,null,null,null,null,null,null,null,null,null,null,null,null,null,1725,"OLSZEWO-BORKI"]
[null,null,null,null,null,null,null,null,null,null,null,null,null,null,null,null,null,null,null,null,null,null,null,null,null,null,1725,"RZEKUŃ"]
[null,null,null,null,null,null,null,null,null,null,null,null,null,null,null,null,null,null,null,null,null,null,null,null,null,null,1725,"TROSZYN"]
[null,null,null,null,null,null,null,null,null,null,null,null,null,null,null,null,null,null,null,null,null,null,null,null,null,null,1726,"ANDRZEJEWO"]
[null,null,null,null,null,null,null,null,null,null,null,null,null,null,null,null,null,null,null,null,null,null,null,null,null,null,1726,"BOGUTY-PIANKI"]
[null,null,null,null,null,null,null,null,null,null,null,null,null,null,null,null,null,null,null,null,null,null,null,null,null,null,1726,"BROK"]
[null,null,null,null,null,null,null,null,null,null,null,null,null,null,null,null,null,null,null,null,null,null,null,null,null,null,1726,"MAŁKINIA GÓRNA"]
[null,null,null,null,null,null,null,null,null,null,null,null,null,null,null,null,null,null,null,null,null,null,null,null,null,null,1726,"NUR"]
[null,null,null,null,null,null,null,null,null,null,null,null,null,null,null,null,null,null,null,null,null,null,null,null,null,null,1726,"OSTRÓW MAZOWIECKA-MIEJSKA"]
[null,null,null,null,null,null,null,null,null,null,null,null,null,null,null,null,null,null,null,null,null,null,null,null,null,null,1726,"OSTRÓW MAZOWIECKA-WIEJSKA"]
[null,null,null,null,null,null,null,null,null,null,null,null,null,null,null,null,null,null,null,null,null,null,null,null,null,null,1726,"STARY LUBOTYŃ"]
[null,null,null,null,null,null,null,null,null,null,null,null,null,null,null,null,null,null,null,null,null,null,null,null,null,null,1726,"SZULBORZE WIELKIE"]
[null,null,null,null,null,null,null,null,null,null,null,null,null,null,null,null,null,null,null,null,null,null,null,null,null,null,1726,"WĄSEWO"]
[null,null,null,null,null,null,null,null,null,null,null,null,null,null,null,null,null,null,null,null,null,null,null,null,null,null,1726,"ZARĘBY KOŚCIELNE"]
[null,null,null,null,null,null,null,null,null,null,null,null,null,null,null,null,null,null,null,null,null,null,null,null,null,null,1727,"CELESTYNÓW"]
[null,null,null,null,null,null,null,null,null,null,null,null,null,null,null,null,null,null,null,null,null,null,null,null,null,null,1727,"JÓZEFÓW NAD WISŁĄ"]
[null,null,null,null,null,null,null,null,null,null,null,null,null,null,null,null,null,null,null,null,null,null,null,null,null,null,1727,"KARCZEW"]
[null,null,null,null,null,null,null,null,null,null,null,null,null,null,null,null,null,null,null,null,null,null,null,null,null,null,1727,"KOŁBIEL"]
[null,null,null,null,null,null,null,null,null,null,null,null,null,null,null,null,null,null,null,null,null,null,null,null,null,null,1727,"OSIECK"]
[null,null,null,null,null,null,null,null,null,null,null,null,null,null,null,null,null,null,null,null,null,null,null,null,null,null,1727,"OTWOCK"]
[null,null,null,null,null,null,null,null,null,null,null,null,null,null,null,null,null,null,null,null,null,null,null,null,null,null,1727,"SOBIENIE-JEZIORY"]
[null,null,null,null,null,null,null,null,null,null,null,null,null,null,null,null,null,null,null,null,null,null,null,null,null,null,1727,"WIĄZOWNA"]
[null,null,null,null,null,null,null,null,null,null,null,null,null,null,null,null,null,null,null,null,null,null,null,null,null,null,1728,"GÓRA KALWARIA"]
[null,null,null,null,null,null,null,null,null,null,null,null,null,null,null,null,null,null,null,null,null,null,null,null,null,null,1728,"KONSTANCIN-JEZIORNA"]
[null,null,null,null,null,null,null,null,null,null,null,null,null,null,null,null,null,null,null,null,null,null,null,null,null,null,1728,"LESZNOWOLA"]
[null,null,null,null,null,null,null,null,null,null,null,null,null,null,null,null,null,null,null,null,null,null,null,null,null,null,1728,"PIASECZNO"]
[null,null,null,null,null,null,null,null,null,null,null,null,null,null,null,null,null,null,null,null,null,null,null,null,null,null,1728,"PRAŻMÓW"]
[null,null,null,null,null,null,null,null,null,null,null,null,null,null,null,null,null,null,null,null,null,null,null,null,null,null,1728,"TARCZYN"]
[null,null,null,null,null,null,null,null,null,null,null,null,null,null,null,null,null,null,null,null,null,null,null,null,null,null,1729,"BIELSK"]
[null,null,null,null,null,null,null,null,null,null,null,null,null,null,null,null,null,null,null,null,null,null,null,null,null,null,1729,"BODZANÓW"]
[null,null,null,null,null,null,null,null,null,null,null,null,null,null,null,null,null,null,null,null,null,null,null,null,null,null,1729,"BRUDZEŃ DUŻY"]
[null,null,null,null,null,null,null,null,null,null,null,null,null,null,null,null,null,null,null,null,null,null,null,null,null,null,1729,"BULKOWO"]
[null,null,null,null,null,null,null,null,null,null,null,null,null,null,null,null,null,null,null,null,null,null,null,null,null,null,1729,"DROBIN"]
[null,null,null,null,null,null,null,null,null,null,null,null,null,null,null,null,null,null,null,null,null,null,null,null,null,null,1729,"GĄBIN"]
[null,null,null,null,null,null,null,null,null,null,null,null,null,null,null,null,null,null,null,null,null,null,null,null,null,null,1729,"ŁĄCK"]
[null,null,null,null,null,null,null,null,null,null,null,null,null,null,null,null,null,null,null,null,null,null,null,null,null,null,1729,"MAŁA WIEŚ"]
[null,null,null,null,null,null,null,null,null,null,null,null,null,null,null,null,null,null,null,null,null,null,null,null,null,null,1729,"NOWY DUNINÓW"]
[null,null,null,null,null,null,null,null,null,null,null,null,null,null,null,null,null,null,null,null,null,null,null,null,null,null,1729,"RADZANOWO"]
[null,null,null,null,null,null,null,null,null,null,null,null,null,null,null,null,null,null,null,null,null,null,null,null,null,null,1729,"SŁUBICE"]
[null,null,null,null,null,null,null,null,null,null,null,null,null,null,null,null,null,null,null,null,null,null,null,null,null,null,1729,"SŁUPNO"]
[null,null,null,null,null,null,null,null,null,null,null,null,null,null,null,null,null,null,null,null,null,null,null,null,null,null,1729,"STARA BIAŁA"]
[null,null,null,null,null,null,null,null,null,null,null,null,null,null,null,null,null,null,null,null,null,null,null,null,null,null,1729,"STAROŹREBY"]
[null,null,null,null,null,null,null,null,null,null,null,null,null,null,null,null,null,null,null,null,null,null,null,null,null,null,1729,"WYSZOGRÓD"]
[null,null,null,null,null,null,null,null,null,null,null,null,null,null,null,null,null,null,null,null,null,null,null,null,null,null,1730,"BABOSZEWO"]
[null,null,null,null,null,null,null,null,null,null,null,null,null,null,null,null,null,null,null,null,null,null,null,null,null,null,1730,"CZERWIŃSK NAD WISŁĄ"]
[null,null,null,null,null,null,null,null,null,null,null,null,null,null,null,null,null,null,null,null,null,null,null,null,null,null,1730,"DZIERZĄŻNIA"]
[null,null,null,null,null,null,null,null,null,null,null,null,null,null,null,null,null,null,null,null,null,null,null,null,null,null,1730,"JONIEC"]
[null,null,null,null,null,null,null,null,null,null,null,null,null,null,null,null,null,null,null,null,null,null,null,null,null,null,1730,"NARUSZEWO"]
[null,null,null,null,null,null,null,null,null,null,null,null,null,null,null,null,null,null,null,null,null,null,null,null,null,null,1730,"NOWE MIASTO"]
[null,null,null,null,null,null,null,null,null,null,null,null,null,null,null,null,null,null,null,null,null,null,null,null,null,null,1730,"PŁOŃSK-MIEJSKA"]
[null,null,null,null,null,null,null,null,null,null,null,null,null,null,null,null,null,null,null,null,null,null,null,null,null,null,1730,"PŁOŃSK-WIEJSKA"]
[null,null,null,null,null,null,null,null,null,null,null,null,null,null,null,null,null,null,null,null,null,null,null,null,null,null,1730,"RACIĄŻ-MIEJSKA"]
[null,null,null,null,null,null,null,null,null,null,null,null,null,null,null,null,null,null,null,null,null,null,null,null,null,null,1730,"RACIĄŻ-WIEJSKA"]
[null,null,null,null,null,null,null,null,null,null,null,null,null,null,null,null,null,null,null,null,null,null,null,null,null,null,1730,"SOCHOCIN"]
[null,null,null,null,null,null,null,null,null,null,null,null,null,null,null,null,null,null,null,null,null,null,null,null,null,null,1730,"ZAŁUSKI"]
[null,null,null,null,null,null,null,null,null,null,null,null,null,null,null,null,null,null,null,null,null,null,null,null,null,null,1731,"BRWINÓW"]
[null,null,null,null,null,null,null,null,null,null,null,null,null,null,null,null,null,null,null,null,null,null,null,null,null,null,1731,"MICHAŁOWICE"]
[null,null,null,null,null,null,null,null,null,null,null,null,null,null,null,null,null,null,null,null,null,null,null,null,null,null,1731,"NADARZYN"]
[null,null,null,null,null,null,null,null,null,null,null,null,null,null,null,null,null,null,null,null,null,null,null,null,null,null,1731,"PIASTÓW"]
[null,null,null,null,null,null,null,null,null,null,null,null,null,null,null,null,null,null,null,null,null,null,null,null,null,null,1731,"PRUSZKÓW"]
[null,null,null,null,null,null,null,null,null,null,null,null,null,null,null,null,null,null,null,null,null,null,null,null,null,null,1731,"RASZYN"]
[null,null,null,null,null,null,null,null,null,null,null,null,null,null,null,null,null,null,null,null,null,null,null,null,null,null,1732,"CHORZELE"]
[null,null,null,null,null,null,null,null,null,null,null,null,null,null,null,null,null,null,null,null,null,null,null,null,null,null,1732,"CZERNICE BOROWE"]
[null,null,null,null,null,null,null,null,null,null,null,null,null,null,null,null,null,null,null,null,null,null,null,null,null,null,1732,"JEDNOROŻEC"]
[null,null,null,null,null,null,null,null,null,null,null,null,null,null,null,null,null,null,null,null,null,null,null,null,null,null,1732,"KRASNE"]
[null,null,null,null,null,null,null,null,null,null,null,null,null,null,null,null,null,null,null,null,null,null,null,null,null,null,1732,"KRZYNOWŁOGA MAŁA"]
[null,null,null,null,null,null,null,null,null,null,null,null,null,null,null,null,null,null,null,null,null,null,null,null,null,null,1732,"PRZASNYSZ-MIEJSKA"]
[null,null,null,null,null,null,null,null,null,null,null,null,null,null,null,null,null,null,null,null,null,null,null,null,null,null,1732,"PRZASNYSZ-WIEJSKA"]
[null,null,null,null,null,null,null,null,null,null,null,null,null,null,null,null,null,null,null,null,null,null,null,null,null,null,1733,"BORKOWICE"]
[null,null,null,null,null,null,null,null,null,null,null,null,null,null,null,null,null,null,null,null,null,null,null,null,null,null,1733,"GIELNIÓW"]
[null,null,null,null,null,null,null,null,null,null,null,null,null,null,null,null,null,null,null,null,null,null,null,null,null,null,1733,"KLWÓW"]
[null,null,null,null,null,null,null,null,null,null,null,null,null,null,null,null,null,null,null,null,null,null,null,null,null,null,1733,"ODRZYWÓŁ"]
[null,null,null,null,null,null,null,null,null,null,null,null,null,null,null,null,null,null,null,null,null,null,null,null,null,null,1733,"POTWORÓW"]
[null,null,null,null,null,null,null,null,null,null,null,null,null,null,null,null,null,null,null,null,null,null,null,null,null,null,1733,"PRZYSUCHA"]
[null,null,null,null,null,null,null,null,null,null,null,null,null,null,null,null,null,null,null,null,null,null,null,null,null,null,1733,"RUSINÓW"]
[null,null,null,null,null,null,null,null,null,null,null,null,null,null,null,null,null,null,null,null,null,null,null,null,null,null,1733,"WIENIAWA"]
[null,null,null,null,null,null,null,null,null,null,null,null,null,null,null,null,null,null,null,null,null,null,null,null,null,null,1734,"GZY"]
[null,null,null,null,null,null,null,null,null,null,null,null,null,null,null,null,null,null,null,null,null,null,null,null,null,null,1734,"OBRYTE"]
[null,null,null,null,null,null,null,null,null,null,null,null,null,null,null,null,null,null,null,null,null,null,null,null,null,null,1734,"POKRZYWNICA"]
[null,null,null,null,null,null,null,null,null,null,null,null,null,null,null,null,null,null,null,null,null,null,null,null,null,null,1734,"PUŁTUSK"]
[null,null,null,null,null,null,null,null,null,null,null,null,null,null,null,null,null,null,null,null,null,null,null,null,null,null,1734,"ŚWIERCZE"]
[null,null,null,null,null,null,null,null,null,null,null,null,null,null,null,null,null,null,null,null,null,null,null,null,null,null,1734,"WINNICA"]
[null,null,null,null,null,null,null,null,null,null,null,null,null,null,null,null,null,null,null,null,null,null,null,null,null,null,1734,"ZATORY"]
[null,null,null,null,null,null,null,null,null,null,null,null,null,null,null,null,null,null,null,null,null,null,null,null,null,null,1735,"GÓZD"]
[null,null,null,null,null,null,null,null,null,null,null,null,null,null,null,null,null,null,null,null,null,null,null,null,null,null,1735,"IŁŻA"]
[null,null,null,null,null,null,null,null,null,null,null,null,null,null,null,null,null,null,null,null,null,null,null,null,null,null,1735,"JASTRZĘBIA"]
[null,null,null,null,null,null,null,null,null,null,null,null,null,null,null,null,null,null,null,null,null,null,null,null,null,null,1735,"JEDLIŃSK"]
[null,null,null,null,null,null,null,null,null,null,null,null,null,null,null,null,null,null,null,null,null,null,null,null,null,null,1735,"JEDLNIA-LETNISKO"]
[null,null,null,null,null,null,null,null,null,null,null,null,null,null,null,null,null,null,null,null,null,null,null,null,null,null,1735,"KOWALA"]
[null,null,null,null,null,null,null,null,null,null,null,null,null,null,null,null,null,null,null,null,null,null,null,null,null,null,1735,"PIONKI-MIEJSKA"]
[null,null,null,null,null,null,null,null,null,null,null,null,null,null,null,null,null,null,null,null,null,null,null,null,null,null,1735,"PIONKI-WIEJSKA"]
[null,null,null,null,null,null,null,null,null,null,null,null,null,null,null,null,null,null,null,null,null,null,null,null,null,null,1735,"PRZYTYK"]
[null,null,null,null,null,null,null,null,null,null,null,null,null,null,null,null,null,null,null,null,null,null,null,null,null,null,1735,"SKARYSZEW"]
[null,null,null,null,null,null,null,null,null,null,null,null,null,null,null,null,null,null,null,null,null,null,null,null,null,null,1735,"WIERZBICA"]
[null,null,null,null,null,null,null,null,null,null,null,null,null,null,null,null,null,null,null,null,null,null,null,null,null,null,1735,"WOLANÓW"]
[null,null,null,null,null,null,null,null,null,null,null,null,null,null,null,null,null,null,null,null,null,null,null,null,null,null,1735,"ZAKRZEW"]
[null,null,null,null,null,null,null,null,null,null,null,null,null,null,null,null,null,null,null,null,null,null,null,null,null,null,1736,"DOMANICE"]
[null,null,null,null,null,null,null,null,null,null,null,null,null,null,null,null,null,null,null,null,null,null,null,null,null,null,1736,"KORCZEW"]
[null,null,null,null,null,null,null,null,null,null,null,null,null,null,null,null,null,null,null,null,null,null,null,null,null,null,1736,"KOTUŃ"]
[null,null,null,null,null,null,null,null,null,null,null,null,null,null,null,null,null,null,null,null,null,null,null,null,null,null,1736,"MOKOBODY"]
[null,null,null,null,null,null,null,null,null,null,null,null,null,null,null,null,null,null,null,null,null,null,null,null,null,null,1736,"MORDY"]
[null,null,null,null,null,null,null,null,null,null,null,null,null,null,null,null,null,null,null,null,null,null,null,null,null,null,1736,"PAPROTNIA"]
[null,null,null,null,null,null,null,null,null,null,null,null,null,null,null,null,null,null,null,null,null,null,null,null,null,null,1736,"PRZESMYKI"]
[null,null,null,null,null,null,null,null,null,null,null,null,null,null,null,null,null,null,null,null,null,null,null,null,null,null,1736,"SIEDLCE"]
[null,null,null,null,null,null,null,null,null,null,null,null,null,null,null,null,null,null,null,null,null,null,null,null,null,null,1736,"SKÓRZEC"]
[null,null,null,null,null,null,null,null,null,null,null,null,null,null,null,null,null,null,null,null,null,null,null,null,null,null,1736,"SUCHOŻEBRY"]
[null,null,null,null,null,null,null,null,null,null,null,null,null,null,null,null,null,null,null,null,null,null,null,null,null,null,1736,"WIŚNIEW"]
[null,null,null,null,null,null,null,null,null,null,null,null,null,null,null,null,null,null,null,null,null,null,null,null,null,null,1736,"WODYNIE"]
[null,null,null,null,null,null,null,null,null,null,null,null,null,null,null,null,null,null,null,null,null,null,null,null,null,null,1736,"ZBUCZYN"]
[null,null,null,null,null,null,null,null,null,null,null,null,null,null,null,null,null,null,null,null,null,null,null,null,null,null,1737,"GOZDOWO"]
[null,null,null,null,null,null,null,null,null,null,null,null,null,null,null,null,null,null,null,null,null,null,null,null,null,null,1737,"MOCHOWO"]
[null,null,null,null,null,null,null,null,null,null,null,null,null,null,null,null,null,null,null,null,null,null,null,null,null,null,1737,"ROŚCISZEWO"]
[null,null,null,null,null,null,null,null,null,null,null,null,null,null,null,null,null,null,null,null,null,null,null,null,null,null,1737,"SIERPC-MIEJSKA"]
[null,null,null,null,null,null,null,null,null,null,null,null,null,null,null,null,null,null,null,null,null,null,null,null,null,null,1737,"SIERPC-WIEJSKA"]
[null,null,null,null,null,null,null,null,null,null,null,null,null,null,null,null,null,null,null,null,null,null,null,null,null,null,1737,"SZCZUTOWO"]
[null,null,null,null,null,null,null,null,null,null,null,null,null,null,null,null,null,null,null,null,null,null,null,null,null,null,1737,"ZAWIDZ"]
[null,null,null,null,null,null,null,null,null,null,null,null,null,null,null,null,null,null,null,null,null,null,null,null,null,null,1738,"BROCHÓW"]
[null,null,null,null,null,null,null,null,null,null,null,null,null,null,null,null,null,null,null,null,null,null,null,null,null,null,1738,"IŁÓW"]
[null,null,null,null,null,null,null,null,null,null,null,null,null,null,null,null,null,null,null,null,null,null,null,null,null,null,1738,"MŁODZIESZYN"]
[null,null,null,null,null,null,null,null,null,null,null,null,null,null,null,null,null,null,null,null,null,null,null,null,null,null,1738,"NOWA SUCHA"]
[null,null,null,null,null,null,null,null,null,null,null,null,null,null,null,null,null,null,null,null,null,null,null,null,null,null,1738,"RYBNO"]
[null,null,null,null,null,null,null,null,null,null,null,null,null,null,null,null,null,null,null,null,null,null,null,null,null,null,1738,"SOCHACZEW-MIEJSKA"]
[null,null,null,null,null,null,null,null,null,null,null,null,null,null,null,null,null,null,null,null,null,null,null,null,null,null,1738,"SOCHACZEW-WIEJSKA"]
[null,null,null,null,null,null,null,null,null,null,null,null,null,null,null,null,null,null,null,null,null,null,null,null,null,null,1738,"TERESIN"]
[null,null,null,null,null,null,null,null,null,null,null,null,null,null,null,null,null,null,null,null,null,null,null,null,null,null,1739,"BIELANY"]
[null,null,null,null,null,null,null,null,null,null,null,null,null,null,null,null,null,null,null,null,null,null,null,null,null,null,1739,"CERANÓW"]
[null,null,null,null,null,null,null,null,null,null,null,null,null,null,null,null,null,null,null,null,null,null,null,null,null,null,1739,"JABŁONNA LACKA"]
[null,null,null,null,null,null,null,null,null,null,null,null,null,null,null,null,null,null,null,null,null,null,null,null,null,null,1739,"KOSÓW LACKI"]
[null,null,null,null,null,null,null,null,null,null,null,null,null,null,null,null,null,null,null,null,null,null,null,null,null,null,1739,"REPKI"]
[null,null,null,null,null,null,null,null,null,null,null,null,null,null,null,null,null,null,null,null,null,null,null,null,null,null,1739,"SABNIE"]
[null,null,null,null,null,null,null,null,null,null,null,null,null,null,null,null,null,null,null,null,null,null,null,null,null,null,1739,"SOKOŁÓW PODLASKI-MIEJSKA"]
[null,null,null,null,null,null,null,null,null,null,null,null,null,null,null,null,null,null,null,null,null,null,null,null,null,null,1739,"SOKOŁÓW PODLASKI-WIEJSKA"]
[null,null,null,null,null,null,null,null,null,null,null,null,null,null,null,null,null,null,null,null,null,null,null,null,null,null,1739,"STERDYŃ"]
[null,null,null,null,null,null,null,null,null,null,null,null,null,null,null,null,null,null,null,null,null,null,null,null,null,null,1740,"CHLEWISKA"]
[null,null,null,null,null,null,null,null,null,null,null,null,null,null,null,null,null,null,null,null,null,null,null,null,null,null,1740,"JASTRZĄB"]
[null,null,null,null,null,null,null,null,null,null,null,null,null,null,null,null,null,null,null,null,null,null,null,null,null,null,1740,"MIRÓW"]
[null,null,null,null,null,null,null,null,null,null,null,null,null,null,null,null,null,null,null,null,null,null,null,null,null,null,1740,"OROŃSKO"]
[null,null,null,null,null,null,null,null,null,null,null,null,null,null,null,null,null,null,null,null,null,null,null,null,null,null,1740,"SZYDŁOWIEC"]
[null,null,null,null,null,null,null,null,null,null,null,null,null,null,null,null,null,null,null,null,null,null,null,null,null,null,1742,"BŁONIE"]
[null,null,null,null,null,null,null,null,null,null,null,null,null,null,null,null,null,null,null,null,null,null,null,null,null,null,1742,"IZABELIN"]
[null,null,null,null,null,null,null,null,null,null,null,null,null,null,null,null,null,null,null,null,null,null,null,null,null,null,1742,"KAMPINOS"]
[null,null,null,null,null,null,null,null,null,null,null,null,null,null,null,null,null,null,null,null,null,null,null,null,null,null,1742,"LESZNO"]
[null,null,null,null,null,null,null,null,null,null,null,null,null,null,null,null,null,null,null,null,null,null,null,null,null,null,1742,"ŁOMIANKI"]
[null,null,null,null,null,null,null,null,null,null,null,null,null,null,null,null,null,null,null,null,null,null,null,null,null,null,1742,"OŻARÓW MAZOWIECKI"]
[null,null,null,null,null,null,null,null,null,null,null,null,null,null,null,null,null,null,null,null,null,null,null,null,null,null,1742,"STARE BABICE"]
[null,null,null,null,null,null,null,null,null,null,null,null,null,null,null,null,null,null,null,null,null,null,null,null,null,null,1743,"GRĘBKÓW"]
[null,null,null,null,null,null,null,null,null,null,null,null,null,null,null,null,null,null,null,null,null,null,null,null,null,null,1743,"KORYTNICA"]
[null,null,null,null,null,null,null,null,null,null,null,null,null,null,null,null,null,null,null,null,null,null,null,null,null,null,1743,"LIW"]
[null,null,null,null,null,null,null,null,null,null,null,null,null,null,null,null,null,null,null,null,null,null,null,null,null,null,1743,"ŁOCHÓW"]
[null,null,null,null,null,null,null,null,null,null,null,null,null,null,null,null,null,null,null,null,null,null,null,null,null,null,1743,"MIEDZNA"]
[null,null,null,null,null,null,null,null,null,null,null,null,null,null,null,null,null,null,null,null,null,null,null,null,null,null,1743,"SADOWNE"]
[null,null,null,null,null,null,null,null,null,null,null,null,null,null,null,null,null,null,null,null,null,null,null,null,null,null,1743,"STOCZEK"]
[null,null,null,null,null,null,null,null,null,null,null,null,null,null,null,null,null,null,null,null,null,null,null,null,null,null,1743,"WĘGRÓW"]
[null,null,null,null,null,null,null,null,null,null,null,null,null,null,null,null,null,null,null,null,null,null,null,null,null,null,1743,"WIERZBNO"]
[null,null,null,null,null,null,null,null,null,null,null,null,null,null,null,null,null,null,null,null,null,null,null,null,null,null,1744,"DĄBRÓWKA"]
[null,null,null,null,null,null,null,null,null,null,null,null,null,null,null,null,null,null,null,null,null,null,null,null,null,null,1744,"JADÓW"]
[null,null,null,null,null,null,null,null,null,null,null,null,null,null,null,null,null,null,null,null,null,null,null,null,null,null,1744,"KLEMBÓW"]
[null,null,null,null,null,null,null,null,null,null,null,null,null,null,null,null,null,null,null,null,null,null,null,null,null,null,1744,"KOBYŁKA"]
[null,null,null,null,null,null,null,null,null,null,null,null,null,null,null,null,null,null,null,null,null,null,null,null,null,null,1744,"MARKI"]
[null,null,null,null,null,null,null,null,null,null,null,null,null,null,null,null,null,null,null,null,null,null,null,null,null,null,1744,"POŚWIĘTNE"]
[null,null,null,null,null,null,null,null,null,null,null,null,null,null,null,null,null,null,null,null,null,null,null,null,null,null,1744,"RADZYMIN"]
[null,null,null,null,null,null,null,null,null,null,null,null,null,null,null,null,null,null,null,null,null,null,null,null,null,null,1744,"STRACHÓWKA"]
[null,null,null,null,null,null,null,null,null,null,null,null,null,null,null,null,null,null,null,null,null,null,null,null,null,null,1744,"TŁUSZCZ"]
[null,null,null,null,null,null,null,null,null,null,null,null,null,null,null,null,null,null,null,null,null,null,null,null,null,null,1744,"WOŁOMIN"]
[null,null,null,null,null,null,null,null,null,null,null,null,null,null,null,null,null,null,null,null,null,null,null,null,null,null,1744,"ZĄBKI"]
[null,null,null,null,null,null,null,null,null,null,null,null,null,null,null,null,null,null,null,null,null,null,null,null,null,null,1744,"ZIELONKA"]
[null,null,null,null,null,null,null,null,null,null,null,null,null,null,null,null,null,null,null,null,null,null,null,null,null,null,1745,"BRAŃSZCZYK"]
[null,null,null,null,null,null,null,null,null,null,null,null,null,null,null,null,null,null,null,null,null,null,null,null,null,null,1745,"DŁUGOSIODŁO"]
[null,null,null,null,null,null,null,null,null,null,null,null,null,null,null,null,null,null,null,null,null,null,null,null,null,null,1745,"RZĄŚNIK"]
[null,null,null,null,null,null,null,null,null,null,null,null,null,null,null,null,null,null,null,null,null,null,null,null,null,null,1745,"SOMIANKA"]
[null,null,null,null,null,null,null,null,null,null,null,null,null,null,null,null,null,null,null,null,null,null,null,null,null,null,1745,"WYSZKÓW"]
[null,null,null,null,null,null,null,null,null,null,null,null,null,null,null,null,null,null,null,null,null,null,null,null,null,null,1745,"ZABRODZIE"]
[null,null,null,null,null,null,null,null,null,null,null,null,null,null,null,null,null,null,null,null,null,null,null,null,null,null,1746,"KAZANÓW"]
[null,null,null,null,null,null,null,null,null,null,null,null,null,null,null,null,null,null,null,null,null,null,null,null,null,null,1746,"POLICZNA"]
[null,null,null,null,null,null,null,null,null,null,null,null,null,null,null,null,null,null,null,null,null,null,null,null,null,null,1746,"PRZYŁĘK"]
[null,null,null,null,null,null,null,null,null,null,null,null,null,null,null,null,null,null,null,null,null,null,null,null,null,null,1746,"TCZÓW"]
[null,null,null,null,null,null,null,null,null,null,null,null,null,null,null,null,null,null,null,null,null,null,null,null,null,null,1746,"ZWOLEŃ"]
[null,null,null,null,null,null,null,null,null,null,null,null,null,null,null,null,null,null,null,null,null,null,null,null,null,null,1747,"BIEŻUŃ"]
[null,null,null,null,null,null,null,null,null,null,null,null,null,null,null,null,null,null,null,null,null,null,null,null,null,null,1747,"KUCZBORK-OSADA"]
[null,null,null,null,null,null,null,null,null,null,null,null,null,null,null,null,null,null,null,null,null,null,null,null,null,null,1747,"LUBOWIDZ"]
[null,null,null,null,null,null,null,null,null,null,null,null,null,null,null,null,null,null,null,null,null,null,null,null,null,null,1747,"LUTOCIN"]
[null,null,null,null,null,null,null,null,null,null,null,null,null,null,null,null,null,null,null,null,null,null,null,null,null,null,1747,"SIEMIĄTKOWO"]
[null,null,null,null,null,null,null,null,null,null,null,null,null,null,null,null,null,null,null,null,null,null,null,null,null,null,1747,"ŻUROMIN"]
[null,null,null,null,null,null,null,null,null,null,null,null,null,null,null,null,null,null,null,null,null,null,null,null,null,null,1748,"MSZCZONÓW"]
[null,null,null,null,null,null,null,null,null,null,null,null,null,null,null,null,null,null,null,null,null,null,null,null,null,null,1748,"PUSZCZA MARIAŃSKA"]
[null,null,null,null,null,null,null,null,null,null,null,null,null,null,null,null,null,null,null,null,null,null,null,null,null,null,1748,"RADZIEJOWICE"]
[null,null,null,null,null,null,null,null,null,null,null,null,null,null,null,null,null,null,null,null,null,null,null,null,null,null,1748,"WISKITKI"]
[null,null,null,null,null,null,null,null,null,null,null,null,null,null,null,null,null,null,null,null,null,null,null,null,null,null,1748,"ŻYRARDÓW"]
[null,null,null,null,null,null,null,null,null,null,null,null,null,null,null,null,null,null,null,null,null,null,null,null,null,null,1749,"M.OSTROŁĘKA"]
[null,null,null,null,null,null,null,null,null,null,null,null,null,null,null,null,null,null,null,null,null,null,null,null,null,null,1750,"M.PŁOCK"]
[null,null,null,null,null,null,null,null,null,null,null,null,null,null,null,null,null,null,null,null,null,null,null,null,null,null,1751,"M.RADOM"]
[null,null,null,null,null,null,null,null,null,null,null,null,null,null,null,null,null,null,null,null,null,null,null,null,null,null,1752,"M.SIEDLCE"]
[null,null,null,null,null,null,null,null,null,null,null,null,null,null,null,null,null,null,null,null,null,null,null,null,null,null,1753,"M.ST.WARSZAWA"]
[null,null,null,null,null,null,null,null,null,null,null,null,null,null,null,null,null,null,null,null,null,null,null,null,null,null,1811,"BRZEG"]
[null,null,null,null,null,null,null,null,null,null,null,null,null,null,null,null,null,null,null,null,null,null,null,null,null,null,1811,"GRODKÓW"]
[null,null,null,null,null,null,null,null,null,null,null,null,null,null,null,null,null,null,null,null,null,null,null,null,null,null,1811,"LEWIN BRZESKI"]
[null,null,null,null,null,null,null,null,null,null,null,null,null,null,null,null,null,null,null,null,null,null,null,null,null,null,1811,"LUBSZA"]
[null,null,null,null,null,null,null,null,null,null,null,null,null,null,null,null,null,null,null,null,null,null,null,null,null,null,1811,"OLSZANKA"]
[null,null,null,null,null,null,null,null,null,null,null,null,null,null,null,null,null,null,null,null,null,null,null,null,null,null,1811,"SKARBIMIERZ"]
[null,null,null,null,null,null,null,null,null,null,null,null,null,null,null,null,null,null,null,null,null,null,null,null,null,null,1812,"BABORÓW"]
[null,null,null,null,null,null,null,null,null,null,null,null,null,null,null,null,null,null,null,null,null,null,null,null,null,null,1812,"BRANICE"]
[null,null,null,null,null,null,null,null,null,null,null,null,null,null,null,null,null,null,null,null,null,null,null,null,null,null,1812,"GŁUBCZYCE"]
[null,null,null,null,null,null,null,null,null,null,null,null,null,null,null,null,null,null,null,null,null,null,null,null,null,null,1812,"KIETRZ"]
[null,null,null,null,null,null,null,null,null,null,null,null,null,null,null,null,null,null,null,null,null,null,null,null,null,null,1813,"BIERAWA"]
[null,null,null,null,null,null,null,null,null,null,null,null,null,null,null,null,null,null,null,null,null,null,null,null,null,null,1813,"CISEK"]
[null,null,null,null,null,null,null,null,null,null,null,null,null,null,null,null,null,null,null,null,null,null,null,null,null,null,1813,"KĘDZIERZYN-KOŹLE"]
[null,null,null,null,null,null,null,null,null,null,null,null,null,null,null,null,null,null,null,null,null,null,null,null,null,null,1813,"PAWŁOWICZKI"]
[null,null,null,null,null,null,null,null,null,null,null,null,null,null,null,null,null,null,null,null,null,null,null,null,null,null,1813,"POLSKA CEREKIEW"]
[null,null,null,null,null,null,null,null,null,null,null,null,null,null,null,null,null,null,null,null,null,null,null,null,null,null,1813,"REŃSKA WIEŚ"]
[null,null,null,null,null,null,null,null,null,null,null,null,null,null,null,null,null,null,null,null,null,null,null,null,null,null,1814,"BYCZYNA"]
[null,null,null,null,null,null,null,null,null,null,null,null,null,null,null,null,null,null,null,null,null,null,null,null,null,null,1814,"KLUCZBORK"]
[null,null,null,null,null,null,null,null,null,null,null,null,null,null,null,null,null,null,null,null,null,null,null,null,null,null,1814,"LASOWICE WIELKIE"]
[null,null,null,null,null,null,null,null,null,null,null,null,null,null,null,null,null,null,null,null,null,null,null,null,null,null,1814,"WOŁCZYN"]
[null,null,null,null,null,null,null,null,null,null,null,null,null,null,null,null,null,null,null,null,null,null,null,null,null,null,1815,"GOGOLIN"]
[null,null,null,null,null,null,null,null,null,null,null,null,null,null,null,null,null,null,null,null,null,null,null,null,null,null,1815,"KRAPKOWICE"]
[null,null,null,null,null,null,null,null,null,null,null,null,null,null,null,null,null,null,null,null,null,null,null,null,null,null,1815,"STRZELECZKI"]
[null,null,null,null,null,null,null,null,null,null,null,null,null,null,null,null,null,null,null,null,null,null,null,null,null,null,1815,"WALCE"]
[null,null,null,null,null,null,null,null,null,null,null,null,null,null,null,null,null,null,null,null,null,null,null,null,null,null,1815,"ZDZIESZOWICE"]
[null,null,null,null,null,null,null,null,null,null,null,null,null,null,null,null,null,null,null,null,null,null,null,null,null,null,1816,"DOMASZOWICE"]
[null,null,null,null,null,null,null,null,null,null,null,null,null,null,null,null,null,null,null,null,null,null,null,null,null,null,1816,"NAMYSŁÓW"]
[null,null,null,null,null,null,null,null,null,null,null,null,null,null,null,null,null,null,null,null,null,null,null,null,null,null,1816,"POKÓJ"]
[null,null,null,null,null,null,null,null,null,null,null,null,null,null,null,null,null,null,null,null,null,null,null,null,null,null,1816,"ŚWIERCZÓW"]
[null,null,null,null,null,null,null,null,null,null,null,null,null,null,null,null,null,null,null,null,null,null,null,null,null,null,1816,"WILKÓW"]
[null,null,null,null,null,null,null,null,null,null,null,null,null,null,null,null,null,null,null,null,null,null,null,null,null,null,1817,"GŁUCHOŁAZY"]
[null,null,null,null,null,null,null,null,null,null,null,null,null,null,null,null,null,null,null,null,null,null,null,null,null,null,1817,"KAMIENNIK"]
[null,null,null,null,null,null,null,null,null,null,null,null,null,null,null,null,null,null,null,null,null,null,null,null,null,null,1817,"KORFANTÓW"]
[null,null,null,null,null,null,null,null,null,null,null,null,null,null,null,null,null,null,null,null,null,null,null,null,null,null,1817,"ŁAMBINOWICE"]
[null,null,null,null,null,null,null,null,null,null,null,null,null,null,null,null,null,null,null,null,null,null,null,null,null,null,1817,"NYSA"]
[null,null,null,null,null,null,null,null,null,null,null,null,null,null,null,null,null,null,null,null,null,null,null,null,null,null,1817,"OTMUCHÓW"]
[null,null,null,null,null,null,null,null,null,null,null,null,null,null,null,null,null,null,null,null,null,null,null,null,null,null,1817,"PACZKÓW"]
[null,null,null,null,null,null,null,null,null,null,null,null,null,null,null,null,null,null,null,null,null,null,null,null,null,null,1817,"PAKOSŁAWICE"]
[null,null,null,null,null,null,null,null,null,null,null,null,null,null,null,null,null,null,null,null,null,null,null,null,null,null,1817,"SKOROSZYCE"]
[null,null,null,null,null,null,null,null,null,null,null,null,null,null,null,null,null,null,null,null,null,null,null,null,null,null,1818,"DOBRODZIEŃ"]
[null,null,null,null,null,null,null,null,null,null,null,null,null,null,null,null,null,null,null,null,null,null,null,null,null,null,1818,"GORZÓW ŚLĄSKI"]
[null,null,null,null,null,null,null,null,null,null,null,null,null,null,null,null,null,null,null,null,null,null,null,null,null,null,1818,"OLESNO"]
[null,null,null,null,null,null,null,null,null,null,null,null,null,null,null,null,null,null,null,null,null,null,null,null,null,null,1818,"PRASZKA"]
[null,null,null,null,null,null,null,null,null,null,null,null,null,null,null,null,null,null,null,null,null,null,null,null,null,null,1818,"RADŁÓW"]
[null,null,null,null,null,null,null,null,null,null,null,null,null,null,null,null,null,null,null,null,null,null,null,null,null,null,1818,"RUDNIKI"]
[null,null,null,null,null,null,null,null,null,null,null,null,null,null,null,null,null,null,null,null,null,null,null,null,null,null,1818,"ZĘBOWICE"]
[null,null,null,null,null,null,null,null,null,null,null,null,null,null,null,null,null,null,null,null,null,null,null,null,null,null,1819,"CHRZĄSTOWICE"]
[null,null,null,null,null,null,null,null,null,null,null,null,null,null,null,null,null,null,null,null,null,null,null,null,null,null,1819,"DĄBROWA"]
[null,null,null,null,null,null,null,null,null,null,null,null,null,null,null,null,null,null,null,null,null,null,null,null,null,null,1819,"DOBRZEŃ WIELKI"]
[null,null,null,null,null,null,null,null,null,null,null,null,null,null,null,null,null,null,null,null,null,null,null,null,null,null,1819,"KOMPRACHCICE"]
[null,null,null,null,null,null,null,null,null,null,null,null,null,null,null,null,null,null,null,null,null,null,null,null,null,null,1819,"ŁUBNIANY"]
[null,null,null,null,null,null,null,null,null,null,null,null,null,null,null,null,null,null,null,null,null,null,null,null,null,null,1819,"MURÓW"]
[null,null,null,null,null,null,null,null,null,null,null,null,null,null,null,null,null,null,null,null,null,null,null,null,null,null,1819,"NIEMODLIN"]
[null,null,null,null,null,null,null,null,null,null,null,null,null,null,null,null,null,null,null,null,null,null,null,null,null,null,1819,"OZIMEK"]
[null,null,null,null,null,null,null,null,null,null,null,null,null,null,null,null,null,null,null,null,null,null,null,null,null,null,1819,"POPIELÓW"]
[null,null,null,null,null,null,null,null,null,null,null,null,null,null,null,null,null,null,null,null,null,null,null,null,null,null,1819,"PRÓSZKÓW"]
[null,null,null,null,null,null,null,null,null,null,null,null,null,null,null,null,null,null,null,null,null,null,null,null,null,null,1819,"TARNÓW OPOLSKI"]
[null,null,null,null,null,null,null,null,null,null,null,null,null,null,null,null,null,null,null,null,null,null,null,null,null,null,1819,"TUŁOWICE"]
[null,null,null,null,null,null,null,null,null,null,null,null,null,null,null,null,null,null,null,null,null,null,null,null,null,null,1819,"TURAWA"]
[null,null,null,null,null,null,null,null,null,null,null,null,null,null,null,null,null,null,null,null,null,null,null,null,null,null,1820,"BIAŁA"]
[null,null,null,null,null,null,null,null,null,null,null,null,null,null,null,null,null,null,null,null,null,null,null,null,null,null,1820,"GŁOGÓWEK"]
[null,null,null,null,null,null,null,null,null,null,null,null,null,null,null,null,null,null,null,null,null,null,null,null,null,null,1820,"LUBRZA"]
[null,null,null,null,null,null,null,null,null,null,null,null,null,null,null,null,null,null,null,null,null,null,null,null,null,null,1820,"PRUDNIK"]
[null,null,null,null,null,null,null,null,null,null,null,null,null,null,null,null,null,null,null,null,null,null,null,null,null,null,1821,"IZBICKO"]
[null,null,null,null,null,null,null,null,null,null,null,null,null,null,null,null,null,null,null,null,null,null,null,null,null,null,1821,"JEMIELNICA"]
[null,null,null,null,null,null,null,null,null,null,null,null,null,null,null,null,null,null,null,null,null,null,null,null,null,null,1821,"KOLONOWSKIE"]
[null,null,null,null,null,null,null,null,null,null,null,null,null,null,null,null,null,null,null,null,null,null,null,null,null,null,1821,"LEŚNICA"]
[null,null,null,null,null,null,null,null,null,null,null,null,null,null,null,null,null,null,null,null,null,null,null,null,null,null,1821,"STRZELCE OPOLSKIE"]
[null,null,null,null,null,null,null,null,null,null,null,null,null,null,null,null,null,null,null,null,null,null,null,null,null,null,1821,"UJAZD"]
[null,null,null,null,null,null,null,null,null,null,null,null,null,null,null,null,null,null,null,null,null,null,null,null,null,null,1821,"ZAWADZKIE"]
[null,null,null,null,null,null,null,null,null,null,null,null,null,null,null,null,null,null,null,null,null,null,null,null,null,null,1822,"M.OPOLE"]
[null,null,null,null,null,null,null,null,null,null,null,null,null,null,null,null,null,null,null,null,null,null,null,null,null,null,1911,"CZARNA"]
[null,null,null,null,null,null,null,null,null,null,null,null,null,null,null,null,null,null,null,null,null,null,null,null,null,null,1911,"LUTOWISKA"]
[null,null,null,null,null,null,null,null,null,null,null,null,null,null,null,null,null,null,null,null,null,null,null,null,null,null,1911,"USTRZYKI DOLNE"]
[null,null,null,null,null,null,null,null,null,null,null,null,null,null,null,null,null,null,null,null,null,null,null,null,null,null,1912,"BRZOZÓW"]
[null,null,null,null,null,null,null,null,null,null,null,null,null,null,null,null,null,null,null,null,null,null,null,null,null,null,1912,"DOMARADZ"]
[null,null,null,null,null,null,null,null,null,null,null,null,null,null,null,null,null,null,null,null,null,null,null,null,null,null,1912,"DYDNIA"]
[null,null,null,null,null,null,null,null,null,null,null,null,null,null,null,null,null,null,null,null,null,null,null,null,null,null,1912,"HACZÓW"]
[null,null,null,null,null,null,null,null,null,null,null,null,null,null,null,null,null,null,null,null,null,null,null,null,null,null,1912,"JASIENICA ROSIELNA"]
[null,null,null,null,null,null,null,null,null,null,null,null,null,null,null,null,null,null,null,null,null,null,null,null,null,null,1912,"NOZDRZEC"]
[null,null,null,null,null,null,null,null,null,null,null,null,null,null,null,null,null,null,null,null,null,null,null,null,null,null,1913,"BRZOSTEK"]
[null,null,null,null,null,null,null,null,null,null,null,null,null,null,null,null,null,null,null,null,null,null,null,null,null,null,1913,"CZARNA"]
[null,null,null,null,null,null,null,null,null,null,null,null,null,null,null,null,null,null,null,null,null,null,null,null,null,null,1913,"DĘBICA-MIEJSKA"]
[null,null,null,null,null,null,null,null,null,null,null,null,null,null,null,null,null,null,null,null,null,null,null,null,null,null,1913,"DĘBICA-WIEJSKA"]
[null,null,null,null,null,null,null,null,null,null,null,null,null,null,null,null,null,null,null,null,null,null,null,null,null,null,1913,"JODŁOWA"]
[null,null,null,null,null,null,null,null,null,null,null,null,null,null,null,null,null,null,null,null,null,null,null,null,null,null,1913,"PILZNO"]
[null,null,null,null,null,null,null,null,null,null,null,null,null,null,null,null,null,null,null,null,null,null,null,null,null,null,1913,"ŻYRAKÓW"]
[null,null,null,null,null,null,null,null,null,null,null,null,null,null,null,null,null,null,null,null,null,null,null,null,null,null,1914,"CHŁOPICE"]
[null,null,null,null,null,null,null,null,null,null,null,null,null,null,null,null,null,null,null,null,null,null,null,null,null,null,1914,"JAROSŁAW-MIEJSKA"]
[null,null,null,null,null,null,null,null,null,null,null,null,null,null,null,null,null,null,null,null,null,null,null,null,null,null,1914,"JAROSŁAW-WIEJSKA"]
[null,null,null,null,null,null,null,null,null,null,null,null,null,null,null,null,null,null,null,null,null,null,null,null,null,null,1914,"LASZKI"]
[null,null,null,null,null,null,null,null,null,null,null,null,null,null,null,null,null,null,null,null,null,null,null,null,null,null,1914,"PAWŁOSIÓW"]
[null,null,null,null,null,null,null,null,null,null,null,null,null,null,null,null,null,null,null,null,null,null,null,null,null,null,1914,"PRUCHNIK"]
[null,null,null,null,null,null,null,null,null,null,null,null,null,null,null,null,null,null,null,null,null,null,null,null,null,null,1914,"RADYMNO-MIEJSKA"]
[null,null,null,null,null,null,null,null,null,null,null,null,null,null,null,null,null,null,null,null,null,null,null,null,null,null,1914,"RADYMNO-WIEJSKA"]
[null,null,null,null,null,null,null,null,null,null,null,null,null,null,null,null,null,null,null,null,null,null,null,null,null,null,1914,"ROKIETNICA"]
[null,null,null,null,null,null,null,null,null,null,null,null,null,null,null,null,null,null,null,null,null,null,null,null,null,null,1914,"ROŹWIENICA"]
[null,null,null,null,null,null,null,null,null,null,null,null,null,null,null,null,null,null,null,null,null,null,null,null,null,null,1914,"WIĄZOWNICA"]
[null,null,null,null,null,null,null,null,null,null,null,null,null,null,null,null,null,null,null,null,null,null,null,null,null,null,1915,"BRZYSKA"]
[null,null,null,null,null,null,null,null,null,null,null,null,null,null,null,null,null,null,null,null,null,null,null,null,null,null,1915,"DĘBOWIEC"]
[null,null,null,null,null,null,null,null,null,null,null,null,null,null,null,null,null,null,null,null,null,null,null,null,null,null,1915,"JASŁO-MIEJSKA"]
[null,null,null,null,null,null,null,null,null,null,null,null,null,null,null,null,null,null,null,null,null,null,null,null,null,null,1915,"JASŁO-WIEJSKA"]
[null,null,null,null,null,null,null,null,null,null,null,null,null,null,null,null,null,null,null,null,null,null,null,null,null,null,1915,"KOŁACZYCE"]
[null,null,null,null,null,null,null,null,null,null,null,null,null,null,null,null,null,null,null,null,null,null,null,null,null,null,1915,"KREMPNA"]
[null,null,null,null,null,null,null,null,null,null,null,null,null,null,null,null,null,null,null,null,null,null,null,null,null,null,1915,"NOWY ŻMIGRÓD"]
[null,null,null,null,null,null,null,null,null,null,null,null,null,null,null,null,null,null,null,null,null,null,null,null,null,null,1915,"OSIEK JASIELSKI"]
[null,null,null,null,null,null,null,null,null,null,null,null,null,null,null,null,null,null,null,null,null,null,null,null,null,null,1915,"SKOŁYSZYN"]
[null,null,null,null,null,null,null,null,null,null,null,null,null,null,null,null,null,null,null,null,null,null,null,null,null,null,1915,"TARNOWIEC"]
[null,null,null,null,null,null,null,null,null,null,null,null,null,null,null,null,null,null,null,null,null,null,null,null,null,null,1916,"CMOLAS"]
[null,null,null,null,null,null,null,null,null,null,null,null,null,null,null,null,null,null,null,null,null,null,null,null,null,null,1916,"DZIKOWIEC"]
[null,null,null,null,null,null,null,null,null,null,null,null,null,null,null,null,null,null,null,null,null,null,null,null,null,null,1916,"KOLBUSZOWA"]
[null,null,null,null,null,null,null,null,null,null,null,null,null,null,null,null,null,null,null,null,null,null,null,null,null,null,1916,"MAJDAN KRÓLEWSKI"]
[null,null,null,null,null,null,null,null,null,null,null,null,null,null,null,null,null,null,null,null,null,null,null,null,null,null,1916,"NIWISKA"]
[null,null,null,null,null,null,null,null,null,null,null,null,null,null,null,null,null,null,null,null,null,null,null,null,null,null,1916,"RANIŻÓW"]
[null,null,null,null,null,null,null,null,null,null,null,null,null,null,null,null,null,null,null,null,null,null,null,null,null,null,1917,"CHORKÓWKA"]
[null,null,null,null,null,null,null,null,null,null,null,null,null,null,null,null,null,null,null,null,null,null,null,null,null,null,1917,"DUKLA"]
[null,null,null,null,null,null,null,null,null,null,null,null,null,null,null,null,null,null,null,null,null,null,null,null,null,null,1917,"IWONICZ-ZDRÓJ"]
[null,null,null,null,null,null,null,null,null,null,null,null,null,null,null,null,null,null,null,null,null,null,null,null,null,null,1917,"JAŚLISKA"]
[null,null,null,null,null,null,null,null,null,null,null,null,null,null,null,null,null,null,null,null,null,null,null,null,null,null,1917,"JEDLICZE"]
[null,null,null,null,null,null,null,null,null,null,null,null,null,null,null,null,null,null,null,null,null,null,null,null,null,null,1917,"KORCZYNA"]
[null,null,null,null,null,null,null,null,null,null,null,null,null,null,null,null,null,null,null,null,null,null,null,null,null,null,1917,"KROŚCIENKO WYŻNE"]
[null,null,null,null,null,null,null,null,null,null,null,null,null,null,null,null,null,null,null,null,null,null,null,null,null,null,1917,"MIEJSCE PIASTOWE"]
[null,null,null,null,null,null,null,null,null,null,null,null,null,null,null,null,null,null,null,null,null,null,null,null,null,null,1917,"RYMANÓW"]
[null,null,null,null,null,null,null,null,null,null,null,null,null,null,null,null,null,null,null,null,null,null,null,null,null,null,1917,"WOJASZÓWKA"]
[null,null,null,null,null,null,null,null,null,null,null,null,null,null,null,null,null,null,null,null,null,null,null,null,null,null,1918,"GRODZISKO DOLNE"]
[null,null,null,null,null,null,null,null,null,null,null,null,null,null,null,null,null,null,null,null,null,null,null,null,null,null,1918,"KURYŁÓWKA"]
[null,null,null,null,null,null,null,null,null,null,null,null,null,null,null,null,null,null,null,null,null,null,null,null,null,null,1918,"LEŻAJSK-MIEJSKA"]
[null,null,null,null,null,null,null,null,null,null,null,null,null,null,null,null,null,null,null,null,null,null,null,null,null,null,1918,"LEŻAJSK-WIEJSKA"]
[null,null,null,null,null,null,null,null,null,null,null,null,null,null,null,null,null,null,null,null,null,null,null,null,null,null,1918,"NOWA SARZYNA"]
[null,null,null,null,null,null,null,null,null,null,null,null,null,null,null,null,null,null,null,null,null,null,null,null,null,null,1919,"CIESZANÓW"]
[null,null,null,null,null,null,null,null,null,null,null,null,null,null,null,null,null,null,null,null,null,null,null,null,null,null,1919,"HORYNIEC-ZDRÓJ"]
[null,null,null,null,null,null,null,null,null,null,null,null,null,null,null,null,null,null,null,null,null,null,null,null,null,null,1919,"LUBACZÓW-MIEJSKA"]
[null,null,null,null,null,null,null,null,null,null,null,null,null,null,null,null,null,null,null,null,null,null,null,null,null,null,1919,"LUBACZÓW-WIEJSKA"]
[null,null,null,null,null,null,null,null,null,null,null,null,null,null,null,null,null,null,null,null,null,null,null,null,null,null,1919,"NAROL"]
[null,null,null,null,null,null,null,null,null,null,null,null,null,null,null,null,null,null,null,null,null,null,null,null,null,null,1919,"OLESZYCE"]
[null,null,null,null,null,null,null,null,null,null,null,null,null,null,null,null,null,null,null,null,null,null,null,null,null,null,1919,"STARY DZIKÓW"]
[null,null,null,null,null,null,null,null,null,null,null,null,null,null,null,null,null,null,null,null,null,null,null,null,null,null,1919,"WIELKIE OCZY"]
[null,null,null,null,null,null,null,null,null,null,null,null,null,null,null,null,null,null,null,null,null,null,null,null,null,null,1920,"BIAŁOBRZEGI"]
[null,null,null,null,null,null,null,null,null,null,null,null,null,null,null,null,null,null,null,null,null,null,null,null,null,null,1920,"CZARNA"]
[null,null,null,null,null,null,null,null,null,null,null,null,null,null,null,null,null,null,null,null,null,null,null,null,null,null,1920,"ŁAŃCUT-MIEJSKA"]
[null,null,null,null,null,null,null,null,null,null,null,null,null,null,null,null,null,null,null,null,null,null,null,null,null,null,1920,"ŁAŃCUT-WIEJSKA"]
[null,null,null,null,null,null,null,null,null,null,null,null,null,null,null,null,null,null,null,null,null,null,null,null,null,null,1920,"MARKOWA"]
[null,null,null,null,null,null,null,null,null,null,null,null,null,null,null,null,null,null,null,null,null,null,null,null,null,null,1920,"RAKSZAWA"]
[null,null,null,null,null,null,null,null,null,null,null,null,null,null,null,null,null,null,null,null,null,null,null,null,null,null,1920,"ŻOŁYNIA"]
[null,null,null,null,null,null,null,null,null,null,null,null,null,null,null,null,null,null,null,null,null,null,null,null,null,null,1921,"BOROWA"]
[null,null,null,null,null,null,null,null,null,null,null,null,null,null,null,null,null,null,null,null,null,null,null,null,null,null,1921,"CZERMIN"]
[null,null,null,null,null,null,null,null,null,null,null,null,null,null,null,null,null,null,null,null,null,null,null,null,null,null,1921,"GAWŁUSZOWICE"]
[null,null,null,null,null,null,null,null,null,null,null,null,null,null,null,null,null,null,null,null,null,null,null,null,null,null,1921,"MIELEC-MIEJSKA"]
[null,null,null,null,null,null,null,null,null,null,null,null,null,null,null,null,null,null,null,null,null,null,null,null,null,null,1921,"MIELEC-WIEJSKA"]
[null,null,null,null,null,null,null,null,null,null,null,null,null,null,null,null,null,null,null,null,null,null,null,null,null,null,1921,"PADEW NARODOWA"]
[null,null,null,null,null,null,null,null,null,null,null,null,null,null,null,null,null,null,null,null,null,null,null,null,null,null,1921,"PRZECŁAW"]
[null,null,null,null,null,null,null,null,null,null,null,null,null,null,null,null,null,null,null,null,null,null,null,null,null,null,1921,"RADOMYŚL WIELKI"]
[null,null,null,null,null,null,null,null,null,null,null,null,null,null,null,null,null,null,null,null,null,null,null,null,null,null,1921,"TUSZÓW NARODOWY"]
[null,null,null,null,null,null,null,null,null,null,null,null,null,null,null,null,null,null,null,null,null,null,null,null,null,null,1921,"WADOWICE GÓRNE"]
[null,null,null,null,null,null,null,null,null,null,null,null,null,null,null,null,null,null,null,null,null,null,null,null,null,null,1922,"HARASIUKI"]
[null,null,null,null,null,null,null,null,null,null,null,null,null,null,null,null,null,null,null,null,null,null,null,null,null,null,1922,"JAROCIN"]
[null,null,null,null,null,null,null,null,null,null,null,null,null,null,null,null,null,null,null,null,null,null,null,null,null,null,1922,"JEŻOWE"]
[null,null,null,null,null,null,null,null,null,null,null,null,null,null,null,null,null,null,null,null,null,null,null,null,null,null,1922,"KRZESZÓW"]
[null,null,null,null,null,null,null,null,null,null,null,null,null,null,null,null,null,null,null,null,null,null,null,null,null,null,1922,"NISKO"]
[null,null,null,null,null,null,null,null,null,null,null,null,null,null,null,null,null,null,null,null,null,null,null,null,null,null,1922,"RUDNIK NAD SANEM"]
[null,null,null,null,null,null,null,null,null,null,null,null,null,null,null,null,null,null,null,null,null,null,null,null,null,null,1922,"ULANÓW"]
[null,null,null,null,null,null,null,null,null,null,null,null,null,null,null,null,null,null,null,null,null,null,null,null,null,null,1923,"BIRCZA"]
[null,null,null,null,null,null,null,null,null,null,null,null,null,null,null,null,null,null,null,null,null,null,null,null,null,null,1923,"DUBIECKO"]
[null,null,null,null,null,null,null,null,null,null,null,null,null,null,null,null,null,null,null,null,null,null,null,null,null,null,1923,"FREDROPOL"]
[null,null,null,null,null,null,null,null,null,null,null,null,null,null,null,null,null,null,null,null,null,null,null,null,null,null,1923,"KRASICZYN"]
[null,null,null,null,null,null,null,null,null,null,null,null,null,null,null,null,null,null,null,null,null,null,null,null,null,null,1923,"KRZYWCZA"]
[null,null,null,null,null,null,null,null,null,null,null,null,null,null,null,null,null,null,null,null,null,null,null,null,null,null,1923,"MEDYKA"]
[null,null,null,null,null,null,null,null,null,null,null,null,null,null,null,null,null,null,null,null,null,null,null,null,null,null,1923,"ORŁY"]
[null,null,null,null,null,null,null,null,null,null,null,null,null,null,null,null,null,null,null,null,null,null,null,null,null,null,1923,"PRZEMYŚL"]
[null,null,null,null,null,null,null,null,null,null,null,null,null,null,null,null,null,null,null,null,null,null,null,null,null,null,1923,"STUBNO"]
[null,null,null,null,null,null,null,null,null,null,null,null,null,null,null,null,null,null,null,null,null,null,null,null,null,null,1923,"ŻURAWICA"]
[null,null,null,null,null,null,null,null,null,null,null,null,null,null,null,null,null,null,null,null,null,null,null,null,null,null,1924,"ADAMÓWKA"]
[null,null,null,null,null,null,null,null,null,null,null,null,null,null,null,null,null,null,null,null,null,null,null,null,null,null,1924,"GAĆ"]
[null,null,null,null,null,null,null,null,null,null,null,null,null,null,null,null,null,null,null,null,null,null,null,null,null,null,1924,"JAWORNIK POLSKI"]
[null,null,null,null,null,null,null,null,null,null,null,null,null,null,null,null,null,null,null,null,null,null,null,null,null,null,1924,"KAŃCZUGA"]
[null,null,null,null,null,null,null,null,null,null,null,null,null,null,null,null,null,null,null,null,null,null,null,null,null,null,1924,"PRZEWORSK-MIEJSKA"]
[null,null,null,null,null,null,null,null,null,null,null,null,null,null,null,null,null,null,null,null,null,null,null,null,null,null,1924,"PRZEWORSK-WIEJSKA"]
[null,null,null,null,null,null,null,null,null,null,null,null,null,null,null,null,null,null,null,null,null,null,null,null,null,null,1924,"SIENIAWA"]
[null,null,null,null,null,null,null,null,null,null,null,null,null,null,null,null,null,null,null,null,null,null,null,null,null,null,1924,"TRYŃCZA"]
[null,null,null,null,null,null,null,null,null,null,null,null,null,null,null,null,null,null,null,null,null,null,null,null,null,null,1924,"ZARZECZE"]
[null,null,null,null,null,null,null,null,null,null,null,null,null,null,null,null,null,null,null,null,null,null,null,null,null,null,1925,"IWIERZYCE"]
[null,null,null,null,null,null,null,null,null,null,null,null,null,null,null,null,null,null,null,null,null,null,null,null,null,null,1925,"OSTRÓW"]
[null,null,null,null,null,null,null,null,null,null,null,null,null,null,null,null,null,null,null,null,null,null,null,null,null,null,1925,"ROPCZYCE"]
[null,null,null,null,null,null,null,null,null,null,null,null,null,null,null,null,null,null,null,null,null,null,null,null,null,null,1925,"SĘDZISZÓW MAŁOPOLSKI"]
[null,null,null,null,null,null,null,null,null,null,null,null,null,null,null,null,null,null,null,null,null,null,null,null,null,null,1925,"WIELOPOLE SKRZYŃSKIE"]
[null,null,null,null,null,null,null,null,null,null,null,null,null,null,null,null,null,null,null,null,null,null,null,null,null,null,1926,"BŁAŻOWA"]
[null,null,null,null,null,null,null,null,null,null,null,null,null,null,null,null,null,null,null,null,null,null,null,null,null,null,1926,"BOGUCHWAŁA"]
[null,null,null,null,null,null,null,null,null,null,null,null,null,null,null,null,null,null,null,null,null,null,null,null,null,null,1926,"CHMIELNIK"]
[null,null,null,null,null,null,null,null,null,null,null,null,null,null,null,null,null,null,null,null,null,null,null,null,null,null,1926,"DYNÓW-MIEJSKA"]
[null,null,null,null,null,null,null,null,null,null,null,null,null,null,null,null,null,null,null,null,null,null,null,null,null,null,1926,"DYNÓW-WIEJSKA"]
[null,null,null,null,null,null,null,null,null,null,null,null,null,null,null,null,null,null,null,null,null,null,null,null,null,null,1926,"GŁOGÓW MAŁOPOLSKI"]
[null,null,null,null,null,null,null,null,null,null,null,null,null,null,null,null,null,null,null,null,null,null,null,null,null,null,1926,"HYŻNE"]
[null,null,null,null,null,null,null,null,null,null,null,null,null,null,null,null,null,null,null,null,null,null,null,null,null,null,1926,"KAMIEŃ"]
[null,null,null,null,null,null,null,null,null,null,null,null,null,null,null,null,null,null,null,null,null,null,null,null,null,null,1926,"KRASNE"]
[null,null,null,null,null,null,null,null,null,null,null,null,null,null,null,null,null,null,null,null,null,null,null,null,null,null,1926,"LUBENIA"]
[null,null,null,null,null,null,null,null,null,null,null,null,null,null,null,null,null,null,null,null,null,null,null,null,null,null,1926,"SOKOŁÓW MAŁOPOLSKI"]
[null,null,null,null,null,null,null,null,null,null,null,null,null,null,null,null,null,null,null,null,null,null,null,null,null,null,1926,"ŚWILCZA"]
[null,null,null,null,null,null,null,null,null,null,null,null,null,null,null,null,null,null,null,null,null,null,null,null,null,null,1926,"TRZEBOWNISKO"]
[null,null,null,null,null,null,null,null,null,null,null,null,null,null,null,null,null,null,null,null,null,null,null,null,null,null,1926,"TYCZYN"]
[null,null,null,null,null,null,null,null,null,null,null,null,null,null,null,null,null,null,null,null,null,null,null,null,null,null,1927,"BESKO"]
[null,null,null,null,null,null,null,null,null,null,null,null,null,null,null,null,null,null,null,null,null,null,null,null,null,null,1927,"BUKOWSKO"]
[null,null,null,null,null,null,null,null,null,null,null,null,null,null,null,null,null,null,null,null,null,null,null,null,null,null,1927,"KOMAŃCZA"]
[null,null,null,null,null,null,null,null,null,null,null,null,null,null,null,null,null,null,null,null,null,null,null,null,null,null,1927,"SANOK-MIEJSKA"]
[null,null,null,null,null,null,null,null,null,null,null,null,null,null,null,null,null,null,null,null,null,null,null,null,null,null,1927,"SANOK-WIEJSKA"]
[null,null,null,null,null,null,null,null,null,null,null,null,null,null,null,null,null,null,null,null,null,null,null,null,null,null,1927,"TYRAWA WOŁOSKA"]
[null,null,null,null,null,null,null,null,null,null,null,null,null,null,null,null,null,null,null,null,null,null,null,null,null,null,1927,"ZAGÓRZ"]
[null,null,null,null,null,null,null,null,null,null,null,null,null,null,null,null,null,null,null,null,null,null,null,null,null,null,1927,"ZARSZYN"]
[null,null,null,null,null,null,null,null,null,null,null,null,null,null,null,null,null,null,null,null,null,null,null,null,null,null,1928,"BOJANÓW"]
[null,null,null,null,null,null,null,null,null,null,null,null,null,null,null,null,null,null,null,null,null,null,null,null,null,null,1928,"PYSZNICA"]
[null,null,null,null,null,null,null,null,null,null,null,null,null,null,null,null,null,null,null,null,null,null,null,null,null,null,1928,"RADOMYŚL NAD SANEM"]
[null,null,null,null,null,null,null,null,null,null,null,null,null,null,null,null,null,null,null,null,null,null,null,null,null,null,1928,"STALOWA WOLA"]
[null,null,null,null,null,null,null,null,null,null,null,null,null,null,null,null,null,null,null,null,null,null,null,null,null,null,1928,"ZAKLIKÓW"]
[null,null,null,null,null,null,null,null,null,null,null,null,null,null,null,null,null,null,null,null,null,null,null,null,null,null,1928,"ZALESZANY"]
[null,null,null,null,null,null,null,null,null,null,null,null,null,null,null,null,null,null,null,null,null,null,null,null,null,null,1929,"CZUDEC"]
[null,null,null,null,null,null,null,null,null,null,null,null,null,null,null,null,null,null,null,null,null,null,null,null,null,null,1929,"FRYSZTAK"]
[null,null,null,null,null,null,null,null,null,null,null,null,null,null,null,null,null,null,null,null,null,null,null,null,null,null,1929,"NIEBYLEC"]
[null,null,null,null,null,null,null,null,null,null,null,null,null,null,null,null,null,null,null,null,null,null,null,null,null,null,1929,"STRZYŻÓW"]
[null,null,null,null,null,null,null,null,null,null,null,null,null,null,null,null,null,null,null,null,null,null,null,null,null,null,1929,"WIŚNIOWA"]
[null,null,null,null,null,null,null,null,null,null,null,null,null,null,null,null,null,null,null,null,null,null,null,null,null,null,1930,"BARANÓW SANDOMIERSKI"]
[null,null,null,null,null,null,null,null,null,null,null,null,null,null,null,null,null,null,null,null,null,null,null,null,null,null,1930,"GORZYCE"]
[null,null,null,null,null,null,null,null,null,null,null,null,null,null,null,null,null,null,null,null,null,null,null,null,null,null,1930,"GRĘBÓW"]
[null,null,null,null,null,null,null,null,null,null,null,null,null,null,null,null,null,null,null,null,null,null,null,null,null,null,1930,"NOWA DĘBA"]
[null,null,null,null,null,null,null,null,null,null,null,null,null,null,null,null,null,null,null,null,null,null,null,null,null,null,1931,"BALIGRÓD"]
[null,null,null,null,null,null,null,null,null,null,null,null,null,null,null,null,null,null,null,null,null,null,null,null,null,null,1931,"CISNA"]
[null,null,null,null,null,null,null,null,null,null,null,null,null,null,null,null,null,null,null,null,null,null,null,null,null,null,1931,"LESKO"]
[null,null,null,null,null,null,null,null,null,null,null,null,null,null,null,null,null,null,null,null,null,null,null,null,null,null,1931,"OLSZANICA"]
[null,null,null,null,null,null,null,null,null,null,null,null,null,null,null,null,null,null,null,null,null,null,null,null,null,null,1931,"SOLINA"]
[null,null,null,null,null,null,null,null,null,null,null,null,null,null,null,null,null,null,null,null,null,null,null,null,null,null,1932,"M.KROSNO"]
[null,null,null,null,null,null,null,null,null,null,null,null,null,null,null,null,null,null,null,null,null,null,null,null,null,null,1933,"M.PRZEMYŚL"]
[null,null,null,null,null,null,null,null,null,null,null,null,null,null,null,null,null,null,null,null,null,null,null,null,null,null,1934,"M.RZESZÓW"]
[null,null,null,null,null,null,null,null,null,null,null,null,null,null,null,null,null,null,null,null,null,null,null,null,null,null,1935,"M.TARNOBRZEG"]
[null,null,null,null,null,null,null,null,null,null,null,null,null,null,null,null,null,null,null,null,null,null,null,null,null,null,2011,"AUGUSTÓW-MIEJSKA"]
[null,null,null,null,null,null,null,null,null,null,null,null,null,null,null,null,null,null,null,null,null,null,null,null,null,null,2011,"AUGUSTÓW-WIEJSKA"]
[null,null,null,null,null,null,null,null,null,null,null,null,null,null,null,null,null,null,null,null,null,null,null,null,null,null,2011,"BARGŁÓW KOŚCIELNY"]
[null,null,null,null,null,null,null,null,null,null,null,null,null,null,null,null,null,null,null,null,null,null,null,null,null,null,2011,"LIPSK"]
[null,null,null,null,null,null,null,null,null,null,null,null,null,null,null,null,null,null,null,null,null,null,null,null,null,null,2011,"NOWINKA"]
[null,null,null,null,null,null,null,null,null,null,null,null,null,null,null,null,null,null,null,null,null,null,null,null,null,null,2011,"PŁASKA"]
[null,null,null,null,null,null,null,null,null,null,null,null,null,null,null,null,null,null,null,null,null,null,null,null,null,null,2011,"SZTABIN"]
[null,null,null,null,null,null,null,null,null,null,null,null,null,null,null,null,null,null,null,null,null,null,null,null,null,null,2012,"CHOROSZCZ"]
[null,null,null,null,null,null,null,null,null,null,null,null,null,null,null,null,null,null,null,null,null,null,null,null,null,null,2012,"CZARNA BIAŁOSTOCKA"]
[null,null,null,null,null,null,null,null,null,null,null,null,null,null,null,null,null,null,null,null,null,null,null,null,null,null,2012,"DOBRZYNIEWO DUŻE"]
[null,null,null,null,null,null,null,null,null,null,null,null,null,null,null,null,null,null,null,null,null,null,null,null,null,null,2012,"GRÓDEK"]
[null,null,null,null,null,null,null,null,null,null,null,null,null,null,null,null,null,null,null,null,null,null,null,null,null,null,2012,"JUCHNOWIEC KOŚCIELNY"]
[null,null,null,null,null,null,null,null,null,null,null,null,null,null,null,null,null,null,null,null,null,null,null,null,null,null,2012,"ŁAPY"]
[null,null,null,null,null,null,null,null,null,null,null,null,null,null,null,null,null,null,null,null,null,null,null,null,null,null,2012,"MICHAŁOWO"]
[null,null,null,null,null,null,null,null,null,null,null,null,null,null,null,null,null,null,null,null,null,null,null,null,null,null,2012,"POŚWIĘTNE"]
[null,null,null,null,null,null,null,null,null,null,null,null,null,null,null,null,null,null,null,null,null,null,null,null,null,null,2012,"SUPRAŚL"]
[null,null,null,null,null,null,null,null,null,null,null,null,null,null,null,null,null,null,null,null,null,null,null,null,null,null,2012,"SURAŻ"]
[null,null,null,null,null,null,null,null,null,null,null,null,null,null,null,null,null,null,null,null,null,null,null,null,null,null,2012,"TUROŚŃ KOŚCIELNA"]
[null,null,null,null,null,null,null,null,null,null,null,null,null,null,null,null,null,null,null,null,null,null,null,null,null,null,2012,"TYKOCIN"]
[null,null,null,null,null,null,null,null,null,null,null,null,null,null,null,null,null,null,null,null,null,null,null,null,null,null,2012,"WASILKÓW"]
[null,null,null,null,null,null,null,null,null,null,null,null,null,null,null,null,null,null,null,null,null,null,null,null,null,null,2012,"ZABŁUDÓW"]
[null,null,null,null,null,null,null,null,null,null,null,null,null,null,null,null,null,null,null,null,null,null,null,null,null,null,2012,"ZAWADY"]
[null,null,null,null,null,null,null,null,null,null,null,null,null,null,null,null,null,null,null,null,null,null,null,null,null,null,2013,"BIELSK PODLASKI-MIEJSKA"]
[null,null,null,null,null,null,null,null,null,null,null,null,null,null,null,null,null,null,null,null,null,null,null,null,null,null,2013,"BIELSK PODLASKI-WIEJSKA"]
[null,null,null,null,null,null,null,null,null,null,null,null,null,null,null,null,null,null,null,null,null,null,null,null,null,null,2013,"BOĆKI"]
[null,null,null,null,null,null,null,null,null,null,null,null,null,null,null,null,null,null,null,null,null,null,null,null,null,null,2013,"BRAŃSK-MIEJSKA"]
[null,null,null,null,null,null,null,null,null,null,null,null,null,null,null,null,null,null,null,null,null,null,null,null,null,null,2013,"BRAŃSK-WIEJSKA"]
[null,null,null,null,null,null,null,null,null,null,null,null,null,null,null,null,null,null,null,null,null,null,null,null,null,null,2013,"ORLA"]
[null,null,null,null,null,null,null,null,null,null,null,null,null,null,null,null,null,null,null,null,null,null,null,null,null,null,2013,"RUDKA"]
[null,null,null,null,null,null,null,null,null,null,null,null,null,null,null,null,null,null,null,null,null,null,null,null,null,null,2013,"WYSZKI"]
[null,null,null,null,null,null,null,null,null,null,null,null,null,null,null,null,null,null,null,null,null,null,null,null,null,null,2014,"GRAJEWO-MIEJSKA"]
[null,null,null,null,null,null,null,null,null,null,null,null,null,null,null,null,null,null,null,null,null,null,null,null,null,null,2014,"GRAJEWO-WIEJSKA"]
[null,null,null,null,null,null,null,null,null,null,null,null,null,null,null,null,null,null,null,null,null,null,null,null,null,null,2014,"RADZIŁÓW"]
[null,null,null,null,null,null,null,null,null,null,null,null,null,null,null,null,null,null,null,null,null,null,null,null,null,null,2014,"RAJGRÓD"]
[null,null,null,null,null,null,null,null,null,null,null,null,null,null,null,null,null,null,null,null,null,null,null,null,null,null,2014,"SZCZUCZYN"]
[null,null,null,null,null,null,null,null,null,null,null,null,null,null,null,null,null,null,null,null,null,null,null,null,null,null,2014,"WĄSOSZ"]
[null,null,null,null,null,null,null,null,null,null,null,null,null,null,null,null,null,null,null,null,null,null,null,null,null,null,2015,"BIAŁOWIEŻA"]
[null,null,null,null,null,null,null,null,null,null,null,null,null,null,null,null,null,null,null,null,null,null,null,null,null,null,2015,"CZEREMCHA"]
[null,null,null,null,null,null,null,null,null,null,null,null,null,null,null,null,null,null,null,null,null,null,null,null,null,null,2015,"CZYŻE"]
[null,null,null,null,null,null,null,null,null,null,null,null,null,null,null,null,null,null,null,null,null,null,null,null,null,null,2015,"DUBICZE CERKIEWNE"]
[null,null,null,null,null,null,null,null,null,null,null,null,null,null,null,null,null,null,null,null,null,null,null,null,null,null,2015,"HAJNÓWKA-MIEJSKA"]
[null,null,null,null,null,null,null,null,null,null,null,null,null,null,null,null,null,null,null,null,null,null,null,null,null,null,2015,"HAJNÓWKA-WIEJSKA"]
[null,null,null,null,null,null,null,null,null,null,null,null,null,null,null,null,null,null,null,null,null,null,null,null,null,null,2015,"KLESZCZELE"]
[null,null,null,null,null,null,null,null,null,null,null,null,null,null,null,null,null,null,null,null,null,null,null,null,null,null,2015,"NAREW"]
[null,null,null,null,null,null,null,null,null,null,null,null,null,null,null,null,null,null,null,null,null,null,null,null,null,null,2015,"NAREWKA"]
[null,null,null,null,null,null,null,null,null,null,null,null,null,null,null,null,null,null,null,null,null,null,null,null,null,null,2016,"GRABOWO"]
[null,null,null,null,null,null,null,null,null,null,null,null,null,null,null,null,null,null,null,null,null,null,null,null,null,null,2016,"KOLNO-MIEJSKA"]
[null,null,null,null,null,null,null,null,null,null,null,null,null,null,null,null,null,null,null,null,null,null,null,null,null,null,2016,"KOLNO-WIEJSKA"]
[null,null,null,null,null,null,null,null,null,null,null,null,null,null,null,null,null,null,null,null,null,null,null,null,null,null,2016,"MAŁY PŁOCK"]
[null,null,null,null,null,null,null,null,null,null,null,null,null,null,null,null,null,null,null,null,null,null,null,null,null,null,2016,"STAWISKI"]
[null,null,null,null,null,null,null,null,null,null,null,null,null,null,null,null,null,null,null,null,null,null,null,null,null,null,2016,"TUROŚL"]
[null,null,null,null,null,null,null,null,null,null,null,null,null,null,null,null,null,null,null,null,null,null,null,null,null,null,2017,"JEDWABNE"]
[null,null,null,null,null,null,null,null,null,null,null,null,null,null,null,null,null,null,null,null,null,null,null,null,null,null,2017,"ŁOMŻA"]
[null,null,null,null,null,null,null,null,null,null,null,null,null,null,null,null,null,null,null,null,null,null,null,null,null,null,2017,"MIASTKOWO"]
[null,null,null,null,null,null,null,null,null,null,null,null,null,null,null,null,null,null,null,null,null,null,null,null,null,null,2017,"NOWOGRÓD"]
[null,null,null,null,null,null,null,null,null,null,null,null,null,null,null,null,null,null,null,null,null,null,null,null,null,null,2017,"PIĄTNICA"]
[null,null,null,null,null,null,null,null,null,null,null,null,null,null,null,null,null,null,null,null,null,null,null,null,null,null,2017,"PRZYTUŁY"]
[null,null,null,null,null,null,null,null,null,null,null,null,null,null,null,null,null,null,null,null,null,null,null,null,null,null,2017,"ŚNIADOWO"]
[null,null,null,null,null,null,null,null,null,null,null,null,null,null,null,null,null,null,null,null,null,null,null,null,null,null,2017,"WIZNA"]
[null,null,null,null,null,null,null,null,null,null,null,null,null,null,null,null,null,null,null,null,null,null,null,null,null,null,2017,"ZBÓJNA"]
[null,null,null,null,null,null,null,null,null,null,null,null,null,null,null,null,null,null,null,null,null,null,null,null,null,null,2018,"GONIĄDZ"]
[null,null,null,null,null,null,null,null,null,null,null,null,null,null,null,null,null,null,null,null,null,null,null,null,null,null,2018,"JASIONÓWKA"]
[null,null,null,null,null,null,null,null,null,null,null,null,null,null,null,null,null,null,null,null,null,null,null,null,null,null,2018,"JAŚWIŁY"]
[null,null,null,null,null,null,null,null,null,null,null,null,null,null,null,null,null,null,null,null,null,null,null,null,null,null,2018,"KNYSZYN"]
[null,null,null,null,null,null,null,null,null,null,null,null,null,null,null,null,null,null,null,null,null,null,null,null,null,null,2018,"KRYPNO"]
[null,null,null,null,null,null,null,null,null,null,null,null,null,null,null,null,null,null,null,null,null,null,null,null,null,null,2018,"MOŃKI"]
[null,null,null,null,null,null,null,null,null,null,null,null,null,null,null,null,null,null,null,null,null,null,null,null,null,null,2018,"TRZCIANNE"]
[null,null,null,null,null,null,null,null,null,null,null,null,null,null,null,null,null,null,null,null,null,null,null,null,null,null,2019,"GIBY"]
[null,null,null,null,null,null,null,null,null,null,null,null,null,null,null,null,null,null,null,null,null,null,null,null,null,null,2019,"KRASNOPOL"]
[null,null,null,null,null,null,null,null,null,null,null,null,null,null,null,null,null,null,null,null,null,null,null,null,null,null,2019,"PUŃSK"]
[null,null,null,null,null,null,null,null,null,null,null,null,null,null,null,null,null,null,null,null,null,null,null,null,null,null,2019,"SEJNY-MIEJSKA"]
[null,null,null,null,null,null,null,null,null,null,null,null,null,null,null,null,null,null,null,null,null,null,null,null,null,null,2019,"SEJNY-WIEJSKA"]
[null,null,null,null,null,null,null,null,null,null,null,null,null,null,null,null,null,null,null,null,null,null,null,null,null,null,2020,"DROHICZYN"]
[null,null,null,null,null,null,null,null,null,null,null,null,null,null,null,null,null,null,null,null,null,null,null,null,null,null,2020,"DZIADKOWICE"]
[null,null,null,null,null,null,null,null,null,null,null,null,null,null,null,null,null,null,null,null,null,null,null,null,null,null,2020,"GRODZISK"]
[null,null,null,null,null,null,null,null,null,null,null,null,null,null,null,null,null,null,null,null,null,null,null,null,null,null,2020,"MIELNIK"]
[null,null,null,null,null,null,null,null,null,null,null,null,null,null,null,null,null,null,null,null,null,null,null,null,null,null,2020,"MILEJCZYCE"]
[null,null,null,null,null,null,null,null,null,null,null,null,null,null,null,null,null,null,null,null,null,null,null,null,null,null,2020,"NURZEC-STACJA"]
[null,null,null,null,null,null,null,null,null,null,null,null,null,null,null,null,null,null,null,null,null,null,null,null,null,null,2020,"PERLEJEWO"]
[null,null,null,null,null,null,null,null,null,null,null,null,null,null,null,null,null,null,null,null,null,null,null,null,null,null,2020,"SIEMIATYCZE-MIEJSKA"]
[null,null,null,null,null,null,null,null,null,null,null,null,null,null,null,null,null,null,null,null,null,null,null,null,null,null,2020,"SIEMIATYCZE-WIEJSKA"]
[null,null,null,null,null,null,null,null,null,null,null,null,null,null,null,null,null,null,null,null,null,null,null,null,null,null,2021,"DĄBROWA BIAŁOSTOCKA"]
[null,null,null,null,null,null,null,null,null,null,null,null,null,null,null,null,null,null,null,null,null,null,null,null,null,null,2021,"JANÓW"]
[null,null,null,null,null,null,null,null,null,null,null,null,null,null,null,null,null,null,null,null,null,null,null,null,null,null,2021,"KORYCIN"]
[null,null,null,null,null,null,null,null,null,null,null,null,null,null,null,null,null,null,null,null,null,null,null,null,null,null,2021,"KRYNKI"]
[null,null,null,null,null,null,null,null,null,null,null,null,null,null,null,null,null,null,null,null,null,null,null,null,null,null,2021,"KUŹNICA"]
[null,null,null,null,null,null,null,null,null,null,null,null,null,null,null,null,null,null,null,null,null,null,null,null,null,null,2021,"NOWY DWÓR"]
[null,null,null,null,null,null,null,null,null,null,null,null,null,null,null,null,null,null,null,null,null,null,null,null,null,null,2021,"SIDRA"]
[null,null,null,null,null,null,null,null,null,null,null,null,null,null,null,null,null,null,null,null,null,null,null,null,null,null,2021,"SOKÓŁKA"]
[null,null,null,null,null,null,null,null,null,null,null,null,null,null,null,null,null,null,null,null,null,null,null,null,null,null,2021,"SUCHOWOLA"]
[null,null,null,null,null,null,null,null,null,null,null,null,null,null,null,null,null,null,null,null,null,null,null,null,null,null,2021,"SZUDZIAŁOWO"]
[null,null,null,null,null,null,null,null,null,null,null,null,null,null,null,null,null,null,null,null,null,null,null,null,null,null,2022,"BAKAŁARZEWO"]
[null,null,null,null,null,null,null,null,null,null,null,null,null,null,null,null,null,null,null,null,null,null,null,null,null,null,2022,"FILIPÓW"]
[null,null,null,null,null,null,null,null,null,null,null,null,null,null,null,null,null,null,null,null,null,null,null,null,null,null,2022,"JELENIEWO"]
[null,null,null,null,null,null,null,null,null,null,null,null,null,null,null,null,null,null,null,null,null,null,null,null,null,null,2022,"PRZEROŚL"]
[null,null,null,null,null,null,null,null,null,null,null,null,null,null,null,null,null,null,null,null,null,null,null,null,null,null,2022,"RACZKI"]
[null,null,null,null,null,null,null,null,null,null,null,null,null,null,null,null,null,null,null,null,null,null,null,null,null,null,2022,"RUTKA-TARTAK"]
[null,null,null,null,null,null,null,null,null,null,null,null,null,null,null,null,null,null,null,null,null,null,null,null,null,null,2022,"SUWAŁKI"]
[null,null,null,null,null,null,null,null,null,null,null,null,null,null,null,null,null,null,null,null,null,null,null,null,null,null,2022,"SZYPLISZKI"]
[null,null,null,null,null,null,null,null,null,null,null,null,null,null,null,null,null,null,null,null,null,null,null,null,null,null,2022,"WIŻAJNY"]
[null,null,null,null,null,null,null,null,null,null,null,null,null,null,null,null,null,null,null,null,null,null,null,null,null,null,2023,"CIECHANOWIEC"]
[null,null,null,null,null,null,null,null,null,null,null,null,null,null,null,null,null,null,null,null,null,null,null,null,null,null,2023,"CZYŻEW"]
[null,null,null,null,null,null,null,null,null,null,null,null,null,null,null,null,null,null,null,null,null,null,null,null,null,null,2023,"KLUKOWO"]
[null,null,null,null,null,null,null,null,null,null,null,null,null,null,null,null,null,null,null,null,null,null,null,null,null,null,2023,"KOBYLIN-BORZYMY"]
[null,null,null,null,null,null,null,null,null,null,null,null,null,null,null,null,null,null,null,null,null,null,null,null,null,null,2023,"KULESZE KOŚCIELNE"]
[null,null,null,null,null,null,null,null,null,null,null,null,null,null,null,null,null,null,null,null,null,null,null,null,null,null,2023,"NOWE PIEKUTY"]
[null,null,null,null,null,null,null,null,null,null,null,null,null,null,null,null,null,null,null,null,null,null,null,null,null,null,2023,"SOKOŁY"]
[null,null,null,null,null,null,null,null,null,null,null,null,null,null,null,null,null,null,null,null,null,null,null,null,null,null,2023,"SZEPIETOWO"]
[null,null,null,null,null,null,null,null,null,null,null,null,null,null,null,null,null,null,null,null,null,null,null,null,null,null,2023,"WYSOKIE MAZOWIECKIE-MIEJSKA"]
[null,null,null,null,null,null,null,null,null,null,null,null,null,null,null,null,null,null,null,null,null,null,null,null,null,null,2023,"WYSOKIE MAZOWIECKIE-WIEJSKA"]
[null,null,null,null,null,null,null,null,null,null,null,null,null,null,null,null,null,null,null,null,null,null,null,null,null,null,2024,"KOŁAKI KOŚCIELNE"]
[null,null,null,null,null,null,null,null,null,null,null,null,null,null,null,null,null,null,null,null,null,null,null,null,null,null,2024,"RUTKI"]
[null,null,null,null,null,null,null,null,null,null,null,null,null,null,null,null,null,null,null,null,null,null,null,null,null,null,2024,"SZUMOWO"]
[null,null,null,null,null,null,null,null,null,null,null,null,null,null,null,null,null,null,null,null,null,null,null,null,null,null,2024,"ZAMBRÓW-MIEJSKA"]
[null,null,null,null,null,null,null,null,null,null,null,null,null,null,null,null,null,null,null,null,null,null,null,null,null,null,2024,"ZAMBRÓW-WIEJSKA"]
[null,null,null,null,null,null,null,null,null,null,null,null,null,null,null,null,null,null,null,null,null,null,null,null,null,null,2025,"M.BIAŁYSTOK"]
[null,null,null,null,null,null,null,null,null,null,null,null,null,null,null,null,null,null,null,null,null,null,null,null,null,null,2026,"M.ŁOMŻA"]
[null,null,null,null,null,null,null,null,null,null,null,null,null,null,null,null,null,null,null,null,null,null,null,null,null,null,2027,"M.SUWAŁKI"]
[null,null,null,null,null,null,null,null,null,null,null,null,null,null,null,null,null,null,null,null,null,null,null,null,null,null,2111,"BORZYTUCHOM"]
[null,null,null,null,null,null,null,null,null,null,null,null,null,null,null,null,null,null,null,null,null,null,null,null,null,null,2111,"BYTÓW"]
[null,null,null,null,null,null,null,null,null,null,null,null,null,null,null,null,null,null,null,null,null,null,null,null,null,null,2111,"CZARNA DĄBRÓWKA"]
[null,null,null,null,null,null,null,null,null,null,null,null,null,null,null,null,null,null,null,null,null,null,null,null,null,null,2111,"KOŁCZYGŁOWY"]
[null,null,null,null,null,null,null,null,null,null,null,null,null,null,null,null,null,null,null,null,null,null,null,null,null,null,2111,"LIPNICA"]
[null,null,null,null,null,null,null,null,null,null,null,null,null,null,null,null,null,null,null,null,null,null,null,null,null,null,2111,"MIASTKO"]
[null,null,null,null,null,null,null,null,null,null,null,null,null,null,null,null,null,null,null,null,null,null,null,null,null,null,2111,"PARCHOWO"]
[null,null,null,null,null,null,null,null,null,null,null,null,null,null,null,null,null,null,null,null,null,null,null,null,null,null,2111,"STUDZIENICE"]
[null,null,null,null,null,null,null,null,null,null,null,null,null,null,null,null,null,null,null,null,null,null,null,null,null,null,2111,"TRZEBIELINO"]
[null,null,null,null,null,null,null,null,null,null,null,null,null,null,null,null,null,null,null,null,null,null,null,null,null,null,2111,"TUCHOMIE"]
[null,null,null,null,null,null,null,null,null,null,null,null,null,null,null,null,null,null,null,null,null,null,null,null,null,null,2112,"BRUSY"]
[null,null,null,null,null,null,null,null,null,null,null,null,null,null,null,null,null,null,null,null,null,null,null,null,null,null,2112,"CHOJNICE-MIEJSKA"]
[null,null,null,null,null,null,null,null,null,null,null,null,null,null,null,null,null,null,null,null,null,null,null,null,null,null,2112,"CHOJNICE-WIEJSKA"]
[null,null,null,null,null,null,null,null,null,null,null,null,null,null,null,null,null,null,null,null,null,null,null,null,null,null,2112,"CZERSK"]
[null,null,null,null,null,null,null,null,null,null,null,null,null,null,null,null,null,null,null,null,null,null,null,null,null,null,2112,"KONARZYNY"]
[null,null,null,null,null,null,null,null,null,null,null,null,null,null,null,null,null,null,null,null,null,null,null,null,null,null,2113,"CZARNE"]
[null,null,null,null,null,null,null,null,null,null,null,null,null,null,null,null,null,null,null,null,null,null,null,null,null,null,2113,"CZŁUCHÓW-MIEJSKA"]
[null,null,null,null,null,null,null,null,null,null,null,null,null,null,null,null,null,null,null,null,null,null,null,null,null,null,2113,"CZŁUCHÓW-WIEJSKA"]
[null,null,null,null,null,null,null,null,null,null,null,null,null,null,null,null,null,null,null,null,null,null,null,null,null,null,2113,"DEBRZNO"]
[null,null,null,null,null,null,null,null,null,null,null,null,null,null,null,null,null,null,null,null,null,null,null,null,null,null,2113,"KOCZAŁA"]
[null,null,null,null,null,null,null,null,null,null,null,null,null,null,null,null,null,null,null,null,null,null,null,null,null,null,2113,"PRZECHLEWO"]
[null,null,null,null,null,null,null,null,null,null,null,null,null,null,null,null,null,null,null,null,null,null,null,null,null,null,2113,"RZECZENICA"]
[null,null,null,null,null,null,null,null,null,null,null,null,null,null,null,null,null,null,null,null,null,null,null,null,null,null,2114,"CEDRY WIELKIE"]
[null,null,null,null,null,null,null,null,null,null,null,null,null,null,null,null,null,null,null,null,null,null,null,null,null,null,2114,"KOLBUDY"]
[null,null,null,null,null,null,null,null,null,null,null,null,null,null,null,null,null,null,null,null,null,null,null,null,null,null,2114,"PRUSZCZ GDAŃSKI-MIEJSKA"]
[null,null,null,null,null,null,null,null,null,null,null,null,null,null,null,null,null,null,null,null,null,null,null,null,null,null,2114,"PRUSZCZ GDAŃSKI-WIEJSKA"]
[null,null,null,null,null,null,null,null,null,null,null,null,null,null,null,null,null,null,null,null,null,null,null,null,null,null,2114,"PRZYWIDZ"]
[null,null,null,null,null,null,null,null,null,null,null,null,null,null,null,null,null,null,null,null,null,null,null,null,null,null,2114,"PSZCZÓŁKI"]
[null,null,null,null,null,null,null,null,null,null,null,null,null,null,null,null,null,null,null,null,null,null,null,null,null,null,2114,"SUCHY DĄB"]
[null,null,null,null,null,null,null,null,null,null,null,null,null,null,null,null,null,null,null,null,null,null,null,null,null,null,2114,"TRĄBKI WIELKIE"]
[null,null,null,null,null,null,null,null,null,null,null,null,null,null,null,null,null,null,null,null,null,null,null,null,null,null,2115,"CHMIELNO"]
[null,null,null,null,null,null,null,null,null,null,null,null,null,null,null,null,null,null,null,null,null,null,null,null,null,null,2115,"KARTUZY"]
[null,null,null,null,null,null,null,null,null,null,null,null,null,null,null,null,null,null,null,null,null,null,null,null,null,null,2115,"PRZODKOWO"]
[null,null,null,null,null,null,null,null,null,null,null,null,null,null,null,null,null,null,null,null,null,null,null,null,null,null,2115,"SIERAKOWICE"]
[null,null,null,null,null,null,null,null,null,null,null,null,null,null,null,null,null,null,null,null,null,null,null,null,null,null,2115,"SOMONINO"]
[null,null,null,null,null,null,null,null,null,null,null,null,null,null,null,null,null,null,null,null,null,null,null,null,null,null,2115,"STĘŻYCA"]
[null,null,null,null,null,null,null,null,null,null,null,null,null,null,null,null,null,null,null,null,null,null,null,null,null,null,2115,"SULĘCZYNO"]
[null,null,null,null,null,null,null,null,null,null,null,null,null,null,null,null,null,null,null,null,null,null,null,null,null,null,2115,"ŻUKOWO"]
[null,null,null,null,null,null,null,null,null,null,null,null,null,null,null,null,null,null,null,null,null,null,null,null,null,null,2116,"DZIEMIANY"]
[null,null,null,null,null,null,null,null,null,null,null,null,null,null,null,null,null,null,null,null,null,null,null,null,null,null,2116,"KARSIN"]
[null,null,null,null,null,null,null,null,null,null,null,null,null,null,null,null,null,null,null,null,null,null,null,null,null,null,2116,"KOŚCIERZYNA-MIEJSKA"]
[null,null,null,null,null,null,null,null,null,null,null,null,null,null,null,null,null,null,null,null,null,null,null,null,null,null,2116,"KOŚCIERZYNA-WIEJSKA"]
[null,null,null,null,null,null,null,null,null,null,null,null,null,null,null,null,null,null,null,null,null,null,null,null,null,null,2116,"LINIEWO"]
[null,null,null,null,null,null,null,null,null,null,null,null,null,null,null,null,null,null,null,null,null,null,null,null,null,null,2116,"LIPUSZ"]
[null,null,null,null,null,null,null,null,null,null,null,null,null,null,null,null,null,null,null,null,null,null,null,null,null,null,2116,"NOWA KARCZMA"]
[null,null,null,null,null,null,null,null,null,null,null,null,null,null,null,null,null,null,null,null,null,null,null,null,null,null,2116,"STARA KISZEWA"]
[null,null,null,null,null,null,null,null,null,null,null,null,null,null,null,null,null,null,null,null,null,null,null,null,null,null,2117,"GARDEJA"]
[null,null,null,null,null,null,null,null,null,null,null,null,null,null,null,null,null,null,null,null,null,null,null,null,null,null,2117,"KWIDZYN-MIEJSKA"]
[null,null,null,null,null,null,null,null,null,null,null,null,null,null,null,null,null,null,null,null,null,null,null,null,null,null,2117,"KWIDZYN-WIEJSKA"]
[null,null,null,null,null,null,null,null,null,null,null,null,null,null,null,null,null,null,null,null,null,null,null,null,null,null,2117,"PRABUTY"]
[null,null,null,null,null,null,null,null,null,null,null,null,null,null,null,null,null,null,null,null,null,null,null,null,null,null,2117,"RYJEWO"]
[null,null,null,null,null,null,null,null,null,null,null,null,null,null,null,null,null,null,null,null,null,null,null,null,null,null,2117,"SADLINKI"]
[null,null,null,null,null,null,null,null,null,null,null,null,null,null,null,null,null,null,null,null,null,null,null,null,null,null,2118,"CEWICE"]
[null,null,null,null,null,null,null,null,null,null,null,null,null,null,null,null,null,null,null,null,null,null,null,null,null,null,2118,"LĘBORK"]
[null,null,null,null,null,null,null,null,null,null,null,null,null,null,null,null,null,null,null,null,null,null,null,null,null,null,2118,"ŁEBA"]
[null,null,null,null,null,null,null,null,null,null,null,null,null,null,null,null,null,null,null,null,null,null,null,null,null,null,2118,"NOWA WIEŚ LĘBORSKA"]
[null,null,null,null,null,null,null,null,null,null,null,null,null,null,null,null,null,null,null,null,null,null,null,null,null,null,2118,"WICKO"]
[null,null,null,null,null,null,null,null,null,null,null,null,null,null,null,null,null,null,null,null,null,null,null,null,null,null,2119,"LICHNOWY"]
[null,null,null,null,null,null,null,null,null,null,null,null,null,null,null,null,null,null,null,null,null,null,null,null,null,null,2119,"MALBORK-MIEJSKA"]
[null,null,null,null,null,null,null,null,null,null,null,null,null,null,null,null,null,null,null,null,null,null,null,null,null,null,2119,"MALBORK-WIEJSKA"]
[null,null,null,null,null,null,null,null,null,null,null,null,null,null,null,null,null,null,null,null,null,null,null,null,null,null,2119,"MIŁORADZ"]
[null,null,null,null,null,null,null,null,null,null,null,null,null,null,null,null,null,null,null,null,null,null,null,null,null,null,2119,"NOWY STAW"]
[null,null,null,null,null,null,null,null,null,null,null,null,null,null,null,null,null,null,null,null,null,null,null,null,null,null,2119,"STARE POLE"]
[null,null,null,null,null,null,null,null,null,null,null,null,null,null,null,null,null,null,null,null,null,null,null,null,null,null,2120,"KRYNICA MORSKA"]
[null,null,null,null,null,null,null,null,null,null,null,null,null,null,null,null,null,null,null,null,null,null,null,null,null,null,2120,"NOWY DWÓR GDAŃSKI"]
[null,null,null,null,null,null,null,null,null,null,null,null,null,null,null,null,null,null,null,null,null,null,null,null,null,null,2120,"OSTASZEWO"]
[null,null,null,null,null,null,null,null,null,null,null,null,null,null,null,null,null,null,null,null,null,null,null,null,null,null,2120,"STEGNA"]
[null,null,null,null,null,null,null,null,null,null,null,null,null,null,null,null,null,null,null,null,null,null,null,null,null,null,2120,"SZTUTOWO"]
[null,null,null,null,null,null,null,null,null,null,null,null,null,null,null,null,null,null,null,null,null,null,null,null,null,null,2121,"HEL"]
[null,null,null,null,null,null,null,null,null,null,null,null,null,null,null,null,null,null,null,null,null,null,null,null,null,null,2121,"JASTARNIA"]
[null,null,null,null,null,null,null,null,null,null,null,null,null,null,null,null,null,null,null,null,null,null,null,null,null,null,2121,"KOSAKOWO"]
[null,null,null,null,null,null,null,null,null,null,null,null,null,null,null,null,null,null,null,null,null,null,null,null,null,null,2121,"KROKOWA"]
[null,null,null,null,null,null,null,null,null,null,null,null,null,null,null,null,null,null,null,null,null,null,null,null,null,null,2121,"PUCK-MIEJSKA"]
[null,null,null,null,null,null,null,null,null,null,null,null,null,null,null,null,null,null,null,null,null,null,null,null,null,null,2121,"PUCK-WIEJSKA"]
[null,null,null,null,null,null,null,null,null,null,null,null,null,null,null,null,null,null,null,null,null,null,null,null,null,null,2121,"WŁADYSŁAWOWO"]
[null,null,null,null,null,null,null,null,null,null,null,null,null,null,null,null,null,null,null,null,null,null,null,null,null,null,2122,"DAMNICA"]
[null,null,null,null,null,null,null,null,null,null,null,null,null,null,null,null,null,null,null,null,null,null,null,null,null,null,2122,"DĘBNICA KASZUBSKA"]
[null,null,null,null,null,null,null,null,null,null,null,null,null,null,null,null,null,null,null,null,null,null,null,null,null,null,2122,"GŁÓWCZYCE"]
[null,null,null,null,null,null,null,null,null,null,null,null,null,null,null,null,null,null,null,null,null,null,null,null,null,null,2122,"KĘPICE"]
[null,null,null,null,null,null,null,null,null,null,null,null,null,null,null,null,null,null,null,null,null,null,null,null,null,null,2122,"KOBYLNICA"]
[null,null,null,null,null,null,null,null,null,null,null,null,null,null,null,null,null,null,null,null,null,null,null,null,null,null,2122,"POTĘGOWO"]
[null,null,null,null,null,null,null,null,null,null,null,null,null,null,null,null,null,null,null,null,null,null,null,null,null,null,2122,"SŁUPSK"]
[null,null,null,null,null,null,null,null,null,null,null,null,null,null,null,null,null,null,null,null,null,null,null,null,null,null,2122,"SMOŁDZINO"]
[null,null,null,null,null,null,null,null,null,null,null,null,null,null,null,null,null,null,null,null,null,null,null,null,null,null,2122,"USTKA-MIEJSKA"]
[null,null,null,null,null,null,null,null,null,null,null,null,null,null,null,null,null,null,null,null,null,null,null,null,null,null,2122,"USTKA-WIEJSKA"]
[null,null,null,null,null,null,null,null,null,null,null,null,null,null,null,null,null,null,null,null,null,null,null,null,null,null,2123,"BOBOWO"]
[null,null,null,null,null,null,null,null,null,null,null,null,null,null,null,null,null,null,null,null,null,null,null,null,null,null,2123,"CZARNA WODA"]
[null,null,null,null,null,null,null,null,null,null,null,null,null,null,null,null,null,null,null,null,null,null,null,null,null,null,2123,"KALISKA"]
[null,null,null,null,null,null,null,null,null,null,null,null,null,null,null,null,null,null,null,null,null,null,null,null,null,null,2123,"LUBICHOWO"]
[null,null,null,null,null,null,null,null,null,null,null,null,null,null,null,null,null,null,null,null,null,null,null,null,null,null,2123,"OSIECZNA"]
[null,null,null,null,null,null,null,null,null,null,null,null,null,null,null,null,null,null,null,null,null,null,null,null,null,null,2123,"OSIEK"]
[null,null,null,null,null,null,null,null,null,null,null,null,null,null,null,null,null,null,null,null,null,null,null,null,null,null,2123,"SKARSZEWY"]
[null,null,null,null,null,null,null,null,null,null,null,null,null,null,null,null,null,null,null,null,null,null,null,null,null,null,2123,"SKÓRCZ-MIEJSKA"]
[null,null,null,null,null,null,null,null,null,null,null,null,null,null,null,null,null,null,null,null,null,null,null,null,null,null,2123,"SKÓRCZ-WIEJSKA"]
[null,null,null,null,null,null,null,null,null,null,null,null,null,null,null,null,null,null,null,null,null,null,null,null,null,null,2123,"SMĘTOWO GRANICZNE"]
[null,null,null,null,null,null,null,null,null,null,null,null,null,null,null,null,null,null,null,null,null,null,null,null,null,null,2123,"STAROGARD GDAŃSKI-MIEJSKA"]
[null,null,null,null,null,null,null,null,null,null,null,null,null,null,null,null,null,null,null,null,null,null,null,null,null,null,2123,"STAROGARD GDAŃSKI-WIEJSKA"]
[null,null,null,null,null,null,null,null,null,null,null,null,null,null,null,null,null,null,null,null,null,null,null,null,null,null,2123,"ZBLEWO"]
[null,null,null,null,null,null,null,null,null,null,null,null,null,null,null,null,null,null,null,null,null,null,null,null,null,null,2124,"GNIEW"]
[null,null,null,null,null,null,null,null,null,null,null,null,null,null,null,null,null,null,null,null,null,null,null,null,null,null,2124,"MORZESZCZYN"]
[null,null,null,null,null,null,null,null,null,null,null,null,null,null,null,null,null,null,null,null,null,null,null,null,null,null,2124,"PELPLIN"]
[null,null,null,null,null,null,null,null,null,null,null,null,null,null,null,null,null,null,null,null,null,null,null,null,null,null,2124,"SUBKOWY"]
[null,null,null,null,null,null,null,null,null,null,null,null,null,null,null,null,null,null,null,null,null,null,null,null,null,null,2124,"TCZEW-MIEJSKA"]
[null,null,null,null,null,null,null,null,null,null,null,null,null,null,null,null,null,null,null,null,null,null,null,null,null,null,2124,"TCZEW-WIEJSKA"]
[null,null,null,null,null,null,null,null,null,null,null,null,null,null,null,null,null,null,null,null,null,null,null,null,null,null,2125,"CHOCZEWO"]
[null,null,null,null,null,null,null,null,null,null,null,null,null,null,null,null,null,null,null,null,null,null,null,null,null,null,2125,"GNIEWINO"]
[null,null,null,null,null,null,null,null,null,null,null,null,null,null,null,null,null,null,null,null,null,null,null,null,null,null,2125,"LINIA"]
[null,null,null,null,null,null,null,null,null,null,null,null,null,null,null,null,null,null,null,null,null,null,null,null,null,null,2125,"LUZINO"]
[null,null,null,null,null,null,null,null,null,null,null,null,null,null,null,null,null,null,null,null,null,null,null,null,null,null,2125,"ŁĘCZYCE"]
[null,null,null,null,null,null,null,null,null,null,null,null,null,null,null,null,null,null,null,null,null,null,null,null,null,null,2125,"REDA"]
[null,null,null,null,null,null,null,null,null,null,null,null,null,null,null,null,null,null,null,null,null,null,null,null,null,null,2125,"RUMIA"]
[null,null,null,null,null,null,null,null,null,null,null,null,null,null,null,null,null,null,null,null,null,null,null,null,null,null,2125,"SZEMUD"]
[null,null,null,null,null,null,null,null,null,null,null,null,null,null,null,null,null,null,null,null,null,null,null,null,null,null,2125,"WEJHEROWO-MIEJSKA"]
[null,null,null,null,null,null,null,null,null,null,null,null,null,null,null,null,null,null,null,null,null,null,null,null,null,null,2125,"WEJHEROWO-WIEJSKA"]
[null,null,null,null,null,null,null,null,null,null,null,null,null,null,null,null,null,null,null,null,null,null,null,null,null,null,2126,"DZIERZGOŃ"]
[null,null,null,null,null,null,null,null,null,null,null,null,null,null,null,null,null,null,null,null,null,null,null,null,null,null,2126,"MIKOŁAJKI POMORSKIE"]
[null,null,null,null,null,null,null,null,null,null,null,null,null,null,null,null,null,null,null,null,null,null,null,null,null,null,2126,"STARY DZIERZGOŃ"]
[null,null,null,null,null,null,null,null,null,null,null,null,null,null,null,null,null,null,null,null,null,null,null,null,null,null,2126,"STARY TARG"]
[null,null,null,null,null,null,null,null,null,null,null,null,null,null,null,null,null,null,null,null,null,null,null,null,null,null,2126,"SZTUM"]
[null,null,null,null,null,null,null,null,null,null,null,null,null,null,null,null,null,null,null,null,null,null,null,null,null,null,2127,"M.GDAŃSK"]
[null,null,null,null,null,null,null,null,null,null,null,null,null,null,null,null,null,null,null,null,null,null,null,null,null,null,2128,"M.GDYNIA"]
[null,null,null,null,null,null,null,null,null,null,null,null,null,null,null,null,null,null,null,null,null,null,null,null,null,null,2129,"M.SŁUPSK"]
[null,null,null,null,null,null,null,null,null,null,null,null,null,null,null,null,null,null,null,null,null,null,null,null,null,null,2130,"M.SOPOT"]
[null,null,null,null,null,null,null,null,null,null,null,null,null,null,null,null,null,null,null,null,null,null,null,null,null,null,2211,"BĘDZIN"]
[null,null,null,null,null,null,null,null,null,null,null,null,null,null,null,null,null,null,null,null,null,null,null,null,null,null,2211,"BOBROWNIKI"]
[null,null,null,null,null,null,null,null,null,null,null,null,null,null,null,null,null,null,null,null,null,null,null,null,null,null,2211,"CZELADŹ"]
[null,null,null,null,null,null,null,null,null,null,null,null,null,null,null,null,null,null,null,null,null,null,null,null,null,null,2211,"MIERZĘCICE"]
[null,null,null,null,null,null,null,null,null,null,null,null,null,null,null,null,null,null,null,null,null,null,null,null,null,null,2211,"PSARY"]
[null,null,null,null,null,null,null,null,null,null,null,null,null,null,null,null,null,null,null,null,null,null,null,null,null,null,2211,"SIEWIERZ"]
[null,null,null,null,null,null,null,null,null,null,null,null,null,null,null,null,null,null,null,null,null,null,null,null,null,null,2211,"SŁAWKÓW"]
[null,null,null,null,null,null,null,null,null,null,null,null,null,null,null,null,null,null,null,null,null,null,null,null,null,null,2211,"WOJKOWICE"]
[null,null,null,null,null,null,null,null,null,null,null,null,null,null,null,null,null,null,null,null,null,null,null,null,null,null,2212,"BESTWINA"]
[null,null,null,null,null,null,null,null,null,null,null,null,null,null,null,null,null,null,null,null,null,null,null,null,null,null,2212,"BUCZKOWICE"]
[null,null,null,null,null,null,null,null,null,null,null,null,null,null,null,null,null,null,null,null,null,null,null,null,null,null,2212,"CZECHOWICE-DZIEDZICE"]
[null,null,null,null,null,null,null,null,null,null,null,null,null,null,null,null,null,null,null,null,null,null,null,null,null,null,2212,"JASIENICA"]
[null,null,null,null,null,null,null,null,null,null,null,null,null,null,null,null,null,null,null,null,null,null,null,null,null,null,2212,"JAWORZE"]
[null,null,null,null,null,null,null,null,null,null,null,null,null,null,null,null,null,null,null,null,null,null,null,null,null,null,2212,"KOZY"]
[null,null,null,null,null,null,null,null,null,null,null,null,null,null,null,null,null,null,null,null,null,null,null,null,null,null,2212,"PORĄBKA"]
[null,null,null,null,null,null,null,null,null,null,null,null,null,null,null,null,null,null,null,null,null,null,null,null,null,null,2212,"SZCZYRK"]
[null,null,null,null,null,null,null,null,null,null,null,null,null,null,null,null,null,null,null,null,null,null,null,null,null,null,2212,"WILAMOWICE"]
[null,null,null,null,null,null,null,null,null,null,null,null,null,null,null,null,null,null,null,null,null,null,null,null,null,null,2212,"WILKOWICE"]
[null,null,null,null,null,null,null,null,null,null,null,null,null,null,null,null,null,null,null,null,null,null,null,null,null,null,2213,"BRENNA"]
[null,null,null,null,null,null,null,null,null,null,null,null,null,null,null,null,null,null,null,null,null,null,null,null,null,null,2213,"CHYBIE"]
[null,null,null,null,null,null,null,null,null,null,null,null,null,null,null,null,null,null,null,null,null,null,null,null,null,null,2213,"CIESZYN"]
[null,null,null,null,null,null,null,null,null,null,null,null,null,null,null,null,null,null,null,null,null,null,null,null,null,null,2213,"DĘBOWIEC"]
[null,null,null,null,null,null,null,null,null,null,null,null,null,null,null,null,null,null,null,null,null,null,null,null,null,null,2213,"GOLESZÓW"]
[null,null,null,null,null,null,null,null,null,null,null,null,null,null,null,null,null,null,null,null,null,null,null,null,null,null,2213,"HAŻLACH"]
[null,null,null,null,null,null,null,null,null,null,null,null,null,null,null,null,null,null,null,null,null,null,null,null,null,null,2213,"ISTEBNA"]
[null,null,null,null,null,null,null,null,null,null,null,null,null,null,null,null,null,null,null,null,null,null,null,null,null,null,2213,"SKOCZÓW"]
[null,null,null,null,null,null,null,null,null,null,null,null,null,null,null,null,null,null,null,null,null,null,null,null,null,null,2213,"STRUMIEŃ"]
[null,null,null,null,null,null,null,null,null,null,null,null,null,null,null,null,null,null,null,null,null,null,null,null,null,null,2213,"USTROŃ"]
[null,null,null,null,null,null,null,null,null,null,null,null,null,null,null,null,null,null,null,null,null,null,null,null,null,null,2213,"WISŁA"]
[null,null,null,null,null,null,null,null,null,null,null,null,null,null,null,null,null,null,null,null,null,null,null,null,null,null,2213,"ZEBRZYDOWICE"]
[null,null,null,null,null,null,null,null,null,null,null,null,null,null,null,null,null,null,null,null,null,null,null,null,null,null,2214,"BLACHOWNIA"]
[null,null,null,null,null,null,null,null,null,null,null,null,null,null,null,null,null,null,null,null,null,null,null,null,null,null,2214,"DĄBROWA ZIELONA"]
[null,null,null,null,null,null,null,null,null,null,null,null,null,null,null,null,null,null,null,null,null,null,null,null,null,null,2214,"JANÓW"]
[null,null,null,null,null,null,null,null,null,null,null,null,null,null,null,null,null,null,null,null,null,null,null,null,null,null,2214,"KAMIENICA POLSKA"]
[null,null,null,null,null,null,null,null,null,null,null,null,null,null,null,null,null,null,null,null,null,null,null,null,null,null,2214,"KŁOMNICE"]
[null,null,null,null,null,null,null,null,null,null,null,null,null,null,null,null,null,null,null,null,null,null,null,null,null,null,2214,"KONIECPOL"]
[null,null,null,null,null,null,null,null,null,null,null,null,null,null,null,null,null,null,null,null,null,null,null,null,null,null,2214,"KONOPISKA"]
[null,null,null,null,null,null,null,null,null,null,null,null,null,null,null,null,null,null,null,null,null,null,null,null,null,null,2214,"KRUSZYNA"]
[null,null,null,null,null,null,null,null,null,null,null,null,null,null,null,null,null,null,null,null,null,null,null,null,null,null,2214,"LELÓW"]
[null,null,null,null,null,null,null,null,null,null,null,null,null,null,null,null,null,null,null,null,null,null,null,null,null,null,2214,"MSTÓW"]
[null,null,null,null,null,null,null,null,null,null,null,null,null,null,null,null,null,null,null,null,null,null,null,null,null,null,2214,"MYKANÓW"]
[null,null,null,null,null,null,null,null,null,null,null,null,null,null,null,null,null,null,null,null,null,null,null,null,null,null,2214,"OLSZTYN"]
[null,null,null,null,null,null,null,null,null,null,null,null,null,null,null,null,null,null,null,null,null,null,null,null,null,null,2214,"POCZESNA"]
[null,null,null,null,null,null,null,null,null,null,null,null,null,null,null,null,null,null,null,null,null,null,null,null,null,null,2214,"PRZYRÓW"]
[null,null,null,null,null,null,null,null,null,null,null,null,null,null,null,null,null,null,null,null,null,null,null,null,null,null,2214,"RĘDZINY"]
[null,null,null,null,null,null,null,null,null,null,null,null,null,null,null,null,null,null,null,null,null,null,null,null,null,null,2214,"STARCZA"]
[null,null,null,null,null,null,null,null,null,null,null,null,null,null,null,null,null,null,null,null,null,null,null,null,null,null,2215,"GIERAŁTOWICE"]
[null,null,null,null,null,null,null,null,null,null,null,null,null,null,null,null,null,null,null,null,null,null,null,null,null,null,2215,"KNURÓW"]
[null,null,null,null,null,null,null,null,null,null,null,null,null,null,null,null,null,null,null,null,null,null,null,null,null,null,2215,"PILCHOWICE"]
[null,null,null,null,null,null,null,null,null,null,null,null,null,null,null,null,null,null,null,null,null,null,null,null,null,null,2215,"PYSKOWICE"]
[null,null,null,null,null,null,null,null,null,null,null,null,null,null,null,null,null,null,null,null,null,null,null,null,null,null,2215,"RUDZINIEC"]
[null,null,null,null,null,null,null,null,null,null,null,null,null,null,null,null,null,null,null,null,null,null,null,null,null,null,2215,"SOŚNICOWICE"]
[null,null,null,null,null,null,null,null,null,null,null,null,null,null,null,null,null,null,null,null,null,null,null,null,null,null,2215,"TOSZEK"]
[null,null,null,null,null,null,null,null,null,null,null,null,null,null,null,null,null,null,null,null,null,null,null,null,null,null,2215,"WIELOWIEŚ"]
[null,null,null,null,null,null,null,null,null,null,null,null,null,null,null,null,null,null,null,null,null,null,null,null,null,null,2216,"KŁOBUCK"]
[null,null,null,null,null,null,null,null,null,null,null,null,null,null,null,null,null,null,null,null,null,null,null,null,null,null,2216,"KRZEPICE"]
[null,null,null,null,null,null,null,null,null,null,null,null,null,null,null,null,null,null,null,null,null,null,null,null,null,null,2216,"LIPIE"]
[null,null,null,null,null,null,null,null,null,null,null,null,null,null,null,null,null,null,null,null,null,null,null,null,null,null,2216,"MIEDŹNO"]
[null,null,null,null,null,null,null,null,null,null,null,null,null,null,null,null,null,null,null,null,null,null,null,null,null,null,2216,"OPATÓW"]
[null,null,null,null,null,null,null,null,null,null,null,null,null,null,null,null,null,null,null,null,null,null,null,null,null,null,2216,"PANKI"]
[null,null,null,null,null,null,null,null,null,null,null,null,null,null,null,null,null,null,null,null,null,null,null,null,null,null,2216,"POPÓW"]
[null,null,null,null,null,null,null,null,null,null,null,null,null,null,null,null,null,null,null,null,null,null,null,null,null,null,2216,"PRZYSTAJŃ"]
[null,null,null,null,null,null,null,null,null,null,null,null,null,null,null,null,null,null,null,null,null,null,null,null,null,null,2216,"WRĘCZYCA WIELKA"]
[null,null,null,null,null,null,null,null,null,null,null,null,null,null,null,null,null,null,null,null,null,null,null,null,null,null,2217,"BORONÓW"]
[null,null,null,null,null,null,null,null,null,null,null,null,null,null,null,null,null,null,null,null,null,null,null,null,null,null,2217,"CIASNA"]
[null,null,null,null,null,null,null,null,null,null,null,null,null,null,null,null,null,null,null,null,null,null,null,null,null,null,2217,"HERBY"]
[null,null,null,null,null,null,null,null,null,null,null,null,null,null,null,null,null,null,null,null,null,null,null,null,null,null,2217,"KOCHANOWICE"]
[null,null,null,null,null,null,null,null,null,null,null,null,null,null,null,null,null,null,null,null,null,null,null,null,null,null,2217,"KOSZĘCIN"]
[null,null,null,null,null,null,null,null,null,null,null,null,null,null,null,null,null,null,null,null,null,null,null,null,null,null,2217,"LUBLINIEC"]
[null,null,null,null,null,null,null,null,null,null,null,null,null,null,null,null,null,null,null,null,null,null,null,null,null,null,2217,"PAWONKÓW"]
[null,null,null,null,null,null,null,null,null,null,null,null,null,null,null,null,null,null,null,null,null,null,null,null,null,null,2217,"WOŹNIKI"]
[null,null,null,null,null,null,null,null,null,null,null,null,null,null,null,null,null,null,null,null,null,null,null,null,null,null,2218,"ŁAZISKA GÓRNE"]
[null,null,null,null,null,null,null,null,null,null,null,null,null,null,null,null,null,null,null,null,null,null,null,null,null,null,2218,"MIKOŁÓW"]
[null,null,null,null,null,null,null,null,null,null,null,null,null,null,null,null,null,null,null,null,null,null,null,null,null,null,2218,"ORNONTOWICE"]
[null,null,null,null,null,null,null,null,null,null,null,null,null,null,null,null,null,null,null,null,null,null,null,null,null,null,2218,"ORZESZE"]
[null,null,null,null,null,null,null,null,null,null,null,null,null,null,null,null,null,null,null,null,null,null,null,null,null,null,2218,"WYRY"]
[null,null,null,null,null,null,null,null,null,null,null,null,null,null,null,null,null,null,null,null,null,null,null,null,null,null,2219,"KOZIEGŁOWY"]
[null,null,null,null,null,null,null,null,null,null,null,null,null,null,null,null,null,null,null,null,null,null,null,null,null,null,2219,"MYSZKÓW"]
[null,null,null,null,null,null,null,null,null,null,null,null,null,null,null,null,null,null,null,null,null,null,null,null,null,null,2219,"NIEGOWA"]
[null,null,null,null,null,null,null,null,null,null,null,null,null,null,null,null,null,null,null,null,null,null,null,null,null,null,2219,"PORAJ"]
[null,null,null,null,null,null,null,null,null,null,null,null,null,null,null,null,null,null,null,null,null,null,null,null,null,null,2219,"ŻARKI"]
[null,null,null,null,null,null,null,null,null,null,null,null,null,null,null,null,null,null,null,null,null,null,null,null,null,null,2220,"GOCZAŁKOWICE-ZDRÓJ"]
[null,null,null,null,null,null,null,null,null,null,null,null,null,null,null,null,null,null,null,null,null,null,null,null,null,null,2220,"KOBIÓR"]
[null,null,null,null,null,null,null,null,null,null,null,null,null,null,null,null,null,null,null,null,null,null,null,null,null,null,2220,"MIEDŹNA"]
[null,null,null,null,null,null,null,null,null,null,null,null,null,null,null,null,null,null,null,null,null,null,null,null,null,null,2220,"PAWŁOWICE"]
[null,null,null,null,null,null,null,null,null,null,null,null,null,null,null,null,null,null,null,null,null,null,null,null,null,null,2220,"PSZCZYNA"]
[null,null,null,null,null,null,null,null,null,null,null,null,null,null,null,null,null,null,null,null,null,null,null,null,null,null,2220,"SUSZEC"]
[null,null,null,null,null,null,null,null,null,null,null,null,null,null,null,null,null,null,null,null,null,null,null,null,null,null,2221,"KORNOWAC"]
[null,null,null,null,null,null,null,null,null,null,null,null,null,null,null,null,null,null,null,null,null,null,null,null,null,null,2221,"KRZANOWICE"]
[null,null,null,null,null,null,null,null,null,null,null,null,null,null,null,null,null,null,null,null,null,null,null,null,null,null,2221,"KRZYŻANOWICE"]
[null,null,null,null,null,null,null,null,null,null,null,null,null,null,null,null,null,null,null,null,null,null,null,null,null,null,2221,"KUŹNIA RACIBORSKA"]
[null,null,null,null,null,null,null,null,null,null,null,null,null,null,null,null,null,null,null,null,null,null,null,null,null,null,2221,"NĘDZA"]
[null,null,null,null,null,null,null,null,null,null,null,null,null,null,null,null,null,null,null,null,null,null,null,null,null,null,2221,"PIETROWICE WIELKIE"]
[null,null,null,null,null,null,null,null,null,null,null,null,null,null,null,null,null,null,null,null,null,null,null,null,null,null,2221,"RACIBÓRZ"]
[null,null,null,null,null,null,null,null,null,null,null,null,null,null,null,null,null,null,null,null,null,null,null,null,null,null,2221,"RUDNIK"]
[null,null,null,null,null,null,null,null,null,null,null,null,null,null,null,null,null,null,null,null,null,null,null,null,null,null,2222,"CZERWIONKA-LESZCZYNY"]
[null,null,null,null,null,null,null,null,null,null,null,null,null,null,null,null,null,null,null,null,null,null,null,null,null,null,2222,"GASZOWICE"]
[null,null,null,null,null,null,null,null,null,null,null,null,null,null,null,null,null,null,null,null,null,null,null,null,null,null,2222,"JEJKOWICE"]
[null,null,null,null,null,null,null,null,null,null,null,null,null,null,null,null,null,null,null,null,null,null,null,null,null,null,2222,"LYSKI"]
[null,null,null,null,null,null,null,null,null,null,null,null,null,null,null,null,null,null,null,null,null,null,null,null,null,null,2222,"ŚWIERKLANY"]
[null,null,null,null,null,null,null,null,null,null,null,null,null,null,null,null,null,null,null,null,null,null,null,null,null,null,2223,"KALETY"]
[null,null,null,null,null,null,null,null,null,null,null,null,null,null,null,null,null,null,null,null,null,null,null,null,null,null,2223,"KRUPSKI MŁYN"]
[null,null,null,null,null,null,null,null,null,null,null,null,null,null,null,null,null,null,null,null,null,null,null,null,null,null,2223,"MIASTECZKO ŚLĄSKIE"]
[null,null,null,null,null,null,null,null,null,null,null,null,null,null,null,null,null,null,null,null,null,null,null,null,null,null,2223,"OŻAROWICE"]
[null,null,null,null,null,null,null,null,null,null,null,null,null,null,null,null,null,null,null,null,null,null,null,null,null,null,2223,"RADZIONKÓW"]
[null,null,null,null,null,null,null,null,null,null,null,null,null,null,null,null,null,null,null,null,null,null,null,null,null,null,2223,"ŚWIERKLANIEC"]
[null,null,null,null,null,null,null,null,null,null,null,null,null,null,null,null,null,null,null,null,null,null,null,null,null,null,2223,"TARNOWSKIE GÓRY"]
[null,null,null,null,null,null,null,null,null,null,null,null,null,null,null,null,null,null,null,null,null,null,null,null,null,null,2223,"TWORÓG"]
[null,null,null,null,null,null,null,null,null,null,null,null,null,null,null,null,null,null,null,null,null,null,null,null,null,null,2223,"ZBROSŁAWICE"]
[null,null,null,null,null,null,null,null,null,null,null,null,null,null,null,null,null,null,null,null,null,null,null,null,null,null,2224,"BIERUŃ"]
[null,null,null,null,null,null,null,null,null,null,null,null,null,null,null,null,null,null,null,null,null,null,null,null,null,null,2224,"BOJSZOWY"]
[null,null,null,null,null,null,null,null,null,null,null,null,null,null,null,null,null,null,null,null,null,null,null,null,null,null,2224,"CHEŁM ŚLĄSKI"]
[null,null,null,null,null,null,null,null,null,null,null,null,null,null,null,null,null,null,null,null,null,null,null,null,null,null,2224,"IMIELIN"]
[null,null,null,null,null,null,null,null,null,null,null,null,null,null,null,null,null,null,null,null,null,null,null,null,null,null,2224,"LĘDZINY"]
[null,null,null,null,null,null,null,null,null,null,null,null,null,null,null,null,null,null,null,null,null,null,null,null,null,null,2225,"GODÓW"]
[null,null,null,null,null,null,null,null,null,null,null,null,null,null,null,null,null,null,null,null,null,null,null,null,null,null,2225,"GORZYCE"]
[null,null,null,null,null,null,null,null,null,null,null,null,null,null,null,null,null,null,null,null,null,null,null,null,null,null,2225,"LUBOMIA"]
[null,null,null,null,null,null,null,null,null,null,null,null,null,null,null,null,null,null,null,null,null,null,null,null,null,null,2225,"MARKLOWICE"]
[null,null,null,null,null,null,null,null,null,null,null,null,null,null,null,null,null,null,null,null,null,null,null,null,null,null,2225,"MSZANA"]
[null,null,null,null,null,null,null,null,null,null,null,null,null,null,null,null,null,null,null,null,null,null,null,null,null,null,2225,"PSZÓW"]
[null,null,null,null,null,null,null,null,null,null,null,null,null,null,null,null,null,null,null,null,null,null,null,null,null,null,2225,"RADLIN"]
[null,null,null,null,null,null,null,null,null,null,null,null,null,null,null,null,null,null,null,null,null,null,null,null,null,null,2225,"RYDUŁTOWY"]
[null,null,null,null,null,null,null,null,null,null,null,null,null,null,null,null,null,null,null,null,null,null,null,null,null,null,2225,"WODZISŁAW ŚLĄSKI"]
[null,null,null,null,null,null,null,null,null,null,null,null,null,null,null,null,null,null,null,null,null,null,null,null,null,null,2226,"IRZĄDZE"]
[null,null,null,null,null,null,null,null,null,null,null,null,null,null,null,null,null,null,null,null,null,null,null,null,null,null,2226,"KROCZYCE"]
[null,null,null,null,null,null,null,null,null,null,null,null,null,null,null,null,null,null,null,null,null,null,null,null,null,null,2226,"ŁAZY"]
[null,null,null,null,null,null,null,null,null,null,null,null,null,null,null,null,null,null,null,null,null,null,null,null,null,null,2226,"OGRODZIENIEC"]
[null,null,null,null,null,null,null,null,null,null,null,null,null,null,null,null,null,null,null,null,null,null,null,null,null,null,2226,"PILICA"]
[null,null,null,null,null,null,null,null,null,null,null,null,null,null,null,null,null,null,null,null,null,null,null,null,null,null,2226,"PORĘBA"]
[null,null,null,null,null,null,null,null,null,null,null,null,null,null,null,null,null,null,null,null,null,null,null,null,null,null,2226,"SZCZEKOCINY"]
[null,null,null,null,null,null,null,null,null,null,null,null,null,null,null,null,null,null,null,null,null,null,null,null,null,null,2226,"WŁODOWICE"]
[null,null,null,null,null,null,null,null,null,null,null,null,null,null,null,null,null,null,null,null,null,null,null,null,null,null,2226,"ZAWIERCIE"]
[null,null,null,null,null,null,null,null,null,null,null,null,null,null,null,null,null,null,null,null,null,null,null,null,null,null,2226,"ŻARNOWIEC"]
[null,null,null,null,null,null,null,null,null,null,null,null,null,null,null,null,null,null,null,null,null,null,null,null,null,null,2227,"CZERNICHÓW"]
[null,null,null,null,null,null,null,null,null,null,null,null,null,null,null,null,null,null,null,null,null,null,null,null,null,null,2227,"GILOWICE"]
[null,null,null,null,null,null,null,null,null,null,null,null,null,null,null,null,null,null,null,null,null,null,null,null,null,null,2227,"JELEŚNIA"]
[null,null,null,null,null,null,null,null,null,null,null,null,null,null,null,null,null,null,null,null,null,null,null,null,null,null,2227,"KOSZARAWA"]
[null,null,null,null,null,null,null,null,null,null,null,null,null,null,null,null,null,null,null,null,null,null,null,null,null,null,2227,"LIPOWA"]
[null,null,null,null,null,null,null,null,null,null,null,null,null,null,null,null,null,null,null,null,null,null,null,null,null,null,2227,"ŁĘKAWICA"]
[null,null,null,null,null,null,null,null,null,null,null,null,null,null,null,null,null,null,null,null,null,null,null,null,null,null,2227,"ŁODYGOWICE"]
[null,null,null,null,null,null,null,null,null,null,null,null,null,null,null,null,null,null,null,null,null,null,null,null,null,null,2227,"MILÓWKA"]
[null,null,null,null,null,null,null,null,null,null,null,null,null,null,null,null,null,null,null,null,null,null,null,null,null,null,2227,"RADZIECHOWY-WIEPRZ"]
[null,null,null,null,null,null,null,null,null,null,null,null,null,null,null,null,null,null,null,null,null,null,null,null,null,null,2227,"RAJCZA"]
[null,null,null,null,null,null,null,null,null,null,null,null,null,null,null,null,null,null,null,null,null,null,null,null,null,null,2227,"ŚLEMIEŃ"]
[null,null,null,null,null,null,null,null,null,null,null,null,null,null,null,null,null,null,null,null,null,null,null,null,null,null,2227,"ŚWINNA"]
[null,null,null,null,null,null,null,null,null,null,null,null,null,null,null,null,null,null,null,null,null,null,null,null,null,null,2227,"UJSOŁY"]
[null,null,null,null,null,null,null,null,null,null,null,null,null,null,null,null,null,null,null,null,null,null,null,null,null,null,2227,"WĘGIERSKA GÓRKA"]
[null,null,null,null,null,null,null,null,null,null,null,null,null,null,null,null,null,null,null,null,null,null,null,null,null,null,2227,"ŻYWIEC"]
[null,null,null,null,null,null,null,null,null,null,null,null,null,null,null,null,null,null,null,null,null,null,null,null,null,null,2228,"M.BIELSKO-BIAŁA"]
[null,null,null,null,null,null,null,null,null,null,null,null,null,null,null,null,null,null,null,null,null,null,null,null,null,null,2229,"M.BYTOM"]
[null,null,null,null,null,null,null,null,null,null,null,null,null,null,null,null,null,null,null,null,null,null,null,null,null,null,2230,"M.CHORZÓW"]
[null,null,null,null,null,null,null,null,null,null,null,null,null,null,null,null,null,null,null,null,null,null,null,null,null,null,2231,"M.CZĘSTOCHOWA"]
[null,null,null,null,null,null,null,null,null,null,null,null,null,null,null,null,null,null,null,null,null,null,null,null,null,null,2232,"M.DĄBROWA GÓRNICZA"]
[null,null,null,null,null,null,null,null,null,null,null,null,null,null,null,null,null,null,null,null,null,null,null,null,null,null,2233,"M.GLIWICE"]
[null,null,null,null,null,null,null,null,null,null,null,null,null,null,null,null,null,null,null,null,null,null,null,null,null,null,2234,"M.JASTRZĘBIE-ZDRÓJ"]
[null,null,null,null,null,null,null,null,null,null,null,null,null,null,null,null,null,null,null,null,null,null,null,null,null,null,2235,"M.JAWORZNO"]
[null,null,null,null,null,null,null,null,null,null,null,null,null,null,null,null,null,null,null,null,null,null,null,null,null,null,2236,"M.KATOWICE"]
[null,null,null,null,null,null,null,null,null,null,null,null,null,null,null,null,null,null,null,null,null,null,null,null,null,null,2237,"M.MYSŁOWICE"]
[null,null,null,null,null,null,null,null,null,null,null,null,null,null,null,null,null,null,null,null,null,null,null,null,null,null,2238,"M.PIEKARY ŚLĄSKIE"]
[null,null,null,null,null,null,null,null,null,null,null,null,null,null,null,null,null,null,null,null,null,null,null,null,null,null,2239,"M.RUDA ŚLĄSKA"]
[null,null,null,null,null,null,null,null,null,null,null,null,null,null,null,null,null,null,null,null,null,null,null,null,null,null,2240,"M.RYBNIK"]
[null,null,null,null,null,null,null,null,null,null,null,null,null,null,null,null,null,null,null,null,null,null,null,null,null,null,2241,"M.SIEMIANOWICE ŚLĄSKIE"]
[null,null,null,null,null,null,null,null,null,null,null,null,null,null,null,null,null,null,null,null,null,null,null,null,null,null,2242,"M.SOSNOWIEC"]
[null,null,null,null,null,null,null,null,null,null,null,null,null,null,null,null,null,null,null,null,null,null,null,null,null,null,2243,"M.ŚWIĘTOCHŁOWICE"]
[null,null,null,null,null,null,null,null,null,null,null,null,null,null,null,null,null,null,null,null,null,null,null,null,null,null,2244,"M.TYCHY"]
[null,null,null,null,null,null,null,null,null,null,null,null,null,null,null,null,null,null,null,null,null,null,null,null,null,null,2245,"M.ZABRZE"]
[null,null,null,null,null,null,null,null,null,null,null,null,null,null,null,null,null,null,null,null,null,null,null,null,null,null,2246,"M.ŻORY"]
[null,null,null,null,null,null,null,null,null,null,null,null,null,null,null,null,null,null,null,null,null,null,null,null,null,null,2311,"BUSKO-ZDRÓJ"]
[null,null,null,null,null,null,null,null,null,null,null,null,null,null,null,null,null,null,null,null,null,null,null,null,null,null,2311,"GNOJNO"]
[null,null,null,null,null,null,null,null,null,null,null,null,null,null,null,null,null,null,null,null,null,null,null,null,null,null,2311,"NOWY KORCZYN"]
[null,null,null,null,null,null,null,null,null,null,null,null,null,null,null,null,null,null,null,null,null,null,null,null,null,null,2311,"PACANÓW"]
[null,null,null,null,null,null,null,null,null,null,null,null,null,null,null,null,null,null,null,null,null,null,null,null,null,null,2311,"SOLEC-ZDRÓJ"]
[null,null,null,null,null,null,null,null,null,null,null,null,null,null,null,null,null,null,null,null,null,null,null,null,null,null,2311,"STOPNICA"]
[null,null,null,null,null,null,null,null,null,null,null,null,null,null,null,null,null,null,null,null,null,null,null,null,null,null,2311,"TUCZĘPY"]
[null,null,null,null,null,null,null,null,null,null,null,null,null,null,null,null,null,null,null,null,null,null,null,null,null,null,2311,"WIŚLICA"]
[null,null,null,null,null,null,null,null,null,null,null,null,null,null,null,null,null,null,null,null,null,null,null,null,null,null,2312,"IMIELNO"]
[null,null,null,null,null,null,null,null,null,null,null,null,null,null,null,null,null,null,null,null,null,null,null,null,null,null,2312,"JĘDRZEJÓW"]
[null,null,null,null,null,null,null,null,null,null,null,null,null,null,null,null,null,null,null,null,null,null,null,null,null,null,2312,"MAŁOGOSZCZ"]
[null,null,null,null,null,null,null,null,null,null,null,null,null,null,null,null,null,null,null,null,null,null,null,null,null,null,2312,"NAGŁOWICE"]
[null,null,null,null,null,null,null,null,null,null,null,null,null,null,null,null,null,null,null,null,null,null,null,null,null,null,2312,"OKSA"]
[null,null,null,null,null,null,null,null,null,null,null,null,null,null,null,null,null,null,null,null,null,null,null,null,null,null,2312,"SĘDZISZÓW"]
[null,null,null,null,null,null,null,null,null,null,null,null,null,null,null,null,null,null,null,null,null,null,null,null,null,null,2312,"SŁUPIA/JĘDRZEJOWSKA/"]
[null,null,null,null,null,null,null,null,null,null,null,null,null,null,null,null,null,null,null,null,null,null,null,null,null,null,2312,"SOBKÓW"]
[null,null,null,null,null,null,null,null,null,null,null,null,null,null,null,null,null,null,null,null,null,null,null,null,null,null,2312,"WODZISŁAW"]
[null,null,null,null,null,null,null,null,null,null,null,null,null,null,null,null,null,null,null,null,null,null,null,null,null,null,2313,"BEJSCE"]
[null,null,null,null,null,null,null,null,null,null,null,null,null,null,null,null,null,null,null,null,null,null,null,null,null,null,2313,"CZARNOCIN"]
[null,null,null,null,null,null,null,null,null,null,null,null,null,null,null,null,null,null,null,null,null,null,null,null,null,null,2313,"KAZIMIERZA WIELKA"]
[null,null,null,null,null,null,null,null,null,null,null,null,null,null,null,null,null,null,null,null,null,null,null,null,null,null,2313,"OPATOWIEC"]
[null,null,null,null,null,null,null,null,null,null,null,null,null,null,null,null,null,null,null,null,null,null,null,null,null,null,2313,"SKALBMIERZ"]
[null,null,null,null,null,null,null,null,null,null,null,null,null,null,null,null,null,null,null,null,null,null,null,null,null,null,2314,"BIELINY"]
[null,null,null,null,null,null,null,null,null,null,null,null,null,null,null,null,null,null,null,null,null,null,null,null,null,null,2314,"BODZENTYN"]
[null,null,null,null,null,null,null,null,null,null,null,null,null,null,null,null,null,null,null,null,null,null,null,null,null,null,2314,"CHĘCINY"]
[null,null,null,null,null,null,null,null,null,null,null,null,null,null,null,null,null,null,null,null,null,null,null,null,null,null,2314,"CHMIELNIK"]
[null,null,null,null,null,null,null,null,null,null,null,null,null,null,null,null,null,null,null,null,null,null,null,null,null,null,2314,"DALESZYCE"]
[null,null,null,null,null,null,null,null,null,null,null,null,null,null,null,null,null,null,null,null,null,null,null,null,null,null,2314,"GÓRNO"]
[null,null,null,null,null,null,null,null,null,null,null,null,null,null,null,null,null,null,null,null,null,null,null,null,null,null,2314,"ŁAGÓW"]
[null,null,null,null,null,null,null,null,null,null,null,null,null,null,null,null,null,null,null,null,null,null,null,null,null,null,2314,"ŁOPUSZNO"]
[null,null,null,null,null,null,null,null,null,null,null,null,null,null,null,null,null,null,null,null,null,null,null,null,null,null,2314,"MASŁÓW"]
[null,null,null,null,null,null,null,null,null,null,null,null,null,null,null,null,null,null,null,null,null,null,null,null,null,null,2314,"MIEDZIANA GÓRA"]
[null,null,null,null,null,null,null,null,null,null,null,null,null,null,null,null,null,null,null,null,null,null,null,null,null,null,2314,"MNIÓW"]
[null,null,null,null,null,null,null,null,null,null,null,null,null,null,null,null,null,null,null,null,null,null,null,null,null,null,2314,"MORAWICA"]
[null,null,null,null,null,null,null,null,null,null,null,null,null,null,null,null,null,null,null,null,null,null,null,null,null,null,2314,"NOWA SŁUPIA"]
[null,null,null,null,null,null,null,null,null,null,null,null,null,null,null,null,null,null,null,null,null,null,null,null,null,null,2314,"PIEKOSZÓW"]
[null,null,null,null,null,null,null,null,null,null,null,null,null,null,null,null,null,null,null,null,null,null,null,null,null,null,2314,"PIERZCHNICA"]
[null,null,null,null,null,null,null,null,null,null,null,null,null,null,null,null,null,null,null,null,null,null,null,null,null,null,2314,"RAKÓW"]
[null,null,null,null,null,null,null,null,null,null,null,null,null,null,null,null,null,null,null,null,null,null,null,null,null,null,2314,"SITKÓWKA-NOWINY"]
[null,null,null,null,null,null,null,null,null,null,null,null,null,null,null,null,null,null,null,null,null,null,null,null,null,null,2314,"STRAWCZYN"]
[null,null,null,null,null,null,null,null,null,null,null,null,null,null,null,null,null,null,null,null,null,null,null,null,null,null,2314,"ZAGNAŃSK"]
[null,null,null,null,null,null,null,null,null,null,null,null,null,null,null,null,null,null,null,null,null,null,null,null,null,null,2315,"FAŁKÓW"]
[null,null,null,null,null,null,null,null,null,null,null,null,null,null,null,null,null,null,null,null,null,null,null,null,null,null,2315,"GOWARCZÓW"]
[null,null,null,null,null,null,null,null,null,null,null,null,null,null,null,null,null,null,null,null,null,null,null,null,null,null,2315,"KOŃSKIE"]
[null,null,null,null,null,null,null,null,null,null,null,null,null,null,null,null,null,null,null,null,null,null,null,null,null,null,2315,"RADOSZYCE"]
[null,null,null,null,null,null,null,null,null,null,null,null,null,null,null,null,null,null,null,null,null,null,null,null,null,null,2315,"RUDA MALENIECKA"]
[null,null,null,null,null,null,null,null,null,null,null,null,null,null,null,null,null,null,null,null,null,null,null,null,null,null,2315,"SŁUPIA (KONECKA)"]
[null,null,null,null,null,null,null,null,null,null,null,null,null,null,null,null,null,null,null,null,null,null,null,null,null,null,2315,"SMYKÓW"]
[null,null,null,null,null,null,null,null,null,null,null,null,null,null,null,null,null,null,null,null,null,null,null,null,null,null,2315,"STĄPORKÓW"]
[null,null,null,null,null,null,null,null,null,null,null,null,null,null,null,null,null,null,null,null,null,null,null,null,null,null,2316,"BAĆKOWICE"]
[null,null,null,null,null,null,null,null,null,null,null,null,null,null,null,null,null,null,null,null,null,null,null,null,null,null,2316,"IWANISKA"]
[null,null,null,null,null,null,null,null,null,null,null,null,null,null,null,null,null,null,null,null,null,null,null,null,null,null,2316,"LIPNIK"]
[null,null,null,null,null,null,null,null,null,null,null,null,null,null,null,null,null,null,null,null,null,null,null,null,null,null,2316,"OPATÓW"]
[null,null,null,null,null,null,null,null,null,null,null,null,null,null,null,null,null,null,null,null,null,null,null,null,null,null,2316,"OŻARÓW"]
[null,null,null,null,null,null,null,null,null,null,null,null,null,null,null,null,null,null,null,null,null,null,null,null,null,null,2316,"SADOWIE"]
[null,null,null,null,null,null,null,null,null,null,null,null,null,null,null,null,null,null,null,null,null,null,null,null,null,null,2316,"TARŁÓW"]
[null,null,null,null,null,null,null,null,null,null,null,null,null,null,null,null,null,null,null,null,null,null,null,null,null,null,2316,"WOJCIECHOWICE"]
[null,null,null,null,null,null,null,null,null,null,null,null,null,null,null,null,null,null,null,null,null,null,null,null,null,null,2317,"BAŁTÓW"]
[null,null,null,null,null,null,null,null,null,null,null,null,null,null,null,null,null,null,null,null,null,null,null,null,null,null,2317,"BODZECHÓW"]
[null,null,null,null,null,null,null,null,null,null,null,null,null,null,null,null,null,null,null,null,null,null,null,null,null,null,2317,"ĆMIELÓW"]
[null,null,null,null,null,null,null,null,null,null,null,null,null,null,null,null,null,null,null,null,null,null,null,null,null,null,2317,"KUNÓW"]
[null,null,null,null,null,null,null,null,null,null,null,null,null,null,null,null,null,null,null,null,null,null,null,null,null,null,2317,"OSTROWIEC ŚWIĘTOKRZYSKI"]
[null,null,null,null,null,null,null,null,null,null,null,null,null,null,null,null,null,null,null,null,null,null,null,null,null,null,2317,"WAŚNIÓW"]
[null,null,null,null,null,null,null,null,null,null,null,null,null,null,null,null,null,null,null,null,null,null,null,null,null,null,2318,"DZIAŁOSZYCE"]
[null,null,null,null,null,null,null,null,null,null,null,null,null,null,null,null,null,null,null,null,null,null,null,null,null,null,2318,"KIJE"]
[null,null,null,null,null,null,null,null,null,null,null,null,null,null,null,null,null,null,null,null,null,null,null,null,null,null,2318,"MICHAŁÓW"]
[null,null,null,null,null,null,null,null,null,null,null,null,null,null,null,null,null,null,null,null,null,null,null,null,null,null,2318,"PIŃCZÓW"]
[null,null,null,null,null,null,null,null,null,null,null,null,null,null,null,null,null,null,null,null,null,null,null,null,null,null,2318,"ZŁOTA"]
[null,null,null,null,null,null,null,null,null,null,null,null,null,null,null,null,null,null,null,null,null,null,null,null,null,null,2319,"DWIKOZY"]
[null,null,null,null,null,null,null,null,null,null,null,null,null,null,null,null,null,null,null,null,null,null,null,null,null,null,2319,"KLIMONTÓW"]
[null,null,null,null,null,null,null,null,null,null,null,null,null,null,null,null,null,null,null,null,null,null,null,null,null,null,2319,"KOPRZYWNICA"]
[null,null,null,null,null,null,null,null,null,null,null,null,null,null,null,null,null,null,null,null,null,null,null,null,null,null,2319,"ŁONIÓW"]
[null,null,null,null,null,null,null,null,null,null,null,null,null,null,null,null,null,null,null,null,null,null,null,null,null,null,2319,"OBRAZÓW"]
[null,null,null,null,null,null,null,null,null,null,null,null,null,null,null,null,null,null,null,null,null,null,null,null,null,null,2319,"SAMBORZEC"]
[null,null,null,null,null,null,null,null,null,null,null,null,null,null,null,null,null,null,null,null,null,null,null,null,null,null,2319,"SANDOMIERZ"]
[null,null,null,null,null,null,null,null,null,null,null,null,null,null,null,null,null,null,null,null,null,null,null,null,null,null,2319,"WILCZYCE"]
[null,null,null,null,null,null,null,null,null,null,null,null,null,null,null,null,null,null,null,null,null,null,null,null,null,null,2319,"ZAWICHOST"]
[null,null,null,null,null,null,null,null,null,null,null,null,null,null,null,null,null,null,null,null,null,null,null,null,null,null,2320,"BLIŻYN"]
[null,null,null,null,null,null,null,null,null,null,null,null,null,null,null,null,null,null,null,null,null,null,null,null,null,null,2320,"ŁĄCZNA"]
[null,null,null,null,null,null,null,null,null,null,null,null,null,null,null,null,null,null,null,null,null,null,null,null,null,null,2320,"SKARŻYSKO KOŚCIELNE"]
[null,null,null,null,null,null,null,null,null,null,null,null,null,null,null,null,null,null,null,null,null,null,null,null,null,null,2320,"SKARŻYSKO-KAMIENNA"]
[null,null,null,null,null,null,null,null,null,null,null,null,null,null,null,null,null,null,null,null,null,null,null,null,null,null,2320,"SUCHEDNIÓW"]
[null,null,null,null,null,null,null,null,null,null,null,null,null,null,null,null,null,null,null,null,null,null,null,null,null,null,2321,"BRODY"]
[null,null,null,null,null,null,null,null,null,null,null,null,null,null,null,null,null,null,null,null,null,null,null,null,null,null,2321,"MIRZEC"]
[null,null,null,null,null,null,null,null,null,null,null,null,null,null,null,null,null,null,null,null,null,null,null,null,null,null,2321,"PAWŁÓW"]
[null,null,null,null,null,null,null,null,null,null,null,null,null,null,null,null,null,null,null,null,null,null,null,null,null,null,2321,"STARACHOWICE"]
[null,null,null,null,null,null,null,null,null,null,null,null,null,null,null,null,null,null,null,null,null,null,null,null,null,null,2321,"WĄCHOCK"]
[null,null,null,null,null,null,null,null,null,null,null,null,null,null,null,null,null,null,null,null,null,null,null,null,null,null,2322,"BOGORIA"]
[null,null,null,null,null,null,null,null,null,null,null,null,null,null,null,null,null,null,null,null,null,null,null,null,null,null,2322,"ŁUBNICE"]
[null,null,null,null,null,null,null,null,null,null,null,null,null,null,null,null,null,null,null,null,null,null,null,null,null,null,2322,"OLEŚNICA"]
[null,null,null,null,null,null,null,null,null,null,null,null,null,null,null,null,null,null,null,null,null,null,null,null,null,null,2322,"OSIEK"]
[null,null,null,null,null,null,null,null,null,null,null,null,null,null,null,null,null,null,null,null,null,null,null,null,null,null,2322,"POŁANIEC"]
[null,null,null,null,null,null,null,null,null,null,null,null,null,null,null,null,null,null,null,null,null,null,null,null,null,null,2322,"RYTWIANY"]
[null,null,null,null,null,null,null,null,null,null,null,null,null,null,null,null,null,null,null,null,null,null,null,null,null,null,2322,"STASZÓW"]
[null,null,null,null,null,null,null,null,null,null,null,null,null,null,null,null,null,null,null,null,null,null,null,null,null,null,2322,"SZYDŁÓW"]
[null,null,null,null,null,null,null,null,null,null,null,null,null,null,null,null,null,null,null,null,null,null,null,null,null,null,2323,"KLUCZEWSKO"]
[null,null,null,null,null,null,null,null,null,null,null,null,null,null,null,null,null,null,null,null,null,null,null,null,null,null,2323,"KRASOCIN"]
[null,null,null,null,null,null,null,null,null,null,null,null,null,null,null,null,null,null,null,null,null,null,null,null,null,null,2323,"MOSKORZEW"]
[null,null,null,null,null,null,null,null,null,null,null,null,null,null,null,null,null,null,null,null,null,null,null,null,null,null,2323,"RADKÓW"]
[null,null,null,null,null,null,null,null,null,null,null,null,null,null,null,null,null,null,null,null,null,null,null,null,null,null,2323,"SECEMIN"]
[null,null,null,null,null,null,null,null,null,null,null,null,null,null,null,null,null,null,null,null,null,null,null,null,null,null,2323,"WŁOSZCZOWA"]
[null,null,null,null,null,null,null,null,null,null,null,null,null,null,null,null,null,null,null,null,null,null,null,null,null,null,2324,"M.KIELCE"]
[null,null,null,null,null,null,null,null,null,null,null,null,null,null,null,null,null,null,null,null,null,null,null,null,null,null,2411,"BARTOSZYCE-MIEJSKA"]
[null,null,null,null,null,null,null,null,null,null,null,null,null,null,null,null,null,null,null,null,null,null,null,null,null,null,2411,"BARTOSZYCE-WIEJSKA"]
[null,null,null,null,null,null,null,null,null,null,null,null,null,null,null,null,null,null,null,null,null,null,null,null,null,null,2411,"BISZTYNEK"]
[null,null,null,null,null,null,null,null,null,null,null,null,null,null,null,null,null,null,null,null,null,null,null,null,null,null,2411,"GÓROWO IŁAWECKIE-MIEJSKA"]
[null,null,null,null,null,null,null,null,null,null,null,null,null,null,null,null,null,null,null,null,null,null,null,null,null,null,2411,"GÓROWO IŁAWECKIE-WIEJSKA"]
[null,null,null,null,null,null,null,null,null,null,null,null,null,null,null,null,null,null,null,null,null,null,null,null,null,null,2411,"SĘPOPOL"]
[null,null,null,null,null,null,null,null,null,null,null,null,null,null,null,null,null,null,null,null,null,null,null,null,null,null,2412,"BRANIEWO-MIEJSKA"]
[null,null,null,null,null,null,null,null,null,null,null,null,null,null,null,null,null,null,null,null,null,null,null,null,null,null,2412,"BRANIEWO-WIEJSKA"]
[null,null,null,null,null,null,null,null,null,null,null,null,null,null,null,null,null,null,null,null,null,null,null,null,null,null,2412,"FROMBORK"]
[null,null,null,null,null,null,null,null,null,null,null,null,null,null,null,null,null,null,null,null,null,null,null,null,null,null,2412,"LELKOWO"]
[null,null,null,null,null,null,null,null,null,null,null,null,null,null,null,null,null,null,null,null,null,null,null,null,null,null,2412,"PIENIĘŻNO"]
[null,null,null,null,null,null,null,null,null,null,null,null,null,null,null,null,null,null,null,null,null,null,null,null,null,null,2412,"PŁOSKINIA"]
[null,null,null,null,null,null,null,null,null,null,null,null,null,null,null,null,null,null,null,null,null,null,null,null,null,null,2412,"WILCZĘTA"]
[null,null,null,null,null,null,null,null,null,null,null,null,null,null,null,null,null,null,null,null,null,null,null,null,null,null,2413,"DZIAŁDOWO-MIEJSKA"]
[null,null,null,null,null,null,null,null,null,null,null,null,null,null,null,null,null,null,null,null,null,null,null,null,null,null,2413,"DZIAŁDOWO-WIEJSKA"]
[null,null,null,null,null,null,null,null,null,null,null,null,null,null,null,null,null,null,null,null,null,null,null,null,null,null,2413,"IŁOWO-OSADA"]
[null,null,null,null,null,null,null,null,null,null,null,null,null,null,null,null,null,null,null,null,null,null,null,null,null,null,2413,"LIDZBARK"]
[null,null,null,null,null,null,null,null,null,null,null,null,null,null,null,null,null,null,null,null,null,null,null,null,null,null,2413,"PŁOŚNICA"]
[null,null,null,null,null,null,null,null,null,null,null,null,null,null,null,null,null,null,null,null,null,null,null,null,null,null,2413,"RYBNO"]
[null,null,null,null,null,null,null,null,null,null,null,null,null,null,null,null,null,null,null,null,null,null,null,null,null,null,2414,"ELBLĄG"]
[null,null,null,null,null,null,null,null,null,null,null,null,null,null,null,null,null,null,null,null,null,null,null,null,null,null,2414,"GODKOWO"]
[null,null,null,null,null,null,null,null,null,null,null,null,null,null,null,null,null,null,null,null,null,null,null,null,null,null,2414,"GRONOWO ELBLĄSKIE"]
[null,null,null,null,null,null,null,null,null,null,null,null,null,null,null,null,null,null,null,null,null,null,null,null,null,null,2414,"MARKUSY"]
[null,null,null,null,null,null,null,null,null,null,null,null,null,null,null,null,null,null,null,null,null,null,null,null,null,null,2414,"MILEJEWO"]
[null,null,null,null,null,null,null,null,null,null,null,null,null,null,null,null,null,null,null,null,null,null,null,null,null,null,2414,"MŁYNARY"]
[null,null,null,null,null,null,null,null,null,null,null,null,null,null,null,null,null,null,null,null,null,null,null,null,null,null,2414,"PASŁĘK"]
[null,null,null,null,null,null,null,null,null,null,null,null,null,null,null,null,null,null,null,null,null,null,null,null,null,null,2414,"RYCHLIKI"]
[null,null,null,null,null,null,null,null,null,null,null,null,null,null,null,null,null,null,null,null,null,null,null,null,null,null,2414,"TOLKMICKO"]
[null,null,null,null,null,null,null,null,null,null,null,null,null,null,null,null,null,null,null,null,null,null,null,null,null,null,2415,"EŁK-MIEJSKA"]
[null,null,null,null,null,null,null,null,null,null,null,null,null,null,null,null,null,null,null,null,null,null,null,null,null,null,2415,"EŁK-WIEJSKA"]
[null,null,null,null,null,null,null,null,null,null,null,null,null,null,null,null,null,null,null,null,null,null,null,null,null,null,2415,"KALINOWO"]
[null,null,null,null,null,null,null,null,null,null,null,null,null,null,null,null,null,null,null,null,null,null,null,null,null,null,2415,"PROSTKI"]
[null,null,null,null,null,null,null,null,null,null,null,null,null,null,null,null,null,null,null,null,null,null,null,null,null,null,2415,"STARE JUCHY"]
[null,null,null,null,null,null,null,null,null,null,null,null,null,null,null,null,null,null,null,null,null,null,null,null,null,null,2416,"GIŻYCKO-MIEJSKA"]
[null,null,null,null,null,null,null,null,null,null,null,null,null,null,null,null,null,null,null,null,null,null,null,null,null,null,2416,"GIŻYCKO-WIEJSKA"]
[null,null,null,null,null,null,null,null,null,null,null,null,null,null,null,null,null,null,null,null,null,null,null,null,null,null,2416,"KRUKLANKI"]
[null,null,null,null,null,null,null,null,null,null,null,null,null,null,null,null,null,null,null,null,null,null,null,null,null,null,2416,"MIŁKI"]
[null,null,null,null,null,null,null,null,null,null,null,null,null,null,null,null,null,null,null,null,null,null,null,null,null,null,2416,"RYN"]
[null,null,null,null,null,null,null,null,null,null,null,null,null,null,null,null,null,null,null,null,null,null,null,null,null,null,2416,"WYDMINY"]
[null,null,null,null,null,null,null,null,null,null,null,null,null,null,null,null,null,null,null,null,null,null,null,null,null,null,2417,"IŁAWA-MIEJSKA"]
[null,null,null,null,null,null,null,null,null,null,null,null,null,null,null,null,null,null,null,null,null,null,null,null,null,null,2417,"IŁAWA-WIEJSKA"]
[null,null,null,null,null,null,null,null,null,null,null,null,null,null,null,null,null,null,null,null,null,null,null,null,null,null,2417,"KISIELICE"]
[null,null,null,null,null,null,null,null,null,null,null,null,null,null,null,null,null,null,null,null,null,null,null,null,null,null,2417,"LUBAWA-MIEJSKA"]
[null,null,null,null,null,null,null,null,null,null,null,null,null,null,null,null,null,null,null,null,null,null,null,null,null,null,2417,"LUBAWA-WIEJSKA"]
[null,null,null,null,null,null,null,null,null,null,null,null,null,null,null,null,null,null,null,null,null,null,null,null,null,null,2417,"SUSZ"]
[null,null,null,null,null,null,null,null,null,null,null,null,null,null,null,null,null,null,null,null,null,null,null,null,null,null,2417,"ZALEWO"]
[null,null,null,null,null,null,null,null,null,null,null,null,null,null,null,null,null,null,null,null,null,null,null,null,null,null,2418,"BARCIANY"]
[null,null,null,null,null,null,null,null,null,null,null,null,null,null,null,null,null,null,null,null,null,null,null,null,null,null,2418,"KĘTRZYN-MIEJSKA"]
[null,null,null,null,null,null,null,null,null,null,null,null,null,null,null,null,null,null,null,null,null,null,null,null,null,null,2418,"KĘTRZYN-WIEJSKA"]
[null,null,null,null,null,null,null,null,null,null,null,null,null,null,null,null,null,null,null,null,null,null,null,null,null,null,2418,"KORSZE"]
[null,null,null,null,null,null,null,null,null,null,null,null,null,null,null,null,null,null,null,null,null,null,null,null,null,null,2418,"RESZEL"]
[null,null,null,null,null,null,null,null,null,null,null,null,null,null,null,null,null,null,null,null,null,null,null,null,null,null,2418,"SROKOWO"]
[null,null,null,null,null,null,null,null,null,null,null,null,null,null,null,null,null,null,null,null,null,null,null,null,null,null,2419,"KIWITY"]
[null,null,null,null,null,null,null,null,null,null,null,null,null,null,null,null,null,null,null,null,null,null,null,null,null,null,2419,"LIDZBARK WARMIŃSKI-MIEJSKA"]
[null,null,null,null,null,null,null,null,null,null,null,null,null,null,null,null,null,null,null,null,null,null,null,null,null,null,2419,"LIDZBARK WARMIŃSKI-WIEJSKA"]
[null,null,null,null,null,null,null,null,null,null,null,null,null,null,null,null,null,null,null,null,null,null,null,null,null,null,2419,"LUBOMINO"]
[null,null,null,null,null,null,null,null,null,null,null,null,null,null,null,null,null,null,null,null,null,null,null,null,null,null,2419,"ORNETA"]
[null,null,null,null,null,null,null,null,null,null,null,null,null,null,null,null,null,null,null,null,null,null,null,null,null,null,2420,"MIKOŁAJKI"]
[null,null,null,null,null,null,null,null,null,null,null,null,null,null,null,null,null,null,null,null,null,null,null,null,null,null,2420,"MRĄGOWO-MIEJSKA"]
[null,null,null,null,null,null,null,null,null,null,null,null,null,null,null,null,null,null,null,null,null,null,null,null,null,null,2420,"MRĄGOWO-WIEJSKA"]
[null,null,null,null,null,null,null,null,null,null,null,null,null,null,null,null,null,null,null,null,null,null,null,null,null,null,2420,"PIECKI"]
[null,null,null,null,null,null,null,null,null,null,null,null,null,null,null,null,null,null,null,null,null,null,null,null,null,null,2420,"SORKWITY"]
[null,null,null,null,null,null,null,null,null,null,null,null,null,null,null,null,null,null,null,null,null,null,null,null,null,null,2421,"JANOWIEC KOŚCIELNY"]
[null,null,null,null,null,null,null,null,null,null,null,null,null,null,null,null,null,null,null,null,null,null,null,null,null,null,2421,"JANOWO"]
[null,null,null,null,null,null,null,null,null,null,null,null,null,null,null,null,null,null,null,null,null,null,null,null,null,null,2421,"KOZŁOWO"]
[null,null,null,null,null,null,null,null,null,null,null,null,null,null,null,null,null,null,null,null,null,null,null,null,null,null,2421,"NIDZICA"]
[null,null,null,null,null,null,null,null,null,null,null,null,null,null,null,null,null,null,null,null,null,null,null,null,null,null,2422,"BISKUPIEC"]
[null,null,null,null,null,null,null,null,null,null,null,null,null,null,null,null,null,null,null,null,null,null,null,null,null,null,2422,"GRODZICZNO"]
[null,null,null,null,null,null,null,null,null,null,null,null,null,null,null,null,null,null,null,null,null,null,null,null,null,null,2422,"KURZĘTNIK"]
[null,null,null,null,null,null,null,null,null,null,null,null,null,null,null,null,null,null,null,null,null,null,null,null,null,null,2422,"NOWE MIASTO LUBAWSKIE-MIEJSKA"]
[null,null,null,null,null,null,null,null,null,null,null,null,null,null,null,null,null,null,null,null,null,null,null,null,null,null,2422,"NOWE MIASTO LUBAWSKIE-WIEJSKA"]
[null,null,null,null,null,null,null,null,null,null,null,null,null,null,null,null,null,null,null,null,null,null,null,null,null,null,2423,"KOWALE OLECKIE"]
[null,null,null,null,null,null,null,null,null,null,null,null,null,null,null,null,null,null,null,null,null,null,null,null,null,null,2423,"OLECKO"]
[null,null,null,null,null,null,null,null,null,null,null,null,null,null,null,null,null,null,null,null,null,null,null,null,null,null,2423,"ŚWIĘTAJNO"]
[null,null,null,null,null,null,null,null,null,null,null,null,null,null,null,null,null,null,null,null,null,null,null,null,null,null,2423,"WIELICZKI"]
[null,null,null,null,null,null,null,null,null,null,null,null,null,null,null,null,null,null,null,null,null,null,null,null,null,null,2424,"BARCZEWO"]
[null,null,null,null,null,null,null,null,null,null,null,null,null,null,null,null,null,null,null,null,null,null,null,null,null,null,2424,"BISKUPIEC"]
[null,null,null,null,null,null,null,null,null,null,null,null,null,null,null,null,null,null,null,null,null,null,null,null,null,null,2424,"DOBRE MIASTO"]
[null,null,null,null,null,null,null,null,null,null,null,null,null,null,null,null,null,null,null,null,null,null,null,null,null,null,2424,"DYWITY"]
[null,null,null,null,null,null,null,null,null,null,null,null,null,null,null,null,null,null,null,null,null,null,null,null,null,null,2424,"GIETRZWAŁD"]
[null,null,null,null,null,null,null,null,null,null,null,null,null,null,null,null,null,null,null,null,null,null,null,null,null,null,2424,"JEZIORANY"]
[null,null,null,null,null,null,null,null,null,null,null,null,null,null,null,null,null,null,null,null,null,null,null,null,null,null,2424,"JONKOWO"]
[null,null,null,null,null,null,null,null,null,null,null,null,null,null,null,null,null,null,null,null,null,null,null,null,null,null,2424,"KOLNO"]
[null,null,null,null,null,null,null,null,null,null,null,null,null,null,null,null,null,null,null,null,null,null,null,null,null,null,2424,"OLSZTYNEK"]
[null,null,null,null,null,null,null,null,null,null,null,null,null,null,null,null,null,null,null,null,null,null,null,null,null,null,2424,"PURDA"]
[null,null,null,null,null,null,null,null,null,null,null,null,null,null,null,null,null,null,null,null,null,null,null,null,null,null,2424,"STAWIGUDA"]
[null,null,null,null,null,null,null,null,null,null,null,null,null,null,null,null,null,null,null,null,null,null,null,null,null,null,2424,"ŚWIĄTKI"]
[null,null,null,null,null,null,null,null,null,null,null,null,null,null,null,null,null,null,null,null,null,null,null,null,null,null,2425,"DĄBRÓWNO"]
[null,null,null,null,null,null,null,null,null,null,null,null,null,null,null,null,null,null,null,null,null,null,null,null,null,null,2425,"GRUNWALD"]
[null,null,null,null,null,null,null,null,null,null,null,null,null,null,null,null,null,null,null,null,null,null,null,null,null,null,2425,"ŁUKTA"]
[null,null,null,null,null,null,null,null,null,null,null,null,null,null,null,null,null,null,null,null,null,null,null,null,null,null,2425,"MAŁDYTY"]
[null,null,null,null,null,null,null,null,null,null,null,null,null,null,null,null,null,null,null,null,null,null,null,null,null,null,2425,"MIŁAKOWO"]
[null,null,null,null,null,null,null,null,null,null,null,null,null,null,null,null,null,null,null,null,null,null,null,null,null,null,2425,"MIŁOMŁYN"]
[null,null,null,null,null,null,null,null,null,null,null,null,null,null,null,null,null,null,null,null,null,null,null,null,null,null,2425,"MORĄG"]
[null,null,null,null,null,null,null,null,null,null,null,null,null,null,null,null,null,null,null,null,null,null,null,null,null,null,2425,"OSTRÓDA-MIEJSKA"]
[null,null,null,null,null,null,null,null,null,null,null,null,null,null,null,null,null,null,null,null,null,null,null,null,null,null,2425,"OSTRÓDA-WIEJSKA"]
[null,null,null,null,null,null,null,null,null,null,null,null,null,null,null,null,null,null,null,null,null,null,null,null,null,null,2426,"BIAŁA PISKA"]
[null,null,null,null,null,null,null,null,null,null,null,null,null,null,null,null,null,null,null,null,null,null,null,null,null,null,2426,"ORZYSZ"]
[null,null,null,null,null,null,null,null,null,null,null,null,null,null,null,null,null,null,null,null,null,null,null,null,null,null,2426,"PISZ"]
[null,null,null,null,null,null,null,null,null,null,null,null,null,null,null,null,null,null,null,null,null,null,null,null,null,null,2426,"RUCIANE-NIDA"]
[null,null,null,null,null,null,null,null,null,null,null,null,null,null,null,null,null,null,null,null,null,null,null,null,null,null,2427,"DŹWIERZUTY"]
[null,null,null,null,null,null,null,null,null,null,null,null,null,null,null,null,null,null,null,null,null,null,null,null,null,null,2427,"JEDWABNO"]
[null,null,null,null,null,null,null,null,null,null,null,null,null,null,null,null,null,null,null,null,null,null,null,null,null,null,2427,"PASYM"]
[null,null,null,null,null,null,null,null,null,null,null,null,null,null,null,null,null,null,null,null,null,null,null,null,null,null,2427,"ROZOGI"]
[null,null,null,null,null,null,null,null,null,null,null,null,null,null,null,null,null,null,null,null,null,null,null,null,null,null,2427,"SZCZYTNO-MIEJSKA"]
[null,null,null,null,null,null,null,null,null,null,null,null,null,null,null,null,null,null,null,null,null,null,null,null,null,null,2427,"SZCZYTNO-WIEJSKA"]
[null,null,null,null,null,null,null,null,null,null,null,null,null,null,null,null,null,null,null,null,null,null,null,null,null,null,2427,"ŚWIĘTAJNO"]
[null,null,null,null,null,null,null,null,null,null,null,null,null,null,null,null,null,null,null,null,null,null,null,null,null,null,2427,"WIELBARK"]
[null,null,null,null,null,null,null,null,null,null,null,null,null,null,null,null,null,null,null,null,null,null,null,null,null,null,2428,"BANIE MAZURSKIE"]
[null,null,null,null,null,null,null,null,null,null,null,null,null,null,null,null,null,null,null,null,null,null,null,null,null,null,2428,"DUBENINKI"]
[null,null,null,null,null,null,null,null,null,null,null,null,null,null,null,null,null,null,null,null,null,null,null,null,null,null,2428,"GOŁDAP"]
[null,null,null,null,null,null,null,null,null,null,null,null,null,null,null,null,null,null,null,null,null,null,null,null,null,null,2429,"BUDRY"]
[null,null,null,null,null,null,null,null,null,null,null,null,null,null,null,null,null,null,null,null,null,null,null,null,null,null,2429,"POZEZDRZE"]
[null,null,null,null,null,null,null,null,null,null,null,null,null,null,null,null,null,null,null,null,null,null,null,null,null,null,2429,"WĘGORZEWO"]
[null,null,null,null,null,null,null,null,null,null,null,null,null,null,null,null,null,null,null,null,null,null,null,null,null,null,2430,"M.ELBLĄG"]
[null,null,null,null,null,null,null,null,null,null,null,null,null,null,null,null,null,null,null,null,null,null,null,null,null,null,2431,"M.OLSZTYN"]
[null,null,null,null,null,null,null,null,null,null,null,null,null,null,null,null,null,null,null,null,null,null,null,null,null,null,2511,"BUDZYŃ"]
[null,null,null,null,null,null,null,null,null,null,null,null,null,null,null,null,null,null,null,null,null,null,null,null,null,null,2511,"CHODZIEŻ-MIEJSKA"]
[null,null,null,null,null,null,null,null,null,null,null,null,null,null,null,null,null,null,null,null,null,null,null,null,null,null,2511,"CHODZIEŻ-WIEJSKA"]
[null,null,null,null,null,null,null,null,null,null,null,null,null,null,null,null,null,null,null,null,null,null,null,null,null,null,2511,"MARGONIN"]
[null,null,null,null,null,null,null,null,null,null,null,null,null,null,null,null,null,null,null,null,null,null,null,null,null,null,2511,"SZAMOCIN"]
[null,null,null,null,null,null,null,null,null,null,null,null,null,null,null,null,null,null,null,null,null,null,null,null,null,null,2512,"CZARNKÓW-MIEJSKA"]
[null,null,null,null,null,null,null,null,null,null,null,null,null,null,null,null,null,null,null,null,null,null,null,null,null,null,2512,"CZARNKÓW-WIEJSKA"]
[null,null,null,null,null,null,null,null,null,null,null,null,null,null,null,null,null,null,null,null,null,null,null,null,null,null,2512,"DRAWSKO"]
[null,null,null,null,null,null,null,null,null,null,null,null,null,null,null,null,null,null,null,null,null,null,null,null,null,null,2512,"KRZYŻ WIELKOPOLSKI"]
[null,null,null,null,null,null,null,null,null,null,null,null,null,null,null,null,null,null,null,null,null,null,null,null,null,null,2512,"LUBASZ"]
[null,null,null,null,null,null,null,null,null,null,null,null,null,null,null,null,null,null,null,null,null,null,null,null,null,null,2512,"POŁAJEWO"]
[null,null,null,null,null,null,null,null,null,null,null,null,null,null,null,null,null,null,null,null,null,null,null,null,null,null,2512,"TRZCIANKA"]
[null,null,null,null,null,null,null,null,null,null,null,null,null,null,null,null,null,null,null,null,null,null,null,null,null,null,2512,"WIELEŃ"]
[null,null,null,null,null,null,null,null,null,null,null,null,null,null,null,null,null,null,null,null,null,null,null,null,null,null,2513,"CZERNIEJEWO"]
[null,null,null,null,null,null,null,null,null,null,null,null,null,null,null,null,null,null,null,null,null,null,null,null,null,null,2513,"GNIEZNO-MIEJSKA"]
[null,null,null,null,null,null,null,null,null,null,null,null,null,null,null,null,null,null,null,null,null,null,null,null,null,null,2513,"GNIEZNO-WIEJSKA"]
[null,null,null,null,null,null,null,null,null,null,null,null,null,null,null,null,null,null,null,null,null,null,null,null,null,null,2513,"KISZKOWO"]
[null,null,null,null,null,null,null,null,null,null,null,null,null,null,null,null,null,null,null,null,null,null,null,null,null,null,2513,"KŁECKO"]
[null,null,null,null,null,null,null,null,null,null,null,null,null,null,null,null,null,null,null,null,null,null,null,null,null,null,2513,"ŁUBOWO"]
[null,null,null,null,null,null,null,null,null,null,null,null,null,null,null,null,null,null,null,null,null,null,null,null,null,null,2513,"MIELESZYN"]
[null,null,null,null,null,null,null,null,null,null,null,null,null,null,null,null,null,null,null,null,null,null,null,null,null,null,2513,"NIECHANOWO"]
[null,null,null,null,null,null,null,null,null,null,null,null,null,null,null,null,null,null,null,null,null,null,null,null,null,null,2513,"TRZEMESZNO"]
[null,null,null,null,null,null,null,null,null,null,null,null,null,null,null,null,null,null,null,null,null,null,null,null,null,null,2513,"WITKOWO"]
[null,null,null,null,null,null,null,null,null,null,null,null,null,null,null,null,null,null,null,null,null,null,null,null,null,null,2514,"BOREK WIELKOPOLSKI"]
[null,null,null,null,null,null,null,null,null,null,null,null,null,null,null,null,null,null,null,null,null,null,null,null,null,null,2514,"GOSTYŃ"]
[null,null,null,null,null,null,null,null,null,null,null,null,null,null,null,null,null,null,null,null,null,null,null,null,null,null,2514,"KROBIA"]
[null,null,null,null,null,null,null,null,null,null,null,null,null,null,null,null,null,null,null,null,null,null,null,null,null,null,2514,"PĘPOWO"]
[null,null,null,null,null,null,null,null,null,null,null,null,null,null,null,null,null,null,null,null,null,null,null,null,null,null,2514,"PIASKI"]
[null,null,null,null,null,null,null,null,null,null,null,null,null,null,null,null,null,null,null,null,null,null,null,null,null,null,2514,"POGORZELA"]
[null,null,null,null,null,null,null,null,null,null,null,null,null,null,null,null,null,null,null,null,null,null,null,null,null,null,2514,"PONIEC"]
[null,null,null,null,null,null,null,null,null,null,null,null,null,null,null,null,null,null,null,null,null,null,null,null,null,null,2515,"GRANOWO"]
[null,null,null,null,null,null,null,null,null,null,null,null,null,null,null,null,null,null,null,null,null,null,null,null,null,null,2515,"GRODZISK WIELKOPOLSKI"]
[null,null,null,null,null,null,null,null,null,null,null,null,null,null,null,null,null,null,null,null,null,null,null,null,null,null,2515,"KAMIENIEC"]
[null,null,null,null,null,null,null,null,null,null,null,null,null,null,null,null,null,null,null,null,null,null,null,null,null,null,2515,"RAKONIEWICE"]
[null,null,null,null,null,null,null,null,null,null,null,null,null,null,null,null,null,null,null,null,null,null,null,null,null,null,2515,"WIELICHOWO"]
[null,null,null,null,null,null,null,null,null,null,null,null,null,null,null,null,null,null,null,null,null,null,null,null,null,null,2516,"JARACZEWO"]
[null,null,null,null,null,null,null,null,null,null,null,null,null,null,null,null,null,null,null,null,null,null,null,null,null,null,2516,"JAROCIN"]
[null,null,null,null,null,null,null,null,null,null,null,null,null,null,null,null,null,null,null,null,null,null,null,null,null,null,2516,"KOTLIN"]
[null,null,null,null,null,null,null,null,null,null,null,null,null,null,null,null,null,null,null,null,null,null,null,null,null,null,2516,"ŻERKÓW"]
[null,null,null,null,null,null,null,null,null,null,null,null,null,null,null,null,null,null,null,null,null,null,null,null,null,null,2517,"BLIZANÓW"]
[null,null,null,null,null,null,null,null,null,null,null,null,null,null,null,null,null,null,null,null,null,null,null,null,null,null,2517,"BRZEZINY"]
[null,null,null,null,null,null,null,null,null,null,null,null,null,null,null,null,null,null,null,null,null,null,null,null,null,null,2517,"CEKÓW-KOLONIA"]
[null,null,null,null,null,null,null,null,null,null,null,null,null,null,null,null,null,null,null,null,null,null,null,null,null,null,2517,"GODZIESZE WIELKIE"]
[null,null,null,null,null,null,null,null,null,null,null,null,null,null,null,null,null,null,null,null,null,null,null,null,null,null,2517,"KOŹMINEK"]
[null,null,null,null,null,null,null,null,null,null,null,null,null,null,null,null,null,null,null,null,null,null,null,null,null,null,2517,"LISKÓW"]
[null,null,null,null,null,null,null,null,null,null,null,null,null,null,null,null,null,null,null,null,null,null,null,null,null,null,2517,"MYCIELIN"]
[null,null,null,null,null,null,null,null,null,null,null,null,null,null,null,null,null,null,null,null,null,null,null,null,null,null,2517,"OPATÓWEK"]
[null,null,null,null,null,null,null,null,null,null,null,null,null,null,null,null,null,null,null,null,null,null,null,null,null,null,2517,"STAWISZYN"]
[null,null,null,null,null,null,null,null,null,null,null,null,null,null,null,null,null,null,null,null,null,null,null,null,null,null,2517,"SZCZYTNIKI"]
[null,null,null,null,null,null,null,null,null,null,null,null,null,null,null,null,null,null,null,null,null,null,null,null,null,null,2517,"ŻELAZKÓW"]
[null,null,null,null,null,null,null,null,null,null,null,null,null,null,null,null,null,null,null,null,null,null,null,null,null,null,2518,"BARANÓW"]
[null,null,null,null,null,null,null,null,null,null,null,null,null,null,null,null,null,null,null,null,null,null,null,null,null,null,2518,"BRALIN"]
[null,null,null,null,null,null,null,null,null,null,null,null,null,null,null,null,null,null,null,null,null,null,null,null,null,null,2518,"KĘPNO"]
[null,null,null,null,null,null,null,null,null,null,null,null,null,null,null,null,null,null,null,null,null,null,null,null,null,null,2518,"ŁĘKA OPATOWSKA"]
[null,null,null,null,null,null,null,null,null,null,null,null,null,null,null,null,null,null,null,null,null,null,null,null,null,null,2518,"PERZÓW"]
[null,null,null,null,null,null,null,null,null,null,null,null,null,null,null,null,null,null,null,null,null,null,null,null,null,null,2518,"RYCHTAL"]
[null,null,null,null,null,null,null,null,null,null,null,null,null,null,null,null,null,null,null,null,null,null,null,null,null,null,2518,"TRZCINICA"]
[null,null,null,null,null,null,null,null,null,null,null,null,null,null,null,null,null,null,null,null,null,null,null,null,null,null,2519,"BABIAK"]
[null,null,null,null,null,null,null,null,null,null,null,null,null,null,null,null,null,null,null,null,null,null,null,null,null,null,2519,"CHODÓW"]
[null,null,null,null,null,null,null,null,null,null,null,null,null,null,null,null,null,null,null,null,null,null,null,null,null,null,2519,"DĄBIE"]
[null,null,null,null,null,null,null,null,null,null,null,null,null,null,null,null,null,null,null,null,null,null,null,null,null,null,2519,"GRZEGORZEW"]
[null,null,null,null,null,null,null,null,null,null,null,null,null,null,null,null,null,null,null,null,null,null,null,null,null,null,2519,"KŁODAWA"]
[null,null,null,null,null,null,null,null,null,null,null,null,null,null,null,null,null,null,null,null,null,null,null,null,null,null,2519,"KOŁO-MIEJSKA"]
[null,null,null,null,null,null,null,null,null,null,null,null,null,null,null,null,null,null,null,null,null,null,null,null,null,null,2519,"KOŁO-WIEJSKA"]
[null,null,null,null,null,null,null,null,null,null,null,null,null,null,null,null,null,null,null,null,null,null,null,null,null,null,2519,"KOŚCIELEC"]
[null,null,null,null,null,null,null,null,null,null,null,null,null,null,null,null,null,null,null,null,null,null,null,null,null,null,2519,"OLSZÓWKA"]
[null,null,null,null,null,null,null,null,null,null,null,null,null,null,null,null,null,null,null,null,null,null,null,null,null,null,2519,"OSIEK MAŁY"]
[null,null,null,null,null,null,null,null,null,null,null,null,null,null,null,null,null,null,null,null,null,null,null,null,null,null,2519,"PRZEDECZ"]
[null,null,null,null,null,null,null,null,null,null,null,null,null,null,null,null,null,null,null,null,null,null,null,null,null,null,2520,"GOLINA"]
[null,null,null,null,null,null,null,null,null,null,null,null,null,null,null,null,null,null,null,null,null,null,null,null,null,null,2520,"GRODZIEC"]
[null,null,null,null,null,null,null,null,null,null,null,null,null,null,null,null,null,null,null,null,null,null,null,null,null,null,2520,"KAZIMIERZ BISKUPI"]
[null,null,null,null,null,null,null,null,null,null,null,null,null,null,null,null,null,null,null,null,null,null,null,null,null,null,2520,"KLECZEW"]
[null,null,null,null,null,null,null,null,null,null,null,null,null,null,null,null,null,null,null,null,null,null,null,null,null,null,2520,"KRAMSK"]
[null,null,null,null,null,null,null,null,null,null,null,null,null,null,null,null,null,null,null,null,null,null,null,null,null,null,2520,"KRZYMÓW"]
[null,null,null,null,null,null,null,null,null,null,null,null,null,null,null,null,null,null,null,null,null,null,null,null,null,null,2520,"RYCHWAŁ"]
[null,null,null,null,null,null,null,null,null,null,null,null,null,null,null,null,null,null,null,null,null,null,null,null,null,null,2520,"RZGÓW"]
[null,null,null,null,null,null,null,null,null,null,null,null,null,null,null,null,null,null,null,null,null,null,null,null,null,null,2520,"SKULSK"]
[null,null,null,null,null,null,null,null,null,null,null,null,null,null,null,null,null,null,null,null,null,null,null,null,null,null,2520,"SOMPOLNO"]
[null,null,null,null,null,null,null,null,null,null,null,null,null,null,null,null,null,null,null,null,null,null,null,null,null,null,2520,"STARE MIASTO"]
[null,null,null,null,null,null,null,null,null,null,null,null,null,null,null,null,null,null,null,null,null,null,null,null,null,null,2520,"ŚLESIN"]
[null,null,null,null,null,null,null,null,null,null,null,null,null,null,null,null,null,null,null,null,null,null,null,null,null,null,2520,"WIERZBINEK"]
[null,null,null,null,null,null,null,null,null,null,null,null,null,null,null,null,null,null,null,null,null,null,null,null,null,null,2520,"WILCZYN"]
[null,null,null,null,null,null,null,null,null,null,null,null,null,null,null,null,null,null,null,null,null,null,null,null,null,null,2521,"CZEMPIŃ"]
[null,null,null,null,null,null,null,null,null,null,null,null,null,null,null,null,null,null,null,null,null,null,null,null,null,null,2521,"KOŚCIAN-MIEJSKA"]
[null,null,null,null,null,null,null,null,null,null,null,null,null,null,null,null,null,null,null,null,null,null,null,null,null,null,2521,"KOŚCIAN-WIEJSKA"]
[null,null,null,null,null,null,null,null,null,null,null,null,null,null,null,null,null,null,null,null,null,null,null,null,null,null,2521,"KRZYWIŃ"]
[null,null,null,null,null,null,null,null,null,null,null,null,null,null,null,null,null,null,null,null,null,null,null,null,null,null,2521,"ŚMIGIEL"]
[null,null,null,null,null,null,null,null,null,null,null,null,null,null,null,null,null,null,null,null,null,null,null,null,null,null,2522,"KOBYLIN"]
[null,null,null,null,null,null,null,null,null,null,null,null,null,null,null,null,null,null,null,null,null,null,null,null,null,null,2522,"KOŹMIN WIELKOPOLSKI"]
[null,null,null,null,null,null,null,null,null,null,null,null,null,null,null,null,null,null,null,null,null,null,null,null,null,null,2522,"KROTOSZYN"]
[null,null,null,null,null,null,null,null,null,null,null,null,null,null,null,null,null,null,null,null,null,null,null,null,null,null,2522,"ROZDRAŻEW"]
[null,null,null,null,null,null,null,null,null,null,null,null,null,null,null,null,null,null,null,null,null,null,null,null,null,null,2522,"SULMIERZYCE"]
[null,null,null,null,null,null,null,null,null,null,null,null,null,null,null,null,null,null,null,null,null,null,null,null,null,null,2522,"ZDUNY"]
[null,null,null,null,null,null,null,null,null,null,null,null,null,null,null,null,null,null,null,null,null,null,null,null,null,null,2523,"KRZEMIENIEWO"]
[null,null,null,null,null,null,null,null,null,null,null,null,null,null,null,null,null,null,null,null,null,null,null,null,null,null,2523,"LIPNO"]
[null,null,null,null,null,null,null,null,null,null,null,null,null,null,null,null,null,null,null,null,null,null,null,null,null,null,2523,"OSIECZNA"]
[null,null,null,null,null,null,null,null,null,null,null,null,null,null,null,null,null,null,null,null,null,null,null,null,null,null,2523,"RYDZYNA"]
[null,null,null,null,null,null,null,null,null,null,null,null,null,null,null,null,null,null,null,null,null,null,null,null,null,null,2523,"ŚWIĘCIECHOWA"]
[null,null,null,null,null,null,null,null,null,null,null,null,null,null,null,null,null,null,null,null,null,null,null,null,null,null,2523,"WIJEWO"]
[null,null,null,null,null,null,null,null,null,null,null,null,null,null,null,null,null,null,null,null,null,null,null,null,null,null,2523,"WŁOSZAKOWICE"]
[null,null,null,null,null,null,null,null,null,null,null,null,null,null,null,null,null,null,null,null,null,null,null,null,null,null,2524,"CHRZYPSKO WIELKIE"]
[null,null,null,null,null,null,null,null,null,null,null,null,null,null,null,null,null,null,null,null,null,null,null,null,null,null,2524,"KWILCZ"]
[null,null,null,null,null,null,null,null,null,null,null,null,null,null,null,null,null,null,null,null,null,null,null,null,null,null,2524,"MIĘDZYCHÓD"]
[null,null,null,null,null,null,null,null,null,null,null,null,null,null,null,null,null,null,null,null,null,null,null,null,null,null,2524,"SIERAKÓW"]
[null,null,null,null,null,null,null,null,null,null,null,null,null,null,null,null,null,null,null,null,null,null,null,null,null,null,2525,"KUŚLIN"]
[null,null,null,null,null,null,null,null,null,null,null,null,null,null,null,null,null,null,null,null,null,null,null,null,null,null,2525,"LWÓWEK"]
[null,null,null,null,null,null,null,null,null,null,null,null,null,null,null,null,null,null,null,null,null,null,null,null,null,null,2525,"MIEDZICHOWO"]
[null,null,null,null,null,null,null,null,null,null,null,null,null,null,null,null,null,null,null,null,null,null,null,null,null,null,2525,"NOWY TOMYŚL"]
[null,null,null,null,null,null,null,null,null,null,null,null,null,null,null,null,null,null,null,null,null,null,null,null,null,null,2525,"OPALENICA"]
[null,null,null,null,null,null,null,null,null,null,null,null,null,null,null,null,null,null,null,null,null,null,null,null,null,null,2525,"ZBĄSZYŃ"]
[null,null,null,null,null,null,null,null,null,null,null,null,null,null,null,null,null,null,null,null,null,null,null,null,null,null,2526,"OBORNIKI"]
[null,null,null,null,null,null,null,null,null,null,null,null,null,null,null,null,null,null,null,null,null,null,null,null,null,null,2526,"ROGOŹNO"]
[null,null,null,null,null,null,null,null,null,null,null,null,null,null,null,null,null,null,null,null,null,null,null,null,null,null,2526,"RYCZYWÓŁ"]
[null,null,null,null,null,null,null,null,null,null,null,null,null,null,null,null,null,null,null,null,null,null,null,null,null,null,2527,"NOWE SKALMIERZYCE"]
[null,null,null,null,null,null,null,null,null,null,null,null,null,null,null,null,null,null,null,null,null,null,null,null,null,null,2527,"ODOLANÓW"]
[null,null,null,null,null,null,null,null,null,null,null,null,null,null,null,null,null,null,null,null,null,null,null,null,null,null,2527,"OSTRÓW WIELKOPOLSKI-MIEJSKA"]
[null,null,null,null,null,null,null,null,null,null,null,null,null,null,null,null,null,null,null,null,null,null,null,null,null,null,2527,"OSTRÓW WIELKOPOLSKI-WIEJSKA"]
[null,null,null,null,null,null,null,null,null,null,null,null,null,null,null,null,null,null,null,null,null,null,null,null,null,null,2527,"PRZYGODZICE"]
[null,null,null,null,null,null,null,null,null,null,null,null,null,null,null,null,null,null,null,null,null,null,null,null,null,null,2527,"RASZKÓW"]
[null,null,null,null,null,null,null,null,null,null,null,null,null,null,null,null,null,null,null,null,null,null,null,null,null,null,2527,"SIEROSZEWICE"]
[null,null,null,null,null,null,null,null,null,null,null,null,null,null,null,null,null,null,null,null,null,null,null,null,null,null,2527,"SOŚNIE"]
[null,null,null,null,null,null,null,null,null,null,null,null,null,null,null,null,null,null,null,null,null,null,null,null,null,null,2528,"CZAJKÓW"]
[null,null,null,null,null,null,null,null,null,null,null,null,null,null,null,null,null,null,null,null,null,null,null,null,null,null,2528,"DORUCHÓW"]
[null,null,null,null,null,null,null,null,null,null,null,null,null,null,null,null,null,null,null,null,null,null,null,null,null,null,2528,"GRABÓW NAD PROSNĄ"]
[null,null,null,null,null,null,null,null,null,null,null,null,null,null,null,null,null,null,null,null,null,null,null,null,null,null,2528,"KOBYLA GÓRA"]
[null,null,null,null,null,null,null,null,null,null,null,null,null,null,null,null,null,null,null,null,null,null,null,null,null,null,2528,"KRASZEWICE"]
[null,null,null,null,null,null,null,null,null,null,null,null,null,null,null,null,null,null,null,null,null,null,null,null,null,null,2528,"MIKSTAT"]
[null,null,null,null,null,null,null,null,null,null,null,null,null,null,null,null,null,null,null,null,null,null,null,null,null,null,2528,"OSTRZESZÓW"]
[null,null,null,null,null,null,null,null,null,null,null,null,null,null,null,null,null,null,null,null,null,null,null,null,null,null,2529,"BIAŁOŚLIWIE"]
[null,null,null,null,null,null,null,null,null,null,null,null,null,null,null,null,null,null,null,null,null,null,null,null,null,null,2529,"KACZORY"]
[null,null,null,null,null,null,null,null,null,null,null,null,null,null,null,null,null,null,null,null,null,null,null,null,null,null,2529,"ŁOBŻENICA"]
[null,null,null,null,null,null,null,null,null,null,null,null,null,null,null,null,null,null,null,null,null,null,null,null,null,null,2529,"MIASTECZKO KRAJEŃSKIE"]
[null,null,null,null,null,null,null,null,null,null,null,null,null,null,null,null,null,null,null,null,null,null,null,null,null,null,2529,"PIŁA"]
[null,null,null,null,null,null,null,null,null,null,null,null,null,null,null,null,null,null,null,null,null,null,null,null,null,null,2529,"SZYDŁOWO"]
[null,null,null,null,null,null,null,null,null,null,null,null,null,null,null,null,null,null,null,null,null,null,null,null,null,null,2529,"UJŚCIE"]
[null,null,null,null,null,null,null,null,null,null,null,null,null,null,null,null,null,null,null,null,null,null,null,null,null,null,2529,"WYRZYSK"]
[null,null,null,null,null,null,null,null,null,null,null,null,null,null,null,null,null,null,null,null,null,null,null,null,null,null,2529,"WYSOKA"]
[null,null,null,null,null,null,null,null,null,null,null,null,null,null,null,null,null,null,null,null,null,null,null,null,null,null,2530,"CHOCZ"]
[null,null,null,null,null,null,null,null,null,null,null,null,null,null,null,null,null,null,null,null,null,null,null,null,null,null,2530,"CZERMIN"]
[null,null,null,null,null,null,null,null,null,null,null,null,null,null,null,null,null,null,null,null,null,null,null,null,null,null,2530,"DOBRZYCA"]
[null,null,null,null,null,null,null,null,null,null,null,null,null,null,null,null,null,null,null,null,null,null,null,null,null,null,2530,"GIZAŁKI"]
[null,null,null,null,null,null,null,null,null,null,null,null,null,null,null,null,null,null,null,null,null,null,null,null,null,null,2530,"GOŁUCHÓW"]
[null,null,null,null,null,null,null,null,null,null,null,null,null,null,null,null,null,null,null,null,null,null,null,null,null,null,2530,"PLESZEW"]
[null,null,null,null,null,null,null,null,null,null,null,null,null,null,null,null,null,null,null,null,null,null,null,null,null,null,2531,"BUK"]
[null,null,null,null,null,null,null,null,null,null,null,null,null,null,null,null,null,null,null,null,null,null,null,null,null,null,2531,"CZERWONAK"]
[null,null,null,null,null,null,null,null,null,null,null,null,null,null,null,null,null,null,null,null,null,null,null,null,null,null,2531,"DOPIEWO"]
[null,null,null,null,null,null,null,null,null,null,null,null,null,null,null,null,null,null,null,null,null,null,null,null,null,null,2531,"KLESZCZEWO"]
[null,null,null,null,null,null,null,null,null,null,null,null,null,null,null,null,null,null,null,null,null,null,null,null,null,null,2531,"KOMORNIKI"]
[null,null,null,null,null,null,null,null,null,null,null,null,null,null,null,null,null,null,null,null,null,null,null,null,null,null,2531,"KOSTRZYN"]
[null,null,null,null,null,null,null,null,null,null,null,null,null,null,null,null,null,null,null,null,null,null,null,null,null,null,2531,"KÓRNIK"]
[null,null,null,null,null,null,null,null,null,null,null,null,null,null,null,null,null,null,null,null,null,null,null,null,null,null,2531,"LUBOŃ"]
[null,null,null,null,null,null,null,null,null,null,null,null,null,null,null,null,null,null,null,null,null,null,null,null,null,null,2531,"MOSINA"]
[null,null,null,null,null,null,null,null,null,null,null,null,null,null,null,null,null,null,null,null,null,null,null,null,null,null,2531,"MUROWANA GOŚLINA"]
[null,null,null,null,null,null,null,null,null,null,null,null,null,null,null,null,null,null,null,null,null,null,null,null,null,null,2531,"POBIEDZISKA"]
[null,null,null,null,null,null,null,null,null,null,null,null,null,null,null,null,null,null,null,null,null,null,null,null,null,null,2531,"PUSZCZYKOWO"]
[null,null,null,null,null,null,null,null,null,null,null,null,null,null,null,null,null,null,null,null,null,null,null,null,null,null,2531,"ROKIETNICA"]
[null,null,null,null,null,null,null,null,null,null,null,null,null,null,null,null,null,null,null,null,null,null,null,null,null,null,2531,"STĘSZEW"]
[null,null,null,null,null,null,null,null,null,null,null,null,null,null,null,null,null,null,null,null,null,null,null,null,null,null,2531,"SUCHY LAS"]
[null,null,null,null,null,null,null,null,null,null,null,null,null,null,null,null,null,null,null,null,null,null,null,null,null,null,2531,"SWARZĘDZ"]
[null,null,null,null,null,null,null,null,null,null,null,null,null,null,null,null,null,null,null,null,null,null,null,null,null,null,2531,"TARNOWO PODGÓRNE"]
[null,null,null,null,null,null,null,null,null,null,null,null,null,null,null,null,null,null,null,null,null,null,null,null,null,null,2532,"BOJANOWO"]
[null,null,null,null,null,null,null,null,null,null,null,null,null,null,null,null,null,null,null,null,null,null,null,null,null,null,2532,"JUTROSIN"]
[null,null,null,null,null,null,null,null,null,null,null,null,null,null,null,null,null,null,null,null,null,null,null,null,null,null,2532,"MIEJSKA GÓRKA"]
[null,null,null,null,null,null,null,null,null,null,null,null,null,null,null,null,null,null,null,null,null,null,null,null,null,null,2532,"PAKOSŁAW"]
[null,null,null,null,null,null,null,null,null,null,null,null,null,null,null,null,null,null,null,null,null,null,null,null,null,null,2532,"RAWICZ"]
[null,null,null,null,null,null,null,null,null,null,null,null,null,null,null,null,null,null,null,null,null,null,null,null,null,null,2533,"LĄDEK"]
[null,null,null,null,null,null,null,null,null,null,null,null,null,null,null,null,null,null,null,null,null,null,null,null,null,null,2533,"ORCHOWO"]
[null,null,null,null,null,null,null,null,null,null,null,null,null,null,null,null,null,null,null,null,null,null,null,null,null,null,2533,"OSTROWITE"]
[null,null,null,null,null,null,null,null,null,null,null,null,null,null,null,null,null,null,null,null,null,null,null,null,null,null,2533,"POWIDZ"]
[null,null,null,null,null,null,null,null,null,null,null,null,null,null,null,null,null,null,null,null,null,null,null,null,null,null,2533,"SŁUPCA-MIEJSKA"]
[null,null,null,null,null,null,null,null,null,null,null,null,null,null,null,null,null,null,null,null,null,null,null,null,null,null,2533,"SŁUPCA-WIEJSKA"]
[null,null,null,null,null,null,null,null,null,null,null,null,null,null,null,null,null,null,null,null,null,null,null,null,null,null,2533,"STRZAŁKOWO"]
[null,null,null,null,null,null,null,null,null,null,null,null,null,null,null,null,null,null,null,null,null,null,null,null,null,null,2533,"ZAGÓRÓW"]
[null,null,null,null,null,null,null,null,null,null,null,null,null,null,null,null,null,null,null,null,null,null,null,null,null,null,2534,"DUSZNIKI"]
[null,null,null,null,null,null,null,null,null,null,null,null,null,null,null,null,null,null,null,null,null,null,null,null,null,null,2534,"KAŹMIERZ"]
[null,null,null,null,null,null,null,null,null,null,null,null,null,null,null,null,null,null,null,null,null,null,null,null,null,null,2534,"OBRZYCKO-MIEJSKA"]
[null,null,null,null,null,null,null,null,null,null,null,null,null,null,null,null,null,null,null,null,null,null,null,null,null,null,2534,"OBRZYCKO-WIEJSKA"]
[null,null,null,null,null,null,null,null,null,null,null,null,null,null,null,null,null,null,null,null,null,null,null,null,null,null,2534,"OSTRORÓG"]
[null,null,null,null,null,null,null,null,null,null,null,null,null,null,null,null,null,null,null,null,null,null,null,null,null,null,2534,"PNIEWY"]
[null,null,null,null,null,null,null,null,null,null,null,null,null,null,null,null,null,null,null,null,null,null,null,null,null,null,2534,"SZAMOTUŁY"]
[null,null,null,null,null,null,null,null,null,null,null,null,null,null,null,null,null,null,null,null,null,null,null,null,null,null,2534,"WRONKI"]
[null,null,null,null,null,null,null,null,null,null,null,null,null,null,null,null,null,null,null,null,null,null,null,null,null,null,2535,"DOMINOWO"]
[null,null,null,null,null,null,null,null,null,null,null,null,null,null,null,null,null,null,null,null,null,null,null,null,null,null,2535,"KRZYKOSY"]
[null,null,null,null,null,null,null,null,null,null,null,null,null,null,null,null,null,null,null,null,null,null,null,null,null,null,2535,"NOWE MIASTO NAD WARTĄ"]
[null,null,null,null,null,null,null,null,null,null,null,null,null,null,null,null,null,null,null,null,null,null,null,null,null,null,2535,"ŚRODA WIELKOPOLSKA"]
[null,null,null,null,null,null,null,null,null,null,null,null,null,null,null,null,null,null,null,null,null,null,null,null,null,null,2535,"ZANIEMYŚL"]
[null,null,null,null,null,null,null,null,null,null,null,null,null,null,null,null,null,null,null,null,null,null,null,null,null,null,2536,"BRODNICA"]
[null,null,null,null,null,null,null,null,null,null,null,null,null,null,null,null,null,null,null,null,null,null,null,null,null,null,2536,"DOLSK"]
[null,null,null,null,null,null,null,null,null,null,null,null,null,null,null,null,null,null,null,null,null,null,null,null,null,null,2536,"KSIĄŻ WIELKOPOLSKI"]
[null,null,null,null,null,null,null,null,null,null,null,null,null,null,null,null,null,null,null,null,null,null,null,null,null,null,2536,"ŚREM"]
[null,null,null,null,null,null,null,null,null,null,null,null,null,null,null,null,null,null,null,null,null,null,null,null,null,null,2537,"BRUDZEW"]
[null,null,null,null,null,null,null,null,null,null,null,null,null,null,null,null,null,null,null,null,null,null,null,null,null,null,2537,"DOBRA"]
[null,null,null,null,null,null,null,null,null,null,null,null,null,null,null,null,null,null,null,null,null,null,null,null,null,null,2537,"KAWĘCZYN"]
[null,null,null,null,null,null,null,null,null,null,null,null,null,null,null,null,null,null,null,null,null,null,null,null,null,null,2537,"MALANÓW"]
[null,null,null,null,null,null,null,null,null,null,null,null,null,null,null,null,null,null,null,null,null,null,null,null,null,null,2537,"PRZYKONA"]
[null,null,null,null,null,null,null,null,null,null,null,null,null,null,null,null,null,null,null,null,null,null,null,null,null,null,2537,"TULISZKÓW"]
[null,null,null,null,null,null,null,null,null,null,null,null,null,null,null,null,null,null,null,null,null,null,null,null,null,null,2537,"TUREK-MIEJSKA"]
[null,null,null,null,null,null,null,null,null,null,null,null,null,null,null,null,null,null,null,null,null,null,null,null,null,null,2537,"TUREK-WIEJSKA"]
[null,null,null,null,null,null,null,null,null,null,null,null,null,null,null,null,null,null,null,null,null,null,null,null,null,null,2537,"WŁADYSŁAWÓW"]
[null,null,null,null,null,null,null,null,null,null,null,null,null,null,null,null,null,null,null,null,null,null,null,null,null,null,2538,"DAMASŁAWEK"]
[null,null,null,null,null,null,null,null,null,null,null,null,null,null,null,null,null,null,null,null,null,null,null,null,null,null,2538,"GOŁAŃCZ"]
[null,null,null,null,null,null,null,null,null,null,null,null,null,null,null,null,null,null,null,null,null,null,null,null,null,null,2538,"MIEŚCISKO"]
[null,null,null,null,null,null,null,null,null,null,null,null,null,null,null,null,null,null,null,null,null,null,null,null,null,null,2538,"SKOKI"]
[null,null,null,null,null,null,null,null,null,null,null,null,null,null,null,null,null,null,null,null,null,null,null,null,null,null,2538,"WAPNO"]
[null,null,null,null,null,null,null,null,null,null,null,null,null,null,null,null,null,null,null,null,null,null,null,null,null,null,2538,"WĄGROWIEC-MIEJSKA"]
[null,null,null,null,null,null,null,null,null,null,null,null,null,null,null,null,null,null,null,null,null,null,null,null,null,null,2538,"WĄGROWIEC-WIEJSKA"]
[null,null,null,null,null,null,null,null,null,null,null,null,null,null,null,null,null,null,null,null,null,null,null,null,null,null,2539,"PRZEMĘT"]
[null,null,null,null,null,null,null,null,null,null,null,null,null,null,null,null,null,null,null,null,null,null,null,null,null,null,2539,"SIEDLEC"]
[null,null,null,null,null,null,null,null,null,null,null,null,null,null,null,null,null,null,null,null,null,null,null,null,null,null,2539,"WOLSZTYN"]
[null,null,null,null,null,null,null,null,null,null,null,null,null,null,null,null,null,null,null,null,null,null,null,null,null,null,2540,"KOŁACZKOWO"]
[null,null,null,null,null,null,null,null,null,null,null,null,null,null,null,null,null,null,null,null,null,null,null,null,null,null,2540,"MIŁOSŁAW"]
[null,null,null,null,null,null,null,null,null,null,null,null,null,null,null,null,null,null,null,null,null,null,null,null,null,null,2540,"NEKLA"]
[null,null,null,null,null,null,null,null,null,null,null,null,null,null,null,null,null,null,null,null,null,null,null,null,null,null,2540,"PYZDRY"]
[null,null,null,null,null,null,null,null,null,null,null,null,null,null,null,null,null,null,null,null,null,null,null,null,null,null,2540,"WRZEŚNIA"]
[null,null,null,null,null,null,null,null,null,null,null,null,null,null,null,null,null,null,null,null,null,null,null,null,null,null,2541,"JASTROWIE"]
[null,null,null,null,null,null,null,null,null,null,null,null,null,null,null,null,null,null,null,null,null,null,null,null,null,null,2541,"KRAJENKA"]
[null,null,null,null,null,null,null,null,null,null,null,null,null,null,null,null,null,null,null,null,null,null,null,null,null,null,2541,"LIPKA"]
[null,null,null,null,null,null,null,null,null,null,null,null,null,null,null,null,null,null,null,null,null,null,null,null,null,null,2541,"OKONEK"]
[null,null,null,null,null,null,null,null,null,null,null,null,null,null,null,null,null,null,null,null,null,null,null,null,null,null,2541,"TARNÓWKA"]
[null,null,null,null,null,null,null,null,null,null,null,null,null,null,null,null,null,null,null,null,null,null,null,null,null,null,2541,"ZAKRZEWO"]
[null,null,null,null,null,null,null,null,null,null,null,null,null,null,null,null,null,null,null,null,null,null,null,null,null,null,2541,"ZŁOTÓW-MIEJSKA"]
[null,null,null,null,null,null,null,null,null,null,null,null,null,null,null,null,null,null,null,null,null,null,null,null,null,null,2541,"ZŁOTÓW-WIEJSKA"]
[null,null,null,null,null,null,null,null,null,null,null,null,null,null,null,null,null,null,null,null,null,null,null,null,null,null,2542,"M.KALISZ"]
[null,null,null,null,null,null,null,null,null,null,null,null,null,null,null,null,null,null,null,null,null,null,null,null,null,null,2543,"M.KONIN"]
[null,null,null,null,null,null,null,null,null,null,null,null,null,null,null,null,null,null,null,null,null,null,null,null,null,null,2544,"M.LESZNO"]
[null,null,null,null,null,null,null,null,null,null,null,null,null,null,null,null,null,null,null,null,null,null,null,null,null,null,2545,"M.POZNAŃ"]
[null,null,null,null,null,null,null,null,null,null,null,null,null,null,null,null,null,null,null,null,null,null,null,null,null,null,2611,"BIAŁOGARD-MIEJSKA"]
[null,null,null,null,null,null,null,null,null,null,null,null,null,null,null,null,null,null,null,null,null,null,null,null,null,null,2611,"BIAŁOGARD-WIEJSKA"]
[null,null,null,null,null,null,null,null,null,null,null,null,null,null,null,null,null,null,null,null,null,null,null,null,null,null,2611,"KARLINO"]
[null,null,null,null,null,null,null,null,null,null,null,null,null,null,null,null,null,null,null,null,null,null,null,null,null,null,2611,"TYCHOWO"]
[null,null,null,null,null,null,null,null,null,null,null,null,null,null,null,null,null,null,null,null,null,null,null,null,null,null,2612,"BIERZWNIK"]
[null,null,null,null,null,null,null,null,null,null,null,null,null,null,null,null,null,null,null,null,null,null,null,null,null,null,2612,"CHOSZCZNO"]
[null,null,null,null,null,null,null,null,null,null,null,null,null,null,null,null,null,null,null,null,null,null,null,null,null,null,2612,"DRAWNO"]
[null,null,null,null,null,null,null,null,null,null,null,null,null,null,null,null,null,null,null,null,null,null,null,null,null,null,2612,"KRZĘCIN"]
[null,null,null,null,null,null,null,null,null,null,null,null,null,null,null,null,null,null,null,null,null,null,null,null,null,null,2612,"PEŁCZYCE"]
[null,null,null,null,null,null,null,null,null,null,null,null,null,null,null,null,null,null,null,null,null,null,null,null,null,null,2612,"RECZ"]
[null,null,null,null,null,null,null,null,null,null,null,null,null,null,null,null,null,null,null,null,null,null,null,null,null,null,2613,"CZAPLINEK"]
[null,null,null,null,null,null,null,null,null,null,null,null,null,null,null,null,null,null,null,null,null,null,null,null,null,null,2613,"DRAWSKO POMORSKIE"]
[null,null,null,null,null,null,null,null,null,null,null,null,null,null,null,null,null,null,null,null,null,null,null,null,null,null,2613,"KALISZ POMORSKI"]
[null,null,null,null,null,null,null,null,null,null,null,null,null,null,null,null,null,null,null,null,null,null,null,null,null,null,2613,"OSTROWICE"]
[null,null,null,null,null,null,null,null,null,null,null,null,null,null,null,null,null,null,null,null,null,null,null,null,null,null,2613,"WIERZCHOWO"]
[null,null,null,null,null,null,null,null,null,null,null,null,null,null,null,null,null,null,null,null,null,null,null,null,null,null,2613,"ZŁOCIENIEC"]
[null,null,null,null,null,null,null,null,null,null,null,null,null,null,null,null,null,null,null,null,null,null,null,null,null,null,2614,"GOLENIÓW"]
[null,null,null,null,null,null,null,null,null,null,null,null,null,null,null,null,null,null,null,null,null,null,null,null,null,null,2614,"MASZEWO"]
[null,null,null,null,null,null,null,null,null,null,null,null,null,null,null,null,null,null,null,null,null,null,null,null,null,null,2614,"NOWOGARD"]
[null,null,null,null,null,null,null,null,null,null,null,null,null,null,null,null,null,null,null,null,null,null,null,null,null,null,2614,"OSINA"]
[null,null,null,null,null,null,null,null,null,null,null,null,null,null,null,null,null,null,null,null,null,null,null,null,null,null,2614,"PRZYBIERNÓW"]
[null,null,null,null,null,null,null,null,null,null,null,null,null,null,null,null,null,null,null,null,null,null,null,null,null,null,2614,"STEPNICA"]
[null,null,null,null,null,null,null,null,null,null,null,null,null,null,null,null,null,null,null,null,null,null,null,null,null,null,2615,"BROJCE"]
[null,null,null,null,null,null,null,null,null,null,null,null,null,null,null,null,null,null,null,null,null,null,null,null,null,null,2615,"GRYFICE"]
[null,null,null,null,null,null,null,null,null,null,null,null,null,null,null,null,null,null,null,null,null,null,null,null,null,null,2615,"KARNICE"]
[null,null,null,null,null,null,null,null,null,null,null,null,null,null,null,null,null,null,null,null,null,null,null,null,null,null,2615,"PŁOTY"]
[null,null,null,null,null,null,null,null,null,null,null,null,null,null,null,null,null,null,null,null,null,null,null,null,null,null,2615,"REWAL"]
[null,null,null,null,null,null,null,null,null,null,null,null,null,null,null,null,null,null,null,null,null,null,null,null,null,null,2615,"TRZEBIATÓW"]
[null,null,null,null,null,null,null,null,null,null,null,null,null,null,null,null,null,null,null,null,null,null,null,null,null,null,2616,"BANIE"]
[null,null,null,null,null,null,null,null,null,null,null,null,null,null,null,null,null,null,null,null,null,null,null,null,null,null,2616,"CEDYNIA"]
[null,null,null,null,null,null,null,null,null,null,null,null,null,null,null,null,null,null,null,null,null,null,null,null,null,null,2616,"CHOJNA"]
[null,null,null,null,null,null,null,null,null,null,null,null,null,null,null,null,null,null,null,null,null,null,null,null,null,null,2616,"GRYFINO"]
[null,null,null,null,null,null,null,null,null,null,null,null,null,null,null,null,null,null,null,null,null,null,null,null,null,null,2616,"MIESZKOWICE"]
[null,null,null,null,null,null,null,null,null,null,null,null,null,null,null,null,null,null,null,null,null,null,null,null,null,null,2616,"MORYŃ"]
[null,null,null,null,null,null,null,null,null,null,null,null,null,null,null,null,null,null,null,null,null,null,null,null,null,null,2616,"STARE CZARNOWO"]
[null,null,null,null,null,null,null,null,null,null,null,null,null,null,null,null,null,null,null,null,null,null,null,null,null,null,2616,"TRZCIŃSKO-ZDRÓJ"]
[null,null,null,null,null,null,null,null,null,null,null,null,null,null,null,null,null,null,null,null,null,null,null,null,null,null,2616,"WIDUCHOWA"]
[null,null,null,null,null,null,null,null,null,null,null,null,null,null,null,null,null,null,null,null,null,null,null,null,null,null,2617,"DZIWNÓW"]
[null,null,null,null,null,null,null,null,null,null,null,null,null,null,null,null,null,null,null,null,null,null,null,null,null,null,2617,"GOLCZEWO"]
[null,null,null,null,null,null,null,null,null,null,null,null,null,null,null,null,null,null,null,null,null,null,null,null,null,null,2617,"KAMIEŃ POMORSKI"]
[null,null,null,null,null,null,null,null,null,null,null,null,null,null,null,null,null,null,null,null,null,null,null,null,null,null,2617,"MIĘDZYZDROJE"]
[null,null,null,null,null,null,null,null,null,null,null,null,null,null,null,null,null,null,null,null,null,null,null,null,null,null,2617,"ŚWIERZNO"]
[null,null,null,null,null,null,null,null,null,null,null,null,null,null,null,null,null,null,null,null,null,null,null,null,null,null,2617,"WOLIN"]
[null,null,null,null,null,null,null,null,null,null,null,null,null,null,null,null,null,null,null,null,null,null,null,null,null,null,2618,"DYGOWO"]
[null,null,null,null,null,null,null,null,null,null,null,null,null,null,null,null,null,null,null,null,null,null,null,null,null,null,2618,"GOŚCINO"]
[null,null,null,null,null,null,null,null,null,null,null,null,null,null,null,null,null,null,null,null,null,null,null,null,null,null,2618,"KOŁOBRZEG-MIEJSKA"]
[null,null,null,null,null,null,null,null,null,null,null,null,null,null,null,null,null,null,null,null,null,null,null,null,null,null,2618,"KOŁOBRZEG-WIEJSKA"]
[null,null,null,null,null,null,null,null,null,null,null,null,null,null,null,null,null,null,null,null,null,null,null,null,null,null,2618,"RYMAŃ"]
[null,null,null,null,null,null,null,null,null,null,null,null,null,null,null,null,null,null,null,null,null,null,null,null,null,null,2618,"SIEMYŚL"]
[null,null,null,null,null,null,null,null,null,null,null,null,null,null,null,null,null,null,null,null,null,null,null,null,null,null,2618,"USTRONIE MORSKIE"]
[null,null,null,null,null,null,null,null,null,null,null,null,null,null,null,null,null,null,null,null,null,null,null,null,null,null,2619,"BĘDZINO"]
[null,null,null,null,null,null,null,null,null,null,null,null,null,null,null,null,null,null,null,null,null,null,null,null,null,null,2619,"BIESIEKIERZ"]
[null,null,null,null,null,null,null,null,null,null,null,null,null,null,null,null,null,null,null,null,null,null,null,null,null,null,2619,"BOBOLICE"]
[null,null,null,null,null,null,null,null,null,null,null,null,null,null,null,null,null,null,null,null,null,null,null,null,null,null,2619,"MANOWO"]
[null,null,null,null,null,null,null,null,null,null,null,null,null,null,null,null,null,null,null,null,null,null,null,null,null,null,2619,"MIELNO"]
[null,null,null,null,null,null,null,null,null,null,null,null,null,null,null,null,null,null,null,null,null,null,null,null,null,null,2619,"POLANÓW"]
[null,null,null,null,null,null,null,null,null,null,null,null,null,null,null,null,null,null,null,null,null,null,null,null,null,null,2619,"SIANÓW"]
[null,null,null,null,null,null,null,null,null,null,null,null,null,null,null,null,null,null,null,null,null,null,null,null,null,null,2619,"ŚWIESZYNO"]
[null,null,null,null,null,null,null,null,null,null,null,null,null,null,null,null,null,null,null,null,null,null,null,null,null,null,2620,"BARLINEK"]
[null,null,null,null,null,null,null,null,null,null,null,null,null,null,null,null,null,null,null,null,null,null,null,null,null,null,2620,"BOLESZKOWICE"]
[null,null,null,null,null,null,null,null,null,null,null,null,null,null,null,null,null,null,null,null,null,null,null,null,null,null,2620,"DĘBNO"]
[null,null,null,null,null,null,null,null,null,null,null,null,null,null,null,null,null,null,null,null,null,null,null,null,null,null,2620,"MYŚLIBÓRZ"]
[null,null,null,null,null,null,null,null,null,null,null,null,null,null,null,null,null,null,null,null,null,null,null,null,null,null,2620,"NOWOGRÓDEK POMORSKI"]
[null,null,null,null,null,null,null,null,null,null,null,null,null,null,null,null,null,null,null,null,null,null,null,null,null,null,2621,"DOBRA (SZCZECIŃSKA)"]
[null,null,null,null,null,null,null,null,null,null,null,null,null,null,null,null,null,null,null,null,null,null,null,null,null,null,2621,"KOŁBASKOWO"]
[null,null,null,null,null,null,null,null,null,null,null,null,null,null,null,null,null,null,null,null,null,null,null,null,null,null,2621,"NOWE WARPNO"]
[null,null,null,null,null,null,null,null,null,null,null,null,null,null,null,null,null,null,null,null,null,null,null,null,null,null,2621,"POLICE"]
[null,null,null,null,null,null,null,null,null,null,null,null,null,null,null,null,null,null,null,null,null,null,null,null,null,null,2622,"BIELICE"]
[null,null,null,null,null,null,null,null,null,null,null,null,null,null,null,null,null,null,null,null,null,null,null,null,null,null,2622,"KOZIELICE"]
[null,null,null,null,null,null,null,null,null,null,null,null,null,null,null,null,null,null,null,null,null,null,null,null,null,null,2622,"LIPIANY"]
[null,null,null,null,null,null,null,null,null,null,null,null,null,null,null,null,null,null,null,null,null,null,null,null,null,null,2622,"PRZELEWICE"]
[null,null,null,null,null,null,null,null,null,null,null,null,null,null,null,null,null,null,null,null,null,null,null,null,null,null,2622,"PYRZYCE"]
[null,null,null,null,null,null,null,null,null,null,null,null,null,null,null,null,null,null,null,null,null,null,null,null,null,null,2622,"WARNICE"]
[null,null,null,null,null,null,null,null,null,null,null,null,null,null,null,null,null,null,null,null,null,null,null,null,null,null,2623,"DARŁOWO-MIEJSKA"]
[null,null,null,null,null,null,null,null,null,null,null,null,null,null,null,null,null,null,null,null,null,null,null,null,null,null,2623,"DARŁOWO-WIEJSKA"]
[null,null,null,null,null,null,null,null,null,null,null,null,null,null,null,null,null,null,null,null,null,null,null,null,null,null,2623,"MALECHOWO"]
[null,null,null,null,null,null,null,null,null,null,null,null,null,null,null,null,null,null,null,null,null,null,null,null,null,null,2623,"POSTOMINO"]
[null,null,null,null,null,null,null,null,null,null,null,null,null,null,null,null,null,null,null,null,null,null,null,null,null,null,2623,"SŁAWNO-MIEJSKA"]
[null,null,null,null,null,null,null,null,null,null,null,null,null,null,null,null,null,null,null,null,null,null,null,null,null,null,2623,"SŁAWNO-WIEJSKA"]
[null,null,null,null,null,null,null,null,null,null,null,null,null,null,null,null,null,null,null,null,null,null,null,null,null,null,2624,"CHOCIWEL"]
[null,null,null,null,null,null,null,null,null,null,null,null,null,null,null,null,null,null,null,null,null,null,null,null,null,null,2624,"DOBRZANY"]
[null,null,null,null,null,null,null,null,null,null,null,null,null,null,null,null,null,null,null,null,null,null,null,null,null,null,2624,"DOLICE"]
[null,null,null,null,null,null,null,null,null,null,null,null,null,null,null,null,null,null,null,null,null,null,null,null,null,null,2624,"IŃSKO"]
[null,null,null,null,null,null,null,null,null,null,null,null,null,null,null,null,null,null,null,null,null,null,null,null,null,null,2624,"KOBYLANKA"]
[null,null,null,null,null,null,null,null,null,null,null,null,null,null,null,null,null,null,null,null,null,null,null,null,null,null,2624,"MARIANOWO"]
[null,null,null,null,null,null,null,null,null,null,null,null,null,null,null,null,null,null,null,null,null,null,null,null,null,null,2624,"STARA DĄBROWA"]
[null,null,null,null,null,null,null,null,null,null,null,null,null,null,null,null,null,null,null,null,null,null,null,null,null,null,2624,"STARGARD-MIEJSKA"]
[null,null,null,null,null,null,null,null,null,null,null,null,null,null,null,null,null,null,null,null,null,null,null,null,null,null,2624,"STARGARD-WIEJSKA"]
[null,null,null,null,null,null,null,null,null,null,null,null,null,null,null,null,null,null,null,null,null,null,null,null,null,null,2624,"SUCHAŃ"]
[null,null,null,null,null,null,null,null,null,null,null,null,null,null,null,null,null,null,null,null,null,null,null,null,null,null,2625,"BARWICE"]
[null,null,null,null,null,null,null,null,null,null,null,null,null,null,null,null,null,null,null,null,null,null,null,null,null,null,2625,"BIAŁY BÓR"]
[null,null,null,null,null,null,null,null,null,null,null,null,null,null,null,null,null,null,null,null,null,null,null,null,null,null,2625,"BORNE SULINOWO"]
[null,null,null,null,null,null,null,null,null,null,null,null,null,null,null,null,null,null,null,null,null,null,null,null,null,null,2625,"GRZMIĄCA"]
[null,null,null,null,null,null,null,null,null,null,null,null,null,null,null,null,null,null,null,null,null,null,null,null,null,null,2625,"SZCZECINEK-MIEJSKA"]
[null,null,null,null,null,null,null,null,null,null,null,null,null,null,null,null,null,null,null,null,null,null,null,null,null,null,2625,"SZCZECINEK-WIEJSKA"]
[null,null,null,null,null,null,null,null,null,null,null,null,null,null,null,null,null,null,null,null,null,null,null,null,null,null,2626,"BRZEŻNO"]
[null,null,null,null,null,null,null,null,null,null,null,null,null,null,null,null,null,null,null,null,null,null,null,null,null,null,2626,"POŁCZYN-ZDRÓJ"]
[null,null,null,null,null,null,null,null,null,null,null,null,null,null,null,null,null,null,null,null,null,null,null,null,null,null,2626,"RĄBINO"]
[null,null,null,null,null,null,null,null,null,null,null,null,null,null,null,null,null,null,null,null,null,null,null,null,null,null,2626,"SŁAWOBORZE"]
[null,null,null,null,null,null,null,null,null,null,null,null,null,null,null,null,null,null,null,null,null,null,null,null,null,null,2626,"ŚWIDWIN-MIEJSKA"]
[null,null,null,null,null,null,null,null,null,null,null,null,null,null,null,null,null,null,null,null,null,null,null,null,null,null,2626,"ŚWIDWIN-WIEJSKA"]
[null,null,null,null,null,null,null,null,null,null,null,null,null,null,null,null,null,null,null,null,null,null,null,null,null,null,2627,"CZŁOPA"]
[null,null,null,null,null,null,null,null,null,null,null,null,null,null,null,null,null,null,null,null,null,null,null,null,null,null,2627,"MIROSŁAWIEC"]
[null,null,null,null,null,null,null,null,null,null,null,null,null,null,null,null,null,null,null,null,null,null,null,null,null,null,2627,"TUCZNO"]
[null,null,null,null,null,null,null,null,null,null,null,null,null,null,null,null,null,null,null,null,null,null,null,null,null,null,2627,"WAŁCZ-MIEJSKA"]
[null,null,null,null,null,null,null,null,null,null,null,null,null,null,null,null,null,null,null,null,null,null,null,null,null,null,2627,"WAŁCZ-WIEJSKA"]
[null,null,null,null,null,null,null,null,null,null,null,null,null,null,null,null,null,null,null,null,null,null,null,null,null,null,2628,"DOBRA"]
[null,null,null,null,null,null,null,null,null,null,null,null,null,null,null,null,null,null,null,null,null,null,null,null,null,null,2628,"ŁOBEZ"]
[null,null,null,null,null,null,null,null,null,null,null,null,null,null,null,null,null,null,null,null,null,null,null,null,null,null,2628,"RADOWO MAŁE"]
[null,null,null,null,null,null,null,null,null,null,null,null,null,null,null,null,null,null,null,null,null,null,null,null,null,null,2628,"RESKO"]
[null,null,null,null,null,null,null,null,null,null,null,null,null,null,null,null,null,null,null,null,null,null,null,null,null,null,2628,"WĘGORZYNO"]
[null,null,null,null,null,null,null,null,null,null,null,null,null,null,null,null,null,null,null,null,null,null,null,null,null,null,2629,"M.KOSZALIN"]
[null,null,null,null,null,null,null,null,null,null,null,null,null,null,null,null,null,null,null,null,null,null,null,null,null,null,2630,"M.SZCZECIN"]
[null,null,null,null,null,null,null,null,null,null,null,null,null,null,null,null,null,null,null,null,null,null,null,null,null,null,2631,"M.ŚWINOUJŚCIE"]

{"sheet":"Koperta","index":5,"n_rows":8,"n_cols":4,"rows_kept":8,"cut":false,"hidden":false,"merged":[]}
[]
[]
[]
[]
[]
[]
[]
[null,null,null,"Pan/i"]

{"sheet":"Jak wysłać","index":6,"n_rows":58,"n_cols":14,"rows_kept":58,"cut":false,"hidden":false,"merged":[[14,13,14,23],[21,13,21,23]]}
["Zawsze przed wysyłką i wydrukiem Sprawdź kompletność danych!"]
[]
[]
[]
[]
[]
[]
["Wysyłka pojedyncza"]
[]
[]
[]
[]
[null,null,null,null,null,null,null,null,null,null,null,null,null,"Zobacz jak skonfigurować swój program do podpisu cyfrowego na potrzeby e-Deklaracje"]
[]
[null,null,null,null,null,null,null,null,null,null,null,null,null,"kliknij-konfiguracja podpisu cyfrowego.pdf"]
[]
[null,null,null,null,null,null,null,null,null,null,null,null,null,"- PEM-HEART-Signature 3.9"]
[null,null,null,null,null,null,null,null,null,null,null,null,null,"- Szafir 2.0.0 "]
[null,null,null,null,null,null,null,null,null,null,null,null,null,"- Sigillum Sign "]
[null,null,null,null,null,null,null,null,null,null,null,null,null,"- proCertum SmartSign"]
[]
[null,null,null,null,null,null,null,null,null,null,null,null,null,"Jak wykonać podpis cyfrowy wysyłki do e-deklaracje?"]
[]
[]
[]
[]
[]
[]
[]
[]
[]
[]
["Wysyłka zbiorcza"]
[]
[]
[]
[]
[]
[]
[]
[]
[]
[]
[]
[]
[]
[]
[]
[]
[]
[]
[]
[]
[]
[]
[]
[]
["Wysyłka korekt wyłącznie pojedynczo"]

{"sheet":"Błędy","index":7,"n_rows":23,"n_cols":2,"rows_kept":23,"cut":false,"hidden":false,"merged":[]}
[null,"W trakcie wysyłki danych na serwer Ministerstwa Finansów mogą pojawić się błędy, wynikające z ustawień komputera."]
[null,"Poniżej numery błędów oraz sposoby ich usunięcia."]
[]
[null,"Run-time error „-2147012889 (80072ee7)”:\nNie można określić nazwy serwera lub adresu"]
[null,"Brak połączenia internetowego"]
[]
[null,"Run-time error „-2147012739 (80072f7d)”:\nWystąpił błąd w obsłudze bezpiecznego kanału"]
["","Panel sterowania / Kliknij Sieć i Internet / Centrum sieci i udostępniania / Opcje internetowe"]
[null,"Pojawi się okno dialogowe Właściwości Internet. Kliknij kartę Zaawansowane"]
[null,"Przewiń w dół i włącz „Użyj TLS1.2” Kliknij Zastosuj."]
[]
[null,"Run-time error „-2147012894 (80072ee2)”:\nLimit czasu operacji został przekroczony"]
[null,"Możliwe następujące przyczyny: zapora sieciowa komputera (Firewall) blokuje stronę, obciążona pamieć operacyjna komputera,"]
[null,"stan połączenia internetowego."]
[null,"Sprawdź czy poprawnie pracuje wysyłka na serwer testowy Ministerstwa Finansów."]
[null,"Spróbuj ponownie uruchomić komputer, wysłać ponownie. Można kilka razy w przypadku pojawiania się tego komunikatu."]
[null,"Ostatecznie należy spróbować wysłać z innego komputera."]
[]
[null,"Run-time error „-2146232576 (80131700)”:\nAutomation error (Błąd automatyzacji)"]
[null,"Błąd wystąpi jeżeli na komputerze nie był aktywowany NET Framework 3.5"]
[null,"1) Kliknij menu Start / Panel sterowania / Programy i funkcje / Włącz lub wyłącz funkcje systemu Windows"]
[null,"Upewnij się, że kontrolka .NET Framework 3.5 i dwie kontrolki podrzędne Windows Communication Foundation są wybrane i zainstalowane."]
[null,"Następnie ponownie uruchom komputer."]

{"sheet":"US","index":8,"n_rows":379,"n_cols":3,"rows_kept":379,"cut":false,"hidden":false,"merged":[]}
["URZĄD SKARBOWY W ALEKSANDROWIE KUJAWSKIM",null,"Tu znajdują się wzorcowe nazwy urzędów skarbowych, które stosowane są w programie."]
["URZĄD SKARBOWY W AUGUSTOWIE",null,"Wykonując wklejanie danych do programu z innych zestawień należy przygotować dane"]
["URZĄD SKARBOWY W BARTOSZYCACH",null,"z nazwami urzędów skarbowych zgodnie z tą listą."]
["URZĄD SKARBOWY W BEŁCHATOWIE"]
["URZĄD SKARBOWY W BĘDZINIE"]
["URZĄD SKARBOWY W BIAŁEJ PODLASKIEJ"]
["URZĄD SKARBOWY W BIAŁOBRZEGACH"]
["URZĄD SKARBOWY W BIAŁOGARDZIE"]
["PIERWSZY URZĄD SKARBOWY W BIAŁYMSTOKU"]
["DRUGI URZĄD SKARBOWY W BIAŁYMSTOKU"]
["URZĄD SKARBOWY W BIELSKU PODLASKIM"]
["PIERWSZY URZĄD SKARBOWY W BIELSKU-BIAŁEJ"]
["DRUGI URZĄD SKARBOWY W BIELSKU-BIAŁEJ"]
["URZĄD SKARBOWY W BIŁGORAJU"]
["URZĄD SKARBOWY W BOCHNI"]
["URZĄD SKARBOWY W BOLESŁAWCU"]
["URZĄD SKARBOWY W BRANIEWIE"]
["URZĄD SKARBOWY W BRODNICY"]
["URZĄD SKARBOWY W BRZEGU"]
["URZĄD SKARBOWY W BRZESKU"]
["URZĄD SKARBOWY W BRZEZINACH"]
["URZĄD SKARBOWY W BRZOZOWIE"]
["URZĄD SKARBOWY W BUSKU-ZDROJU"]
["PIERWSZY URZĄD SKARBOWY W BYDGOSZCZY"]
["DRUGI URZĄD SKARBOWY W BYDGOSZCZY"]
["TRZECI URZĄD SKARBOWY W BYDGOSZCZY"]
["URZĄD SKARBOWY W BYSTRZYCY KŁODZKIEJ"]
["URZĄD SKARBOWY W BYTOMIU"]
["URZĄD SKARBOWY W BYTOWIE"]
["URZĄD SKARBOWY W CHEŁMIE"]
["URZĄD SKARBOWY W CHEŁMNIE"]
["URZĄD SKARBOWY W CHODZIEŻY"]
["URZĄD SKARBOWY W CHOJNICACH"]
["URZĄD SKARBOWY W CHORZOWIE"]
["URZĄD SKARBOWY W CHOSZCZNIE"]
["URZĄD SKARBOWY W CHRZANOWIE"]
["URZĄD SKARBOWY W CIECHANOWIE"]
["URZĄD SKARBOWY W CIESZYNIE"]
["URZĄD SKARBOWY W CZARNKOWIE"]
["URZĄD SKARBOWY W CZECHOWICACH-DZIEDZICACH"]
["PIERWSZY URZĄD SKARBOWY W CZĘSTOCHOWIE"]
["DRUGI URZĄD SKARBOWY W CZĘSTOCHOWIE"]
["URZĄD SKARBOWY W CZŁUCHOWIE"]
["URZĄD SKARBOWY W DĄBROWIE GÓRNICZEJ"]
["URZĄD SKARBOWY W DĄBROWIE TARNOWSKIEJ"]
["URZĄD SKARBOWY W DĘBICY"]
["URZĄD SKARBOWY W DRAWSKU POMORSKIM"]
["URZĄD SKARBOWY W DREZDENKU"]
["URZĄD SKARBOWY W DZIAŁDOWIE"]
["URZĄD SKARBOWY W DZIERŻONIOWIE"]
["URZĄD SKARBOWY W ELBLĄGU"]
["URZĄD SKARBOWY W EŁKU"]
["URZĄD SKARBOWY W GARWOLINIE"]
["PIERWSZY URZĄD SKARBOWY W GDAŃSKU"]
["DRUGI URZĄD SKARBOWY W GDAŃSKU"]
["TRZECI URZĄD SKARBOWY W GDAŃSKU"]
["PIERWSZY URZĄD SKARBOWY W GDYNI"]
["DRUGI URZĄD SKARBOWY W GDYNI"]
["URZĄD SKARBOWY W GIŻYCKU"]
["PIERWSZY URZĄD SKARBOWY W GLIWICACH"]
["DRUGI URZĄD SKARBOWY W GLIWICACH"]
["URZĄD SKARBOWY W GŁOGOWIE"]
["URZĄD SKARBOWY W GŁOWNIE"]
["URZĄD SKARBOWY W GŁUBCZYCACH"]
["URZĄD SKARBOWY W GNIEŹNIE"]
["URZĄD SKARBOWY W GOLENIOWIE"]
["URZĄD SKARBOWY W GOLUBIU-DOBRZYNIU"]
["URZĄD SKARBOWY W GORLICACH"]
["URZĄD SKARBOWY W GORZOWIE WIELKOPOLSKIM"]
["URZĄD SKARBOWY W GOSTYNINIE"]
["URZĄD SKARBOWY W GOSTYNIU"]
["URZĄD SKARBOWY W GÓRZE"]
["URZĄD SKARBOWY W GRAJEWIE"]
["URZĄD SKARBOWY W GRODZISKU MAZOWIECKIM"]
["URZĄD SKARBOWY W GRODZISKU WIELKOPOLSKIM"]
["URZĄD SKARBOWY W GRÓJCU"]
["URZĄD SKARBOWY W GRUDZIĄDZU"]
["URZĄD SKARBOWY W GRYFICACH"]
["URZĄD SKARBOWY W GRYFINIE"]
["URZĄD SKARBOWY W HAJNÓWCE"]
["URZĄD SKARBOWY W HRUBIESZOWIE"]
["URZĄD SKARBOWY W IŁAWIE"]
["URZĄD SKARBOWY W INOWROCŁAWIU"]
["URZĄD SKARBOWY W JANOWIE LUBELSKIM"]
["URZĄD SKARBOWY W JAROCINIE"]
["URZĄD SKARBOWY W JAROSŁAWIU"]
["URZĄD SKARBOWY W JASTRZĘBIU-ZDROJU"]
["URZĄD SKARBOWY W JAŚLE"]
["URZĄD SKARBOWY W JAWORZE"]
["URZĄD SKARBOWY W JAWORZNIE"]
["URZĄD SKARBOWY W JELENIEJ GÓRZE"]
["URZĄD SKARBOWY W JĘDRZEJOWIE"]
["PIERWSZY URZĄD SKARBOWY W KALISZU"]
["DRUGI URZĄD SKARBOWY W KALISZU"]
["URZĄD SKARBOWY W KAMIENIU POMORSKIM"]
["URZĄD SKARBOWY W KAMIENNEJ GÓRZE"]
["URZĄD SKARBOWY W KARTUZACH"]
["PIERWSZY URZĄD SKARBOWY W KATOWICACH"]
["DRUGI URZĄD SKARBOWY W KATOWICACH"]
["URZĄD SKARBOWY W KAZIMIERZY WIELKIEJ"]
["URZĄD SKARBOWY W KĘDZIERZYNIE-KOŹLU"]
["URZĄD SKARBOWY W KĘPNIE"]
["URZĄD SKARBOWY W KĘTRZYNIE"]
["PIERWSZY URZĄD SKARBOWY W KIELCACH"]
["DRUGI URZĄD SKARBOWY W KIELCACH"]
["URZĄD SKARBOWY W KLUCZBORKU"]
["URZĄD SKARBOWY W KŁOBUCKU"]
["URZĄD SKARBOWY W KŁODZKU"]
["URZĄD SKARBOWY W KOLBUSZOWEJ"]
["URZĄD SKARBOWY W KOLE"]
["URZĄD SKARBOWY W KOLNIE"]
["URZĄD SKARBOWY W KOŁOBRZEGU"]
["URZĄD SKARBOWY W KONINIE"]
["URZĄD SKARBOWY W KOŃSKICH"]
["PIERWSZY URZĄD SKARBOWY W KOSZALINIE"]
["DRUGI URZĄD SKARBOWY W KOSZALINIE"]
["URZĄD SKARBOWY W KOŚCIANIE"]
["URZĄD SKARBOWY W KOŚCIERZYNIE"]
["URZĄD SKARBOWY W KOZIENICACH"]
["PIERWSZY URZĄD SKARBOWY KRAKÓW"]
["DRUGI URZĄD SKARBOWY KRAKÓW"]
["URZĄD SKARBOWY KRAKÓW-KROWODRZA"]
["URZĄD SKARBOWY KRAKÓW-NOWA HUTA"]
["URZĄD SKARBOWY KRAKÓW-PODGÓRZE"]
["URZĄD SKARBOWY KRAKÓW-PRĄDNIK"]
["URZĄD SKARBOWY KRAKÓW-STARE MIASTO"]
["URZĄD SKARBOWY KRAKÓW-ŚRÓDMIEŚCIE"]
["URZĄD SKARBOWY W KRAPKOWICACH"]
["URZĄD SKARBOWY W KRASNYMSTAWIE"]
["URZĄD SKARBOWY W KRAŚNIKU"]
["URZĄD SKARBOWY W KROŚNIE"]
["URZĄD SKARBOWY W KROŚNIE ODRZAŃSKIM"]
["URZĄD SKARBOWY W KROTOSZYNIE"]
["URZĄD SKARBOWY W KUTNIE"]
["URZĄD SKARBOWY W KWIDZYNIE"]
["URZĄD SKARBOWY W LEGIONOWIE"]
["URZĄD SKARBOWY W LEGNICY"]
["URZĄD SKARBOWY W LESKU"]
["URZĄD SKARBOWY W LESZNIE"]
["URZĄD SKARBOWY W LEŻAJSKU"]
["URZĄD SKARBOWY W LĘBORKU"]
["URZĄD SKARBOWY W LIMANOWEJ"]
["URZĄD SKARBOWY W LIPNIE"]
["URZĄD SKARBOWY W LIPSKU"]
["URZĄD SKARBOWY W LUBACZOWIE"]
["URZĄD SKARBOWY W LUBANIU"]
["URZĄD SKARBOWY W LUBARTOWIE"]
["URZĄD SKARBOWY W LUBINIE"]
["PIERWSZY URZĄD SKARBOWY W LUBLINIE"]
["DRUGI URZĄD SKARBOWY W LUBLINIE"]
["TRZECI URZĄD SKARBOWY W LUBLINIE"]
["URZĄD SKARBOWY W LUBLIŃCU"]
["URZĄD SKARBOWY W LWÓWKU ŚLĄSKIM"]
["URZĄD SKARBOWY W ŁAŃCUCIE"]
["URZĄD SKARBOWY W ŁASKU"]
["URZĄD SKARBOWY W ŁĘCZNEJ"]
["URZĄD SKARBOWY W ŁĘCZYCY"]
["URZĄD SKARBOWY W ŁOMŻY"]
["URZĄD SKARBOWY W ŁOSICACH"]
["URZĄD SKARBOWY W ŁOWICZU"]
["PIERWSZY URZĄD SKARBOWY ŁÓDŹ-BAŁUTY"]
["DRUGI URZĄD SKARBOWY ŁÓDŹ-BAŁUTY"]
["PIERWSZY URZĄD SKARBOWY ŁÓDŹ-GÓRNA"]
["DRUGI URZĄD SKARBOWY ŁÓDŹ-GÓRNA"]
["URZĄD SKARBOWY ŁÓDŹ-POLESIE"]
["URZĄD SKARBOWY ŁÓDŹ-ŚRÓDMIEŚCIE"]
["URZĄD SKARBOWY ŁÓDŹ-WIDZEW"]
["URZĄD SKARBOWY W ŁUKOWIE"]
["URZĄD SKARBOWY W MAKOWIE MAZOWIECKIM"]
["URZĄD SKARBOWY W MALBORKU"]
["URZĄD SKARBOWY W MIECHOWIE"]
["URZĄD SKARBOWY W MIELCU"]
["URZĄD SKARBOWY W MIĘDZYCHODZIE"]
["URZĄD SKARBOWY W MIĘDZYRZECZU"]
["URZĄD SKARBOWY W MIKOŁOWIE"]
["URZĄD SKARBOWY W MILICZU"]
["URZĄD SKARBOWY W MIŃSKU MAZOWIECKIM"]
["URZĄD SKARBOWY W MŁAWIE"]
["URZĄD SKARBOWY W MOGILNIE"]
["URZĄD SKARBOWY W MOŃKACH"]
["URZĄD SKARBOWY W MYSŁOWICACH"]
["URZĄD SKARBOWY W MYSZKOWIE"]
["URZĄD SKARBOWY W MYŚLENICACH"]
["URZĄD SKARBOWY W MYŚLIBORZU"]
["URZĄD SKARBOWY W NAKLE NAD NOTECIĄ"]
["URZĄD SKARBOWY W NAMYSŁOWIE"]
["URZĄD SKARBOWY W NIDZICY"]
["URZĄD SKARBOWY W NISKU"]
["URZĄD SKARBOWY W NOWEJ RUDZIE"]
["URZĄD SKARBOWY W NOWEJ SOLI"]
["URZĄD SKARBOWY W NOWYM DWORZE MAZOWIECKIM"]
["URZĄD SKARBOWY W NOWYM MIEŚCIE LUBAWSKIM"]
["URZĄD SKARBOWY W NOWYM SĄCZU"]
["URZĄD SKARBOWY W NOWYM TARGU"]
["URZĄD SKARBOWY W NOWYM TOMYŚLU"]
["URZĄD SKARBOWY W NYSIE"]
["URZĄD SKARBOWY W OBORNIKACH"]
["URZĄD SKARBOWY W OLECKU"]
["URZĄD SKARBOWY W OLEŚNICY"]
["URZĄD SKARBOWY W OLEŚNIE"]
["URZĄD SKARBOWY W OLKUSZU"]
["URZĄD SKARBOWY W OLSZTYNIE"]
["URZĄD SKARBOWY W OŁAWIE"]
["URZĄD SKARBOWY W OPATOWIE"]
["URZĄD SKARBOWY W OPOCZNIE"]
["PIERWSZY URZĄD SKARBOWY W OPOLU"]
["DRUGI URZĄD SKARBOWY W OPOLU"]
["URZĄD SKARBOWY W OPOLU LUBELSKIM"]
["URZĄD SKARBOWY W OSTROŁĘCE"]
["URZĄD SKARBOWY W OSTROWCU ŚWIĘTOKRZYSKIM"]
["URZĄD SKARBOWY W OSTROWI MAZOWIECKIEJ"]
["URZĄD SKARBOWY W OSTROWIE WIELKOPOLSKIM"]
["URZĄD SKARBOWY W OSTRÓDZIE"]
["URZĄD SKARBOWY W OSTRZESZOWIE"]
["URZĄD SKARBOWY W OŚWIĘCIMIU"]
["URZĄD SKARBOWY W OTWOCKU"]
["URZĄD SKARBOWY W PABIANICACH"]
["URZĄD SKARBOWY W PAJĘCZNIE"]
["URZĄD SKARBOWY W PARCZEWIE"]
["URZĄD SKARBOWY W PIASECZNIE"]
["URZĄD SKARBOWY W PIEKARACH ŚLĄSKICH"]
["URZĄD SKARBOWY W PILE"]
["URZĄD SKARBOWY W PIŃCZOWIE"]
["URZĄD SKARBOWY W PIOTRKOWIE TRYBUNALSKIM"]
["URZĄD SKARBOWY W PISZU"]
["URZĄD SKARBOWY W PLESZEWIE"]
["URZĄD SKARBOWY W PŁOCKU"]
["URZĄD SKARBOWY W PŁOŃSKU"]
["URZĄD SKARBOWY W PODDĘBICACH"]
["URZĄD SKARBOWY W POLKOWICACH"]
["PIERWSZY URZĄD SKARBOWY W POZNANIU"]
["URZĄD SKARBOWY POZNAŃ-GRUNWALD"]
["URZĄD SKARBOWY POZNAŃ-JEŻYCE"]
["URZĄD SKARBOWY POZNAŃ-NOWE MIASTO"]
["URZĄD SKARBOWY POZNAŃ-WILDA"]
["URZĄD SKARBOWY POZNAŃ-WINOGRADY"]
["URZĄD SKARBOWY W PROSZOWICACH"]
["URZĄD SKARBOWY W PRUDNIKU"]
["URZĄD SKARBOWY W PRUSZCZU GDAŃSKIM"]
["URZĄD SKARBOWY W PRUSZKOWIE"]
["URZĄD SKARBOWY W PRZASNYSZU"]
["URZĄD SKARBOWY W PRZEMYŚLU"]
["URZĄD SKARBOWY W PRZEWORSKU"]
["URZĄD SKARBOWY W PRZYSUSZE"]
["URZĄD SKARBOWY W PSZCZYNIE"]
["URZĄD SKARBOWY W PUCKU"]
["URZĄD SKARBOWY W PUŁAWACH"]
["URZĄD SKARBOWY W PUŁTUSKU"]
["URZĄD SKARBOWY W PYRZYCACH"]
["URZĄD SKARBOWY W RACIBORZU"]
["PIERWSZY URZĄD SKARBOWY W RADOMIU"]
["DRUGI URZĄD SKARBOWY W RADOMIU"]
["URZĄD SKARBOWY W RADOMSKU"]
["URZĄD SKARBOWY W RADZIEJOWIE"]
["URZĄD SKARBOWY W RADZYNIU PODLASKIM"]
["URZĄD SKARBOWY W RAWICZU"]
["URZĄD SKARBOWY W RAWIE MAZOWIECKIEJ"]
["URZĄD SKARBOWY W ROPCZYCACH"]
["URZĄD SKARBOWY W RUDZIE ŚLĄSKIEJ"]
["URZĄD SKARBOWY W RYBNIKU"]
["URZĄD SKARBOWY W RYKACH"]
["URZĄD SKARBOWY W RYPINIE"]
["PIERWSZY URZĄD SKARBOWY W RZESZOWIE"]
["DRUGI URZĄD SKARBOWY W RZESZOWIE"]
["URZĄD SKARBOWY W SANDOMIERZU"]
["URZĄD SKARBOWY W SANOKU"]
["URZĄD SKARBOWY W SĘPÓLNIE KRAJEŃSKIM"]
["URZĄD SKARBOWY W SIEDLCACH"]
["URZĄD SKARBOWY W SIEMIANOWICACH ŚLĄSKICH"]
["URZĄD SKARBOWY W SIEMIATYCZACH"]
["URZĄD SKARBOWY W SIERADZU"]
["URZĄD SKARBOWY W SIERPCU"]
["URZĄD SKARBOWY W SKARŻYSKU-KAMIENNEJ"]
["URZĄD SKARBOWY W SKIERNIEWICACH"]
["URZĄD SKARBOWY W SŁUBICACH"]
["URZĄD SKARBOWY W SŁUPCY"]
["URZĄD SKARBOWY W SŁUPSKU"]
["URZĄD SKARBOWY W SOCHACZEWIE"]
["URZĄD SKARBOWY W SOKOŁOWIE PODLASKIM"]
["URZĄD SKARBOWY W SOKÓŁCE"]
["URZĄD SKARBOWY W SOPOCIE"]
["URZĄD SKARBOWY W SOSNOWCU"]
["URZĄD SKARBOWY W STALOWEJ WOLI"]
["URZĄD SKARBOWY W STARACHOWICACH"]
["URZĄD SKARBOWY W STARGARDZIE"]
["URZĄD SKARBOWY W STAROGARDZIE GDAŃSKIM"]
["URZĄD SKARBOWY W STASZOWIE"]
["URZĄD SKARBOWY W STRZELCACH OPOLSKICH"]
["URZĄD SKARBOWY W STRZELINIE"]
["URZĄD SKARBOWY W STRZYŻOWIE"]
["URZĄD SKARBOWY W SUCHEJ BESKIDZKIEJ"]
["URZĄD SKARBOWY W SULĘCINIE"]
["URZĄD SKARBOWY W SUWAŁKACH"]
["URZĄD SKARBOWY W SZAMOTUŁACH"]
["PIERWSZY URZĄD SKARBOWY W SZCZECINIE"]
["DRUGI URZĄD SKARBOWY W SZCZECINIE"]
["TRZECI URZĄD SKARBOWY W SZCZECINIE"]
["URZĄD SKARBOWY W SZCZECINKU"]
["URZĄD SKARBOWY W SZCZYTNIE"]
["URZĄD SKARBOWY W SZYDŁOWCU"]
["URZĄD SKARBOWY W ŚREMIE"]
["URZĄD SKARBOWY W ŚRODZIE ŚLĄSKIEJ"]
["URZĄD SKARBOWY W ŚRODZIE WIELKOPOLSKIEJ"]
["URZĄD SKARBOWY W ŚWIDNICY"]
["URZĄD SKARBOWY W ŚWIEBODZINIE"]
["URZĄD SKARBOWY W ŚWIECIU"]
["URZĄD SKARBOWY W ŚWINOUJŚCIU"]
["URZĄD SKARBOWY W TARNOBRZEGU"]
["PIERWSZY URZĄD SKARBOWY W TARNOWIE"]
["DRUGI URZĄD SKARBOWY W TARNOWIE"]
["URZĄD SKARBOWY W TARNOWSKICH GÓRACH"]
["URZĄD SKARBOWY W TCZEWIE"]
["URZĄD SKARBOWY W TOMASZOWIE LUBELSKIM"]
["URZĄD SKARBOWY W TOMASZOWIE MAZOWIECKIM"]
["PIERWSZY URZĄD SKARBOWY W TORUNIU"]
["DRUGI URZĄD SKARBOWY W TORUNIU"]
["URZĄD SKARBOWY W TRZEBNICY"]
["URZĄD SKARBOWY W TUCHOLI"]
["URZĄD SKARBOWY W TURKU"]
["URZĄD SKARBOWY W TYCHACH"]
["URZĄD SKARBOWY W USTRZYKACH DOLNYCH"]
["URZĄD SKARBOWY W WADOWICACH"]
["URZĄD SKARBOWY W WAŁBRZYCHU"]
["URZĄD SKARBOWY W WAŁCZU"]
["URZĄD SKARBOWY WARSZAWA-BEMOWO"]
["URZĄD SKARBOWY WARSZAWA-BIELANY"]
["URZĄD SKARBOWY WARSZAWA-MOKOTÓW"]
["URZĄD SKARBOWY WARSZAWA-PRAGA"]
["PIERWSZY URZĄD SKARBOWY WARSZAWA-ŚRÓDMIEŚCIE"]
["TRZECI URZĄD SKARBOWY WARSZAWA-ŚRÓDMIEŚCIE"]
["URZĄD SKARBOWY WARSZAWA-TARGÓWEK"]
["URZĄD SKARBOWY WARSZAWA-URSYNÓW"]
["URZĄD SKARBOWY WARSZAWA-WAWER"]
["URZĄD SKARBOWY WARSZAWA-WOLA"]
["URZĄD SKARBOWY W WĄBRZEŹNIE"]
["URZĄD SKARBOWY W WĄGROWCU"]
["URZĄD SKARBOWY W WEJHEROWIE"]
["URZĄD SKARBOWY W WĘGROWIE"]
["URZĄD SKARBOWY W WIELICZCE"]
["URZĄD SKARBOWY W WIELUNIU"]
["URZĄD SKARBOWY W WIERUSZOWIE"]
["URZĄD SKARBOWY WE WŁOCŁAWKU"]
["URZĄD SKARBOWY WE WŁODAWIE"]
["URZĄD SKARBOWY WE WŁOSZCZOWIE"]
["URZĄD SKARBOWY W WODZISŁAWIU ŚLĄSKIM"]
["URZĄD SKARBOWY W WOLSZTYNIE"]
["URZĄD SKARBOWY W WOŁOMINIE"]
["URZĄD SKARBOWY W WOŁOWIE"]
["PIERWSZY URZĄD SKARBOWY WE WROCŁAWIU"]
["URZĄD SKARBOWY WROCŁAW-FABRYCZNA"]
["URZĄD SKARBOWY WROCŁAW-KRZYKI"]
["URZĄD SKARBOWY WROCŁAW-PSIE POLE"]
["URZĄD SKARBOWY WROCŁAW-STARE MIASTO"]
["URZĄD SKARBOWY WROCŁAW-ŚRÓDMIEŚCIE"]
["URZĄD SKARBOWY WE WRZEŚNI"]
["URZĄD SKARBOWY WE WSCHOWIE"]
["URZĄD SKARBOWY W WYSOKIEM MAZOWIECKIEM"]
["URZĄD SKARBOWY W WYSZKOWIE"]
["URZĄD SKARBOWY W ZABRZU"]
["URZĄD SKARBOWY W ZAKOPANEM"]
["URZĄD SKARBOWY W ZAMBROWIE"]
["URZĄD SKARBOWY W ZAMOŚCIU"]
["URZĄD SKARBOWY W ZAWIERCIU"]
["URZĄD SKARBOWY W ZĄBKOWICACH ŚLĄSKICH"]
["URZĄD SKARBOWY W ZDUŃSKIEJ WOLI"]
["URZĄD SKARBOWY W ZGIERZU"]
["URZĄD SKARBOWY W ZGORZELCU"]
["PIERWSZY URZĄD SKARBOWY W ZIELONEJ GÓRZE"]
["DRUGI URZĄD SKARBOWY W ZIELONEJ GÓRZE"]
["URZĄD SKARBOWY W ZŁOTORYI"]
["URZĄD SKARBOWY W ZŁOTOWIE"]
["URZĄD SKARBOWY W ZWOLENIU"]
["URZĄD SKARBOWY W ŻAGANIU"]
["URZĄD SKARBOWY W ŻARACH"]
["URZĄD SKARBOWY W ŻNINIE"]
["URZĄD SKARBOWY W ŻORACH"]
["URZĄD SKARBOWY W ŻUROMINIE"]
["URZĄD SKARBOWY W ŻYRARDOWIE"]
["URZĄD SKARBOWY W ŻYWCU"]

{"sheet":"UPO","index":9,"n_rows":28,"n_cols":10,"rows_kept":28,"cut":false,"hidden":false,"merged":[[2,3,2,9],[3,3,3,9],[5,3,5,9],[9,3,9,5],[4,2,4,9],[7,2,7,9],[8,3,8,9],[6,2,6,9],[9,6,9,9],[14,3,14,9],[15,3,15,9],[10,6,10,9],[11,3,11,9],[13,3,13,9],[12,3,12,9],[10,3,10,5],[16,3,16,9],[18,3,18,5],[19,4,19,5],[17,6,17,9],[18,6,18,9],[19,7,19,9],[17,3,17,5],[27,2,27,7],[26,2,26,9],[20,3,20,9],[21,3,21,9],[22,3,22,9],[23,3,23,9],[24,3,24,9],[25,3,25,4],[25,5,25,9]]}
[]
[]
[null,null,null,"    URZĘDOWE POŚWIADCZENIE ODBIORU"]
[null,null,null,"        DOKUMENTU ELEKTRONICZNEGO"]
[null,null,"   A. NAZWA PEŁNA PODMIOTU, KTÓREMU DORĘCZONO DOKUMENT ELEKTRONICZNY"]
[]
[]
[null,null,"   B. INFORMACJA O DOKUMENCIE"]
[null,null,null," Dokument został zarejestrowany w systemie teleinformatycznym Ministerstwa Finansów"]
[null,null,null," Identyfikator dokumentu:",null,null,"   Dnia (data, czas):"]
[]
[null,null,null," Skrót złożonego dokumentu - identyczny z wartością użytą do podpisu dokumentu:"]
[]
[null,null,null," Skrót dokumentu w postaci otrzymanej przez system (łącznie z podpisem elektronicznym):"]
[]
[null,null,null," Dokument zweryfikowano pod względem zgodności ze strukturą logiczną:"]
[]
[null,null,null," Identyfikator podatkowy podmiotu występującego jako",null,null," Identyfikator podatkowy podmiotu występującego jako"]
[null,null,null," pierwszy na dokumencie:",null,null," drugi na dokumencie:"]
[null,null,null," NIP",null,null,null,""]
[null,null,null," Urząd skarbowy, do którego został złożony dokument:"]
[null,null,null,0]
[null,null,null," Stempel czasu:"]
[]
[null,null,null," Dokument wystawiony automatycznie przez system teleinformatyczny Ministerstwa Finansów"]
[null,null,null," Data i czas wystawienia dokumentu:"]
[]
[null,null,null,null,null,null,null,null,"UPO(6)","1/1"]

{"sheet":"Gmail","index":10,"n_rows":2,"n_cols":2,"rows_kept":2,"cut":false,"hidden":false,"merged":[]}
[null,"Przy wysyłce maili z adresu @gmail.com wymagane jest wygenerowanie 16 znakowego"]
[null,"jednorazowego hasła według poniższej instrukcji, które należy wkleić na arkuszu \"Emaile\"."]

{"sheet":"A","index":11,"n_rows":31,"n_cols":434,"rows_kept":31,"cut":false,"hidden":true,"merged":[]}
["iform"]
[null,null,null,null,null,null,null,null,null,null,null,null,null,null,null,null,null,null,null,null,null,null,null,null,null,null,null,null,null,null,null,null,null,null,null,null,null,null,null,null,null,null,null,null,null,null,null,null,null,null,null,null,null,null,null,null,null,null,null,null,null,null,null,null,null,null,null,null,null,null,null,null,null,null,null,null,null,null,null,null,null,null,null,null,null,null,null,null,null,null,null,null,null,null,null,null,null,null,null,null,null,null,null,null,null,null,null,null,null,null,null,null,null,null,null,null,null,null,null,null,null,null,null,null,null,null,null,null,null,null,null,null,null,null,null,null,null,null,null,null,null,null,null,null,null,null,null,null,null,null,null,null,null,null,null,null,null,null,null,null,null,null,null,null,null,null,null,null,null,null,null,null,null,null,null,null,null,null,null,null,null,null,null,null,null,null,null,null,null,null,null,null,null,null,null,null,null,null,null,null,null,null,null,null,null,null,null,null,null,null,null,null,null,null,null,null,null,null,null,null,null,null,null,null,null,null,null,null,null,null,null,null,null,null,null,null,null,null,null,null,null,null,null,null,null,null,null,null,null,null,null,null,null,null,null,null,null,null,null,null,null,null,null,null,null,null,null,null,null,null,null,null,null,null,null,null,null,null,null,null,null,null,null,null,null,null,null,null,null,null,null,null,null,null,null,null,null,null,null,null,null,null,null,null,null,null,null,null,null,null,null,null,null,null,null,null,null,null,null,null,null,null,null,null,null,null,null,null,null,null,null,null,null,null,null,null,null,null,null,null,null,null,null,null,null,null,null,null,null,null,null,null,null,null,null,null,null,null,null,null,null,null,null,null,null,null,null,null,null,null,null,null,null,null,null,null,null,null,null,null,null,null,null,null,null,null,null,null,null,null,null,null,null,null,null,null,null,null,null,null,null,null,null,null,null,null,null,null,null,null,null,null,null,null,null,null,null,null,null,null,null,null,null,null,null,null,null,null,null,null,null,null,null,11]
[]
[]
[]
[]
[]
[]
[]
[]
[]
[]
[]
[]
[]
[]
[]
[]
[]
[]
[]
[]
[]
[]
[]
[]
[]
[]
[]
[{"$f":"LEN(A31)","v":13990},{"$f":"LEN(B31)","v":14027},{"$f":"LEN(C31)","v":18688},{"$f":"LEN(D31)","v":18431}]
["<?xml version=\"1.0\" encoding=\"UTF-8\"?><xsd:schema xmlns:xsd=\"http://www.w3.org/2001/XMLSchema\" xmlns:etd=\"http://crd.gov.pl/xml/schematy/dziedzinowe/mf/2022/03/15/eD/DefinicjeTypy/\" xmlns:kusex=\"http://crd.gov.pl/xml/schematy/dziedzinowe/mf/2021/12/23/eD/KodyUrzedowSkarbowychExWUS/\" xmlns:tns=\"http://crd.gov.pl/wzor/2023/07/11/12684/\" xmlns:zr=\"http://crd.gov.pl/xml/schematy/dziedzinowe/mf/2022/03/15/eD/PITR/\" xmlns:zzu=\"http://crd.gov.pl/xml/schematy/dziedzinowe/mf/2022/03/15/eD/ORDZU/\" targetNamespace=\"http://crd.gov.pl/wzor/2023/07/11/12684/\" elementFormDefault=\"qualified\" attributeFormDefault=\"unqualified\" xml:lang=\"pl\">\n\t<xsd:import namespace=\"http://crd.gov.pl/xml/schematy/dziedzinowe/mf/2022/03/15/eD/PITR/\" schemaLocation=\"http://crd.gov.pl/xml/schematy/dziedzinowe/mf/2022/03/15/eD/PITR/PIT-R(21)_Z_v1-0E.xsd\"/>\n\t<xsd:import namespace=\"http://crd.gov.pl/xml/schematy/dziedzinowe/mf/2022/03/15/eD/ORDZU/\" schemaLocation=\"http://crd.gov.pl/xml/schematy/dziedzinowe/mf/2022/03/15/eD/ORDZU/ORD-ZU(3)_v9-0E.xsd\"/>\n\t<xsd:import namespace=\"http://crd.gov.pl/xml/schematy/dziedzinowe/mf/2021/12/23/eD/KodyUrzedowSkarbowychExWUS/\" schemaLocation=\"http://crd.gov.pl/xml/schematy/dziedzinowe/mf/2021/12/23/eD/KodyUrzedowSkarbowychExWUS/KodyUrzedowSkarbowychExWUS_v8-0E.xsd\"/>\n\t<xsd:import namespace=\"http://crd.gov.pl/xml/schematy/dziedzinowe/mf/2022/03/15/eD/DefinicjeTypy/\" schemaLocation=\"http://crd.gov.pl/xml/schematy/dziedzinowe/mf/2022/03/15/eD/DefinicjeTypy/StrukturyDanych_v11-0E.xsd\"/>\n\t<!--Od 1 stycznia 2023 r. art. 35 ust. 6 ustawy zastępuje dotychczasowy art. 35 ust. 10 ustawy. Przepis art. 35 ust. 6 ustawy ma zastosowanie do dochodów (przychodów) uzyskanych od 1 stycznia 2023 r.-->\n\t<!-- -->\n\t<!--Jeżeli w odniesieniu do dochodów (przychodów) osoby fizycznej uzyskanych w roku, o którym mowa w poz. 4, składający sporządza i przesyła więcej niż jedną informację PIT-11 (niebędącą korektą poprzedniej), w informacji tej nie uwzględnia się kwot wykazanych w uprzednio przesłanych informacjach (nie sumuje się ich). W przypadku gdy sporządzone i przesłane w trakcie roku podatkowego informacje PIT-11 zawierają kompletne dane niezbędne do sporządzenia zeznania podatkowego, płatnik nie przesyła informacji PIT-11 po zakończeniu roku.-->\n\t<!-- -->\n\t<!--Art. 35a ustawy został uchylony z dniem 26 października 2007 r. ustawą z dnia 24 sierpnia 2007 r. o zmianie ustawy o promocji zatrudnienia i instytucjach rynku pracy oraz o zmianie niektórych innych ustaw (Dz. U. poz. 1243). Uchylony przepis na mocy art. 7 ust. 7 powołanej ustawy ma zastosowanie do płatników do czasu obowiązywania umowy aktywizacyjnej zawartej przed dniem 26 października 2007 r. W tym przypadku płatnik przekazuje informację podatnikowi i urzędowi skarbowemu w terminie do końca lutego roku następującego po roku podatkowym.-->\n\t<!-- -->\n\t<!--W przypadku przedsiębiorstwa w spadku za dzień zaprzestania działalności uważa się dzień wygaśnięcia zarządu sukcesyjnego albo wygaśnięcia uprawnienia do powołania zarządcy sukcesyjnego, jeżeli zarząd sukcesyjny nie został ustanowiony i dokonano zgłoszenia, o którym mowa w art. 12 ust. 1c ustawy z dnia 13 października 1995 r. o zasadach ewidencji i identyfikacji podatników i płatników (Dz. U. z 2020 r. poz. 170, z późn. zm.).-->\n\t<!-- -->\n\t<!--Ilekroć w informacji jest mowa o urzędzie skarbowym, w tym o urzędzie skarbowym, do którego adresowana jest informacja - oznacza to urząd skarbowy, przy pomocy którego właściwy dla podatnika naczelnik urzędu skarbowego wykonuje swoje zadania.-->\n\t<!-- -->\n\t<!--W kwocie kosztów uzyskania przychodów wykazuje się koszty faktycznie uwzględnione przez płatnika przy poborze zaliczek na podatek.-->\n\t<!-- -->\n\t<!--W przypadku gdy zakład pracy pobierał zaliczki na podatek zarówno od należności ze stosunku: pracy, służbowego, spółdzielczego i z pracy nakładczej, o których mowa w art. 12 ust. 1 ustawy, jak i zasiłków pieniężnych z ubezpieczenia społecznego, o których mowa w art. 20 ust. 1 ustawy, łączną kwotę zaliczek pobranych z tych źródeł wykazuje tylko raz. Kwotę tę płatnik może wykazać w wierszu 1, odpowiednio w wierszach 2, 3, 12, 13, 14 albo 15 części E.-->\n\t<xsd:complexType name=\"TNaglowek\">\n\t\t<xsd:annotation>\n\t\t\t<xsd:documentation>Nagłówek deklaracji</xsd:documentation>\n\t\t</xsd:annotation>\n\t\t<xsd:sequence>\n\t\t\t<xsd:element name=\"KodFormularza\">\n\t\t\t\t<xsd:complexType>\n\t\t\t\t\t<xsd:simpleContent>\n\t\t\t\t\t\t<xsd:extension base=\"tns:TKodFormularza\">\n\t\t\t\t\t\t\t<xsd:attribute name=\"kodSystemowy\" type=\"xsd:string\" use=\"required\" fixed=\"PIT-11 (29)\"/>\n\t\t\t\t\t\t\t<xsd:attribute name=\"kodPodatku\" type=\"xsd:string\" use=\"required\" fixed=\"PIT\"/>\n\t\t\t\t\t\t\t<xsd:attribute name=\"rodzajZobowiazania\" type=\"xsd:token\" use=\"required\" fixed=\"Z\"/>\n\t\t\t\t\t\t\t<xsd:attribute name=\"wersjaSchemy\" type=\"xsd:string\" use=\"required\" fixed=\"2-0E\"/>\n\t\t\t\t\t\t</xsd:extension>\n\t\t\t\t\t</xsd:simpleContent>\n\t\t\t\t</xsd:complexType>\n\t\t\t</xsd:element>\n\t\t\t<xsd:element name=\"WariantFormularza\">\n\t\t\t\t<xsd:simpleType>\n\t\t\t\t\t<xsd:restriction base=\"xsd:byte\">\n\t\t\t\t\t\t<xsd:enumeration value=\"29\"/>\n\t\t\t\t\t</xsd:restriction>\n\t\t\t\t</xsd:simpleType>\n\t\t\t</xsd:element>\n\t\t\t<xsd:element name=\"CelZlozenia\">\n\t\t\t\t<xsd:complexType>\n\t\t\t\t\t<xsd:simpleContent>\n\t\t\t\t\t\t<xsd:extension base=\"etd:TCelZlozenia\">\n\t\t\t\t\t\t\t<xsd:attribute name=\"poz\" type=\"xsd:string\" use=\"required\" fixed=\"P_7\"/>\n\t\t\t\t\t\t</xsd:extension>\n\t\t\t\t\t</xsd:simpleContent>\n\t\t\t\t</xsd:complexType>\n\t\t\t\t<!--Zgodnie z art. 81 ustawy z dnia 29 sierpnia 1997 r. - Ordynacja podatkowa (Dz. U. z 2021 r. poz. 1540, z późn. zm.), zwanej dalej „Ordynacją podatkową”.-->\n\t\t\t</xsd:element>\n\t\t\t<xsd:element name=\"Rok\">\n\t\t\t\t<xsd:simpleType>\n\t\t\t\t\t<xsd:restriction base=\"etd:TRok\">\n\t\t\t\t\t\t<xsd:minInclusive value=\"2022\"/>\n\t\t\t\t\t</xsd:restriction>\n\t\t\t\t</xsd:simpleType>\n\t\t\t\t<!--Jeżeli w odniesieniu do dochodów (przychodów) osoby fizycznej uzyskanych w roku, o którym mowa w poz. 4, składający sporządza i przesyła więcej niż jedną informację PIT-11 (niebędącą korektą poprzedniej), w informacji tej nie uwzględnia się kwot wykazanych w uprzednio przesłanych informacjach (nie sumuje się ich). W przypadku gdy sporządzone i przesłane w trakcie roku podatkowego informacje PIT-11 zawierają kompletne dane niezbędne do sporządzenia zeznania podatkowego, płatnik nie przesyła informacji PIT-11 po zakończeniu roku.-->\n\t\t\t</xsd:element>\n\t\t\t<xsd:element name=\"KodUrzedu\" type=\"kusex:TKodUS1\"/>\n\t\t</xsd:sequence>\n\t</xsd:complexType>\n\t<xsd:simpleType name=\"TKodFormularza\">\n\t\t<xsd:annotation>\n\t\t\t<xsd:documentation>Symbol wzoru formularza</xsd:documentation>\n\t\t</xsd:annotation>\n\t\t<xsd:restriction base=\"xsd:string\">\n\t\t\t<xsd:enumeration value=\"PIT-11\"/>\n\t\t</xsd:restriction>\n\t</xsd:simpleType>\n\t<xsd:simpleType name=\"TRodzajId\">\n\t\t<xsd:annotation>\n\t\t\t<xsd:documentation>Rodzaj Identyfikatora Zagranicznego</xsd:documentation>\n\t\t</xsd:annotation>\n\t\t<xsd:restriction base=\"xsd:byte\">\n\t\t\t<xsd:enumeration value=\"1\">\n\t\t\t\t<xsd:annotation>\n\t\t\t\t\t<xsd:documentation>numer identyfikacyjny TIN</xsd:documentation>\n\t\t\t\t</xsd:annotation>\n\t\t\t</xsd:enumeration>\n\t\t\t<xsd:enumeration value=\"2\">\n\t\t\t\t<xsd:annotation>\n\t\t\t\t\t<xsd:documentation>numer ubezpieczeniowy</xsd:documentation>\n\t\t\t\t</xsd:annotation>\n\t\t\t</xsd:enumeration>\n\t\t\t<xsd:enumeration value=\"3\">\n\t\t\t\t<xsd:annotation>\n\t\t\t\t\t<xsd:documentation>paszport</xsd:documentation>\n\t\t\t\t</xsd:annotation>\n\t\t\t</xsd:enumeration>\n\t\t\t<xsd:enumeration value=\"4\">\n\t\t\t\t<xsd:annotation>\n\t\t\t\t\t<xsd:documentation>urzędowy dokument stwierdzający tożsamość</xsd:documentation>\n\t\t\t\t</xsd:annotation>\n\t\t\t</xsd:enumeration>\n\t\t\t<xsd:enumeration value=\"8\">\n\t\t\t\t<xsd:annotation>\n\t\t\t\t\t<xsd:documentation>inny rodzaj identyfikacji podatkowej</xsd:documentation>\n\t\t\t\t</xsd:annotation>\n\t\t\t</xsd:enumeration>\n\t\t\t<xsd:enumeration value=\"9\">\n\t\t\t\t<xsd:annotation>\n\t\t\t\t\t<xsd:documentation>inny dokument potwierdzający tożsamość</xsd:documentation>\n\t\t\t\t</xsd:annotation>\n\t\t\t</xsd:enumeration>\n\t\t</xsd:restriction>\n\t</xsd:simpleType>\n\t<xsd:complexType name=\"TIdentyfikatorOsobyNiefizycznej\">\n\t\t<xsd:annotation>\n\t\t\t<xsd:documentation>Podstawowy zestaw danych identyfikacyjnych o osobie niefizycznej</xsd:documentation>\n\t\t</xsd:annotation>\n\t\t<xsd:sequence>\n\t\t\t<xsd:element name=\"NIP\" type=\"etd:TNrNIP\">\n\t\t\t\t<xsd:annotation>\n\t\t\t\t\t<xsd:documentation>Identyfikator podatkowy NIP</xsd:documentation>\n\t\t\t\t</xsd:annotation>\n\t\t\t</xsd:element>\n\t\t\t<xsd:element name=\"PelnaNazwa\">\n\t\t\t\t<xsd:annotation>\n\t\t\t\t\t<xsd:documentation>Pełna nazwa</xsd:documentation>\n\t\t\t\t</xsd:annotation>\n\t\t\t\t<xsd:simpleType>\n\t\t\t\t\t<xsd:restriction base=\"xsd:token\">\n\t\t\t\t\t\t<xsd:minLength value=\"1\"/>\n\t\t\t\t\t\t<xsd:maxLength value=\"240\"/>\n\t\t\t\t\t</xsd:restriction>\n\t\t\t\t</xsd:simpleType>\n\t\t\t</xsd:element>\n\t\t</xsd:sequence>\n\t</xsd:complexType>\n\t<xsd:complexType name=\"TIdentyfikatorOsobyFizycznej1\">\n\t\t<xsd:annotation>\n\t\t\t<xsd:documentation>Podstawowy zestaw danych identyfikacyjnych o osobie fizycznej z identyfikatorem NIP albo PESEL</xsd:documentation>\n\t\t</xsd:annotation>\n\t\t<xsd:sequence>\n\t\t\t<xsd:choice>\n\t\t\t\t<xsd:element name=\"NIP\" type=\"etd:TNrNIP\">\n\t\t\t\t\t<xsd:annotation>\n\t\t\t\t\t\t<xsd:documentation>Identyfikator podatkowy NIP</xsd:documentation>\n\t\t\t\t\t</xsd:annotation>\n\t\t\t\t</xsd:element>\n\t\t\t\t<xsd:element name=\"PESEL\" type=\"etd:TNrPESEL\">\n\t\t\t\t\t<xsd:annotation>\n\t\t\t\t\t\t<xsd:documentation>Identyfikator podatkowy numer PESEL</xsd:documentation>\n\t\t\t\t\t</xsd:annotation>\n\t\t\t\t</xsd:element>\n\t\t\t</xsd:choice>\n\t\t\t<xsd:element name=\"ImiePierwsze\" type=\"etd:TImie\">\n\t\t\t\t<xsd:annotation>\n\t\t\t\t\t<xsd:documentation>Pierwsze imię</xsd:documentation>\n\t\t\t\t</xsd:annotation>\n\t\t\t</xsd:element>\n\t\t\t<xsd:element name=\"Nazwisko\" type=\"etd:TNazwisko\">\n\t\t\t\t<xsd:annotation>\n\t\t\t\t\t<xsd:documentation>Nazwisko</xsd:documentation>\n\t\t\t\t</xsd:annotation>\n\t\t\t</xsd:element>\n\t\t\t<xsd:element name=\"DataUrodzenia\" type=\"etd:TData\">\n\t\t\t\t<xsd:annotation>\n\t\t\t\t\t<xsd:documentation>Data urodzenia</xsd:documentation>\n\t\t\t\t</xsd:annotation>\n\t\t\t</xsd:element>\n\t\t</xsd:sequence>\n\t</xsd:complexType>\n\t<xsd:complexType name=\"TPodmiotDowolnyBezAdresu1\">\n\t\t<xsd:annotation>\n\t\t\t<xsd:documentation>Skrócony zestaw danych o osobie fizycznej lub niefizycznej z identyfikatorem NIP albo PESEL</xsd:documentation>\n\t\t</xsd:annotation>\n\t\t<xsd:choice>\n\t\t\t<xsd:element name=\"OsobaFizyczna\" type=\"etd:TIdentyfikatorOsobyFizycznej1\"/>\n\t\t\t<xsd:element name=\"OsobaNiefizyczna\" type=\"tns:TIdentyfikatorOsobyNiefizycznej\"/>\n\t\t</xsd:choice>\n\t</xsd:complexType>\n\t<xsd:element name=\"Deklaracja\">\n\t\t<xsd:annotation>\n\t\t\t<xsd:documentation>INFORMACJA O PRZYCHODACH Z INNYCH ŹRÓDEŁ ORAZ O DOCHODACH I POBRANYCH ZALICZKACH NA PODATEK DOCHODOWY w roku</xsd:documentation>\n\t\t</xsd:annotation>\n\t\t<xsd:complexType>\n\t\t\t<xsd:sequence>\n\t\t\t\t<xsd:element name=\"Naglowek\" type=\"tns:TNaglowek\">\n\t\t\t\t\t<xsd:annotation>\n\t\t\t\t\t\t<xsd:documentation>Nagłówek deklaracji</xsd:documentation>\n\t\t\t\t\t</xsd:annotation>\n\t\t\t\t</xsd:element>\n\t\t\t\t<xsd:element name=\"Podmiot1\">\n\t\t\t\t\t<!--W przypadku przedsiębiorstwa w spadku należy podać identyfikator podatkowy NIP zmarłego przedsiębiorcy.-->\n\t\t\t\t\t<!---->\n\t\t\t\t\t<!--W przypadku przedsiębiorstwa w spadku należy podać dane identyfikacyjne zmarłego przedsiębiorcy.-->\n\t\t\t\t\t<xsd:complexType>\n\t\t\t\t\t\t<xsd:complexContent>\n\t\t\t\t\t\t\t<xsd:extension base=\"tns:TPodmiotDowolnyBezAdresu1\">\n\t\t\t\t\t\t\t\t<xsd:attribute name=\"rola\" type=\"xsd:string\" use=\"required\" fixed=\"Płatnik/Składający\"/>\n\t\t\t\t\t\t\t</xsd:extension>\n\t\t\t\t\t\t</xsd:complexContent>\n\t\t\t\t\t</xsd:complexType>\n\t\t\t\t</xsd:element>\n\t\t\t\t<xsd:element name=\"Podmiot2\">\n\t\t\t\t\t<xsd:complexType>\n\t\t\t\t\t\t<xsd:sequence>\n\t\t\t\t\t\t\t<xsd:element name=\"OsobaFizyczna\">\n\t\t\t\t\t\t\t\t<xsd:complexType>\n\t\t\t\t\t\t\t\t\t<xsd:complexContent>\n\t\t\t\t\t\t\t\t\t\t<xsd:extension base=\"tns:TIdentyfikatorOsobyFizycznej1\">\n\t\t\t\t\t\t\t\t\t\t\t<xsd:sequence minOccurs=\"0\">\n\t\t\t\t\t\t\t\t\t\t\t\t<xsd:element name=\"NrId\">\n\t\t\t\t\t\t\t\t\t\t\t\t\t<xsd:annotation>\n\t\t\t\t\t\t\t\t\t\t\t\t\t\t<xsd:documentation>Zagraniczny numer identyfikacyjny podatnika (numer dokumentu stwierdzającego tożsamość)</xsd:documentation>\n\t\t\t\t\t\t\t\t\t\t\t\t\t</xsd:annotation>\n\t\t\t\t\t\t\t\t\t\t\t\t\t<!--W poz. 13 należy podać numer służący identyfikacji do celów podatkowych lub ubezpieczeń społecznych uzyskany w państwie, w którym podatnik ma miejsce zamieszkania. W przypadku braku takiego numeru w poz. 13 należy podać numer dokumentu stwierdzającego tożsamość podatnika, uzyskanego w tym państwie.-->\n\t\t\t\t\t\t\t\t\t\t\t\t\t<xsd:complexType>\n\t\t\t\t\t\t\t\t\t\t\t\t\t\t<xsd:simpleContent>\n\t\t\t\t\t\t\t\t\t\t\t\t\t\t\t<xsd:extension base=\"etd:TNrDokumentuStwierdzajacegoTozsamosc\">\n\t\t\t\t\t\t\t\t\t\t\t\t\t\t\t\t<xsd:attribute name=\"poz\" type=\"xsd:string\" use=\"required\" fixed=\"P_13\"/>\n\t\t\t\t\t\t\t\t\t\t\t\t\t\t\t</xsd:extension>\n\t\t\t\t\t\t\t\t\t\t\t\t\t\t</xsd:simpleContent>\n\t\t\t\t\t\t\t\t\t\t\t\t\t</xsd:complexType>\n\t\t\t\t\t\t\t\t\t\t\t\t</xsd:element>\n\t\t\t\t\t\t\t\t\t\t\t\t<xsd:element name=\"RodzajNrId\">\n\t\t\t\t\t\t\t\t\t\t\t\t\t<xsd:annotation>\n\t\t\t\t\t\t\t\t\t\t\t\t\t\t<xsd:documentation>Rodzaj numeru identyfikacyjnego (dokumentu stwierdzającego tożsamość)</xsd:documentation>\n\t\t\t\t\t\t\t\t\t\t\t\t\t</xsd:annotation>\n\t\t\t\t\t\t\t\t\t\t\t\t\t<!--Poz. 14 i 15 należy wypełnić, jeżeli w poz. 13 podano zagraniczny numer identyfikacyjny podatnika lub numer dokumentu stwierdzającego tożsamość podatnika.-->\n\t\t\t\t\t\t\t\t\t\t\t\t\t<xsd:complexType>\n\t\t\t\t\t\t\t\t\t\t\t\t\t\t<xsd:simpleContent>\n\t\t\t\t\t\t\t\t\t\t\t\t\t\t\t<xsd:extension base=\"tns:TRodzajId\">\n\t\t\t\t\t\t\t\t\t\t\t\t\t\t\t\t<xsd:attribute name=\"poz\" type=\"xsd:string\" use=\"required\" fixed=\"P_14\"/>\n\t\t\t\t\t\t\t\t\t\t\t\t\t\t\t</xsd:extension>\n\t\t\t\t\t\t\t\t\t\t\t\t\t\t</xsd:simpleContent>\n\t\t\t\t\t\t\t\t\t\t\t\t\t</xsd:complexType>\n\t\t\t\t\t\t\t\t\t\t\t\t</xsd:element>\n\t\t\t\t\t\t\t\t\t\t\t\t<xsd:element name=\"KodKrajuWydania\">\n\t\t\t\t\t\t\t\t\t\t\t\t\t<xsd:annotation>\n\t\t\t\t\t\t\t\t\t\t\t\t\t\t<xsd:documentation>Kod kraju wydania numeru identyfikacyjnego (dokumentu stwierdzającego tożsamość)</xsd:documentation>\n\t\t\t\t\t\t\t\t\t\t\t\t\t</xsd:annotation>\n\t\t\t\t\t\t\t\t\t\t\t\t\t<xsd:complexType>\n\t\t\t\t\t\t\t\t\t\t\t\t\t\t<xsd:simpleContent>\n\t\t\t\t\t\t\t\t\t\t\t\t\t\t\t<xsd:extension base=\"etd:TKodKrajuWydania\">\n\t\t\t\t\t\t\t\t\t\t\t\t\t\t\t\t<xsd:attribute name=\"poz\" type=\"xsd:string\" use=\"required\" fixed=\"P_15A\"/>\n\t\t\t\t\t\t\t\t\t\t\t\t\t\t\t</xsd:extension>\n\t\t\t\t\t\t\t\t\t\t\t\t\t\t</xsd:simpleContent>\n\t\t\t\t\t\t\t\t\t\t\t\t\t</xsd:complexType>\n\t\t\t\t\t\t\t\t\t\t\t\t</xsd:element>\n\t\t\t\t\t\t\t\t\t\t\t</xsd:sequence>\n\t\t\t\t\t\t\t\t\t\t</xsd:extension>\n\t\t\t\t\t\t\t\t\t</xsd:complexContent>\n\t\t\t\t\t\t\t\t</xsd:complexType>\n\t\t\t\t\t\t\t</xsd:element>","<xsd:element name=\"AdresZamieszkania\" minOccurs=\"0\">\n\t\t\t\t\t\t\t\t<xsd:complexType>\n\t\t\t\t\t\t\t\t\t<xsd:annotation>\n\t\t\t\t\t\t\t\t\t\t<xsd:documentation>Informacje opisujące adres</xsd:documentation>\n\t\t\t\t\t\t\t\t\t</xsd:annotation>\n\t\t\t\t\t\t\t\t\t<xsd:sequence>\n\t\t\t\t\t\t\t\t\t\t<xsd:element name=\"KodKraju\">\n\t\t\t\t\t\t\t\t\t\t\t<xsd:annotation>\n\t\t\t\t\t\t\t\t\t\t\t\t<xsd:documentation>Kod kraju zamieszkania</xsd:documentation>\n\t\t\t\t\t\t\t\t\t\t\t</xsd:annotation>\n\t\t\t\t\t\t\t\t\t\t\t<xsd:complexType>\n\t\t\t\t\t\t\t\t\t\t\t\t<xsd:simpleContent>\n\t\t\t\t\t\t\t\t\t\t\t\t\t<xsd:extension base=\"etd:TKodKraju\">\n\t\t\t\t\t\t\t\t\t\t\t\t\t\t<xsd:attribute name=\"poz\" type=\"xsd:string\" use=\"required\" fixed=\"P_19A\"/>\n\t\t\t\t\t\t\t\t\t\t\t\t\t</xsd:extension>\n\t\t\t\t\t\t\t\t\t\t\t\t</xsd:simpleContent>\n\t\t\t\t\t\t\t\t\t\t\t</xsd:complexType>\n\t\t\t\t\t\t\t\t\t\t</xsd:element>\n\t\t\t\t\t\t\t\t\t\t<xsd:element name=\"Wojewodztwo\" type=\"etd:TJednAdmin\" minOccurs=\"0\">\n\t\t\t\t\t\t\t\t\t\t\t<xsd:annotation>\n\t\t\t\t\t\t\t\t\t\t\t\t<xsd:documentation>Województwo</xsd:documentation>\n\t\t\t\t\t\t\t\t\t\t\t</xsd:annotation>\n\t\t\t\t\t\t\t\t\t\t</xsd:element>\n\t\t\t\t\t\t\t\t\t\t<xsd:element name=\"Powiat\" type=\"etd:TJednAdmin\" minOccurs=\"0\">\n\t\t\t\t\t\t\t\t\t\t\t<xsd:annotation>\n\t\t\t\t\t\t\t\t\t\t\t\t<xsd:documentation>Powiat</xsd:documentation>\n\t\t\t\t\t\t\t\t\t\t\t</xsd:annotation>\n\t\t\t\t\t\t\t\t\t\t</xsd:element>\n\t\t\t\t\t\t\t\t\t\t<xsd:element name=\"Gmina\" type=\"etd:TJednAdmin\" minOccurs=\"0\">\n\t\t\t\t\t\t\t\t\t\t\t<xsd:annotation>\n\t\t\t\t\t\t\t\t\t\t\t\t<xsd:documentation>Gmina</xsd:documentation>\n\t\t\t\t\t\t\t\t\t\t\t</xsd:annotation>\n\t\t\t\t\t\t\t\t\t\t</xsd:element>\n\t\t\t\t\t\t\t\t\t\t<xsd:element name=\"Ulica\" minOccurs=\"0\">\n\t\t\t\t\t\t\t\t\t\t\t<xsd:annotation>\n\t\t\t\t\t\t\t\t\t\t\t\t<xsd:documentation>Nazwa ulicy</xsd:documentation>\n\t\t\t\t\t\t\t\t\t\t\t</xsd:annotation>\n\t\t\t\t\t\t\t\t\t\t\t<xsd:complexType>\n\t\t\t\t\t\t\t\t\t\t\t\t<xsd:simpleContent>\n\t\t\t\t\t\t\t\t\t\t\t\t\t<xsd:extension base=\"etd:TUlica\">\n\t\t\t\t\t\t\t\t\t\t\t\t\t\t<xsd:attribute name=\"poz\" type=\"xsd:string\" use=\"required\" fixed=\"P_23\"/>\n\t\t\t\t\t\t\t\t\t\t\t\t\t</xsd:extension>\n\t\t\t\t\t\t\t\t\t\t\t\t</xsd:simpleContent>\n\t\t\t\t\t\t\t\t\t\t\t</xsd:complexType>\n\t\t\t\t\t\t\t\t\t\t</xsd:element>\n\t\t\t\t\t\t\t\t\t\t<xsd:element name=\"NrDomu\" minOccurs=\"0\">\n\t\t\t\t\t\t\t\t\t\t\t<xsd:annotation>\n\t\t\t\t\t\t\t\t\t\t\t\t<xsd:documentation>Numer budynku</xsd:documentation>\n\t\t\t\t\t\t\t\t\t\t\t</xsd:annotation>\n\t\t\t\t\t\t\t\t\t\t\t<xsd:complexType>\n\t\t\t\t\t\t\t\t\t\t\t\t<xsd:simpleContent>\n\t\t\t\t\t\t\t\t\t\t\t\t\t<xsd:extension base=\"etd:TNrBudynku\">\n\t\t\t\t\t\t\t\t\t\t\t\t\t\t<xsd:attribute name=\"poz\" type=\"xsd:string\" use=\"required\" fixed=\"P_24\"/>\n\t\t\t\t\t\t\t\t\t\t\t\t\t</xsd:extension>\n\t\t\t\t\t\t\t\t\t\t\t\t</xsd:simpleContent>\n\t\t\t\t\t\t\t\t\t\t\t</xsd:complexType>\n\t\t\t\t\t\t\t\t\t\t</xsd:element>\n\t\t\t\t\t\t\t\t\t\t<xsd:element name=\"NrLokalu\" minOccurs=\"0\">\n\t\t\t\t\t\t\t\t\t\t\t<xsd:annotation>\n\t\t\t\t\t\t\t\t\t\t\t\t<xsd:documentation>Numer lokalu</xsd:documentation>\n\t\t\t\t\t\t\t\t\t\t\t</xsd:annotation>\n\t\t\t\t\t\t\t\t\t\t\t<xsd:complexType>\n\t\t\t\t\t\t\t\t\t\t\t\t<xsd:simpleContent>\n\t\t\t\t\t\t\t\t\t\t\t\t\t<xsd:extension base=\"etd:TNrLokalu\">\n\t\t\t\t\t\t\t\t\t\t\t\t\t\t<xsd:attribute name=\"poz\" type=\"xsd:string\" use=\"required\" fixed=\"P_25\"/>\n\t\t\t\t\t\t\t\t\t\t\t\t\t</xsd:extension>\n\t\t\t\t\t\t\t\t\t\t\t\t</xsd:simpleContent>\n\t\t\t\t\t\t\t\t\t\t\t</xsd:complexType>\n\t\t\t\t\t\t\t\t\t\t</xsd:element>\n\t\t\t\t\t\t\t\t\t\t<xsd:element name=\"Miejscowosc\">\n\t\t\t\t\t\t\t\t\t\t\t<xsd:annotation>\n\t\t\t\t\t\t\t\t\t\t\t\t<xsd:documentation>Nazwa miejscowości</xsd:documentation>\n\t\t\t\t\t\t\t\t\t\t\t</xsd:annotation>\n\t\t\t\t\t\t\t\t\t\t\t<xsd:complexType>\n\t\t\t\t\t\t\t\t\t\t\t\t<xsd:simpleContent>\n\t\t\t\t\t\t\t\t\t\t\t\t\t<xsd:extension base=\"etd:TMiejscowosc\">\n\t\t\t\t\t\t\t\t\t\t\t\t\t\t<xsd:attribute name=\"poz\" type=\"xsd:string\" use=\"required\" fixed=\"P_26\"/>\n\t\t\t\t\t\t\t\t\t\t\t\t\t</xsd:extension>\n\t\t\t\t\t\t\t\t\t\t\t\t</xsd:simpleContent>\n\t\t\t\t\t\t\t\t\t\t\t</xsd:complexType>\n\t\t\t\t\t\t\t\t\t\t</xsd:element>\n\t\t\t\t\t\t\t\t\t\t<xsd:element name=\"KodPocztowy\" minOccurs=\"0\">\n\t\t\t\t\t\t\t\t\t\t\t<xsd:annotation>\n\t\t\t\t\t\t\t\t\t\t\t\t<xsd:documentation>Kod pocztowy</xsd:documentation>\n\t\t\t\t\t\t\t\t\t\t\t</xsd:annotation>\n\t\t\t\t\t\t\t\t\t\t\t<xsd:complexType>\n\t\t\t\t\t\t\t\t\t\t\t\t<xsd:simpleContent>\n\t\t\t\t\t\t\t\t\t\t\t\t\t<xsd:extension base=\"etd:TKodPocztowy\">\n\t\t\t\t\t\t\t\t\t\t\t\t\t\t<xsd:attribute name=\"poz\" type=\"xsd:string\" use=\"required\" fixed=\"P_27\"/>\n\t\t\t\t\t\t\t\t\t\t\t\t\t</xsd:extension>\n\t\t\t\t\t\t\t\t\t\t\t\t</xsd:simpleContent>\n\t\t\t\t\t\t\t\t\t\t\t</xsd:complexType>\n\t\t\t\t\t\t\t\t\t\t</xsd:element>\n\t\t\t\t\t\t\t\t\t</xsd:sequence>\n\t\t\t\t\t\t\t\t\t<xsd:attribute name=\"rodzajAdresu\" type=\"xsd:string\" use=\"required\" fixed=\"RAD\"/>\n\t\t\t\t\t\t\t\t</xsd:complexType>\n\t\t\t\t\t\t\t</xsd:element>\n\t\t\t\t\t\t</xsd:sequence>\n\t\t\t\t\t\t<xsd:attribute name=\"rola\" type=\"xsd:string\" use=\"required\" fixed=\"Podatnik\"/>\n\t\t\t\t\t</xsd:complexType>\n\t\t\t\t</xsd:element>\n\t\t\t\t<xsd:element name=\"PozycjeSzczegolowe\">\n\t\t\t\t\t<xsd:annotation>\n\t\t\t\t\t\t<xsd:documentation>Informacja o kosztach uzyskania przychodu z tytułu stosunku służbowego, stosunku pracy, spółdzielczego stosunku pracy oraz pracy nakładczej, dochody podatnika, pobrane zaliczki oraz pobrane składki na ubezpieczenia społeczne, informacja o wysokości przychodów, o których mowa w art. 20 ust. 1 ustawy, informacja o przychodach zwolnionych od podatku, załączniku oraz o pobranych przez płatnika składkach: na ubezpieczenie zdrowotne oraz członkowskich na rzecz związków zawodowych</xsd:documentation>\n\t\t\t\t\t</xsd:annotation>\n\t\t\t\t\t<xsd:complexType>\n\t\t\t\t\t\t<xsd:sequence>\n\t\t\t\t\t\t\t<xsd:element name=\"P_5\" minOccurs=\"0\">\n\t\t\t\t\t\t\t\t<xsd:annotation>\n\t\t\t\t\t\t\t\t\t<xsd:documentation>Nr informacji</xsd:documentation>\n\t\t\t\t\t\t\t\t</xsd:annotation>\n\t\t\t\t\t\t\t\t<!--Jeżeli w odniesieniu do dochodów (przychodów) osoby fizycznej uzyskanych w roku, o którym mowa w poz. 4, składający sporządza i przesyła więcej niż jedną informację PIT-11 (niebędącą korektą poprzedniej), należy podać kolejny numer składanej informacji dotyczącej tego roku podatkowego.-->\n\t\t\t\t\t\t\t\t<xsd:simpleType>\n\t\t\t\t\t\t\t\t\t<xsd:restriction base=\"etd:TNaturalny\">\n\t\t\t\t\t\t\t\t\t\t<xsd:minInclusive value=\"0\"/>\n\t\t\t\t\t\t\t\t\t\t<xsd:maxInclusive value=\"99\"/>\n\t\t\t\t\t\t\t\t\t</xsd:restriction>\n\t\t\t\t\t\t\t\t</xsd:simpleType>\n\t\t\t\t\t\t\t</xsd:element>\n\t\t\t\t\t\t\t<xsd:element name=\"P_11\">\n\t\t\t\t\t\t\t\t<xsd:annotation>\n\t\t\t\t\t\t\t\t\t<xsd:documentation>Rodzaj obowiązku podatkowego podatnika: 1 - nieograniczony obowiązek podatkowy (rezydent), 2 - ograniczony obowiązek podatkowy (nierezydent)</xsd:documentation>\n\t\t\t\t\t\t\t\t</xsd:annotation>\n\t\t\t\t\t\t\t\t<xsd:simpleType>\n\t\t\t\t\t\t\t\t\t<xsd:restriction base=\"xsd:byte\">\n\t\t\t\t\t\t\t\t\t\t<xsd:enumeration value=\"1\">\n\t\t\t\t\t\t\t\t\t\t\t<xsd:annotation>\n\t\t\t\t\t\t\t\t\t\t\t\t<xsd:documentation>nieograniczony obowiązek podatkowy (rezydent)</xsd:documentation>\n\t\t\t\t\t\t\t\t\t\t\t</xsd:annotation>\n\t\t\t\t\t\t\t\t\t\t</xsd:enumeration>\n\t\t\t\t\t\t\t\t\t\t<xsd:enumeration value=\"2\">\n\t\t\t\t\t\t\t\t\t\t\t<xsd:annotation>\n\t\t\t\t\t\t\t\t\t\t\t\t<xsd:documentation>ograniczony obowiązek podatkowy (nierezydent)</xsd:documentation>\n\t\t\t\t\t\t\t\t\t\t\t</xsd:annotation>\n\t\t\t\t\t\t\t\t\t\t</xsd:enumeration>\n\t\t\t\t\t\t\t\t\t</xsd:restriction>\n\t\t\t\t\t\t\t\t</xsd:simpleType>\n\t\t\t\t\t\t\t\t<!--W przypadku ograniczonego obowiązku podatkowego (nierezydent), w poz. 19-27 należy podać kraj inny niż Rzeczpospolita Polska oraz adres zamieszkania za granicą; dodatkowo kod kraju wydania dokumentu powinien być zgodny z krajem adresu zamieszkania.-->\n\t\t\t\t\t\t\t</xsd:element>\n\t\t\t\t\t\t\t<xsd:sequence minOccurs=\"0\">\n\t\t\t\t\t\t\t\t<xsd:annotation>\n\t\t\t\t\t\t\t\t\t<xsd:documentation>1. Należności ze stosunku: pracy, służbowego, spółdzielczego i z pracy nakładczej, wypłacone przez zakład pracy oraz płatników, o których mowa w art. 42e ust. 1 ustawy, z wyjątkiem należności wykazanych w wierszu 2 albo 3</xsd:documentation>\n\t\t\t\t\t\t\t\t</xsd:annotation>\n\t\t\t\t\t\t\t\t<!--W wierszu 1 i odpowiednio wierszu 6 części E wykazuje się również przychody z wymienionych tam tytułów otrzymane przez podatników, którzy przenieśli miejsce zamieszkania na terytorium Rzeczypospolitej Polskiej (tzw. ulga na powrót) oraz otrzymane przez podatników, którzy w roku podatkowym wychowywali co najmniej czworo dzieci (tzw. ulga dla rodzin 4+), jeśli płatnik w trakcie roku pobierał od tych przychodów zaliczki na podatek w sytuacji gdy podatnik nie złożył płatnikowi oświadczenia o spełnieniu warunków do stosowania zwolnień od podatku, o których mowa w art. 21 ust. 1 pkt 152 i 153 ustawy, albo z powodu przekroczenia limitu przychodu zwolnionego od podatku (sumy kwot wykazanych w poz. 109 i 114), gdy zwolnienie było stosowane w trakcie roku. W wierszach tych należy odpowiednio wykazać przychody uzyskane przez podatników wraz z kwotą kosztów uzyskania przychodów oraz sumą zaliczek na podatek pobranych przez płatnika.-->\n\t\t\t\t\t\t\t\t<xsd:element name=\"P_28\" minOccurs=\"0\">\n\t\t\t\t\t\t\t\t\t<xsd:annotation>\n\t\t\t\t\t\t\t\t\t\t<xsd:documentation>Informacja o kosztach uzyskania przychodu. Koszty uzyskania przychodów, wykazane w poz. 30, zostały uwzględnione do wysokości przysługującej podatnikowi</xsd:documentation>\n\t\t\t\t\t\t\t\t\t</xsd:annotation>\n\t\t\t\t\t\t\t\t\t<xsd:simpleType>\n\t\t\t\t\t\t\t\t\t\t<xsd:restriction base=\"xsd:byte\">\n\t\t\t\t\t\t\t\t\t\t\t<xsd:enumeration value=\"1\">\n\t\t\t\t\t\t\t\t\t\t\t\t<xsd:annotation>\n\t\t\t\t\t\t\t\t\t\t\t\t\t<xsd:documentation>z jednego stosunku pracy (stosunków pokrewnych)</xsd:documentation>\n\t\t\t\t\t\t\t\t\t\t\t\t</xsd:annotation>\n\t\t\t\t\t\t\t\t\t\t\t</xsd:enumeration>\n\t\t\t\t\t\t\t\t\t\t\t<xsd:enumeration value=\"2\">\n\t\t\t\t\t\t\t\t\t\t\t\t<xsd:annotation>\n\t\t\t\t\t\t\t\t\t\t\t\t\t<xsd:documentation>z więcej niż jednego stosunku pracy (stosunków pokrewnych)</xsd:documentation>\n\t\t\t\t\t\t\t\t\t\t\t\t</xsd:annotation>\n\t\t\t\t\t\t\t\t\t\t\t</xsd:enumeration>\n\t\t\t\t\t\t\t\t\t\t\t<xsd:enumeration value=\"3\">\n\t\t\t\t\t\t\t\t\t\t\t\t<xsd:annotation>\n\t\t\t\t\t\t\t\t\t\t\t\t\t<xsd:documentation>z jednego stosunku pracy (stosunków pokrewnych), podwyższone w związku z zamieszkiwaniem podatnika poza miejscowością, w której znajduje się zakład pracy</xsd:documentation>\n\t\t\t\t\t\t\t\t\t\t\t\t</xsd:annotation>\n\t\t\t\t\t\t\t\t\t\t\t</xsd:enumeration>\n\t\t\t\t\t\t\t\t\t\t\t<xsd:enumeration value=\"4\">\n\t\t\t\t\t\t\t\t\t\t\t\t<xsd:annotation>\n\t\t\t\t\t\t\t\t\t\t\t\t\t<xsd:documentation>z więcej niż jednego stosunku pracy (stosunków pokrewnych), podwyższone w związku z zamieszkiwaniem podatnika poza miejscowością, w której znajduje się zakład pracy</xsd:documentation>\n\t\t\t\t\t\t\t\t\t\t\t\t</xsd:annotation>\n\t\t\t\t\t\t\t\t\t\t\t</xsd:enumeration>\n\t\t\t\t\t\t\t\t\t\t</xsd:restriction>\n\t\t\t\t\t\t\t\t\t</xsd:simpleType>\n\t\t\t\t\t\t\t\t</xsd:element>\n\t\t\t\t\t\t\t\t<!--W kwocie przychodów, w części E, nie uwzględnia się przychodów wolnych od podatku na podstawie przepisów ustawy oraz przychodów, od których na podstawie przepisów Ordynacji podatkowej zaniechano poboru podatku; jednakże w kolumnie e należy wykazać dochody zwolnione od podatku na podstawie umów o unikaniu podwójnego opodatkowania lub innych umów międzynarodowych.-->\n\t\t\t\t\t\t\t\t<xsd:element name=\"P_29\" type=\"etd:TKwota2Nieujemna\">\n\t\t\t\t\t\t\t\t\t<xsd:annotation>\n\t\t\t\t\t\t\t\t\t\t<xsd:documentation>Przychód</xsd:documentation>\n\t\t\t\t\t\t\t\t\t</xsd:annotation>\n\t\t\t\t\t\t\t\t</xsd:element>\n\t\t\t\t\t\t\t\t<xsd:element name=\"P_30\" type=\"etd:TKwota2Nieujemna\" minOccurs=\"0\">\n\t\t\t\t\t\t\t\t\t<xsd:annotation>\n\t\t\t\t\t\t\t\t\t\t<xsd:documentation>Koszty uzyskania przychodów</xsd:documentation>\n\t\t\t\t\t\t\t\t\t</xsd:annotation>\n\t\t\t\t\t\t\t\t</xsd:element>\n\t\t\t\t\t\t\t\t<xsd:element name=\"P_31\" type=\"etd:TKwota2Nieujemna\">\n\t\t\t\t\t\t\t\t\t<xsd:annotation>\n\t\t\t\t\t\t\t\t\t\t<xsd:documentation>Dochód</xsd:documentation>\n\t\t\t\t\t\t\t\t\t</xsd:annotation>\n\t\t\t\t\t\t\t\t</xsd:element>\n\t\t\t\t\t\t\t\t<xsd:element name=\"P_32\" type=\"etd:TKwota2Nieujemna\" minOccurs=\"0\">\n\t\t\t\t\t\t\t\t\t<xsd:annotation>\n\t\t\t\t\t\t\t\t\t\t<xsd:documentation>Dochód zwolniony od podatku</xsd:documentation>\n\t\t\t\t\t\t\t\t\t</xsd:annotation>\n\t\t\t\t\t\t\t\t</xsd:element>\n\t\t\t\t\t\t\t\t<xsd:element name=\"P_33\" type=\"etd:TKwotaCNieujemna\">\n\t\t\t\t\t\t\t\t\t<xsd:annotation>\n\t\t\t\t\t\t\t\t\t\t<xsd:documentation>Zaliczka pobrana przez płatnika</xsd:documentation>\n\t\t\t\t\t\t\t\t\t</xsd:annotation>\n\t\t\t\t\t\t\t\t</xsd:element>\n\t\t\t\t\t\t\t\t<xsd:sequence minOccurs=\"0\">\n\t\t\t\t\t\t\t\t\t<xsd:element name=\"P_34\" type=\"etd:TKwota2Nieujemna\">\n\t\t\t\t\t\t\t\t\t\t<xsd:annotation>\n\t\t\t\t\t\t\t\t\t\t\t<xsd:documentation>Przychody, do których zastosowano odliczenie kosztów uzyskania przychodów na podstawie art. 22 ust. 9 pkt 3 ustawy</xsd:documentation>\n\t\t\t\t\t\t\t\t\t\t</xsd:annotation>\n\t\t\t\t\t\t\t\t\t\t<!--W poz. 34 należy wykazać przychody, do których zastosowano odliczenie kosztów uzyskania przychodów na podstawie art. 22 ust. 9 pkt 3 ustawy.-->\n\t\t\t\t\t\t\t\t\t</xsd:element>\n\t\t\t\t\t\t\t\t\t<xsd:element name=\"P_35\" type=\"etd:TKwota2Nieujemna\">\n\t\t\t\t\t\t\t\t\t\t<xsd:annotation>\n\t\t\t\t\t\t\t\t\t\t\t<xsd:documentation>Koszty uzyskania przychodów na podstawie art. 22 ust. 9 pkt 3</xsd:documentation>\n\t\t\t\t\t\t\t\t\t\t</xsd:annotation>\n\t\t\t\t\t\t\t\t\t</xsd:element>\n\t\t\t\t\t\t\t\t</xsd:sequence>\n\t\t\t\t\t\t\t</xsd:sequence>\n\t\t\t\t\t\t\t<xsd:sequence minOccurs=\"0\">\n\t\t\t\t\t\t\t\t<xsd:annotation>\n\t\t\t\t\t\t\t\t\t<xsd:documentation>2. Należności z tytułów wymienionych w wierszu 1, otrzymane przez podatników do ukończenia 26. roku życia</xsd:documentation>\n\t\t\t\t\t\t\t\t</xsd:annotation>\n\t\t\t\t\t\t\t\t<!--Wiersze 2, 7 i 11 części E wypełnia się, jeśli płatnik w trakcie roku pobierał od tych przychodów zaliczki na podatek w związku ze złożeniem przez podatnika oświadczenia o rezygnacji ze stosowania w trakcie roku zwolnienia od podatku albo z powodu przekroczenia limitu przychodu zwolnionego od podatku (sumy kwot wykazanych w poz. 100 i 104), gdy zwolnienie było stosowane w trakcie roku. W wierszach tych należy odpowiednio wykazać przychody uzyskane przez podatników do ukończenia 26. roku życia wraz z kwotą kosztów uzyskania przychodów oraz sumą zaliczek na podatek pobranych przez płatnika. Przychody ze stosunku pracy i stosunków pokrewnych uzyskane przez podatnika po dniu ukończenia 26. roku życia płatnik wykazuje w wierszu 1, odpowiednio przychody z umów zlecenia, o których mowa w art. 13 pkt 8 ustawy, płatnik wykazuje w wierszu 6, a przychody z praktyk absolwenckich lub staży uczniowskich, płatnik wykazuje w wierszu 10.-->\n\t\t\t\t\t\t\t\t<xsd:element name=\"P_36\" type=\"etd:TKwota2Nieujemna\">\n\t\t\t\t\t\t\t\t\t<xsd:annotation>\n\t\t\t\t\t\t\t\t\t\t<xsd:documentation>Przychód</xsd:documentation>\n\t\t\t\t\t\t\t\t\t</xsd:annotation>\n\t\t\t\t\t\t\t\t</xsd:element>\n\t\t\t\t\t\t\t\t<xsd:element name=\"P_37\" type=\"etd:TKwota2Nieujemna\" minOccurs=\"0\">\n\t\t\t\t\t\t\t\t\t<xsd:annotation>\n\t\t\t\t\t\t\t\t\t\t<xsd:documentation>Koszty uzyskania przychodów</xsd:documentation>\n\t\t\t\t\t\t\t\t\t</xsd:annotation>\n\t\t\t\t\t\t\t\t</xsd:element>\n\t\t\t\t\t\t\t\t<xsd:element name=\"P_38\" type=\"etd:TKwota2Nieujemna\">\n\t\t\t\t\t\t\t\t\t<xsd:annotation>\n\t\t\t\t\t\t\t\t\t\t<xsd:documentation>Dochód</xsd:documentation>\n\t\t\t\t\t\t\t\t\t</xsd:annotation>\n\t\t\t\t\t\t\t\t</xsd:element>\n\t\t\t\t\t\t\t\t<xsd:element name=\"P_39\" type=\"etd:TKwota2Nieujemna\" minOccurs=\"0\">\n\t\t\t\t\t\t\t\t\t<xsd:annotation>\n\t\t\t\t\t\t\t\t\t\t<xsd:documentation>Dochód zwolniony od podatku</xsd:documentation>\n\t\t\t\t\t\t\t\t\t</xsd:annotation>\n\t\t\t\t\t\t\t\t</xsd:element>\n\t\t\t\t\t\t\t\t<xsd:element name=\"P_40\" type=\"etd:TKwotaCNieujemna\">\n\t\t\t\t\t\t\t\t\t<xsd:annotation>\n\t\t\t\t\t\t\t\t\t\t<xsd:documentation>Zaliczka pobrana przez płatnika</xsd:documentation>\n\t\t\t\t\t\t\t\t\t</xsd:annotation>\n\t\t\t\t\t\t\t\t</xsd:element>",{"$cut":{"chars":18688,"head":"<xsd:sequence minOccurs=\"0\">\n\t\t\t\t\t\t\t\t\t<xsd:element name=\"P_41\" type=\"etd:TKwota2Nieujemna\">\n\t\t\t\t\t\t\t\t\t\t<xsd:annotation>\n\t\t\t\t\t\t\t\t\t\t\t<xsd:documentation>Przychody, do których zastosowano odliczenie kosztów uzyskania przychodów na podstawie art. 22 ust. 9 pkt 3 ustawy</xsd:documentation>\n\t\t\t\t\t\t\t\t\t\t</xsd:annotation>\n\t\t\t\t\t\t\t\t\t\t<!-- W poz. 41 należy wykazać przychody, do których zastosowano odliczenie kosztów uzyskania przychodów na podstawie art. 22 ust. 9 pkt 3 ustawy.-->\n\t\t\t\t\t\t\t\t\t</xsd:element>\n\t\t\t\t\t\t\t\t\t<xsd:element name=\"P_42\" type=\"etd:TKwota2Nieujemna\">\n\t\t\t\t\t\t\t\t\t\t<xsd:annotation>\n\t\t\t\t\t\t\t\t\t\t\t<xsd:documentation>Koszty uzyskania przychodów na podstawie art. 22 ust. 9 pkt 3</xsd:documentation>\n\t\t\t\t\t\t\t\t\t\t</xsd:annotation>\n\t\t\t\t\t\t\t\t\t</xsd:element>\n\t\t\t\t\t\t\t\t</xsd:sequence>\n\t\t\t\t\t\t\t</xsd:sequence>\n\t\t\t\t\t\t\t<xsd:sequence minOccurs=\"0\">\n\t\t\t\t\t\t\t\t<xsd:annotation>\n\t\t\t\t\t\t\t\t\t<xsd:documentation>3. Należności z tytułów wymienionych w wierszu 1, otrzymane przez podatników, od ukończenia wieku emerytalnego</xsd:documentation>\n\t\t\t\t\t\t\t\t</xsd:annotation>\n\t\t\t\t\t\t\t\t<!--Wiersze 3, 8 i 14 części E wypełnia się, jeśli płatnik w trakcie roku pobierał od tych przychodów zaliczki na podatek w sytuacji gdy podatnik nie złożył płatnikowi oświadczenia o spełnieniu warunków do stosowania zwolnienia od podatku, o którym mowa w art. 21 ust. 1 pkt 154 ustawy (tzw. ulgi dla seniora) albo z powodu przekroczenia limitu przychodu zwolnionego od podatku (sumy kwot wykazanych w poz. 109 i 114), gdy zwolnienie było stosowane w trakcie roku. W wierszach tych należy odpowiednio wykazać przychody uzyskane przez podatników po ukończeniu 60. roku życia w przypadku kobiety i 65. roku życia w przypadku mężczyzny, pod warunkiem że podatnik podlega z tytułu uzyskania tych przychodów ubezpieczeniom społecznym w rozumieniu ustawy z dnia 13 października 1998 r. o systemie ubezpieczeń społecznych (Dz. U. z 2022 r. poz. 1009, z późn. zm.). W wierszach tych należy odpowiednio wykazać kwoty kosztów uzyskania przychodów oraz sumy zaliczek na podatek pobranych przez płatnika. Przychody ze stosunku pracy i stosunków pokrewnych uzyskane przez podatnika przed ukończeniem ww. wieku płatnik wykazuje w wierszu 1, odpowiednio przychody z umów zlecenia, o których mowa w art. 13 pkt 8 ustawy płatnik wykazuje w wierszu 6, a z zasiłków macierzyńskich - w wierszu 12.-->\n\t\t\t\t\t\t\t\t<xsd:element name=\"P_43\" type=\"etd:TKwota2Nieujemna\">\n\t\t\t\t\t\t\t\t\t<xsd:annotation>\n\t\t\t\t\t\t\t\t\t\t<xsd:documentation>Przychód</xsd:documentation>\n\t\t\t\t\t\t\t\t\t</xsd:annotation>\n\t\t\t\t\t\t\t\t</xsd:element>\n\t\t\t\t\t\t\t\t<xsd:element name=\"P_44\" type=\"etd:TKwota2Nieujemna\" minOccurs=\"0\">\n\t\t\t\t\t\t\t\t\t<xsd:annotation>\n\t\t\t\t\t\t\t\t\t\t<xsd:documentation>Koszty uzyskania przychodów</xsd:documentation>\n\t\t\t\t\t\t\t\t\t</xsd:annotation>\n\t\t\t\t\t\t\t\t</xsd:element>\n\t\t\t\t\t\t\t\t<xsd:element name=\"P_45\" type=\"etd:TKwota2Nieujemna\">\n\t\t\t\t\t\t\t\t\t<xsd:annotation>\n\t\t\t\t\t\t\t\t\t\t<xsd:documentation>Dochód</xsd:documentation>\n\t\t\t\t\t\t\t\t\t</xsd:annotation>\n\t\t\t\t\t\t\t\t</xsd:element>\n\t\t\t\t\t\t\t\t<xsd:element name=\"P_46\" type=\"etd:TKwota2Nieujemna\" minOccurs=\"0\">\n\t\t\t\t\t\t\t\t\t<xsd:annotation>\n\t\t\t\t\t\t\t\t\t\t<xsd:documentation>Dochód zwolniony od podatku</xsd:documentation>\n\t\t\t\t\t\t\t\t\t</xsd:annotation>\n\t\t\t\t\t\t\t\t</xsd:element>\n\t\t\t\t\t\t\t\t<xsd:element name=\"P_47\" type=\"etd:TKwotaCNieujemna\">\n\t\t\t\t\t\t\t\t\t<xsd:annotation>\n\t\t\t\t\t\t\t\t\t\t<xsd:documentation>Zaliczka pobrana przez płatnika</xsd:documentation>\n\t\t\t\t\t\t\t\t\t</xsd:annotation>\n\t\t\t\t\t\t\t\t</xsd:element>\n\t\t\t\t\t\t\t\t<xsd:sequence minOccurs=\"0\">\n\t\t\t\t\t\t\t\t\t<xsd:element name=\"P_48\" type=\"etd:TKwota2Nieujemna\">\n\t\t\t\t\t\t\t\t\t\t<xsd:annotation>\n\t\t\t\t\t\t\t\t\t\t\t<xsd:documentation>Przychody, do których zastosowano odliczenie kosztów uzyskania przychodów na podstawie art. 22 ust. 9 pkt 3 ustawy</xsd:documentation>\n\t\t\t\t\t\t\t\t\t\t</xsd:annotation>\n\t\t\t\t\t\t\t\t\t\t<!--W poz. 48 należy wykazać przychody, do których zastosowano odliczenie kosztów uzyskania przychodów na podstawie art. 22 ust. 9 pkt 3 ustawy.-->\n\t\t\t\t\t\t\t\t\t</xsd:element>\n\t\t\t\t\t\t\t\t\t<xsd:element name=\"P_49\" type=\"etd:TKwota2Nieujemna\">\n\t\t\t\t\t\t\t\t\t\t<xsd:annotation>\n\t\t\t\t\t\t\t\t\t\t\t<xsd:documentation>Koszty uzyskania przychodów na podstawie art. 22 ust. 9 pkt 3</xsd:documenta"}},{"$cut":{"chars":18431,"head":"<!--Wiersze 2, 7, 11 i 13 części E wypełnia się, jeśli płatnik w trakcie roku pobierał od tych przychodów zaliczki na podatek w związku ze złożeniem przez podatnika oświadczenia o rezygnacji ze stosowania w trakcie roku zwolnienia od podatku, o którym mowa w art. 21 ust. 1 pkt 148 ustawy (tzw. ulga dla młodych) albo z powodu przekroczenia limitu przychodu zwolnionego od podatku (sumy kwot wykazanych w poz. 109 i 114), gdy zwolnienie było stosowane w trakcie roku. W wierszach tych należy odpowiednio wykazać przychody uzyskane przez podatników do ukończenia 26. roku życia wraz z kwotą kosztów uzyskania przychodów oraz sumą zaliczek na podatek pobranych przez płatnika. Przychody ze stosunku pracy i stosunków pokrewnych uzyskane przez podatnika po dniu ukończenia 26. roku życia płatnik wykazuje w wierszu 1, odpowiednio przychody z umów zlecenia, o których mowa w art. 13 pkt 8 ustawy, płatnik wykazuje w wierszu 6, przychody z praktyk absolwenckich lub staży uczniowskich, płatnik wykazuje w wierszu 10, a przychody z zasiłków macierzyńskich płatnik wykazuje w wierszu 12.-->\n\t\t\t\t\t\t\t\t<xsd:element name=\"P_84\" type=\"etd:TKwota2Nieujemna\">\n\t\t\t\t\t\t\t\t\t<xsd:annotation>\n\t\t\t\t\t\t\t\t\t\t<xsd:documentation>Przychód</xsd:documentation>\n\t\t\t\t\t\t\t\t\t</xsd:annotation>\n\t\t\t\t\t\t\t\t</xsd:element>\n\t\t\t\t\t\t\t\t<xsd:element name=\"P_85\" type=\"etd:TKwota2Nieujemna\">\n\t\t\t\t\t\t\t\t\t<xsd:annotation>\n\t\t\t\t\t\t\t\t\t\t<xsd:documentation>Dochód</xsd:documentation>\n\t\t\t\t\t\t\t\t\t</xsd:annotation>\n\t\t\t\t\t\t\t\t</xsd:element>\n\t\t\t\t\t\t\t\t<xsd:element name=\"P_86\" type=\"etd:TKwotaCNieujemna\">\n\t\t\t\t\t\t\t\t\t<xsd:annotation>\n\t\t\t\t\t\t\t\t\t\t<xsd:documentation>Zaliczka pobrana przez płatnika</xsd:documentation>\n\t\t\t\t\t\t\t\t\t</xsd:annotation>\n\t\t\t\t\t\t\t\t</xsd:element>\n\t\t\t\t\t\t\t</xsd:sequence>\n\t\t\t\t\t\t\t<xsd:sequence minOccurs=\"0\">\n\t\t\t\t\t\t\t\t<xsd:annotation>\n\t\t\t\t\t\t\t\t\t<xsd:documentation>14. Zasiłki macierzyńskie otrzymane przez podatników od ukończenia wieku emerytalnego</xsd:documentation>\n\t\t\t\t\t\t\t\t</xsd:annotation>\n\t\t\t\t\t\t\t\t<!--Wiersze 3, 8 i 14 części E wypełnia się, jeśli płatnik w trakcie roku pobierał od tych przychodów zaliczki na podatek w sytuacji gdy podatnik nie złożył płatnikowi oświadczenia o spełnieniu warunków do stosowania zwolnienia od podatku, o którym mowa w art. 21 ust. 1 pkt 154 ustawy (tzw. ulgi dla seniora) albo z powodu przekroczenia limitu przychodu zwolnionego od podatku (sumy kwot wykazanych w poz. 109 i 114), gdy zwolnienie było stosowane w trakcie roku. W wierszach tych należy odpowiednio wykazać przychody uzyskane przez podatników po ukończeniu 60. roku życia w przypadku kobiety i 65. roku życia w przypadku mężczyzny, pod warunkiem że podatnik podlega z tytułu uzyskania tych przychodów ubezpieczeniom społecznym w rozumieniu ustawy z dnia 13 października 1998 r. o systemie ubezpieczeń społecznych (Dz. U. z 2022 r. poz. 1009, z późn. zm.). W wierszach tych należy odpowiednio wykazać kwoty kosztów uzyskania przychodów oraz sumy zaliczek na podatek pobranych przez płatnika. Przychody ze stosunku pracy i stosunków pokrewnych uzyskane przez podatnika przed ukończeniem ww. wieku płatnik wykazuje w wierszu 1, odpowiednio przychody z umów zlecenia, o których mowa w art. 13 pkt 8 ustawy płatnik wykazuje w wierszu 6, a z zasiłków macierzyńskich - w wierszu 12.-->\n\t\t\t\t\t\t\t\t<xsd:element name=\"P_87\" type=\"etd:TKwota2Nieujemna\">\n\t\t\t\t\t\t\t\t\t<xsd:annotation>\n\t\t\t\t\t\t\t\t\t\t<xsd:documentation>Przychód</xsd:documentation>\n\t\t\t\t\t\t\t\t\t</xsd:annotation>\n\t\t\t\t\t\t\t\t</xsd:element>\n\t\t\t\t\t\t\t\t<xsd:element name=\"P_88\" type=\"etd:TKwota2Nieujemna\">\n\t\t\t\t\t\t\t\t\t<xsd:annotation>\n\t\t\t\t\t\t\t\t\t\t<xsd:documentation>Dochód</xsd:documentation>\n\t\t\t\t\t\t\t\t\t</xsd:annotation>\n\t\t\t\t\t\t\t\t</xsd:element>\n\t\t\t\t\t\t\t\t<xsd:element name=\"P_89\" type=\"etd:TKwotaCNieujemna\">\n\t\t\t\t\t\t\t\t\t<xsd:annotation>\n\t\t\t\t\t\t\t\t\t\t<xsd:documentation>Zaliczka pobrana przez płatnika</xsd:documentation>\n\t\t\t\t\t\t\t\t\t</xsd:annotation>\n\t\t\t\t\t\t\t\t</xsd:element>\n\t\t\t\t\t\t\t</xsd:sequence>\n\t\t\t\t\t\t\t<xsd:sequence minOccurs=\"0\">\n\t\t\t\t\t\t\t\t<xsd:annotation>\n\t\t\t\t\t\t\t\t\t<xsd:documentation>15. Inne źródła</xsd:documentation>\n\t\t\t\t\t\t\t\t</xsd:annotation>\n\t\t\t\t\t\t\t\t<!--W wierszu 15 części E wykazuje się m.in. zasiłki pieniężne z ubezpieczenia "}}]