{"text_format":"1","workbook":"xlsx","n_sheets":11,"sheets":["Nagłówek","Wprowadzenie","Bilans","RZiS","Kapitał","Przepływy","Dodatkowe","inne","teksty","mapowanie","techniczne"],"not_rendered":{"charts":0,"images":19,"macros":1,"external_links":0,"defined_names":205,"comments":8,"pivot_tables":0},"unopened":[],"bounds":{"document_bytes":16777216,"sheet_cells":100000,"rows_first":2000,"rows_last":500,"rows_between":2000,"halvings":0,"cell_chars":16384,"cell_head_chars":4096},"cells_cut":0,"cells_raw":0,"read":"whole","date_system":"1900"}

{"sheet":"Nagłówek","index":0,"n_rows":36,"n_cols":9,"rows_kept":36,"cut":false,"hidden":false,"merged":[[5,1,5,10],[8,3,8,4],[8,6,8,8]]}
["Nagłówek"]
[null,null,null,null,null,{"$f":"IF(NumerWariantuRaportu = 5,teksty!D288 & \" \",\"\") & teksty!D295","v":"sprawozdanie finansowe"}]
[]
[]
[null,null,null,null,null,{"$f":"teksty!D300","v":"dla:"}]
[null,{"$f":"IF(Wprowadzenie!$I$4=\"\",teksty!$D$294,Wprowadzenie!$I$4)","v":"(nazwę i dane firmy wpiszesz w zakładce 'Wprowadzenie')"}]
[null,null,null,null,null,{"$f":"teksty!D302","v":"za okres:"}]
[null,null,null,null,null,{"$f":"teksty!D305","v":"-"}]
[null,null,null,{"$f":"IF(ISNONTEXT(DataOd),\"\",teksty!$D$303)","v":""},null,null,{"$f":"IF(ISNONTEXT(DataDo),\"\",teksty!$D$304)","v":""}]
[null,null,null,null,{"$f":"IF(D9 <> \"\",TODAY(),\"\")","v":""},null,null,null,{"$f":"IF(G9 <> \"\",TODAY(),\"\")","v":""}]
[null,null,null,null,null,{"$f":"teksty!D299","v":"Data sporządzenia:"}]
[]
[null,null,null,null,{"$f":"teksty!D298","v":"Wszystkie kwoty tego raportu są podane w:"},{"$f":"VLOOKUP(techniczne!G2,BazyKwot,3)","v":"złotych"}]
[]
[]
[null,null,null,null,{"$f":"teksty!D297","v":"Raport jest wyświetlany w układzie:"},{"$f":"VLOOKUP(techniczne!F2,ListaWariantowRaportow,3)","v":"dla mikroprzedsiębiorstwa (\"Jednostka Mikro\")"}]
[null,null,null,null,null,{"$f":"teksty!$D$990","v":"wg schematu w wersji 1-3 (dla sprawozdań za okres rozpoczynający się od 1 stycznia 2024 lub później)"}]
[]
[]
[]
[]
[]
[]
[]
[]
[]
[null,{"$f":"teksty!D15","v":"Etykiety skoroszytu w:"}]
[]
[]
[]
[]
[]
[null,{"$f":"teksty!D16","v":"Niezgodności w powiązanych kwotach:"}]
[]
[]
[null,{"$f":"teksty!$D$17","v":"Wykrywaj drugi monitor"},null,{"$error":"#N/A"}]

{"sheet":"Wprowadzenie","index":1,"n_rows":1752,"n_cols":19,"rows_kept":1752,"cut":false,"hidden":false,"merged":[[35,8,37,14],[31,8,31,9],[3,8,4,14],[11,8,11,14],[15,8,15,9],[17,8,17,9],[19,8,19,9],[23,8,23,9],[21,8,21,9],[27,8,27,14],[232,8,234,14],[212,8,212,14],[230,8,230,14],[218,8,218,14],[224,8,224,14],[175,8,177,14],[185,8,187,14],[190,8,192,14],[214,8,216,14],[220,8,222,14],[226,8,228,14],[195,8,197,14],[206,8,208,14],[200,8,200,14],[201,8,203,14],[72,8,74,14],[100,8,100,15],[104,8,104,14],[97,8,97,14],[78,8,78,14],[58,8,60,14],[92,8,94,14],[85,8,85,15],[88,8,88,13],[89,9,90,12],[164,8,166,14],[170,8,172,14],[180,8,182,14],[111,8,113,14],[121,8,123,14],[131,8,133,14],[141,8,143,14],[151,8,153,14],[118,8,118,14],[128,8,128,14],[138,8,138,14],[148,8,148,14],[158,8,158,14]]}
["Wprowadzenie",null,null,null,null,null,null,null,null,null,null,2,{"$f":"VLOOKUP(WybranaPozycja,teksty!B105:E110,2)","v":"JednostkaMala"}]
[null,null,null,null,null,null,{"$f":"teksty!$D$307","v":"Wprowadzenie do sprawozdania finansowego"}]
[null,null,null,null,"P_1"]
[null,null,null,null,"P_1A",null,null,{"$f":"IF(WybranaPozycja=6,teksty!$D$366,teksty!$D$310)","v":"Nazwa jednostki"}]
[null,null,null,null,null,null,null,null,null,null,null,null,null,null,null,null,null,null,{"$f":"teksty!$D$281","v":"Pola obowiązkowe:"}]
[]
[null,null,null,null,null,null,null,null,null,null,null,null,null,null,null,null,null,null,{"$f":"teksty!$D$282","v":"Pola opcjonalne:"}]
[{"$f":"64","v":64},null,null,null,null,null,{"$f":"teksty!$D$369","v":"Położenie siedziby jednostki dominującej:"}]
[{"$f":"64","v":64}]
[{"$f":"2+4+16+32","v":54},null,null,null,null,null,{"$f":"teksty!$D$317","v":"Dokładny adres siedziby (w Polsce):"}]
[54]
[54,null,null,null,null,null,null,{"$f":"teksty!$D$318","v":"Ulica"}]
[54]
[54,null,null,null,null,null,null,{"$f":"teksty!$D$319","v":"Nr domu"},null,{"$f":"teksty!$D$320","v":"Nr lokalu"}]
[54]
[null,null,null,null,null,null,null,{"$f":"teksty!$D$327","v":"Miejscowość"}]
[]
[54,null,null,null,null,null,null,{"$f":"teksty!$D$322","v":"Poczta"},null,null,{"$f":"teksty!$D$321","v":"Kod pocztowy"},null,null,{"$f":"teksty!$D$325","v":"Kod kraju"},"PL"]
[54]
[null,null,null,null,null,null,null,{"$f":"teksty!$D$314","v":"Gmina"}]
[]
[null,null,null,null,null,null,null,{"$f":"teksty!$D$313","v":"Powiat"}]
[]
[null,null,null,null,null,null,null,{"$f":"teksty!$D$312","v":"Województwo"}]
[54]
[54,null,null,null,"P_1B",null,{"$f":"teksty!$D$324","v":"Adres przedsiębiorcy zagranicznego (opcjonalny):"}]
[54]
[54,null,null,null,null,null,null,{"$f":"teksty!$D$318","v":"Ulica"}]
[54]
[54,null,null,null,null,null,null,{"$f":"teksty!$D$319","v":"Nr domu"},null,{"$f":"teksty!$D$320","v":"Nr lokalu"}]
[54]
[54,null,null,null,null,null,null,{"$f":"teksty!$D$327","v":"Miejscowość"},null,null,{"$f":"teksty!$D$321","v":"Kod pocztowy"},null,null,{"$f":"teksty!$D$325","v":"Kod kraju"}]
[54]
[64]
[{"$f":"64","v":64},null,null,null,"P_1B",null,null,null,{"$f":"teksty!$D$368","v":"Podstawowy przedmiot działalności jednostki dominującej:"}]
[{"$f":"64","v":64},null,null,null,null,null,null,null,""]
[{"$f":"64","v":64}]
[{"$f":"64","v":64}]
[{"$f":"64","v":64}]
[{"$f":"2+16","v":18},null,null,null,"P_1C",null,{"$f":"teksty!$D$331","v":"Podstawowy przedmiot działalności:"}]
[18]
[18,null,null,null,null,null,null,{"$f":"teksty!$D$332","v":"kod(y) PKD"}]
[18]
[18]
[18]
[18]
[18]
[18]
[null,null,null,null,null,null,{"$f":"teksty!$D$333","v":"Identyfikator podmiotu:"}]
[{"$f":"2+4+16+32","v":54}]
[null,null,null,1,{"$f":"OFFSET(P_Labels, D51,WybranaPozycja)","v":"P_1C"},null,null,{"$f":"teksty!$D$31","v":"numer NIP"},""]
[null,null,null,null,null,null,null,{"$f":"teksty!$D$31","v":"numer NIP"}]
[null,null,null,19,{"$f":"OFFSET(P_Labels, D53,WybranaPozycja)","v":"P_1D"},null,null,{"$f":"teksty!$D$30","v":"numer KRS"},"",{"$f":"teksty!D991","v":"Pole wymagane przez system eKRS"}]
[]
[{"$f":"2+4+16+32","v":54},null,null,2,{"$f":"OFFSET(P_Labels, D55, WybranaPozycja)","v":"P_2"},null,{"$f":"teksty!$D$335","v":"Czas trwania działalności jednostki (jeśli ograniczony):"}]
[{"$f":"2+4+16+32","v":54},null,null,null,null,null,null,null,2]
[{"$f":"2+4+16+32","v":54},null,null,null,null,null,null,{"$f":"teksty!$D$336","v":"Od dnia"}]
[{"$f":"2+4+16+32","v":54}]
[54,null,null,null,null,null,null,{"$f":"teksty!$D$338","v":"Do"}]
[54]
[54,null,null,null,null,null,null,null,2]
[54]
[54,null,null,null,"P_3",null,{"$f":"teksty!D341","v":"Wskazanie okresu objętego sprawozdaniem finansowym:"}]
[{"$f":"2+4+16+32","v":54},null,null,null,null,null,null,null,2]
[{"$f":"2+4+16+32","v":54},null,null,null,null,null,null,null,{"$f":"teksty!D342","v":"(w pola tej sekcji jest kopiowany okres wpisany w nagłówku sprawozdania)"}]
[{"$f":"2+4+16+32","v":54}]
[54,null,null,null,null,null,null,null,{"$f":"teksty!$D$336","v":"Od dnia"},null,{"$f":"teksty!$D$337","v":"Do dnia"}]
[54,null,null,null,null,null,null,null,{"$f":"IF(DataOd=\"\",\"\",DataOd)","v":""},null,{"$f":"IF(DataDo=\"\",\"\",DataDo)","v":""}]
[{"$f":"2+4","v":6}]
[{"$f":"2+4","v":6},null,null,8,{"$f":"OFFSET(P_Labels, D70, WybranaPozycja)","v":"P_4"},null,{"$f":"teksty!$D$363","v":"Zastosowane zasad rachunkowości przewidzianych dla mniejszych jednostek:"}]
[{"$f":"2+4","v":6}]
[6,null,null,null,null,null,null,null,{"$f":"teksty!D364","v":"Wyszczególnienie wybranych uproszczeń:"}]
[6]
[6]
[6]
[{"$f":"2+4+16+32","v":54}]
[{"$f":"2+16+64","v":82},null,null,5,{"$f":"OFFSET(P_Labels, D77, WybranaPozycja)","v":0},null,{"$f":"teksty!$D$340","v":"Włączenie danych wewnętrznych jednostek organizacyjnych:"}]
[82,null,null,null,null,null,null,null,2]
[82,null,null,null,null,null,null,null,{"$f":"IF(WybranaPozycja=6,teksty!$D$401,teksty!$D$343)","v":"Wskazanie, że sprawozdanie finansowe zawiera dane łączne, jeżeli w skład jednostki wchodzą wewnętrzne jednostki organizacyjne sporządzające samodzielne sprawozdania finansowe:"}]
[82,null,null,null,null,null,null,null,{"$f":"teksty!$D$344","v":"Czy sprawozdanie zawiera także łączne dane samodzielnych jednostek organizacyjnych?"}]
[82,null,null,null,null,null,null,null,2]
[82]
[82]
[null,null,null,6,{"$f":"OFFSET(P_Labels, D84, WybranaPozycja)","v":"P_5"},null,{"$f":"teksty!$D$345","v":"Założenie kontynuacji działalności jednostki:"}]
[]
[null,null,null,null,{"$f":"$E$84 & \"A\"","v":"P_5A"},null,null,null,{"$f":"IF(WybranaPozycja=6,teksty!D402,teksty!$D$348)","v":"Czy sprawozdanie finansowe zostało sporządzone przy założeniu kontynuowania działalności gospodarczej  przez jednostkę w dającej się przewidzieć przyszłości?"}]
[null,null,null,null,null,null,null,null,1]
[]
[null,null,null,null,{"$f":"$E$84 & \"B\"","v":"P_5B"},null,null,null,{"$f":"IF(WybranaPozycja=6,teksty!D403,teksty!$D$349)","v":"Czy brak jest okoliczności wskazujących na zagrożenie kontynuowania przez nią działalności?"}]
[null,null,null,null,null,null,null,null,1,{"$f":"teksty!D404","v":"odpowiedź \"Nie\" oznacza, że ISTNIEJĄ takie okoliczności"}]
[]
[null,null,null,null,null,null,null,null,{"$f":"teksty!$D$993","v":"Opis okoliczności zagrażających kontynuacji działalności:"}]
[null,null,null,null,{"$f":"$E$84 & \"C\"","v":"P_5C"}]
[null,null,null,null,null,null,null,null,2]
[]
[{"$f":"2+4+16+32","v":54}]
[{"$f":"2+16","v":18},null,null,7,{"$f":"OFFSET(P_Labels, D97, WybranaPozycja)","v":0},null,{"$f":"teksty!$D$351","v":"Łączenie spółek:"}]
[{"$f":"2+16","v":18},null,null,null,null,null,null,null,{"$f":"IF(WybranaPozycja=6,teksty!$D$396,teksty!$D$352)","v":"Czy to sprawozdanie finansowe sporządzono za okres, w ciągu którego nastąpiło połączenie spółek?"}]
[18,null,null,null,null,null,null,null,2]
[18,null,null,null,null,null,null,null,2]
[18,null,null,null,null,null,null,null,{"$f":"IF(WybranaPozycja=6,teksty!D397,teksty!$D$353)","v":"Czy sprawozdanie sporządzono po połączeniu spółek?"}]
[18,null,null,null,{"$f":"$E$97 & \"A\"","v":"0A"}]
[18]
[18,null,null,null,null,null,null,null,{"$f":"teksty!$D$354","v":"Zastosowana metoda rozliczenia połączenia (nabycia, łączenia udziałów)"}]
[18,null,null,null,{"$f":"$E$97 & \"B\"","v":"0B"}]
[{"$f":"2+16","v":18}]
[{"$f":"64","v":64}]
[{"$f":"64","v":64},null,null,7,{"$f":"OFFSET(P_Labels, D108, WybranaPozycja)","v":0},null,{"$f":"teksty!$D$351","v":"Łączenie spółek:"}]
[{"$f":"64","v":64},null,"break"]
[{"$f":"64*B110","v":0},{"$f":"IF(I112=\"\",0,1)","v":0},{"$f":"ROW(C119) - ROW() +1","v":10},1,null,null,null,{"$f":"  D110 & \". \" & teksty!$D$995","v":"1. Jednostka, w której w ciągu raportowanego okresu nastąpiło połączenie spółek:"}]
[{"$f":"64*B111","v":0},{"$f":"B110","v":0},null,null,null,null,null,null,{"$f":"teksty!$D$372","v":"Nazwa (firma) i siedziba jednostki:"}]
[0,{"$f":"B111","v":0},null,null,null,null,null,null,""]
[0,0]
[0,{"$f":"B113","v":0}]
[0,{"$f":"B114","v":0},null,null,null,null,null,null,{"$f":"teksty!$D$996","v":"Czy sprawozadnia finansowe tej jednostki sporządzono po połączeniu spółek?"}]
[{"$f":"64*B116","v":0},0,null,null,null,null,null,null,2]
[0,0,null,null,null,null,null,null,0]
[0,0,null,null,null,null,null,null,{"$f":"teksty!$D$354","v":"Zastosowana metoda rozliczenia połączenia (nabycia, łączenia udziałów)"}]
[0,0,{"$f":"C110","v":10}]
[{"$f":"64*B120","v":0},{"$f":"IF(I122=\"\",0,1)","v":0},{"$f":"ROW(C129) - ROW() +1","v":10},{"$f":"D110+1","v":2},null,null,null,{"$f":"  D120 & \". \" & teksty!$D$995","v":"2. Jednostka, w której w ciągu raportowanego okresu nastąpiło połączenie spółek:"}]
[{"$f":"64*B121","v":0},{"$f":"B120","v":0},null,null,null,null,null,null,{"$f":"teksty!$D$372","v":"Nazwa (firma) i siedziba jednostki:"}]
[0,{"$f":"B121","v":0},null,null,null,null,null,null,""]
[0,0]
[0,{"$f":"B123","v":0}]
[0,{"$f":"B124","v":0},null,null,null,null,null,null,{"$f":"teksty!$D$996","v":"Czy sprawozadnia finansowe tej jednostki sporządzono po połączeniu spółek?"}]
[0,0,null,null,null,null,null,null,2]
[0,0,null,null,null,null,null,null,0]
[0,0,null,null,null,null,null,null,{"$f":"teksty!$D$354","v":"Zastosowana metoda rozliczenia połączenia (nabycia, łączenia udziałów)"}]
[{"$f":"64*B129","v":0},{"$f":"B128","v":0},{"$f":"C120","v":10}]
[{"$f":"64*B130","v":0},{"$f":"IF(I132=\"\",0,1)","v":0},{"$f":"ROW(C139) - ROW() +1","v":10},{"$f":"D120+1","v":3},null,null,null,{"$f":"  D130 & \". \" & teksty!$D$995","v":"3. Jednostka, w której w ciągu raportowanego okresu nastąpiło połączenie spółek:"}]
[{"$f":"64*B131","v":0},{"$f":"B130","v":0},null,null,null,null,null,null,{"$f":"teksty!$D$996","v":"Czy sprawozadnia finansowe tej jednostki sporządzono po połączeniu spółek?"}]
[0,{"$f":"B131","v":0},null,null,null,null,null,null,""]
[0,0]
[0,{"$f":"B133","v":0}]
[0,{"$f":"B134","v":0},null,null,null,null,null,null,{"$f":"teksty!$D$353","v":"Czy sprawozdanie sporządzono po połączeniu spółek?"}]
[0,0,null,null,null,null,null,null,2]
[0,0,null,null,null,null,null,null,0]
[0,0,null,null,null,null,null,null,{"$f":"teksty!$D$996","v":"Czy sprawozadnia finansowe tej jednostki sporządzono po połączeniu spółek?"}]
[0,0,{"$f":"C130","v":10}]
[{"$f":"64*B140","v":0},{"$f":"IF(I142=\"\",0,1)","v":0},{"$f":"ROW(C149) - ROW() +1","v":10},{"$f":"D130+1","v":4},null,null,null,{"$f":"  D140 & \". \" & teksty!$D$995","v":"4. Jednostka, w której w ciągu raportowanego okresu nastąpiło połączenie spółek:"}]
[{"$f":"64*B141","v":0},{"$f":"B140","v":0},null,null,null,null,null,null,{"$f":"teksty!$D$372","v":"Nazwa (firma) i siedziba jednostki:"}]
[0,{"$f":"B141","v":0},null,null,null,null,null,null,""]
[0,0]
[0,{"$f":"B143","v":0}]
[0,{"$f":"B144","v":0},null,null,null,null,null,null,{"$f":"teksty!$D$996","v":"Czy sprawozadnia finansowe tej jednostki sporządzono po połączeniu spółek?"}]
[0,0,null,null,null,null,null,null,2]
[0,0,null,null,null,null,null,null,0]
[0,0,null,null,null,null,null,null,{"$f":"teksty!$D$354","v":"Zastosowana metoda rozliczenia połączenia (nabycia, łączenia udziałów)"}]
[0,0,{"$f":"C140","v":10}]
[{"$f":"64*B150","v":0},{"$f":"IF(I152=\"\",0,1)","v":0},{"$f":"ROW(C159) - ROW() +1","v":10},{"$f":"D140+1","v":5},null,null,null,{"$f":"  D150 & \". \" & teksty!$D$995","v":"5. Jednostka, w której w ciągu raportowanego okresu nastąpiło połączenie spółek:"}]
[{"$f":"64*B151","v":0},{"$f":"B150","v":0},null,null,null,null,null,null,{"$f":"teksty!$D$372","v":"Nazwa (firma) i siedziba jednostki:"}]
[0,{"$f":"B151","v":0},null,null,null,null,null,null,""]
[0,0]
[0,{"$f":"B153","v":0}]
[0,{"$f":"B154","v":0},null,null,null,null,null,null,{"$f":"teksty!$D$353","v":"Czy sprawozdanie sporządzono po połączeniu spółek?"}]
[0,0,null,null,null,null,null,null,2]
[0,0,null,null,null,null,null,null,0]
[0,0,null,null,null,null,null,null,{"$f":"teksty!$D$354","v":"Zastosowana metoda rozliczenia połączenia (nabycia, łączenia udziałów)"}]
[0,0,{"$f":"C150","v":10}]
[{"$f":"64","v":64}]
[{"$f":"64","v":64},2,"break"]
[{"$f":"64","v":64}]
[null,null,null,9,{"$f":"OFFSET(P_Labels, D163, WybranaPozycja)","v":"P_6"},null,{"$f":"teksty!$D$355","v":"Zasady (polityka) rachunkowości:"}]
[{"$f":"64","v":64},null,null,null,{"$f":"$E$163 & \"A\"","v":"P_6A"},null,null,null,{"$f":"teksty!$D$357","v":"Omówienie przyjętych zasad polityki rachunkowości:"}]
[{"$f":"64","v":64}]
[{"$f":"64","v":64}]
[{"$f":"64","v":64}]
[{"$f":"64","v":64}]
[{"$f":"64","v":64},null,null,null,null,null,null,{"$f":"teksty!$D$356","v":"w tym:"}]
[{"$f":"64","v":64},null,null,null,{"$f":"$E$163 & \"B\"","v":"P_6B"},null,null,null,{"$f":"teksty!$D$399","v":"zasady grupowania operacji gospodarczych:"}]
[{"$f":"64","v":64},null,null,null,null,null,null,null,""]
[{"$f":"64","v":64}]
[{"$f":"64","v":64}]
[{"$f":"64","v":64}]
[null,null,null,10,{"$f":"OFFSET(P_Labels, D175,WybranaPozycja)","v":"P_6A"},null,null,null,{"$f":"teksty!$D$358","v":"metody wyceny aktywów i pasywów:"}]
[]
[]
[]
[{"$f":"64","v":64}]
[{"$f":"64","v":64},null,null,null,{"$f":"$E$163 & \"D\"","v":"P_6D"},null,null,null,{"$f":"teksty!$D$400","v":"dokonywania amortyzacji:"}]
[{"$f":"64","v":64},null,null,null,null,null,null,null,""]
[{"$f":"64","v":64}]
[{"$f":"64","v":64}]
[]
[null,null,null,11,{"$f":"OFFSET(P_Labels, D185,WybranaPozycja)","v":"P_6B"},null,null,null,{"$f":"teksty!$D$359","v":"ustalenia wyniku finansowego:"}]
[]
[]
[]
[]
[null,null,null,12,{"$f":"OFFSET(P_Labels, D190,WybranaPozycja)","v":"P_6C"},null,null,null,{"$f":"IF(WybranaPozycja=6,teksty!D405,teksty!D360)","v":"ustalenia sposobu sporządzania sprawozdania finansowego:"}]
[]
[]
[]
[]
[null,null,null,20,{"$f":"OFFSET(P_Labels, D195,WybranaPozycja)","v":"P_6D"},null,null,null,{"$f":"teksty!D992","v":"pozostałe:"}]
[]
[]
[]
[{"$f":"64","v":64}]
[{"$f":"64","v":64},null,null,null,"P_12",null,null,null,{"$f":"teksty!D406","v":"Zmiany zasad rachunkowości wprowadzone w trakcie raportowanego okresu:"}]
[{"$f":"64","v":64},null,null,null,null,null,null,null,{"$f":"teksty!D407","v":"Zmiany dokonane od pierwszego dnia okresu raportu, w szczególności zasad grupowania operacji gospodarczych, metod wyceny aktywów i pasywów, dokonywania odpisów amortyzacyjnych, ustalania wyniku finansowego i sporządzania jednostkowych sprawozdań finansowych oraz skonsolidowanego sprawozdania finansowego wraz z podaniem ich przyczyny"}]
[{"$f":"64","v":64},null,null,null,null,null,null,null,""]
[{"$f":"64","v":64}]
[{"$f":"64","v":64}]
[{"$f":"64","v":64}]
[{"$f":"64","v":64},null,null,null,"P_13",null,null,null,{"$f":"teksty!D408","v":"Kryteria wyłączeń jednostek podporządkowanych ze sprawozdania skonsolidowanego:"}]
[{"$f":"64","v":64},null,null,null,null,null,null,null,""]
[{"$f":"64","v":64}]
[{"$f":"64","v":64}]
[]
[null,null,null,13,{"$f":"OFFSET(P_Labels, D211, WybranaPozycja)","v":"P_7"},null,{"$f":"teksty!$D$411","v":"Informacja uszczegóławiająca:"}]
[]
[null,null,null,null,null,null,null,{"$f":"teksty!$D$412","v":"Nazwa pozycji"}]
[]
[null,null,null,null,null,null,null,{"$f":"teksty!$D$413","v":"Opis"}]
[]
[]
[]
[null,null,null,null,null,null,null,{"$f":"teksty!$D$412","v":"Nazwa pozycji"}]
[]
[null,null,null,null,null,null,null,{"$f":"teksty!$D$413","v":"Opis"}]
[]
[]
[]
[null,null,null,null,null,null,null,{"$f":"teksty!$D$412","v":"Nazwa pozycji"}]
[]
[null,null,null,null,null,null,null,{"$f":"teksty!$D$413","v":"Opis"}]
[]
[]
[]
[null,null,null,null,null,null,null,{"$f":"teksty!$D$412","v":"Nazwa pozycji"}]
[]
[null,null,null,null,null,null,null,{"$f":"teksty!$D$413","v":"Opis"}]
[]
[]
[]
[]
[]
[]
[]
[]
[]
[]
[]
[]
[]
[]
[]
[]
[]
[]
[]
[]
[]
[]
[]
[]
[]
[]
[]
[]
[]
[]
[]
[]
[]
[]
[]
[]
[]
[]
[]
[]
[]
[]
[]
[]
[]
[]
[]
[]
[]
[]
[]
[]
[]
[]
[]
[]
[]
[]
[]
[]
[]
[]
[]
[]
[]
[]
[]
[]
[]
[]
[]
[]
[]
[]
[]
[]
[]
[]
[]
[]
[]
[]
[]
[]
[]
[]
[]
[]
[]
[]
[]
[]
[]
[]
[]
[]
[]
[]
[]
[]
[]
[]
[]
[]
[]
[]
[]
[]
[]
[]
[]
[]
[]
[]
[]
[]
[]
[]
[]
[]
[]
[]
[]
[]
[]
[]
[]
[]
[]
[]
[]
[]
[]
[]
[]
[]
[]
[]
[]
[]
[]
[]
[]
[]
[]
[]
[]
[]
[]
[]
[]
[]
[]
[]
[]
[]
[]
[]
[]
[]
[]
[]
[]
[]
[]
[]
[]
[]
[]
[]
[]
[]
[]
[]
[]
[]
[]
[]
[]
[]
[]
[]
[]
[]
[]
[]
[]
[]
[]
[]
[]
[]
[]
[]
[]
[]
[]
[]
[]
[]
[]
[]
[]
[]
[]
[]
[]
[]
[]
[]
[]
[]
[]
[]
[]
[]
[]
[]
[]
[]
[]
[]
[]
[]
[]
[]
[]
[]
[]
[]
[]
[]
[]
[]
[]
[]
[]
[]
[]
[]
[]
[]
[]
[]
[]
[]
[]
[]
[]
[]
[]
[]
[]
[]
[]
[]
[]
[]
[]
[]
[]
[]
[]
[]
[]
[]
[]
[]
[]
[]
[]
[]
[]
[]
[]
[]
[]
[]
[]
[]
[]
[]
[]
[]
[]
[]
[]
[]
[]
[]
[]
[]
[]
[]
[]
[]
[]
[]
[]
[]
[]
[]
[]
[]
[]
[]
[]
[]
[]
[]
[]
[]
[]
[]
[]
[]
[]
[]
[]
[]
[]
[]
[]
[]
[]
[]
[]
[]
[]
[]
[]
[]
[]
[]
[]
[]
[]
[]
[]
[]
[]
[]
[]
[]
[]
[]
[]
[]
[]
[]
[]
[]
[]
[]
[]
[]
[]
[]
[]
[]
[]
[]
[]
[]
[]
[]
[]
[]
[]
[]
[]
[]
[]
[]
[]
[]
[]
[]
[]
[]
[]
[]
[]
[]
[]
[]
[]
[]
[]
[]
[]
[]
[]
[]
[]
[]
[]
[]
[]
[]
[]
[]
[]
[]
[]
[]
[]
[]
[]
[]
[]
[]
[]
[]
[]
[]
[]
[]
[]
[]
[]
[]
[]
[]
[]
[]
[]
[]
[]
[]
[]
[]
[]
[]
[]
[]
[]
[]
[]
[]
[]
[]
[]
[]
[]
[]
[]
[]
[]
[]
[]
[]
[]
[]
[]
[]
[]
[]
[]
[]
[]
[]
[]
[]
[]
[]
[]
[]
[]
[]
[]
[]
[]
[]
[]
[]
[]
[]
[]
[]
[]
[]
[]
[]
[]
[]
[]
[]
[]
[]
[]
[]
[]
[]
[]
[]
[]
[]
[]
[]
[]
[]
[]
[]
[]
[]
[]
[]
[]
[]
[]
[]
[]
[]
[]
[]
[]
[]
[]
[]
[]
[]
[]
[]
[]
[]
[]
[]
[]
[]
[]
[]
[]
[]
[]
[]
[]
[]
[]
[]
[]
[]
[]
[]
[]
[]
[]
[]
[]
[]
[]
[]
[]
[]
[]
[]
[]
[]
[]
[]
[]
[]
[]
[]
[]
[]
[]
[]
[]
[]
[]
[]
[]
[]
[]
[]
[]
[]
[]
[]
[]
[]
[]
[]
[]
[]
[]
[]
[]
[]
[]
[]
[]
[]
[]
[]
[]
[]
[]
[]
[]
[]
[]
[]
[]
[]
[]
[]
[]
[]
[]
[]
[]
[]
[]
[]
[]
[]
[]
[]
[]
[]
[]
[]
[]
[]
[]
[]
[]
[]
[]
[]
[]
[]
[]
[]
[]
[]
[]
[]
[]
[]
[]
[]
[]
[]
[]
[]
[]
[]
[]
[]
[]
[]
[]
[]
[]
[]
[]
[]
[]
[]
[]
[]
[]
[]
[]
[]
[]
[]
[]
[]
[]
[]
[]
[]
[]
[]
[]
[]
[]
[]
[]
[]
[]
[]
[]
[]
[]
[]
[]
[]
[]
[]
[]
[]
[]
[]
[]
[]
[]
[]
[]
[]
[]
[]
[]
[]
[]
[]
[]
[]
[]
[]
[]
[]
[]
[]
[]
[]
[]
[]
[]
[]
[]
[]
[]
[]
[]
[]
[]
[]
[]
[]
[]
[]
[]
[]
[]
[]
[]
[]
[]
[]
[]
[]
[]
[]
[]
[]
[]
[]
[]
[]
[]
[]
[]
[]
[]
[]
[]
[]
[]
[]
[]
[]
[]
[]
[]
[]
[]
[]
[]
[]
[]
[]
[]
[]
[]
[]
[]
[]
[]
[]
[]
[]
[]
[]
[]
[]
[]
[]
[]
[]
[]
[]
[]
[]
[]
[]
[]
[]
[]
[]
[]
[]
[]
[]
[]
[]
[]
[]
[]
[]
[]
[]
[]
[]
[]
[]
[]
[]
[]
[]
[]
[]
[]
[]
[]
[]
[]
[]
[]
[]
[]
[]
[]
[]
[]
[]
[]
[]
[]
[]
[]
[]
[]
[]
[]
[]
[]
[]
[]
[]
[]
[]
[]
[]
[]
[]
[]
[]
[]
[]
[]
[]
[]
[]
[]
[]
[]
[]
[]
[]
[]
[]
[]
[]
[]
[]
[]
[]
[]
[]
[]
[]
[]
[]
[]
[]
[]
[]
[]
[]
[]
[]
[]
[]
[]
[]
[]
[]
[]
[]
[]
[]
[]
[]
[]
[]
[]
[]
[]
[]
[]
[]
[]
[]
[]
[]
[]
[]
[]
[]
[]
[]
[]
[]
[]
[]
[]
[]
[]
[]
[]
[]
[]
[]
[]
[]
[]
[]
[]
[]
[]
[]
[]
[]
[]
[]
[]
[]
[]
[]
[]
[]
[]
[]
[]
[]
[]
[]
[]
[]
[]
[]
[]
[]
[]
[]
[]
[]
[]
[]
[]
[]
[]
[]
[]
[]
[]
[]
[]
[]
[]
[]
[]
[]
[]
[]
[]
[]
[]
[]
[]
[]
[]
[]
[]
[]
[]
[]
[]
[]
[]
[]
[]
[]
[]
[]
[]
[]
[]
[]
[]
[]
[]
[]
[]
[]
[]
[]
[]
[]
[]
[]
[]
[]
[]
[]
[]
[]
[]
[]
[]
[]
[]
[]
[]
[]
[]
[]
[]
[]
[]
[]
[]
[]
[]
[]
[]
[]
[]
[]
[]
[]
[]
[]
[]
[]
[]
[]
[]
[]
[]
[]
[]
[]
[]
[]
[]
[]
[]
[]
[]
[]
[]
[]
[]
[]
[]
[]
[]
[]
[]
[]
[]
[]
[]
[]
[]
[]
[]
[]
[]
[]
[]
[]
[]
[]
[]
[]
[]
[]
[]
[]
[]
[]
[]
[]
[]
[]
[]
[]
[]
[]
[]
[]
[]
[]
[]
[]
[]
[]
[]
[]
[]
[]
[]
[]
[]
[]
[]
[]
[]
[]
[]
[]
[]
[]
[]
[]
[]
[]
[]
[]
[]
[]
[]
[]
[]
[]
[]
[]
[]
[]
[]
[]
[]
[]
[]
[]
[]
[]
[]
[]
[]
[]
[]
[]
[]
[]
[]
[]
[]
[]
[]
[]
[]
[]
[]
[]
[]
[]
[]
[]
[]
[]
[]
[]
[]
[]
[]
[]
[]
[]
[]
[]
[]
[]
[]
[]
[]
[]
[]
[]
[]
[]
[]
[]
[]
[]
[]
[]
[]
[]
[]
[]
[]
[]
[]
[]
[]
[]
[]
[]
[]
[]
[]
[]
[]
[]
[]
[]
[]
[]
[]
[]
[]
[]
[]
[]
[]
[]
[]
[]
[]
[]
[]
[]
[]
[]
[]
[]
[]
[]
[]
[]
[]
[]
[]
[]
[]
[]
[]
[]
[]
[]
[]
[]
[]
[]
[]
[]
[]
[]
[]
[]
[]
[]
[]
[]
[]
[]
[]
[]
[]
[]
[]
[]
[]
[]
[]
[]
[]
[]
[]
[]
[]
[]
[]
[]
[]
[]
[]
[]
[]
[]
[]
[]
[]
[]
[]
[]
[]
[]
[]
[]
[]
[]
[]
[]
[]
[]
[]
[]
[]
[]
[]
[]
[]
[]
[]
[]
[]
[]
[]
[]
[]
[]
[]
[]
[]
[]
[]
[]
[]
[]
[]
[]
[]
[]
[]
[]
[]
[]
[]
[]
[]
[]
[]
[]
[]
[]
[]
[]
[]
[]
[]
[]
[]
[]
[]
[]
[]
[]
[]
[]
[]
[]
[]
[]
[]
[]
[]
[]
[]
[]
[]
[]
[]
[]
[]
[]
[]
[]
[]
[]
[]
[]
[]
[]
[]
[]
[]
[]
[]
[]
[]
[]
[]
[]
[]
[]
[]
[]
[]
[]
[]
[]
[]
[]
[]
[]
[]
[]
[]
[]
[]
[]
[]
[]
[]
[]
[]
[]
[]
[]
[]
[]
[]
[]
[]
[]
[]
[]
[]
[]
[]
[]
[]
[]
[]
[]
[]
[]
[]
[]
[]
[]
[]
[null,null,null,null,null,null,null,null,2]
[]
[]
[]
[]
[]
[]
[]
[]
[]
[]
[]
[]
[]
[]
[]
[]
[null,null,null,null,null,null,null,null,2]
[]
[]
[]
[]
[]
[]
[]
[]
[]
[null,null,null,null,null,null,null,null,2]
[]
[]
[]
[]
[]
[]
[]
[]
[]
[null,null,null,null,null,null,null,null,2]
[]
[]
[]
[]
[]
[]
[]
[]
[]
[null,null,null,null,null,null,null,null,2]
[]
[]
[]
[]
[]
[]
[]
[]
[]
[null,null,null,null,null,null,null,null,2]

{"sheet":"Bilans","index":2,"n_rows":288,"n_cols":34,"rows_kept":288,"cut":false,"hidden":false,"merged":[[117,14,117,20],[118,14,118,20],[4,26,4,29],[170,14,170,20],[194,14,194,20],[195,14,195,20],[196,14,196,20],[193,14,193,20],[191,14,191,20],[192,14,192,20],[189,14,189,20],[190,14,190,20],[186,14,186,20],[187,14,187,20],[188,14,188,20],[184,14,184,20],[185,14,185,20],[181,14,181,20],[182,14,182,20],[183,14,183,20],[179,14,179,20],[180,14,180,20],[174,13,174,19],[175,14,175,20],[2,13,2,20],[287,13,287,19],[285,13,285,19],[284,13,284,19],[283,13,283,19],[232,14,232,20],[241,14,241,20],[242,14,242,20],[243,14,243,20],[244,14,244,20],[245,14,245,20],[235,13,235,19],[236,14,236,20],[237,14,237,20],[238,14,238,20],[239,14,239,20],[240,14,240,20],[254,14,254,20],[255,14,255,20],[256,14,256,20],[257,14,257,20],[228,14,228,20],[229,14,229,20],[230,14,230,20],[231,14,231,20],[226,14,226,20],[227,14,227,20],[225,14,225,20],[223,14,223,20],[224,14,224,20],[219,14,219,20],[220,14,220,20],[221,14,221,20],[222,14,222,20],[197,14,197,20],[201,13,201,19],[210,14,210,20],[213,14,213,20],[218,14,218,20],[202,14,202,20],[203,14,203,20],[204,14,204,20],[205,14,205,20],[208,14,208,20],[209,14,209,20],[206,14,206,20],[211,14,211,20],[214,14,214,20],[216,14,216,20],[207,14,207,20],[212,14,212,20],[215,14,215,20],[217,14,217,20],[176,14,176,20],[177,14,177,20],[178,14,178,20],[171,14,171,20],[101,14,101,20],[96,14,96,20],[12,14,12,20],[13,14,13,20],[14,14,14,20],[15,14,15,20],[36,14,36,20],[37,14,37,20],[38,14,38,20],[39,14,39,20],[40,14,40,20],[59,14,59,20],[60,14,60,20],[61,14,61,20],[63,14,63,20],[52,14,52,20],[73,14,73,20],[62,13,62,19],[74,14,74,20],[75,14,75,20],[5,14,5,20],[7,14,7,20],[16,14,16,20],[17,14,17,20],[19,14,19,20],[18,14,18,20],[6,14,6,20],[94,14,94,20],[8,14,8,20],[48,14,48,20],[9,14,9,20],[10,14,10,20],[11,14,11,20],[44,14,44,20],[45,14,45,20],[46,14,46,20],[35,14,35,20],[53,14,53,20],[54,14,54,20],[55,14,55,20],[56,14,56,20],[57,14,57,20],[58,14,58,20],[72,14,72,20],[4,13,4,19],[102,14,102,20],[47,14,47,20],[49,14,49,20],[50,14,50,20],[51,14,51,20],[29,14,29,20],[30,14,30,20],[31,14,31,20],[32,14,32,20],[33,13,33,19],[34,14,34,20],[20,14,20,20],[21,14,21,20],[22,14,22,20],[23,14,23,20],[28,14,28,20],[24,14,24,20],[25,14,25,20],[26,14,26,20],[27,14,27,20],[41,14,41,20],[42,14,42,20],[43,14,43,20],[76,14,76,20],[66,14,66,20],[67,14,67,20],[68,14,68,20],[69,14,69,20],[70,14,70,20],[71,14,71,20],[64,14,64,20],[65,14,65,20],[83,14,83,20],[84,14,84,20],[85,14,85,20],[86,14,86,20],[87,14,87,20],[88,14,88,20],[77,14,77,20],[78,14,78,20],[79,14,79,20],[80,14,80,20],[81,14,81,20],[82,14,82,20],[108,14,108,20],[109,14,109,20],[110,14,110,20],[111,14,111,20],[114,14,114,20],[121,14,121,20],[119,14,119,20],[120,14,120,20],[89,14,89,20],[90,14,90,20],[91,14,91,20],[92,14,92,20],[103,14,103,20],[104,14,104,20],[100,13,100,19],[95,14,95,20],[107,14,107,20],[93,14,93,20],[105,14,105,20],[112,14,112,20],[115,14,115,20],[116,14,116,20],[106,14,106,20],[113,14,113,20],[128,14,128,20],[129,14,129,20],[131,14,131,20],[132,14,132,20],[133,14,133,20],[134,14,134,20],[122,14,122,20],[123,14,123,20],[124,14,124,20],[125,14,125,20],[126,14,126,20],[127,14,127,20],[130,13,130,19],[140,14,140,20],[141,14,141,20],[142,14,142,20],[143,14,143,20],[144,14,144,20],[145,14,145,20],[135,14,135,20],[136,14,136,20],[137,14,137,20],[138,14,138,20],[139,14,139,20],[152,14,152,20],[153,14,153,20],[154,14,154,20],[155,14,155,20],[156,14,156,20],[157,14,157,20],[146,14,146,20],[147,14,147,20],[148,14,148,20],[149,14,149,20],[150,14,150,20],[151,14,151,20],[165,14,165,20],[166,14,166,20],[167,14,167,20],[168,14,168,20],[169,14,169,20],[158,14,158,20],[159,14,159,20],[160,14,160,20],[161,14,161,20],[162,14,162,20],[163,14,163,20],[164,13,164,19],[247,14,247,20],[246,14,246,20],[248,14,248,20],[251,13,251,19],[252,14,252,20],[253,14,253,20],[267,14,267,20],[268,14,268,20],[266,14,266,20],[261,14,261,20],[262,14,262,20],[264,13,264,19],[265,14,265,20],[258,14,258,20],[259,14,259,20],[260,14,260,20],[280,14,280,20],[277,14,277,20],[278,14,278,20],[279,14,279,20],[274,13,274,19],[275,14,275,20],[276,14,276,20],[269,14,269,20],[270,14,270,20],[271,14,271,20]]}
["Bilans",null,"Poziom",null,null,"Składniki",null,null,null,"(pełen symbol)","(wyświetlana etykieta)",null,null,null,null,null,null,3,{"$f":"VLOOKUP(WybranaPozycja,teksty!B114:F119,2)","v":"JednostkaMikro"}]
[null,null,null,null,null,null,null,null,null,null,null,null,{"$f":"teksty!$D$416","v":"Bilans"}]
[null,null,null,null,null,null,null,null,null,"Aktywa",null,null,null,{"$f":"Wprowadzenie!$I$4 & \" \" & IF(NumerWariantuRaportu = 5,  teksty!$D$289, \"\")","v":" "},null,null,null,null,null,null,null,null,null,{"$f":"teksty!D283 & VLOOKUP(NumerBazyRaportu,BazyKwot,3)","v":"wszystkie kwoty w złotych"}]
[]
[{"$f":"(2+16)","v":18},null,null,null,null,null,null,null,null,"JednostkaInna",null,null,null,{"$f":"teksty!$D$420","v":"Aktywa"},null,null,null,null,null,null,{"$f":"IF(DataDo = \"\",\"\",teksty!$D$417)","v":""},{"$f":"IF(DataDo = \"\",teksty!$D$954,DataDo)","v":"Okres\nbieżący"},{"$f":"IF(DataOd = \"\",teksty!$D$955,DataOd-1)","v":"Okres\npoprzedni"},{"$f":"teksty!$D$292","v":"Przekszt. dane porów. za poprzedni okres"},null,null,{"$f":"IF(OR(_xlfn.ISFORMULA($V$7),_xlfn.ISFORMULA($W$7)),teksty!$D$951,\"\")","v":"W niektórych polach tego zestawienia napotkasz pomocnicze formuły. Jeżeli to potrzebne, możesz je zmienić, lub wpisać w te pola odpowiednie kwoty."}]
[18,null,{"$f":"COUNTA(D6:H6)","v":1},"A",null,null,null,null,null,{"$f":"$J$3&\":\"&$D6","v":"Aktywa:A"},{"$f":"D6","v":"A"},null,null,{"$f":"K6","v":"A"},{"$f":"teksty!$D$421","v":"Aktywa trwałe"},null,null,null,null,null,null,{"$f":"V7+V12+V21+V25+V46","v":0},{"$f":"W7+W12+W21+W25+W46","v":0}]
[18,null,{"$f":"COUNTA(D7:H7)","v":2},{"$f":"D6","v":"A"},"I",null,null,null,null,{"$f":"$J$3&\":\"&$D7&\".\"&E7","v":"Aktywa:A.I"},{"$f":"E7","v":"I"},null,null,{"$f":"K7","v":"I"},{"$f":"teksty!$D$422","v":"Wartości niematerialne i prawne"},null,null,null,null,null,null,{"$f":"V8+V9+V10+V11","v":0},{"$f":"W8+W9+W10+W11","v":0}]
[18,null,3,"A",{"$f":"E7","v":"I"},1,null,null,null,{"$f":"$J$3&\":\"&$D8&\".\"&E8&\".\"&F8","v":"Aktywa:A.I.1"},{"$f":"F8","v":1},null,null,{"$f":"K8","v":1},{"$f":"teksty!$D$423","v":"Koszty zakończonych prac rozwojowych"}]
[18,null,3,"A",{"$f":"E8","v":"I"},2,null,null,null,{"$f":"$J$3&\":\"&$D9&\".\"&E9&\".\"&F9","v":"Aktywa:A.I.2"},{"$f":"F9","v":2},null,null,{"$f":"K9","v":2},{"$f":"teksty!$D$424","v":"Wartość firmy"}]
[18,null,3,"A",{"$f":"E9","v":"I"},3,null,null,null,{"$f":"$J$3&\":\"&$D10&\".\"&E10&\".\"&F10","v":"Aktywa:A.I.3"},3,null,null,3,{"$f":"teksty!$D$425","v":"Inne wartości niematerialne i prawne"}]
[18,null,3,"A",{"$f":"E10","v":"I"},4,null,null,null,{"$f":"$J$3&\":\"&$D11&\".\"&E11&\".\"&F11","v":"Aktywa:A.I.4"},4,null,null,{"$f":"K11","v":4},{"$f":"teksty!$D$426","v":"Zaliczki na wartości niematerialne i prawne"}]
[18,null,2,"A","II",null,null,null,null,{"$f":"$J$3&\":\"&$D12&\".\"&E12","v":"Aktywa:A.II"},{"$f":"E12","v":"II"},null,null,"II",{"$f":"teksty!$D$427","v":"Rzeczowe aktywa trwałe"},null,null,null,null,null,null,{"$f":"V13+V19+V20","v":0},{"$f":"W13+W19+W20","v":0}]
[18,null,3,"A",{"$f":"E12","v":"II"},1,null,null,null,{"$f":"$J$3&\":\"&$D13&\".\"&E13&\".\"&F13","v":"Aktywa:A.II.1"},{"$f":"F13","v":1},null,null,1,{"$f":"teksty!$D$428","v":"Środki trwałe"},null,null,null,null,null,null,{"$f":"V14+V15+V16+V17+V18","v":0},{"$f":"W14+W15+W16+W17+W18","v":0}]
[18,null,4,"A",{"$f":"E13","v":"II"},{"$f":"F13","v":1},"a",null,null,{"$f":"$J$3&\":\"&$D14&\".\"&E14&\".\"&F14&\".\"&G14","v":"Aktywa:A.II.1.a"},{"$f":"G14 &\")\"","v":"a)"},null,null,"a)",{"$f":"teksty!$D$429","v":"grunty (w tym prawo użytkowania wieczystego gruntu)"}]
[18,null,4,"A",{"$f":"E14","v":"II"},{"$f":"F14","v":1},"b",null,null,{"$f":"$J$3&\":\"&$D15&\".\"&E15&\".\"&F15&\".\"&G15","v":"Aktywa:A.II.1.b"},{"$f":"G15 &\")\"","v":"b)"},null,null,{"$f":"K15","v":"b)"},{"$f":"teksty!$D$430","v":"budynki, lokale, prawa do lokali i obiekty inżynierii lądowej i wodnej"}]
[18,null,4,{"$f":"D15","v":"A"},{"$f":"E15","v":"II"},{"$f":"F15","v":1},"c",null,null,{"$f":"$J$3&\":\"&$D16&\".\"&E16&\".\"&F16&\".\"&G16","v":"Aktywa:A.II.1.c"},{"$f":"G16 &\")\"","v":"c)"},null,null,{"$f":"K16","v":"c)"},{"$f":"teksty!$D$431","v":"urządzenia techniczne i maszyny"}]
[18,null,4,"A","II",1,"d",null,null,{"$f":"$J$3&\":\"&$D17&\".\"&E17&\".\"&F17&\".\"&G17","v":"Aktywa:A.II.1.d"},"d)",null,null,"d)",{"$f":"teksty!$D$432","v":"środki transportu"}]
[18,null,{"$f":"COUNTA(D18:H18)","v":4},"A","II",1,"e",null,null,{"$f":"$J$3&\":\"&$D18&\".\"&E18&\".\"&F18&\".\"&G18","v":"Aktywa:A.II.1.e"},"e)",null,null,"e)",{"$f":"teksty!$D$433","v":"inne środki trwałe"}]
[18,null,3,{"$f":"D18","v":"A"},{"$f":"E18","v":"II"},2,null,null,null,{"$f":"$J$3&\":\"&$D19&\".\"&E19&\".\"&F19","v":"Aktywa:A.II.2"},{"$f":"F19","v":2},null,null,2,{"$f":"teksty!$D$434","v":"Środki trwałe w budowie"}]
[18,null,3,{"$f":"D19","v":"A"},{"$f":"E19","v":"II"},3,null,null,null,{"$f":"$J$3&\":\"&$D20&\".\"&E20&\".\"&F20","v":"Aktywa:A.II.3"},{"$f":"F20","v":3},null,null,{"$f":"K20","v":3},{"$f":"teksty!$D$435","v":"Zaliczki na środki trwałe w budowie"}]
[18,null,2,{"$f":"D20","v":"A"},"III",null,null,null,null,{"$f":"$J$3&\":\"&$D21&\".\"&E21","v":"Aktywa:A.III"},{"$f":"E21","v":"III"},null,null,"III",{"$f":"teksty!$D$436","v":"Należności długoterminowe"},null,null,null,null,null,null,{"$f":"V22+V23+V24","v":0},{"$f":"W22+W23+W24","v":0}]
[18,null,3,"A",{"$f":"E21","v":"III"},1,null,null,null,{"$f":"$J$3&\":\"&$D22&\".\"&E22&\".\"&F22","v":"Aktywa:A.III.1"},{"$f":"F22","v":1},null,null,1,{"$f":"teksty!$D$437","v":"Od jednostek powiązanych"}]
[18,null,{"$f":"COUNTA(D23:H23)","v":3},"A",{"$f":"E22","v":"III"},2,null,null,null,{"$f":"$J$3&\":\"&$D23&\".\"&E23&\".\"&F23","v":"Aktywa:A.III.2"},{"$f":"F23","v":2},null,null,{"$f":"K23","v":2},{"$f":"teksty!$D$438","v":"Od pozostałych jednostek, w których jednostka posiada zaangażowanie w kapitale"}]
[18,null,3,"A",{"$f":"E23","v":"III"},3,null,null,null,{"$f":"$J$3&\":\"&$D24&\".\"&E24&\".\"&F24","v":"Aktywa:A.III.3"},{"$f":"F24","v":3},null,null,{"$f":"K24","v":3},{"$f":"teksty!$D$439","v":"Od pozostałych jednostek"}]
[18,null,2,"A","IV",null,null,null,null,{"$f":"$J$3&\":\"&$D25&\".\"&E25","v":"Aktywa:A.IV"},{"$f":"E25","v":"IV"},null,null,"IV",{"$f":"teksty!$D$440","v":"Inwestycje długoterminowe"},null,null,null,null,null,null,{"$f":"V26+V27+V28+V45","v":0},{"$f":"W26+W27+W28+W45","v":0}]
[18,null,3,"A",{"$f":"E25","v":"IV"},1,null,null,null,{"$f":"$J$3&\":\"&$D26&\".\"&E26&\".\"&F26","v":"Aktywa:A.IV.1"},{"$f":"F26","v":1},null,null,1,{"$f":"teksty!$D$441","v":"Nieruchomości"}]
[18,null,3,"A","IV",2,null,null,null,{"$f":"$J$3&\":\"&$D27&\".\"&E27&\".\"&F27","v":"Aktywa:A.IV.2"},{"$f":"F27","v":2},null,null,{"$f":"K27","v":2},{"$f":"teksty!$D$442","v":"Wartości niematerialne i prawne"}]
[18,null,3,"A","IV",3,null,null,null,{"$f":"$J$3&\":\"&$D28&\".\"&E28&\".\"&F28","v":"Aktywa:A.IV.3"},{"$f":"F28","v":3},null,null,{"$f":"K28","v":3},{"$f":"teksty!$D$443","v":"Długoterminowe aktywa finansowe"},null,null,null,null,null,null,{"$f":"V29+V35+V40","v":0},{"$f":"W29+W35+W40","v":0}]
[18,null,4,"A","IV",{"$f":"F28","v":3},"a",null,null,{"$f":"$J$3&\":\"&$D29&\".\"&E29&\".\"&F29&\".\"&G29","v":"Aktywa:A.IV.3.a"},{"$f":"G29 &\")\"","v":"a)"},null,null,"a)",{"$f":"teksty!$D$444","v":"w jednostkach powiązanych"},null,null,null,null,null,null,{"$f":"V30+V31+V32+V33","v":0},{"$f":"W30+W31+W32+W33","v":0}]
[18,null,5,"A","IV",{"$f":"F29","v":3},{"$f":"G29","v":"a"},1,null,{"$f":"$J$3&\":\"&$D30&\".\"&E30&\".\"&F30&\".\"&G30&\".\"&H30","v":"Aktywa:A.IV.3.a.1"},{"$f":"H30 & \") \"","v":"1) "},null,null,null,{"$f":"K30&teksty!$D445","v":"1) udziały lub akcje"}]
[18,null,5,"A","IV",{"$f":"F30","v":3},{"$f":"G30","v":"a"},2,null,{"$f":"$J$3&\":\"&$D31&\".\"&E31&\".\"&F31&\".\"&G31&\".\"&H31","v":"Aktywa:A.IV.3.a.2"},{"$f":"H31 & \") \"","v":"2) "},null,null,null,{"$f":"K31&teksty!$D446","v":"2) inne papiery wartościowe"}]
[18,null,5,{"$f":"D31","v":"A"},{"$f":"E31","v":"IV"},{"$f":"F31","v":3},{"$f":"G31","v":"a"},3,null,{"$f":"$J$3&\":\"&$D32&\".\"&E32&\".\"&F32&\".\"&G32&\".\"&H32","v":"Aktywa:A.IV.3.a.3"},"3) ",null,null,null,{"$f":"K32&teksty!$D447","v":"3) udzielone pożyczki"}]
[18,null,5,"A","IV",3,"a",4,{"$f":"$N$5 & teksty!$D$284 & 1","v":"Aktywa, koniec strony 1"},{"$f":"$J$3&\":\"&$D33&\".\"&E33&\".\"&F33&\".\"&G33&\".\"&H33","v":"Aktywa:A.IV.3.a.4"},"4) ",null,null,null,{"$f":"K33&teksty!$D448","v":"4) inne długoterminowe aktywa finansowe"}]
[18,"P",3,{"$f":"D33","v":"A"},{"$f":"E33","v":"IV"},{"$f":"F33","v":3},null,null,null,null,null,null,null,{"$f":"teksty!D449 & O28 &teksty!$D$418","v":"Aktywa (c.d. \"Długoterminowe aktywa finansowe\")"},null,null,null,null,null,null,{"$f":"$U$5","v":""},{"$f":"$V$5","v":"Okres\nbieżący"},{"$f":"$W$5","v":"Okres\npoprzedni"},{"$f":"teksty!$D$292","v":"Przekszt. dane porów. za poprzedni okres"}]
[18,null,{"$f":"COUNTA(D35:H35)","v":4},{"$f":"D34","v":"A"},"IV",3,"b",null,null,{"$f":"$J$3&\":\"&$D35&\".\"&E35&\".\"&F35&\".\"&G35","v":"Aktywa:A.IV.3.b"},{"$f":"G35 &\")\"","v":"b)"},null,null,{"$f":"K35","v":"b)"},{"$f":"teksty!$D$450","v":"w pozostałych jednostkach, w których jednostka posiada zaangażowanie w kapitale"},null,null,null,null,null,null,{"$f":"V36+V37+V38+V39","v":0},{"$f":"W36+W37+W38+W39","v":0},null,null,{"$f":"teksty!$D$285","v":"ukryty wiersz powyżej zawiera nagłówek dla kolejnej strony"}]
[18,null,{"$f":"COUNTA(D36:H36)","v":5},"A","IV",3,{"$f":"G35","v":"b"},1,null,{"$f":"$J$3&\":\"&$D36&\".\"&E36&\".\"&F36&\".\"&G36&\".\"&H36","v":"Aktywa:A.IV.3.b.1"},{"$f":"H36 & \") \"","v":"1) "},null,null,null,{"$f":"K36&teksty!$D451","v":"1) udziały lub akcje"}]
[18,null,5,"A","IV",3,{"$f":"G36","v":"b"},2,null,{"$f":"$J$3&\":\"&$D37&\".\"&E37&\".\"&F37&\".\"&G37&\".\"&H37","v":"Aktywa:A.IV.3.b.2"},{"$f":"H37 & \") \"","v":"2) "},null,null,null,{"$f":"K37&teksty!$D452","v":"2) inne papiery wartościowe"}]
[18,null,5,{"$f":"D37","v":"A"},{"$f":"E37","v":"IV"},{"$f":"F37","v":3},{"$f":"G37","v":"b"},3,null,{"$f":"$J$3&\":\"&$D38&\".\"&E38&\".\"&F38&\".\"&G38&\".\"&H38","v":"Aktywa:A.IV.3.b.3"},{"$f":"H38 & \") \"","v":"3) "},null,null,null,{"$f":"K38&teksty!$D453","v":"3) udzielone pożyczki"}]
[18,null,5,"A","IV",3,"b",4,null,{"$f":"$J$3&\":\"&$D39&\".\"&E39&\".\"&F39&\".\"&G39&\".\"&H39","v":"Aktywa:A.IV.3.b.4"},"4) ",null,null,null,{"$f":"K39&teksty!$D454","v":"4) inne długoterminowe aktywa finansowe"}]
[18,null,4,{"$f":"D39","v":"A"},"IV",3,"c",null,null,{"$f":"$J$3&\":\"&$D40&\".\"&E40&\".\"&F40&\".\"&G40","v":"Aktywa:A.IV.3.c"},{"$f":"G40 &\")\"","v":"c)"},null,null,{"$f":"K40","v":"c)"},{"$f":"teksty!$D$455","v":"w pozostałych jednostkach"},null,null,null,null,null,null,{"$f":"V41+V42+V43+V44","v":0},{"$f":"W41+W42+W43+W44","v":0}]
[18,null,5,"A","IV",3,{"$f":"G40","v":"c"},1,null,{"$f":"$J$3&\":\"&$D41&\".\"&E41&\".\"&F41&\".\"&G41&\".\"&H41","v":"Aktywa:A.IV.3.c.1"},{"$f":"H41 & \") \"","v":"1) "},null,null,null,{"$f":"K41&teksty!$D456","v":"1) udziały lub akcje"}]
[18,null,5,"A","IV",3,{"$f":"G41","v":"c"},2,null,{"$f":"$J$3&\":\"&$D42&\".\"&E42&\".\"&F42&\".\"&G42&\".\"&H42","v":"Aktywa:A.IV.3.c.2"},{"$f":"H42 & \") \"","v":"2) "},null,null,null,{"$f":"K42&teksty!$D457","v":"2) inne papiery wartościowe"}]
[18,null,5,{"$f":"D42","v":"A"},{"$f":"E42","v":"IV"},{"$f":"F42","v":3},{"$f":"G42","v":"c"},3,null,{"$f":"$J$3&\":\"&$D43&\".\"&E43&\".\"&F43&\".\"&G43&\".\"&H43","v":"Aktywa:A.IV.3.c.3"},{"$f":"H43 & \") \"","v":"3) "},null,null,null,{"$f":"K43&teksty!$D458","v":"3) udzielone pożyczki"}]
[18,null,5,"A","IV",3,"c",4,null,{"$f":"$J$3&\":\"&$D44&\".\"&E44&\".\"&F44&\".\"&G44&\".\"&H44","v":"Aktywa:A.IV.3.c.4"},"4) ",null,null,null,{"$f":"K44&teksty!$D459","v":"4) inne długoterminowe aktywa finansowe"}]
[18,null,3,{"$f":"D44","v":"A"},{"$f":"E44","v":"IV"},4,null,null,null,{"$f":"$J$3&\":\"&$D45&\".\"&E45&\".\"&F45","v":"Aktywa:A.IV.4"},{"$f":"F45","v":4},null,null,{"$f":"K45","v":4},{"$f":"teksty!D460","v":"Inne inwestycje długoterminowe"}]
[18,null,2,{"$f":"D45","v":"A"},"V",null,null,null,null,{"$f":"$J$3&\":\"&$D46&\".\"&E46","v":"Aktywa:A.V"},{"$f":"E46","v":"V"},null,null,"V",{"$f":"teksty!$D$461","v":"Długoterminowe rozliczenia międzyokresowe"},null,null,null,null,null,null,{"$f":"V47+V48","v":0},{"$f":"W47+W48","v":0}]
[18,null,3,{"$f":"D46","v":"A"},{"$f":"E46","v":"V"},1,null,null,null,{"$f":"$J$3&\":\"&$D47&\".\"&E47&\".\"&F47","v":"Aktywa:A.V.1"},{"$f":"F47","v":1},null,null,{"$f":"K47","v":1},{"$f":"teksty!$D$462","v":"Aktywa z tytułu odroczonego podatku dochodowego"}]
[18,null,3,{"$f":"D47","v":"A"},{"$f":"E47","v":"V"},2,null,null,null,{"$f":"$J$3&\":\"&$D48&\".\"&E48&\".\"&F48","v":"Aktywa:A.V.2"},{"$f":"F48","v":2},null,null,{"$f":"K48","v":2},{"$f":"teksty!$D$463","v":"Inne rozliczenia międzyokresowe"}]
[18,null,1,"B",null,null,null,null,null,{"$f":"$J$3&\":\"&$D49","v":"Aktywa:B"},{"$f":"D49","v":"B"},null,null,"B",{"$f":"teksty!$D$464","v":"Aktywa obrotowe"},null,null,null,null,null,null,{"$f":"V50+V57+V76+V93","v":0},{"$f":"W50+W57+W76+W93","v":0}]
[18,null,2,{"$f":"D49","v":"B"},"I",null,null,null,null,{"$f":"$J$3&\":\"&$D50&\".\"&E50","v":"Aktywa:B.I"},{"$f":"E50","v":"I"},null,null,"I",{"$f":"teksty!$D$465","v":"Zapasy"},null,null,null,null,null,null,{"$f":"V51+V52+V54+V55+V56","v":0},{"$f":"W51+W52+W54+W55+W56","v":0}]
[18,null,3,"B",{"$f":"E50","v":"I"},1,null,null,null,{"$f":"$J$3&\":\"&$D51&\".\"&E51&\".\"&F51","v":"Aktywa:B.I.1"},{"$f":"F51","v":1},null,null,1,{"$f":"teksty!$D$466","v":"Materiały"}]
[18,null,3,"B",{"$f":"E51","v":"I"},2,null,null,null,{"$f":"$J$3&\":\"&$D52&\".\"&E52&\".\"&F52","v":"Aktywa:B.I.2"},{"$f":"F52","v":2},null,null,{"$f":"K52","v":2},{"$f":"teksty!$D$467","v":"Półprodukty i produkty w toku"}]
[18,null,{"$f":"COUNTA(D53:H53)","v":4},"B",{"$f":"E52","v":"I"},{"$f":"F52","v":2},"j",null,null,{"$f":"$J$3&\":\"&$D53&\".\"&E53&\".\"&F53&\".\"&G53&\".\"&H53","v":"Aktywa:B.I.2.j."},null,null,null,null,{"$f":"teksty!$D$468","v":"w tym: obiekty w zabudowie"}]
[18,null,3,{"$f":"D52","v":"B"},{"$f":"E52","v":"I"},3,null,null,null,{"$f":"$J$3&\":\"&$D54&\".\"&E54&\".\"&F54","v":"Aktywa:B.I.3"},{"$f":"F54","v":3},null,null,3,{"$f":"teksty!$D$469","v":"Produkty gotowe"}]
[18,null,3,"B",{"$f":"E54","v":"I"},4,null,null,null,{"$f":"$J$3&\":\"&$D55&\".\"&E55&\".\"&F55","v":"Aktywa:B.I.4"},{"$f":"F55","v":4},null,null,{"$f":"K55","v":4},{"$f":"teksty!$D$470","v":"Towary"}]
[18,null,3,"B",{"$f":"E55","v":"I"},5,null,null,null,{"$f":"$J$3&\":\"&$D56&\".\"&E56&\".\"&F56","v":"Aktywa:B.I.5"},{"$f":"F56","v":5},null,null,{"$f":"K56","v":5},{"$f":"teksty!$D$471","v":"Zaliczki na dostawy i usługi"}]
[18,null,2,"B","II",null,null,null,null,{"$f":"$J$3&\":\"&$D57&\".\"&E57","v":"Aktywa:B.II"},{"$f":"E57","v":"II"},null,null,"II",{"$f":"teksty!$D$472","v":"Należności krótkoterminowe"},null,null,null,null,null,null,{"$f":"V58+V64+V69","v":0},{"$f":"W58+W64+W69","v":0}]
[18,null,3,"B",{"$f":"E57","v":"II"},1,null,null,null,{"$f":"$J$3&\":\"&$D58&\".\"&E58&\".\"&F58","v":"Aktywa:B.II.1"},{"$f":"F58","v":1},null,null,1,{"$f":"teksty!$D$473","v":"Należności od jednostek powiązanych"},null,null,null,null,null,null,{"$f":"V59+V62","v":0},{"$f":"W59+W62","v":0}]
[18,null,4,"B",{"$f":"E58","v":"II"},{"$f":"F58","v":1},"a",null,null,{"$f":"$J$3&\":\"&$D59&\".\"&E59&\".\"&F59&\".\"&G59","v":"Aktywa:B.II.1.a"},{"$f":"G59 &\")\"","v":"a)"},null,null,"a)",{"$f":"teksty!$D$474","v":"z tytułu dostaw i usług, o okresie spłaty:"},null,null,null,null,null,null,{"$f":"V60+V61","v":0},{"$f":"W60+W61","v":0}]
[18,null,5,"B",{"$f":"E59","v":"II"},{"$f":"F59","v":1},{"$f":"G59","v":"a"},1,null,{"$f":"$J$3&\":\"&$D60&\".\"&E60&\".\"&F60&\".\"&G60&\".\"&H60","v":"Aktywa:B.II.1.a.1"},{"$f":"H60 & \") \"","v":"1) "},null,null,null,{"$f":"$K$60&teksty!$D$475","v":"1) do 12 miesięcy"}]
[18,null,5,"B",{"$f":"E60","v":"II"},{"$f":"F60","v":1},{"$f":"G60","v":"a"},2,null,{"$f":"$J$3&\":\"&$D61&\".\"&E61&\".\"&F61&\".\"&G61&\".\"&H61","v":"Aktywa:B.II.1.a.2"},{"$f":"H61 & \") \"","v":"2) "},null,null,null,{"$f":"$K$61&teksty!$D$476","v":"2) powyżej 12 miesięcy"}]
[18,null,4,"B",{"$f":"E61","v":"II"},{"$f":"F61","v":1},"b",null,{"$f":"$N$5 & teksty!$D$284 & 2","v":"Aktywa, koniec strony 2"},{"$f":"$J$3&\":\"&$D62&\".\"&E62&\".\"&F62&\".\"&G62","v":"Aktywa:B.II.1.b"},{"$f":"G62 &\")\"","v":"b)"},null,null,{"$f":"K62","v":"b)"},{"$f":"teksty!$D$477","v":"inne"}]
[18,"P",3,{"$f":"D62","v":"B"},{"$f":"E62","v":"II"},{"$f":"F62","v":1},null,null,null,null,null,null,null,{"$f":"teksty!D478 & O57 &teksty!$D$418","v":"Aktywa (c.d. \"Należności krótkoterminowe\")"},null,null,null,null,null,null,{"$f":"$U$5","v":""},{"$f":"$V$5","v":"Okres\nbieżący"},{"$f":"$W$5","v":"Okres\npoprzedni"},{"$f":"teksty!$D$292","v":"Przekszt. dane porów. za poprzedni okres"}]
[18,null,3,{"$f":"D62","v":"B"},{"$f":"E62","v":"II"},2,null,null,null,{"$f":"$J$3&\":\"&$D64&\".\"&E64&\".\"&F64","v":"Aktywa:B.II.2"},{"$f":"F64","v":2},null,null,2,{"$f":"teksty!$D$479","v":"Należności od pozostałych jednostek, w których jednostka posiada zaangażowanie w kapitale"},null,null,null,null,null,null,{"$f":"V65+V68","v":0},{"$f":"W65+W68","v":0},null,null,{"$f":"teksty!$D$285","v":"ukryty wiersz powyżej zawiera nagłówek dla kolejnej strony"}]
[18,null,4,{"$f":"D64","v":"B"},"II",2,"a",null,null,{"$f":"$J$3&\":\"&$D65&\".\"&E65&\".\"&F65&\".\"&G65","v":"Aktywa:B.II.2.a"},{"$f":"G65 &\")\"","v":"a)"},null,null,"a)",{"$f":"teksty!$D$480","v":"z tytułu dostaw i usług, o okresie spłaty:"},null,null,null,null,null,null,{"$f":"V66+V67","v":0},{"$f":"W66+W67","v":0}]
[18,null,5,"B","II",2,{"$f":"G65","v":"a"},1,null,{"$f":"$J$3&\":\"&$D66&\".\"&E66&\".\"&F66&\".\"&G66&\".\"&H66","v":"Aktywa:B.II.2.a.1"},{"$f":"H66 & \") \"","v":"1) "},null,null,null,{"$f":"$K$66&teksty!$D$481","v":"1) do 12 miesięcy"}]
[18,null,5,"B","II",2,{"$f":"G66","v":"a"},2,null,{"$f":"$J$3&\":\"&$D67&\".\"&E67&\".\"&F67&\".\"&G67&\".\"&H67","v":"Aktywa:B.II.2.a.2"},{"$f":"H67 & \") \"","v":"2) "},null,null,null,{"$f":"$K$67&teksty!$D$482","v":"2) powyżej 12 miesięcy"}]
[18,null,4,"B","II",2,"b",null,null,{"$f":"$J$3&\":\"&$D68&\".\"&E68&\".\"&F68&\".\"&G68","v":"Aktywa:B.II.2.b"},{"$f":"G68 &\")\"","v":"b)"},null,null,{"$f":"K68","v":"b)"},{"$f":"teksty!$D$483","v":"inne"}]
[18,null,3,{"$f":"D68","v":"B"},"II",3,null,null,null,{"$f":"$J$3&\":\"&$D69&\".\"&E69&\".\"&F69","v":"Aktywa:B.II.3"},{"$f":"F69","v":3},null,null,3,{"$f":"teksty!$D$484","v":"Należności od pozostałych jednostek"},null,null,null,null,null,null,{"$f":"V70+V73+V74+V75","v":0},{"$f":"W70+W73+W74+W75","v":0}]
[{"$f":"(2+16)","v":18},null,4,"B","II",{"$f":"F69","v":3},"a",null,null,{"$f":"$J$3&\":\"&$D70&\".\"&E70&\".\"&F70&\".\"&G70","v":"Aktywa:B.II.3.a"},{"$f":"G70 &\")\"","v":"a)"},null,null,"a)",{"$f":"teksty!$D$485","v":"z tytułu dostaw i usług, o okresie spłaty:"},null,null,null,null,null,null,{"$f":"V71+V72","v":0},{"$f":"W71+W72","v":0}]
[18,null,5,"B","II",3,{"$f":"G70","v":"a"},1,null,{"$f":"$J$3&\":\"&$D71&\".\"&E71&\".\"&F71&\".\"&G71&\".\"&H71","v":"Aktywa:B.II.3.a.1"},{"$f":"H71 & \") \"","v":"1) "},null,null,null,{"$f":"$K$71&teksty!$D$486","v":"1) do 12 miesięcy"}]
[18,null,5,"B","II",3,{"$f":"G71","v":"a"},2,null,{"$f":"$J$3&\":\"&$D72&\".\"&E72&\".\"&F72&\".\"&G72&\".\"&H72","v":"Aktywa:B.II.3.a.2"},{"$f":"H72 & \") \"","v":"2) "},null,null,null,{"$f":"$K$72&teksty!$D$487","v":"2) powyżej 12 miesięcy"}]
[18,null,4,"B","II",3,"b",null,null,{"$f":"$J$3&\":\"&$D73&\".\"&E73&\".\"&F73&\".\"&G73","v":"Aktywa:B.II.3.b"},{"$f":"G73 &\")\"","v":"b)"},null,null,{"$f":"K73","v":"b)"},{"$f":"teksty!$D$488","v":"z tytułu podatków, dotacji, ceł, ubezpieczeń społecznych i zdrowotnych oraz innych tytułów publicznoprawnych"}]
[18,null,4,"B","II",3,"c",null,null,{"$f":"$J$3&\":\"&$D74&\".\"&E74&\".\"&F74&\".\"&G74","v":"Aktywa:B.II.3.c"},{"$f":"G74 &\")\"","v":"c)"},null,null,{"$f":"K74","v":"c)"},{"$f":"teksty!$D$489","v":"inne"}]
[18,null,4,"B","II",3,"d",null,null,{"$f":"$J$3&\":\"&$D75&\".\"&E75&\".\"&F75&\".\"&G75","v":"Aktywa:B.II.3.d"},{"$f":"G75 &\")\"","v":"d)"},null,null,{"$f":"K75","v":"d)"},{"$f":"teksty!$D$490","v":"dochodzone na drodze sądowej"}]
[18,null,2,{"$f":"D75","v":"B"},"III",null,null,null,null,{"$f":"$J$3&\":\"&$D76&\".\"&E76","v":"Aktywa:B.III"},{"$f":"E76","v":"III"},null,null,"III",{"$f":"teksty!$D$491","v":"Inwestycje krótkoterminowe"},null,null,null,null,null,null,{"$f":"V77+V92","v":0},{"$f":"W77+W92","v":0}]
[18,null,3,"B",{"$f":"E76","v":"III"},1,null,null,null,{"$f":"$J$3&\":\"&$D77&\".\"&E77&\".\"&F77","v":"Aktywa:B.III.1"},{"$f":"F77","v":1},null,null,1,{"$f":"teksty!$D$492","v":"Krótkoterminowe aktywa finansowe"},null,null,null,null,null,null,{"$f":"V78+V83+V88","v":0},{"$f":"W78+W83+W88","v":0}]
[18,null,4,"B","III",{"$f":"F77","v":1},"a",null,null,{"$f":"$J$3&\":\"&$D78&\".\"&E78&\".\"&F78&\".\"&G78","v":"Aktywa:B.III.1.a"},{"$f":"G78 &\")\"","v":"a)"},null,null,"a)",{"$f":"teksty!$D$493","v":"w jednostkach powiązanych"},null,null,null,null,null,null,{"$f":"V79+V80+V81+V82","v":0},{"$f":"W79+W80+W81+W82","v":0}]
[18,null,5,"B","III",1,{"$f":"G78","v":"a"},1,null,{"$f":"$J$3&\":\"&$D79&\".\"&E79&\".\"&F79&\".\"&G79&\".\"&H79","v":"Aktywa:B.III.1.a.1"},{"$f":"H79 & \") \"","v":"1) "},null,null,null,{"$f":"K79&teksty!$D494","v":"1) udziały lub akcje"}]
[18,null,5,"B","III",1,{"$f":"G79","v":"a"},2,null,{"$f":"$J$3&\":\"&$D80&\".\"&E80&\".\"&F80&\".\"&G80&\".\"&H80","v":"Aktywa:B.III.1.a.2"},{"$f":"H80 & \") \"","v":"2) "},null,null,null,{"$f":"K80&teksty!$D495","v":"2) inne papiery wartościowe"}]
[18,null,5,"B","III",1,{"$f":"G80","v":"a"},3,null,{"$f":"$J$3&\":\"&$D81&\".\"&E81&\".\"&F81&\".\"&G81&\".\"&H81","v":"Aktywa:B.III.1.a.3"},{"$f":"H81 & \") \"","v":"3) "},null,null,null,{"$f":"K81&teksty!$D496","v":"3) udzielone pożyczki"}]
[18,null,5,"B","III",1,{"$f":"G81","v":"a"},4,null,{"$f":"$J$3&\":\"&$D82&\".\"&E82&\".\"&F82&\".\"&G82&\".\"&H82","v":"Aktywa:B.III.1.a.4"},{"$f":"H82 & \") \"","v":"4) "},null,null,null,{"$f":"K82&teksty!$D497","v":"4) inne krótkoterminowe aktywa finansowe"}]
[18,null,4,"B","III",1,"b",null,null,{"$f":"$J$3&\":\"&$D83&\".\"&E83&\".\"&F83&\".\"&G83","v":"Aktywa:B.III.1.b"},{"$f":"G83 &\")\"","v":"b)"},null,null,{"$f":"K83","v":"b)"},{"$f":"teksty!$D$498","v":"w pozostałych jednostkach"},null,null,null,null,null,null,{"$f":"V84+V85+V86+V87","v":0},{"$f":"W84+W85+W86+W87","v":0}]
[18,null,5,"B","III",1,{"$f":"G83","v":"b"},1,null,{"$f":"$J$3&\":\"&$D84&\".\"&E84&\".\"&F84&\".\"&G84&\".\"&H84","v":"Aktywa:B.III.1.b.1"},{"$f":"H84 & \") \"","v":"1) "},null,null,null,{"$f":"K84&teksty!$D499","v":"1) udziały lub akcje"}]
[18,null,5,{"$f":"D84","v":"B"},{"$f":"E84","v":"III"},{"$f":"F84","v":1},{"$f":"G84","v":"b"},2,null,{"$f":"$J$3&\":\"&$D85&\".\"&E85&\".\"&F85&\".\"&G85&\".\"&H85","v":"Aktywa:B.III.1.b.2"},{"$f":"H85 & \") \"","v":"2) "},null,null,null,{"$f":"K85&teksty!$D500","v":"2) inne papiery wartościowe"}]
[18,null,5,"B","III",1,"b",3,null,{"$f":"$J$3&\":\"&$D86&\".\"&E86&\".\"&F86&\".\"&G86&\".\"&H86","v":"Aktywa:B.III.1.b.3"},"3) ",null,null,null,{"$f":"K86&teksty!$D501","v":"3) udzielone pożyczki"}]
[18,null,5,"B","III",1,"b",4,null,{"$f":"$J$3&\":\"&$D87&\".\"&E87&\".\"&F87&\".\"&G87&\".\"&H87","v":"Aktywa:B.III.1.b.4"},"4) ",null,null,null,{"$f":"K87&teksty!$D502","v":"4) inne krótkoterminowe aktywa finansowe"}]
[18,null,4,{"$f":"D87","v":"B"},"III",1,"c",null,null,{"$f":"$J$3&\":\"&$D88&\".\"&E88&\".\"&F88&\".\"&G88","v":"Aktywa:B.III.1.c"},{"$f":"G88 &\")\"","v":"c)"},null,null,{"$f":"K88","v":"c)"},{"$f":"teksty!$D$503","v":"środki pieniężne i inne aktywa pieniężne"},null,null,null,null,null,null,{"$f":"V89+V90+V91","v":0},{"$f":"W89+W90+W91","v":0}]
[18,null,5,"B","III",1,{"$f":"G88","v":"c"},1,null,{"$f":"$J$3&\":\"&$D89&\".\"&E89&\".\"&F89&\".\"&G89&\".\"&H89","v":"Aktywa:B.III.1.c.1"},{"$f":"H89 & \") \"","v":"1) "},null,null,null,{"$f":"K89&teksty!$D504","v":"1) środki pieniężne w kasie i na rachunkach"}]
[18,null,5,{"$f":"D89","v":"B"},{"$f":"E89","v":"III"},{"$f":"F89","v":1},{"$f":"G89","v":"c"},2,null,{"$f":"$J$3&\":\"&$D90&\".\"&E90&\".\"&F90&\".\"&G90&\".\"&H90","v":"Aktywa:B.III.1.c.2"},{"$f":"H90 & \") \"","v":"2) "},null,null,null,{"$f":"K90&teksty!$D505","v":"2) inne środki pieniężne"}]
[18,null,5,"B","III",1,"c",3,null,{"$f":"$J$3&\":\"&$D91&\".\"&E91&\".\"&F91&\".\"&G91&\".\"&H91","v":"Aktywa:B.III.1.c.3"},"3) ",null,null,null,{"$f":"K91&teksty!$D506","v":"3) inne aktywa pieniężne"}]
[18,null,3,{"$f":"D91","v":"B"},{"$f":"E91","v":"III"},2,null,null,null,{"$f":"$J$3&\":\"&$D92&\".\"&E92&\".\"&F92","v":"Aktywa:B.III.2"},{"$f":"F92","v":2},null,null,{"$f":"K92","v":2},{"$f":"teksty!$D$507","v":"Inne inwestycje krótkoterminowe"}]
[18,null,2,{"$f":"D92","v":"B"},"IV",null,null,null,null,{"$f":"$J$3&\":\"&$D93&\".\"&E93","v":"Aktywa:B.IV"},{"$f":"E93","v":"IV"},null,null,"IV",{"$f":"teksty!$D$508","v":"Krótkoterminowe rozliczenia międzyokresowe"}]
[18,null,3,{"$f":"D93","v":"B"},{"$f":"E93","v":"IV"},"j",null,null,null,{"$f":"$J$3&\":\"&$D94&\".\"&E94&\".\"&F94","v":"Aktywa:B.IV.j"},null,null,null,null,{"$f":"teksty!$D$509","v":"w tym: aktywa z tytułu niezakończonych umów budowlanych"}]
[18,null,1,"C",null,null,null,null,null,{"$f":"$J$3&\":\"&$D95","v":"Aktywa:C"},{"$f":"D95","v":"C"},null,null,"C",{"$f":"teksty!$D$510","v":"Należne wpłaty na kapitał (fundusz) podstawowy"}]
[18,null,1,"D",null,null,null,null,null,{"$f":"$J$3&\":\"&$D96","v":"Aktywa:D"},{"$f":"D96","v":"D"},null,null,{"$f":"K96","v":"D"},{"$f":"teksty!$D$511","v":"Udziały (akcje) własne"}]
[18,null,0,null,null,null,null,null,null,null,null,null,null,null,{"$f":"teksty!$D$512","v":"Aktywa razem (suma pozycji A, B, C i D)"},null,null,null,null,null,null,{"$f":"V96+V95+V49+V6","v":0},{"$f":"W96+W95+W49+W6","v":0},null,null,{"$f":"IF(WrfKwot,IF(AND(AF97=0,AG97=0,AH97=0),\"=\",\"!\"),\"\")","v":""},{"$f":"teksty!$D$514 & \":\"","v":"Pasywa:"},{"$f":"V172","v":0},{"$f":"W172","v":0},{"$f":"X172","v":0},null,{"$f":"ROUND(V97-AB97,2)","v":0},{"$f":"ROUND(W97-AC97,2)","v":0},{"$f":"ROUND(X97-AD97,2)","v":0}]
[18,null,0]
[18,null,0]
[18,"P",0]
[18,null,0,null,null,null,null,null,null,"Pasywa",null,null,null,{"$f":"teksty!$D$514","v":"Pasywa"},null,null,null,null,null,null,{"$f":"$U$5","v":""},{"$f":"$V$5","v":"Okres\nbieżący"},{"$f":"$W$5","v":"Okres\npoprzedni"},{"$f":"teksty!$D$292","v":"Przekszt. dane porów. za poprzedni okres"},null,null,null,"`"]
[18,null,{"$f":"COUNTA(D102:H102)","v":1},"A",null,null,null,null,null,{"$f":"$J$101&\":\"&$D102","v":"Pasywa:A"},{"$f":"D102","v":"A"},null,null,{"$f":"K102","v":"A"},{"$f":"teksty!$D$515","v":"Kapitał (fundusz) własny"},null,null,null,null,null,null,{"$f":"V103+V104+V108+V110+V115+V120+V121","v":0},{"$f":"W103+W104+W108+W110+W115+W120+W121","v":0}]
[18,null,2,{"$f":"D102","v":"A"},"I",null,null,null,null,{"$f":"$J$101&\":\"&$D103&\".\"&E103","v":"Pasywa:A.I"},{"$f":"E103","v":"I"},null,null,"I",{"$f":"teksty!$D$516","v":"Kapitał (fundusz) podstawowy"}]
[18,null,2,"A","II",null,null,null,null,{"$f":"$J$101&\":\"&$D104&\".\"&E104","v":"Pasywa:A.II"},{"$f":"E104","v":"II"},null,null,{"$f":"K104","v":"II"},{"$f":"teksty!$D$517","v":"Kapitał (fundusz) zapasowy, w tym:"}]
[18,null,4,"A",{"$f":"E104","v":"II"},1,"X",null,null,{"$f":"$J$101&\":\"&$D105&\".\"&E105&\".\"&F105","v":"Pasywa:A.II.1"},{"$f":"F105","v":1},null,null,null,{"$f":"\" – \" & teksty!$D$518","v":" – nadwyżka wartości sprzedaży (wartości emisyjnej) nad wartością nominalną udziałów (akcji)"}]
[18,null,{"$f":"COUNTA(D106:H106)","v":4},"A",{"$f":"E105","v":"II"},2,"X",null,null,{"$f":"$J$101&\":\"&$D106&\".\"&E106&\".\"&F106","v":"Pasywa:A.II.2"},{"$f":"F106","v":2},null,null,null,{"$f":"\" – \" & teksty!$D$519","v":" – kwota zysku wypracowanego w latach przed opodatkowaniem ryczałtem"}]
[18,null,{"$f":"COUNTA(D107:H107)","v":4},"A",{"$f":"E106","v":"II"},3,"X",null,null,{"$f":"$J$101&\":\"&$D107&\".\"&E107&\".\"&F107","v":"Pasywa:A.II.3"},{"$f":"F107","v":3},null,null,null,{"$f":"IF($O$106 = \" – \" & teksty!$D$519,\" – \" & teksty!$D$1002,\"\")","v":" – kwota zysku wypracowanego w latach opodatkowania ryczałtem"}]
[18,null,2,{"$f":"D105","v":"A"},"III",null,null,null,null,{"$f":"$J$101&\":\"&$D108&\".\"&E108","v":"Pasywa:A.III"},{"$f":"E108","v":"III"},null,null,{"$f":"K108","v":"III"},{"$f":"teksty!$D$520","v":"Kapitał (fundusz) z aktualizacji wyceny, w tym:"}]
[18,null,4,"A",{"$f":"E108","v":"III"},1,"X",null,null,{"$f":"$J$101&\":\"&$D109&\".\"&E109&\".\"&F109","v":"Pasywa:A.III.1"},{"$f":"F109","v":1},null,null,null,{"$f":"\" – \" & teksty!$D$521","v":" – z tytułu aktualizacji wartości godziwej"}]
[18,null,2,"A","IV",null,null,null,null,{"$f":"$J$101&\":\"&$D110&\".\"&E110","v":"Pasywa:A.IV"},{"$f":"E110","v":"IV"},null,null,{"$f":"K110","v":"IV"},{"$f":"teksty!$D$522","v":"Pozostałe kapitały (fundusze) rezerwowe, w tym:"}]
[18,null,4,"A",{"$f":"E110","v":"IV"},1,"X",null,null,{"$f":"$J$101&\":\"&$D111&\".\"&E111&\".\"&F111","v":"Pasywa:A.IV.1"},{"$f":"F111","v":1},null,null,null,{"$f":"\" – \" & teksty!$D$523","v":" – tworzone zgodnie z umową (statutem) spółki"}]
[18,null,4,"A",{"$f":"E111","v":"IV"},2,"X",null,null,{"$f":"$J$101&\":\"&$D112&\".\"&E112&\".\"&F112","v":"Pasywa:A.IV.2"},{"$f":"F112","v":2},null,null,null,{"$f":"\" – \" & teksty!$D$524","v":" – na udziały (akcje) własne"}]
[18,null,4,"A",{"$f":"E112","v":"IV"},3,"X",null,null,{"$f":"$J$101&\":\"&$D113&\".\"&E113&\".\"&F113","v":"Pasywa:A.IV.3"},{"$f":"F113","v":3},null,null,null,{"$f":"\" – \" & teksty!$D$525","v":" – kwota zysku wypracowanego w latach przed opodatkowaniem ryczałtem"}]
[18,null,{"$f":"COUNTA(D114:H114)","v":4},"A",{"$f":"E113","v":"IV"},4,"X",null,null,{"$f":"$J$101&\":\"&$D114&\".\"&E114&\".\"&F114","v":"Pasywa:A.IV.4"},{"$f":"F114","v":4},null,null,null,{"$f":"IF($O$113 = \" – \" & teksty!$D$525,\" – \" & teksty!$D$1003,\"\")","v":" – kwota zysku wypracowanego w latach opodatkowania ryczałtem"}]
[18,null,2,{"$f":"D112","v":"A"},"V",null,null,null,null,{"$f":"$J$101&\":\"&$D115&\".\"&E115","v":"Pasywa:A.V"},{"$f":"E115","v":"V"},null,null,{"$f":"K115","v":"V"},{"$f":"teksty!$D$526","v":"Zysk (strata) z lat ubiegłych, w tym:"}]
[18,null,{"$f":"COUNTA(D116:H116)","v":4},"A",{"$f":"E115","v":"V"},1,"X",null,null,{"$f":"$J$101&\":\"&$D116&\".\"&E116&\".\"&F116","v":"Pasywa:A.V.1"},{"$f":"F116","v":1},null,null,null,{"$f":"\" – \" & teksty!$D$527","v":" – kwota niepodzielonych zysków w latach przed opodatkowaniem ryczałtem"}]
[18,null,4,"A",{"$f":"E116","v":"V"},2,"X",null,null,{"$f":"$J$101&\":\"&$D117&\".\"&E117&\".\"&F117","v":"Pasywa:A.V.2"},{"$f":"F117","v":2},null,null,null,{"$f":"IF($O$116 = \" – \" & teksty!$D$527,\" – \" & teksty!$D$528,\"\")","v":" – kwota niepokrytych strat poniesionych w latach przed opodatkowaniem ryczałtem"}]
[18,null,{"$f":"COUNTA(D118:H118)","v":4},"A",{"$f":"E117","v":"V"},3,"X",null,null,{"$f":"$J$101&\":\"&$D118&\".\"&E118&\".\"&F118","v":"Pasywa:A.V.3"},{"$f":"F118","v":3},null,null,null,{"$f":"IF($O$116 = \" – \" & teksty!$D$527,\" – \" & teksty!$D$1004,\"\")","v":" – kwota niepodzielonych zysków z lat opodatkowania ryczałtem"}]
[18,null,4,"A",{"$f":"E118","v":"V"},4,"X",null,null,{"$f":"$J$101&\":\"&$D119&\".\"&E119&\".\"&F119","v":"Pasywa:A.V.4"},{"$f":"F119","v":4},null,null,null,{"$f":"IF($O$116 = \" – \" & teksty!$D$527,\" – \" & teksty!$D$1005,\"\")","v":" – kwota niepokrytych strat poniesionych w latach opodatkowania ryczałtem"}]
[18,null,2,{"$f":"D115","v":"A"},"VI",null,null,null,null,{"$f":"$J$101&\":\"&$D120&\".\"&E120","v":"Pasywa:A.VI"},{"$f":"E120","v":"VI"},null,null,{"$f":"K120","v":"VI"},{"$f":"teksty!$D$529","v":"Zysk (strata) netto"}]
[18,null,2,"A","VII",null,null,null,null,{"$f":"$J$101&\":\"&$D121&\".\"&E121","v":"Pasywa:A.VII"},{"$f":"E121","v":"VII"},null,null,{"$f":"K121","v":"VII"},{"$f":"teksty!$D$530","v":"Odpisy z zysku netto w ciągu roku obrotowego (wielkość ujemna)"}]
[18,null,1,"B",null,null,null,null,null,{"$f":"$J$101&\":\"&$D122","v":"Pasywa:B"},{"$f":"D122","v":"B"},null,null,"B",{"$f":"teksty!$D$531","v":"Zobowiązania i rezerwy na zobowiązania"},null,null,null,null,null,null,{"$f":"V123+V132+V141+V166","v":0},{"$f":"W123+W132+W141+W166","v":0}]
[18,null,2,{"$f":"D122","v":"B"},"I",null,null,null,null,{"$f":"$J$101&\":\"&$D123&\".\"&E123","v":"Pasywa:B.I"},{"$f":"E123","v":"I"},null,null,"I",{"$f":"teksty!$D$532","v":"Rezerwy na zobowiązania"},null,null,null,null,null,null,{"$f":"V124+V125+V128","v":0},{"$f":"W124+W125+W128","v":0}]
[18,null,3,"B",{"$f":"E123","v":"I"},1,null,null,null,{"$f":"$J$101&\":\"&$D124&\".\"&E124&\".\"&F124","v":"Pasywa:B.I.1"},{"$f":"F124","v":1},null,null,{"$f":"K124","v":1},{"$f":"teksty!$D$533","v":"Rezerwa z tytułu odroczonego podatku dochodowego"}]
[18,null,3,"B","I",2,null,null,null,{"$f":"$J$101&\":\"&$D125&\".\"&E125&\".\"&F125","v":"Pasywa:B.I.2"},2,null,null,{"$f":"K125","v":2},{"$f":"teksty!$D$534","v":"Rezerwa na świadczenia emerytalne i podobne"},null,null,null,null,null,null,{"$f":"V126+V127","v":0},{"$f":"W126+W127","v":0}]
[18,null,4,"B","I",{"$f":"F125","v":2},1,null,null,{"$f":"$J$101&\":\"&$D126&\".\"&E126&\".\"&F126&\".\"&G126","v":"Pasywa:B.I.2.1"},2,null,null,null,{"$f":"\" – \" & teksty!$D$535","v":" – długoterminowa"}]
[18,null,4,"B","I",{"$f":"F126","v":2},2,null,null,{"$f":"$J$101&\":\"&$D127&\".\"&E127&\".\"&F127&\".\"&G127","v":"Pasywa:B.I.2.2"},2,null,null,null,{"$f":"\" – \" & teksty!$D$536","v":" – krótkoterminowa"}]
[18,null,3,"B","I",3,null,null,null,{"$f":"$J$101&\":\"&$D128&\".\"&E128&\".\"&F128","v":"Pasywa:B.I.3"},3,null,null,{"$f":"K128","v":3},{"$f":"teksty!$D$537","v":"Pozostałe rezerwy"},null,null,null,null,null,null,{"$f":"V129+V130","v":0},{"$f":"W129+W130","v":0}]
[18,null,4,"B","I",{"$f":"F128","v":3},1,null,null,{"$f":"$J$101&\":\"&$D129&\".\"&E129&\".\"&F129&\".\"&G129","v":"Pasywa:B.I.3.1"},3,null,null,null,{"$f":"\" – \" & teksty!$D$538","v":" – długoterminowe"}]
[18,null,4,"B","I",{"$f":"F129","v":3},2,null,{"$f":"$N$101 & teksty!$D$284 & 1","v":"Pasywa, koniec strony 1"},{"$f":"$J$101&\":\"&$D130&\".\"&E130&\".\"&F130&\".\"&G130","v":"Pasywa:B.I.3.2"},3,null,null,null,{"$f":"\" – \" & teksty!$D$539","v":" – krótkoterminowe"}]
[18,"P",{"$f":"COUNTA(D131:H131)","v":3},"B","I",3,null,null,null,null,null,null,null,{"$f":"teksty!D549 & O122 &teksty!$D$418","v":"Pasywa (c.d. \"Zobowiązania i rezerwy na zobowiązania\")"},null,null,null,null,null,null,{"$f":"$U$5","v":""},{"$f":"$V$5","v":"Okres\nbieżący"},{"$f":"$W$5","v":"Okres\npoprzedni"},{"$f":"teksty!$D$292","v":"Przekszt. dane porów. za poprzedni okres"}]
[18,null,2,"B","II",null,null,null,null,{"$f":"$J$101&\":\"&$D132&\".\"&E132","v":"Pasywa:B.II"},{"$f":"E132","v":"II"},null,null,{"$f":"K132","v":"II"},{"$f":"teksty!$D$540","v":"Zobowiązania długoterminowe"},null,null,null,null,null,null,{"$f":"V133+V134+V135","v":0},{"$f":"W133+W134+W135","v":0},null,null,{"$f":"teksty!$D$285","v":"ukryty wiersz powyżej zawiera nagłówek dla kolejnej strony"}]
[18,null,3,"B",{"$f":"E132","v":"II"},1,null,null,null,{"$f":"$J$101&\":\"&$D133&\".\"&E133&\".\"&F133","v":"Pasywa:B.II.1"},{"$f":"F133","v":1},null,null,{"$f":"K133","v":1},{"$f":"teksty!$D$541","v":"Wobec jednostek powiązanych"}]
[18,null,3,{"$f":"D133","v":"B"},{"$f":"E133","v":"II"},2,null,null,null,{"$f":"$J$101&\":\"&$D134&\".\"&E134&\".\"&F134","v":"Pasywa:B.II.2"},{"$f":"F134","v":2},null,null,{"$f":"K134","v":2},{"$f":"teksty!$D$542","v":"Wobec pozostałych jednostek, w których jednostka posiada zaangażowanie w kapitale"}]
[18,null,3,"B","II",3,null,null,null,{"$f":"$J$101&\":\"&$D135&\".\"&E135&\".\"&F135","v":"Pasywa:B.II.3"},3,null,null,3,{"$f":"teksty!$D$543","v":"Wobec pozostałych jednostek"},null,null,null,null,null,null,{"$f":"V136+V137+V138+V139+V140","v":0},{"$f":"W136+W137+W138+W139+W140","v":0}]
[18,null,4,{"$f":"D135","v":"B"},"II",3,"a",null,null,{"$f":"$J$101&\":\"&$D136&\".\"&E136&\".\"&F136&\".\"&G136","v":"Pasywa:B.II.3.a"},{"$f":"G136 &\")\"","v":"a)"},null,null,"a)",{"$f":"teksty!$D$544","v":"kredyty i pożyczki"}]
[18,null,4,"B","II",3,"b",null,null,{"$f":"$J$101&\":\"&$D137&\".\"&E137&\".\"&F137&\".\"&G137","v":"Pasywa:B.II.3.b"},{"$f":"G137 &\")\"","v":"b)"},null,null,{"$f":"K137","v":"b)"},{"$f":"teksty!$D$545","v":"z tytułu emisji dłużnych papierów wartościowych"}]
[18,null,4,"B","II",3,"c",null,null,{"$f":"$J$101&\":\"&$D138&\".\"&E138&\".\"&F138&\".\"&G138","v":"Pasywa:B.II.3.c"},{"$f":"G138 &\")\"","v":"c)"},null,null,{"$f":"K138","v":"c)"},{"$f":"teksty!$D$546","v":"inne zobowiązania finansowe"}]
[18,null,4,{"$f":"D138","v":"B"},{"$f":"E138","v":"II"},{"$f":"F138","v":3},"d",null,null,{"$f":"$J$101&\":\"&$D139&\".\"&E139&\".\"&F139&\".\"&G139","v":"Pasywa:B.II.3.d"},{"$f":"G139 &\")\"","v":"d)"},null,null,{"$f":"K139","v":"d)"},{"$f":"teksty!$D$547","v":"zobowiązania wekslowe"}]
[18,null,4,"B","II",3,"e",null,null,{"$f":"$J$101&\":\"&$D140&\".\"&E140&\".\"&F140&\".\"&G140","v":"Pasywa:B.II.3.e"},"e)",null,null,"e)",{"$f":"teksty!$D$548","v":"inne"}]
[18,null,2,"B","III",null,null,null,null,{"$f":"$J$101&\":\"&$D141&\".\"&E141","v":"Pasywa:B.III"},{"$f":"E141","v":"III"},null,null,{"$f":"K141","v":"III"},{"$f":"teksty!$D$550","v":"Zobowiązania krótkoterminowe"},null,null,null,null,null,null,{"$f":"V142+V147+V152+V164","v":0},{"$f":"W142+W147+W152+W164","v":0}]
[18,null,3,{"$f":"D141","v":"B"},{"$f":"E141","v":"III"},1,null,null,null,{"$f":"$J$101&\":\"&$D142&\".\"&E142&\".\"&F142","v":"Pasywa:B.III.1"},{"$f":"F142","v":1},null,null,1,{"$f":"teksty!$D$551","v":"Zobowiązania wobec jednostek powiązanych"},null,null,null,null,null,null,{"$f":"V143+V146","v":0},{"$f":"W143+W146","v":0}]
[{"$f":"(2+16)","v":18},null,4,{"$f":"D142","v":"B"},"III",1,"a",null,null,{"$f":"$J$101&\":\"&$D143&\".\"&E143&\".\"&F143&\".\"&G143","v":"Pasywa:B.III.1.a"},{"$f":"G143 &\")\"","v":"a)"},null,null,"a)",{"$f":"teksty!$D$552","v":"z tytułu dostaw i usług, o okresie wymagalności:"},null,null,null,null,null,null,{"$f":"V144+V145","v":0},{"$f":"W144+W145","v":0}]
[18,null,5,"B","III",1,{"$f":"G143","v":"a"},1,null,{"$f":"$J$101&\":\"&$D144&\".\"&E144&\".\"&F144&\".\"&G144&\".\"&H144","v":"Pasywa:B.III.1.a.1"},{"$f":"H144 & \") \"","v":"1) "},null,null,null,{"$f":"$K$144&teksty!$D$553","v":"1) do 12 miesięcy"}]
[18,null,5,"B","III",1,{"$f":"G144","v":"a"},2,null,{"$f":"$J$101&\":\"&$D145&\".\"&E145&\".\"&F145&\".\"&G145&\".\"&H145","v":"Pasywa:B.III.1.a.2"},{"$f":"H145 & \") \"","v":"2) "},null,null,null,{"$f":"$K$145&teksty!$D$554","v":"2) powyżej 12 miesięcy"}]
[18,null,4,"B","III",1,"b",null,null,{"$f":"$J$101&\":\"&$D146&\".\"&E146&\".\"&F146&\".\"&G146","v":"Pasywa:B.III.1.b"},{"$f":"G146 &\")\"","v":"b)"},null,null,{"$f":"K146","v":"b)"},{"$f":"teksty!$D$555","v":"inne"}]
[18,null,3,{"$f":"D146","v":"B"},{"$f":"E146","v":"III"},2,null,null,null,{"$f":"$J$101&\":\"&$D147&\".\"&E147&\".\"&F147","v":"Pasywa:B.III.2"},{"$f":"F147","v":2},null,null,2,{"$f":"teksty!$D$556","v":"Zobowiązania wobec pozostałych jednostek, w których jednostka posiada zaangażowanie w kapitale"},null,null,null,null,null,null,{"$f":"V148+V151","v":0},{"$f":"W148+W151","v":0}]
[18,null,4,{"$f":"D147","v":"B"},"III",2,"a",null,null,{"$f":"$J$101&\":\"&$D148&\".\"&E148&\".\"&F148&\".\"&G148","v":"Pasywa:B.III.2.a"},{"$f":"G148 &\")\"","v":"a)"},null,null,"a)",{"$f":"teksty!$D$557","v":"z tytułu dostaw i usług, o okresie wymagalności:"},null,null,null,null,null,null,{"$f":"V149+V150","v":0},{"$f":"W149+W150","v":0}]
[18,null,5,"B","III",2,{"$f":"G148","v":"a"},1,null,{"$f":"$J$101&\":\"&$D149&\".\"&E149&\".\"&F149&\".\"&G149&\".\"&H149","v":"Pasywa:B.III.2.a.1"},{"$f":"H149 & \") \"","v":"1) "},null,null,null,{"$f":"$K$149&teksty!$D$558","v":"1) do 12 miesięcy"}]
[18,null,5,"B","III",2,{"$f":"G149","v":"a"},2,null,{"$f":"$J$101&\":\"&$D150&\".\"&E150&\".\"&F150&\".\"&G150&\".\"&H150","v":"Pasywa:B.III.2.a.2"},{"$f":"H150 & \") \"","v":"2) "},null,null,null,{"$f":"$K$150&teksty!$D$559","v":"2) powyżej 12 miesięcy"}]
[18,null,4,"B","III",2,"b",null,null,{"$f":"$J$101&\":\"&$D151&\".\"&E151&\".\"&F151&\".\"&G151","v":"Pasywa:B.III.2.b"},{"$f":"G151 &\")\"","v":"b)"},null,null,{"$f":"K151","v":"b)"},{"$f":"teksty!$D$560","v":"inne"}]
[18,null,3,{"$f":"D151","v":"B"},{"$f":"E151","v":"III"},3,null,null,null,{"$f":"$J$101&\":\"&$D152&\".\"&E152&\".\"&F152","v":"Pasywa:B.III.3"},{"$f":"F152","v":3},null,null,3,{"$f":"teksty!$D$561","v":"Zobowiązania wobec pozostałych jednostek"},null,null,null,null,null,null,{"$f":"V153+V154+V155+V156+V159+V160+V161+V162+V163","v":0},{"$f":"W153+W154+W155+W156+W159+W160+W161+W162+W163","v":0}]
[18,null,4,{"$f":"D152","v":"B"},"III",3,"a",null,null,{"$f":"$J$101&\":\"&$D153&\".\"&E153&\".\"&F153&\".\"&G153","v":"Pasywa:B.III.3.a"},{"$f":"G153 &\")\"","v":"a)"},null,null,{"$f":"K153","v":"a)"},{"$f":"teksty!$D$562","v":"kredyty i pożyczki"}]
[18,null,4,"B","III",3,"b",null,null,{"$f":"$J$101&\":\"&$D154&\".\"&E154&\".\"&F154&\".\"&G154","v":"Pasywa:B.III.3.b"},{"$f":"G154 &\")\"","v":"b)"},null,null,{"$f":"K154","v":"b)"},{"$f":"teksty!$D$563","v":"z tytułu emisji dłużnych papierów wartościowych"}]
[18,null,4,"B","III",3,"c",null,null,{"$f":"$J$101&\":\"&$D155&\".\"&E155&\".\"&F155&\".\"&G155","v":"Pasywa:B.III.3.c"},{"$f":"G155 &\")\"","v":"c)"},null,null,{"$f":"K155","v":"c)"},{"$f":"teksty!$D$564","v":"inne zobowiązania finansowe"}]
[18,null,4,"B","III",3,"d",null,null,{"$f":"$J$101&\":\"&$D156&\".\"&E156&\".\"&F156&\".\"&G156","v":"Pasywa:B.III.3.d"},{"$f":"G156 &\")\"","v":"d)"},null,null,{"$f":"K156","v":"d)"},{"$f":"teksty!$D$565","v":"z tytułu dostaw i usług, o okresie wymagalności:"},null,null,null,null,null,null,{"$f":"V157+V158","v":0},{"$f":"W157+W158","v":0}]
[18,null,5,"B","III",3,{"$f":"G156","v":"d"},1,null,{"$f":"$J$101&\":\"&$D157&\".\"&E157&\".\"&F157&\".\"&G157&\".\"&H157","v":"Pasywa:B.III.3.d.1"},{"$f":"H157 & \") \"","v":"1) "},null,null,null,{"$f":"$K$157&teksty!$D$566","v":"1) do 12 miesięcy"}]
[18,null,5,"B","III",3,{"$f":"G157","v":"d"},2,null,{"$f":"$J$101&\":\"&$D158&\".\"&E158&\".\"&F158&\".\"&G158&\".\"&H158","v":"Pasywa:B.III.3.d.2"},{"$f":"H158 & \") \"","v":"2) "},null,null,null,{"$f":"$K$158&teksty!$D$567","v":"2) powyżej 12 miesięcy"}]
[18,null,4,"B","III",3,"e",null,null,{"$f":"$J$101&\":\"&$D159&\".\"&E159&\".\"&F159&\".\"&G159","v":"Pasywa:B.III.3.e"},{"$f":"G159 &\")\"","v":"e)"},null,null,{"$f":"K159","v":"e)"},{"$f":"teksty!$D$568","v":"zaliczki otrzymane na dostawy i usługi"}]
[18,null,4,"B","III",3,"f",null,null,{"$f":"$J$101&\":\"&$D160&\".\"&E160&\".\"&F160&\".\"&G160","v":"Pasywa:B.III.3.f"},{"$f":"G160 &\")\"","v":"f)"},null,null,{"$f":"K160","v":"f)"},{"$f":"teksty!$D$569","v":"zobowiązania wekslowe"}]
[18,null,4,{"$f":"D160","v":"B"},{"$f":"E160","v":"III"},{"$f":"F160","v":3},"g",null,null,{"$f":"$J$101&\":\"&$D161&\".\"&E161&\".\"&F161&\".\"&G161","v":"Pasywa:B.III.3.g"},{"$f":"G161 &\")\"","v":"g)"},null,null,{"$f":"K161","v":"g)"},{"$f":"teksty!$D$570","v":"z tytułu podatków, ceł, ubezpieczeń społecznych i zdrowotnych oraz innych tytułów publicznoprawnych"}]
[18,null,4,"B","III",3,"h",null,null,{"$f":"$J$101&\":\"&$D162&\".\"&E162&\".\"&F162&\".\"&G162","v":"Pasywa:B.III.3.h"},"h)",null,null,"h)",{"$f":"teksty!$D$571","v":"z tytułu wynagrodzeń"}]
[18,null,4,{"$f":"D162","v":"B"},{"$f":"E162","v":"III"},{"$f":"F162","v":3},"i",null,null,{"$f":"$J$101&\":\"&$D163&\".\"&E163&\".\"&F163&\".\"&G163","v":"Pasywa:B.III.3.i"},{"$f":"G163 &\")\"","v":"i)"},null,null,{"$f":"K163","v":"i)"},{"$f":"teksty!$D$572","v":"inne"}]
[18,null,3,"B","III",4,null,null,{"$f":"$N$101 & teksty!$D$284 & 2","v":"Pasywa, koniec strony 2"},{"$f":"$J$101&\":\"&$D164&\".\"&E164&\".\"&F164","v":"Pasywa:B.III.4"},{"$f":"F164","v":4},null,null,4,{"$f":"teksty!$D$573","v":"Fundusze specjalne"}]
[18,"P",{"$f":"COUNTA(D165:H165)","v":3},"B","III",4,null,null,null,{"$f":"$J$101&\":\"&$D165&\".\"&E165&\".\"&F165","v":"Pasywa:B.III.4"},4,null,null,{"$f":"teksty!D549 & O122 &teksty!$D$418","v":"Pasywa (c.d. \"Zobowiązania i rezerwy na zobowiązania\")"},null,null,null,null,null,null,{"$f":"$U$5","v":""},{"$f":"$V$5","v":"Okres\nbieżący"},{"$f":"$W$5","v":"Okres\npoprzedni"},{"$f":"teksty!$D$292","v":"Przekszt. dane porów. za poprzedni okres"}]
[18,null,2,{"$f":"D164","v":"B"},"IV",null,null,null,null,{"$f":"$J$101&\":\"&$D166&\".\"&E166","v":"Pasywa:B.IV"},{"$f":"E166","v":"IV"},null,null,"IV",{"$f":"teksty!$D$574","v":"Rozliczenia międzyokresowe"},null,null,null,null,null,null,{"$f":"V167+V168","v":0},{"$f":"W167+W168","v":0},null,null,{"$f":"teksty!$D$285","v":"ukryty wiersz powyżej zawiera nagłówek dla kolejnej strony"}]
[18,null,3,{"$f":"D166","v":"B"},{"$f":"E166","v":"IV"},1,null,null,null,{"$f":"$J$101&\":\"&$D167&\".\"&E167&\".\"&F167","v":"Pasywa:B.IV.1"},{"$f":"F167","v":1},null,null,{"$f":"K167","v":1},{"$f":"teksty!$D$575","v":"Ujemna wartość firmy"}]
[18,null,3,{"$f":"D167","v":"B"},{"$f":"E167","v":"IV"},2,null,null,null,{"$f":"$J$101&\":\"&$D168&\".\"&E168&\".\"&F168","v":"Pasywa:B.IV.2"},{"$f":"F168","v":2},null,null,{"$f":"K168","v":2},{"$f":"teksty!$D$576","v":"Inne rozliczenia międzyokresowe"},null,null,null,null,null,null,{"$f":"V169+V170+V171","v":0},{"$f":"W169+W170+W171","v":0}]
[18,null,4,{"$f":"D168","v":"B"},"IV",2,1,null,null,{"$f":"$J$101&\":\"&$D169&\".\"&E169&\".\"&F169&\".\"&G169","v":"Pasywa:B.IV.2.1"},{"$f":"F169","v":2},null,null,null,{"$f":"\" – \" & teksty!$D$577","v":" – długoterminowe"}]
[18,null,4,"B","IV",2,2,null,null,{"$f":"$J$101&\":\"&$D170&\".\"&E170&\".\"&F170&\".\"&G170","v":"Pasywa:B.IV.2.2"},{"$f":"F170","v":2},null,null,null,{"$f":"\" – \" & teksty!$D$578","v":" – krótkoterminowe"}]
[18,null,4,"B","IV",2,3,null,null,{"$f":"$J$101&\":\"&$D171&\".\"&E171&\".\"&F171&\".\"&G171","v":"Pasywa:B.IV.2.3"},{"$f":"F171","v":2},null,null,null,{"$f":"\" – \" & teksty!$D$579","v":" – rozliczenia międzyokresowe umów budowlanych"}]
[18,null,0,null,null,null,null,null,null,null,null,null,null,null,{"$f":"teksty!$D$580","v":"Pasywa razem (suma pozycji A i B)"},null,null,null,null,null,null,{"$f":"V122+V102","v":0},{"$f":"W122+W102","v":0},null,null,{"$f":"IF(WrfKwot,IF(AND(AF172=0,AG172=0,AH172=0),\"=\",\"!\"),\"\")","v":""},{"$f":"teksty!$D$420 & \":\"","v":"Aktywa:"},{"$f":"V97","v":0},{"$f":"W97","v":0},{"$f":"X97","v":0},null,{"$f":"ROUND(V172-AB172,2)","v":0},{"$f":"ROUND(W172-AC172,2)","v":0},{"$f":"ROUND(X172-AD172,2)","v":0}]
[18,null,0]
[18,null,0]
[{"$f":"4","v":4},null,0,null,null,null,null,null,null,"JednostkaMala",null,null,null,{"$f":"teksty!$D$420","v":"Aktywa"},null,null,null,null,null,null,{"$f":"$U$5","v":""},{"$f":"$V$5","v":"Okres\nbieżący"},{"$f":"$W$5","v":"Okres\npoprzedni"},{"$f":"teksty!$D$292","v":"Przekszt. dane porów. za poprzedni okres"}]
[{"$f":"4","v":4},null,{"$f":"COUNTA(D176:H176)","v":1},"A",null,null,null,null,null,{"$f":"$J$3&\":\"&$D176","v":"Aktywa:A"},{"$f":"D176","v":"A"},null,null,{"$f":"K176","v":"A"},{"$f":"teksty!$D$421","v":"Aktywa trwałe"},null,null,null,null,null,null,{"$f":"V177+V178+V181+V182+V185","v":0},{"$f":"W177+W178+W181+W182+W185","v":0}]
[{"$f":"4","v":4},null,{"$f":"COUNTA(D177:H177)","v":2},{"$f":"D176","v":"A"},"I",null,null,null,null,{"$f":"$J$3&\":\"&$D177&\".\"&E177","v":"Aktywa:A.I"},{"$f":"E177","v":"I"},null,null,{"$f":"K177","v":"I"},{"$f":"teksty!$D$422","v":"Wartości niematerialne i prawne"}]
[{"$f":"4","v":4},null,2,"A","II",null,null,null,null,{"$f":"$J$3&\":\"&$D178&\".\"&E178","v":"Aktywa:A.II"},{"$f":"E178","v":"II"},null,null,{"$f":"K178","v":"II"},{"$f":"teksty!$D$427 & inc","v":"Rzeczowe aktywa trwałe, w tym:"}]
[{"$f":"4","v":4},null,3,"A",{"$f":"E178","v":"II"},1,null,null,null,{"$f":"$J$3&\":\"&$D179&\".\"&E179&\".\"&F179","v":"Aktywa:A.II.1"},{"$f":"F179","v":1},null,null,null,{"$f":"\" – \" & LOWER(teksty!$D$428)","v":" – środki trwałe"}]
[{"$f":"4","v":4},null,{"$f":"COUNTA(D180:H180)","v":3},"A","II",2,null,null,null,{"$f":"$J$3&\":\"&$D180&\".\"&E180&\".\"&F180","v":"Aktywa:A.II.2"},{"$f":"F180","v":2},null,null,null,{"$f":"\" – \" &  LOWER(teksty!$D$434)","v":" – środki trwałe w budowie"}]
[{"$f":"4","v":4},null,2,"A","III",null,null,null,null,{"$f":"$J$3&\":\"&$D181&\".\"&E181","v":"Aktywa:A.III"},{"$f":"E181","v":"III"},null,null,"III",{"$f":"teksty!$D$436","v":"Należności długoterminowe"}]
[{"$f":"4","v":4},null,{"$f":"COUNTA(D182:H182)","v":2},"A","IV",null,null,null,null,{"$f":"$J$3&\":\"&$D182&\".\"&E182","v":"Aktywa:A.IV"},{"$f":"E182","v":"IV"},null,null,"IV",{"$f":"teksty!$D$440 & inc","v":"Inwestycje długoterminowe, w tym:"}]
[{"$f":"4","v":4},null,3,{"$f":"D182","v":"A"},"IV",1,null,null,null,{"$f":"$J$3&\":\"&$D183&\".\"&E183&\".\"&F183","v":"Aktywa:A.IV.1"},{"$f":"F183","v":1},null,null,null,{"$f":"\" – \" & LOWER(teksty!$D$441)","v":" – nieruchomości"}]
[{"$f":"4","v":4},null,3,"A","IV",2,null,null,null,{"$f":"$J$3&\":\"&$D184&\".\"&E184&\".\"&F184","v":"Aktywa:A.IV.2"},{"$f":"F184","v":2},null,null,null,{"$f":"\" – \" & LOWER(teksty!$D$443)","v":" – długoterminowe aktywa finansowe"}]
[{"$f":"4","v":4},null,2,{"$f":"D184","v":"A"},"V",null,null,null,null,{"$f":"$J$3&\":\"&$D185&\".\"&E185","v":"Aktywa:A.V"},{"$f":"E185","v":"V"},null,null,{"$f":"K185","v":"V"},{"$f":"teksty!$D$461","v":"Długoterminowe rozliczenia międzyokresowe"}]
[{"$f":"4","v":4},null,1,"B",null,null,null,null,null,{"$f":"$J$3&\":\"&$D186","v":"Aktywa:B"},{"$f":"D186","v":"B"},null,null,"B",{"$f":"teksty!$D$464","v":"Aktywa obrotowe"},null,null,null,null,null,null,{"$f":"V187+V188+V192+V195","v":0},{"$f":"W187+W188+W192+W195","v":0}]
[{"$f":"4","v":4},null,2,{"$f":"D186","v":"B"},"I",null,null,null,null,{"$f":"$J$3&\":\"&$D187&\".\"&E187","v":"Aktywa:B.I"},{"$f":"E187","v":"I"},null,null,"I",{"$f":"teksty!$D$465","v":"Zapasy"}]
[{"$f":"4","v":4},null,2,"B","II",null,null,null,null,{"$f":"$J$3&\":\"&$D188&\".\"&E188","v":"Aktywa:B.II"},{"$f":"E188","v":"II"},null,null,"II",{"$f":"teksty!$D$472 & inc","v":"Należności krótkoterminowe, w tym:"}]
[{"$f":"4","v":4},null,{"$f":"COUNTA(D189:G189)","v":3},"B","II","a",null,null,null,{"$f":"$J$3&\":\"&$D189&\".\"&E189&\".\"&F189","v":"Aktywa:B.II.a"},{"$f":"F189 &\")\"","v":"a)"},null,null,"a)",{"$f":"teksty!$D$474","v":"z tytułu dostaw i usług, o okresie spłaty:"},null,null,null,null,null,null,{"$f":"V190+V191","v":0},{"$f":"W190+W191","v":0}]
[{"$f":"4","v":4},null,{"$f":"COUNTA(D190:G190)","v":4},"B",{"$f":"E189","v":"II"},{"$f":"F189","v":"a"},1,null,null,{"$f":"$J$3&\":\"&$D190&\".\"&E190&\".\"&F190&\".\"&G190","v":"Aktywa:B.II.a.1"},{"$f":"G190 & \") \"","v":"1) "},null,null,null,{"$f":"\" – \" & teksty!$D$475","v":" – do 12 miesięcy"}]
[{"$f":"4","v":4},null,{"$f":"COUNTA(D191:G191)","v":4},"B",{"$f":"E190","v":"II"},{"$f":"F190","v":"a"},2,null,null,{"$f":"$J$3&\":\"&$D191&\".\"&E191&\".\"&F191&\".\"&G191","v":"Aktywa:B.II.a.2"},{"$f":"G191 & \") \"","v":"2) "},null,null,null,{"$f":"\" – \" & teksty!$D$476","v":" – powyżej 12 miesięcy"}]
[{"$f":"4","v":4},null,2,"B","III",null,null,null,null,{"$f":"$J$3&\":\"&$D192&\".\"&E192","v":"Aktywa:B.III"},{"$f":"E192","v":"III"},null,null,{"$f":"K192","v":"III"},{"$f":"teksty!$D$491 & inc","v":"Inwestycje krótkoterminowe, w tym:"}]
[{"$f":"4","v":4},null,3,{"$f":"D192","v":"B"},"III","a",null,null,null,{"$f":"$J$3&\":\"&$D193&\".\"&E193&\".\"&F193","v":"Aktywa:B.III.a"},{"$f":"F193 &\")\"","v":"a)"},null,null,"a)",{"$f":"teksty!$D$492 & inc","v":"Krótkoterminowe aktywa finansowe, w tym:"}]
[{"$f":"4","v":4},null,4,"B","III","a",1,null,null,{"$f":"$J$3&\":\"&$D194&\".\"&E194&\".\"&F194&\".\"&G194","v":"Aktywa:B.III.a.1"},{"$f":"G194 &\")\"","v":"1)"},null,null,null,{"$f":"\" – \" &teksty!$D$504","v":" – środki pieniężne w kasie i na rachunkach"}]
[{"$f":"4","v":4},null,2,"B","IV",null,null,null,null,{"$f":"$J$3&\":\"&$D195&\".\"&E195","v":"Aktywa:B.IV"},{"$f":"E195","v":"IV"},null,null,{"$f":"K195","v":"IV"},{"$f":"teksty!$D$508","v":"Krótkoterminowe rozliczenia międzyokresowe"}]
[{"$f":"4","v":4},null,1,"C",null,null,null,null,null,{"$f":"$J$3&\":\"&$D196","v":"Aktywa:C"},{"$f":"D196","v":"C"},null,null,"C",{"$f":"teksty!$D$510","v":"Należne wpłaty na kapitał (fundusz) podstawowy"}]
[{"$f":"4","v":4},null,1,"D",null,null,null,null,null,{"$f":"$J$3&\":\"&$D197","v":"Aktywa:D"},{"$f":"D197","v":"D"},null,null,"D",{"$f":"teksty!$D$511","v":"Udziały (akcje) własne"}]
[{"$f":"4","v":4},null,0,null,null,null,null,null,null,null,null,null,null,null,{"$f":"teksty!$D$512","v":"Aktywa razem (suma pozycji A, B, C i D)"},null,null,null,null,null,null,{"$f":"V197+V196+V186+V176","v":0},{"$f":"W197+W196+W186+W176","v":0},null,null,{"$f":"IF(WrfKwot,IF(AND(AF198=0,AG198=0,AH198=0),\"=\",\"!\"),\"\")","v":""},{"$f":"teksty!$D$514 & \":\"","v":"Pasywa:"},{"$f":"V233","v":0},{"$f":"W233","v":0},{"$f":"X233","v":0},null,{"$f":"ROUND(V198-AB198,2)","v":0},{"$f":"ROUND(W198-AC198,2)","v":0},0]
[{"$f":"4","v":4},null,0]
[{"$f":"4","v":4},null,0,null,null,null,null,null,{"$f":"M2 & teksty!$D$284 & 1","v":"Bilans, koniec strony 1"}]
[{"$f":"4","v":4},"P",0]
[{"$f":"4","v":4},null,0,null,null,null,null,null,null,null,null,null,null,{"$f":"teksty!$D$514","v":"Pasywa"},null,null,null,null,null,null,{"$f":"$U$5","v":""},{"$f":"$V$5","v":"Okres\nbieżący"},{"$f":"$W$5","v":"Okres\npoprzedni"},{"$f":"teksty!$D$292","v":"Przekszt. dane porów. za poprzedni okres"}]
[{"$f":"4","v":4},null,1,"A",null,null,null,null,null,{"$f":"$J$101&\":\"&$D203","v":"Pasywa:A"},{"$f":"D203","v":"A"},null,null,{"$f":"K203","v":"A"},{"$f":"teksty!$D$515","v":"Kapitał (fundusz) własny"},null,null,null,null,null,null,{"$f":"V204+V205+V209+V211+V214+V219+V220","v":0},{"$f":"W204+W205+W209+W211+W214+W219+W220","v":0}]
[{"$f":"4","v":4},null,{"$f":"COUNTA(D204:H204)","v":2},{"$f":"D203","v":"A"},"I",null,null,null,null,{"$f":"$J$101&\":\"&$D204&\".\"&E204","v":"Pasywa:A.I"},{"$f":"E204","v":"I"},null,null,"I",{"$f":"teksty!$D$516","v":"Kapitał (fundusz) podstawowy"}]
[{"$f":"4","v":4},null,2,"A","II",null,null,null,null,{"$f":"$J$101&\":\"&$D205&\".\"&E205","v":"Pasywa:A.II"},{"$f":"E205","v":"II"},null,null,"II",{"$f":"teksty!$D$517","v":"Kapitał (fundusz) zapasowy, w tym:"}]
[{"$f":"4","v":4},null,3,"A",{"$f":"E205","v":"II"},1,null,null,null,{"$f":"$J$101&\":\"&$D206&\".\"&E206&\".\"&F206","v":"Pasywa:A.II.1"},{"$f":"F206","v":1},null,null,null,{"$f":"\" – \" & teksty!$D$518","v":" – nadwyżka wartości sprzedaży (wartości emisyjnej) nad wartością nominalną udziałów (akcji)"}]
[{"$f":"4","v":4},null,{"$f":"COUNTA(D207:H207)","v":3},"A",{"$f":"E206","v":"II"},2,null,null,null,{"$f":"$J$101&\":\"&$D207&\".\"&E207&\".\"&F207","v":"Pasywa:A.II.2"},{"$f":"F207","v":2},null,null,null,{"$f":"\" – \" & teksty!$D$519","v":" – kwota zysku wypracowanego w latach przed opodatkowaniem ryczałtem"}]
[4,null,3,"A","II",3,null,null,null,"Pasywa:A.II.3",3,null,null,null,{"$f":"IF($O$207 = \" – \" & teksty!$D$519,\" – \" & teksty!$D$1002,\"\")","v":" – kwota zysku wypracowanego w latach opodatkowania ryczałtem"}]
[{"$f":"4","v":4},null,2,{"$f":"D206","v":"A"},"III",null,null,null,null,{"$f":"$J$101&\":\"&$D209&\".\"&E209","v":"Pasywa:A.III"},{"$f":"E209","v":"III"},null,null,{"$f":"K209","v":"III"},{"$f":"teksty!$D$520","v":"Kapitał (fundusz) z aktualizacji wyceny, w tym:"}]
[{"$f":"4","v":4},null,3,"A",{"$f":"E209","v":"III"},1,null,null,null,{"$f":"$J$101&\":\"&$D210&\".\"&E210&\".\"&F210","v":"Pasywa:A.III.1"},{"$f":"F210","v":1},null,null,null,{"$f":"\" – \" & teksty!$D$521","v":" – z tytułu aktualizacji wartości godziwej"}]
[{"$f":"4","v":4},null,2,"A","IV",null,null,null,null,{"$f":"$J$101&\":\"&$D211&\".\"&E211","v":"Pasywa:A.IV"},{"$f":"E211","v":"IV"},null,null,{"$f":"K211","v":"IV"},{"$f":"teksty!$D$522","v":"Pozostałe kapitały (fundusze) rezerwowe, w tym:"}]
[{"$f":"4","v":4},null,3,"A",{"$f":"E211","v":"IV"},1,null,null,null,{"$f":"$J$101&\":\"&$D212&\".\"&E212&\".\"&F212","v":"Pasywa:A.IV.1"},{"$f":"F212","v":1},null,null,null,{"$f":"\" – \" & teksty!$D$525","v":" – kwota zysku wypracowanego w latach przed opodatkowaniem ryczałtem"}]
[4,null,3,"A","IV",2,null,null,null,{"$f":"$J$101&\":\"&$D213&\".\"&E213&\".\"&F213","v":"Pasywa:A.IV.2"},{"$f":"F213","v":2},null,null,null,{"$f":"IF($O$212 = \" – \" & teksty!$D$525,\" – \" & teksty!$D$1003,\"\")","v":" – kwota zysku wypracowanego w latach opodatkowania ryczałtem"}]
[{"$f":"4","v":4},null,2,{"$f":"D211","v":"A"},"V",null,null,null,null,{"$f":"$J$101&\":\"&$D214&\".\"&E214","v":"Pasywa:A.V"},{"$f":"E214","v":"V"},null,null,{"$f":"K214","v":"V"},{"$f":"teksty!$D$526","v":"Zysk (strata) z lat ubiegłych, w tym:"}]
[{"$f":"4","v":4},null,{"$f":"COUNTA(D215:H215)","v":3},"A",{"$f":"E214","v":"V"},1,null,null,null,{"$f":"$J$101&\":\"&$D215&\".\"&E215&\".\"&F215","v":"Pasywa:A.V.1"},{"$f":"F215","v":1},null,null,null,{"$f":"\" – \" & teksty!$D$527","v":" – kwota niepodzielonych zysków w latach przed opodatkowaniem ryczałtem"}]
[4,null,3,"A","V",2,null,null,null,{"$f":"$J$101&\":\"&$D216&\".\"&E216&\".\"&F216","v":"Pasywa:A.V.2"},{"$f":"F216","v":2},null,null,null,{"$f":"IF($O$215 = \" – \" & teksty!$D$527,\" – \" & teksty!$D$528,\"\")","v":" – kwota niepokrytych strat poniesionych w latach przed opodatkowaniem ryczałtem"}]
[{"$f":"4","v":4},null,{"$f":"COUNTA(D217:H217)","v":3},{"$f":"D215","v":"A"},{"$f":"E215","v":"V"},3,null,null,null,"Pasywa:A.V.3",3,null,null,null,{"$f":"IF($O$215 = \" – \" & teksty!$D$527,\" – \" & teksty!$D$1004,\"\")","v":" – kwota niepodzielonych zysków z lat opodatkowania ryczałtem"}]
[4,null,3,"A","V",4,null,null,null,"Pasywa:A.V.4",4,null,null,null,{"$f":"IF($O$215 = \" – \" & teksty!$D$527,\" – \" & teksty!$D$1005,\"\")","v":" – kwota niepokrytych strat poniesionych w latach opodatkowania ryczałtem"}]
[{"$f":"4","v":4},null,2,{"$f":"D214","v":"A"},"VI",null,null,null,null,{"$f":"$J$101&\":\"&$D219&\".\"&E219","v":"Pasywa:A.VI"},{"$f":"E219","v":"VI"},null,null,"VI",{"$f":"teksty!$D$529","v":"Zysk (strata) netto"}]
[{"$f":"4","v":4},null,2,"A","VII",null,null,null,null,{"$f":"$J$101&\":\"&$D220&\".\"&E220","v":"Pasywa:A.VII"},{"$f":"E220","v":"VII"},null,null,"VII",{"$f":"teksty!$D$530","v":"Odpisy z zysku netto w ciągu roku obrotowego (wielkość ujemna)"}]
[{"$f":"4","v":4},null,1,"B",null,null,null,null,null,{"$f":"$J$101&\":\"&$D221","v":"Pasywa:B"},{"$f":"D221","v":"B"},null,null,"B",{"$f":"teksty!$D$531","v":"Zobowiązania i rezerwy na zobowiązania"},null,null,null,null,null,null,{"$f":"V222+V224+V226+V232","v":0},{"$f":"W222+W224+W226+W232","v":0}]
[{"$f":"4","v":4},null,2,{"$f":"D221","v":"B"},"I",null,null,null,null,{"$f":"$J$101&\":\"&$D222&\".\"&E222","v":"Pasywa:B.I"},{"$f":"E222","v":"I"},null,null,"I",{"$f":"teksty!$D$532 & inc","v":"Rezerwy na zobowiązania, w tym:"}]
[{"$f":"4","v":4},null,3,"B","I",1,null,null,null,{"$f":"$J$101&\":\"&$D223&\".\"&E223&\".\"&F223","v":"Pasywa:B.I.1"},{"$f":"F223","v":1},null,null,null,{"$f":"\" – \" & LOWER(teksty!$D$534)","v":" – rezerwa na świadczenia emerytalne i podobne"}]
[{"$f":"4","v":4},null,2,"B","II",null,null,null,null,{"$f":"$J$101&\":\"&$D224&\".\"&E224","v":"Pasywa:B.II"},{"$f":"E224","v":"II"},null,null,{"$f":"K224","v":"II"},{"$f":"teksty!$D$540 & inc","v":"Zobowiązania długoterminowe, w tym:"}]
[{"$f":"4","v":4},null,3,"B","II",1,null,null,null,{"$f":"$J$101&\":\"&$D225&\".\"&E225&\".\"&F225","v":"Pasywa:B.II.1"},1,null,null,null,{"$f":"\" – \" & teksty!$D$544","v":" – kredyty i pożyczki"}]
[{"$f":"4","v":4},null,2,"B","III",null,null,null,null,{"$f":"$J$101&\":\"&$D226&\".\"&E226","v":"Pasywa:B.III"},{"$f":"E226","v":"III"},null,null,{"$f":"K226","v":"III"},{"$f":"teksty!$D$550 & inc","v":"Zobowiązania krótkoterminowe, w tym:"}]
[{"$f":"4","v":4},null,3,{"$f":"D226","v":"B"},"III","a",null,null,null,{"$f":"$J$101&\":\"&$D227&\".\"&E227&\".\"&F227","v":"Pasywa:B.III.a"},{"$f":"F227 & \")\"","v":"a)"},null,null,{"$f":"K227","v":"a)"},{"$f":"teksty!$D$562","v":"kredyty i pożyczki"}]
[{"$f":"4","v":4},null,3,"B","III","b",null,null,null,{"$f":"$J$101&\":\"&$D228&\".\"&E228&\".\"&F228","v":"Pasywa:B.III.b"},{"$f":"F228 & \")\"","v":"b)"},null,null,"b)",{"$f":"teksty!$D$565","v":"z tytułu dostaw i usług, o okresie wymagalności:"},null,null,null,null,null,null,{"$f":"V229+V230","v":0},{"$f":"W229+W230","v":0}]
[{"$f":"4","v":4},null,{"$f":"COUNTA(D229:G229)","v":4},{"$f":"D228","v":"B"},"III","b",1,null,null,{"$f":"$J$101&\":\"&$D229&\".\"&E229&\".\"&F229&\".\"&G229","v":"Pasywa:B.III.b.1"},{"$f":"G229 & \") \"","v":"1) "},null,null,null,{"$f":"\" – \" & teksty!$D$566","v":" – do 12 miesięcy"}]
[{"$f":"4","v":4},null,{"$f":"COUNTA(D230:G230)","v":4},{"$f":"D229","v":"B"},"III","b",2,null,null,{"$f":"$J$101&\":\"&$D230&\".\"&E230&\".\"&F230&\".\"&G230","v":"Pasywa:B.III.b.2"},{"$f":"G230 & \") \"","v":"2) "},null,null,null,{"$f":"\" – \" & teksty!$D$567","v":" – powyżej 12 miesięcy"}]
[{"$f":"4","v":4},null,3,"B","III","c",null,null,null,{"$f":"$J$101&\":\"&$D231&\".\"&E231&\".\"&F231","v":"Pasywa:B.III.c"},{"$f":"F231 & \")\"","v":"c)"},null,null,{"$f":"K231","v":"c)"},{"$f":"LOWER(teksty!$D$573)","v":"fundusze specjalne"}]
[{"$f":"4","v":4},null,2,{"$f":"D231","v":"B"},"IV",null,null,null,null,{"$f":"$J$101&\":\"&$D232&\".\"&E232","v":"Pasywa:B.IV"},{"$f":"E232","v":"IV"},null,null,{"$f":"K232","v":"IV"},{"$f":"teksty!$D$574","v":"Rozliczenia międzyokresowe"}]
[{"$f":"4","v":4},null,0,null,null,null,null,null,null,null,null,null,null,null,{"$f":"teksty!$D$580","v":"Pasywa razem (suma pozycji A i B)"},null,null,null,null,null,null,{"$f":"V221+V203","v":0},{"$f":"W221+W203","v":0},null,null,{"$f":"IF(WrfKwot,IF(AND(AF233=0,AG233=0,AH233=0),\"=\",\"!\"),\"\")","v":""},{"$f":"teksty!$D$420 & \":\"","v":"Aktywa:"},{"$f":"V198","v":0},{"$f":"W198","v":0},{"$f":"X198","v":0},null,{"$f":"ROUND(V233-AB233,2)","v":0},{"$f":"ROUND(W233-AC233,2)","v":0},0]
[{"$f":"4","v":4}]
[{"$f":"4","v":4}]
[{"$f":"32","v":32},null,null,null,null,null,null,null,null,"Jednostka Op",null,null,null,{"$f":"teksty!$D$420","v":"Aktywa"},null,null,null,null,null,null,{"$f":"$U$5","v":""},{"$f":"$V$5","v":"Okres\nbieżący"},{"$f":"$W$5","v":"Okres\npoprzedni"},{"$f":"teksty!$D$292","v":"Przekszt. dane porów. za poprzedni okres"}]
[{"$f":"32","v":32},null,{"$f":"COUNTA(D237:H237)","v":1},"A",null,null,null,null,null,{"$f":"$J$3&\":\"&$D237","v":"Aktywa:A"},{"$f":"D237","v":"A"},null,null,{"$f":"K237","v":"A"},{"$f":"teksty!$D$421","v":"Aktywa trwałe"},null,null,null,null,null,null,{"$f":"V238+V239+V240+V241+V242","v":0},{"$f":"W238+W239+W240+W241+W242","v":0}]
[{"$f":"32","v":32},null,{"$f":"COUNTA(D238:H238)","v":2},{"$f":"D237","v":"A"},"I",null,null,null,null,{"$f":"$J$3&\":\"&$D238&\".\"&E238","v":"Aktywa:A.I"},{"$f":"E238","v":"I"},null,null,{"$f":"K238","v":"I"},{"$f":"teksty!$D$422","v":"Wartości niematerialne i prawne"}]
[{"$f":"32","v":32},null,2,{"$f":"D238","v":"A"},"II",null,null,null,null,{"$f":"$J$3&\":\"&$D239&\".\"&E239","v":"Aktywa:A.II"},{"$f":"E239","v":"II"},null,null,{"$f":"K239","v":"II"},{"$f":"teksty!$D$427","v":"Rzeczowe aktywa trwałe"}]
[{"$f":"32","v":32},null,2,"A","III",null,null,null,null,{"$f":"$J$3&\":\"&$D240&\".\"&E240","v":"Aktywa:A.III"},{"$f":"E240","v":"III"},null,null,{"$f":"K240","v":"III"},{"$f":"teksty!$D$436","v":"Należności długoterminowe"}]
[{"$f":"32","v":32},null,2,{"$f":"D240","v":"A"},"IV",null,null,null,null,{"$f":"$J$3&\":\"&$D241&\".\"&E241","v":"Aktywa:A.IV"},{"$f":"E241","v":"IV"},null,null,"IV",{"$f":"teksty!$D$440","v":"Inwestycje długoterminowe"}]
[{"$f":"32","v":32},null,2,"A","V",null,null,null,null,{"$f":"$J$3&\":\"&$D242&\".\"&E242","v":"Aktywa:A.V"},{"$f":"E242","v":"V"},null,null,{"$f":"K242","v":"V"},{"$f":"teksty!$D$461","v":"Długoterminowe rozliczenia międzyokresowe"}]
[{"$f":"32","v":32},null,1,"B",null,null,null,null,null,{"$f":"$J$3&\":\"&$D243","v":"Aktywa:B"},{"$f":"D243","v":"B"},null,null,"B",{"$f":"teksty!$D$464","v":"Aktywa obrotowe"},null,null,null,null,null,null,{"$f":"V244+V245+V246+V247","v":0},{"$f":"W244+W245+W246+W247","v":0}]
[{"$f":"32","v":32},null,2,{"$f":"D243","v":"B"},"I",null,null,null,null,{"$f":"$J$3&\":\"&$D244&\".\"&E244","v":"Aktywa:B.I"},{"$f":"E244","v":"I"},null,null,"I",{"$f":"teksty!$D$465","v":"Zapasy"}]
[{"$f":"32","v":32},null,2,{"$f":"D244","v":"B"},"II",null,null,null,null,{"$f":"$J$3&\":\"&$D245&\".\"&E245","v":"Aktywa:B.II"},{"$f":"E245","v":"II"},null,null,"II",{"$f":"teksty!$D$472","v":"Należności krótkoterminowe"}]
[{"$f":"32","v":32},null,{"$f":"COUNTA(D246:H246)","v":2},"B","III",null,null,null,null,{"$f":"$J$3&\":\"&$D246&\".\"&E246","v":"Aktywa:B.III"},{"$f":"E246","v":"III"},null,null,{"$f":"K246","v":"III"},{"$f":"teksty!$D$491","v":"Inwestycje krótkoterminowe"}]
[{"$f":"32","v":32},null,2,"B","IV",null,null,null,null,{"$f":"$J$3&\":\"&$D247&\".\"&E247","v":"Aktywa:B.IV"},{"$f":"E247","v":"IV"},null,null,{"$f":"K247","v":"IV"},{"$f":"teksty!$D$508","v":"Krótkoterminowe rozliczenia międzyokresowe"}]
[{"$f":"32","v":32},null,1,"C",null,null,null,null,null,{"$f":"$J$3&\":\"&$D248","v":"Aktywa:C"},{"$f":"D248","v":"C"},null,null,"C",{"$f":"teksty!$D$583","v":"Należne wpłaty na fundusz statutowy"}]
[{"$f":"32","v":32},null,0,null,null,null,null,null,null,null,null,null,null,null,{"$f":"teksty!$D$584","v":"Aktywa razem (suma pozycji A, B, i C)"},null,null,null,null,null,null,{"$f":"V248+V243+V237","v":0},{"$f":"W248+W243+W237","v":0},null,null,{"$f":"IF(WrfKwot,IF(AND(AF249=0,AG249=0,AH249=0),\"=\",\"!\"),\"\")","v":""},{"$f":"teksty!$D$514 & \":\"","v":"Pasywa:"},{"$f":"V263","v":0},{"$f":"W263","v":0},{"$f":"X263","v":0},null,{"$f":"ROUND(V249-AB249,2)","v":0},{"$f":"ROUND(W249-AC249,2)","v":0},0]
[{"$f":"32","v":32},null,0]
[{"$f":"32","v":32},null,0]
[{"$f":"32","v":32},null,0,null,null,null,null,null,null,null,null,null,null,{"$f":"teksty!$D$514","v":"Pasywa"},null,null,null,null,null,null,{"$f":"$U$5","v":""},{"$f":"$V$5","v":"Okres\nbieżący"},{"$f":"$W$5","v":"Okres\npoprzedni"},{"$f":"teksty!$D$292","v":"Przekszt. dane porów. za poprzedni okres"}]
[{"$f":"32","v":32},null,1,"A",null,null,null,null,null,{"$f":"$J$101&\":\"&$D253","v":"Pasywa:A"},{"$f":"D253","v":"A"},null,null,{"$f":"K253","v":"A"},{"$f":"teksty!$D$586","v":"Fundusz własny"},null,null,null,null,null,null,{"$f":"V254+V255+V256+V257","v":0},{"$f":"W254+W255+W256+W257","v":0}]
[{"$f":"32","v":32},null,2,{"$f":"D253","v":"A"},"I",null,null,null,null,{"$f":"$J$101&\":\"&$D254&\".\"&E254","v":"Pasywa:A.I"},{"$f":"E254","v":"I"},null,null,"I",{"$f":"teksty!$D$587","v":"Fundusz statutowy"}]
[{"$f":"32","v":32},null,2,"A","II",null,null,null,null,{"$f":"$J$101&\":\"&$D255&\".\"&E255","v":"Pasywa:A.II"},{"$f":"E255","v":"II"},null,null,"II",{"$f":"teksty!$D$588","v":"Pozostałe fundusze"}]
[{"$f":"32","v":32},null,2,"A","III",null,null,null,null,{"$f":"$J$101&\":\"&$D256&\".\"&E256","v":"Pasywa:A.III"},{"$f":"E256","v":"III"},null,null,{"$f":"K256","v":"III"},{"$f":"teksty!$D$526","v":"Zysk (strata) z lat ubiegłych, w tym:"}]
[{"$f":"32","v":32},null,2,"A","IV",null,null,null,null,{"$f":"$J$101&\":\"&$D257&\".\"&E257","v":"Pasywa:A.IV"},{"$f":"E257","v":"IV"},null,null,"IV",{"$f":"teksty!$D$529","v":"Zysk (strata) netto"}]
[{"$f":"32","v":32},null,1,"B",null,null,null,null,null,{"$f":"$J$101&\":\"&$D258","v":"Pasywa:B"},{"$f":"D258","v":"B"},null,null,"B",{"$f":"teksty!$D$531","v":"Zobowiązania i rezerwy na zobowiązania"},null,null,null,null,null,null,{"$f":"V259+V260+V261+V262","v":0},{"$f":"W259+W260+W261+W262","v":0}]
[{"$f":"32","v":32},null,2,{"$f":"D258","v":"B"},"I",null,null,null,null,{"$f":"$J$101&\":\"&$D259&\".\"&E259","v":"Pasywa:B.I"},{"$f":"E259","v":"I"},null,null,"I",{"$f":"teksty!$D$532","v":"Rezerwy na zobowiązania"}]
[{"$f":"32","v":32},null,2,"B","II",null,null,null,null,{"$f":"$J$101&\":\"&$D260&\".\"&E260","v":"Pasywa:B.II"},{"$f":"E260","v":"II"},null,null,{"$f":"K260","v":"II"},{"$f":"teksty!$D$540","v":"Zobowiązania długoterminowe"}]
[{"$f":"32","v":32},null,2,"B","III",null,null,null,null,{"$f":"$J$101&\":\"&$D261&\".\"&E261","v":"Pasywa:B.III"},{"$f":"E261","v":"III"},null,null,{"$f":"K261","v":"III"},{"$f":"teksty!$D$550","v":"Zobowiązania krótkoterminowe"}]
[{"$f":"32","v":32},null,{"$f":"COUNTA(D262:H262)","v":2},"B","IV",null,null,null,null,{"$f":"$J$101&\":\"&$D262&\".\"&E262","v":"Pasywa:B.IV"},{"$f":"E262","v":"IV"},null,null,{"$f":"K262","v":"IV"},{"$f":"teksty!$D$574","v":"Rozliczenia międzyokresowe"}]
[{"$f":"32","v":32},null,0,null,null,null,null,null,null,null,null,null,null,null,{"$f":"teksty!$D$580","v":"Pasywa razem (suma pozycji A i B)"},null,null,null,null,null,null,{"$f":"V258+V253","v":0},{"$f":"W258+W253","v":0},null,null,{"$f":"IF(WrfKwot,IF(AND(AF263=0,AG263=0,AH263=0),\"=\",\"!\"),\"\")","v":""},{"$f":"teksty!$D$420 & \":\"","v":"Aktywa:"},{"$f":"V249","v":0},{"$f":"W249","v":0},{"$f":"X249","v":0},null,{"$f":"ROUND(V263-AB263,2)","v":0},{"$f":"ROUND(W263-AC263,2)","v":0},0]
[{"$f":"32","v":32},null,{"$f":"COUNTA(D264:H264)","v":0}]
[{"$f":"8","v":8},null,null,null,null,null,null,null,null,"JednostkaMikro",null,null,null,{"$f":"teksty!$D$420","v":"Aktywa"},null,null,null,null,null,null,{"$f":"$U$5","v":""},{"$f":"$V$5","v":"Okres\nbieżący"},{"$f":"$W$5","v":"Okres\npoprzedni"},{"$f":"teksty!$D$292","v":"Przekszt. dane porów. za poprzedni okres"}]
[{"$f":"8","v":8},null,{"$f":"COUNTA(D266:H266)","v":1},"A",null,null,null,null,null,{"$f":"$J$3&\":\"&$D266","v":"Aktywa:A"},{"$f":"D266","v":"A"},null,null,{"$f":"K266","v":"A"},{"$f":"teksty!$D$591","v":"Aktywa trwałe, w tym środki trwałe"}]
[{"$f":"8","v":8},null,{"$f":"COUNTA(D267:H267)","v":1},"B",null,null,null,null,null,{"$f":"$J$3&\":\"&$D267","v":"Aktywa:B"},{"$f":"D267","v":"B"},null,null,{"$f":"K267","v":"B"},{"$f":"teksty!$D$464 & inc","v":"Aktywa obrotowe, w tym:"}]
[{"$f":"8","v":8},null,{"$f":"COUNTA(D268:H268)","v":2},{"$f":"D267","v":"B"},1,null,null,null,null,{"$f":"$J$3&\":\"&$D268&\".\"&E268","v":"Aktywa:B.1"},{"$f":"E268","v":1},null,null,null,{"$f":"\" – \" & LOWER(teksty!$D$465)","v":" – zapasy"}]
[{"$f":"8","v":8},null,{"$f":"COUNTA(D269:H269)","v":2},{"$f":"D268","v":"B"},2,null,null,null,null,{"$f":"$J$3&\":\"&$D269&\".\"&E269","v":"Aktywa:B.2"},{"$f":"E269","v":2},null,null,null,{"$f":"\" – \" & LOWER(teksty!$D$472)","v":" – należności krótkoterminowe"}]
[{"$f":"8","v":8},null,{"$f":"COUNTA(D270:H270)","v":1},"C",null,null,null,null,null,{"$f":"$J$3&\":\"&$D270","v":"Aktywa:C"},{"$f":"D270","v":"C"},null,null,{"$f":"K270","v":"C"},{"$f":"teksty!$D$510","v":"Należne wpłaty na kapitał (fundusz) podstawowy"}]
[{"$f":"8","v":8},null,1,"D",null,null,null,null,null,{"$f":"$J$3&\":\"&$D271","v":"Aktywa:D"},{"$f":"D271","v":"D"},null,null,"D",{"$f":"teksty!$D$511","v":"Udziały (akcje) własne"}]
[{"$f":"8","v":8},null,0,null,null,null,null,null,null,null,null,null,null,null,{"$f":"teksty!$D$512","v":"Aktywa razem (suma pozycji A, B, C i D)"},null,null,null,null,null,null,{"$f":"V271+V270+V267+V266","v":0},{"$f":"W271+W270+W267+W266","v":0},null,null,{"$f":"IF(WrfKwot,IF(AND(AF272=0,AG272=0,AH272=0),\"=\",\"!\"),\"\")","v":""},{"$f":"teksty!$D$514 & \":\"","v":"Pasywa:"},{"$f":"V281","v":0},{"$f":"W281","v":0},{"$f":"X281","v":0},null,{"$f":"ROUND(V272-AB272,2)","v":0},{"$f":"ROUND(W272-AC272,2)","v":0},0]
[{"$f":"8","v":8},null,0]
[{"$f":"8","v":8},null,0]
[{"$f":"8","v":8},null,0,null,null,null,null,null,null,null,null,null,null,{"$f":"teksty!$D$514","v":"Pasywa"},null,null,null,null,null,null,{"$f":"$U$5","v":""},{"$f":"$V$5","v":"Okres\nbieżący"},{"$f":"$W$5","v":"Okres\npoprzedni"},{"$f":"teksty!$D$292","v":"Przekszt. dane porów. za poprzedni okres"}]
[{"$f":"8","v":8},null,1,"A",null,null,null,null,null,{"$f":"$J$101&\":\"&$D276","v":"Pasywa:A"},{"$f":"D276","v":"A"},null,null,{"$f":"K276","v":"A"},{"$f":"teksty!$D$515 & inc","v":"Kapitał (fundusz) własny, w tym:"}]
[{"$f":"8","v":8},null,2,{"$f":"D276","v":"A"},1,null,null,null,null,{"$f":"$J$101&\":\"&$D277&\".\"&E277","v":"Pasywa:A.1"},{"$f":"E277","v":1},null,null,null,{"$f":"\" – \" & LOWER(teksty!$D$516)","v":" – kapitał (fundusz) podstawowy"}]
[{"$f":"8","v":8},null,1,"B",null,null,null,null,null,{"$f":"$J$101&\":\"&$D278","v":"Pasywa:B"},{"$f":"D278","v":"B"},null,null,{"$f":"K278","v":"B"},{"$f":"teksty!$D$531 & inc","v":"Zobowiązania i rezerwy na zobowiązania, w tym:"}]
[{"$f":"8","v":8},null,{"$f":"COUNTA(D279:H279)","v":2},{"$f":"D278","v":"B"},1,null,null,null,null,{"$f":"$J$101&\":\"&$D279&\".\"&E279","v":"Pasywa:B.1"},{"$f":"E279","v":1},null,null,null,{"$f":"\" – \" & LOWER(teksty!$D$532)","v":" – rezerwy na zobowiązania"}]
[{"$f":"8","v":8},null,2,{"$f":"D279","v":"B"},2,null,null,null,null,{"$f":"$J$101&\":\"&$D280&\".\"&E280","v":"Pasywa:B.2"},{"$f":"E280","v":2},null,null,null,{"$f":"\" – \" & teksty!$D$611","v":" – zobowiązania z tytułu kredytów i pożyczek"}]
[{"$f":"8","v":8},null,{"$f":"COUNTA(D281:H281)","v":0},null,null,null,null,null,null,null,null,null,null,null,{"$f":"teksty!$D$580","v":"Pasywa razem (suma pozycji A i B)"},null,null,null,null,null,null,{"$f":"V278+V276","v":0},{"$f":"W278+W276","v":0},null,null,{"$f":"IF(WrfKwot,IF(AND(AF281=0,AG281=0,AH281=0),\"=\",\"!\"),\"\")","v":""},{"$f":"teksty!$D$420 & \":\"","v":"Aktywa:"},{"$f":"V272","v":0},{"$f":"W272","v":0},{"$f":"X272","v":0},null,{"$f":"ROUND(V281-AB281,2)","v":0},{"$f":"ROUND(W281-AC281,2)","v":0},0]
[{"$f":"8","v":8}]
[0]
[{"$f":"#REF!","v":{"$error":"#REF!"}},"P",{"$f":"COUNTA(D284:H284)","v":3},{"$f":"#REF!","v":{"$error":"#REF!"}},{"$f":"#REF!","v":{"$error":"#REF!"}},{"$f":"#REF!","v":{"$error":"#REF!"}},null,null,null,null,null,null,null,{"$f":"teksty!$D$478 &#REF! &teksty!$D$418","v":{"$error":"#REF!"}},null,null,null,null,null,null,{"$f":"$U$5","v":""},{"$f":"$V$5","v":"Okres\nbieżący"},{"$f":"$W$5","v":"Okres\npoprzedni"},{"$f":"teksty!$D$292","v":"Przekszt. dane porów. za poprzedni okres"}]
[{"$f":"#REF!","v":{"$error":"#REF!"}},"P",{"$f":"COUNTA(D285:H285)","v":3},{"$f":"#REF!","v":{"$error":"#REF!"}},{"$f":"#REF!","v":{"$error":"#REF!"}},{"$f":"#REF!","v":{"$error":"#REF!"}},null,null,null,null,null,null,null,{"$f":"teksty!$D$478 &#REF! &teksty!$D$418","v":{"$error":"#REF!"}},null,null,null,null,null,null,{"$f":"$U$5","v":""},{"$f":"$V$5","v":"Okres\nbieżący"},{"$f":"$W$5","v":"Okres\npoprzedni"},{"$f":"teksty!$D$292","v":"Przekszt. dane porów. za poprzedni okres"}]
[{"$f":"#REF!","v":{"$error":"#REF!"}},"P",{"$f":"COUNTA(D286:H286)","v":1},{"$f":"#REF!","v":{"$error":"#REF!"}},null,null,null,null,null,null,null,null,null,{"$f":"teksty!$D$601","v":"Aktywa (c.d.)"},null,null,null,null,null,null,{"$f":"$U$5","v":""},{"$f":"$V$5","v":"Okres\nbieżący"},{"$f":"$W$5","v":"Okres\npoprzedni"},{"$f":"teksty!$D$292","v":"Przekszt. dane porów. za poprzedni okres"}]
[{"$f":"#REF!","v":{"$error":"#REF!"}},"P"]
[{"$f":"#REF!","v":{"$error":"#REF!"}},"P",{"$f":"COUNTA(D288:H288)","v":3},{"$f":"#REF!","v":{"$error":"#REF!"}},{"$f":"#REF!","v":{"$error":"#REF!"}},{"$f":"#REF!","v":{"$error":"#REF!"}},null,null,null,null,null,null,null,{"$f":"teksty!$D$549 &#REF! &teksty!$D$418","v":{"$error":"#REF!"}},null,null,null,null,null,null,{"$f":"$U$5","v":""},{"$f":"$V$5","v":"Okres\nbieżący"},{"$f":"$W$5","v":"Okres\npoprzedni"},{"$f":"teksty!$D$292","v":"Przekszt. dane porów. za poprzedni okres"}]

{"sheet":"RZiS","index":3,"n_rows":219,"n_cols":34,"rows_kept":219,"cut":false,"hidden":false,"merged":[[4,26,4,29],[175,26,175,29],[198,26,198,29],[9,14,9,20],[2,13,2,20],[218,13,218,19],[217,13,217,19],[80,14,80,20],[168,13,168,19],[103,14,103,20],[105,14,105,20],[106,14,106,20],[93,14,93,20],[94,14,94,20],[95,14,95,20],[96,14,96,20],[97,14,97,20],[98,14,98,20],[99,14,99,20],[100,14,100,20],[101,14,101,20],[102,14,102,20],[110,14,110,20],[108,14,108,20],[109,14,109,20],[130,14,130,20],[131,14,131,20],[132,14,132,20],[125,14,125,20],[126,14,126,20],[127,14,127,20],[68,14,68,20],[57,14,57,20],[60,14,60,20],[61,14,61,20],[62,14,62,20],[63,14,63,20],[64,14,64,20],[91,14,91,20],[92,14,92,20],[90,13,90,19],[86,14,86,20],[75,14,75,20],[76,14,76,20],[77,14,77,20],[78,14,78,20],[79,14,79,20],[81,14,81,20],[82,14,82,20],[83,14,83,20],[84,14,84,20],[85,14,85,20],[87,14,87,20],[88,14,88,20],[89,14,89,20],[72,14,72,20],[74,14,74,20],[50,14,50,20],[38,14,38,20],[39,14,39,20],[40,14,40,20],[41,14,41,20],[42,14,42,20],[43,14,43,20],[44,14,44,20],[45,14,45,20],[46,14,46,20],[47,14,47,20],[51,14,51,20],[52,14,52,20],[48,14,48,20],[49,14,49,20],[53,14,53,20],[65,14,65,20],[67,14,67,20],[66,14,66,20],[55,14,55,20],[58,14,58,20],[54,14,54,20],[34,14,34,20],[36,14,36,20],[30,14,30,20],[73,14,73,20],[18,14,18,20],[4,13,4,19],[5,14,5,20],[7,14,7,20],[8,14,8,20],[10,14,10,20],[11,14,11,20],[17,14,17,20],[12,14,12,20],[13,14,13,20],[14,14,14,20],[15,14,15,20],[16,14,16,20],[6,14,6,20],[19,14,19,20],[20,14,20,20],[21,14,21,20],[69,14,69,20],[70,14,70,20],[71,14,71,20],[22,14,22,20],[23,14,23,20],[24,14,24,20],[120,14,120,20],[121,14,121,20],[117,14,117,20],[118,14,118,20],[119,14,119,20],[114,14,114,20],[115,14,115,20],[116,14,116,20],[111,14,111,20],[112,14,112,20],[113,14,113,20],[25,14,25,20],[26,14,26,20],[27,14,27,20],[28,14,28,20],[29,14,29,20],[37,14,37,20],[35,13,35,19],[31,14,31,20],[32,14,32,20],[33,14,33,20],[129,14,129,20],[122,14,122,20],[123,14,123,20],[124,14,124,20],[156,14,156,20],[157,14,157,20],[149,14,149,20],[150,14,150,20],[151,14,151,20],[152,14,152,20],[134,14,134,20],[144,14,144,20],[145,14,145,20],[146,14,146,20],[147,14,147,20],[148,14,148,20],[128,14,128,20],[169,14,169,20],[170,14,170,20],[172,14,172,20],[136,14,136,20],[137,14,137,20],[138,14,138,20],[139,14,139,20],[140,14,140,20],[141,14,141,20],[142,14,142,20],[143,14,143,20],[163,14,163,20],[164,14,164,20],[165,14,165,20],[166,14,166,20],[167,14,167,20],[158,14,158,20],[159,14,159,20],[160,14,160,20],[161,14,161,20],[162,14,162,20],[153,14,153,20],[154,14,154,20],[155,14,155,20],[184,14,184,20],[176,14,176,20],[177,14,177,20],[178,14,178,20],[179,14,179,20],[180,14,180,20],[181,14,181,20],[182,14,182,20],[183,14,183,20],[201,14,201,20],[202,14,202,20],[203,14,203,20],[204,14,204,20],[205,14,205,20],[187,14,187,20],[194,14,194,20],[199,14,199,20],[185,14,185,20],[186,14,186,20],[56,14,56,20],[104,14,104,20],[171,14,171,20],[133,14,133,20],[175,13,175,19],[198,13,198,19],[214,14,214,20],[212,14,212,20],[188,14,188,20],[189,14,189,20],[190,14,190,20],[191,14,191,20],[192,14,192,20],[193,14,193,20],[195,14,195,20],[196,14,196,20],[211,14,211,20],[213,14,213,20],[209,14,209,20],[206,14,206,20],[207,14,207,20],[208,14,208,20],[210,14,210,20],[200,14,200,20]]}
["RZiS",null,"Poziom",null,null,"Składniki",null,null,null,"(pełen symbol)","(wyświetlana etykieta)",null,null,null,null,null,null,3,{"$f":"VLOOKUP(WybranaPozycja,teksty!B131:F136,2)","v":"JednostkaMikro"},null,2,{"$f":"VLOOKUP(WybranaPodpozycja,teksty!B140:F141,2)","v":"Porownawczy"},{"$f":"IF(WybranaPodpozycja=1,1,0)","v":0},{"$f":"IF(WybranaPodpozycja=2,1,0)","v":1}]
[null,null,null,null,null,null,null,null,null,null,null,null,{"$f":"teksty!D613","v":"Rachunek zysków i strat"}]
[null,null,null,null,null,null,null,null,null,null,null,null,null,{"$f":"Wprowadzenie!$I$4 & \" \" & IF(NumerWariantuRaportu = 5,  teksty!$D$289, \"\")","v":" "},null,null,null,null,null,null,null,null,null,{"$f":"teksty!D283 & VLOOKUP(NumerBazyRaportu,BazyKwot,3)","v":"wszystkie kwoty w złotych"}]
[]
[{"$f":"6*65536 + (2+4+16+64)","v":393302},null,null,null,null,null,null,null,null,null,null,null,null,{"$f":"VLOOKUP(WybranaPodpozycja,teksty!$B$140:$F$141,3)","v":"wariant porównawczy"},null,null,null,null,null,null,{"$f":"IF(BezDat,\"\",teksty!$D$615)","v":""},{"$f":"IF(BezDat,teksty!$D$954,YEAR(DataDo))","v":"Okres\nbieżący"},{"$f":"IF(BezDat,teksty!$D$955,V5-1)","v":"Okres\npoprzedni"},{"$f":"teksty!$D$292","v":"Przekszt. dane porów. za poprzedni okres"},null,null,{"$f":"IF(OR(_xlfn.ISFORMULA($V$6),_xlfn.ISFORMULA($W$6)),teksty!$D$951,\"\")","v":"W niektórych polach tego zestawienia napotkasz pomocnicze formuły. Jeżeli to potrzebne, możesz je zmienić, lub wpisać w te pola odpowiednie kwoty."}]
[{"$f":"(4*65536)+(2+16)","v":262162},null,{"$f":"COUNTA(D6:H6)","v":1},"A",null,null,null,null,null,{"$f":"$D6","v":"A"},{"$f":"D6","v":"A"},null,null,{"$f":"K6","v":"A"},{"$f":"teksty!$D$618","v":"Przychody netto ze sprzedaży i zrównane z nimi, w tym:"},null,null,null,null,null,null,{"$f":"V8+V9+V11+V12","v":0},{"$f":"W8+W9+W11+W12","v":0}]
[{"$f":"(4*65536)+(2+16)","v":262162},null,2,{"$f":"D6","v":"A"},"j",null,null,null,null,{"$f":"D7&\".\"&E7","v":"A.j"},null,null,null,null,{"$f":"IF($N$7=\"\",\" – \") & teksty!$D$619","v":" – od jednostek powiązanych"}]
[262162,null,2,{"$f":"D6","v":"A"},"I",null,null,null,null,{"$f":"D8&\".\"&E8","v":"A.I"},{"$f":"E8","v":"I"},null,null,{"$f":"K8","v":"I"},{"$f":"teksty!$D$620","v":"Przychody netto ze sprzedaży produktów"}]
[262162,null,2,{"$f":"D8","v":"A"},"II",null,null,null,null,"A.II",{"$f":"E9","v":"II"},null,null,{"$f":"K9","v":"II"},{"$f":"teksty!$D$621","v":"Zmiana stanu produktów (zwiększenie – kwota dodatnia, zmniejszenie – kwota ujemna)"}]
[262162,null,{"$f":"COUNTA(D10:H10)","v":2},{"$f":"D9","v":"A"},"j",null,null,null,null,{"$f":"D10&\".\"&E10","v":"A.j"},null,null,null,null,{"$f":"IF($N$7=\"\",\" – \") & teksty!$D$622","v":" – w tym: obiekty w zabudowie"}]
[262162,null,2,{"$f":"D9","v":"A"},"III",null,null,null,null,"A.III","III",null,null,{"$f":"K11","v":"III"},{"$f":"teksty!$D$623","v":"Koszt wytworzenia produktów na własne potrzeby jednostki"}]
[262162,null,2,"A","IV",null,null,null,null,"A.IV","IV",null,null,{"$f":"K12","v":"IV"},{"$f":"teksty!$D$624","v":"Przychody netto ze sprzedaży towarów"}]
[262162,null,1,"B",null,null,null,null,null,{"$f":"$D13","v":"B"},{"$f":"D13","v":"B"},null,null,{"$f":"K13","v":"B"},{"$f":"teksty!$D$625","v":"Koszty działalności operacyjnej"},null,null,null,null,null,null,{"$f":"V14+V15+V16+V17+V19+V20+V22+V23","v":0},{"$f":"W14+W15+W16+W17+W19+W20+W22+W23","v":0}]
[262162,null,2,{"$f":"D13","v":"B"},"I",null,null,null,null,"B.I",{"$f":"E14","v":"I"},null,null,{"$f":"K14","v":"I"},{"$f":"teksty!$D$626","v":"Amortyzacja"}]
[262162,null,2,"B","II",null,null,null,null,{"$f":"D15&\".\"&E15","v":"B.II"},{"$f":"E15","v":"II"},null,null,{"$f":"K15","v":"II"},{"$f":"teksty!$D$627","v":"Zużycie materiałów i energii"}]
[262162,null,2,"B","III",null,null,null,null,"B.III","III",null,null,"III",{"$f":"teksty!$D$628","v":"Usługi obce"}]
[262162,null,2,"B","IV",null,null,null,null,"B.IV","IV",null,null,"IV",{"$f":"teksty!$D$629","v":"Podatki i opłaty, w tym:"}]
[262162,null,3,"B","IV",1,null,null,null,{"$f":"D18&\".\"&E18&\".\"&F18","v":"B.IV.1"},null,null,null,null,{"$f":"IF($N$18=\"\",\" – \") & teksty!$D$630","v":" – podatek akcyzowy"}]
[262162,null,2,{"$f":"D17","v":"B"},"V",null,null,null,null,"B.V","V",null,null,{"$f":"K19","v":"V"},{"$f":"teksty!$D$631","v":"Wynagrodzenia"}]
[262162,null,2,"B","VI",null,null,null,null,"B.VI","VI",null,null,{"$f":"K20","v":"VI"},{"$f":"teksty!$D$632","v":"Ubezpieczenia społeczne i inne świadczenia, w tym:"}]
[262162,null,3,"B","VI",1,null,null,null,{"$f":"D21&\".\"&E21&\".\"&F21","v":"B.VI.1"},null,null,null,null,{"$f":"IF($N$21=\"\",\" – \") & teksty!$D$633","v":" – emerytalne"}]
[262162,null,2,{"$f":"D21","v":"B"},"VII",null,null,null,null,"B.VII","VII",null,null,{"$f":"K22","v":"VII"},{"$f":"teksty!$D$634","v":"Pozostałe koszty rodzajowe"}]
[262162,null,2,{"$f":"D22","v":"B"},"VIII",null,null,null,null,"B.VIII","VIII",null,null,"VIII",{"$f":"teksty!$D$635","v":"Wartość sprzedanych towarów"}]
[262162,null,1,"C",null,null,null,null,null,{"$f":"$D24","v":"C"},{"$f":"D24","v":"C"},null,null,{"$f":"K24","v":"C"},{"$f":"teksty!$D$636","v":"Zysk (strata) ze sprzedaży (A–B)"},null,null,null,null,null,null,{"$f":"V6-V13","v":0},{"$f":"W6-W13","v":0}]
[262162,null,1,"D",null,null,null,null,null,{"$f":"$D25","v":"D"},{"$f":"D25","v":"D"},null,null,{"$f":"K25","v":"D"},{"$f":"teksty!$D$637","v":"Pozostałe przychody operacyjne"},null,null,null,null,null,null,{"$f":"V26+V27+V28+V29","v":0},{"$f":"W26+W27+W28+W29","v":0}]
[262162,null,2,{"$f":"D25","v":"D"},"I",null,null,null,null,{"$f":"D26&\".\"&E26","v":"D.I"},{"$f":"E26","v":"I"},null,null,{"$f":"K26","v":"I"},{"$f":"teksty!$D$638","v":"Zysk z tytułu rozchodu niefinansowych aktywów trwałych"}]
[262162,null,2,{"$f":"D26","v":"D"},"II",null,null,null,null,{"$f":"D27&\".\"&E27","v":"D.II"},{"$f":"E27","v":"II"},null,null,{"$f":"K27","v":"II"},{"$f":"teksty!$D$639","v":"Dotacje"}]
[262162,null,2,{"$f":"D27","v":"D"},"III",null,null,null,null,{"$f":"D28&\".\"&E28","v":"D.III"},{"$f":"E28","v":"III"},null,null,{"$f":"K28","v":"III"},{"$f":"teksty!$D$640","v":"Aktualizacja wartości aktywów niefinansowych"}]
[262162,null,2,{"$f":"D28","v":"D"},"IV",null,null,null,null,{"$f":"D29&\".\"&E29","v":"D.IV"},{"$f":"E29","v":"IV"},null,null,{"$f":"K29","v":"IV"},{"$f":"teksty!$D$641","v":"Inne przychody operacyjne"}]
[262162,null,1,"E",null,null,null,null,null,{"$f":"$D30","v":"E"},{"$f":"D30","v":"E"},null,null,{"$f":"K30","v":"E"},{"$f":"teksty!$D$642","v":"Pozostałe koszty operacyjne"},null,null,null,null,null,null,{"$f":"V31+V32+V33","v":0},{"$f":"W31+W32+W33","v":0}]
[262162,null,2,{"$f":"D30","v":"E"},"I",null,null,null,null,{"$f":"D31&\".\"&E31","v":"E.I"},{"$f":"E31","v":"I"},null,null,{"$f":"K31","v":"I"},{"$f":"teksty!$D$643","v":"Strata z tytułu rozchodu niefinansowych aktywów trwałych"}]
[262162,null,2,{"$f":"D31","v":"E"},"II",null,null,null,null,{"$f":"D32&\".\"&E32","v":"E.II"},{"$f":"E32","v":"II"},null,null,{"$f":"K32","v":"II"},{"$f":"teksty!$D$644","v":"Aktualizacja wartości aktywów niefinansowych"}]
[262162,null,2,{"$f":"D32","v":"E"},"III",null,null,null,null,{"$f":"D33&\".\"&E33","v":"E.III"},{"$f":"E33","v":"III"},null,null,{"$f":"K33","v":"III"},{"$f":"teksty!$D$645","v":"Inne koszty operacyjne"}]
[262162,null,1,"F",null,null,null,null,null,{"$f":"$D34","v":"F"},{"$f":"D34","v":"F"},null,null,{"$f":"K34","v":"F"},{"$f":"teksty!$D$646","v":"Zysk (strata) z działalności operacyjnej (C+D–E)"},null,null,null,null,null,null,{"$f":"V24+V25-V30","v":0},{"$f":"W24+W25-W30","v":0}]
[262162,null,1,"G",null,null,null,null,{"$f":"teksty!$D$614 & teksty!$D$284 & 1","v":"RZiS, koniec strony 1"},{"$f":"$D35","v":"G"},{"$f":"D35","v":"G"},null,null,{"$f":"K35","v":"G"},{"$f":"teksty!$D$647","v":"Przychody finansowe"},null,null,null,null,null,null,{"$f":"V37+V42+V44+V46+V47","v":0},{"$f":"W37+W42+W44+W46+W47","v":0}]
[262162,"P",0,null,null,null,null,null,null,null,null,null,null,{"$f":"teksty!$D$141 & teksty!$D$718","v":"wariant porównawczy,  c.d. poprzedniej strony"},null,null,null,null,null,null,{"$f":"$U$5","v":""},{"$f":"$V$5","v":"Okres\nbieżący"},{"$f":"$W$5","v":"Okres\npoprzedni"},{"$f":"teksty!$D$292","v":"Przekszt. dane porów. za poprzedni okres"}]
[262162,null,2,{"$f":"D35","v":"G"},"I",null,null,null,null,{"$f":"D37&\".\"&E37","v":"G.I"},{"$f":"E37","v":"I"},null,null,{"$f":"K37","v":"I"},{"$f":"teksty!$D$648","v":"Dywidendy i udziały w zyskach, w tym:"},null,null,null,null,null,null,null,null,null,null,{"$f":"teksty!$D$285","v":"ukryty wiersz powyżej zawiera nagłówek dla kolejnej strony"}]
[262162,null,3,{"$f":"D37","v":"G"},"I","a",null,null,null,{"$f":"$D38&\".\"&E38&\".\"&F38","v":"G.I.a"},{"$f":"F38","v":"a"},null,null,{"$f":"K38 & \")\"","v":"a)"},{"$f":"teksty!$D$649","v":"od jednostek powiązanych, w tym:"}]
[262162,null,4,"G","I","a",1,null,null,{"$f":"D39&\".\"&E39&\".\"&F39&\".\"&G39","v":"G.I.a.1"},null,null,null,null,{"$f":"IF($N$39=\"\",\" – \") & teksty!$D$650","v":" – w których jednostka posiada zaangażowanie w kapitale"}]
[262162,null,3,{"$f":"D39","v":"G"},"I","b",null,null,null,{"$f":"$D40&\".\"&E40&\".\"&F40","v":"G.I.b"},{"$f":"F40","v":"b"},null,null,{"$f":"K40 & \")\"","v":"b)"},{"$f":"teksty!$D$651","v":"od jednostek pozostałych, w tym:"}]
[262162,null,4,{"$f":"D40","v":"G"},"I","b",1,null,null,{"$f":"D41&\".\"&E41&\".\"&F41&\".\"&G41","v":"G.I.b.1"},null,null,null,null,{"$f":"IF($N$41=\"\",\" – \") & teksty!$D$652","v":" – w których jednostka posiada zaangażowanie w kapitale"}]
[262162,null,2,{"$f":"D41","v":"G"},"II",null,null,null,null,{"$f":"D42&\".\"&E42","v":"G.II"},{"$f":"E42","v":"II"},null,null,{"$f":"K42","v":"II"},{"$f":"teksty!$D$653","v":"Odsetki, w tym:"}]
[262162,null,3,{"$f":"D42","v":"G"},"II","j",null,null,null,{"$f":"D43&\".\"&E43&\".\"&F43","v":"G.II.j"},null,null,null,null,{"$f":"IF($N$43=\"\",\" – \") & teksty!$D$654","v":" – od jednostek powiązanych"}]
[262162,null,2,{"$f":"D43","v":"G"},"III",null,null,null,null,{"$f":"D44&\".\"&E44","v":"G.III"},{"$f":"E44","v":"III"},null,null,{"$f":"K44","v":"III"},{"$f":"teksty!$D$655","v":"Zysk z tytułu rozchodu aktywów finansowych, w tym:"}]
[262162,null,3,{"$f":"D44","v":"G"},"III","j",null,null,null,{"$f":"D45&\".\"&E45&\".\"&F45","v":"G.III.j"},null,null,null,null,{"$f":"IF($N$45=\"\",\" – \") & teksty!$D$656","v":" – w jednostkach powiązanych"}]
[262162,null,2,{"$f":"D45","v":"G"},"IV",null,null,null,null,{"$f":"D46&\".\"&E46","v":"G.IV"},{"$f":"E46","v":"IV"},null,null,{"$f":"K46","v":"IV"},{"$f":"teksty!$D$657","v":"Aktualizacja wartości aktywów finansowych"}]
[262162,null,2,{"$f":"D46","v":"G"},"V",null,null,null,null,{"$f":"D47&\".\"&E47","v":"G.V"},{"$f":"E47","v":"V"},null,null,{"$f":"K47","v":"V"},{"$f":"teksty!$D$658","v":"Inne"}]
[262162,null,1,"H",null,null,null,null,null,{"$f":"$D48","v":"H"},{"$f":"D48","v":"H"},null,null,{"$f":"K48","v":"H"},{"$f":"teksty!$D$659","v":"Koszty finansowe"},null,null,null,null,null,null,{"$f":"V49+V51+V53+V54","v":0},{"$f":"W49+W51+W53+W54","v":0}]
[262162,null,2,{"$f":"D48","v":"H"},"I",null,null,null,null,{"$f":"D49&\".\"&E49","v":"H.I"},{"$f":"E49","v":"I"},null,null,{"$f":"K49","v":"I"},{"$f":"teksty!$D$660","v":"Odsetki, w tym:"}]
[262162,null,3,{"$f":"D49","v":"H"},"I","j",null,null,null,{"$f":"D50&\".\"&E50&\".\"&F50","v":"H.I.j"},null,null,null,null,{"$f":"IF($N$50=\"\",\" – \") & teksty!$D$661","v":" – dla jednostek powiązanych"}]
[262162,null,2,{"$f":"D50","v":"H"},"II",null,null,null,null,{"$f":"D51&\".\"&E51","v":"H.II"},{"$f":"E51","v":"II"},null,null,{"$f":"K51","v":"II"},{"$f":"teksty!$D$662","v":"Strata z tytułu rozchodu aktywów finansowych, w tym:"}]
[262162,null,3,"H","II","j",null,null,null,{"$f":"D52&\".\"&E52&\".\"&F52","v":"H.II.j"},null,null,null,null,{"$f":"IF($N$52=\"\",\" – \") & teksty!$D$663","v":" – w jednostkach powiązanych"}]
[262162,null,2,{"$f":"D52","v":"H"},"III",null,null,null,null,{"$f":"D53&\".\"&E53","v":"H.III"},{"$f":"E53","v":"III"},null,null,{"$f":"K53","v":"III"},{"$f":"teksty!$D$664","v":"Aktualizacja wartości aktywów finansowych"}]
[262162,null,2,{"$f":"D53","v":"H"},"IV",null,null,null,null,{"$f":"D54&\".\"&E54","v":"H.IV"},{"$f":"E54","v":"IV"},null,null,{"$f":"K54","v":"IV"},{"$f":"teksty!$D$665","v":"Inne"}]
[262162,null,1,"I",null,null,null,null,null,{"$f":"$D55","v":"I"},{"$f":"D55","v":"I"},null,null,{"$f":"K55","v":"I"},{"$f":"teksty!$D$666","v":"Zysk (strata) brutto (F+G–H)"},null,null,null,null,null,null,{"$f":"V34+V35-V48","v":0},{"$f":"W34+W35-W48","v":0}]
[262162,null,1,"J",null,null,null,null,null,{"$f":"$D56","v":"J"},{"$f":"D56","v":"J"},null,null,{"$f":"K56","v":"J"},{"$f":"teksty!$D$667","v":"Podatek dochodowy"}]
[262162,null,{"$f":"COUNTA(D57:H57)","v":2},{"$f":"D56","v":"J"},"j",null,null,null,null,{"$f":"D57&\".\"&E57","v":"J.j"},null,null,null,null,{"$f":"IF($N$52=\"\",\" – \") & SUBSTITUTE(teksty!D$356,\":\",\" \" & teksty!$D$668 & \":\")","v":" – w tym podatek odroczony:"}]
[262162,null,1,"K",null,null,null,null,null,{"$f":"$D58","v":"K"},{"$f":"D58","v":"K"},null,null,{"$f":"K58","v":"K"},{"$f":"teksty!$D$669","v":"Pozostałe obowiązkowe zmniejszenia zysku (zwiększenia straty)"}]
[262162,null,{"$f":"COUNTA(D59:H59)","v":1},"L",null,null,null,null,null,{"$f":"$D59","v":"L"},{"$f":"D59","v":"L"},null,null,{"$f":"K59","v":"L"},{"$f":"teksty!$D$670","v":"Zysk (strata) netto (I–J–K)"},null,null,null,null,null,null,{"$f":"V55-V56-V58","v":0},{"$f":"W55-W56-W58","v":0},null,null,{"$f":"IF(WrfKwot,IF(AND(AF59=0,AG59=0,AH59=0),\"=\",\"!\"),\"\")","v":""},{"$f":"IF(AB59=\"-\", \"-\",SUBSTITUTE(SUBSTITUTE(EtykietaNaNazwe(Bilans!$J$219),\"_A\",\" A\"),\"_\",\".\"))","v":"-"},{"$f":"IF(Bilans!WybranyWariant=\"JednostkaInna\",Bilans!V$120,IF(Bilans!WybranyWariant=\"JednostkaMala\",Bilans!V$219,\"-\"))","v":"-"},{"$f":"IF(Bilans!WybranyWariant=\"JednostkaInna\",Bilans!W$120,IF(Bilans!WybranyWariant=\"JednostkaMala\",Bilans!W$219,\"-\"))","v":"-"},{"$f":"IF(Bilans!WybranyWariant=\"JednostkaInna\",Bilans!X$120,IF(Bilans!WybranyWariant=\"JednostkaMala\",Bilans!X$219,\"-\"))","v":"-"},null,{"$f":"ROUND(IF(ISNUMBER(AB59),V59-AB59,0),2)","v":0},{"$f":"ROUND(IF(ISNUMBER(AC59),W59-AC59,0),2)","v":0},0]
[0,null,null,null,null,null,null,null,"Jednostka Inna","kalkulacyjny"]
[{"$f":"(2*65536)+(2+16)","v":131090},null,{"$f":"COUNTA(D61:H61)","v":1},"A",null,null,null,null,null,{"$f":"$D61","v":"A"},{"$f":"D61","v":"A"},null,null,{"$f":"K61","v":"A"},{"$f":"teksty!$D$672","v":"Przychody netto ze sprzedaży produktów i towarów, w tym:"},null,null,null,null,null,null,{"$f":"V63+V64","v":0},{"$f":"W63+W64","v":0}]
[{"$f":"(2*65536)+(2+16)","v":131090},null,{"$f":"COUNTA(D62:H62)","v":2},{"$f":"D61","v":"A"},"j",null,null,null,null,{"$f":"D62&\".\"&E62","v":"A.j"},null,null,null,null,{"$f":"IF($N$62=\"\",\" – \") &teksty!$D$673","v":" – od jednostek powiązanych"}]
[131090,null,2,{"$f":"D61","v":"A"},"I",null,null,null,null,{"$f":"D63&\".\"&E63","v":"A.I"},{"$f":"E63","v":"I"},null,null,{"$f":"K63","v":"I"},{"$f":"teksty!$D$674","v":"Przychody netto ze sprzedaży produktów"}]
[131090,null,2,{"$f":"D63","v":"A"},"II",null,null,null,null,"A.II",{"$f":"E64","v":"II"},null,null,{"$f":"K64","v":"II"},{"$f":"teksty!$D$675","v":"Przychody netto ze sprzedaży towarów"}]
[131090,null,1,"B",null,null,null,null,null,{"$f":"$D65","v":"B"},{"$f":"D65","v":"B"},null,null,{"$f":"K65","v":"B"},{"$f":"teksty!$D$676","v":"Koszty sprzedanych produktów i towarów, w tym:"},null,null,null,null,null,null,{"$f":"V67+V68","v":0},{"$f":"W67+W68","v":0}]
[131090,null,2,{"$f":"D65","v":"B"},"j",null,null,null,null,{"$f":"D66&\".\"&E66","v":"B.j"},null,null,null,null,{"$f":"IF($N$66=\"\",\" – \") &teksty!$D$677","v":" – jednostkom powiązanym"}]
[131090,null,2,{"$f":"D65","v":"B"},"I",null,null,null,null,{"$f":"D67&\".\"&E67","v":"B.I"},{"$f":"E67","v":"I"},null,null,{"$f":"K67","v":"I"},{"$f":"teksty!$D$678","v":"Koszt wytworzenia sprzedanych produktów"}]
[131090,null,2,{"$f":"D66","v":"B"},"II",null,null,null,null,{"$f":"D68&\".\"&E68","v":"B.II"},{"$f":"E68","v":"II"},null,null,"II",{"$f":"teksty!$D$679","v":"Wartość sprzedanych towarów"}]
[131090,null,1,"C",null,null,null,null,null,{"$f":"$D69","v":"C"},{"$f":"D69","v":"C"},null,null,"C",{"$f":"teksty!$D$680","v":"Zysk (strata) brutto ze sprzedaży (A–B)"},null,null,null,null,null,null,{"$f":"V61-V65","v":0},{"$f":"W61-W65","v":0}]
[131090,null,1,"D",null,null,null,null,null,{"$f":"$D70","v":"D"},{"$f":"D70","v":"D"},null,null,"D",{"$f":"teksty!$D$681","v":"Koszty sprzedaży"}]
[131090,null,1,"E",null,null,null,null,null,{"$f":"$D71","v":"E"},{"$f":"D71","v":"E"},null,null,"E",{"$f":"teksty!$D$682","v":"Koszty ogólnego zarządu"}]
[131090,null,1,"F",null,null,null,null,null,{"$f":"$D72","v":"F"},{"$f":"D72","v":"F"},null,null,"F",{"$f":"teksty!$D$683","v":"Zysk (strata) ze sprzedaży (C–D–E)"},null,null,null,null,null,null,{"$f":"V69-V70-V71","v":0},{"$f":"W69-W70-W71","v":0}]
[131090,null,1,"G",null,null,null,null,null,{"$f":"$D73","v":"G"},{"$f":"D73","v":"G"},null,null,"G",{"$f":"teksty!$D$684","v":"Pozostałe przychody operacyjne"},null,null,null,null,null,null,{"$f":"V74+V75+V76+V77","v":0},{"$f":"W74+W75+W76+W77","v":0}]
[131090,null,2,{"$f":"D73","v":"G"},"I",null,null,null,null,{"$f":"D74&\".\"&E74","v":"G.I"},{"$f":"E74","v":"I"},null,null,"I",{"$f":"teksty!$D$685","v":"Zysk z tytułu rozchodu niefinansowych aktywów trwałych"}]
[131090,null,2,{"$f":"D74","v":"G"},"II",null,null,null,null,{"$f":"D75&\".\"&E75","v":"G.II"},{"$f":"E75","v":"II"},null,null,"II",{"$f":"teksty!$D$686","v":"Dotacje"}]
[131090,null,2,{"$f":"D75","v":"G"},"III",null,null,null,null,{"$f":"D76&\".\"&E76","v":"G.III"},{"$f":"E76","v":"III"},null,null,"III",{"$f":"teksty!$D$687","v":"Aktualizacja wartości aktywów niefinansowych"}]
[131090,null,2,{"$f":"D76","v":"G"},"IV",null,null,null,null,{"$f":"D77&\".\"&E77","v":"G.IV"},{"$f":"E77","v":"IV"},null,null,"IV",{"$f":"teksty!$D$688","v":"Inne przychody operacyjne"}]
[131090,null,1,"H",null,null,null,null,null,{"$f":"$D78","v":"H"},{"$f":"D78","v":"H"},null,null,"H",{"$f":"teksty!$D$689","v":"Pozostałe koszty operacyjne"},null,null,null,null,null,null,{"$f":"V79+V80+V81","v":0},{"$f":"W79+W80+W81","v":0}]
[131090,null,2,{"$f":"D78","v":"H"},"I",null,null,null,null,{"$f":"D79&\".\"&E79","v":"H.I"},{"$f":"E79","v":"I"},null,null,"I",{"$f":"teksty!$D$690","v":"Strata z tytułu rozchodu niefinansowych aktywów trwałych"}]
[131090,null,2,{"$f":"D79","v":"H"},"II",null,null,null,null,"H.II",{"$f":"E80","v":"II"},null,null,"II",{"$f":"teksty!$D$691","v":"Aktualizacja wartości aktywów niefinansowych"}]
[131090,null,2,{"$f":"D80","v":"H"},"III",null,null,null,null,"H.III",{"$f":"E81","v":"III"},null,null,"III",{"$f":"teksty!$D$692","v":"Inne koszty operacyjne"}]
[131090,null,1,"I",null,null,null,null,null,{"$f":"$D82","v":"I"},{"$f":"D82","v":"I"},null,null,"I",{"$f":"teksty!$D$693","v":"Zysk (strata) z działalności operacyjnej (F+G–H)"},null,null,null,null,null,null,{"$f":"V72+V73-V78","v":0},{"$f":"W72+W73-W78","v":0}]
[131090,null,1,"J",null,null,null,null,null,{"$f":"$D83","v":"J"},{"$f":"D83","v":"J"},null,null,"J",{"$f":"teksty!$D$694","v":"Przychody finansowe"},null,null,null,null,null,null,{"$f":"V84+V89+V92+V94+V95","v":0},{"$f":"W84+W89+W92+W94+W95","v":0}]
[131090,null,2,{"$f":"D83","v":"J"},"I",null,null,null,null,{"$f":"D84&\".\"&E84","v":"J.I"},{"$f":"E84","v":"I"},null,null,"I",{"$f":"teksty!$D$695","v":"Dywidendy i udziały w zyskach, w tym:"}]
[131090,null,3,{"$f":"D84","v":"J"},"I","a",null,null,null,{"$f":"$D85&\".\"&E85&\".\"&F85","v":"J.I.a"},{"$f":"F85","v":"a"},null,null,{"$f":"K85 & \")\"","v":"a)"},{"$f":"teksty!$D$696","v":"od jednostek powiązanych, w tym:"}]
[131090,null,4,{"$f":"D85","v":"J"},"I","a",1,null,null,{"$f":"D86&\".\"&E86&\".\"&F86&\".\"&G86","v":"J.I.a.1"},null,null,null,null,{"$f":"IF($N$86=\"\",\" – \") & teksty!$D$697","v":" – w których jednostka posiada zaangażowanie w kapitale"}]
[131090,null,3,{"$f":"D86","v":"J"},"I","b",null,null,null,{"$f":"$D87&\".\"&E87&\".\"&F87","v":"J.I.b"},{"$f":"F87","v":"b"},null,null,{"$f":"K87 & \")\"","v":"b)"},{"$f":"teksty!$D$698","v":"od jednostek pozostałych, w tym:"}]
[131090,null,4,{"$f":"D87","v":"J"},"I","b",1,null,null,{"$f":"D88&\".\"&E88&\".\"&F88&\".\"&G88","v":"J.I.b.1"},null,null,null,null,{"$f":"IF($N$88=\"\",\" – \") & teksty!$D$699","v":" – w których jednostka posiada zaangażowanie w kapitale"}]
[131090,null,2,{"$f":"D88","v":"J"},"II",null,null,null,null,{"$f":"D89&\".\"&E89","v":"J.II"},{"$f":"E89","v":"II"},null,null,{"$f":"K89","v":"II"},{"$f":"teksty!$D$700","v":"Odsetki, w tym:"}]
[131090,null,3,{"$f":"D89","v":"J"},"II","j",null,null,{"$f":"teksty!$D$614 & teksty!$D$284 & 1","v":"RZiS, koniec strony 1"},{"$f":"D90&\".\"&E90&\".\"&F90","v":"J.II.j"},null,null,null,null,{"$f":"IF($N$90=\"\",\" – \") & teksty!$D$701","v":" – od jednostek powiązanych"}]
[131090,"P",0,null,null,null,null,null,null,null,null,null,null,{"$f":"teksty!$D$140 & teksty!$D$718","v":"wariant kalkulacyjny,  c.d. poprzedniej strony"},null,null,null,null,null,null,{"$f":"$U$5","v":""},{"$f":"$V$5","v":"Okres\nbieżący"},{"$f":"$W$5","v":"Okres\npoprzedni"},{"$f":"teksty!$D$292","v":"Przekszt. dane porów. za poprzedni okres"}]
[131090,null,2,{"$f":"D90","v":"J"},"III",null,null,null,null,{"$f":"D92&\".\"&E92","v":"J.III"},{"$f":"E92","v":"III"},null,null,{"$f":"K92","v":"III"},{"$f":"teksty!$D$702","v":"Zysk z tytułu rozchodu aktywów finansowych, w tym:"},null,null,null,null,null,null,null,null,null,null,{"$f":"teksty!$D$285","v":"ukryty wiersz powyżej zawiera nagłówek dla kolejnej strony"}]
[131090,null,3,"J","III","j",null,null,null,{"$f":"D93&\".\"&E93&\".\"&F93","v":"J.III.j"},null,null,null,null,{"$f":"IF($N$93=\"\",\" – \") & teksty!$D$703","v":" – w jednostkach powiązanych"}]
[131090,null,2,{"$f":"D93","v":"J"},"IV",null,null,null,null,{"$f":"D94&\".\"&E94","v":"J.IV"},{"$f":"E94","v":"IV"},null,null,{"$f":"K94","v":"IV"},{"$f":"teksty!$D$704","v":"Aktualizacja wartości aktywów finansowych"}]
[131090,null,2,{"$f":"D94","v":"J"},"V",null,null,null,null,{"$f":"D95&\".\"&E95","v":"J.V"},{"$f":"E95","v":"V"},null,null,{"$f":"K95","v":"V"},{"$f":"teksty!$D$705","v":"Inne"}]
[131090,null,1,"K",null,null,null,null,null,{"$f":"$D96","v":"K"},{"$f":"D96","v":"K"},null,null,{"$f":"K96","v":"K"},{"$f":"teksty!$D$706","v":"Koszty finansowe"},null,null,null,null,null,null,{"$f":"V97+V99+V101+V102","v":0},{"$f":"W97+W99+W101+W102","v":0}]
[131090,null,2,{"$f":"D96","v":"K"},"I",null,null,null,null,{"$f":"D97&\".\"&E97","v":"K.I"},{"$f":"E97","v":"I"},null,null,{"$f":"K97","v":"I"},{"$f":"teksty!$D$707","v":"Odsetki, w tym:"}]
[131090,null,3,{"$f":"D97","v":"K"},"I","j",null,null,null,{"$f":"D98&\".\"&E98&\".\"&F98","v":"K.I.j"},null,null,null,null,{"$f":"IF($N$98=\"\",\" – \") & teksty!$D$708","v":" – dla jednostek powiązanych"}]
[131090,null,2,{"$f":"D98","v":"K"},"II",null,null,null,null,{"$f":"D99&\".\"&E99","v":"K.II"},{"$f":"E99","v":"II"},null,null,{"$f":"K99","v":"II"},{"$f":"teksty!$D$709","v":"Strata z tytułu rozchodu aktywów finansowych, w tym:"}]
[131090,null,3,{"$f":"D99","v":"K"},"II","j",null,null,null,{"$f":"D100&\".\"&E100&\".\"&F100","v":"K.II.j"},null,null,null,null,{"$f":"IF($N$100=\"\",\" – \") & teksty!$D$710","v":" – w jednostkach powiązanych"}]
[131090,null,2,{"$f":"D100","v":"K"},"III",null,null,null,null,{"$f":"D101&\".\"&E101","v":"K.III"},{"$f":"E101","v":"III"},null,null,{"$f":"K101","v":"III"},{"$f":"teksty!$D$711","v":"Aktualizacja wartości aktywów finansowych"}]
[131090,null,2,{"$f":"D101","v":"K"},"IV",null,null,null,null,"K.IV",{"$f":"E102","v":"IV"},null,null,"IV",{"$f":"teksty!$D$712","v":"Inne"}]
[131090,null,1,"L",null,null,null,null,null,{"$f":"$D103","v":"L"},{"$f":"D103","v":"L"},null,null,"L",{"$f":"teksty!$D$713","v":"Zysk (strata) brutto (I+J–K)"},null,null,null,null,null,null,{"$f":"V82+V83-V96","v":0},{"$f":"W82+W83-W96","v":0}]
[131090,null,1,"M",null,null,null,null,null,{"$f":"$D104","v":"M"},{"$f":"D104","v":"M"},null,null,"M",{"$f":"teksty!$D$714","v":"Podatek dochodowy"}]
[131090,null,{"$f":"COUNTA(D105:H105)","v":2},{"$f":"D104","v":"M"},"j",null,null,null,null,{"$f":"D105&\".\"&E105","v":"M.j"},null,null,null,null,{"$f":"IF($N$105=\"\",\" – \") & SUBSTITUTE(teksty!D$356,\":\",\" \" & teksty!$D$668 & \":\")","v":" – w tym podatek odroczony:"}]
[131090,null,1,"N",null,null,null,null,null,{"$f":"$D106","v":"N"},{"$f":"D106","v":"N"},null,null,"N",{"$f":"teksty!$D$715","v":"Pozostałe obowiązkowe zmniejszenia zysku (zwiększenia straty)"}]
[131090,null,1,"O",null,null,null,null,null,{"$f":"$D107","v":"O"},{"$f":"D107","v":"O"},null,null,"O",{"$f":"teksty!$D$716","v":"Zysk (strata) netto (L–M–N)"},null,null,null,null,null,null,{"$f":"V103-V104-V106","v":0},{"$f":"W103-W104-W106","v":0},null,null,{"$f":"IF(WrfKwot,IF(AND(AF107=0,AG107=0,AH107=0),\"=\",\"!\"),\"\")","v":""},{"$f":"IF(AB107=\"-\", \"-\",SUBSTITUTE(SUBSTITUTE(EtykietaNaNazwe(Bilans!$J$219),\"_A\",\" A\"),\"_\",\".\"))","v":"-"},{"$f":"IF(Bilans!WybranyWariant=\"JednostkaInna\",Bilans!V$120,IF(Bilans!WybranyWariant = \"JednostkaMala\", Bilans!V$219,\"-\"))","v":"-"},{"$f":"IF(Bilans!WybranyWariant=\"JednostkaInna\",Bilans!W$120,IF(Bilans!WybranyWariant = \"JednostkaMala\", Bilans!W$219,\"-\"))","v":"-"},{"$f":"IF(Bilans!WybranyWariant=\"JednostkaInna\",Bilans!X$120,IF(Bilans!WybranyWariant = \"JednostkaMala\", Bilans!X$219,\"-\"))","v":"-"},null,{"$f":"ROUND(IF(ISNUMBER(AB107),V107-AB107,0),2)","v":0},{"$f":"ROUND(IF(ISNUMBER(AC107),W107-AC107,0),2)","v":0},{"$f":"ROUND(IF(ISNUMBER(AD107),X107-AD107,0),2)","v":0}]
[0,null,0,null,null,null,null,null,"Jednostka Mala","kalkulacyjny"]
[{"$f":"(2*65536)+(4)","v":131076},null,{"$f":"COUNTA(D109:H109)","v":1},"A",null,null,null,null,null,{"$f":"$D109","v":"A"},{"$f":"D109","v":"A"},null,null,{"$f":"K109","v":"A"},{"$f":"SUBSTITUTE(teksty!$D$672,inc,\"\")","v":"Przychody netto ze sprzedaży produktów i towarów"}]
[{"$f":"(2*65536)+(4)","v":131076},null,{"$f":"COUNTA(D110:H110)","v":1},"B",null,null,null,null,null,"B","B",null,null,{"$f":"K110","v":"B"},{"$f":"SUBSTITUTE(teksty!$D$676,inc,\"\")","v":"Koszty sprzedanych produktów i towarów"}]
[131076,null,1,"C",null,null,null,null,null,"C","C",null,null,{"$f":"K111","v":"C"},{"$f":"teksty!$D$681","v":"Koszty sprzedaży"}]
[131076,null,1,"D",null,null,null,null,null,"D","D",null,null,"D",{"$f":"teksty!$D$682","v":"Koszty ogólnego zarządu"}]
[131076,null,1,"E",null,null,null,null,null,"E","E",null,null,"E",{"$f":"teksty!$D$722","v":"Zysk (strata) ze sprzedaży (A - B - C - D)"},null,null,null,null,null,null,{"$f":"V109-V110-V111-V112","v":0},{"$f":"W109-W110-W111-W112","v":0}]
[131076,null,1,"F",null,null,null,null,null,"F","F",null,null,"F",{"$f":"teksty!$D$684 & inc","v":"Pozostałe przychody operacyjne, w tym:"}]
[131076,null,2,{"$f":"D114","v":"F"},1,null,null,null,null,{"$f":"D115&\".\"&E115","v":"F.1"},{"$f":"E115","v":1},null,null,null,{"$f":"\" – \" &  LOWER(teksty!$D$687)","v":" – aktualizacja wartości aktywów niefinansowych"}]
[131076,null,1,"G",null,null,null,null,null,{"$f":"$D116","v":"G"},{"$f":"D116","v":"G"},null,null,"G",{"$f":"teksty!$D$689 & inc","v":"Pozostałe koszty operacyjne, w tym:"}]
[131076,null,2,{"$f":"D116","v":"G"},1,null,null,null,null,{"$f":"D117&\".\"&E117","v":"G.1"},{"$f":"E117","v":1},null,null,null,{"$f":"\" – \" & LOWER(teksty!$D$691)","v":" – aktualizacja wartości aktywów niefinansowych"}]
[131076,null,1,"H",null,null,null,null,null,{"$f":"$D118","v":"H"},{"$f":"D118","v":"H"},null,null,"H",{"$f":"teksty!$D$694 & inc","v":"Przychody finansowe, w tym:"}]
[131076,null,2,{"$f":"D118","v":"H"},"I",null,null,null,null,{"$f":"D119&\".\"&E119","v":"H.I"},{"$f":"E119","v":"I"},null,null,"I",{"$f":"teksty!$D$720","v":"Dywidendy i udziały w zyskach od jednostek, w których jednostka posiada zaangażowanie w kapitale, w tym:"}]
[131076,null,3,{"$f":"D119","v":"H"},"I",1,null,null,null,{"$f":"$D120&\".\"&E120&\".\"&F120","v":"H.I.1"},{"$f":"F120","v":1},null,null,null,{"$f":"\" – \" & SUBSTITUTE(teksty!$D$696,inc,\"\") & \",\" &  teksty!$D$697","v":" – od jednostek powiązanych,w których jednostka posiada zaangażowanie w kapitale"}]
[131076,null,2,"H","II",null,null,null,null,{"$f":"D121&\".\"&E121","v":"H.II"},{"$f":"E121","v":"II"},null,null,{"$f":"K121","v":"II"},{"$f":"teksty!$D$700","v":"Odsetki, w tym:"}]
[131076,null,3,{"$f":"D121","v":"H"},"II",1,null,null,null,{"$f":"D122&\".\"&E122&\".\"&F122","v":"H.II.1"},null,null,null,null,{"$f":"IF($N$90=\"\",\" – \") & teksty!$D$701","v":" – od jednostek powiązanych"}]
[131076,null,2,{"$f":"D122","v":"H"},"III",null,null,null,null,{"$f":"D123&\".\"&E123","v":"H.III"},{"$f":"E123","v":"III"},null,null,{"$f":"K123","v":"III"},{"$f":"teksty!$D$702","v":"Zysk z tytułu rozchodu aktywów finansowych, w tym:"}]
[131076,null,3,{"$f":"D123","v":"H"},"III",1,null,null,null,{"$f":"D124&\".\"&E124&\".\"&F124","v":"H.III.1"},null,null,null,null,{"$f":"IF($N$93=\"\",\" – \") & teksty!$D$703","v":" – w jednostkach powiązanych"}]
[131076,null,2,{"$f":"D124","v":"H"},"IV",null,null,null,null,{"$f":"D125&\".\"&E125","v":"H.IV"},{"$f":"E125","v":"IV"},null,null,{"$f":"K125","v":"IV"},{"$f":"teksty!$D$704","v":"Aktualizacja wartości aktywów finansowych"}]
[131076,null,1,"I",null,null,null,null,null,{"$f":"$D126","v":"I"},{"$f":"D126","v":"I"},null,null,{"$f":"K126","v":"I"},{"$f":"teksty!$D$706 & inc","v":"Koszty finansowe, w tym:"}]
[131076,null,2,{"$f":"D126","v":"I"},"I",null,null,null,null,{"$f":"D127&\".\"&E127","v":"I.I"},{"$f":"E127","v":"I"},null,null,{"$f":"K127","v":"I"},{"$f":"teksty!$D$707","v":"Odsetki, w tym:"}]
[131076,null,3,{"$f":"D127","v":"I"},"I",1,null,null,null,{"$f":"D128&\".\"&E128&\".\"&F128","v":"I.I.1"},null,null,null,null,{"$f":"IF($N$98=\"\",\" – \") & teksty!$D$708","v":" – dla jednostek powiązanych"}]
[131076,null,2,{"$f":"D128","v":"I"},"II",null,null,null,null,{"$f":"D129&\".\"&E129","v":"I.II"},{"$f":"E129","v":"II"},null,null,{"$f":"K129","v":"II"},{"$f":"teksty!$D$709","v":"Strata z tytułu rozchodu aktywów finansowych, w tym:"}]
[131076,null,3,{"$f":"D129","v":"I"},"II",1,null,null,null,{"$f":"D130&\".\"&E130&\".\"&F130","v":"I.II.1"},null,null,null,null,{"$f":"IF($N$100=\"\",\" – \") & teksty!$D$710","v":" – w jednostkach powiązanych"}]
[131076,null,2,{"$f":"D130","v":"I"},"III",null,null,null,null,{"$f":"D131&\".\"&E131","v":"I.III"},{"$f":"E131","v":"III"},null,null,{"$f":"K131","v":"III"},{"$f":"teksty!$D$711","v":"Aktualizacja wartości aktywów finansowych"}]
[131076,null,1,"J",null,null,null,null,null,{"$f":"$D132","v":"J"},{"$f":"D132","v":"J"},null,null,"J",{"$f":"teksty!$D$723","v":"Zysk (strata) brutto (E + F - G + H - I)"},null,null,null,null,null,null,{"$f":"V113+V114-V116+V118-V126","v":0},{"$f":"W113+W114-W116+W118-W126","v":0}]
[131076,null,1,"K",null,null,null,null,null,{"$f":"$D133","v":"K"},{"$f":"D133","v":"K"},null,null,"K",{"$f":"teksty!$D$714","v":"Podatek dochodowy"}]
[131076,null,{"$f":"COUNTA(D134:H134)","v":2},{"$f":"D133","v":"K"},"j",null,null,null,null,{"$f":"D134&\".\"&E134","v":"K.j"},{"$f":"E134","v":"j"},null,null,null,{"$f":"IF($N$134=\"\",\" – \") & SUBSTITUTE(teksty!D$356,\":\",\" \" & teksty!$D$668 & \":\")","v":" – w tym podatek odroczony:"}]
[131076,null,1,"L",null,null,null,null,null,{"$f":"$D135","v":"L"},{"$f":"D135","v":"L"},null,null,"L",{"$f":"teksty!$D$724","v":"Zysk (strata) netto (J - K)"},null,null,null,null,null,null,{"$f":"V132-V133","v":0},{"$f":"W132-W133","v":0},null,null,{"$f":"IF(WrfKwot,IF(AND(AF135=0,AG135=0,AH135=0),\"=\",\"!\"),\"\")","v":""},{"$f":"IF(AB135=\"-\", \"-\",SUBSTITUTE(SUBSTITUTE(EtykietaNaNazwe(Bilans!$J$219),\"_A\",\" A\"),\"_\",\".\"))","v":"-"},{"$f":"IF(Bilans!WybranyWariant=\"JednostkaInna\",Bilans!V$120,IF(Bilans!WybranyWariant = \"JednostkaMala\", Bilans!V$219,\"-\"))","v":"-"},{"$f":"IF(Bilans!WybranyWariant=\"JednostkaInna\",Bilans!W$120,IF(Bilans!WybranyWariant = \"JednostkaMala\", Bilans!W$219,\"-\"))","v":"-"},{"$f":"IF(Bilans!WybranyWariant=\"JednostkaInna\",Bilans!X$120,IF(Bilans!WybranyWariant = \"JednostkaMala\", Bilans!X$219,\"-\"))","v":"-"},null,{"$f":"ROUND(IF(ISNUMBER(AB135),V135-AB135,0),2)","v":0},{"$f":"ROUND(IF(ISNUMBER(AC135),W135-AC135,0),2)","v":0},{"$f":"ROUND(IF(ISNUMBER(AD135),X135-AD135,0),2)","v":0}]
[0,null,0,null,null,null,null,null,"Jednostka Mala","porównawczy"]
[{"$f":"(4*65536)+(4)","v":262148},null,1,"A",null,null,null,null,null,{"$f":"$D137","v":"A"},{"$f":"D137","v":"A"},null,null,{"$f":"K137","v":"A"},{"$f":"SUBSTITUTE(teksty!$D$618,inc,\"\")","v":"Przychody netto ze sprzedaży i zrównane z nimi"},null,null,null,null,null,null,{"$f":"V138+V139+V140","v":0},{"$f":"W138+W139+W140","v":0}]
[{"$f":"(4*65536)+(4)","v":262148},null,2,{"$f":"D137","v":"A"},"I",null,null,null,null,{"$f":"D138&\".\"&E138","v":"A.I"},{"$f":"E138","v":"I"},null,null,{"$f":"K138","v":"I"},{"$f":"teksty!$D$726","v":"Przychody netto ze sprzedaży"}]
[262148,null,2,{"$f":"D138","v":"A"},"II",null,null,null,null,"A.II",{"$f":"E139","v":"II"},null,null,{"$f":"K139","v":"II"},{"$f":"teksty!$D$621","v":"Zmiana stanu produktów (zwiększenie – kwota dodatnia, zmniejszenie – kwota ujemna)"}]
[262148,null,2,{"$f":"D139","v":"A"},"III",null,null,null,null,"A.III","III",null,null,{"$f":"K140","v":"III"},{"$f":"teksty!$D$623","v":"Koszt wytworzenia produktów na własne potrzeby jednostki"}]
[262148,null,1,"B",null,null,null,null,null,{"$f":"$D141","v":"B"},{"$f":"D141","v":"B"},null,null,{"$f":"K141","v":"B"},{"$f":"teksty!$D$625","v":"Koszty działalności operacyjnej"},null,null,null,null,null,null,{"$f":"V142+V143+V144+V145+V146+V148","v":0},{"$f":"W142+W143+W144+W145+W146+W148","v":0}]
[262148,null,2,{"$f":"D141","v":"B"},"I",null,null,null,null,{"$f":"D142&\".\"&E142","v":"B.I"},{"$f":"E142","v":"I"},null,null,{"$f":"K142","v":"I"},{"$f":"teksty!$D$626","v":"Amortyzacja"}]
[262148,null,2,{"$f":"D142","v":"B"},"II",null,null,null,null,"B.II",{"$f":"E143","v":"II"},null,null,"II",{"$f":"teksty!$D$627","v":"Zużycie materiałów i energii"}]
[262148,null,2,{"$f":"D143","v":"B"},"III",null,null,null,null,"B.III","III",null,null,"III",{"$f":"teksty!$D$628","v":"Usługi obce"}]
[262148,null,2,"B","IV",null,null,null,null,{"$f":"D145&\".\"&E145","v":"B.IV"},{"$f":"E145","v":"IV"},null,null,{"$f":"K145","v":"IV"},{"$f":"teksty!$D$631","v":"Wynagrodzenia"}]
[262148,null,2,{"$f":"D145","v":"B"},"V",null,null,null,null,"B.V","V",null,null,"V",{"$f":"teksty!$D$632","v":"Ubezpieczenia społeczne i inne świadczenia, w tym:"}]
[262148,null,3,{"$f":"D146","v":"B"},"V",1,null,null,null,{"$f":"D147&\".\"&E147&\".\"&F147","v":"B.V.1"},null,null,null,null,{"$f":"\" – \" & teksty!$D$633","v":" – emerytalne"}]
[262148,null,2,{"$f":"D147","v":"B"},"VI",null,null,null,null,{"$f":"D148&\".\"&E148","v":"B.VI"},{"$f":"E148","v":"VI"},null,null,{"$f":"K148","v":"VI"},{"$f":"teksty!$D$727","v":"Pozostałe koszty, w tym:"}]
[262148,null,{"$f":"COUNTA(D149:H149)","v":3},"B","VI",1,null,null,null,{"$f":"D149&\".\"&E149&\".\"&F149","v":"B.VI.1"},null,null,null,null,{"$f":"\" – \" & LOWER(teksty!$D$635)","v":" – wartość sprzedanych towarów"}]
[{"$f":"(4*65536)+(4)","v":262148},null,{"$f":"COUNTA(D150:H150)","v":1},"C",null,null,null,null,null,{"$f":"$D150","v":"C"},{"$f":"D150","v":"C"},null,null,{"$f":"K150","v":"C"},{"$f":"teksty!$D$728","v":"Zysk (strata) ze sprzedaży (A - B)"},null,null,null,null,null,null,{"$f":"V137-V141","v":0},{"$f":"W137-W141","v":0}]
[262148,null,1,"D",null,null,null,null,null,{"$f":"$D151","v":"D"},{"$f":"D151","v":"D"},null,null,"D",{"$f":"teksty!$D$684 & inc","v":"Pozostałe przychody operacyjne, w tym:"}]
[262148,null,2,{"$f":"D151","v":"D"},1,null,null,null,null,{"$f":"D152&\".\"&E152","v":"D.1"},{"$f":"E152","v":1},null,null,null,{"$f":"\" – \" & LOWER(teksty!$D$687)","v":" – aktualizacja wartości aktywów niefinansowych"}]
[262148,null,1,"E",null,null,null,null,null,{"$f":"$D153","v":"E"},{"$f":"D153","v":"E"},null,null,{"$f":"K153","v":"E"},{"$f":"teksty!$D$689 & inc","v":"Pozostałe koszty operacyjne, w tym:"}]
[262148,null,2,{"$f":"D153","v":"E"},1,null,null,null,null,{"$f":"D154&\".\"&E154","v":"E.1"},{"$f":"E154","v":1},null,null,null,{"$f":"\" – \" & LOWER(teksty!$D$691)","v":" – aktualizacja wartości aktywów niefinansowych"}]
[262148,null,1,"F",null,null,null,null,null,{"$f":"$D155","v":"F"},{"$f":"D155","v":"F"},null,null,{"$f":"K155","v":"F"},{"$f":"teksty!$D$694 & inc","v":"Przychody finansowe, w tym:"}]
[262148,null,2,{"$f":"D155","v":"F"},"I",null,null,null,null,{"$f":"D156&\".\"&E156","v":"F.I"},{"$f":"E156","v":"I"},null,null,"I",{"$f":"teksty!$D$720","v":"Dywidendy i udziały w zyskach od jednostek, w których jednostka posiada zaangażowanie w kapitale, w tym:"}]
[262148,null,3,{"$f":"D156","v":"F"},"I",1,null,null,null,{"$f":"$D157&\".\"&E157&\".\"&F157","v":"F.I.1"},{"$f":"F157","v":1},null,null,null,{"$f":"\" – \" &SUBSTITUTE(teksty!$D$696,inc,\"\") & \",\" &  teksty!$D$697","v":" – od jednostek powiązanych,w których jednostka posiada zaangażowanie w kapitale"}]
[262148,null,2,{"$f":"D157","v":"F"},"II",null,null,null,null,{"$f":"D158&\".\"&E158","v":"F.II"},{"$f":"E158","v":"II"},null,null,{"$f":"K158","v":"II"},{"$f":"teksty!$D$700","v":"Odsetki, w tym:"}]
[262148,null,3,{"$f":"D158","v":"F"},"II",1,null,null,null,{"$f":"D159&\".\"&E159&\".\"&F159","v":"F.II.1"},null,null,null,null,{"$f":"\" – \" & teksty!$D$701","v":" – od jednostek powiązanych"}]
[262148,null,2,{"$f":"D159","v":"F"},"III",null,null,null,null,{"$f":"D160&\".\"&E160","v":"F.III"},{"$f":"E160","v":"III"},null,null,{"$f":"K160","v":"III"},{"$f":"teksty!$D$702","v":"Zysk z tytułu rozchodu aktywów finansowych, w tym:"}]
[262148,null,3,{"$f":"D160","v":"F"},"III",1,null,null,null,{"$f":"D161&\".\"&E161&\".\"&F161","v":"F.III.1"},null,null,null,null,{"$f":"\" – \" &teksty!$D$703","v":" – w jednostkach powiązanych"}]
[262148,null,2,{"$f":"D161","v":"F"},"IV",null,null,null,null,{"$f":"D162&\".\"&E162","v":"F.IV"},{"$f":"E162","v":"IV"},null,null,{"$f":"K162","v":"IV"},{"$f":"teksty!$D$704","v":"Aktualizacja wartości aktywów finansowych"}]
[262148,null,1,"G",null,null,null,null,null,{"$f":"$D163","v":"G"},{"$f":"D163","v":"G"},null,null,{"$f":"K163","v":"G"},{"$f":"teksty!$D$706 & inc","v":"Koszty finansowe, w tym:"}]
[262148,null,2,{"$f":"D163","v":"G"},"I",null,null,null,null,{"$f":"D164&\".\"&E164","v":"G.I"},{"$f":"E164","v":"I"},null,null,{"$f":"K164","v":"I"},{"$f":"teksty!$D$707","v":"Odsetki, w tym:"}]
[262148,null,3,{"$f":"D164","v":"G"},"I",1,null,null,null,{"$f":"D165&\".\"&E165&\".\"&F165","v":"G.I.1"},null,null,null,null,{"$f":"\" – \" &teksty!$D$708","v":" – dla jednostek powiązanych"}]
[262148,null,2,{"$f":"D165","v":"G"},"II",null,null,null,null,{"$f":"D166&\".\"&E166","v":"G.II"},{"$f":"E166","v":"II"},null,null,{"$f":"K166","v":"II"},{"$f":"teksty!$D$709","v":"Strata z tytułu rozchodu aktywów finansowych, w tym:"}]
[262148,null,3,{"$f":"D166","v":"G"},"II",1,null,null,null,{"$f":"D167&\".\"&E167&\".\"&F167","v":"G.II.1"},null,null,null,null,{"$f":"\" – \" & teksty!$D$710","v":" – w jednostkach powiązanych"}]
[262148,null,2,{"$f":"D167","v":"G"},"III",null,null,null,{"$f":"teksty!$D$614 & teksty!$D$284 & 1","v":"RZiS, koniec strony 1"},{"$f":"D168&\".\"&E168","v":"G.III"},{"$f":"E168","v":"III"},null,null,{"$f":"K168","v":"III"},{"$f":"teksty!$D$711","v":"Aktualizacja wartości aktywów finansowych"}]
[262148,"P",0,null,null,null,null,null,null,null,null,null,null,{"$f":"teksty!$D$141 & teksty!$D$718","v":"wariant porównawczy,  c.d. poprzedniej strony"},null,null,null,null,null,null,{"$f":"$U$5","v":""},{"$f":"$V$5","v":"Okres\nbieżący"},{"$f":"$W$5","v":"Okres\npoprzedni"},{"$f":"teksty!$D$292","v":"Przekszt. dane porów. za poprzedni okres"}]
[262148,null,1,"H",null,null,null,null,null,{"$f":"$D170","v":"H"},{"$f":"D170","v":"H"},null,null,"H",{"$f":"teksty!$D$729","v":"Zysk (strata) brutto (C + D - E + F - G)"},null,null,null,null,null,null,{"$f":"V150+V151-V153+V155-V163","v":0},{"$f":"W150+W151-W153+W155-W163","v":0},null,null,{"$f":"teksty!$D$285","v":"ukryty wiersz powyżej zawiera nagłówek dla kolejnej strony"}]
[262148,null,1,"I",null,null,null,null,null,{"$f":"$D171","v":"I"},{"$f":"D171","v":"I"},null,null,"I",{"$f":"teksty!$D$714","v":"Podatek dochodowy"}]
[262148,null,{"$f":"COUNTA(D172:H172)","v":2},{"$f":"D171","v":"I"},"j",null,null,null,null,{"$f":"D172&\".\"&E172","v":"I.j"},{"$f":"E172","v":"j"},null,null,null,{"$f":"IF($N$172=\"\",\" – \") & SUBSTITUTE(teksty!D$356,\":\",\" \" & teksty!$D$668 & \":\")","v":" – w tym podatek odroczony:"}]
[262148,null,1,"J",null,null,null,null,null,{"$f":"$D173","v":"J"},{"$f":"D173","v":"J"},null,null,"J",{"$f":"teksty!$D$730","v":"Zysk (strata) netto (H - I)"},null,null,null,null,null,null,{"$f":"V170-V171","v":0},{"$f":"W170-W171","v":0},null,null,{"$f":"IF(WrfKwot,IF(AND(AF173=0,AG173=0,AH173=0),\"=\",\"!\"),\"\")","v":""},{"$f":"IF(AB173=\"-\", \"-\",SUBSTITUTE(SUBSTITUTE(EtykietaNaNazwe(Bilans!$J$219),\"_A\",\" A\"),\"_\",\".\"))","v":"-"},{"$f":"IF(Bilans!WybranyWariant=\"JednostkaInna\",Bilans!V$120,IF(Bilans!WybranyWariant = \"JednostkaMala\", Bilans!V$219,\"-\"))","v":"-"},{"$f":"IF(Bilans!WybranyWariant=\"JednostkaInna\",Bilans!W$120,IF(Bilans!WybranyWariant = \"JednostkaMala\", Bilans!W$219,\"-\"))","v":"-"},{"$f":"IF(Bilans!WybranyWariant=\"JednostkaInna\",Bilans!X$120,IF(Bilans!WybranyWariant = \"JednostkaMala\", Bilans!X$219,\"-\"))","v":"-"},null,{"$f":"ROUND(IF(ISNUMBER(AB173),V173-AB173,0),2)","v":0},{"$f":"ROUND(IF(ISNUMBER(AC173),W173-AC173,0),2)","v":0},{"$f":"ROUND(IF(ISNUMBER(AD173),X173-AD173,0),2)","v":0}]
[262148,null,{"$f":"COUNTA(D174:H174)","v":0}]
[0,null,null,null,null,null,null,null,"Jednostka Op"]
[{"$f":"(6*65536)+(32)","v":393248},null,null,null,null,null,null,null,null,null,null,null,null,{"$f":"teksty!$D$885","v":"wyszczególnienie"},null,null,null,null,null,null,{"$f":"$U$5","v":""},{"$f":"$V$5","v":"Okres\nbieżący"},{"$f":"$W$5","v":"Okres\npoprzedni"},{"$f":"teksty!$D$292","v":"Przekszt. dane porów. za poprzedni okres"},null,null,{"$f":"IF(OR(_xlfn.ISFORMULA($V$177),_xlfn.ISFORMULA($W$177)),teksty!$D$951,\"\")","v":"W niektórych polach tego zestawienia napotkasz pomocnicze formuły. Jeżeli to potrzebne, możesz je zmienić, lub wpisać w te pola odpowiednie kwoty."}]
[{"$f":"(6*65536)+(32)","v":393248},null,1,"A",null,null,null,null,null,{"$f":"$D177","v":"A"},{"$f":"D177","v":"A"},null,null,{"$f":"K177","v":"A"},{"$f":"teksty!$D$752","v":"Przychody z działalności statutowej"},null,null,null,null,null,null,{"$f":"V178+V179+V180","v":0},{"$f":"W178+W179+W180","v":0}]
[{"$f":"(6*65536)+(32)","v":393248},null,2,{"$f":"D177","v":"A"},"I",null,null,null,null,{"$f":"D178&\".\"&E178","v":"A.I"},{"$f":"E178","v":"I"},null,null,{"$f":"K178","v":"I"},{"$f":"teksty!$D$753","v":"Przychody z nieodpłatnej działalności pożytku publicznego"}]
[393248,null,2,{"$f":"D178","v":"A"},"II",null,null,null,null,"A.II",{"$f":"E179","v":"II"},null,null,{"$f":"K179","v":"II"},{"$f":"teksty!$D$754","v":"Przychody z odpłatnej działalności pożytku publicznego"}]
[393248,null,2,"A","III",null,null,null,null,"A.III","III",null,null,{"$f":"K180","v":"III"},{"$f":"teksty!$D$755","v":"Przychody z pozostałej działalności statutowej"}]
[393248,null,1,"B",null,null,null,null,null,{"$f":"$D181","v":"B"},{"$f":"D181","v":"B"},null,null,{"$f":"K181","v":"B"},{"$f":"teksty!$D$756","v":"Koszty działalnosci statutowej"},null,null,null,null,null,null,{"$f":"V182+V183+V184","v":0},{"$f":"W182+W183+W184","v":0}]
[393248,null,2,{"$f":"D181","v":"B"},"I",null,null,null,null,{"$f":"D182&\".\"&E182","v":"B.I"},{"$f":"E182","v":"I"},null,null,{"$f":"K182","v":"I"},{"$f":"teksty!$D$757","v":"Koszty nieodpłatnej działalności pożytku publicznego"}]
[393248,null,2,{"$f":"D182","v":"B"},"II",null,null,null,null,"B.II",{"$f":"E183","v":"II"},null,null,"II",{"$f":"teksty!$D$758","v":"Koszty odpłatnej działalności pożytku publicznego"}]
[393248,null,2,"B","III",null,null,null,null,"B.III","III",null,null,"III",{"$f":"teksty!$D$759","v":"Koszty pozostałej działalności statutowej"}]
[393248,null,1,"C",null,null,null,null,null,{"$f":"$D185","v":"C"},{"$f":"D185","v":"C"},null,null,{"$f":"K185","v":"C"},{"$f":"teksty!$D760","v":"Zysk (strata) z działalności statutowej (A - B)"},null,null,null,null,null,null,{"$f":"V177-V181","v":0},{"$f":"W177-W181","v":0}]
[393248,null,1,"D",null,null,null,null,null,"D","D",null,null,"D",{"$f":"teksty!$D761","v":"Przychody z działalności gospodarczej"}]
[393248,null,1,"E",null,null,null,null,null,"E","E",null,null,{"$f":"K187","v":"E"},{"$f":"teksty!$D762","v":"Koszty działalności gospodarczej"}]
[393248,null,1,"F",null,null,null,null,null,"F","F",null,null,{"$f":"K188","v":"F"},{"$f":"teksty!$D763","v":"Zysk (strata) z działalności gospodarczej (D - E)"},null,null,null,null,null,null,{"$f":"V186-V187","v":0},{"$f":"W186-W187","v":0}]
[393248,null,1,"G",null,null,null,null,null,"G","G",null,null,{"$f":"K189","v":"G"},{"$f":"teksty!$D764","v":"Koszty ogólnego zarządu"}]
[393248,null,1,"H",null,null,null,null,null,"H","H",null,null,{"$f":"K190","v":"H"},{"$f":"teksty!$D765","v":"Zysk (strata) z działalności operacyjnej (C + F - G)"},null,null,null,null,null,null,{"$f":"V185+V188-V189","v":0},{"$f":"W185+W188-W189","v":0}]
[393248,null,1,"I",null,null,null,null,null,"I","I",null,null,"I",{"$f":"teksty!$D766","v":"Pozostałe przychody operacyjne"}]
[393248,null,1,"J",null,null,null,null,null,"J","J",null,null,"J",{"$f":"teksty!$D767","v":"Pozostałe koszty operacyjne"}]
[393248,null,{"$f":"COUNTA(D193:H193)","v":1},"K",null,null,null,null,null,"K","K",null,null,{"$f":"K193","v":"K"},{"$f":"teksty!$D768","v":"Przychody finansowe"}]
[393248,null,1,"L",null,null,null,null,null,"L","L",null,null,"L",{"$f":"teksty!$D769","v":"Koszty finansowe"}]
[393248,null,1,"M",null,null,null,null,null,"M","M",null,null,{"$f":"K195","v":"M"},{"$f":"teksty!$D770","v":"Zysk (strata) brutto (H + I - J + K - L)"},null,null,null,null,null,null,{"$f":"V190+V191-V192+V193-V194","v":0},{"$f":"W190+W191-W192+W193-W194","v":0}]
[393248,null,1,"N",null,null,null,null,null,"N","N",null,null,"N",{"$f":"teksty!$D$771","v":"Podatek dochodowy"}]
[393248,null,{"$f":"COUNTA(D197:H197)","v":1},"O",null,null,null,null,null,"O","O",null,null,{"$f":"K197","v":"O"},{"$f":"teksty!$D772","v":"Zysk (strata) netto (M - N)"},null,null,null,null,null,null,{"$f":"V195-V196","v":0},{"$f":"W195-W196","v":0},null,null,{"$f":"IF(WrfKwot,IF(AND(AF197=0,AG197=0,AH197=0),\"=\",\"!\"),\"\")","v":""},{"$f":"SUBSTITUTE(SUBSTITUTE(EtykietaNaNazwe(Bilans!$J$257),\"_A\",\" A\"),\"_\",\".\")","v":"Pasywa A.IV"},{"$f":"Bilans!$V$257","v":0},{"$f":"Bilans!$W$257","v":0},{"$f":"Bilans!$X$257","v":0},null,{"$f":"ROUND(V197-AB197,2)","v":0},{"$f":"ROUND(W197-AC197,2)","v":0},{"$f":"ROUND(X197-AD197,2)","v":0}]
[0,null,{"$f":"COUNTA(D198:H198)","v":0},null,null,null,null,null,"Jednostka Mikro"]
[{"$f":"(6*65536)+(8)","v":393224},null,null,null,null,null,null,null,null,null,null,null,null,{"$f":"teksty!$D$885","v":"wyszczególnienie"},null,null,null,null,null,null,{"$f":"$U$5","v":""},{"$f":"$V$5","v":"Okres\nbieżący"},{"$f":"$W$5","v":"Okres\npoprzedni"},{"$f":"teksty!$D$292","v":"Przekszt. dane porów. za poprzedni okres"},null,null,{"$f":"IF(OR(_xlfn.ISFORMULA($V$202),_xlfn.ISFORMULA($W$202)),teksty!$D$951,\"\")","v":"W niektórych polach tego zestawienia napotkasz pomocnicze formuły. Jeżeli to potrzebne, możesz je zmienić, lub wpisać w te pola odpowiednie kwoty."}]
[{"$f":"(6*65536)+(8)","v":393224},null,1,"A",null,null,null,null,null,{"$f":"$D200","v":"A"},{"$f":"D200","v":"A"},null,null,{"$f":"K200","v":"A"},{"$f":"teksty!D774","v":"Przychody podstawowej działalności operacyjnej i zrównane z nimi, w tym:"}]
[{"$f":"(6*65536)+(8)","v":393224},null,2,{"$f":"D200","v":"A"},1,null,null,null,null,{"$f":"D201&\".\"&E201","v":"A.1"},null,null,null,null,{"$f":"\" – \" & LOWER(teksty!$D$621)","v":" – zmiana stanu produktów (zwiększenie – kwota dodatnia, zmniejszenie – kwota ujemna)"}]
[393224,null,1,"B",null,null,null,null,null,{"$f":"$D202","v":"B"},{"$f":"D202","v":"B"},null,null,{"$f":"K202","v":"B"},{"$f":"teksty!$D$775","v":"Koszty podstawowej działalności operacyjnej"},null,null,null,null,null,null,{"$f":"V203+V204+V205+V206","v":0},{"$f":"W203+W204+W205+W206","v":0}]
[393224,null,2,{"$f":"D202","v":"B"},"I",null,null,null,null,{"$f":"D203&\".\"&E203","v":"B.I"},{"$f":"E203","v":"I"},null,null,{"$f":"K203","v":"I"},{"$f":"teksty!$D$626","v":"Amortyzacja"}]
[393224,null,2,{"$f":"D203","v":"B"},"II",null,null,null,null,"B.II",{"$f":"E204","v":"II"},null,null,"II",{"$f":"teksty!$D$627","v":"Zużycie materiałów i energii"}]
[393224,null,2,"B","III",null,null,null,null,"B.III","III",null,null,"III",{"$f":"teksty!$D$776","v":"Wynagrodzenia, ubezpieczenia społeczne i inne świadczenia"}]
[393224,null,2,"B","IV",null,null,null,null,"B.IV","IV",null,null,"IV",{"$f":"SUBSTITUTE(teksty!$D$727,inc,\"\")","v":"Pozostałe koszty"}]
[393224,null,1,"C",null,null,null,null,null,{"$f":"$D207","v":"C"},{"$f":"D207","v":"C"},null,null,{"$f":"K207","v":"C"},{"$f":"teksty!$D$777","v":"Pozostałe przychody i zyski, w tym:"}]
[393224,null,2,{"$f":"D207","v":"C"},1,null,null,null,null,{"$f":"D208&\".\"&E208","v":"C.1"},{"$f":"E208","v":1},null,null,null,{"$f":"\" – \" & teksty!$D$778","v":" – aktualizacja wartości aktywów"}]
[393224,null,1,"D",null,null,null,null,null,{"$f":"$D209","v":"D"},{"$f":"D209","v":"D"},null,null,{"$f":"K209","v":"D"},{"$f":"teksty!$D$779","v":"Pozostałe koszty i straty, w tym:"}]
[393224,null,2,{"$f":"D209","v":"D"},1,null,null,null,null,{"$f":"D210&\".\"&E210","v":"D.1"},{"$f":"E210","v":1},null,null,null,{"$f":"\" – \" & teksty!$D$778","v":" – aktualizacja wartości aktywów"}]
[393224,null,1,"E",null,null,null,null,null,{"$f":"$D211","v":"E"},{"$f":"D211","v":"E"},null,null,{"$f":"K211","v":"E"},{"$f":"teksty!$D$771","v":"Podatek dochodowy"}]
[{"$f":"(6*65536)+(8)","v":393224},null,1,"F",null,null,null,null,null,{"$f":"$D212","v":"F"},{"$f":"D212","v":"F"},null,null,"F",{"$f":"teksty!$D$780","v":"Zysk/strata netto (A-B+C-D-E) "},null,null,null,null,null,null,{"$f":"V200-V202+V207-V209-V211","v":0},{"$f":"W200-W202+W207-W209-W211","v":0}]
[0,null,1,"G",null,null,null,null,null,{"$f":"$D213","v":"G"},{"$f":"D213","v":"G"},null,null,"G",{"$f":"teksty!$D$781","v":"wykreślone w schemie 1-3"},null,null,null,null,null,null,{"$f":"V200-V202+V207-V209-V211","v":0},{"$f":"W200-W202+W207-W209-W211","v":0}]
[0,null,{"$f":"COUNTA(D214:H214)","v":2},{"$f":"D213","v":"G"},"I",null,null,null,null,{"$f":"D214&\".\"&E214","v":"G.I"},{"$f":"E214","v":"I"},null,null,{"$f":"K214","v":"I"},{"$f":"teksty!$D$782","v":"wykreślone w schemie 1-3"}]
[0,null,{"$f":"COUNTA(D215:H215)","v":2},{"$f":"D214","v":"G"},"II",null,null,null,null,{"$f":"D215&\".\"&E215","v":"G.II"},{"$f":"E215","v":"II"},null,null,{"$f":"K215","v":"II"},{"$f":"teksty!$D$783","v":"wykreślone w schemie 1-3"}]
[393224,null,0]
[0,null,null,null,null,null,null,null,"Skonsolidowana","porównawczy"]
[{"$f":"#REF!","v":{"$error":"#REF!"}},"P",{"$f":"COUNTA(D218:H218)","v":0},null,null,null,null,null,null,null,null,null,null,{"$f":"teksty!$D$141 & teksty!$D$718","v":"wariant porównawczy,  c.d. poprzedniej strony"},null,null,null,null,null,null,{"$f":"$U$5","v":""},{"$f":"$V$5","v":"Okres\nbieżący"},{"$f":"$W$5","v":"Okres\npoprzedni"},{"$f":"teksty!$D$292","v":"Przekszt. dane porów. za poprzedni okres"}]
[{"$f":"#REF!","v":{"$error":"#REF!"}},"P",{"$f":"COUNTA(D219:H219)","v":0},null,null,null,null,null,null,null,null,null,null,{"$f":"teksty!$D$140 & teksty!$D$718","v":"wariant kalkulacyjny,  c.d. poprzedniej strony"},null,null,null,null,null,null,{"$f":"$U$5","v":""},{"$f":"$V$5","v":"Okres\nbieżący"},{"$f":"$W$5","v":"Okres\npoprzedni"},{"$f":"teksty!$D$292","v":"Przekszt. dane porów. za poprzedni okres"}]

{"sheet":"Kapitał","index":4,"n_rows":101,"n_cols":36,"rows_kept":101,"cut":false,"hidden":false,"merged":[[4,26,4,30],[2,13,2,20],[100,13,100,19],[99,13,99,19],[11,14,11,20],[7,14,7,20],[10,14,10,20],[4,13,4,19],[5,14,5,20],[6,14,6,20],[8,14,8,20],[9,14,9,20],[23,14,23,20],[13,14,13,20],[14,14,14,20],[15,14,15,20],[18,14,18,20],[12,14,12,20],[16,14,16,20],[17,14,17,20],[21,14,21,20],[22,14,22,20],[19,14,19,20],[20,14,20,20],[24,14,24,20],[25,14,25,20],[26,14,26,20],[27,14,27,20],[31,14,31,20],[32,14,32,20],[29,14,29,20],[30,14,30,20],[28,14,28,20],[56,14,56,20],[60,14,60,20],[57,14,57,20],[58,14,58,20],[59,14,59,20],[61,14,61,20],[62,14,62,20],[63,14,63,20],[64,14,64,20],[82,14,82,20],[86,14,86,20],[90,14,90,20],[87,14,87,20],[88,14,88,20],[89,14,89,20],[85,14,85,20],[83,14,83,20],[84,14,84,20],[97,14,97,20],[91,14,91,20],[92,14,92,20],[93,14,93,20],[94,14,94,20],[95,14,95,20],[96,14,96,20],[71,14,71,20],[65,13,65,19],[79,14,79,20],[80,14,80,20],[81,14,81,20],[78,14,78,20],[67,14,67,20],[68,14,68,20],[72,14,72,20],[76,14,76,20],[77,14,77,20],[73,14,73,20],[74,14,74,20],[75,14,75,20],[69,14,69,20],[70,14,70,20],[66,14,66,20],[55,14,55,20],[33,14,33,20],[34,14,34,20],[35,14,35,20],[41,14,41,20],[42,14,42,20],[37,13,37,19],[49,14,49,20],[50,14,50,20],[51,14,51,20],[52,14,52,20],[36,14,36,20],[38,14,38,20],[39,14,39,20],[40,14,40,20],[44,14,44,20],[46,14,46,20],[47,14,47,20],[48,14,48,20],[53,14,53,20],[54,14,54,20],[45,14,45,20],[43,14,43,20]]}
["ZestZmianWKapitale",null,"Poziom",null,null,"Składniki",null,null,null,"(pełen symbol)","(wyświetlana etykieta)",null,null,null,null,null,null,1,{"$f":"VLOOKUP(WybranaPozycja,teksty!B123:F127,2)","v":"JednostkaInna"}]
[null,null,null,null,null,null,null,null,null,null,null,null,{"$f":"teksty!D884","v":"Zestawienie zmian w kapitale (funduszu) własnym"}]
[null,null,null,null,null,null,null,null,{"$f":"teksty!$D$291","v":"Opcjonalne. Aby nie włączać tego zestawienia do sprawozdania - ukryj ten arkusz"},null,null,null,null,{"$f":"Wprowadzenie!$I$4 & \" \" & IF(NumerWariantuRaportu = 5,  teksty!$D$289, \"\")","v":" "},null,null,null,null,null,null,null,null,{"$f":"teksty!D283 & VLOOKUP(NumerBazyRaportu,BazyKwot,3)","v":"wszystkie kwoty w złotych"},{"$f":"teksty!D283 & VLOOKUP(NumerBazyRaportu,BazyKwot,3)","v":"wszystkie kwoty w złotych"}]
[]
[null,null,null,null,null,null,null,null,null,null,null,null,null,{"$f":"teksty!D885","v":"wyszczególnienie"},null,null,null,null,null,null,{"$f":"IF(BezDat,\"\",teksty!$D$615)","v":""},{"$f":"IF(BezDat,teksty!$D$954,YEAR(DataDo))","v":"Okres\nbieżący"},{"$f":"IF(BezDat,teksty!$D$955,V5-1)","v":"Okres\npoprzedni"},{"$f":"teksty!$D$292","v":"Przekszt. dane porów. za poprzedni okres"},null,null,{"$f":"IF(OR(_xlfn.ISFORMULA($V$9),_xlfn.ISFORMULA($W$9)),teksty!$D$951,\"\")","v":"W niektórych polach tego zestawienia napotkasz pomocnicze formuły. Jeżeli to potrzebne, możesz je zmienić, lub wpisać w te pola odpowiednie kwoty."}]
[{"$f":"2","v":2},null,{"$f":"COUNTA(D6:H6)","v":1},"I",null,null,null,null,null,{"$f":"$D6","v":"I"},{"$f":"D6","v":"I"},null,null,{"$f":"K6","v":"I"},{"$f":"teksty!$D$888","v":"Kapitał (fundusz) własny na początek okresu (BO)"},null,null,null,null,null,null,0,0]
[{"$f":"A6","v":2},null,{"$f":"COUNTA(D7:H7)","v":2},{"$f":"D6","v":"I"},1,null,null,null,null,{"$f":"D7&\".\"&E7","v":"I.1"},null,null,null,null,{"$f":"IF($N$7=\"\",\" – \") &teksty!$D$889","v":" – zmiany przyjętych zasad (polityki) rachunkowości"}]
[{"$f":"A7","v":2},null,{"$f":"COUNTA(D8:H8)","v":2},{"$f":"D7","v":"I"},2,null,null,null,null,{"$f":"D8&\".\"&E8","v":"I.2"},null,null,null,null,{"$f":"IF($N$8=\"\",\" – \") &teksty!$D$890","v":" – korekty błędów"}]
[2,null,1,"Ia",null,null,null,null,null,{"$f":"$D9","v":"Ia"},{"$f":"D9","v":"Ia"},null,null,{"$f":"K9","v":"Ia"},{"$f":"teksty!$D$891","v":"Kapitał (fundusz) własny na początek okresu (BO), po korektach"},null,null,null,null,null,null,{"$f":"V6+V7+V8","v":0},{"$f":"W6+W7+W8","v":0}]
[2,null,{"$f":"COUNTA(D10:H10)","v":2},{"$f":"D9","v":"Ia"},1,null,null,null,null,{"$f":"D10&\".\"&E10","v":"Ia.1"},{"$f":"E10","v":1},null,null,{"$f":"K10","v":1},{"$f":"teksty!$D$892","v":"Kapitał (fundusz) podstawowy na początek okresu"},null,null,null,null,null,null,0,0,null,null,{"$f":"IF(WrfKwot,IF(AND(AF10=0,AG10=0,AH10=0),\"=\",\"!\"),\"\")","v":""},{"$f":"teksty!$D$59 & \": \" & J22 & CHAR(10) & \"(\" & LOWER(SUBSTITUTE(teksty!$D$955, CHAR(10), \" \")) &\")\"","v":"Kapitał: Ia.1.2\n(okres poprzedni)"},{"$f":"W22","v":0},null,null,null,{"$f":"ROUND(IF(ISNUMBER(AB10),V10-AB10,0),2)","v":0},{"$f":"ROUND(IF(ISNUMBER(AC10),W10-AC10,0),2)","v":0},{"$f":"ROUND(IF(ISNUMBER(AD10),Y10-AD10,0),2)","v":0},-3,-2]
[2,null,{"$f":"COUNTA(D11:H11)","v":3},{"$f":"D10","v":"Ia"},1,1,null,null,null,{"$f":"D11&\".\"&E11 & \".\" & F11","v":"Ia.1.1"},{"$f":"E11&\".\"&F11","v":"1.1"},null,null,{"$f":"K11","v":"1.1"},{"$f":"teksty!$D$893","v":"Zmiany kapitału (funduszu) podstawowego"},null,null,null,null,null,null,{"$f":"V12-V17","v":0},{"$f":"W12-W17","v":0}]
[2,null,4,"Ia",1,{"$f":"F11","v":1},"a",null,null,{"$f":"D12&\".\"&E12 & \".\" & F12& \".\" & G12","v":"Ia.1.1.a"},{"$f":"G12 &\")\"","v":"a)"},null,null,{"$f":"K12","v":"a)"},{"$f":"teksty!$D$894","v":"zwiększenie (z tytułu)"},null,null,null,null,null,null,{"$f":"V13+V14+V15+V16","v":0},{"$f":"W13+W14+W15+W16","v":0}]
[2,null,5,{"$f":"D12","v":"Ia"},{"$f":"E12","v":1},1,{"$f":"G12","v":"a"},1,null,{"$f":"D13&\".\"&E13 & \".\" & F13& \".\" & G13 & \".\" & H13","v":"Ia.1.1.a.1"},null,null,null,null,{"$f":"IF($N$13=\"\",\" – \") &teksty!$D$895","v":" – wydania udziałów (emisji akcji)"}]
[2,null,5,"Ia",{"$f":"E13","v":1},{"$f":"F13","v":1},{"$f":"G13","v":"a"},{"$f":"H13+1","v":2},null,{"$f":"D14&\".\"&E14 & \".\" & F14& \".\" & G14 & \".\" & \"p\" & (H14-H13)","v":"Ia.1.1.a.p1"},null,null,null,null,""]
[2,null,5,"Ia",1,1,{"$f":"G14","v":"a"},{"$f":"H14+1","v":3},null,{"$f":"D15&\".\"&E15 & \".\" & F15& \".\" & G15 & \".\" & \"p\" & (H15-H13)","v":"Ia.1.1.a.p2"},null,null,null,null,""]
[2,null,5,"Ia",1,1,{"$f":"G15","v":"a"},4,null,{"$f":"D16&\".\"&E16 & \".\" & F16& \".\" & G16 & \".\" & \"p\" & (H16-H13)","v":"Ia.1.1.a.p3"},null,null,null,null,""]
[2,null,4,"Ia",1,1,"b",null,null,{"$f":"D17&\".\"&E17 & \".\" & F17& \".\" & G17","v":"Ia.1.1.b"},{"$f":"G17 &\")\"","v":"b)"},null,null,{"$f":"K17","v":"b)"},{"$f":"teksty!$D$896","v":"zmniejszenie (z tytułu)"},null,null,null,null,null,null,{"$f":"V18+V19+V20+V21","v":0},{"$f":"W18+W19+W20+W21","v":0}]
[2,null,5,"Ia",1,{"$f":"F17","v":1},{"$f":"G17","v":"b"},1,null,{"$f":"D18&\".\"&E18 & \".\" & F18& \".\" & G18 & \".\" & H18","v":"Ia.1.1.b.1"},null,null,null,null,{"$f":"IF($N$18=\"\",\" – \") &teksty!$D$897","v":" – umorzenia udziałów (akcji)"}]
[2,null,{"$f":"COUNTA(D19:H19)","v":5},"Ia",1,1,{"$f":"G18","v":"b"},{"$f":"H18+1","v":2},null,{"$f":"D19&\".\"&E19 & \".\" & F19& \".\" & G19 & \".\" & \"p\" & (H19-H18)","v":"Ia.1.1.b.p1"},null,null,null,null,""]
[2,null,5,"Ia",1,1,{"$f":"G19","v":"b"},{"$f":"H19+1","v":3},null,{"$f":"D20&\".\"&E20 & \".\" & F20& \".\" & G20 & \".\" & \"p\" & (H20-H18)","v":"Ia.1.1.b.p2"},null,null,null,null,""]
[2,null,5,"Ia",1,1,{"$f":"G20","v":"b"},4,null,{"$f":"D21&\".\"&E21 & \".\" & F21& \".\" & G21 & \".\" & \"p\" & (H21-H18)","v":"Ia.1.1.b.p3"},null,null,null,null,""]
[2,null,3,"Ia",{"$f":"E18","v":1},2,null,null,null,{"$f":"D22&\".\"&E22 & \".\" & F22","v":"Ia.1.2"},{"$f":"E22&\".\"&F22","v":"1.2"},null,null,{"$f":"K22","v":"1.2"},{"$f":"teksty!$D$898","v":"Kapitał (fundusz) podstawowy na koniec okresu"},null,null,null,null,null,null,{"$f":"V10+V11","v":0},{"$f":"W10+W11","v":0},null,null,{"$f":"IF(WrfKwot,IF(AND(AF22=0,AG22=0,AH22=0),\"=\",\"!\"),\"\")","v":""},{"$f":"IF(AB22=\"-\", \"-\",SUBSTITUTE(SUBSTITUTE(EtykietaNaNazwe(Bilans!$J$103),\"_A\",\" A\"),\"_\",\".\"))","v":"-"},{"$f":"IF(Bilans!WybranyWariant=\"JednostkaInna\",Bilans!V$103, IF(Bilans!WybranyWariant=\"JednostkaMala\",Bilans!V$204,\"-\"))","v":"-"},{"$f":"IF(Bilans!WybranyWariant=\"JednostkaInna\",Bilans!W$103, IF(Bilans!WybranyWariant=\"JednostkaMala\",Bilans!W$204,\"-\"))","v":"-"},null,null,{"$f":"ROUND(IF(ISNUMBER(AB22),V22-AB22,0),2)","v":0},{"$f":"ROUND(IF(ISNUMBER(AC22),W22-AC22,0),2)","v":0},{"$f":"ROUND(IF(ISNUMBER(AD22),Y22-AD22,0),2)","v":0},-3,-2]
[2,null,2,"Ia",2,null,null,null,null,{"$f":"D23&\".\"&E23","v":"Ia.2"},{"$f":"E23","v":2},null,null,{"$f":"K23","v":2},{"$f":"teksty!$D$899","v":"Kapitał (fundusz) zapasowy na początek okresu"},null,null,null,null,null,null,0,0,null,null,{"$f":"IF(WrfKwot,IF(AND(AF23=0,AG23=0,AH23=0),\"=\",\"!\"),\"\")","v":""},{"$f":"teksty!$D$59 & \": \" & J37& CHAR(10) & \"(\" & LOWER(SUBSTITUTE(teksty!$D$955, CHAR(10), \" \")) &\")\"","v":"Kapitał: Ia.2.2\n(okres poprzedni)"},{"$f":"W37","v":0},null,null,null,{"$f":"ROUND(IF(ISNUMBER(AB23),V23-AB23,0),2)","v":0},{"$f":"ROUND(IF(ISNUMBER(AC23),W23-AC23,0),2)","v":0},0,-3,-2]
[2,null,3,"Ia",2,1,null,null,null,{"$f":"D24&\".\"&E24 & \".\" & F24","v":"Ia.2.1"},{"$f":"E24&\".\"&F24","v":"2.1"},null,null,{"$f":"K24","v":"2.1"},{"$f":"teksty!$D$900","v":"Zmiany kapitału (funduszu) zapasowego"},null,null,null,null,null,null,{"$f":"V25-V32","v":0},{"$f":"W25-W32","v":0}]
[2,null,4,"Ia",2,{"$f":"F24","v":1},"a",null,null,{"$f":"D25&\".\"&E25 & \".\" & F25& \".\" & G25","v":"Ia.2.1.a"},{"$f":"G25 &\")\"","v":"a)"},null,null,{"$f":"K25","v":"a)"},{"$f":"teksty!$D$901","v":"zwiększenie (z tytułu)"},null,null,null,null,null,null,{"$f":"V26+V27+V28+V29+V30+V31","v":0},{"$f":"W26+W27+W28+W29+W30+W31","v":0}]
[2,null,5,{"$f":"D25","v":"Ia"},2,{"$f":"F25","v":1},{"$f":"G25","v":"a"},1,null,{"$f":"D26&\".\"&E26 & \".\" & F26& \".\" & G26 & \".\" & H26","v":"Ia.2.1.a.1"},null,null,null,null,{"$f":"IF($N$26=\"\",\" – \") &teksty!$D$902","v":" – emisji akcji powyżej wartości nominalnej"}]
[2,null,5,"Ia",2,{"$f":"F26","v":1},"a",2,null,{"$f":"D27&\".\"&E27 & \".\" & F27& \".\" & G27 & \".\" & H27","v":"Ia.2.1.a.2"},null,null,null,null,{"$f":"IF($N$27=\"\",\" – \") &teksty!$D$903","v":" – podziału zysku (ustawowo)"}]
[2,null,5,"Ia",2,1,"a",3,null,{"$f":"D28&\".\"&E28 & \".\" & F28& \".\" & G28 & \".\" & H28","v":"Ia.2.1.a.3"},null,null,null,null,{"$f":"IF($N$28=\"\",\" – \") &teksty!$D$904","v":" – podziału zysku (ponad wymaganą ustawowo minimalną wartość)"}]
[2,null,5,"Ia",2,1,"a",{"$f":"H28+1","v":4},null,{"$f":"D29&\".\"&E29 & \".\" & F29& \".\" & G29 & \".\" & \"p\" & (H29-H28)","v":"Ia.2.1.a.p1"},null,null,null,null,""]
[2,null,5,"Ia",2,1,"a",{"$f":"H29+1","v":5},null,{"$f":"D30&\".\"&E30 & \".\" & F30& \".\" & G30 & \".\" & \"p\" & (H30-H28)","v":"Ia.2.1.a.p2"},null,null,null,null,""]
[2,null,5,"Ia",2,1,"a",6,null,{"$f":"D31&\".\"&E31 & \".\" & F31& \".\" & G31 & \".\" & \"p\" & (H31-H28)","v":"Ia.2.1.a.p3"},null,null,null,null,""]
[2,null,4,{"$f":"D31","v":"Ia"},2,1,"b",null,null,{"$f":"D32&\".\"&E32 & \".\" & F32& \".\" & G32","v":"Ia.2.1.b"},{"$f":"G32 &\")\"","v":"b)"},null,null,{"$f":"K32","v":"b)"},{"$f":"teksty!$D$905","v":"zmniejszenie (z tytułu)"},null,null,null,null,null,null,{"$f":"V33+V34+V35+V36","v":0},{"$f":"W33+W34+W35+W36","v":0}]
[2,null,5,{"$f":"D32","v":"Ia"},2,{"$f":"F32","v":1},{"$f":"G32","v":"b"},1,null,{"$f":"D33&\".\"&E33 & \".\" & F33& \".\" & G33 & \".\" & H33","v":"Ia.2.1.b.1"},null,null,null,null,{"$f":"IF($N$33=\"\",\" – \") &teksty!$D$906","v":" – pokrycia straty"}]
[2,null,{"$f":"COUNTA(D34:H34)","v":5},{"$f":"D33","v":"Ia"},2,1,{"$f":"G33","v":"b"},{"$f":"H33+1","v":2},null,{"$f":"D34&\".\"&E34 & \".\" & F34& \".\" & G34 & \".\" & \"p\" & (H34-H33)","v":"Ia.2.1.b.p1"},null,null,null,null,""]
[2,null,5,{"$f":"D34","v":"Ia"},2,1,{"$f":"G34","v":"b"},{"$f":"H34+1","v":3},null,{"$f":"D35&\".\"&E35 & \".\" & F35& \".\" & G35 & \".\" & \"p\" & (H35-H33)","v":"Ia.2.1.b.p2"},null,null,null,null,""]
[2,null,5,{"$f":"D35","v":"Ia"},2,1,{"$f":"G35","v":"b"},4,null,{"$f":"D36&\".\"&E36 & \".\" & F36& \".\" & G36 & \".\" & \"p\" & (H36-H33)","v":"Ia.2.1.b.p3"},null,null,null,null,""]
[2,null,3,{"$f":"D36","v":"Ia"},2,2,null,null,{"$f":"teksty!$D$885 & teksty!$D$284 & 1","v":"wyszczególnienie, koniec strony 1"},{"$f":"D37&\".\"&E37 & \".\" & F37","v":"Ia.2.2"},{"$f":"E37&\".\"&F37","v":"2.2"},null,null,{"$f":"K37","v":"2.2"},{"$f":"teksty!$D$907","v":"Stan kapitału (funduszu) zapasowego na koniec okresu"},null,null,null,null,null,null,{"$f":"V23+V24","v":0},{"$f":"W23+W24","v":0},null,null,{"$f":"IF(WrfKwot,IF(AND(AF37=0,AG37=0,AH37=0),\"=\",\"!\"),\"\")","v":""},{"$f":"IF(AB37=\"-\", \"-\",SUBSTITUTE(SUBSTITUTE(EtykietaNaNazwe(Bilans!$J$205),\"_A\",\" A\"),\"_\",\".\"))","v":"-"},{"$f":"IF(Bilans!WybranyWariant=\"JednostkaInna\",Bilans!V$104, IF(Bilans!WybranyWariant=\"JednostkaMala\",Bilans!V$205,\"-\"))","v":"-"},{"$f":"IF(Bilans!WybranyWariant=\"JednostkaInna\",Bilans!W$104, IF(Bilans!WybranyWariant=\"JednostkaMala\",Bilans!W$205,\"-\"))","v":"-"},null,null,{"$f":"ROUND(IF(ISNUMBER(AB37),V37-AB37,0),2)","v":0},{"$f":"ROUND(IF(ISNUMBER(AC37),W37-AC37,0),2)","v":0},{"$f":"ROUND(IF(ISNUMBER(AD37),Y37-AD37,0),2)","v":0},-3,-2]
[2,"P",3,{"$f":"D37","v":"Ia"},2,2,null,null,null,null,null,null,null,{"$f":"teksty!$D$885 & teksty!$D$718","v":"wyszczególnienie,  c.d. poprzedniej strony"},null,null,null,null,null,null,{"$f":"$U$5","v":""},{"$f":"$V$5","v":"Okres\nbieżący"},{"$f":"$W$5","v":"Okres\npoprzedni"},{"$f":"teksty!$D$292","v":"Przekszt. dane porów. za poprzedni okres"}]
[2,null,2,"Ia",3,null,null,null,null,{"$f":"D39&\".\"&E39","v":"Ia.3"},{"$f":"E39","v":3},null,null,{"$f":"K39","v":3},{"$f":"teksty!$D$908","v":"Kapitał (fundusz) z aktualizacji wyceny na początek okresu – zmiany przyjętych zasad (polityki) rachunkowości"},null,null,null,null,null,null,0,0,null,null,{"$f":"IF(WrfKwot,IF(AND(AF39=0,AG39=0,AH39=0),\"=\",\"!\"),\"\")","v":""},{"$f":"teksty!$D$59 & \": \" & J50& CHAR(10) & \"(\" & LOWER(SUBSTITUTE(teksty!$D$955, CHAR(10), \" \")) &\")\"","v":"Kapitał: Ia.3.2\n(okres poprzedni)"},{"$f":"W50","v":0},null,null,null,{"$f":"ROUND(IF(ISNUMBER(AB39),V39-AB39,0),2)","v":0},{"$f":"ROUND(IF(ISNUMBER(AC39),W39-AC39,0),2)","v":0},{"$f":"ROUND(IF(ISNUMBER(AD39),Y39-AD39,0),2)","v":0},-3,-2]
[2,null,3,"Ia",3,1,null,null,null,{"$f":"D40&\".\"&E40 & \".\" & F40","v":"Ia.3.1"},{"$f":"E40&\".\"&F40","v":"3.1"},null,null,{"$f":"K40","v":"3.1"},{"$f":"teksty!$D$909","v":"Zmiany kapitału (funduszu) z aktualizacji wyceny"},null,null,null,null,null,null,{"$f":"V41-V45","v":0},{"$f":"W41-W45","v":0}]
[2,null,4,"Ia",3,{"$f":"F40","v":1},"a",null,null,{"$f":"D41&\".\"&E41 & \".\" & F41& \".\" & G41","v":"Ia.3.1.a"},{"$f":"G41 &\")\"","v":"a)"},null,null,{"$f":"K41","v":"a)"},{"$f":"teksty!$D$910","v":"zwiększenie (z tytułu)"},null,null,null,null,null,null,{"$f":"V42+V43+V44","v":0},{"$f":"W42+W43+W44","v":0}]
[2,null,5,{"$f":"D41","v":"Ia"},3,{"$f":"F41","v":1},{"$f":"G41","v":"a"},{"$f":"H41+1","v":1},null,{"$f":"D42&\".\"&E42 & \".\" & F42& \".\" & G42 & \".\" & \"p\" & (H42-H41)","v":"Ia.3.1.a.p1"},null,null,null,null,""]
[2,null,5,"Ia",3,1,{"$f":"G42","v":"a"},{"$f":"H42+1","v":2},null,{"$f":"D43&\".\"&E43 & \".\" & F43& \".\" & G43 & \".\" & \"p\" & (H43-H41)","v":"Ia.3.1.a.p2"},null,null,null,null,""]
[2,null,5,"Ia",3,1,{"$f":"G43","v":"a"},3,null,{"$f":"D44&\".\"&E44 & \".\" & F44& \".\" & G44 & \".\" & \"p\" & (H44-H41)","v":"Ia.3.1.a.p3"},null,null,null,null,""]
[2,null,4,"Ia",3,1,"b",null,null,{"$f":"D45&\".\"&E45 & \".\" & F45& \".\" & G45","v":"Ia.3.1.b"},{"$f":"G45 &\")\"","v":"b)"},null,null,{"$f":"K45","v":"b)"},{"$f":"teksty!$D$911","v":"zmniejszenie (z tytułu)"},null,null,null,null,null,null,{"$f":"V46+V47+V48+V49","v":0},{"$f":"W46+W47+W48+W49","v":0}]
[2,null,5,"Ia",3,{"$f":"F45","v":1},{"$f":"G45","v":"b"},1,null,{"$f":"D46&\".\"&E46 & \".\" & F46& \".\" & G46 & \".\" & H46","v":"Ia.3.1.b.1"},null,null,null,null,{"$f":"IF($N$46=\"\",\" – \") &teksty!$D$912","v":" – zbycia środków trwałych"}]
[2,null,{"$f":"COUNTA(D47:H47)","v":5},"Ia",3,1,{"$f":"G46","v":"b"},{"$f":"H46+1","v":2},null,{"$f":"D47&\".\"&E47 & \".\" & F47& \".\" & G47 & \".\" & \"p\" & (H47-H46)","v":"Ia.3.1.b.p1"},null,null,null,null,""]
[2,null,5,"Ia",3,1,{"$f":"G47","v":"b"},{"$f":"H47+1","v":3},null,{"$f":"D48&\".\"&E48 & \".\" & F48& \".\" & G48 & \".\" & \"p\" & (H48-H46)","v":"Ia.3.1.b.p2"},null,null,null,null,""]
[2,null,5,"Ia",3,1,{"$f":"G48","v":"b"},4,null,{"$f":"D49&\".\"&E49 & \".\" & F49& \".\" & G49 & \".\" & \"p\" & (H49-H46)","v":"Ia.3.1.b.p3"},null,null,null,null,""]
[2,null,3,"Ia",{"$f":"E46","v":3},2,null,null,null,{"$f":"D50&\".\"&E50 & \".\" & F50","v":"Ia.3.2"},{"$f":"E50&\".\"&F50","v":"3.2"},null,null,{"$f":"K50","v":"3.2"},{"$f":"teksty!$D$913","v":"Kapitał (fundusz) z aktualizacji wyceny na koniec okresu"},null,null,null,null,null,null,{"$f":"V39+V40","v":0},{"$f":"W39+W40","v":0},null,null,{"$f":"IF(WrfKwot,IF(AND(AF50=0,AG50=0,AH50=0),\"=\",\"!\"),\"\")","v":""},{"$f":"IF(AB50=\"-\", \"-\",SUBSTITUTE(SUBSTITUTE(EtykietaNaNazwe(Bilans!$J$108),\"_A\",\" A\"),\"_\",\".\"))","v":"-"},{"$f":"IF(Bilans!WybranyWariant=\"JednostkaInna\",Bilans!V$108, IF(Bilans!WybranyWariant=\"JednostkaMala\",Bilans!V$209,\"-\"))","v":"-"},{"$f":"IF(Bilans!WybranyWariant=\"JednostkaInna\",Bilans!W$108, IF(Bilans!WybranyWariant=\"JednostkaMala\",Bilans!W$209,\"-\"))","v":"-"},null,null,{"$f":"ROUND(IF(ISNUMBER(AB50),V50-AB50,0),2)","v":0},{"$f":"ROUND(IF(ISNUMBER(AC50),W50-AC50,0),2)","v":0},{"$f":"ROUND(IF(ISNUMBER(AD50),Y50-AD50,0),2)","v":0},-3,-2]
[2,null,2,"Ia",4,null,null,null,null,{"$f":"D51&\".\"&E51","v":"Ia.4"},{"$f":"E51","v":4},null,null,{"$f":"K51","v":4},{"$f":"teksty!$D$914","v":"Pozostałe kapitały (fundusze) rezerwowe na początek okresu"},null,null,null,null,null,null,0,0,null,null,{"$f":"IF(WrfKwot,IF(AND(AF51=0,AG51=0,AH51=0),\"=\",\"!\"),\"\")","v":""},{"$f":"teksty!$D$59 & \": \" & J61& CHAR(10) & \"(\" & LOWER(SUBSTITUTE(teksty!$D$955, CHAR(10), \" \")) &\")\"","v":"Kapitał: Ia.4.2\n(okres poprzedni)"},{"$f":"W61","v":0},null,null,null,{"$f":"ROUND(IF(ISNUMBER(AB51),V51-AB51,0),2)","v":0},{"$f":"ROUND(IF(ISNUMBER(AC51),W51-AC51,0),2)","v":0},0,-3,-2]
[2,null,3,"Ia",4,1,null,null,null,{"$f":"D52&\".\"&E52 & \".\" & F52","v":"Ia.4.1"},{"$f":"E52&\".\"&F52","v":"4.1"},null,null,{"$f":"K52","v":"4.1"},{"$f":"teksty!$D$915","v":"Zmiany pozostałych kapitałów (funduszy) rezerwowych"},null,null,null,null,null,null,{"$f":"V53-V57","v":0},{"$f":"W53-W57","v":0}]
[2,null,4,"Ia",4,{"$f":"F52","v":1},"a",null,null,{"$f":"D53&\".\"&E53 & \".\" & F53& \".\" & G53","v":"Ia.4.1.a"},{"$f":"G53 &\")\"","v":"a)"},null,null,{"$f":"K53","v":"a)"},{"$f":"teksty!$D$916","v":"zwiększenie (z tytułu)"},null,null,null,null,null,null,{"$f":"V54+V55+V56","v":0},{"$f":"W54+W55+W56","v":0}]
[2,null,5,{"$f":"D53","v":"Ia"},4,{"$f":"F53","v":1},{"$f":"G53","v":"a"},{"$f":"H53+1","v":1},null,{"$f":"D54&\".\"&E54 & \".\" & F54& \".\" & G54 & \".\" & \"p\" & (H54-H53)","v":"Ia.4.1.a.p1"},null,null,null,null,""]
[2,null,5,"Ia",4,1,{"$f":"G54","v":"a"},{"$f":"H54+1","v":2},null,{"$f":"D55&\".\"&E55 & \".\" & F55& \".\" & G55 & \".\" & \"p\" & (H55-H53)","v":"Ia.4.1.a.p2"},null,null,null,null,""]
[2,null,5,"Ia",4,1,{"$f":"G55","v":"a"},3,null,{"$f":"D56&\".\"&E56 & \".\" & F56& \".\" & G56 & \".\" & \"p\" & (H56-H53)","v":"Ia.4.1.a.p3"},null,null,null,null,""]
[2,null,4,"Ia",4,1,"b",null,null,{"$f":"D57&\".\"&E57 & \".\" & F57& \".\" & G57","v":"Ia.4.1.b"},{"$f":"G57 &\")\"","v":"b)"},null,null,"b)",{"$f":"teksty!$D$917","v":"zmniejszenie (z tytułu)"},null,null,null,null,null,null,{"$f":"V58+V59+V60","v":0},{"$f":"W58+W59+W60","v":0}]
[2,null,{"$f":"COUNTA(D58:H58)","v":5},"Ia",{"$f":"E57","v":4},{"$f":"F57","v":1},{"$f":"G57","v":"b"},{"$f":"H57+1","v":1},null,{"$f":"D58&\".\"&E58 & \".\" & F58& \".\" & G58 & \".\" & \"p\" & (H58-H57)","v":"Ia.4.1.b.p1"},null,null,null,null,""]
[2,null,5,"Ia",4,1,{"$f":"G58","v":"b"},{"$f":"H58+1","v":2},null,{"$f":"D59&\".\"&E59 & \".\" & F59& \".\" & G59 & \".\" & \"p\" & (H59-H57)","v":"Ia.4.1.b.p2"},null,null,null,null,""]
[2,null,5,"Ia",4,1,{"$f":"G59","v":"b"},3,null,{"$f":"D60&\".\"&E60 & \".\" & F60& \".\" & G60 & \".\" & \"p\" & (H60-H57)","v":"Ia.4.1.b.p3"},null,null,null,null,""]
[2,null,3,"Ia",{"$f":"E57","v":4},2,null,null,null,{"$f":"D61&\".\"&E61 & \".\" & F61","v":"Ia.4.2"},{"$f":"E61&\".\"&F61","v":"4.2"},null,null,{"$f":"K61","v":"4.2"},{"$f":"teksty!$D$918","v":"Pozostałe kapitały (fundusze) rezerwowe na koniec okresu"},null,null,null,null,null,null,{"$f":"V51+V52","v":0},{"$f":"W51+W52","v":0},null,null,{"$f":"IF(WrfKwot,IF(AND(AF61=0,AG61=0,AH61=0),\"=\",\"!\"),\"\")","v":""},{"$f":"IF(AB61=\"-\", \"-\",SUBSTITUTE(SUBSTITUTE(EtykietaNaNazwe(Bilans!$J$211),\"_A\",\" A\"),\"_\",\".\"))","v":"-"},{"$f":"IF(Bilans!WybranyWariant=\"JednostkaInna\",Bilans!V$110, IF(Bilans!WybranyWariant=\"JednostkaMala\",Bilans!V$211,\"-\"))","v":"-"},{"$f":"IF(Bilans!WybranyWariant=\"JednostkaInna\",Bilans!W$110, IF(Bilans!WybranyWariant=\"JednostkaMala\",Bilans!W$211,\"-\"))","v":"-"},null,null,{"$f":"ROUND(IF(ISNUMBER(AB61),V61-AB61,0),2)","v":0},{"$f":"ROUND(IF(ISNUMBER(AC61),W61-AC61,0),2)","v":0},{"$f":"ROUND(IF(ISNUMBER(AD61),Y61-AD61,0),2)","v":0},-3,-2]
[2,null,2,"Ia",5,null,null,null,null,{"$f":"D62&\".\"&E62","v":"Ia.5"},{"$f":"E62","v":5},null,null,{"$f":"K62","v":5},{"$f":"teksty!$D$919","v":"Zysk (strata) z lat ubiegłych na początek okresu"},null,null,null,null,null,null,{"$f":"W94-W95+W92","v":0},0,null,null,{"$f":"IF(WrfKwot,IF(AND(AF62=0,AG62=0,AH62=0),\"=\",\"!\"),\"\")","v":""},{"$f":"teksty!$D$59 & \": \" & J93 & \"a/b + 5.7\" & CHAR(10) & \"(\" & LOWER(SUBSTITUTE(teksty!$D$955, CHAR(10), \" \")) &\")\"","v":"Kapitał: Ia.6a/b + 5.7\n(okres poprzedni)"},{"$f":"W94-W95+W92","v":0},null,null,null,{"$f":"ROUND(IF(ISNUMBER(AB62),ABS(V62)-ABS(AB62),0),2)","v":0},{"$f":"ROUND(IF(ISNUMBER(AC62),W62-AC62,0),2)","v":0},{"$f":"ROUND(IF(ISNUMBER(AD62),Y62-AD62,0),2)","v":0},-3,-2]
[2,null,3,"Ia",5,1,null,null,null,{"$f":"D63&\".\"&E63 & \".\" & F63","v":"Ia.5.1"},{"$f":"E63&\".\"&F63","v":"5.1"},null,null,{"$f":"K63","v":"5.1"},{"$f":"teksty!$D$920","v":"Zysk z lat ubiegłych na początek okresu"},null,null,null,null,null,null,{"$f":"IF(V62>=0,V62,0)","v":0},{"$f":"IF(W62>=0,W62,0)","v":0}]
[2,null,4,{"$f":"D63","v":"Ia"},5,1,1,null,null,{"$f":"D64&\".\"&E64 & \".\" & F64& \".\" & G64","v":"Ia.5.1.1"},null,null,null,null,{"$f":"IF($N$64=\"\",\" – \") &teksty!$D$921","v":" – zmiany przyjętych zasad (polityki) rachunkowości"}]
[2,null,4,"Ia",5,1,2,null,{"$f":"teksty!$D$886& teksty!$D$284 & 2","v":"Zmiany w kapitale, koniec strony 2"},{"$f":"D65&\".\"&E65 & \".\" & F65& \".\" & G65","v":"Ia.5.1.2"},null,null,null,null,{"$f":"IF($N$65=\"\",\" – \") &teksty!$D$922","v":" – korekty błędów"}]
[2,"P",{"$f":"COUNTA(D66:H66)","v":3},"Ia",5,1,null,null,null,null,null,null,null,{"$f":"teksty!$D$885 & teksty!$D$718","v":"wyszczególnienie,  c.d. poprzedniej strony"},null,null,null,null,null,null,{"$f":"$U$5","v":""},{"$f":"$V$5","v":"Okres\nbieżący"},{"$f":"$W$5","v":"Okres\npoprzedni"},{"$f":"teksty!$D$292","v":"Przekszt. dane porów. za poprzedni okres"}]
[2,null,3,"Ia",5,2,null,null,null,{"$f":"D67&\".\"&E67 & \".\" & F67","v":"Ia.5.2"},{"$f":"E67&\".\"&F67","v":"5.2"},null,null,{"$f":"K67","v":"5.2"},{"$f":"teksty!$D$923","v":"Zysk z lat ubiegłych na początek okresu, po korektach"},null,null,null,null,null,null,{"$f":"V63+V64+V65","v":0},{"$f":"W63+W64+W65","v":0},null,null,{"$f":"teksty!$D$285","v":"ukryty wiersz powyżej zawiera nagłówek dla kolejnej strony"}]
[2,null,4,"Ia",5,{"$f":"F67","v":2},"a",null,null,{"$f":"D68&\".\"&E68 & \".\" & F68& \".\" & G68","v":"Ia.5.2.a"},{"$f":"G68 &\")\"","v":"a)"},null,null,{"$f":"K68","v":"a)"},{"$f":"teksty!$D$924","v":"zwiększenie (z tytułu)"},null,null,null,null,null,null,{"$f":"V69+V70+V71+V72","v":0},{"$f":"W69+W70+W71+W72","v":0}]
[2,null,5,{"$f":"D68","v":"Ia"},5,{"$f":"F68","v":2},{"$f":"G68","v":"a"},1,null,{"$f":"D69&\".\"&E69 & \".\" & F69& \".\" & G69 & \".\" & H69","v":"Ia.5.2.a.1"},null,null,null,null,{"$f":"IF($N$69=\"\",\" – \") &teksty!$D$925","v":" – podziału zysku z lat ubiegłych"}]
[2,null,5,"Ia",5,2,{"$f":"G69","v":"a"},{"$f":"H69+1","v":2},null,{"$f":"D70&\".\"&E70 & \".\" & F70& \".\" & G70 & \".\" & \"p\" & (H70-H69)","v":"Ia.5.2.a.p1"},null,null,null,null,""]
[2,null,5,"Ia",5,2,{"$f":"G70","v":"a"},{"$f":"H70+1","v":3},null,{"$f":"D71&\".\"&E71 & \".\" & F71& \".\" & G71 & \".\" & \"p\" & (H71-H69)","v":"Ia.5.2.a.p2"},null,null,null,null,""]
[{"$f":"A71","v":2},null,5,"Ia",5,2,{"$f":"G71","v":"a"},4,null,{"$f":"D72&\".\"&E72 & \".\" & F72& \".\" & G72 & \".\" & \"p\" & (H72-H69)","v":"Ia.5.2.a.p3"},null,null,null,null,""]
[2,null,4,"Ia",5,2,"b",null,null,{"$f":"D73&\".\"&E73 & \".\" & F73& \".\" & G73","v":"Ia.5.2.b"},{"$f":"G73 &\")\"","v":"b)"},null,null,{"$f":"K73","v":"b)"},{"$f":"teksty!$D$926","v":"zmniejszenie (z tytułu)"},null,null,null,null,null,null,{"$f":"V74+V75+V76","v":0},{"$f":"W74+W75+W76","v":0}]
[2,null,{"$f":"COUNTA(D74:H74)","v":5},"Ia",{"$f":"E73","v":5},{"$f":"F73","v":2},{"$f":"G73","v":"b"},{"$f":"H73+1","v":1},null,{"$f":"D74&\".\"&E74 & \".\" & F74& \".\" & G74 & \".\" & \"p\" & (H74-H73)","v":"Ia.5.2.b.p1"},null,null,null,null,""]
[2,null,5,"Ia",{"$f":"E74","v":5},2,{"$f":"G74","v":"b"},{"$f":"H74+1","v":2},null,{"$f":"D75&\".\"&E75 & \".\" & F75& \".\" & G75 & \".\" & \"p\" & (H75-H73)","v":"Ia.5.2.b.p2"},null,null,null,null,""]
[2,null,5,"Ia",{"$f":"E75","v":5},2,{"$f":"G75","v":"b"},3,null,{"$f":"D76&\".\"&E76 & \".\" & F76& \".\" & G76 & \".\" & \"p\" & (H76-H73)","v":"Ia.5.2.b.p3"},null,null,null,null,""]
[2,null,3,"Ia",5,3,null,null,null,{"$f":"D77&\".\"&E77 & \".\" & F77","v":"Ia.5.3"},{"$f":"E77&\".\"&F77","v":"5.3"},null,null,{"$f":"K77","v":"5.3"},{"$f":"teksty!$D$927","v":"Zysk z lat ubiegłych na koniec okresu"},null,null,null,null,null,null,{"$f":"V67+V68-V73","v":0},{"$f":"W67+W68-W73","v":0}]
[2,null,3,"Ia",5,4,null,null,null,{"$f":"D78&\".\"&E78 & \".\" & F78","v":"Ia.5.4"},{"$f":"E78&\".\"&F78","v":"5.4"},null,null,{"$f":"K78","v":"5.4"},{"$f":"teksty!$D$928","v":"Strata z lat ubiegłych na początek okresu"},null,null,null,null,null,null,{"$f":"IF(V62<0,-V62,0)","v":0},{"$f":"IF(W62<0,-W62,0)","v":0}]
[2,null,4,"Ia",5,4,1,null,null,{"$f":"D79&\".\"&E79 & \".\" & F79& \".\" & G79","v":"Ia.5.4.1"},null,null,null,null,{"$f":"IF($N$79=\"\",\" – \") &teksty!$D$929","v":" – zmiany przyjętych zasad (polityki) rachunkowości"}]
[2,null,4,"Ia",5,4,2,null,null,{"$f":"D80&\".\"&E80 & \".\" & F80& \".\" & G80","v":"Ia.5.4.2"},null,null,null,null,{"$f":"IF($N$80=\"\",\" – \") &teksty!$D$930","v":" – korekty błędów"}]
[2,null,3,"Ia",5,5,null,null,null,{"$f":"D81&\".\"&E81 & \".\" & F81","v":"Ia.5.5"},{"$f":"E81&\".\"&F81","v":"5.5"},null,null,{"$f":"K81","v":"5.5"},{"$f":"teksty!$D$931","v":"Strata z lat ubiegłych na początek okresu, po korektach"},null,null,null,null,null,null,{"$f":"V78+V79+V80","v":0},{"$f":"W78+W79+W80","v":0}]
[2,null,4,"Ia",5,{"$f":"F81","v":5},"a",null,null,{"$f":"D82&\".\"&E82 & \".\" & F82& \".\" & G82","v":"Ia.5.5.a"},{"$f":"G82 &\")\"","v":"a)"},null,null,{"$f":"K82","v":"a)"},{"$f":"teksty!$D$932","v":"zwiększenie (z tytułu)"},null,null,null,null,null,null,{"$f":"V83+V84+V85+V86","v":0},{"$f":"W83+W84+W85+W86","v":0}]
[2,null,5,{"$f":"D82","v":"Ia"},5,{"$f":"F82","v":5},{"$f":"G82","v":"a"},1,null,{"$f":"D83&\".\"&E83 & \".\" & F83& \".\" & G83 & \".\" & H83","v":"Ia.5.5.a.1"},null,null,null,null,{"$f":"IF($N$83=\"\",\" – \") &teksty!$D$933","v":" – przeniesienia straty z lat ubiegłych do pokrycia"}]
[2,null,5,"Ia",{"$f":"E83","v":5},5,{"$f":"G83","v":"a"},{"$f":"H83+1","v":2},null,{"$f":"D84&\".\"&E84 & \".\" & F84& \".\" & G84 & \".\" & \"p\" & (H84-H83)","v":"Ia.5.5.a.p1"},null,null,null,null,""]
[2,null,5,"Ia",{"$f":"E84","v":5},5,{"$f":"G84","v":"a"},{"$f":"H84+1","v":3},null,{"$f":"D85&\".\"&E85 & \".\" & F85& \".\" & G85 & \".\" & \"p\" & (H85-H83)","v":"Ia.5.5.a.p2"},null,null,null,null,""]
[2,null,5,"Ia",{"$f":"E85","v":5},5,{"$f":"G85","v":"a"},4,null,{"$f":"D86&\".\"&E86 & \".\" & F86& \".\" & G86 & \".\" & \"p\" & (H86-H83)","v":"Ia.5.5.a.p3"},null,null,null,null,""]
[2,null,4,"Ia",5,5,"b",null,null,{"$f":"D87&\".\"&E87 & \".\" & F87& \".\" & G87","v":"Ia.5.5.b"},{"$f":"G87 &\")\"","v":"b)"},null,null,{"$f":"K87","v":"b)"},{"$f":"teksty!$D$934","v":"zmniejszenie (z tytułu)"},null,null,null,null,null,null,{"$f":"V88+V89+V90","v":0},{"$f":"W88+W89+W90","v":0}]
[2,null,{"$f":"COUNTA(D88:H88)","v":5},"Ia",{"$f":"E87","v":5},{"$f":"F87","v":5},{"$f":"G87","v":"b"},{"$f":"H87+1","v":1},null,{"$f":"D88&\".\"&E88 & \".\" & F88& \".\" & G88 & \".\" & \"p\" & (H88-H87)","v":"Ia.5.5.b.p1"},null,null,null,null,""]
[2,null,5,"Ia",{"$f":"E88","v":5},5,{"$f":"G88","v":"b"},{"$f":"H88+1","v":2},null,{"$f":"D89&\".\"&E89 & \".\" & F89& \".\" & G89 & \".\" & \"p\" & (H89-H87)","v":"Ia.5.5.b.p2"},null,null,null,null,""]
[2,null,5,"Ia",{"$f":"E89","v":5},5,{"$f":"G89","v":"b"},3,null,{"$f":"D90&\".\"&E90 & \".\" & F90& \".\" & G90 & \".\" & \"p\" & (H90-H87)","v":"Ia.5.5.b.p3"},null,null,null,null,""]
[2,null,3,"Ia",5,6,null,null,null,{"$f":"D91&\".\"&E91 & \".\" & F91","v":"Ia.5.6"},{"$f":"E91&\".\"&F91","v":"5.6"},null,null,{"$f":"K91","v":"5.6"},{"$f":"teksty!$D$935","v":"Strata z lat ubiegłych na koniec okresu"},null,null,null,null,null,null,{"$f":"V81+V82-V87","v":0},{"$f":"W81+W82-W87","v":0}]
[2,null,3,"Ia",5,7,null,null,null,{"$f":"D92&\".\"&E92 & \".\" & F92","v":"Ia.5.7"},{"$f":"E92&\".\"&F92","v":"5.7"},null,null,{"$f":"K92","v":"5.7"},{"$f":"teksty!$D$936","v":"Zysk (strata) z lat ubiegłych na koniec okresu"},null,null,null,null,null,null,{"$f":"V77-V91","v":0},{"$f":"W77-W91","v":0}]
[2,null,2,{"$f":"D92","v":"Ia"},6,null,null,null,null,{"$f":"D93&\".\"&E93","v":"Ia.6"},{"$f":"E93","v":6},null,null,{"$f":"K93","v":6},{"$f":"teksty!$D$937","v":"Wynik netto"},null,null,null,null,null,null,{"$f":"V94-V95-V96","v":0},{"$f":"W94-W95-W96","v":0},null,null,{"$f":"IF(WrfKwot,IF(AND(AF93=0,AG93=0,AH93=0),\"=\",\"!\"),\"\")","v":""},{"$f":"IF(AB93=\"-\", \"-\",SUBSTITUTE(SUBSTITUTE(EtykietaNaNazwe(Bilans!$J$219),\"_A\",\" A\"),\"_\",\".\") & \" + \" & CHAR(10) & AA96)","v":"-"},{"$f":"IF(Bilans!WybranyWariant=\"JednostkaInna\",Bilans!V$120+Bilans!V$121, IF(Bilans!WybranyWariant=\"JednostkaMala\",Bilans!V$219-Bilans!V$220,\"-\"))","v":"-"},{"$f":"IF(Bilans!WybranyWariant=\"JednostkaInna\",Bilans!W$120+Bilans!W$121, IF(Bilans!WybranyWariant=\"JednostkaMala\",Bilans!W$219-Bilans!W$220,\"-\"))","v":"-"},null,null,{"$f":"ROUND(IF(ISNUMBER(AB93),V93-AB93,0),2)","v":0},{"$f":"ROUND(IF(ISNUMBER(AC93),W93-AC93,0),2)","v":0},{"$f":"ROUND(IF(ISNUMBER(AD93),Y93-AD93,0),2)","v":0},-3,-2]
[2,null,3,"Ia",6,"a",null,null,null,{"$f":"D94&\".\"&E94 & \".\" & F94","v":"Ia.6.a"},{"$f":"F94 &\")\"","v":"a)"},null,null,{"$f":"K94","v":"a)"},{"$f":"teksty!$D$938","v":"zysk netto"}]
[2,null,3,"Ia",6,"b",null,null,null,{"$f":"D95&\".\"&E95 & \".\" & F95","v":"Ia.6.b"},{"$f":"F95 &\")\"","v":"b)"},null,null,{"$f":"K95","v":"b)"},{"$f":"teksty!$D$939","v":"strata netto"}]
[2,null,3,"Ia",6,"c",null,null,null,"Ia.6.c",{"$f":"F96 &\")\"","v":"c)"},null,null,{"$f":"K96","v":"c)"},{"$f":"teksty!$D$940","v":"odpisy z zysku"},null,null,null,null,null,null,null,null,null,null,{"$f":"IF(WrfKwot,IF(AND(AF96=0,AG96=0,AH96=0),\"=\",\"!\"),\"\")","v":""},{"$f":"IF(AB96=\"-\", \"-\",SUBSTITUTE(SUBSTITUTE(EtykietaNaNazwe(Bilans!$J$220),\"_A\",\" A\"),\"_\",\".\"))","v":"-"},{"$f":"IF(Bilans!WybranyWariant=\"JednostkaInna\",Bilans!V$121,IF(Bilans!WybranyWariant=\"JednostkaMala\",Bilans!V$220,\"-\"))","v":"-"},{"$f":"IF(Bilans!WybranyWariant=\"JednostkaInna\",Bilans!W$121,IF(Bilans!WybranyWariant=\"JednostkaMala\",Bilans!W$220,\"-\"))","v":"-"},null,null,{"$f":"ROUND(IF(ISNUMBER(AB96),ABS(V96)-ABS(AB96),0),2)","v":0},{"$f":"ROUND(IF(ISNUMBER(AC96),ABS(W96)-ABS(AC96),0),2)","v":0},{"$f":"ROUND(IF(ISNUMBER(AD96),ABS(Y96)-ABS(AD96),0),2)","v":0},-3,-2]
[2,null,1,"II",null,null,null,null,null,{"$f":"$D97","v":"II"},{"$f":"D97","v":"II"},null,null,{"$f":"K97","v":"II"},{"$f":"teksty!$D$941","v":"Kapitał (fundusz) własny na koniec okresu (BZ)"},null,null,null,null,null,null,{"$f":"V22+V37+V50+V61+V92+V93","v":0},{"$f":"W22+W37+W50+W61+W92+W93","v":0}]
[2,null,1,"III",null,null,null,null,null,{"$f":"$D98","v":"III"},{"$f":"D98","v":"III"},null,null,{"$f":"K98","v":"III"},{"$f":"teksty!$D$942","v":"Kapitał (fundusz) własny, po uwzględnieniu proponowanego podziału zysku (pokrycia straty)"},null,null,null,null,null,null,{"$f":"V97","v":0},{"$f":"W97","v":0},null,null,{"$f":"IF(WrfKwot,IF(AND(AF98=0,AG98=0,AH98=0),\"=\",\"!\"),\"\")","v":""},{"$f":"IF(AB98=\"-\", \"-\",SUBSTITUTE(SUBSTITUTE(EtykietaNaNazwe(Bilans!$J$102),\"_A\",\" A\"),\"_\",\".\"))","v":"-"},{"$f":"IF(Bilans!WybranyWariant=\"JednostkaInna\",Bilans!V$102, IF(Bilans!WybranyWariant=\"JednostkaMala\",-Bilans!V$203,\"-\"))","v":"-"},{"$f":"IF(Bilans!WybranyWariant=\"JednostkaInna\",Bilans!W$102, IF(Bilans!WybranyWariant=\"JednostkaMala\",-Bilans!W$203,\"-\"))","v":"-"},null,null,{"$f":"ROUND(IF(ISNUMBER(AB98),ABS(V98)-ABS(AB98),0),2)","v":0},{"$f":"ROUND(IF(ISNUMBER(AC98),ABS(W98)-ABS(AC98),0),2)","v":0},{"$f":"ROUND(IF(ISNUMBER(AD98),ABS(Y98)-ABS(AD98),0),2)","v":0},-3,-2]
[0,null,null,null,null,null,null,null,"Skonsolidowana:"]
[{"$f":"#REF!","v":{"$error":"#REF!"}},"P",{"$f":"COUNTA(D100:H100)","v":3},{"$f":"#REF!","v":{"$error":"#REF!"}},{"$f":"#REF!","v":{"$error":"#REF!"}},{"$f":"#REF!","v":{"$error":"#REF!"}},null,null,null,null,null,null,null,{"$f":"teksty!$D$885 & teksty!$D$718","v":"wyszczególnienie,  c.d. poprzedniej strony"},null,null,null,null,null,null,{"$f":"$U$5","v":""},{"$f":"$V$5","v":"Okres\nbieżący"},{"$f":"$W$5","v":"Okres\npoprzedni"},{"$f":"teksty!$D$292","v":"Przekszt. dane porów. za poprzedni okres"}]
[{"$f":"#REF!","v":{"$error":"#REF!"}},"P",3,{"$f":"#REF!","v":{"$error":"#REF!"}},{"$f":"#REF!","v":{"$error":"#REF!"}},{"$f":"#REF!","v":{"$error":"#REF!"}},null,null,null,null,null,null,null,{"$f":"teksty!$D$885 & teksty!$D$718","v":"wyszczególnienie,  c.d. poprzedniej strony"},null,null,null,null,null,null,{"$f":"$U$5","v":""},{"$f":"$V$5","v":"Okres\nbieżący"},{"$f":"$W$5","v":"Okres\npoprzedni"},{"$f":"teksty!$D$292","v":"Przekszt. dane porów. za poprzedni okres"}]

{"sheet":"Przepływy","index":5,"n_rows":130,"n_cols":34,"rows_kept":130,"cut":false,"hidden":false,"merged":[[4,26,4,29],[2,13,2,20],[128,13,128,19],[129,13,129,19],[127,13,127,19],[4,13,4,19],[5,14,5,20],[6,14,6,20],[7,14,7,20],[8,14,8,20],[9,14,9,20],[22,14,22,20],[23,14,23,20],[24,14,24,20],[16,14,16,20],[17,14,17,20],[18,14,18,20],[10,14,10,20],[11,14,11,20],[12,14,12,20],[13,14,13,20],[14,14,14,20],[15,14,15,20],[25,14,25,20],[26,14,26,20],[27,14,27,20],[19,14,19,20],[20,14,20,20],[21,14,21,20],[35,14,35,20],[36,14,36,20],[37,14,37,20],[38,14,38,20],[28,14,28,20],[29,14,29,20],[30,14,30,20],[31,14,31,20],[32,14,32,20],[33,14,33,20],[45,14,45,20],[46,14,46,20],[34,13,34,19],[47,14,47,20],[48,14,48,20],[49,14,49,20],[50,14,50,20],[39,14,39,20],[40,14,40,20],[41,14,41,20],[42,14,42,20],[43,14,43,20],[44,14,44,20],[51,14,51,20],[52,14,52,20],[53,14,53,20],[54,14,54,20],[64,14,64,20],[67,14,67,20],[63,14,63,20],[65,14,65,20],[55,14,55,20],[56,14,56,20],[57,14,57,20],[59,14,59,20],[60,14,60,20],[76,14,76,20],[77,14,77,20],[78,14,78,20],[70,14,70,20],[58,14,58,20],[68,14,68,20],[72,14,72,20],[69,14,69,20],[71,14,71,20],[62,14,62,20],[61,14,61,20],[73,14,73,20],[74,14,74,20],[75,14,75,20],[124,14,124,20],[101,14,101,20],[102,14,102,20],[103,14,103,20],[104,14,104,20],[105,14,105,20],[106,14,106,20],[123,14,123,20],[120,14,120,20],[121,14,121,20],[118,14,118,20],[119,14,119,20],[122,14,122,20],[115,14,115,20],[116,14,116,20],[117,14,117,20],[111,14,111,20],[109,14,109,20],[110,14,110,20],[107,14,107,20],[108,14,108,20],[114,14,114,20],[112,14,112,20],[113,14,113,20],[95,14,95,20],[96,14,96,20],[97,14,97,20],[98,14,98,20],[99,14,99,20],[100,14,100,20],[91,14,91,20],[92,14,92,20],[93,14,93,20],[94,13,94,19],[85,14,85,20],[86,14,86,20],[87,14,87,20],[88,14,88,20],[89,14,89,20],[90,14,90,20],[79,14,79,20],[80,14,80,20],[81,14,81,20],[82,14,82,20],[83,14,83,20],[84,14,84,20]]}
["RachPrzeplywow",null,"Poziom",null,null,"Składniki",null,null,null,"(pełen symbol)","(wyświetlana etykieta)",null,null,null,null,null,null,1,{"$f":"VLOOKUP(WybranaPozycja,teksty!B150:F155,2)","v":"JednostkaInna"},null,2,{"$f":"VLOOKUP(WybranaPodpozycja,teksty!B159:F160,2)","v":"Posrednia"}]
[null,null,null,null,null,null,null,null,null,null,null,null,{"$f":"teksty!D787","v":"Rachunek przepływów"}]
[null,null,null,null,null,null,null,null,{"$f":"teksty!$D$291","v":"Opcjonalne. Aby nie włączać tego zestawienia do sprawozdania - ukryj ten arkusz"},null,null,null,null,{"$f":"Wprowadzenie!$I$4 & \" \" & IF(NumerWariantuRaportu = 5,  teksty!$D$289, \"\")","v":" "},null,null,null,null,null,null,null,null,null,{"$f":"teksty!D283 & VLOOKUP(NumerBazyRaportu,BazyKwot,3)","v":"wszystkie kwoty w złotych"}]
[]
[null,null,null,null,null,null,null,null,null,null,null,null,null,{"$f":"VLOOKUP(WybranaPodpozycja,teksty!$B$159:$F$160,3)","v":"metoda pośrednia"},null,null,null,null,null,null,{"$f":"IF(BezDat,\"\",teksty!$D$615)","v":""},{"$f":"IF(BezDat,teksty!$D$954,YEAR(DataDo))","v":"Okres\nbieżący"},{"$f":"IF(BezDat,teksty!$D$955,V5-1)","v":"Okres\npoprzedni"},{"$f":"teksty!$D$292","v":"Przekszt. dane porów. za poprzedni okres"},null,null,{"$f":"IF(OR(_xlfn.ISFORMULA($V$8),_xlfn.ISFORMULA($W$8)),teksty!$D$951,\"\")","v":"W niektórych polach tego zestawienia napotkasz pomocnicze formuły. Jeżeli to potrzebne, możesz je zmienić, lub wpisać w te pola odpowiednie kwoty."}]
[{"$f":"(4*65536)+(2+32)","v":262178},null,{"$f":"COUNTA(D6:H6)","v":1},"A",null,null,null,null,null,{"$f":"$D6","v":"A"},{"$f":"D6","v":"A"},null,null,{"$f":"K6","v":"A"},{"$f":"teksty!$D$851","v":"Przepływy środków pieniężnych z działalności operacyjnej"}]
[{"$f":"(4*65536)+(2+32)","v":262178},null,2,{"$f":"D6","v":"A"},"I",null,null,null,null,{"$f":"D7&\".\"&E7","v":"A.I"},{"$f":"E7","v":"I"},null,null,"I",{"$f":"teksty!$D$852","v":"Zysk (strata) netto"},null,null,null,null,null,null,null,null,null,null,{"$f":"IF(WrfKwot,IF(AND(AF7=0,AG7=0,AH7=0),\"=\",\"!\"),\"\")","v":""},{"$f":"IF(AB7=\"-\", \"-\",SUBSTITUTE(SUBSTITUTE(EtykietaNaNazwe(Bilans!$J$219),\"_A\",\" A\"),\"_\",\".\"))","v":"-"},{"$f":"IF(Bilans!WybranyWariant=\"JednostkaInna\",Bilans!V$120, IF(Bilans!WybranyWariant=\"JednostkaMala\",Bilans!V$219,\"-\"))","v":"-"},{"$f":"IF(Bilans!WybranyWariant=\"JednostkaInna\",Bilans!W$120, IF(Bilans!WybranyWariant=\"JednostkaMala\",Bilans!W$219,\"-\"))","v":"-"},{"$f":"IF(Bilans!WybranyWariant=\"JednostkaInna\",Bilans!X$120, IF(Bilans!WybranyWariant=\"JednostkaMala\",Bilans!X$219,\"-\"))","v":"-"},null,{"$f":"ROUND(IF(ISNUMBER(AB7),V7-AB7,0),2)","v":0},{"$f":"ROUND(IF(ISNUMBER(AC7),W7-AC7,0),2)","v":0},0]
[262178,null,2,{"$f":"D7","v":"A"},"II",null,null,null,null,{"$f":"D8&\".\"&E8","v":"A.II"},{"$f":"E8","v":"II"},null,null,"II",{"$f":"teksty!$D$853","v":"Korekty razem"},null,null,null,null,null,null,{"$f":"V9+V10+V11+V12+V13+V14+V15+V16+V17+V18","v":0},{"$f":"W9+W10+W11+W12+W13+W14+W15+W16+W17+W18","v":0}]
[262178,null,3,{"$f":"D8","v":"A"},"II",1,null,null,null,{"$f":"D9&\".\"&E9 & \".\" & F9","v":"A.II.1"},{"$f":"F9","v":1},null,null,1,{"$f":"teksty!$D$854","v":"Amortyzacja"}]
[262178,null,3,"A","II",2,null,null,null,"A.II.2",2,null,null,2,{"$f":"teksty!$D$855","v":"Zyski (straty) z tytułu różnic kursowych"}]
[262178,null,3,"A","II",3,null,null,null,"A.II.3",3,null,null,3,{"$f":"teksty!$D$856","v":"Odsetki i udziały w zyskach (dywidendy)"}]
[262178,null,3,"A","II",4,null,null,null,"A.II.4",4,null,null,4,{"$f":"teksty!$D$857","v":"Zysk (strata) z działalności inwestycyjnej"}]
[262178,null,3,"A","II",5,null,null,null,"A.II.5",5,null,null,5,{"$f":"teksty!$D$858","v":"Zmiana stanu rezerw"}]
[262178,null,3,"A","II",6,null,null,null,"A.II.6",6,null,null,6,{"$f":"teksty!$D$859","v":"Zmiana stanu zapasów"}]
[262178,null,3,"A","II",7,null,null,null,"A.II.7",7,null,null,7,{"$f":"teksty!$D$860","v":"Zmiana stanu należności"}]
[262178,null,3,"A","II",8,null,null,null,"A.II.8",8,null,null,8,{"$f":"teksty!$D$861","v":"Zmiana stanu zobowiązań krótkoterminowych, z wyjątkiem pożyczek i kredytów"}]
[262178,null,3,"A","II",9,null,null,null,"A.II.9",9,null,null,9,{"$f":"teksty!$D$862","v":"Zmiana stanu rozliczeń międzyokresowych"}]
[262178,null,3,"A","II",10,null,null,null,"A.II.10",10,null,null,10,{"$f":"teksty!$D$863","v":"Inne korekty"}]
[262178,null,2,{"$f":"D18","v":"A"},"III",null,null,null,null,{"$f":"D19&\".\"&E19","v":"A.III"},{"$f":"E19","v":"III"},null,null,{"$f":"K19","v":"III"},{"$f":"teksty!$D$864","v":"Przepływy pieniężne netto z działalności operacyjnej (I±II)"},null,null,null,null,null,null,{"$f":"V7+V8","v":0},{"$f":"W7+W8","v":0}]
[262178,null,1,"B",null,null,null,null,null,{"$f":"$D20","v":"B"},{"$f":"D20","v":"B"},null,null,"B",{"$f":"teksty!$D$802","v":"Przepływy środków pieniężnych z działalności inwestycyjnej"}]
[262178,null,2,{"$f":"D20","v":"B"},"I",null,null,null,null,{"$f":"D21&\".\"&E21","v":"B.I"},{"$f":"E21","v":"I"},null,null,{"$f":"K21","v":"I"},{"$f":"teksty!$D$803","v":"Wpływy"},null,null,null,null,null,null,{"$f":"V22+V23+V24+V32","v":0},{"$f":"W22+W23+W24+W32","v":0}]
[262178,null,3,{"$f":"D21","v":"B"},"I",1,null,null,null,{"$f":"D22&\".\"&E22 & \".\" & F22","v":"B.I.1"},{"$f":"F22","v":1},null,null,{"$f":"K22","v":1},{"$f":"teksty!$D$804","v":"Zbycie wartości niematerialnych i prawnych oraz rzeczowych aktywów trwałych"}]
[262178,null,3,{"$f":"D22","v":"B"},"I",2,null,null,null,{"$f":"D23&\".\"&E23 & \".\" & F23","v":"B.I.2"},{"$f":"F23","v":2},null,null,{"$f":"K23","v":2},{"$f":"teksty!$D$805","v":"Zbycie inwestycji w nieruchomości oraz wartości niematerialne i prawne"}]
[262178,null,3,{"$f":"D23","v":"B"},"I",3,null,null,null,{"$f":"D24&\".\"&E24 & \".\" & F24","v":"B.I.3"},{"$f":"F24","v":3},null,null,{"$f":"K24","v":3},{"$f":"teksty!$D$806","v":"Z aktywów finansowych, w tym:"},null,null,null,null,null,null,{"$f":"V25+V26","v":0},{"$f":"W25+W26","v":0}]
[262178,null,4,{"$f":"D24","v":"B"},"I",{"$f":"F24","v":3},"a",null,null,{"$f":"D25&\".\"&E25 & \".\" & F25& \".\" & G25","v":"B.I.3.a"},{"$f":"G25 &\")\"","v":"a)"},null,null,{"$f":"K25","v":"a)"},{"$f":"teksty!$D$807","v":"w jednostkach powiązanych"}]
[262178,null,4,{"$f":"D25","v":"B"},"I",{"$f":"F25","v":3},"b",null,null,{"$f":"D26&\".\"&E26 & \".\" & F26& \".\" & G26","v":"B.I.3.b"},{"$f":"G26 &\")\"","v":"b)"},null,null,"b)",{"$f":"teksty!$D$808","v":"w pozostałych jednostkach"},null,null,null,null,null,null,{"$f":"V27+V28+V29+V30+V31","v":0},{"$f":"W27+W28+W29+W30+W31","v":0}]
[262178,null,5,{"$f":"D26","v":"B"},"I",3,{"$f":"G26","v":"b"},1,null,{"$f":"$D27&\".\"&E27&\".\"&F27&\".\"&G27&\".\"&H27","v":"B.I.3.b.1"},{"$f":"H27 & \") \"","v":"1) "},null,null,null,{"$f":"$K$27&teksty!$D$809","v":"1) zbycie aktywów finansowych"}]
[262178,null,5,{"$f":"D27","v":"B"},"I",3,{"$f":"G27","v":"b"},2,null,{"$f":"$D28&\".\"&E28&\".\"&F28&\".\"&G28&\".\"&H28","v":"B.I.3.b.2"},{"$f":"H28 & \") \"","v":"2) "},null,null,null,{"$f":"$K$28&teksty!$D$810","v":"2) dywidendy i udziały w zyskach"}]
[262178,null,5,{"$f":"D28","v":"B"},"I",3,{"$f":"G28","v":"b"},3,null,{"$f":"$D29&\".\"&E29&\".\"&F29&\".\"&G29&\".\"&H29","v":"B.I.3.b.3"},{"$f":"H29 & \") \"","v":"3) "},null,null,null,{"$f":"$K$29&teksty!$D$811","v":"3) spłata udzielonych pożyczek długoterminowych"}]
[262178,null,5,{"$f":"D29","v":"B"},"I",3,{"$f":"G29","v":"b"},4,null,{"$f":"$D30&\".\"&E30&\".\"&F30&\".\"&G30&\".\"&H30","v":"B.I.3.b.4"},{"$f":"H30 & \") \"","v":"4) "},null,null,null,{"$f":"$K$30&teksty!$D$812","v":"4) odsetki"}]
[262178,null,5,{"$f":"D30","v":"B"},"I",3,{"$f":"G30","v":"b"},5,null,{"$f":"$D31&\".\"&E31&\".\"&F31&\".\"&G31&\".\"&H31","v":"B.I.3.b.5"},{"$f":"H31 & \") \"","v":"5) "},null,null,null,{"$f":"$K$31&teksty!$D$813","v":"5) inne wpływy z aktywów finansowych"}]
[262178,null,3,{"$f":"D31","v":"B"},"I",4,null,null,null,{"$f":"D32&\".\"&E32 & \".\" & F32","v":"B.I.4"},{"$f":"F32","v":4},null,null,{"$f":"K32","v":4},{"$f":"teksty!$D$814","v":"Inne wpływy inwestycyjne"}]
[262178,null,2,{"$f":"D32","v":"B"},"II",null,null,null,null,{"$f":"D33&\".\"&E33","v":"B.II"},{"$f":"E33","v":"II"},null,null,{"$f":"K33","v":"II"},{"$f":"teksty!$D$815","v":"Wydatki"},null,null,null,null,null,null,{"$f":"V34+V36+V37+V42","v":0},{"$f":"W34+W36+W37+W42","v":0}]
[262178,null,3,{"$f":"D33","v":"B"},"II",1,null,null,{"$f":"teksty!$D$789 & teksty!$D$284 & 1","v":"Rach. Przepływów, koniec strony 1"},{"$f":"D34&\".\"&E34 & \".\" & F34","v":"B.II.1"},{"$f":"F34","v":1},null,null,{"$f":"K34","v":1},{"$f":"teksty!$D$816","v":"Nabycie wartości niematerialnych i prawnych oraz rzeczowych aktywów trwałych"}]
[262178,"P",2,"B","II",null,null,null,null,null,null,null,null,{"$f":"teksty!$D$160 & teksty!$D$718","v":"metoda pośrednia,  c.d. poprzedniej strony"},null,null,null,null,null,null,{"$f":"$U$5","v":""},{"$f":"$V$5","v":"Okres\nbieżący"},{"$f":"$W$5","v":"Okres\npoprzedni"},{"$f":"teksty!$D$292","v":"Przekszt. dane porów. za poprzedni okres"}]
[262178,null,3,{"$f":"D35","v":"B"},"II",2,null,null,null,{"$f":"D36&\".\"&E36 & \".\" & F36","v":"B.II.2"},{"$f":"F36","v":2},null,null,{"$f":"K36","v":2},{"$f":"teksty!$D$817","v":"Inwestycje w nieruchomości oraz wartości niematerialne i prawne"},null,null,null,null,null,null,null,null,null,null,{"$f":"teksty!$D$285","v":"ukryty wiersz powyżej zawiera nagłówek dla kolejnej strony"}]
[262178,null,3,{"$f":"D36","v":"B"},"II",3,null,null,null,{"$f":"D37&\".\"&E37 & \".\" & F37","v":"B.II.3"},{"$f":"F37","v":3},null,null,{"$f":"K37","v":3},{"$f":"teksty!$D$819","v":"Na aktywa finansowe, w tym:"},null,null,null,null,null,null,{"$f":"V38+V39","v":0},{"$f":"W38+W39","v":0}]
[262178,null,4,{"$f":"D37","v":"B"},"II",{"$f":"F37","v":3},"a",null,null,{"$f":"D38&\".\"&E38 & \".\" & F38& \".\" & G38","v":"B.II.3.a"},{"$f":"G38 &\")\"","v":"a)"},null,null,{"$f":"K38","v":"a)"},{"$f":"teksty!$D$820","v":"w jednostkach powiązanych"}]
[262178,null,4,{"$f":"D38","v":"B"},"II",{"$f":"F38","v":3},"b",null,null,{"$f":"D39&\".\"&E39 & \".\" & F39& \".\" & G39","v":"B.II.3.b"},{"$f":"G39 &\")\"","v":"b)"},null,null,"b)",{"$f":"teksty!$D$821","v":"w pozostałych jednostkach"},null,null,null,null,null,null,{"$f":"V40+V41","v":0},{"$f":"W40+W41","v":0}]
[262178,null,5,{"$f":"D39","v":"B"},"II",3,{"$f":"G39","v":"b"},1,null,{"$f":"$D40&\".\"&E40&\".\"&F40&\".\"&G40&\".\"&H40","v":"B.II.3.b.1"},{"$f":"H40 & \") \"","v":"1) "},null,null,null,{"$f":"$K$40&teksty!$D$822","v":"1) nabycie aktywów finansowych"}]
[262178,null,5,{"$f":"D40","v":"B"},"II",3,{"$f":"G40","v":"b"},2,null,{"$f":"$D41&\".\"&E41&\".\"&F41&\".\"&G41&\".\"&H41","v":"B.II.3.b.2"},{"$f":"H41 & \") \"","v":"2) "},null,null,null,{"$f":"$K$41&teksty!$D$823","v":"2) udzielone pożyczki długoterminowe"}]
[262178,null,3,{"$f":"D41","v":"B"},"II",4,null,null,null,{"$f":"D42&\".\"&E42 & \".\" & F42","v":"B.II.4"},{"$f":"F42","v":4},null,null,{"$f":"K42","v":4},{"$f":"teksty!$D$824","v":"Inne wydatki inwestycyjne"}]
[262178,null,2,{"$f":"D42","v":"B"},"III",null,null,null,null,{"$f":"D43&\".\"&E43","v":"B.III"},{"$f":"E43","v":"III"},null,null,{"$f":"K43","v":"III"},{"$f":"teksty!$D$825","v":"Przepływy pieniężne netto z działalności inwestycyjnej (I–II)"},null,null,null,null,null,null,{"$f":"V21-V33","v":0},{"$f":"W21-W33","v":0}]
[262178,null,1,"C",null,null,null,null,null,{"$f":"$D44","v":"C"},{"$f":"D44","v":"C"},null,null,{"$f":"K44","v":"C"},{"$f":"teksty!$D$826","v":"Przepływy środków pieniężnych z działalności finansowej"}]
[262178,null,2,{"$f":"D44","v":"C"},"I",null,null,null,null,{"$f":"D45&\".\"&E45","v":"C.I"},{"$f":"E45","v":"I"},null,null,{"$f":"K45","v":"I"},{"$f":"teksty!$D$827","v":"Wpływy"},null,null,null,null,null,null,{"$f":"V46+V47+V48+V49","v":0},{"$f":"W46+W47+W48+W49","v":0}]
[262178,null,3,{"$f":"D45","v":"C"},"I",1,null,null,null,{"$f":"D46&\".\"&E46 & \".\" & F46","v":"C.I.1"},{"$f":"F46","v":1},null,null,1,{"$f":"teksty!$D$828","v":"Wpływy netto z wydania udziałów (emisji akcji) i innych instrumentów kapitałowych oraz dopłat do kapitału"}]
[262178,null,3,{"$f":"D46","v":"C"},"I",2,null,null,null,{"$f":"D47&\".\"&E47 & \".\" & F47","v":"C.I.2"},{"$f":"F47","v":2},null,null,2,{"$f":"teksty!$D$829","v":"Kredyty i pożyczki"}]
[262178,null,3,{"$f":"D47","v":"C"},"I",3,null,null,null,{"$f":"D48&\".\"&E48 & \".\" & F48","v":"C.I.3"},{"$f":"F48","v":3},null,null,3,{"$f":"teksty!$D$830","v":"Emisja dłużnych papierów wartościowych"}]
[262178,null,3,{"$f":"D48","v":"C"},"I",4,null,null,null,{"$f":"D49&\".\"&E49 & \".\" & F49","v":"C.I.4"},{"$f":"F49","v":4},null,null,4,{"$f":"teksty!$D$831","v":"Inne wpływy finansowe"}]
[262178,null,2,{"$f":"D49","v":"C"},"II",null,null,null,null,{"$f":"D50&\".\"&E50","v":"C.II"},{"$f":"E50","v":"II"},null,null,"II",{"$f":"teksty!$D$832","v":"Wydatki"},null,null,null,null,null,null,{"$f":"V51+V52+V53+V54+V55+V56+V57+V58+V59","v":0},{"$f":"W51+W52+W53+W54+W55+W56+W57+W58+W59","v":0}]
[262178,null,3,{"$f":"D50","v":"C"},"II",1,null,null,null,{"$f":"D51&\".\"&E51 & \".\" & F51","v":"C.II.1"},{"$f":"F51","v":1},null,null,1,{"$f":"teksty!$D$833","v":"Nabycie udziałów (akcji) własnych"}]
[262178,null,3,{"$f":"D51","v":"C"},"II",2,null,null,null,"C.II.2",2,null,null,2,{"$f":"teksty!$D$834","v":"Dywidendy i inne wypłaty na rzecz właścicieli"}]
[262178,null,3,{"$f":"D52","v":"C"},"II",3,null,null,null,"C.II.3",3,null,null,3,{"$f":"teksty!$D$835","v":"Inne, niż wypłaty na rzecz właścicieli, wydatki z tytułu podziału zysku"}]
[262178,null,3,{"$f":"D53","v":"C"},"II",4,null,null,null,"C.II.4",4,null,null,4,{"$f":"teksty!$D$836","v":"Spłaty kredytów i pożyczek"}]
[262178,null,3,{"$f":"D54","v":"C"},"II",5,null,null,null,"C.II.5",5,null,null,5,{"$f":"teksty!$D$837","v":"Wykup dłużnych papierów wartościowych"}]
[262178,null,3,{"$f":"D55","v":"C"},"II",6,null,null,null,"C.II.6",6,null,null,6,{"$f":"teksty!$D$838","v":"Z tytułu innych zobowiązań finansowych"}]
[262178,null,3,{"$f":"D56","v":"C"},"II",7,null,null,null,"C.II.7",7,null,null,7,{"$f":"teksty!$D$839","v":"Płatności zobowiązań z tytułu umów leasingu finansowego"}]
[262178,null,3,{"$f":"D57","v":"C"},"II",8,null,null,null,"C.II.8",8,null,null,8,{"$f":"teksty!$D$840","v":"Odsetki"}]
[262178,null,3,{"$f":"D58","v":"C"},"II",9,null,null,null,"C.II.9",9,null,null,9,{"$f":"teksty!$D$841","v":"Inne wydatki finansowe"}]
[262178,null,2,{"$f":"D59","v":"C"},"III",null,null,null,null,{"$f":"D60&\".\"&E60","v":"C.III"},{"$f":"E60","v":"III"},null,null,"III",{"$f":"teksty!$D$842","v":"Przepływy pieniężne netto z działalności finansowej (I–II)"},null,null,null,null,null,null,{"$f":"V45-V50","v":0},{"$f":"W45-W50","v":0}]
[262178,null,1,"D",null,null,null,null,null,{"$f":"$D61","v":"D"},{"$f":"D61","v":"D"},null,null,{"$f":"K61","v":"D"},{"$f":"teksty!$D$843","v":"Przepływy pieniężne netto, razem (A.III±B.III±C.III)"},null,null,null,null,null,null,{"$f":"V19+V43+V60","v":0},{"$f":"W19+W43+W60","v":0},null,null,{"$f":"IF(WrfKwot,IF(AND(AF61=0,AG61=0,AH61=0),\"=\",\"!\"),\"\")","v":""},{"$f":"teksty!$D$60 & \" \" & N62","v":"Przepływy E"},{"$f":"V62","v":0},{"$f":"W62","v":0},0,null,{"$f":"ROUND(IF(ISNUMBER(AB61),V61-AB61,0),2)","v":0},{"$f":"ROUND(IF(ISNUMBER(AC61),W61-AC61,0),2)","v":0},{"$f":"ROUND(IF(ISNUMBER(AD61),X61-AD61,0),2)","v":0}]
[262178,null,1,"E",null,null,null,null,null,{"$f":"$D62","v":"E"},{"$f":"D62","v":"E"},null,null,"E",{"$f":"teksty!$D$844","v":"Bilansowa zmiana stanu środków pieniężnych, w tym:"},null,null,null,null,null,null,null,null,null,null,{"$f":"IF(WrfKwot,IF(AND(AF62=0,AG62=0,AH62=0),\"=\",\"!\"),\"\")","v":""},{"$f":"IF(AA65=\"-\",\"-\",AA65 & \" \" & N63 & CHAR(10) & \"(\" & teksty!$D$788 &\")\")","v":"-"},{"$f":"IF(ISNUMBER(AB65),AB65-AC65,\"-\")","v":"-"},null,null,null,{"$f":"ROUND(IF(ISNUMBER(AB62),V62-AB62,0),2)","v":0},{"$f":"ROUND(IF(ISNUMBER(AC62),W62-AC62,0),2)","v":0},{"$f":"ROUND(IF(ISNUMBER(AD62),X62-AD62,0),2)","v":0}]
[262178,null,2,{"$f":"D62","v":"E"},1,null,null,null,null,{"$f":"D63&\".\"&E63","v":"E.1"},null,null,null,null,{"$f":"IF($N$63=\"\",\" – \") &teksty!$D$845","v":" – zmiana stanu środków pieniężnych z tytułu różnic kursowych"}]
[262178,null,1,"F",null,null,null,null,null,{"$f":"$D64","v":"F"},{"$f":"D64","v":"F"},null,null,{"$f":"K64","v":"F"},{"$f":"teksty!$D$846","v":"Środki pieniężne na początek okresu"},null,null,null,null,null,null,0,0,null,null,{"$f":"IF(WrfKwot,IF(AND(AF64=0,AG64=0,AH64=0),\"=\",\"!\"),\"\")","v":""},{"$f":"teksty!$D$60 & \" \" & N65 & CHAR(10) & \"(\" & LOWER(SUBSTITUTE(teksty!$D$955, CHAR(10), \" \")) &\")\"","v":"Przepływy G\n(okres poprzedni)"},{"$f":"W65","v":0},null,null,null,{"$f":"ROUND(IF(ISNUMBER(AB64),V64-AB64,0),2)","v":0},{"$f":"ROUND(IF(ISNUMBER(AC64),W64-AC64,0),2)","v":0},0]
[262178,null,{"$f":"COUNTA(D65:H65)","v":1},"G",null,null,null,null,null,{"$f":"$D65","v":"G"},{"$f":"D65","v":"G"},null,null,"G",{"$f":"teksty!$D$847","v":"Środki pieniężne na koniec okresu (F±D), w tym:"},null,null,null,null,null,null,{"$f":"V64+V61","v":0},{"$f":"W64+W61","v":0},null,null,{"$f":"IF(WrfKwot,IF(AND(AF65=0,AG65=0,AH65=0),\"=\",\"!\"),\"\")","v":""},{"$f":"SUBSTITUTE(SUBSTITUTE(SUBSTITUTE(EtykietaNaNazwe(IF(Bilans!WybranyWariant=\"JednostkaInna\",Bilans!$J$88,\"-\")),\"_B\",\" B\"),\"_\",\".\"),\"1.C\",\"1c)\")","v":"-"},{"$f":"IF(Bilans!WybranyWariant=\"JednostkaInna\",Bilans!V$88,\"-\")","v":"-"},{"$f":"IF(Bilans!WybranyWariant=\"JednostkaInna\",Bilans!W$88,\"-\")","v":"-"},{"$f":"IF(Bilans!WybranyWariant=\"JednostkaInna\",Bilans!X$88,\"-\")","v":"-"},null,{"$f":"ROUND(IF(ISNUMBER(AB65),V65-AB65,0),2)","v":0},0,0]
[262178,null,{"$f":"COUNTA(D66:H66)","v":2},{"$f":"D65","v":"G"},1,null,null,null,null,{"$f":"D66&\".\"&E66","v":"G.1"},null,null,null,null,{"$f":"IF($N$66=\"\",\" – \") &teksty!$D$848","v":" – o ograniczonej możliwości dysponowania"}]
[0]
[{"$f":"(2*65536)+(2+32)","v":131106},null,{"$f":"COUNTA(D68:H68)","v":1},"A",null,null,null,null,null,{"$f":"$D68","v":"A"},{"$f":"D68","v":"A"},null,null,{"$f":"K68","v":"A"},{"$f":"teksty!$D$791","v":"Przepływy środków pieniężnych z działalności operacyjnej"}]
[{"$f":"A68","v":131106},null,{"$f":"COUNTA(D69:H69)","v":2},{"$f":"D68","v":"A"},"I",null,null,null,null,{"$f":"D69&\".\"&E69","v":"A.I"},{"$f":"E69","v":"I"},null,null,"I",{"$f":"teksty!$D$792","v":"Wpływy"},null,null,null,null,null,null,{"$f":"V70+V71","v":0},{"$f":"W70+W71","v":0}]
[{"$f":"A69","v":131106},null,3,{"$f":"D69","v":"A"},"I",1,null,null,null,{"$f":"D70&\".\"&E70 & \".\" & F70","v":"A.I.1"},{"$f":"F70","v":1},null,null,1,{"$f":"teksty!$D$793","v":"Sprzedaż"}]
[131106,null,{"$f":"COUNTA(D71:H71)","v":3},"A","I",2,null,null,null,{"$f":"D71&\".\"&E71 & \".\" & F71","v":"A.I.2"},{"$f":"F71","v":2},null,null,2,{"$f":"teksty!$D$794","v":"Inne wpływy z działalności operacyjnej"}]
[131106,null,2,{"$f":"D71","v":"A"},"II",null,null,null,null,{"$f":"D72&\".\"&E72","v":"A.II"},{"$f":"E72","v":"II"},null,null,"II",{"$f":"teksty!$D$795","v":"Wydatki"},null,null,null,null,null,null,{"$f":"V73+V74+V75+V76+V77","v":0},{"$f":"W73+W74+W75+W76+W77","v":0}]
[131106,null,3,"A","II",1,null,null,null,{"$f":"D73&\".\"&E73 & \".\" & F73","v":"A.II.1"},{"$f":"F73","v":1},null,null,1,{"$f":"teksty!$D$796","v":"Dostawy i usługi"}]
[131106,null,{"$f":"COUNTA(D74:H74)","v":3},"A","II",2,null,null,null,{"$f":"D74&\".\"&E74 & \".\" & F74","v":"A.II.2"},{"$f":"F74","v":2},null,null,2,{"$f":"teksty!$D$797","v":"Wynagrodzenia netto"}]
[131106,null,3,"A","II",3,null,null,null,{"$f":"D75&\".\"&E75 & \".\" & F75","v":"A.II.3"},{"$f":"F75","v":3},null,null,3,{"$f":"teksty!$D$798","v":"Ubezpieczenia społeczne i zdrowotne oraz inne świadczenia"}]
[131106,null,3,"A","II",4,null,null,null,{"$f":"D76&\".\"&E76 & \".\" & F76","v":"A.II.4"},{"$f":"F76","v":4},null,null,4,{"$f":"teksty!$D$799","v":"Podatki i opłaty o charakterze publicznoprawnym"}]
[131106,null,3,"A","II",5,null,null,null,{"$f":"D77&\".\"&E77 & \".\" & F77","v":"A.II.5"},{"$f":"F77","v":5},null,null,5,{"$f":"teksty!$D$800","v":"Inne wydatki operacyjne"}]
[131106,null,2,{"$f":"D77","v":"A"},"III",null,null,null,null,{"$f":"D78&\".\"&E78","v":"A.III"},{"$f":"E78","v":"III"},null,null,"III",{"$f":"teksty!$D$801","v":"Przepływy pieniężne netto z działalności operacyjnej (I–II)"},null,null,null,null,null,null,{"$f":"V69-V72","v":0},{"$f":"W69-W72","v":0}]
[131106,null,1,"B",null,null,null,null,null,{"$f":"$D79","v":"B"},{"$f":"D79","v":"B"},null,null,{"$f":"K79","v":"B"},{"$f":"teksty!$D$802","v":"Przepływy środków pieniężnych z działalności inwestycyjnej"}]
[131106,null,2,{"$f":"D79","v":"B"},"I",null,null,null,null,{"$f":"D80&\".\"&E80","v":"B.I"},{"$f":"E80","v":"I"},null,null,{"$f":"K80","v":"I"},{"$f":"teksty!$D$803","v":"Wpływy"},null,null,null,null,null,null,{"$f":"V81+V82+V83+V91","v":0},{"$f":"W81+W82+W83+W91","v":0}]
[131106,null,3,{"$f":"D80","v":"B"},"I",1,null,null,null,{"$f":"D81&\".\"&E81 & \".\" & F81","v":"B.I.1"},{"$f":"F81","v":1},null,null,{"$f":"K81","v":1},{"$f":"teksty!$D$804","v":"Zbycie wartości niematerialnych i prawnych oraz rzeczowych aktywów trwałych"}]
[131106,null,3,"B","I",2,null,null,null,{"$f":"D82&\".\"&E82 & \".\" & F82","v":"B.I.2"},{"$f":"F82","v":2},null,null,{"$f":"K82","v":2},{"$f":"teksty!$D$805","v":"Zbycie inwestycji w nieruchomości oraz wartości niematerialne i prawne"}]
[131106,null,3,"B","I",3,null,null,null,{"$f":"D83&\".\"&E83 & \".\" & F83","v":"B.I.3"},{"$f":"F83","v":3},null,null,{"$f":"K83","v":3},{"$f":"teksty!$D$806","v":"Z aktywów finansowych, w tym:"},null,null,null,null,null,null,{"$f":"V84+V85","v":0},{"$f":"W84+W85","v":0}]
[131106,null,4,"B","I",{"$f":"F83","v":3},"a",null,null,{"$f":"D84&\".\"&E84 & \".\" & F84& \".\" & G84","v":"B.I.3.a"},{"$f":"G84 &\")\"","v":"a)"},null,null,{"$f":"K84","v":"a)"},{"$f":"teksty!$D$807","v":"w jednostkach powiązanych"}]
[131106,null,4,"B","I",{"$f":"F84","v":3},"b",null,null,{"$f":"D85&\".\"&E85 & \".\" & F85& \".\" & G85","v":"B.I.3.b"},{"$f":"G85 &\")\"","v":"b)"},null,null,{"$f":"K85","v":"b)"},{"$f":"teksty!$D$808","v":"w pozostałych jednostkach"},null,null,null,null,null,null,{"$f":"V86+V87+V88+V89+V90","v":0},{"$f":"W86+W87+W88+W89+W90","v":0}]
[131106,null,5,"B","I",3,{"$f":"G85","v":"b"},1,null,{"$f":"$D86&\".\"&E86&\".\"&F86&\".\"&G86&\".\"&H86","v":"B.I.3.b.1"},{"$f":"H86 & \") \"","v":"1) "},null,null,null,{"$f":"$K$86&teksty!$D$809","v":"1) zbycie aktywów finansowych"}]
[131106,null,5,"B","I",3,{"$f":"G86","v":"b"},2,null,{"$f":"$D87&\".\"&E87&\".\"&F87&\".\"&G87&\".\"&H87","v":"B.I.3.b.2"},{"$f":"H87 & \") \"","v":"2) "},null,null,null,{"$f":"$K$87&teksty!$D$810","v":"2) dywidendy i udziały w zyskach"}]
[131106,null,5,"B","I",3,{"$f":"G87","v":"b"},3,null,{"$f":"$D88&\".\"&E88&\".\"&F88&\".\"&G88&\".\"&H88","v":"B.I.3.b.3"},{"$f":"H88 & \") \"","v":"3) "},null,null,null,{"$f":"$K$88&teksty!$D$811","v":"3) spłata udzielonych pożyczek długoterminowych"}]
[131106,null,5,"B","I",3,{"$f":"G88","v":"b"},4,null,{"$f":"$D89&\".\"&E89&\".\"&F89&\".\"&G89&\".\"&H89","v":"B.I.3.b.4"},{"$f":"H89 & \") \"","v":"4) "},null,null,null,{"$f":"$K$89&teksty!$D$812","v":"4) odsetki"}]
[131106,null,5,"B","I",3,{"$f":"G89","v":"b"},5,null,{"$f":"$D90&\".\"&E90&\".\"&F90&\".\"&G90&\".\"&H90","v":"B.I.3.b.5"},{"$f":"H90 & \") \"","v":"5) "},null,null,null,{"$f":"$K$90&teksty!$D$813","v":"5) inne wpływy z aktywów finansowych"}]
[131106,null,3,"B","I",4,null,null,null,{"$f":"D91&\".\"&E91 & \".\" & F91","v":"B.I.4"},{"$f":"F91","v":4},null,null,{"$f":"K91","v":4},{"$f":"teksty!$D$814","v":"Inne wpływy inwestycyjne"}]
[131106,null,2,{"$f":"D91","v":"B"},"II",null,null,null,null,{"$f":"D92&\".\"&E92","v":"B.II"},{"$f":"E92","v":"II"},null,null,{"$f":"K92","v":"II"},{"$f":"teksty!$D$815","v":"Wydatki"},null,null,null,null,null,null,{"$f":"V93+V94+V96+V101","v":0},{"$f":"W93+W94+W96+W101","v":0}]
[131106,null,3,"B","II",1,null,null,null,{"$f":"D93&\".\"&E93 & \".\" & F93","v":"B.II.1"},{"$f":"F93","v":1},null,null,{"$f":"K93","v":1},{"$f":"teksty!$D$816","v":"Nabycie wartości niematerialnych i prawnych oraz rzeczowych aktywów trwałych"}]
[131106,null,3,"B","II",2,null,null,{"$f":"teksty!$D$789 & teksty!$D$284 & 1","v":"Rach. Przepływów, koniec strony 1"},{"$f":"D94&\".\"&E94 & \".\" & F94","v":"B.II.2"},{"$f":"F94","v":2},null,null,{"$f":"K94","v":2},{"$f":"teksty!$D$817","v":"Inwestycje w nieruchomości oraz wartości niematerialne i prawne"}]
[131106,"P",2,"B","II",null,null,null,null,null,null,null,null,{"$f":"teksty!$D$159 & teksty!$D$718","v":"metoda bezpośrednia,  c.d. poprzedniej strony"},null,null,null,null,null,null,{"$f":"$U$5","v":""},{"$f":"$V$5","v":"Okres\nbieżący"},{"$f":"$W$5","v":"Okres\npoprzedni"},{"$f":"teksty!$D$292","v":"Przekszt. dane porów. za poprzedni okres"}]
[131106,null,3,"B","II",3,null,null,null,{"$f":"D96&\".\"&E96 & \".\" & F96","v":"B.II.3"},{"$f":"F96","v":3},null,null,{"$f":"K96","v":3},{"$f":"teksty!$D$819","v":"Na aktywa finansowe, w tym:"},null,null,null,null,null,null,{"$f":"V97+V98","v":0},{"$f":"W97+W98","v":0},null,null,{"$f":"teksty!$D$285","v":"ukryty wiersz powyżej zawiera nagłówek dla kolejnej strony"}]
[131106,null,4,"B","II",{"$f":"F96","v":3},"a",null,null,{"$f":"D97&\".\"&E97 & \".\" & F97& \".\" & G97","v":"B.II.3.a"},{"$f":"G97 &\")\"","v":"a)"},null,null,{"$f":"K97","v":"a)"},{"$f":"teksty!$D$820","v":"w jednostkach powiązanych"}]
[131106,null,4,"B","II",{"$f":"F97","v":3},"b",null,null,{"$f":"D98&\".\"&E98 & \".\" & F98& \".\" & G98","v":"B.II.3.b"},{"$f":"G98 &\")\"","v":"b)"},null,null,"b)",{"$f":"teksty!$D$821","v":"w pozostałych jednostkach"},null,null,null,null,null,null,{"$f":"V99+V100","v":0},{"$f":"W99+W100","v":0}]
[131106,null,5,{"$f":"D98","v":"B"},"II",3,{"$f":"G98","v":"b"},1,null,{"$f":"$D99&\".\"&E99&\".\"&F99&\".\"&G99&\".\"&H99","v":"B.II.3.b.1"},{"$f":"H99 & \") \"","v":"1) "},null,null,null,{"$f":"$K$99&teksty!$D$822","v":"1) nabycie aktywów finansowych"}]
[131106,null,5,{"$f":"D99","v":"B"},"II",3,{"$f":"G99","v":"b"},2,null,{"$f":"$D100&\".\"&E100&\".\"&F100&\".\"&G100&\".\"&H100","v":"B.II.3.b.2"},{"$f":"H100 & \") \"","v":"2) "},null,null,null,{"$f":"$K$100&teksty!$D$823","v":"2) udzielone pożyczki długoterminowe"}]
[131106,null,3,"B","II",4,null,null,null,{"$f":"D101&\".\"&E101 & \".\" & F101","v":"B.II.4"},{"$f":"F101","v":4},null,null,{"$f":"K101","v":4},{"$f":"teksty!$D$824","v":"Inne wydatki inwestycyjne"}]
[131106,null,2,{"$f":"D101","v":"B"},"III",null,null,null,null,{"$f":"D102&\".\"&E102","v":"B.III"},{"$f":"E102","v":"III"},null,null,{"$f":"K102","v":"III"},{"$f":"teksty!$D$825","v":"Przepływy pieniężne netto z działalności inwestycyjnej (I–II)"},null,null,null,null,null,null,{"$f":"V80-V92","v":0},{"$f":"W80-W92","v":0}]
[131106,null,1,"C",null,null,null,null,null,{"$f":"$D103","v":"C"},{"$f":"D103","v":"C"},null,null,{"$f":"K103","v":"C"},{"$f":"teksty!$D$826","v":"Przepływy środków pieniężnych z działalności finansowej"}]
[131106,null,2,{"$f":"D103","v":"C"},"I",null,null,null,null,{"$f":"D104&\".\"&E104","v":"C.I"},{"$f":"E104","v":"I"},null,null,{"$f":"K104","v":"I"},{"$f":"teksty!$D$827","v":"Wpływy"},null,null,null,null,null,null,{"$f":"V105+V106+V107+V108","v":0},{"$f":"W105+W106+W107+W108","v":0}]
[131106,null,3,{"$f":"D104","v":"C"},"I",1,null,null,null,{"$f":"D105&\".\"&E105 & \".\" & F105","v":"C.I.1"},{"$f":"F105","v":1},null,null,1,{"$f":"teksty!$D$828","v":"Wpływy netto z wydania udziałów (emisji akcji) i innych instrumentów kapitałowych oraz dopłat do kapitału"}]
[131106,null,3,"C","I",2,null,null,null,{"$f":"D106&\".\"&E106 & \".\" & F106","v":"C.I.2"},{"$f":"F106","v":2},null,null,2,{"$f":"teksty!$D$829","v":"Kredyty i pożyczki"}]
[131106,null,3,"C","I",3,null,null,null,{"$f":"D107&\".\"&E107 & \".\" & F107","v":"C.I.3"},{"$f":"F107","v":3},null,null,3,{"$f":"teksty!$D$830","v":"Emisja dłużnych papierów wartościowych"}]
[131106,null,{"$f":"COUNTA(D108:H108)","v":3},"C","I",4,null,null,null,{"$f":"D108&\".\"&E108 & \".\" & F108","v":"C.I.4"},{"$f":"F108","v":4},null,null,4,{"$f":"teksty!$D$831","v":"Inne wpływy finansowe"}]
[131106,null,2,{"$f":"D108","v":"C"},"II",null,null,null,null,{"$f":"D109&\".\"&E109","v":"C.II"},{"$f":"E109","v":"II"},null,null,"II",{"$f":"teksty!$D$832","v":"Wydatki"},null,null,null,null,null,null,{"$f":"V110+V111+V112+V113+V114+V115+V116+V117+V118","v":0},{"$f":"W110+W111+W112+W113+W114+W115+W116+W117+W118","v":0}]
[131106,null,3,"C","II",1,null,null,null,{"$f":"D110&\".\"&E110 & \".\" & F110","v":"C.II.1"},{"$f":"F110","v":1},null,null,1,{"$f":"teksty!$D$833","v":"Nabycie udziałów (akcji) własnych"}]
[131106,null,{"$f":"COUNTA(D111:H111)","v":3},"C","II",2,null,null,null,"C.II.2",2,null,null,2,{"$f":"teksty!$D$834","v":"Dywidendy i inne wypłaty na rzecz właścicieli"}]
[131106,null,{"$f":"COUNTA(D112:H112)","v":3},"C","II",3,null,null,null,"C.II.3",3,null,null,3,{"$f":"teksty!$D$835","v":"Inne, niż wypłaty na rzecz właścicieli, wydatki z tytułu podziału zysku"}]
[131106,null,3,"C","II",4,null,null,null,"C.II.4",4,null,null,4,{"$f":"teksty!$D$836","v":"Spłaty kredytów i pożyczek"}]
[131106,null,3,"C","II",5,null,null,null,"C.II.5",5,null,null,5,{"$f":"teksty!$D$837","v":"Wykup dłużnych papierów wartościowych"}]
[131106,null,3,"C","II",6,null,null,null,"C.II.6",6,null,null,6,{"$f":"teksty!$D$838","v":"Z tytułu innych zobowiązań finansowych"}]
[131106,null,3,"C","II",7,null,null,null,"C.II.7",7,null,null,7,{"$f":"teksty!$D$839","v":"Płatności zobowiązań z tytułu umów leasingu finansowego"}]
[131106,null,{"$f":"COUNTA(D117:H117)","v":3},"C","II",8,null,null,null,"C.II.8",8,null,null,8,{"$f":"teksty!$D$840","v":"Odsetki"}]
[131106,null,3,"C","II",9,null,null,null,"C.II.9",9,null,null,9,{"$f":"teksty!$D$841","v":"Inne wydatki finansowe"}]
[131106,null,{"$f":"COUNTA(D119:H119)","v":2},{"$f":"D118","v":"C"},"III",null,null,null,null,{"$f":"D119&\".\"&E119","v":"C.III"},{"$f":"E119","v":"III"},null,null,"III",{"$f":"teksty!$D$842","v":"Przepływy pieniężne netto z działalności finansowej (I–II)"},null,null,null,null,null,null,{"$f":"V104-V109","v":0},{"$f":"W104-W109","v":0}]
[131106,null,1,"D",null,null,null,null,null,{"$f":"$D120","v":"D"},{"$f":"D120","v":"D"},null,null,{"$f":"K120","v":"D"},{"$f":"teksty!$D$843","v":"Przepływy pieniężne netto, razem (A.III±B.III±C.III)"},null,null,null,null,null,null,{"$f":"V78+V102+V119","v":0},{"$f":"W78+W102+W119","v":0},null,null,{"$f":"IF(WrfKwot,IF(AND(AF120=0,AG120=0,AH120=0),\"=\",\"!\"),\"\")","v":""},{"$f":"teksty!$D$60 & \" \" & N121","v":"Przepływy E"},{"$f":"V121","v":0},{"$f":"W121","v":0},{"$f":"X121","v":0},null,{"$f":"ROUND(IF(ISNUMBER(AB120),V120-AB120,0),2)","v":0},{"$f":"ROUND(IF(ISNUMBER(AC120),W120-AC120,0),2)","v":0},{"$f":"ROUND(IF(ISNUMBER(AD120),X120-AD120,0),2)","v":0}]
[131106,null,{"$f":"COUNTA(D121:H121)","v":1},"E",null,null,null,null,null,{"$f":"$D121","v":"E"},{"$f":"D121","v":"E"},null,null,{"$f":"K121","v":"E"},{"$f":"teksty!$D$844","v":"Bilansowa zmiana stanu środków pieniężnych, w tym:"},null,null,null,null,null,null,null,null,null,null,{"$f":"IF(WrfKwot,IF(AND(AF121=0,AG121=0,AH121=0),\"=\",\"!\"),\"\")","v":""},{"$f":"IF(AA124=\"-\",\"-\",AA124 & \" \" & N122 & CHAR(10) & \"(\" & teksty!$D$788 &\")\")","v":"-"},{"$f":"IF(ISNUMBER(AB124),AB124-AC124,\"-\")","v":"-"},null,null,null,{"$f":"ROUND(IF(ISNUMBER(AB121),V121-AB121,0),2)","v":0},0,0]
[131106,null,2,{"$f":"D121","v":"E"},1,null,null,null,null,{"$f":"D122&\".\"&E122","v":"E.1"},null,null,null,null,{"$f":"IF($N$122=\"\",\" – \") &teksty!$D$845","v":" – zmiana stanu środków pieniężnych z tytułu różnic kursowych"}]
[131106,null,{"$f":"COUNTA(D123:H123)","v":1},"F",null,null,null,null,null,{"$f":"$D123","v":"F"},{"$f":"D123","v":"F"},null,null,{"$f":"K123","v":"F"},{"$f":"teksty!$D$846","v":"Środki pieniężne na początek okresu"},null,null,null,null,null,null,0,0,null,null,{"$f":"IF(WrfKwot,IF(AND(AF123=0,AG123=0,AH123=0),\"=\",\"!\"),\"\")","v":""},{"$f":"teksty!$D$60 & \" \" & N124 & CHAR(10) & \"(\" & LOWER(SUBSTITUTE(teksty!$D$955, CHAR(10), \" \")) &\")\"","v":"Przepływy G\n(okres poprzedni)"},{"$f":"W124","v":0},null,null,null,{"$f":"ROUND(IF(ISNUMBER(AB123),V123-AB123,0),2)","v":0},{"$f":"ROUND(IF(ISNUMBER(AC123),W123-AC123,0),2)","v":0},{"$f":"ROUND(IF(ISNUMBER(AD123),X123-AD123,0),2)","v":0}]
[131106,null,1,"G",null,null,null,null,null,{"$f":"$D124","v":"G"},{"$f":"D124","v":"G"},null,null,{"$f":"K124","v":"G"},{"$f":"teksty!$D$847","v":"Środki pieniężne na koniec okresu (F±D), w tym:"},null,null,null,null,null,null,{"$f":"V123+V120","v":0},{"$f":"W123+W120","v":0},null,null,{"$f":"IF(WrfKwot,IF(AND(AF124=0,AG124=0,AH124=0),\"=\",\"!\"),\"\")","v":""},{"$f":"SUBSTITUTE(SUBSTITUTE(SUBSTITUTE(EtykietaNaNazwe(IF(Bilans!WybranyWariant=\"JednostkaInna\",Bilans!$J$88,\"-\")),\"_B\",\" B\"),\"_\",\".\"),\"1.C\",\"1c)\")","v":"-"},{"$f":"IF(Bilans!WybranyWariant=\"JednostkaInna\",Bilans!V$88,\"-\")","v":"-"},{"$f":"IF(Bilans!WybranyWariant=\"JednostkaInna\",Bilans!W$88,\"-\")","v":"-"},{"$f":"IF(Bilans!WybranyWariant=\"JednostkaInna\",Bilans!X$88,\"-\")","v":"-"},null,{"$f":"ROUND(IF(ISNUMBER(AB124),V124-AB124,0),2)","v":0},0,0]
[131106,null,2,{"$f":"D124","v":"G"},1,null,null,null,null,{"$f":"D125&\".\"&E125","v":"G.1"},null,null,null,null,{"$f":"IF($N$125=\"\",\" – \") &teksty!$D$848","v":" – o ograniczonej możliwości dysponowania"}]
[131106]
[0,null,null,null,null,null,null,null,"Skonsolidowana:"]
[{"$f":"#REF!","v":{"$error":"#REF!"}},"P",{"$f":"COUNTA(D128:H128)","v":2},{"$f":"#REF!","v":{"$error":"#REF!"}},{"$f":"#REF!","v":{"$error":"#REF!"}},null,null,null,null,null,null,null,null,{"$f":"teksty!$D$160 & teksty!$D$718","v":"metoda pośrednia,  c.d. poprzedniej strony"},null,null,null,null,null,null,{"$f":"$U$5","v":""},{"$f":"$V$5","v":"Okres\nbieżący"},{"$f":"$W$5","v":"Okres\npoprzedni"},{"$f":"teksty!$D$292","v":"Przekszt. dane porów. za poprzedni okres"}]
[{"$f":"#REF!","v":{"$error":"#REF!"}},"P",{"$f":"COUNTA(D129:H129)","v":0},null,null,null,null,null,null,null,null,null,null,{"$f":"teksty!$D$160 & teksty!$D$718","v":"metoda pośrednia,  c.d. poprzedniej strony"},null,null,null,null,null,null,{"$f":"$U$5","v":""},{"$f":"$V$5","v":"Okres\nbieżący"},{"$f":"$W$5","v":"Okres\npoprzedni"},{"$f":"teksty!$D$292","v":"Przekszt. dane porów. za poprzedni okres"},null,{"$f":"teksty!$D$285","v":"ukryty wiersz powyżej zawiera nagłówek dla kolejnej strony"}]
[{"$f":"#REF!","v":{"$error":"#REF!"}},"P",{"$f":"COUNTA(D130:H130)","v":2},{"$f":"#REF!","v":{"$error":"#REF!"}},{"$f":"#REF!","v":{"$error":"#REF!"}},null,null,null,null,null,null,null,null,{"$f":"teksty!$D$159 & teksty!$D$718","v":"metoda bezpośrednia,  c.d. poprzedniej strony"},null,null,null,null,null,null,{"$f":"$U$5","v":""},{"$f":"$V$5","v":"Okres\nbieżący"},{"$f":"$W$5","v":"Okres\npoprzedni"},{"$f":"teksty!$D$292","v":"Przekszt. dane porów. za poprzedni okres"}]

{"sheet":"Dodatkowe","index":6,"n_rows":183,"n_cols":31,"rows_kept":183,"cut":false,"hidden":false,"merged":[[2,18,2,23],[2,5,2,11],[146,6,148,13],[150,6,152,13],[154,6,156,13],[21,6,21,10],[35,6,35,10],[49,6,49,10],[73,6,73,10],[92,6,92,10],[111,6,111,10],[136,6,136,10],[115,6,115,10],[113,6,113,10],[75,6,75,10],[94,6,94,10],[182,6,184,13],[5,11,5,12],[5,14,5,15],[124,6,124,10],[138,6,138,10],[140,6,140,10],[7,6,7,10],[9,6,9,10],[23,6,23,10],[37,6,37,10],[51,6,51,10],[158,6,160,13],[174,6,176,13],[122,6,122,10],[117,6,117,10],[118,6,118,10],[140,19,142,19],[142,6,142,15],[113,18,113,22],[178,6,180,13],[5,5,6,10],[119,6,119,10],[120,6,120,10],[121,6,121,10],[162,6,164,13],[166,6,168,13],[170,6,172,13]]}
["Dodatkowe",null,null,"(wyświetlana etykieta)",null,null,null,2,{"$f":"VLOOKUP(WybranaPozycja,teksty!B164:F169,2)","v":"JednostkaInna"},null,null,null,{"$f":"OR(WybranaPozycja=2, WybranaPozycja=4)","v":true}]
[null,null,null,null,{"$f":"teksty!D950","v":"Dodatkowe informacje i objaśnienia"}]
[null,null,null,null,null,{"$f":"Wprowadzenie!$I$4 & \" \" & IF(NumerWariantuRaportu = 5,  teksty!$D$289, \"\")","v":" "},null,null,null,null,null,null,null,null,null,{"$f":"teksty!D283 & VLOOKUP(NumerBazyRaportu,BazyKwot,3)","v":"wszystkie kwoty w złotych"},null,null,{"$f":"IF(OR(_xlfn.ISFORMULA(L139),_xlfn.ISFORMULA(L141)),teksty!$D$951,\"\")","v":"W niektórych polach tego zestawienia napotkasz pomocnicze formuły. Jeżeli to potrzebne, możesz je zmienić, lub wpisać w te pola odpowiednie kwoty."}]
[null,null,null,null,{"$f":"teksty!$D$952","v":"Rozliczenie różnicy pomiędzy podstawą opodatkowania a wynikiem finansowym:"}]
[]
[null,null,null,null,null,{"$f":"teksty!$D$953","v":"Rozliczenie różnicy pomiędzy podstawą opodatkowania podatkiem dochodowym a wynikiem finansowym (zyskiem, stratą) brutto"},null,null,null,null,null,{"$f":"SUBSTITUTE(teksty!$D$954, CHAR(10),\" \")","v":"Okres bieżący"},null,null,{"$f":"SUBSTITUTE(teksty!$D$955, CHAR(10),\" \")","v":"Okres poprzedni"}]
[null,null,null,null,null,null,null,null,null,null,null,{"$f":"teksty!$D$956","v":"Ogółem:"},{"$f":"teksty!$D$957","v":"w tym z zysków kapitałowych:"},null,{"$f":"teksty!$D$956","v":"Ogółem:"},{"$f":"teksty!$D$957","v":"w tym z zysków kapitałowych:"}]
[null,null,"P_ID 1","A",null,{"$f":"D8 & \".\"","v":"A."},{"$f":"teksty!D966","v":"Zysk (strata) brutto za dany rok"},null,null,null,null,null,"___",null,null,"___",null,null,{"$f":"IF(WrfKwot,IF(AND(Y8=0,Z8=0,AA8=0),\"=\",\"!\"),\"\")","v":""},{"$f":"teksty!$D$58 & \": \" &\nIF(RZiS!WybranyWariant=\"JednostkaInna\", IF(RZiS!SPor,RZiS!N55,RZiS!N103),\nIF(RZiS!WybranyWariant=\"JednostkaMala\", IF(RZiS!SPor,RZiS!N170,RZiS!N132),\nIF(RZiS!WybranyWariant=\"JednostkaMikro\", RZiS!N211 & \"+\" & IF(RZiS!SPor,RZiS!N212,RZiS!N213),\nIF(RZiS!WybranyWariant=\"JednostkaOp\",RZiS!N195,\n\"-\"))))","v":"RZiS: E+F"},{"$f":"IF(RZiS!WybranyWariant=\"JednostkaInna\", RZiS!SPor*RZiS!V$55+RZiS!SKalk*RZiS!V$103,\nIF(RZiS!WybranyWariant=\"JednostkaMala\",RZiS!SPor*RZiS!V$170+RZiS!SKalk*RZiS!V$132,\nIF(RZiS!WybranyWariant=\"JednostkaMikro\",RZiS!V$211+RZiS!SPor*RZiS!V$212+RZiS!SKalk*RZiS!V$213,\nIF(RZiS!WybranyWariant=\"JednostkaOp\",RZiS!V$195,\n\"-\"))))","v":0},{"$f":"IF(RZiS!WybranyWariant=\"JednostkaInna\", RZiS!SPor*RZiS!W$55+RZiS!SKalk*RZiS!W$103,\nIF(RZiS!WybranyWariant=\"JednostkaMala\",RZiS!SPor*RZiS!W$170+RZiS!SKalk*RZiS!W$132,\nIF(RZiS!WybranyWariant=\"JednostkaMikro\",RZiS!W$211+RZiS!SPor*RZiS!W$212+RZiS!SKalk*RZiS!W$213,\nIF(RZiS!WybranyWariant=\"JednostkaOp\",RZiS!W$195,\n\"-\"))))","v":0},null,null,{"$f":"ROUND(IF(AND(ISNUMBER(L8),ISNUMBER(U8)),L8-U8,0),0)","v":0},{"$f":"ROUND(IF(AND(ISNUMBER(O8),ISNUMBER(V8)),O8-V8,0),0)","v":0},0,-7,-4]
[]
[null,null,"P_ID 2","B",null,"B.",{"$f":"teksty!D967&\" *\" & IF(G12<> \"\", inc,\"\")","v":"Przychody zwolnione z opodatkowania *"}]
[{"$f":"127*B11","v":0},{"$f":"B12","v":0},null,null,null,null,{"$f":"teksty!$D$959","v":"pdst. prawna:"},{"$f":"teksty!$D$960","v":"Art."},{"$f":"teksty!$D$961","v":"poz."},{"$f":"teksty!$D$962","v":"pkt."},{"$f":"teksty!$D$963","v":"lit."},{"$f":"teksty!$D$958","v":"(informacja uszczegóławiająca, wynikająca z potrzeb lub specyfiki jednostki)"},null,null,null,null,0]
[{"$f":"127*B12","v":0},{"$f":"IF(G12<>\"\",1,0)","v":0},null,{"$f":"D11+1","v":1},null,{"$f":"D12","v":1},null,null,null,null,null,null,null,null,null,null,1]
[0,0,null,{"$f":"D12+1","v":2},null,2,null,null,null,null,null,null,null,null,null,null,1]
[0,0,null,{"$f":"D13+1","v":3},null,3,null,null,null,null,null,null,null,null,null,null,1]
[0,0,null,4,null,4,null,null,null,null,null,null,null,null,null,null,1]
[0,0,null,{"$f":"D15+1","v":5},null,5,null,null,null,null,null,null,null,null,null,null,1]
[0,0,null,{"$f":"D16+1","v":6},null,6,null,null,null,null,null,null,null,null,null,null,1]
[0,0,null,7,null,7,null,null,null,null,null,null,null,null,null,null,1]
[0,0,null,{"$f":"D18+1","v":8},null,8,null,null,null,null,null,null,null,null,null,null,1]
[0,0,null,{"$f":"D19+1","v":9},null,9,null,null,null,null,null,null,null,null,null,null,1]
[0,0,null,10,null,10,null,null,null,null,null,null,null,null,null,null,1]
[0,{"$f":"B11","v":0},null,null,null,null,{"$f":"teksty!$D$964","v":"pozostałe (mniej niż 20 tys. zł):"},null,null,null,null,{"$f":"IF(L12=\"\",\"\",L10-SUM(L12:L21))","v":""},null,null,{"$f":"IF(O12=\"\",\"\",O10-SUM(O12:O21))","v":""},null,0]
[]
[null,null,"P_ID 3","C",null,"C.",{"$f":"teksty!D968& IF(G26<> \"\", inc,\"\")","v":"Przychody niepodlegające opodatkowania w roku bieżącym"}]
[{"$f":"127*B25","v":0},{"$f":"B26","v":0},null,null,null,null,{"$f":"teksty!$D$959","v":"pdst. prawna:"},{"$f":"teksty!$D$960","v":"Art."},{"$f":"teksty!$D$961","v":"poz."},{"$f":"teksty!$D$962","v":"pkt."},{"$f":"teksty!$D$963","v":"lit."},{"$f":"teksty!$D$958","v":"(informacja uszczegóławiająca, wynikająca z potrzeb lub specyfiki jednostki)"},null,null,null,null,0]
[{"$f":"127*B26","v":0},{"$f":"IF(G26<>\"\",1,0)","v":0},null,{"$f":"D25+1","v":1},null,{"$f":"D26","v":1},null,null,null,null,null,null,null,null,null,null,1]
[0,0,null,{"$f":"D26+1","v":2},null,2,null,null,null,null,null,null,null,null,null,null,1]
[0,0,null,{"$f":"D27+1","v":3},null,3,null,null,null,null,null,null,null,null,null,null,1]
[0,0,null,4,null,4,null,null,null,null,null,null,null,null,null,null,1]
[0,0,null,{"$f":"D29+1","v":5},null,5,null,null,null,null,null,null,null,null,null,null,1]
[0,0,null,{"$f":"D30+1","v":6},null,6,null,null,null,null,null,null,null,null,null,null,1]
[0,0,null,7,null,7,null,null,null,null,null,null,null,null,null,null,1]
[0,0,null,8,null,8,null,null,null,null,null,null,null,null,null,null,1]
[0,0,null,{"$f":"D33+1","v":9},null,9,null,null,null,null,null,null,null,null,null,null,1]
[0,0,null,{"$f":"D34+1","v":10},null,10,null,null,null,null,null,null,null,null,null,null,1]
[0,{"$f":"B25","v":0},null,null,null,null,{"$f":"teksty!$D$964","v":"pozostałe (mniej niż 20 tys. zł):"},null,null,null,null,{"$f":"IF(L26=\"\",\"\",L24-SUM(L26:L35))","v":""},null,null,{"$f":"IF(O26=\"\",\"\",O24-SUM(O26:O35))","v":""},null,0]
[]
[null,null,"P_ID 4","D",null,"D.",{"$f":"teksty!D969& IF(G40<> \"\", inc,\"\")","v":"Przychody podlegające opodatkowania w roku bieżącym, ujęte w księgach rachunkowych lat ubiegłych"}]
[{"$f":"127*B39","v":0},{"$f":"B40","v":0},null,null,null,null,{"$f":"teksty!$D$959","v":"pdst. prawna:"},{"$f":"teksty!$D$960","v":"Art."},{"$f":"teksty!$D$961","v":"poz."},{"$f":"teksty!$D$962","v":"pkt."},{"$f":"teksty!$D$963","v":"lit."},{"$f":"teksty!$D$958","v":"(informacja uszczegóławiająca, wynikająca z potrzeb lub specyfiki jednostki)"},null,null,null,null,0]
[{"$f":"127*B40","v":0},{"$f":"IF(G40<>\"\",1,0)","v":0},null,{"$f":"D39+1","v":1},null,{"$f":"D40","v":1},null,null,null,null,null,null,null,null,null,null,1]
[0,0,null,{"$f":"D40+1","v":2},null,2,null,null,null,null,null,null,null,null,null,null,1]
[0,0,null,{"$f":"D41+1","v":3},null,3,null,null,null,null,null,null,null,null,null,null,1]
[0,0,null,4,null,4,null,null,null,null,null,null,null,null,null,null,1]
[0,0,null,5,null,5,null,null,null,null,null,null,null,null,null,null,1]
[0,0,null,{"$f":"D44+1","v":6},null,6,null,null,null,null,null,null,null,null,null,null,1]
[0,0,null,{"$f":"D45+1","v":7},null,7,null,null,null,null,null,null,null,null,null,null,1]
[0,0,null,{"$f":"D46+1","v":8},null,8,null,null,null,null,null,null,null,null,null,null,1]
[0,0,null,9,null,9,null,null,null,null,null,null,null,null,null,null,1]
[0,0,null,10,null,10,null,null,null,null,null,null,null,null,null,null,1]
[0,{"$f":"B39","v":0},null,null,null,null,{"$f":"teksty!$D$964","v":"pozostałe (mniej niż 20 tys. zł):"},null,null,null,null,{"$f":"IF(L40=\"\",\"\",L38-SUM(L40:L49))","v":""},null,null,{"$f":"IF(O40=\"\",\"\",O38-SUM(O40:O49))","v":""},null,0]
[]
[null,null,"P_ID 5","E",null,"E.",{"$f":"teksty!D970 & \"*\" & IF(G54<> \"\", inc,\"\")","v":"Koszty niestanowiące kosztów uzyskania przychodów *"}]
[{"$f":"127*B53","v":0},{"$f":"B54","v":0},null,null,null,null,{"$f":"teksty!$D$959","v":"pdst. prawna:"},{"$f":"teksty!$D$960","v":"Art."},{"$f":"teksty!$D$961","v":"poz."},{"$f":"teksty!$D$962","v":"pkt."},{"$f":"teksty!$D$963","v":"lit."},{"$f":"teksty!$D$958","v":"(informacja uszczegóławiająca, wynikająca z potrzeb lub specyfiki jednostki)"},null,null,null,null,0]
[{"$f":"127*B54","v":0},{"$f":"IF(G54<>\"\",1,0)","v":0},null,{"$f":"D53+1","v":1},null,{"$f":"D54","v":1},null,null,null,null,null,null,null,null,null,null,1]
[0,0,null,{"$f":"D54+1","v":2},null,2,null,null,null,null,null,null,null,null,null,null,1]
[0,0,null,{"$f":"D55+1","v":3},null,3,null,null,null,null,null,null,null,null,null,null,1]
[0,0,null,4,null,4,null,null,null,null,null,null,null,null,null,null,1]
[0,0,null,5,null,5,null,null,null,null,null,null,null,null,null,null,1]
[{"$f":"127*B59","v":0},{"$f":"IF(G59<>\"\",1,0)","v":0},null,{"$f":"D58+1","v":6},null,{"$f":"D59","v":6},null,null,null,null,null,null,null,null,null,null,1]
[0,0,null,{"$f":"D59+1","v":7},null,7,null,null,null,null,null,null,null,null,null,null,1]
[0,0,null,{"$f":"D60+1","v":8},null,8,null,null,null,null,null,null,null,null,null,null,1]
[0,0,null,9,null,9,null,null,null,null,null,null,null,null,null,null,1]
[0,0,null,10,null,10,null,null,null,null,null,null,null,null,null,null,1]
[{"$f":"127*B64","v":0},{"$f":"IF(G64<>\"\",1,0)","v":0},null,{"$f":"D63+1","v":11},null,{"$f":"D64","v":11},null,null,null,null,null,null,null,null,null,null,1]
[0,0,null,{"$f":"D64+1","v":12},null,12,null,null,null,null,null,null,null,null,null,null,1]
[0,0,null,{"$f":"D65+1","v":13},null,13,null,null,null,null,null,null,null,null,null,null,1]
[0,0,null,14,null,14,null,null,null,null,null,null,null,null,null,null,1]
[0,0,null,15,null,15,null,null,null,null,null,null,null,null,null,null,1]
[{"$f":"127*B69","v":0},{"$f":"IF(G69<>\"\",1,0)","v":0},null,{"$f":"D68+1","v":16},null,{"$f":"D69","v":16},null,null,null,null,null,null,null,null,null,null,1]
[0,0,null,{"$f":"D69+1","v":17},null,17,null,null,null,null,null,null,null,null,null,null,1]
[0,0,null,{"$f":"D70+1","v":18},null,18,null,null,null,null,null,null,null,null,null,null,1]
[0,0,null,19,null,19,null,null,null,null,null,null,null,null,null,null,1]
[0,0,null,20,null,20,null,null,null,null,null,null,null,null,null,null,1]
[0,{"$f":"B53","v":0},null,null,null,null,{"$f":"teksty!$D$964","v":"pozostałe (mniej niż 20 tys. zł):"},null,null,null,null,{"$f":"IF(L54=\"\",\"\",L52-SUM(L54:L73))","v":""},null,null,{"$f":"IF(O54=\"\",\"\",O52-SUM(O54:O73))","v":""},null,0]
[]
[null,null,"P_ID 6","F",null,"F.",{"$f":"teksty!D971 & IF(G78<> \"\", inc,\"\")","v":"Koszty nieuznawane za koszty uzyskania przychodów w bieżącym roku"}]
[{"$f":"127*B77","v":0},{"$f":"B78","v":0},null,null,null,null,{"$f":"teksty!$D$959","v":"pdst. prawna:"},{"$f":"teksty!$D$960","v":"Art."},{"$f":"teksty!$D$961","v":"poz."},{"$f":"teksty!$D$962","v":"pkt."},{"$f":"teksty!$D$963","v":"lit."},{"$f":"teksty!$D$958","v":"(informacja uszczegóławiająca, wynikająca z potrzeb lub specyfiki jednostki)"},null,null,null,null,0]
[{"$f":"127*B78","v":0},{"$f":"IF(G78<>\"\",1,0)","v":0},null,{"$f":"D77+1","v":1},null,{"$f":"D78","v":1},null,null,null,null,null,null,null,null,null,null,1]
[0,0,null,{"$f":"D78+1","v":2},null,2,null,null,null,null,null,null,null,null,null,null,1]
[0,0,null,{"$f":"D79+1","v":3},null,3,null,null,null,null,null,null,null,null,null,null,1]
[0,0,null,4,null,4,null,null,null,null,null,null,null,null,null,null,1]
[0,0,null,5,null,5,null,null,null,null,null,null,null,null,null,null,1]
[{"$f":"127*B83","v":0},{"$f":"IF(G83<>\"\",1,0)","v":0},null,{"$f":"D82+1","v":6},null,{"$f":"D83","v":6},null,null,null,null,null,null,null,null,null,null,1]
[0,0,null,{"$f":"D83+1","v":7},null,7,null,null,null,null,null,null,null,null,null,null,1]
[0,0,null,{"$f":"D84+1","v":8},null,8,null,null,null,null,null,null,null,null,null,null,1]
[0,0,null,9,null,9,null,null,null,null,null,null,null,null,null,null,1]
[0,0,null,10,null,10,null,null,null,null,null,null,null,null,null,null,1]
[{"$f":"127*B88","v":0},{"$f":"IF(G88<>\"\",1,0)","v":0},null,{"$f":"D87+1","v":11},null,{"$f":"D88","v":11},null,null,null,null,null,null,null,null,null,null,1]
[0,0,null,{"$f":"D88+1","v":12},null,12,null,null,null,null,null,null,null,null,null,null,1]
[0,0,null,{"$f":"D89+1","v":13},null,13,null,null,null,null,null,null,null,null,null,null,1]
[0,0,null,14,null,14,null,null,null,null,null,null,null,null,null,null,1]
[0,0,null,15,null,15,null,null,null,null,null,null,null,null,null,null,1]
[0,{"$f":"B77","v":0},null,null,null,null,{"$f":"teksty!$D$964","v":"pozostałe (mniej niż 20 tys. zł):"},null,null,null,null,{"$f":"IF(L78=\"\",\"\",L76-SUM(L78:L92))","v":""},null,null,{"$f":"IF(O78=\"\",\"\",O76-SUM(O78:O92))","v":""},null,0]
[]
[null,null,"P_ID 7","G",null,"G.",{"$f":"teksty!D972 & IF(G97<> \"\", inc,\"\")","v":"Koszty uznawane za koszty uzyskania przychodów w roku bieżącym ujęte w księgach lat ubiegłych"}]
[{"$f":"127*B96","v":0},{"$f":"B97","v":0},null,null,null,null,{"$f":"teksty!$D$959","v":"pdst. prawna:"},{"$f":"teksty!$D$960","v":"Art."},{"$f":"teksty!$D$961","v":"poz."},{"$f":"teksty!$D$962","v":"pkt."},{"$f":"teksty!$D$963","v":"lit."},{"$f":"teksty!$D$958","v":"(informacja uszczegóławiająca, wynikająca z potrzeb lub specyfiki jednostki)"},null,null,null,null,0]
[{"$f":"127*B97","v":0},{"$f":"IF(G97<>\"\",1,0)","v":0},null,{"$f":"D96+1","v":1},null,{"$f":"D97","v":1},null,null,null,null,null,null,null,null,null,null,1]
[0,0,null,{"$f":"D97+1","v":2},null,2,null,null,null,null,null,null,null,null,null,null,1]
[0,0,null,{"$f":"D98+1","v":3},null,3,null,null,null,null,null,null,null,null,null,null,1]
[0,0,null,4,null,4,null,null,null,null,null,null,null,null,null,null,1]
[0,0,null,5,null,5,null,null,null,null,null,null,null,null,null,null,1]
[{"$f":"127*B102","v":0},{"$f":"IF(G102<>\"\",1,0)","v":0},null,{"$f":"D101+1","v":6},null,{"$f":"D102","v":6},null,null,null,null,null,null,null,null,null,null,1]
[0,0,null,{"$f":"D102+1","v":7},null,7,null,null,null,null,null,null,null,null,null,null,1]
[0,0,null,{"$f":"D103+1","v":8},null,8,null,null,null,null,null,null,null,null,null,null,1]
[0,0,null,9,null,9,null,null,null,null,null,null,null,null,null,null,1]
[0,0,null,10,null,10,null,null,null,null,null,null,null,null,null,null,1]
[{"$f":"127*B107","v":0},{"$f":"IF(G107<>\"\",1,0)","v":0},null,{"$f":"D106+1","v":11},null,{"$f":"D107","v":11},null,null,null,null,null,null,null,null,null,null,1]
[0,0,null,{"$f":"D107+1","v":12},null,12,null,null,null,null,null,null,null,null,null,null,1]
[0,0,null,{"$f":"D108+1","v":13},null,13,null,null,null,null,null,null,null,null,null,null,1]
[0,0,null,14,null,14,null,null,null,null,null,null,null,null,null,null,1]
[0,0,null,15,null,15,null,null,null,null,null,null,null,null,null,null,1]
[0,{"$f":"B96","v":0},null,null,null,null,{"$f":"teksty!$D$964","v":"pozostałe (mniej niż 20 tys. zł):"},null,null,null,null,{"$f":"IF(L97=\"\",\"\",L95-SUM(L97:L111))","v":""},null,null,{"$f":"IF(O97=\"\",\"\",O95-SUM(O97:O111))","v":""},null,0]
[]
[null,null,null,null,null,null,{"$f":"teksty!D973","v":"Dochód (A - B - C + D + E + F - G)"},null,null,null,null,{"$f":"IF(ISNUMBER($L$8),$L$8-$L$10-$L$24+$L$38+$L$52+$L$76-$L$95,\"\")","v":""},"___",null,{"$f":"IF(ISNUMBER($O$8),$O$8-$O$10-$O$24+$O$38+$O$52+$O$76-$O$95,\"\")","v":""},"___",null,null,{"$f":"teksty!$D$974","v":"pomocniczy wiersz sumujący (wartości z tego wiersza nie są zapisywane do pliku e-sprawozdania)"}]
[]
[null,null,"P_ID 8","H",null,"H.",{"$f":"teksty!D975 & IF(G118<> \"\", inc,\"\")","v":"Strata z lat ubiegłych"}]
[{"$f":"127*B117","v":0},{"$f":"B118","v":0},null,null,null,null,null,null,null,null,null,{"$f":"teksty!$D$958","v":"(informacja uszczegóławiająca, wynikająca z potrzeb lub specyfiki jednostki)"},null,null,null,null,0]
[{"$f":"127*B118","v":0},{"$f":"IF(G118<>\"\",1,0)","v":0},null,{"$f":"D117+1","v":1},null,{"$f":"D118","v":1},null,null,null,null,null,null,null,null,null,null,1]
[0,0,null,{"$f":"D118+1","v":2},null,2,null,null,null,null,null,null,null,null,null,null,1]
[0,0,null,{"$f":"D119+1","v":3},null,3,null,null,null,null,null,null,null,null,null,null,1]
[0,0,null,4,null,4,null,null,null,null,null,null,null,null,null,null,1]
[0,0,null,5,null,5,null,null,null,null,null,null,null,null,null,null,1]
[0,{"$f":"B117","v":0},null,null,null,null,{"$f":"teksty!$D$965","v":"pozostałe:"},null,null,null,null,{"$f":"IF(L118=\"\",\"\",L116-SUM(L118:L122))","v":""},{"$f":"IF(M118=\"\",\"\",M116-SUM(M118:M122))","v":""},null,{"$f":"IF(O118=\"\",\"\",O116-SUM(O118:O122))","v":""},{"$f":"IF(P118=\"\",\"\",P116-SUM(P118:P122))","v":""},0]
[]
[null,null,"P_ID 9","I",null,"I.",{"$f":"teksty!D977 & IF(G127<> \"\", inc,\"\")","v":"Inne zmiany podstawy opodatkowania"}]
[{"$f":"127*B126","v":0},{"$f":"B127","v":0},null,null,null,null,{"$f":"teksty!$D$959","v":"pdst. prawna:"},{"$f":"teksty!$D$960","v":"Art."},{"$f":"teksty!$D$961","v":"poz."},{"$f":"teksty!$D$962","v":"pkt."},{"$f":"teksty!$D$963","v":"lit."},{"$f":"teksty!$D$958","v":"(informacja uszczegóławiająca, wynikająca z potrzeb lub specyfiki jednostki)"},null,null,null,null,0]
[{"$f":"127*B127","v":0},{"$f":"IF(G127<>\"\",1,0)","v":0},null,{"$f":"D126+1","v":1},null,{"$f":"D127","v":1},null,null,null,null,null,null,null,null,null,null,1]
[0,0,null,{"$f":"D127+1","v":2},null,2,null,null,null,null,null,null,null,null,null,null,1]
[0,0,null,{"$f":"D128+1","v":3},null,3,null,null,null,null,null,null,null,null,null,null,1]
[0,0,null,4,null,4,null,null,null,null,null,null,null,null,null,null,1]
[0,0,null,5,null,5,null,null,null,null,null,null,null,null,null,null,1]
[{"$f":"127*B132","v":0},{"$f":"IF(G132<>\"\",1,0)","v":0},null,6,null,{"$f":"D132","v":6},null,null,null,null,null,null,null,null,null,null,1]
[0,0,null,7,null,7,null,null,null,null,null,null,null,null,null,null,1]
[0,0,null,8,null,8,null,null,null,null,null,null,null,null,null,null,1]
[0,0,null,9,null,9,null,null,null,null,null,null,null,null,null,null,1]
[0,0,null,10,null,10,null,null,null,null,null,null,null,null,null,null,1]
[0,{"$f":"B126","v":0},null,null,null,null,{"$f":"teksty!$D$964","v":"pozostałe (mniej niż 20 tys. zł):"},null,null,null,null,{"$f":"IF(L127=\"\",\"\",L125-SUM(L127:L136))","v":""},null,null,{"$f":"IF(O127=\"\",\"\",O125-SUM(O127:O136))","v":""},null,0]
[]
[null,null,"P_ID 10","J",null,"J.",{"$f":"teksty!D978","v":"Podstawa opodatkowania podatkiem dochodowym"},null,null,null,null,{"$f":"IF(ISNUMBER($L$8),ROUND($L$114-$L$116+$L$125,0),\"\")","v":""},"___",null,{"$f":"IF(ISNUMBER($O$8),ROUND($O$114-$O$116+$O$125,0),\"\")","v":""},"___",null,null,null,null,null,null,null,null,null,null,null,null,null,{"$f":"SUBSTITUTE(teksty!$D$954, CHAR(10),\" \")","v":"Okres bieżący"},{"$f":"SUBSTITUTE(teksty!$D$955, CHAR(10),\" \")","v":"Okres poprzedni"}]
[]
[null,null,"P_ID 11","K",null,"K.",{"$f":"teksty!D979","v":"Podatek dochodowy"},null,null,null,null,{"$f":"IF(ISNUMBER($L$8),IF($L$139> 0,ROUND(CIT_B*$L$139,0),0),\"\")","v":""},"___",null,{"$f":"IF(ISNUMBER($O$8),IF($O$139> 0,ROUND(CIT_P*$O$139,0),0),\"\")","v":""},"___",null,null,{"$f":"IF(WrfKwot,IF(AND(Y141=0,Z141=0,AA141=0),\"=\",\"!\"),\"\")","v":""},{"$f":"teksty!$D$58&\": \"&\nIF(RZiS!WybranyWariant=\"JednostkaInna\",CHAR(10)&IF(RZiS!SPor,RZiS!N56,RZiS!N104)&\" − '\"&teksty!D$668&\"'\",\nIF(RZiS!WybranyWariant=\"JednostkaMala\",CHAR(10)&IF(RZiS!SPor,RZiS!N171,RZiS!N133)&\" − '\"&teksty!D$668&\"'\",\nIF(RZiS!WybranyWariant=\"JednostkaMikro\",RZiS!N212,\nIF(RZiS!WybranyWariant=\"JednostkaOp\",RZiS!N196,\n\"-\"))))","v":"RZiS: F"},{"$f":"IF(RZiS!WybranyWariant=\"JednostkaInna\", RZiS!SPor*RZiS!V$56+RZiS!SKalk*RZiS!V$104 - BiezacyPodatekOdroczony,\nIF(RZiS!WybranyWariant=\"JednostkaMala\",RZiS!SPor*RZiS!V$171+RZiS!SKalk*RZiS!V$133 - BiezacyPodatekOdroczony,\nIF(RZiS!WybranyWariant=\"JednostkaMikro\",RZiS!V$211,\nIF(RZiS!WybranyWariant=\"JednostkaOp\",RZiS!V$196,\n\"-\"))))","v":0},{"$f":"IF(RZiS!WybranyWariant=\"JednostkaInna\", RZiS!SPor*RZiS!W$56+RZiS!SKalk*RZiS!W$104 - PoprzedniPodatekOdroczony,\nIF(RZiS!WybranyWariant=\"JednostkaMala\",RZiS!SPor*RZiS!W$171+RZiS!SKalk*RZiS!W$133 - PoprzedniPodatekOdroczony,\nIF(RZiS!WybranyWariant=\"JednostkaMikro\",RZiS!W$211,\nIF(RZiS!WybranyWariant=\"JednostkaOp\",RZiS!W$196,\n\"-\"))))","v":0},null,{"$f":"teksty!$D$997 & \": \"","v":"Stawka CIT: "},{"$f":"ROUND(IF(AND(ISNUMBER(L141),ISNUMBER(U141)),L141-U141,0),0)","v":0},{"$f":"ROUND(IF(AND(ISNUMBER(O141),ISNUMBER(V141)),O141-V141,0),0)","v":0},0,-7,-4,0.19,0.19]
[null,null,null,null,null,null,null,null,null,null,null,null,null,null,null,null,null,null,null,null,{"$f":"IF(RZiS!WybranyWariant=\"JednostkaInna\", RZiS!SPor*RZiS!V$57+RZiS!SKalk*RZiS!V$105,0)+IF(RZiS!WybranyWariant=\"JednostkaMala\", RZiS!SPor*RZiS!V$172+RZiS!SKalk*RZiS!V134,0)","v":0},{"$f":"IF(RZiS!WybranyWariant=\"JednostkaInna\", RZiS!SPor*RZiS!W$57+RZiS!SKalk*RZiS!W$105,0)+IF(RZiS!WybranyWariant=\"JednostkaMala\", RZiS!SPor*RZiS!W$172+RZiS!SKalk*RZiS!W134,0)","v":0}]
[null,null,null,null,null,"*",{"$f":"teksty!D981","v":"trwałe różnice pomiędzy zyskiem/stratą dla celów rachunkowych a dochodem/stratą dla celów podatkowych"}]
[]
[null,null,null,null,{"$f":"teksty!$D$983","v":"Załączniki i objaśnienia:"}]
[]
[null,null,null,null,null,null,"brak",null,null,null,null,null,null,null,{"$f":"teksty!$D$985","v":"Załącznik:"}]
[]
[]
[]
[null,null,null,null,null,null,"",null,null,null,null,null,null,null,{"$f":"teksty!$D$985","v":"Załącznik:"}]
[]
[]
[]
[null,null,null,null,null,null,"",null,null,null,null,null,null,null,{"$f":"teksty!$D$985","v":"Załącznik:"}]
[]
[]
[]
[null,null,null,null,null,null,"",null,null,null,null,null,null,null,{"$f":"teksty!$D$985","v":"Załącznik:"}]
[]
[]
[]
[null,null,null,null,null,null,"",null,null,null,null,null,null,null,{"$f":"teksty!$D$985","v":"Załącznik:"}]
[]
[]
[]
[null,null,null,null,null,null,"",null,null,null,null,null,null,null,{"$f":"teksty!$D$985","v":"Załącznik:"}]
[]
[]
[]
[null,null,null,null,null,null,"",null,null,null,null,null,null,null,{"$f":"teksty!$D$985","v":"Załącznik:"}]
[]
[]
[]
[null,null,null,null,null,null,"",null,null,null,null,null,null,null,{"$f":"teksty!$D$985","v":"Załącznik:"}]
[]
[]
[]
[null,null,null,null,null,null,"",null,null,null,null,null,null,null,{"$f":"teksty!$D$985","v":"Załącznik:"}]
[]
[]
[]
[null,null,null,null,null,null,"",null,null,null,null,null,null,null,{"$f":"teksty!$D$985","v":"Załącznik:"}]

{"sheet":"inne","index":7,"n_rows":0,"n_cols":0,"rows_kept":0,"cut":false,"hidden":true,"merged":[]}

{"sheet":"teksty","index":8,"n_rows":1020,"n_cols":12,"rows_kept":1020,"cut":false,"hidden":true,"merged":[[1,8,2,8],[173,7,176,7],[1,2,1,3]]}
[null,null,null,null,null,null,null,"Ten arkusz obsługuje wielojęzyczność skoroszytu"]
[null,null,"W kolumnie D są teksty aktualnie wybranej wersji językowej,\na w kolumnach B,C,E,F - dodatkowe dane konfiguracyjne:",null,null,null,null,null,"Unikalna etykieta"]
[null,null,null,null,null,null,null,"Objaśnienie",null,"PL","EN","Trzeci język - do wpisania przez Użytkownika"]
[null,null,null,null,null,null,null,null,5]
["Etykiety przycisków:",null,"Id obiektu","Etykieta",null,null,null,"Etykiety przycisków:",10]
[null,null,"ShiftColumn",{"$f":"OFFSET(I6,0,WybranyJezyk)","v":"Przestaw rok"},null,null,null,null,15,"Przestaw rok","Shift to next year","Przestaw rok"]
[null,null,"WyzerujWszystko","Wyzeruj cały raport",null,null,null,null,20,"Wyzeruj cały raport","Reset whole report","Wyzeruj cały raport"]
[null,null,"WyzerujDane","Wyzeruj, zachowując część Wprowadzenia",null,null,null,null,25,"Wyzeruj, zachowując część Wprowadzenia","Reset, but preserve descriptions","Wyzeruj, zachowując część Wprowadzenia"]
[null,null,"Wczytaj","Wczytaj plik\ne-sprawozdania",null,null,null,null,30,"Wczytaj plik\ne-sprawozdania","Open report file (XML)","Wczytaj plik\ne-sprawozdania"]
[null,null,"Zapisz","Zapisz jako plik e-sprawozdania",null,null,null,null,35,"Zapisz jako plik e-sprawozdania","Save as report file (XML)","Zapisz jako plik e-sprawozdania"]
[null,null,"Manual","Instrukcja obsługi",null,null,null,null,40,"Instrukcja obsługi","User guide","Instrukcja obsługi"]
[null,null,"Licencja","Licencja",null,null,null,null,45,"Licencja","Licence terms ","Licencja"]
[null,null,"DrukujWszystko","Utwórz podgląd sprawozdania (PDF)",null,null,null,null,50,"Utwórz podgląd sprawozdania (PDF)","Create report preview (PDF)","Utwórz podgląd sprawozdania (PDF)"]
[null,null,"EditLinks","Edytuj linki do plików…",null,null,null,null,55,"Edytuj linki do plików…","Edit external links…","Edytuj linki do plików…"]
[null,null,null,"Etykiety skoroszytu w:",null,null,null,null,60,"Etykiety skoroszytu w:","Workbook labels in:","Etykiety skoroszytu w:"]
[null,null,null,"Niezgodności w powiązanych kwotach:",null,null,null,null,61,"Niezgodności w powiązanych kwotach:","Differences in related amounts:","Niezgodności w powiązanych kwotach sprawozdania:"]
["Listy:","Obsługiwane języki dla etykiet:",null,"Wykrywaj drugi monitor",null,null,null,null,65,"Wykrywaj drugi monitor","Detect multi-screen","Wykrywaj drugi monitor:"]
[null,"Nr kolejny","Wart.","Etykieta",null,null,null,"Lista języków",70]
[null,1,"PL",{"$f":"OFFSET(I19,0,WybranyJezyk)","v":"języku polskim"},null,null,null,null,75,"języku polskim","Polish","języku polskim"]
[null,2,"EN",{"$f":"OFFSET(I20,0,WybranyJezyk)","v":"języku angielskim"},null,null,null,null,80,"języku angielskim","English","języku angielskim"]
[null,3,"03",{"$f":"OFFSET(I21,0,WybranyJezyk)","v":"języku trzecim"},null,null,null,null,85,"języku trzecim","User-defined language","języku trzecim"]
[null,null,null,null,null,null,null,null,90]
[null,"Baza kwot (wartość nazwana Baza):",null,null,null,null,null,null,95]
[null,"Nr kolejny","Wart.","Etykieta","Sufiks kodu formularza",null,null,"Lista baz kwot",100]
[null,1,"WZlotych",{"$f":"OFFSET(I25,0,WybranyJezyk)","v":"złotych"},"Z",null,null,null,105,"złotych","PLN","złotych"]
[null,2,"WTysiacach",{"$f":"OFFSET(I26,0,WybranyJezyk)","v":"tysiącach złotych"},"T",null,null,null,110,"tysiącach złotych","thousand PLN","tysiącach złotych"]
[null,null,null,null,null,null,null,null,115]
[null,"Wariant numeru id przedsiębiorcy (pole alternatywne w arkuszu Wprowadzenie)",null,null,null,null,null,null,120]
[null,"Nr kolejny","Wart.","Etykieta",null,null,null,"Lista typów Id (z \"Wprowadzenia\")",125]
[null,1,"KRS",{"$f":"OFFSET(I30,0,WybranyJezyk)","v":"numer KRS"},null,null,null,null,130,"numer KRS","KRS:","numer KRS"]
[null,2,"NIP",{"$f":"OFFSET(I31,0,WybranyJezyk)","v":"numer NIP"},null,null,null,null,135,"numer NIP","NIP:","numer NIP"]
[]
[null,"Opcje weryfikacji niezgodności kwot"]
[null,"Nr kolejny","Wart.","Etykieta",null,null,null,"Lista sposobu obsługi niezgodnych kwot"]
[null,1,"domyslne",{"$f":"OFFSET(I35,0,WybranyJezyk)","v":"obsługa domyślna"},null,null,null,null,136,"obsługa domyślna","default method","obsługa domyślna"]
[null,2,"wyswietlaj",{"$f":"OFFSET(I36,0,WybranyJezyk)","v":"tylko wyświetlaj"},null,null,null,null,137,"tylko wyświetlaj","display only","tylko wyświetlaj"]
[null,3,"ostrzezenie",{"$f":"OFFSET(I37,0,WybranyJezyk)","v":"sygnalizuj jako ostrzeżenie"},null,null,null,null,138,"sygnalizuj jako ostrzeżenie","show as warning","sygnalizuj jako ostrzeżenie"]
[null,4,"blad",{"$f":"OFFSET(I38,0,WybranyJezyk)","v":"sygnalizuj jako błąd"},null,null,null,null,139,"sygnalizuj jako błąd","show as error","sygnalizuj jako błąd"]
[null,null,null,null,null,null,null,null,140]
[null,"Wariant dla pola logicznego:",null,null,null,null,null,null,145]
[null,"Nr kolejny","Wart.","Etykieta",null,null,null,"Lista Tak/Nie",150]
[null,1,"true",{"$f":"OFFSET(I42,0,WybranyJezyk)","v":"Tak"},null,null,null,null,155,"Tak","Yes","Tak"]
[null,2,"false",{"$f":"OFFSET(I43,0,WybranyJezyk)","v":"Nie"},null,null,null,null,160,"Nie","No","Nie"]
[null,null,null,null,null,null,null,null,165]
[null,"Wariant raportu (lista nazwana WariantRaportu)",null,null,null,null,null,null,170]
[null,"Nr kolejny","Wart.","Etykieta","Prefiks kodu formularza","Max. opcji",null,"Lista wariantów raportu",175]
[null,1,"JednostkaMikro",{"$f":"OFFSET(I47,0,WybranyJezyk)","v":"dla mikroprzedsiębiorstwa (\"Jednostka Mikro\")"},"SFJMI",3,null,null,180,"dla mikroprzedsiębiorstwa (\"Jednostka Mikro\")","for micro-entities (\"Jednostka Mikro\")","dla mikroprzedsiębiorstwa (\"Jednostka Mikro\")"]
[null,2,"JednostkaMala",{"$f":"OFFSET(I48,0,WybranyJezyk)","v":"dla małego przedsiębiorstwa (\"Jednostka Mała\")"},"SFJMA",2,null,null,185,"dla małego przedsiębiorstwa (\"Jednostka Mała\")","for small entities (\"Jednostka Mała\")","dla małego przedsiębiorstwa (\"Jednostka Mała\")"]
[null,3,"JednostkaInna",{"$f":"OFFSET(I49,0,WybranyJezyk)","v":"dla większego przedsiębiorstwa (\"Jednostka Inna\")"},"SFJIN",1,null,null,190,"dla większego przedsiębiorstwa (\"Jednostka Inna\")","for other entities (\"Jednostka Inna\")","dla większego przedsiębiorstwa (\"Jednostka Inna\")"]
[null,4,"JednostkaOp",{"$f":"OFFSET(I50,0,WybranyJezyk)","v":"dla organizacji pozarządowej (\"Jednostka Op\")"},"SFJOP",1,null,null,195,"dla organizacji pozarządowej (\"Jednostka Op\")","for NGOs (\"Jednostka Op\")","dla organizacji pozarządowej (\"Jednostka Op\")"]
[null,5,"Skonsolidowana",{"$f":"OFFSET(I51,0,WybranyJezyk)","v":"skonsolidowanym (dla \"Skonsolidowana Jednostka Inna\")"},"SFSIN",1,null,null,200,"skonsolidowanym (dla \"Skonsolidowana Jednostka Inna\")","for the consolidated statement (\"Skonsolidowana Jednostka Inna\")","skonsolidowanym (dla \"Skonsolidowana Jednostka Inna\")"]
[null,null,null,null,null,null,null,null,205]
[null,"Lista sekcji (arkuszy) raportu",null,null,null,null,null,null,210]
[null,"Niezmienny Id","Nazwa sekcji w zasobach XML /przedrostek nazwy elementu w dokumencie (do pierwszej spacji)","Etykieta arkusza (zależna od języka)","Odsyłacz do obszaru z wariantami formularza (do identyfikacji podczas importu)",null,null,"Lista nazw arkuszy",215,null,null,"UWAGA: poniższe nazwy arkuszy się nie drukują. Dlatego najlepiej je pozostawić w wersji polskiej, bo niewłaściwa zmiana nazw arkuszy może spowodować błędy programu. Jeżeli jednak musisz je zmienić, pamiętaj, że nazwy arkuszy:\n1. nie mogą zawierać dziwnych znaków jak np. \"&\" - tylko litery, a nazwy pierwszych 7 nie mogą zawierać spacji.\n2. każda nazwa musi być unikalna"]
[null,"Nagłówek","Naglowek",{"$f":"OFFSET(I55,0,WybranyJezyk)","v":"Nagłówek"},null,null,null,null,220,"Nagłówek","Header","Nagłówek"]
[null,"Wprowadzenie","WprowadzenieDoSprawozdaniaFinansowego","Wprowadzenie",{"$f":"Adr($B$105:$F$110)","v":"teksty!$B$105:$F$110"},null,null,null,225,"Wprowadzenie","Introduction","Wprowadzenie"]
[null,"Bilans","Bilans","Bilans",{"$f":"Adr($B$114:$F$119)","v":"teksty!$B$114:$F$119"},null,null,null,230,"Bilans","Balance","Bilans"]
[null,"RZiS","RZiS","RZiS",{"$f":"Adr($B$131:$F$136)","v":"teksty!$B$131:$F$136"},null,null,null,235,"RZiS","Profit","RZiS"]
[null,"ZestZmianWKapitale","ZestZmianWKapitale","Kapitał",{"$f":"Adr(B123:F127)","v":"teksty!$B$123:$F$127"},null,null,null,240,"Kapitał","Equity","Kapitał"]
[null,"RachPrzeplywow","RachPrzeplywow","Przepływy",{"$f":"Adr(B150:F155)","v":"teksty!$B$150:$F$155"},null,null,null,245,"Przepływy","CashFlow","Przepływy"]
[null,"Dodatkowe","DodatkoweInformacjeIObjasnienia","Dodatkowe",{"$f":"Adr($B$164:$F$169)","v":"teksty!$B$164:$F$169"},null,null,null,250,"Dodatkowe","Other","Dodatkowe"]
[{"$f":"A60+1","v":1},{"$f":"\"Dodatkowe \" &A62","v":"Dodatkowe 1"},{"$f":"\"DodatkoweInformacjeIObjasnienia \" & A62","v":"DodatkoweInformacjeIObjasnienia 1"},"Dodatkowe (1)","teksty!$B$164:$F$169",null,null,null,255,"Dodatkowe (1)",{"$f":"SUBSTITUTE(J62,J$61,K$61)","v":"Other (1)"},"Dodatkowe (1)"]
[{"$f":"A62+1","v":2},{"$f":"\"Dodatkowe \" &A63","v":"Dodatkowe 2"},{"$f":"\"DodatkoweInformacjeIObjasnienia \" & A63","v":"DodatkoweInformacjeIObjasnienia 2"},"Dodatkowe (2)","teksty!$B$164:$F$169",null,null,null,260,"Dodatkowe (2)",{"$f":"SUBSTITUTE(J63,J$61,K$61)","v":"Other (2)"},"Dodatkowe (2)"]
[3,"Dodatkowe 3","DodatkoweInformacjeIObjasnienia 3","Dodatkowe (3)","teksty!$B$164:$F$169",null,null,null,265,"Dodatkowe (3)","Other (3)","Dodatkowe (3)"]
[4,"Dodatkowe 4","DodatkoweInformacjeIObjasnienia 4","Dodatkowe (4)","teksty!$B$164:$F$169",null,null,null,270,"Dodatkowe (4)","Other (4)","Dodatkowe (4)"]
[5,"Dodatkowe 5","DodatkoweInformacjeIObjasnienia 5","Dodatkowe (5)","teksty!$B$164:$F$169",null,null,null,275,"Dodatkowe (5)","Other (5)","Dodatkowe (5)"]
[6,"Dodatkowe 6","DodatkoweInformacjeIObjasnienia 6","Dodatkowe (6)","teksty!$B$164:$F$169",null,null,null,280,"Dodatkowe (6)","Other (6)","Dodatkowe (6)"]
[7,"Dodatkowe 7","DodatkoweInformacjeIObjasnienia 7","Dodatkowe (7)","teksty!$B$164:$F$169",null,null,null,285,"Dodatkowe (7)","Other (7)","Dodatkowe (7)"]
[8,"Dodatkowe 8","DodatkoweInformacjeIObjasnienia 8","Dodatkowe (8)","teksty!$B$164:$F$169",null,null,null,290,"Dodatkowe (8)","Other (8)","Dodatkowe (8)"]
[9,"Dodatkowe 9","DodatkoweInformacjeIObjasnienia 9","Dodatkowe (9)","teksty!$B$164:$F$169",null,null,null,295,"Dodatkowe (9)","Other (9)","Dodatkowe (9)"]
[10,"Dodatkowe 10","DodatkoweInformacjeIObjasnienia 10","Dodatkowe (10)","teksty!$B$164:$F$169",null,null,null,300,"Dodatkowe (10)","Other (10)","Dodatkowe (10)"]
[11,"Dodatkowe 11","DodatkoweInformacjeIObjasnienia 11","Dodatkowe (11)","teksty!$B$164:$F$169",null,null,null,305,"Dodatkowe (11)","Other (11)","Dodatkowe (11)"]
[12,"Dodatkowe 12","DodatkoweInformacjeIObjasnienia 12","Dodatkowe (12)","teksty!$B$164:$F$169",null,null,null,310,"Dodatkowe (12)","Other (12)","Dodatkowe (12)"]
[13,"Dodatkowe 13","DodatkoweInformacjeIObjasnienia 13","Dodatkowe (13)","teksty!$B$164:$F$169",null,null,null,315,"Dodatkowe (13)","Other (13)","Dodatkowe (13)"]
[14,"Dodatkowe 14","DodatkoweInformacjeIObjasnienia 14","Dodatkowe (14)","teksty!$B$164:$F$169",null,null,null,320,"Dodatkowe (14)","Other (14)","Dodatkowe (14)"]
[15,"Dodatkowe 15","DodatkoweInformacjeIObjasnienia 15","Dodatkowe (15)","teksty!$B$164:$F$169",null,null,null,325,"Dodatkowe (15)","Other (15)","Dodatkowe (15)"]
[16,"Dodatkowe 16","DodatkoweInformacjeIObjasnienia 16","Dodatkowe (16)","teksty!$B$164:$F$169",null,null,null,330,"Dodatkowe (16)","Other (16)","Dodatkowe (16)"]
[17,"Dodatkowe 17","DodatkoweInformacjeIObjasnienia 17","Dodatkowe (17)","teksty!$B$164:$F$169",null,null,null,335,"Dodatkowe (17)","Other (17)","Dodatkowe (17)"]
[18,"Dodatkowe 18","DodatkoweInformacjeIObjasnienia 18","Dodatkowe (18)","teksty!$B$164:$F$169",null,null,null,340,"Dodatkowe (18)","Other (18)","Dodatkowe (18)"]
[19,"Dodatkowe 19","DodatkoweInformacjeIObjasnienia 19","Dodatkowe (19)","teksty!$B$164:$F$169",null,null,null,345,"Dodatkowe (19)","Other (19)","Dodatkowe (19)"]
[20,"Dodatkowe 20","DodatkoweInformacjeIObjasnienia 20","Dodatkowe (20)","teksty!$B$164:$F$169",null,null,null,350,"Dodatkowe (20)","Other (20)","Dodatkowe (20)"]
[21,"Dodatkowe 21","DodatkoweInformacjeIObjasnienia 21","Dodatkowe (21)","teksty!$B$164:$F$169",null,null,null,355,"Dodatkowe (21)","Other (21)","Dodatkowe (21)"]
[22,"Dodatkowe 22","DodatkoweInformacjeIObjasnienia 22","Dodatkowe (22)","teksty!$B$164:$F$169",null,null,null,360,"Dodatkowe (22)","Other (22)","Dodatkowe (22)"]
[23,"Dodatkowe 23","DodatkoweInformacjeIObjasnienia 23","Dodatkowe (23)","teksty!$B$164:$F$169",null,null,null,365,"Dodatkowe (23)","Other (23)","Dodatkowe (23)"]
[24,"Dodatkowe 24","DodatkoweInformacjeIObjasnienia 24","Dodatkowe (24)","teksty!$B$164:$F$169",null,null,null,370,"Dodatkowe (24)","Other (24)","Dodatkowe (24)"]
[25,"Dodatkowe 25","DodatkoweInformacjeIObjasnienia 25","Dodatkowe (25)","teksty!$B$164:$F$169",null,null,null,375,"Dodatkowe (25)","Other (25)","Dodatkowe (25)"]
[26,"Dodatkowe 26","DodatkoweInformacjeIObjasnienia 26","Dodatkowe (26)","teksty!$B$164:$F$169",null,null,null,380,"Dodatkowe (26)","Other (26)","Dodatkowe (26)"]
[27,"Dodatkowe 27","DodatkoweInformacjeIObjasnienia 27","Dodatkowe (27)","teksty!$B$164:$F$169",null,null,null,385,"Dodatkowe (27)","Other (27)","Dodatkowe (27)"]
[28,"Dodatkowe 28","DodatkoweInformacjeIObjasnienia 28","Dodatkowe (28)","teksty!$B$164:$F$169",null,null,null,390,"Dodatkowe (28)","Other (28)","Dodatkowe (28)"]
[29,"Dodatkowe 29","DodatkoweInformacjeIObjasnienia 29","Dodatkowe (29)","teksty!$B$164:$F$169",null,null,null,395,"Dodatkowe (29)","Other (29)","Dodatkowe (29)"]
[30,"Dodatkowe 30","DodatkoweInformacjeIObjasnienia 30","Dodatkowe (30)","teksty!$B$164:$F$169",null,null,null,400,"Dodatkowe (30)","Other (30)","Dodatkowe (30)"]
[31,"Dodatkowe 31","DodatkoweInformacjeIObjasnienia 31","Dodatkowe (31)","teksty!$B$164:$F$169",null,null,null,405,"Dodatkowe (31)","Other (31)","Dodatkowe (31)"]
[32,"Dodatkowe 32","DodatkoweInformacjeIObjasnienia 32","Dodatkowe (32)","teksty!$B$164:$F$169",null,null,null,410,"Dodatkowe (32)","Other (32)","Dodatkowe (32)"]
[33,"Dodatkowe 33","DodatkoweInformacjeIObjasnienia 33","Dodatkowe (33)","teksty!$B$164:$F$169",null,null,null,415,"Dodatkowe (33)","Other (33)","Dodatkowe (33)"]
[34,"Dodatkowe 34","DodatkoweInformacjeIObjasnienia 34","Dodatkowe (34)","teksty!$B$164:$F$169",null,null,null,420,"Dodatkowe (34)","Other (34)","Dodatkowe (34)"]
[35,"Dodatkowe 35",{"$f":"\"DodatkoweInformacjeIObjasnienia \" & A96","v":"DodatkoweInformacjeIObjasnienia 35"},"Dodatkowe (35)","teksty!$B$164:$F$169",null,null,null,425,"Dodatkowe (35)","Other (35)","Dodatkowe (35)"]
[36,"Dodatkowe 36","DodatkoweInformacjeIObjasnienia 36","Dodatkowe (36)","teksty!$B$164:$F$169",null,null,null,430,"Dodatkowe (36)","Other (36)","Dodatkowe (36)"]
[37,"Dodatkowe 37","DodatkoweInformacjeIObjasnienia 37","Dodatkowe (37)","teksty!$B$164:$F$169",null,null,null,435,"Dodatkowe (37)","Other (37)","Dodatkowe (37)"]
[38,"Dodatkowe 38","DodatkoweInformacjeIObjasnienia 38","Dodatkowe (38)","teksty!$B$164:$F$169",null,null,null,440,"Dodatkowe (38)","Other (38)","Dodatkowe (38)"]
[39,"Dodatkowe 39","DodatkoweInformacjeIObjasnienia 39","Dodatkowe (39)","teksty!$B$164:$F$169",null,null,null,445,"Dodatkowe (39)","Other (39)","Dodatkowe (39)"]
[40,"Dodatkowe 40",{"$f":"\"DodatkoweInformacjeIObjasnienia \" & A101","v":"DodatkoweInformacjeIObjasnienia 40"},"Dodatkowe (40)","teksty!$B$164:$F$169",null,null,null,450,"Dodatkowe (40)","Other (40)","Dodatkowe (40)"]
[null,null,null,null,null,null,null,null,455]
[null,"warianty sekcji \"WprowadzenieDoSprawozdaniaFinansowego\": ",null,null,null,null,null,null,460,null,null,"------- koniec nazw arkuszy -------"]
[null,"Nr kolejny","Pole tekstowe ze wzorcem struktury","Etykieta","Nazwa bazowa węzła XML","Odsyłacz do obszaru subelementów",null,"Lista wersji \"Wprowadzenia\"",465]
[null,1,"JednostkaInna(Rozszerzona)",{"$f":"OFFSET(I105,0,WybranyJezyk)","v":"wersja pełna"},"WprowadzenieDoSprawozdaniaFinansowegoJednostkaInna",null,null,null,470,"wersja pełna","full version","wersja pełna"]
[null,2,"JednostkaMala",{"$f":"OFFSET(I106,0,WybranyJezyk)","v":"wersja uproszczona"},"InformacjeOgolneJednostkaMikro,WprowadzenieDoSprawozdaniaFinansowegoJednostkaMala",null,null,null,475,"wersja uproszczona","simplified version","wersja uproszczona"]
[null,null,null,null,null,null,null,null,480]
[null,4,"JednostkaInna",{"$f":"OFFSET(I108,0,WybranyJezyk)","v":"stała"},"WprowadzenieDoSprawozdaniaFinansowego",null,null,null,485,"stała","fixed","stała"]
[null,5,"JednostkaOp",{"$f":"OFFSET(I109,0,WybranyJezyk)","v":"stała"},"WprowadzenieDoSprawozdaniaFinansowegoJednostkaOp",null,null,null,490,"stała","fixed","stała"]
[null,6,"Skonsolidowana",{"$f":"OFFSET(I110,0,WybranyJezyk)","v":"stała"},"WprowadzenieDoSprawozdaniaFinansowego",null,null,null,495,"stała","fixed","stała"]
[null,null,null,null,null,null,null,null,500]
[null,"warianty sekcji \"Bilans\":",null,null,null,null,null,null,505]
[null,"Nr kolejny","Pole tekstowe ze wzorcem struktury","Etykieta","Nazwa bazowa węzła XML","Odsyłacz do obszaru subelementów",null,"Lista wersji \"Bilansu\"",510]
[null,1,"JednostkaInna",{"$f":"OFFSET(I114,0,WybranyJezyk)","v":"wersja pełna"},"Bilans,BilansJednostkaInna",null,null,null,515,"wersja pełna","full version","wersja pełna"]
[null,2,"JednostkaMala",{"$f":"OFFSET(I115,0,WybranyJezyk)","v":"wersja uproszczona"},"BilansJednostkaMala",null,null,null,520,"wersja uproszczona","simplified version","wersja uproszczona"]
[null,3,"JednostkaMikro",{"$f":"OFFSET(I116,0,WybranyJezyk)","v":"wersja najprostsza"},"BilansJednostkaMikro",null,null,null,525,"wersja najprostsza","the simplest version","wersja najprostsza"]
[null,null,null,null,null,null,null,null,530]
[null,5,"JednostkaOp",{"$f":"OFFSET(I118,0,WybranyJezyk)","v":"stała"},"BilansJednostkaOp",null,null,null,535,"stała","fixed","stała"]
[null,6,"Skonsolidowana",{"$f":"OFFSET(I119,0,WybranyJezyk)","v":"stała"},"Bilans",null,null,null,540,"stała","fixed","stała"]
[null,null,null,null,null,null,null,null,545]
[null,"warianty sekcji \"ZestZmianWKapitale\":",null,null,null,null,null,null,550]
[null,"Nr kolejny","Pole tekstowe ze wzorcem struktury","Etykieta","Nazwa bazowa węzła XML","Odsyłacz do obszaru subelementów",null,null,555]
[null,1,"JednostkaInna",{"$f":"OFFSET(I123,0,WybranyJezyk)","v":"stała"},"ZestZmianWKapitale,ZestZmianWKapitaleJednostkaInna",null,null,null,560,"stała","fixed","stała"]
[null,null,null,null,null,null,null,null,565]
[null,null,null,null,null,null,null,null,570]
[null,4,"Skonsolidowana",{"$f":"OFFSET(I126,0,WybranyJezyk)","v":"stała"},"ZestZmianWKapitale",null,null,null,575,"stała","fixed","stała"]
[null,1,"JednostkaOp","stała","ZestZmianWKapitaleJednostkaInna",null,null,null,580]
[null,null,null,null,null,null,null,null,585]
[null,"warianty sekcji \"RZiS\":",null,null,null,null,null,null,590]
[null,"Nr kolejny","Pole tekstowe ze wzorcem struktury","Etykieta","Nazwa bazowa węzła XML","Odsyłacz do obszaru subelementów",null,"Lista wersji\"RZiS\"",595]
[null,1,"JednostkaInna",{"$f":"OFFSET(I131,0,WybranyJezyk)","v":"wersja pełna"},"RZiS,RZiSJednostkaInna",{"$f":"Adr($B$140:$F$141)","v":"teksty!$B$140:$F$141"},null,null,600,"wersja pełna","full version","wersja pełna"]
[null,2,"JednostkaMala",{"$f":"OFFSET(I132,0,WybranyJezyk)","v":"wersja uproszczona"},"RZiSJednostkaMala",{"$f":"Adr($B$140:$F$141)","v":"teksty!$B$140:$F$141"},null,null,605,"wersja uproszczona","simplified version","wersja uproszczona"]
[null,3,"JednostkaMikro",{"$f":"OFFSET(I133,0,WybranyJezyk)","v":"wersja najprostsza"},"RZiSJednostkaMikro",{"$f":"Adr(B145:F146)","v":"teksty!$B$145:$F$146"},null,null,610,"wersja najprostsza","the simplest version","wersja najprostsza"]
[null,null,null,null,null,null,null,null,615]
[null,5,"JednostkaOp",{"$f":"OFFSET(I135,0,WybranyJezyk)","v":"stała"},"RZiSJednostkaOp",null,null,null,620,"stała","fixed","stała"]
[null,6,"Skonsolidowana",{"$f":"OFFSET(I136,0,WybranyJezyk)","v":"stała"},"RZiS",{"$f":"Adr($B$140:$F$141)","v":"teksty!$B$140:$F$141"},null,null,625,"stała","fixed","stała"]
[null,null,null,null,null,null,null,null,630]
[null,"subwarianty sekcji \"RZiS\":",null,null,null,null,null,null,635]
[null,"Nr kolejny","(nieistotne)","Etykieta","Nazwa bazowa węzła XML","Odsyłacz do obszaru subelementów",null,"Lista wariantów \"RZS\"",640]
[null,1,"Kalkulacyjny",{"$f":"OFFSET(I140,0,WybranyJezyk)","v":"wariant kalkulacyjny"},"RZiSKalk",null,null,null,645,"wariant kalkulacyjny","calculation variant","wariant kalkulacyjny"]
[null,2,"Porownawczy",{"$f":"OFFSET(I141,0,WybranyJezyk)","v":"wariant porównawczy"},"RZiSPor",null,null,null,650,"wariant porównawczy","comparative variant","wariant porównawczy"]
[null,null,null,null,null,null,null,null,655]
[null,"subwarianty sekcji \"RZiS\":",null,null,null,null,null,null,660]
[null,"Nr kolejny","(nieistotne)","Etykieta","Nazwa bazowa węzła XML","Odsyłacz do obszaru subelementów",null,"Lista subwariantów RZiS dla jedn. Mikro",665]
[null,1,"art3.1a.2",{"$f":"OFFSET(I145,0,WybranyJezyk)","v":"wariant dla jednostki z art. 3 ust. 1a pkt 2 ustawy"},"G",null,null,null,670,"wariant dla jednostki z art. 3 ust. 1a pkt 2 ustawy","for entities descr. by sect. 3, par. 1a, p. 2 of the Act","wariant dla jednostki z art. 3 ust. 1a pkt 2 ustawy"]
[null,2,"pozostale",{"$f":"OFFSET(I146,0,WybranyJezyk)","v":"wariant dla jednostek z art. 3 ust. 1a p. 1,3, i 4 oraz ust. 1b"},"F",null,null,null,675,"wariant dla jednostek z art. 3 ust. 1a p. 1,3, i 4 oraz ust. 1b","for entities descr. By sect. 3, par. 1a p. 1,3, 4 or par. 1b of the Act","wariant dla jednostek z art. 3 ust. 1a p. 1,3, i 4 oraz ust. 1b"]
[null,null,null,null,null,null,null,null,680]
[null,"warianty sekcji \"RachPrzeplywow\":",null,null,null,null,null,null,685]
[null,"Nr kolejny","Pole tekstowe ze wzorcem struktury","Etykieta","Nazwa bazowa węzła XML","Odsyłacz do obszaru subelementów",null,null,690]
[null,1,"JednostkaInna",{"$f":"OFFSET(I150,0,WybranyJezyk)","v":"stała"},"RachPrzeplywow,RachPrzeplywowJednostkaInna",{"$f":"Adr($B$159:$F$160)","v":"teksty!$B$159:$F$160"},null,null,695,"stała","fixed","stała"]
[null,null,null,null,null,null,null,null,700]
[null,null,null,null,null,null,null,null,705]
[null,null,null,null,null,null,null,null,710]
[null,5,"JednostkaOp",{"$f":"OFFSET(I154,0,WybranyJezyk)","v":"stała"},"RachPrzeplywowJednostkaInna",{"$f":"Adr($B$159:$F$160)","v":"teksty!$B$159:$F$160"},null,null,715,"stała","fixed","stała"]
[null,6,"Skonsolidowana",{"$f":"OFFSET(I155,0,WybranyJezyk)","v":"stała"},"RachPrzeplywow",{"$f":"Adr($B$159:$F$160)","v":"teksty!$B$159:$F$160"},null,null,720,"stała","fixed","stała"]
[null,null,null,null,null,null,null,null,725]
[null,"subwarianty sekcji \"RachPrzeplywow\":",null,null,null,null,null,null,730]
[null,"Nr kolejny","(nieistotne)","Etykieta","Nazwa bazowa węzła XML","Odsyłacz do obszaru subelementów",null,"Lista wariantów \"Przepływów\"",735]
[null,1,"Bezposrednia",{"$f":"OFFSET(I159,0,WybranyJezyk)","v":"metoda bezpośrednia"},"PrzeplywyBezp",null,null,null,740,"metoda bezpośrednia","direct method","metoda bezpośrednia"]
[null,2,"Posrednia",{"$f":"OFFSET(I160,0,WybranyJezyk)","v":"metoda pośrednia"},"PrzeplywyPosr",null,null,null,745,"metoda pośrednia","indirect method","metoda pośrednia"]
[null,null,null,null,null,null,null,null,750]
[null,"sufiksy nazwy obaszaru do \"DodatkoweInformacjeIObjasnienia\": ",null,null,null,null,null,null,755]
[null,"Nr kolejny","Pole tekstowe ze wzorcem struktury","Etykieta","Nazwa bazowa węzła XML","Odsyłacz do obszaru subelementów",null,null,760]
[null,1,"JednostkaInna",{"$f":"OFFSET(I164,0,WybranyJezyk)","v":"stała"},"DodatkoweInformacjeIObjasnieniaJednstkaInna,DodatkoweInformacjeIObjasnieniaJednostkaInna",null,null,null,765,"stała","fixed","stała"]
[null,2,"JednostkaInna",{"$f":"OFFSET(I165,0,WybranyJezyk)","v":"stała"},"InformacjeUzupelniajaceDoBilansuJednostkaMikro,DodatkoweInformacjeIObjasnieniaJednostkaMala",null,null,null,770,"stała","fixed","stała"]
[null,null,null,null,null,null,null,null,775]
[null,4,"JednostkaOp",{"$f":"OFFSET(I167,0,WybranyJezyk)","v":"stała"},"InformacjaDodatkowaJednostkaOp",null,null,null,780,"stała","fixed","stała"]
[null,null,null,null,null,null,null,null,785]
[null,6,"Skonsolidowana",{"$f":"OFFSET(I169,0,WybranyJezyk)","v":"stała"},"DodatkoweInformacjeIObjasnieniaJednostkaInna",null,null,null,790,"stała","fixed","stała"]
[null,null,null,null,null,null,null,null,795]
["Teksty używane w kodzie programu:",null,null,null,null,null,null,null,800]
[null,null,null,null,null,null,null,null,805]
[null,null,"ID używane w kodzie","Tekst (pola {0}, {1}, {2}, … są na kolejne argumenty wywołania)",null,null,null,"Komunikaty programu",810]
[null,null,"WkbookCorrupted",{"$f":"OFFSET(I174,0,WybranyJezyk)","v":"W tym skoroszycie brakuje niektórych danych niezbędnych do poprawnego działania.\n(Ta kopia jest niekompletna)"},null,null,null,"UWAGA: zawsze należy zachować pola {0}, {1}, {2}, … - są to miejsca na kolejne argumenty wywołania",815,"W tym skoroszycie brakuje niektórych danych niezbędnych do poprawnego działania.\n(Ta kopia jest niekompletna)","This workbook lost some vital data, and is not working properly. (This copy is incomplete).",{"$f":"J174","v":"W tym skoroszycie brakuje niektórych danych niezbędnych do poprawnego działania.\n(Ta kopia jest niekompletna)"}]
[null,null,"WkbookProblem","Problem ze skoroszytem",null,null,null,null,820,"Problem ze skoroszytem","Workbook problem",{"$f":"J175","v":"Problem ze skoroszytem"}]
[null,null,"ErrOnOpen","Błąd podczas otwierania pliku",null,null,null,null,825,"Błąd podczas otwierania pliku","Error on opening the file","Błąd podczas otwierania pliku"]
[null,null,"CannotLoadFile","Nie można załadować pliku:\n{0}",null,null,null,null,830,"Nie można załadować pliku:\n{0}","Cannot load file:\n{0}","Nie można załadować pliku:\n{0}"]
[null,null,"UnknownProtectionPwd","Arkusz jest chroniony nieznanym hasłem. Ten przycisk działa tylko dla arkuszy z ochroną bez hasła lub z hasłem predefiniowanym",null,null,null,null,835,"Arkusz jest chroniony nieznanym hasłem. Ten przycisk działa tylko dla arkuszy z ochroną bez hasła lub z hasłem predefiniowanym","This worksheet is protected by an unknown password. This button works only for the sheets protected without a password, or by the predefined password","Arkusz jest chroniony nieznanym hasłem. Ten przycisk działa tylko dla arkuszy z ochroną bez hasła lub z hasłem predefiniowanym"]
[null,null,"CannotUnprotect","Nie można wyłączyć ochrony arkusza. Spróbuj użyć oryginalnej wersji tego skoroszytu (z tą coś jest nie tak)",null,null,null,null,840,"Nie można wyłączyć ochrony arkusza. Spróbuj użyć oryginalnej wersji tego skoroszytu (z tą coś jest nie tak)","Cannot unprotect this worksheet. Try to use the original version of this workbook (there is something wrong with this one).","Nie można wyłączyć ochrony arkusza. Spróbuj użyć oryginalnej wersji tego skoroszytu (z tą coś jest nie tak)"]
[null,null,"STDExpireMsg","Szanowny Kliencie,\nupłynął okres licencji udzielonej na używanie tego skoroszytu.\nAby przedłużyć licencję, prosimy o kontakt z producentem (biuro@zigzak.eu).",null,null,null,null,845,"Szanowny Kliencie,\nupłynął okres licencji udzielonej na używanie tego skoroszytu.\nAby przedłużyć licencję, prosimy o kontakt z producentem (biuro@zigzak.eu).","Dear Customer, the licence for this workbook has expired. \nTo buy a new licence, plrease contact the producer (biuro@zigzak.eu)","Szanowny Kliencie,\nupłynął okres licencji udzielonej na używanie tego skoroszytu.\nAby przedłużyć licencję, prosimy o kontakt z producentem (biuro@zigzak.eu)."]
[null,null,"STDExpireDemoMsg","Okres ważności tej wersji demonstracyjnej już upłynął.\nZapytaj (biuro@zigzak.eu) o warunki udzielenia pełnej licencji",null,null,null,null,850,"Okres ważności tej wersji demonstracyjnej już upłynął.\nZapytaj (biuro@zigzak.eu) o warunki udzielenia pełnej licencji","This demo version has expired.\nAsk the producer (biuro@zigzak.eu) for the license terms.","Okres ważności tej wersji demonstracyjnej już upłynął.\nZapytaj (biuro@zigzak.eu) o warunki udzielenia pełnej licencji"]
[null,null,"IFormExpireMsg","Szanowny Kliencie,\nupłynął okres licencji udzielonej na używanie tego skoroszytu.\nAby przedłużyć licencję, prosimy o kontakt z producentem (biuro@zigzak.eu).",null,null,null,null,855,"Szanowny Kliencie,\nupłynął okres licencji udzielonej na używanie tego skoroszytu.\nAby przedłużyć licencję, prosimy o kontakt z producentem (biuro@zigzak.eu).","Dear Customer, the licence for this workbook has expired. \nTo buy a new licence, plrease contact the producer (biuro@zigzak.eu)","Szanowny Kliencie,\nupłynął okres licencji udzielonej na używanie tego skoroszytu.\nAby przedłużyć licencję, prosimy o kontakt z producentem (biuro@zigzak.eu)."]
[null,null,"IFormExpireDemoMsg","Okres ważności tej wersji demonstracyjnej już upłynął.\nW celu nabycia pełnej licencji prosimy o kontakt z naszym partnerem: \nSignform Sp. z o.o.\ntel. +48 608-43-63-83 \ne-mail: biuro@signform.pl",null,null,null,null,860,"Okres ważności tej wersji demonstracyjnej już upłynął.\nW celu nabycia pełnej licencji prosimy o kontakt z naszym partnerem: \nSignform Sp. z o.o.\ntel. +48 608-43-63-83 \ne-mail: biuro@signform.pl","This demo version has expired.\nTo buy a licence for this workbook, contact our sales partner:\nSignform Sp. z o.o.\nphone: +48 608-43-63-83 \ne-mail: biuro@signform.pl","Okres ważności tej wersji demonstracyjnej już upłynął.\nW celu nabycia pełnej licencji prosimy o kontakt z naszym partnerem: \nSignform Sp. z o.o.\ntel. +48 608-43-63-83 \ne-mail: biuro@signform.pl"]
[null,null,"DemoLicenseMsg","Wersja demonstracyjna (kopiowanie dozwolone).\nW sprawie otrzymania licencji na wersję produktywną skontaktuj się z Właścicielem (biuro@zigzak.eu)",null,null,null,null,865,"Wersja demonstracyjna (kopiowanie dozwolone).\nW sprawie otrzymania licencji na wersję produktywną skontaktuj się z Właścicielem (biuro@zigzak.eu)","Demo version (copying allowed).\nIf you are interested in buying the full licence, ask the producer (biuro@zigzak.eu) .","Wersja demonstracyjna (kopiowanie dozwolone).\nW sprawie otrzymania licencji na wersję produktywną skontaktuj się z Właścicielem (biuro@zigzak.eu)"]
[null,null,"DemoYearRestriction","Ta wersja demonstracyjna nie pozwala na stworzenie raportu za okres obejmujący zeszły rok ({0}).\nMożesz w niej stworzyć raporty za lata wcześniejsze.\nW sprawie otrzymania pełnej licencji skontaktuj się z producentem (biuro@zigzak.eu)",null,null,null,null,870,"Ta wersja demonstracyjna nie pozwala na stworzenie raportu za okres obejmujący zeszły rok ({0}).\nMożesz w niej stworzyć raporty za lata wcześniejsze.\nW sprawie otrzymania pełnej licencji skontaktuj się z producentem (biuro@zigzak.eu)","This demo version does not allow to save report for the previous year ({0}). You can use it to create reports for the previous years.\nIf you are interested in buying the full licence, contact the producer (biuro@zigzak.eu) .","Ta wersja demonstracyjna nie pozwala na stworzenie raportu za okres obejmujący zeszły rok ({0}).\nMożesz w niej stworzyć raporty za lata wcześniejsze.\nW sprawie otrzymania pełnej licencji skontaktuj się z producentem (biuro@zigzak.eu)"]
[null,null,"IFormDemoYearRestriction","Ta wersja demonstracyjna nie pozwala na stworzenie raportu za okres obejmujący zeszły rok ({0}). Możesz w niej stworzyć raporty za lata wcześniejsze.\n\nAby nabyć pełną licencję, skontaktuj się z naszym partnerem: \nSignform Sp. z o.o.\ntel. +48 608-43-63-83 \ne-mail: biuro@signform.pl",null,null,null,null,875,"Ta wersja demonstracyjna nie pozwala na stworzenie raportu za okres obejmujący zeszły rok ({0}). Możesz w niej stworzyć raporty za lata wcześniejsze.\n\nAby nabyć pełną licencję, skontaktuj się z naszym partnerem: \nSignform Sp. z o.o.\ntel. +48 608-43-63-83 \ne-mail: biuro@signform.pl","This demo version does not allow to save report for the previous year ({0}). You can use it to create reports for the previous years.\n\nTo buy a full licence for this workbook, contact our sales partner:\nSignform Sp. z o.o.\nphone: +48 608-43-63-83 \ne-mail: biuro@signform.pl","Ta wersja demonstracyjna nie pozwala na stworzenie raportu za okres obejmujący zeszły rok ({0}). Możesz w niej stworzyć raporty za lata wcześniejsze.\n\nAby nabyć pełną licencję, skontaktuj się z naszym partnerem: \nSignform Sp. z o.o.\ntel. +48 608-43-63-83 \ne-mail: biuro@signform.pl"]
[null,null,"MappingXMLFields…","Przypisywanie pól arkuszy do pól dokumentu XML:  ",null,null,null,null,880,"Przypisywanie pól arkuszy do pól dokumentu XML:  ","Assigning worksheet fields to the XML document elements:","Przypisywanie pól arkuszy do pól dokumentu XML:  "]
[null,null,"Assertion","Nieoczekiwany problem techniczny",null,null,null,null,885,"Nieoczekiwany problem techniczny","Unexpected technical problem","Nieoczekiwany problem techniczny"]
[null,null,"NoFieldMapped","We wzorcowym pliku ({0}) brak pola \"{1}\"\nCzy ten skoroszyt nie jest w jakiś sposób uszkodzony?",null,null,null,null,890,"We wzorcowym pliku ({0}) brak pola \"{1}\"\nCzy ten skoroszyt nie jest w jakiś sposób uszkodzony?","Field '{1}' not found in the template document ({0}).\nIs this workbook file corrupted?","We wzorcowym pliku ({0}) brak pola \"{1}\"\nCzy ten skoroszyt nie jest w jakiś sposób uszkodzony?"]
[null,null,"TooManyFieldsMapped","We wzorcowym pliku ({0}) pola \"{1}\" występują {2} razy!\nUwaga dla programisty: proszę sprawdzić definicję mapowania w wierszu {3}.\n",null,null,null,null,895,"We wzorcowym pliku ({0}) pola \"{1}\" występują {2} razy!\nUwaga dla programisty: proszę sprawdzić definicję mapowania w wierszu {3}.\n","Field '{1}' occurs {2} times in the template document ({0}).  \nNote for the programmer: check the mapping declaraction in row {3}.","We wzorcowym pliku ({0}) pola \"{1}\" występują {2} razy!\nUwaga dla programisty: proszę sprawdzić definicję mapowania w wierszu {3}.\n"]
[null,null,"TooLongFileName","Nazwa pliku jest za długa (o {0} {1}).",null,null,null,null,900,"Nazwa pliku jest za długa (o {0} {1}).","File name too long (by {0} {1}).","Nazwa pliku jest za długa (o {0} {1})."]
[null,null,"1char","znak",null,null,null,null,905,"znak","character","znak"]
[null,null,"2-4chars","znaki",null,null,null,null,910,"znaki","characters","znaki"]
[null,null,">4chars","znaków",null,null,null,null,915,"znaków","characters","znaków"]
[null,null,"WrongFileNameChar","Znak nr {0} ('{1}') w nazwie '{2}' jest niepoprawny. Dopuszczalne znaki to: litery łacińskie, cyfry, oraz myślnik ('-'), podkreślenie('_'), i kropka ('.')",null,null,null,null,920,"Znak nr {0} ('{1}') w nazwie '{2}' jest niepoprawny. Dopuszczalne znaki to: litery łacińskie, cyfry, oraz myślnik ('-'), podkreślenie('_'), i kropka ('.')","Character at pos. {0} ('{1}') in name '{2}' is improper.\nAllowed are: latin letters, digits, dashes ('-'), underscores ('_'), and dots ('.').","Znak nr {0} ('{1}') w nazwie '{2}' jest niepoprawny. Dopuszczalne znaki to: litery łacińskie, cyfry, oraz myślnik ('-'), podkreślenie('_'), i kropka ('.')"]
[null,null,"Warning","Ostrzeżenie",null,null,null,null,925,"Ostrzeżenie","Warning","Ostrzeżenie"]
[null,null,"Question","Pytanie",null,null,null,null,926,"Pytanie","Question","Pytanie"]
[null,null,"Information","Informacja",null,null,null,null,927,"Informacja","Information","Informacja"]
[null,null,"CorrectThisImportFileName?","Naza pliku nie spełnia wymagań MF: \n\n{0}\n\nNazwę tego pliku możesz poprawić, nawet w oknie dialogowym które przed chwilą się zamknęło.\n(Wystarczy przed wskazaniem pliku kliknąć w jego nazwę prawym przyciskiem myszy i z menu kontektowego wybrać polecenie \"Zmień nazwę\").\nCzy chcesz teraz otworzyć ponownie okno wyboru plików i poprawić w nim tę nazwę?",null,null,null,null,930,"Naza pliku nie spełnia wymagań MF: \n\n{0}\n\nNazwę tego pliku możesz poprawić, nawet w oknie dialogowym które przed chwilą się zamknęło.\n(Wystarczy przed wskazaniem pliku kliknąć w jego nazwę prawym przyciskiem myszy i z menu kontektowego wybrać polecenie \"Zmień nazwę\").\nCzy chcesz teraz otworzyć ponownie okno wyboru plików i poprawić w nim tę nazwę?","File name does not match the requirements:\n\n{0}\n\nYou can correct this name even in the file selector dialog that you have just closed. (Before selecting the file, you can right-click the mouse on its name and from the contect menu select the \"Rename\" command).\nDo you want to open the file selector dialog again, and correct this file name?","Naza pliku nie spełnia wymagań MF: \n\n{0}\n\nNazwę tego pliku możesz poprawić, nawet w oknie dialogowym które przed chwilą się zamknęło.\n(Wystarczy przed wskazaniem pliku kliknąć w jego nazwę prawym przyciskiem myszy i z menu kontektowego wybrać polecenie \"Zmień nazwę\").\nCzy chcesz teraz otworzyć ponownie okno wyboru plików i poprawić w nim tę nazwę?"]
[null,null,"CorrectThisExportFileName?","Ten plik zostanie odrzucony przez serwer eKRS/KAS z powodu: \n\n{0}\n\nCzy chcesz teraz poprawić tę nazwę?",null,null,null,null,935,"Ten plik zostanie odrzucony przez serwer eKRS/KAS z powodu: \n\n{0}\n\nCzy chcesz teraz poprawić tę nazwę?","This file will be discarded by the target portal because of:\n\n{0}\n\nDo you ant to correct its name?","Ten plik zostanie odrzucony przez serwer eKRS/KAS z powodu: \n\n{0}\n\nCzy chcesz teraz poprawić tę nazwę?"]
[null,null,"PreparingToExport","Przygotowania do eksportu...",null,null,null,null,940,"Przygotowania do eksportu...","Preparing the export….","Przygotowania do eksportu..."]
[null,null,"OperationFailed","Przetwarzanie zostało przerwane z powodu błędu.",null,null,null,null,945,"Przetwarzanie zostało przerwane z powodu błędu.","Processing has been broken beacause of the error.","Przetwarzanie zostało przerwane z powodu błędu."]
[null,null,"ExportFailed","Podczas odczytywania danych wystąpił błąd:\n{0}",null,null,null,null,950,"Podczas odczytywania danych wystąpił błąd:\n{0}","An error during reading the data:\n{0}","Podczas odczytywania danych wystąpił błąd:\n{0}"]
[null,null,"UnexpectedError","Nieoczekiwany błąd",null,null,null,null,955,"Nieoczekiwany błąd","Unexpected error","Nieoczekiwany błąd"]
[null,null,"ReportValidation","Weryfikacja pliku sprawozdania…",null,null,null,null,960,"Weryfikacja pliku sprawozdania…","Validation of report file…","Weryfikacja pliku sprawozdania…"]
[null,null,"ValidationFailed","Podcza weryfikacji znaleziono błędy.",null,null,null,null,965,"Podcza weryfikacji znaleziono błędy.","An error found during validation.","Podcza weryfikacji znaleziono błędy."]
[null,null,"SavingReportFile","Zapisywanie pliku sprawozdania",null,null,null,null,970,"Zapisywanie pliku sprawozdania","Saving report file","Zapisywanie pliku sprawozdania"]
[null,null,"ExportToXML",{"$f":"OFFSET(I208,0,WybranyJezyk)","v":"Eksport do XML"},null,null,null,null,975,"Eksport do XML","Export to XML","Eksport do XML"]
[null,null,"SFFileFilter","Pliki sprawozdań (*.xml), *.xml, Wszystkie pliki (*.*), *.*",null,null,null,null,980,"Pliki sprawozdań (*.xml), *.xml, Wszystkie pliki (*.*), *.*","Report files (*.xml), *.xml, All files (*.*), *.*","Pliki sprawozdań (*.xml), *.xml, Wszystkie pliki (*.*), *.*"]
[null,null,"SFFileImportFilter","Pliki sprawozdań (*.xml), *.xml, Podpisane pliki sprawozdań (*.xml.Xades), *.xml.xades, Wszystkie pliki (*.*), *.*",null,null,null,null,985,"Pliki sprawozdań (*.xml), *.xml, Podpisane pliki sprawozdań (*.xml.Xades), *.xml.xades, Wszystkie pliki (*.*), *.*","Report files (*.xml), *.xml, Signed report files (*.xml.Xades), *.xml.xades, All files (*.*), *.*","Pliki sprawozdań (*.xml), *.xml, Podpisane pliki sprawozdań (*.xml.Xades), *.xml.xades, Wszystkie pliki (*.*), *.*"]
[null,null,"SaveReport","Zapisz sprawozdanie",null,null,null,null,990,"Zapisz sprawozdanie","Save the financial report","Zapisz sprawozdanie"]
[null,null,"DataSaved","Dane zapisano do pliku '{0}'",null,null,null,null,995,"Dane zapisano do pliku '{0}'","Data saved to file '{0}'","Dane zapisano do pliku '{0}'"]
[null,null,"DataNotSaved","Nie udało się zapisać danych do pliku o nazwie \n'{0}'.\n\nPodczas zapisywania wystąpił błąd:\n{1}",null,null,null,null,1000,"Nie udało się zapisać danych do pliku o nazwie \n'{0}'.\n\nPodczas zapisywania wystąpił błąd:\n{1}","No data saved to file: \n'{0}'.\n\nAn error occured during saving:\n{1}","Nie udało się zapisać danych do pliku o nazwie \n'{0}'.\n\nPodczas zapisywania wystąpił błąd:\n{1}"]
[null,null,"MissingStandardSheet","KOMENTARZ: Najprawdopodobniej usunięto z tego skoroszytu standardowy arkusz(e), które wypełniały następujące sekcje raportu:\n\n{0}\n\nTak jak piszemy o tym w instrukcji, niepotrzebne arkusze można UKRYWAĆ, ale nie usuwać.\nTen skoroszyt jest już nieodwracalnie zepsuty. Otwórz jakaś nową, kompletną kopię skoroszytu e-sprawozdań i przenieś do niej dane z tego skoroszytu (np. kopiując je ze starych arkuszy do schowka i wklejając do nowych arkuszy, strona po stronie).",null,null,null,null,1005,"KOMENTARZ: Najprawdopodobniej usunięto z tego skoroszytu standardowy arkusz(e), które wypełniały następujące sekcje raportu:\n\n{0}\n\nTak jak piszemy o tym w instrukcji, niepotrzebne arkusze można UKRYWAĆ, ale nie usuwać.\nTen skoroszyt jest już nieodwracalnie zepsuty. Otwórz jakaś nową, kompletną kopię skoroszytu e-sprawozdań i przenieś do niej dane z tego skoroszytu (np. kopiując je ze starych arkuszy do schowka i wklejając do nowych arkuszy, strona po stronie).","COMMENT: Most probably someone removed from this workbook the sheet(s) that filled following report sections:\n\n{0}\n\nYou can HIDE the sheets you do not want in the final report, but do not remove them!\nIt is not possible to repair this damaged workbook. Open a new, clear copy of the ZigZak workbook, and copy and paste data from this damaged file.","KOMENTARZ: Najprawdopodobniej usunięto z tego skoroszytu standardowy arkusz(e), które wypełniały następujące sekcje raportu:\n\n{0}\n\nTak jak piszemy o tym w instrukcji, niepotrzebne arkusze można UKRYWAĆ, ale nie usuwać.\nTen skoroszyt jest już nieodwracalnie zepsuty. Otwórz jakaś nową, kompletną kopię skoroszytu e-sprawozdań i przenieś do niej dane z tego skoroszytu (np. kopiując je ze starych arkuszy do schowka i wklejając do nowych arkuszy, strona po stronie)."]
[null,null,"ReportIsValid","Dane w skoroszycie są poprawne",null,null,null,null,1010,"Dane w skoroszycie są poprawne","The data in this workbook are valid","Dane w skoroszycie są poprawne"]
[null,null,"ReportNotVerified","Dane w skoroszycie nie mogły zostać sprawdzone",null,null,null,null,1015,"Dane w skoroszycie nie mogły zostać sprawdzone","Could not validate the data in this workbook","Dane w skoroszycie nie mogły zostać sprawdzone"]
[null,null,"ProblemOnSaving","Problem przy zapisie pliku sprawozdania",null,null,null,null,1020,"Problem przy zapisie pliku sprawozdania","Problem on saving report file","Problem przy zapisie pliku sprawozdania"]
[null,null,"FormUpdating","Aktualizacja formularza…",null,null,null,null,1025,"Aktualizacja formularza…","Updating the worksheet…","Aktualizacja formularza…"]
[null,null,"UnknownDataType","Nieznany typ danych: '{0}' \n(w wierszu: {1})",null,null,null,null,1030,"Nieznany typ danych: '{0}' \n(w wierszu: {1})","Unknown data type: '{0}'\n(in row: {1})","Nieznany typ danych: '{0}' \n(w wierszu: {1})"]
[null,null,"CellDataError","Podczas przetwarzania tej komórki wystąpił błąd:\n\n'{0}'\n{1}\nPrzejrzyj uważnie zawartość tej komórki, popraw ją, i spróbuj jeszcze raz.",null,null,null,null,1035,"Podczas przetwarzania tej komórki wystąpił błąd:\n\n'{0}'\n{1}\nPrzejrzyj uważnie zawartość tej komórki, popraw ją, i spróbuj jeszcze raz.","An error occured during processing this cell:\n\n'{0}'\n{1}\nCheck the contents of this filed, fix it, and try again.","Podczas przetwarzania tej komórki wystąpił błąd:\n\n'{0}'\n{1}\nPrzejrzyj uważnie zawartość tej komórki, popraw ją, i spróbuj jeszcze raz."]
[null,null,"OffendingChar","\nPrawdopodobnie chodzi o znak '{0}', który znajduje się w tym tekście.\n(Kod ASCII tego znaku to : {1})\n",null,null,null,null,1040,"\nPrawdopodobnie chodzi o znak '{0}', który znajduje się w tym tekście.\n(Kod ASCII tego znaku to : {1})\n","\nMos probably this is due the character '{0}', which occurs in this text.\n(The ASCII code of this char : {1})\n","\nPrawdopodobnie chodzi o znak '{0}', który znajduje się w tym tekście.\n(Kod ASCII tego znaku to : {1})\n"]
[null,null,"InputDataError","Błąd w danych wejściowych",null,null,null,null,1045,"Błąd w danych wejściowych","Error in the input data","Błąd w danych wejściowych"]
[null,null,"ImproperBooleanMsg","Nieprawidłowa wartość logiczna: powinna być 1 (tak) lub 2 (nie), a tu jest '{0}'",null,null,null,null,1050,"Nieprawidłowa wartość logiczna: powinna być 1 (tak) lub 2 (nie), a tu jest '{0}'","Wrong Boolean value: expected '1' (Yes) or 2 (No), while encountered: '{0}'","Nieprawidłowa wartość logiczna: powinna być 1 (tak) lub 2 (nie), a tu jest '{0}'"]
[null,null,"ImportingReportFile","Wczytywanie pliku sprawozdania: {0}",null,null,null,null,1055,"Wczytywanie pliku sprawozdania: {0}","Loading report file: {0}","Wczytywanie pliku sprawozdania: {0}"]
[null,null,"VeryfingReportFile","Weryfikacja pliku sprawozdania: {0}",null,null,null,null,1060,"Weryfikacja pliku sprawozdania: {0}","Validating report file: {0}","Weryfikacja pliku sprawozdania: {0}"]
[null,null,"PreparingToImport","Przygotowania do importu danych z pliku: {0}",null,null,null,null,1065,"Przygotowania do importu danych z pliku: {0}","Preparation to import from file: {0}","Przygotowania do importu danych z pliku: {0}"]
[null,null,"ImportSuceeded","Pomyślnie wczytano plik '{0}'",null,null,null,null,1070,"Pomyślnie wczytano plik '{0}'","Successfully loaded file: {0}","Pomyślnie wczytano plik '{0}'"]
[null,null,"ThisIsSignatureFile","Ten plik zawiera sam podpis elektroniczny, bez sprawozdania. \n\n(Sprawozdanie w takim przypadku powinno znajdować się w drugim pliku, o rozszerzeniu *.XML)",null,null,null,null,1075,"Ten plik zawiera sam podpis elektroniczny, bez sprawozdania. \n\n(Sprawozdanie w takim przypadku powinno znajdować się w drugim pliku, o rozszerzeniu *.XML)","This file contains just the e-signature, without any report data. \n\n(The financial report should accompany this file. The file name of the financial report has the *.XML extension)","Ten plik zawiera sam podpis elektroniczny, bez sprawozdania. \n\n(Sprawozdanie w takim przypadku powinno znajdować się w drugim pliku, o rozszerzeniu *.XML)"]
[null,null,"SignatureOnly","Plik podpisu",null,null,null,null,1080,"Plik podpisu","Signature file","Plik podpisu"]
[null,null,"ImportFailed","Nie udało się wczytać pliku '{0}'",null,null,null,null,1085,"Nie udało się wczytać pliku '{0}'","File not loaded: {0}","Nie udało się wczytać pliku '{0}'"]
[null,null,"ImportFailure","Nie udało się wczytać raportu z powodu niespodziewanego błędu: \n\n{0}\n\nDane obecnie załadowane do tego skoroszytu są niekompletne.",null,null,null,null,1090,"Nie udało się wczytać raportu z powodu niespodziewanego błędu: \n\n{0}\n\nDane obecnie załadowane do tego skoroszytu są niekompletne.","The report was not loaded due to unexpected error: \n\n{0}\n\nThe data currently presented in the worksheets may be incomplete.","Nie udało się wczytać raportu z powodu niespodziewanego błędu: \n\n{0}\n\nDane obecnie załadowane do tego skoroszytu są niekompletne."]
[null,null,"ImportTitle","Wczytywanie e-sprawozadnia",null,null,null,null,1095,"Wczytywanie e-sprawozadnia","Loading the report","Wczytywanie e-sprawozadnia"]
[null,null,"SelectImportFile","Wskaż plik sprawozdania do wczytania",null,null,null,null,1100,"Wskaż plik sprawozdania do wczytania","Select report file to load","Wskaż plik sprawozdania do wczytania"]
[null,null,"OpenSFFile","Wczytaj plik",null,null,null,null,1105,"Wczytaj plik","Load file","Wczytaj plik"]
[null,null,"ImportNotAllowedMsg","Import z pliku sprawozdania jest w tej wersji zablokowany",null,null,null,null,1110,"Import z pliku sprawozdania jest w tej wersji zablokowany","Loading report files is blocked in this version","Import z pliku sprawozdania jest w tej wersji zablokowany"]
[null,null,"WrongReportFile","Błędny plik raportu",null,null,null,null,1115,"Błędny plik raportu","Wrong report file","Błędny plik raportu"]
[null,null,"WrongReportFormat","Nieprawidłowy format pliku raportu",null,null,null,null,1120,"Nieprawidłowy format pliku raportu","Wrong format of the report file","Nieprawidłowy format pliku raportu"]
[null,null,"WrongReportNumber","Nieprawidlowy numer definicji raportu: '{0}'.\n(Dopuszczalne: od 1 do {1})",null,null,null,null,1125,"Nieprawidlowy numer definicji raportu: '{0}'.\n(Dopuszczalne: od 1 do {1})","Wrong report definition number: '{0}'.\n(Allowed: from 1 to {1})","Nieprawidlowy numer definicji raportu: '{0}'.\n(Dopuszczalne: od 1 do {1})"]
[null,null,"WrongBaseNumber","Nieprawidłowy numer bazy kwot raportu: '{0}'.\n(Dopuszczalne: od 1 do {1})",null,null,null,null,1130,"Nieprawidłowy numer bazy kwot raportu: '{0}'.\n(Dopuszczalne: od 1 do {1})","Wrong amount base code: '{0}'.\n(Allowed: from 1 to {1})","Nieprawidłowy numer bazy kwot raportu: '{0}'.\n(Dopuszczalne: od 1 do {1})"]
[null,null,"WrongReportSymbol",{"$f":"OFFSET(I240,0,WybranyJezyk)","v":"Nieobsługiwany typ raportu: '{0}'"},null,null,null,null,1135,"Nieobsługiwany typ raportu: '{0}'","This report wariant is not handled: '{0}'","Nieobsługiwany typ raportu: '{0}'"]
[null,null,"WrongBaseSymbol","Nieobsługiwany typ bazy dla kwot raportu: '{0}'",null,null,null,null,1140,"Nieobsługiwany typ bazy dla kwot raportu: '{0}'","This amount base wariant is not handled: '{0}'",{"$f":"J241","v":"Nieobsługiwany typ bazy dla kwot raportu: '{0}'"}]
[null,null,"ReportTypeNotHandled","Wskazany plik zawiera sprawozdanie finansowe typu '{0}', podczas gdy ten skoroszyt jest przystosowany wyłącznie do wczytywania sprawozdań typu '{1}'.\n\nAby uzyskać skoroszyt obsługujący sprawozdania typu '{0}', zajrzyj na http://zigzak.eu/esf",null,null,null,null,1145,"Wskazany plik zawiera sprawozdanie finansowe typu '{0}', podczas gdy ten skoroszyt jest przystosowany wyłącznie do wczytywania sprawozdań typu '{1}'.\n\nAby uzyskać skoroszyt obsługujący sprawozdania typu '{0}', zajrzyj na http://zigzak.eu/esf","The file you have selected contains the '{0}' variant of the financial report, while this workbook can handle only the '{1}' variant.","Wskazany plik zawiera sprawozdanie finansowe typu '{0}', podczas gdy ten skoroszyt jest przystosowany wyłącznie do wczytywania sprawozdań typu '{1}'.\n\nAby uzyskać skoroszyt obsługujący sprawozdania typu '{0}', zajrzyj na http://zigzak.eu/esf"]
[null,null,"AttFileFilter","Dokumenty (*.pdf), *.pdf, Pliki MS Word (*.docx), *.docx, Pliki MS Excel (*.xlsx), *.xlsx",null,null,null,null,1150,"Dokumenty (*.pdf), *.pdf, Pliki MS Word (*.docx), *.docx, Pliki MS Excel (*.xlsx), *.xlsx","Documents (*.pdf), *.pdf, MS Word files (*.docx), *.docx, MS Excel files (*.xlsx), *.xlsx","Dokumenty (*.pdf), *.pdf, Pliki MS Word (*.docx), *.docx, Pliki MS Excel (*.xlsx), *.xlsx"]
[null,null,"SelectAttachement","Wskaż plik do załączenia",null,null,null,null,1155,"Wskaż plik do załączenia","Select the file to attach","Wskaż plik do załączenia"]
[null,null,"AttachFile","Załącz do raportu",null,null,null,null,1160,"Załącz do raportu","Report attachement","Załącz do raportu"]
[null,null,"AttachementCorrupted","Nie można odczytać danych załącznika:\n{0}\n(może ten załącznik jest uszkodzony?)",null,null,null,null,1165,"Nie można odczytać danych załącznika:\n{0}\n(może ten załącznik jest uszkodzony?)","Cannot read the data from attachement:\n{0}\n(maybe this file is corrupted?)","Nie można odczytać danych załącznika:\n{0}\n(może ten załącznik jest uszkodzony?)"]
[null,null,"WrongPeriod","Data początkowa wpisana w nagłówku jest większa od daty końcowej ({Val}).\nPopraw pola 'Data od:' i 'Data do:' w arkuszu \"Nagłówek\"",null,null,null,null,1170,"Data początkowa wpisana w nagłówku jest większa od daty końcowej ({Val}).\nPopraw pola 'Data od:' i 'Data do:' w arkuszu \"Nagłówek\"","The beginnig date of the declared period is later than the end date ({Val}).\nCorrect the 'From:' and 'To:' fields in the \"Header\" sheet","Data początkowa wpisana w nagłówku jest większa od daty końcowej ({Val}).\nPopraw pola 'Data od:' i 'Data do:' w arkuszu \"Nagłówek\""]
[null,null,"PeriodInFuture","Nieprawidłowa data końcowa okresu deklarowanego w nagłówku ({Val} jest w przyszłości).\nPopraw pole 'Data do:' (i być może 'Data od:') w arkuszu \"Nagłówek\"",null,null,null,null,1175,"Nieprawidłowa data końcowa okresu deklarowanego w nagłówku ({Val} jest w przyszłości).\nPopraw pole 'Data do:' (i być może 'Data od:') w arkuszu \"Nagłówek\"","Wrong end date of the declared period ({Val} is in the future).\nCorrect the 'From:' and 'To:' fields in the \"Header\" sheet.","Nieprawidłowa data końcowa okresu deklarowanego w nagłówku ({Val} jest w przyszłości).\nPopraw pole 'Data do:' (i być może 'Data od:') w arkuszu \"Nagłówek\""]
[null,null,"TooEarlyDocumentDate","Data sporządzenia dokumentu  musi być późniejsza od końca okresu sprawozdania ({Val}).\nPopraw pole 'Data sporządzenia:' w arkuszu \"Nagłowek\"",null,null,null,null,1180,"Data sporządzenia dokumentu  musi być późniejsza od końca okresu sprawozdania ({Val}).\nPopraw pole 'Data sporządzenia:' w arkuszu \"Nagłowek\"","The reporting date must be later than the end of the reported period ({Val}).\nCorrect the 'Reporting date:' field in the \"Header\" sheet.","Data sporządzenia dokumentu  musi być późniejsza od końca okresu sprawozdania ({Val}).\nPopraw pole 'Data sporządzenia:' w arkuszu \"Nagłowek\""]
[null,null,"Verification","Weryfikacja",null,null,null,null,1185,"Weryfikacja","Validation","Weryfikacja"]
[null,null,"XSDFileNotFound(Export)","Nie udało się pobrać schematów niezbędnych do weryfikacji tego raportu.\nZapisywany dokument nie został sprawdzony i może zawierać błędy składniowe, które spowodują jego odrzucenie przy próbie dodania do archiwum KRS. \n\nAby ponowić próbę pobierania schematów - zamknij ten skoroszyt, a potem otwórz go powtórnie.",null,null,null,null,1190,"Nie udało się pobrać schematów niezbędnych do weryfikacji tego raportu.\nZapisywany dokument nie został sprawdzony i może zawierać błędy składniowe, które spowodują jego odrzucenie przy próbie dodania do archiwum KRS. \n\nAby ponowić próbę pobierania schematów - zamknij ten skoroszyt, a potem otwórz go powtórnie.","Could not load XSD schemas neccessary for the report validation.\nThe saved XML file was not validated, and can be rejected by the eKRS portal. \n\nYou can close this workbook, then open it, and try again saving this data into the report file.","Nie udało się pobrać schematów niezbędnych do weryfikacji tego raportu.\nZapisywany dokument nie został sprawdzony i może zawierać błędy składniowe, które spowodują jego odrzucenie przy próbie dodania do archiwum KRS. \n\nAby ponowić próbę pobierania schematów - zamknij ten skoroszyt, a potem otwórz go powtórnie."]
[null,null,"XSDFileNotFound(Import)","Nie udało się pobrać schematów niezbędnych do weryfikacji tego raportu.",null,null,null,null,1195,"Nie udało się pobrać schematów niezbędnych do weryfikacji tego raportu.","Could not load XSD schemas neccessary for the report validation.","Nie udało się pobrać schematów niezbędnych do weryfikacji tego raportu."]
[null,null,"ContinueDespiteErrors?","Wskazany plik zawiera pewne błędy.\nCzy nadal chcesz go wczytać?",null,null,null,null,1200,"Wskazany plik zawiera pewne błędy.\nCzy nadal chcesz go wczytać?","Selected file contains some errors.\nDo you want to load it, anyway?","Wskazany plik zawiera pewne błędy.\nCzy nadal chcesz go wczytać?"]
[null,null,"ErrorInDocument","Błąd w sprawozdaniu:",null,null,null,null,1205,"Błąd w sprawozdaniu:","Error in the report:","Błąd w sprawozdaniu:"]
[null,null,"NodeValidationFailed","Błąd w elemencie {0}",null,null,null,null,1210,"Błąd w elemencie {0}","Error in the element {0}","Błąd w elemencie {0}"]
[null,null,"ErrorInXSDCaching","Błąd podczas przygotowywania schematu '{0}' weryfikacji sprawozdania:\n\n{1}\n\nAby ponowić próbę pobierania schematów - najlepiej zamknij ten skoroszyt, a potem otwórz go powtórnie.",null,null,null,null,1215,"Błąd podczas przygotowywania schematu '{0}' weryfikacji sprawozdania:\n\n{1}\n\nAby ponowić próbę pobierania schematów - najlepiej zamknij ten skoroszyt, a potem otwórz go powtórnie.","Error on loading XSD schema '{0}', required for report validation:\n\n{1}\n\nTo try loading the XSD schemas again, you can close this workbook, then open it again.","Błąd podczas przygotowywania schematu '{0}' weryfikacji sprawozdania:\n\n{1}\n\nAby ponowić próbę pobierania schematów - najlepiej zamknij ten skoroszyt, a potem otwórz go powtórnie."]
[null,null,"ReconcSheet","W arkuszu \"{0}\" odnaleziono {1} przypadków wewnętrznej niezgodności pomiędzy kwotami tego sprawozdania.\n\n{2}",null,null,null,null,{"$f":"I256+1","v":1216},"W arkuszu \"{0}\" odnaleziono {1} przypadków wewnętrznej niezgodności pomiędzy kwotami tego sprawozdania.\n\n{2}","In sheet \"{0}\"  there are {1} lines that require internal reconciliation.\n\n{2}","W arkuszu \"{0}\" odnaleziono {1} przypadków wewnętrznej niezgodności pomiędzy kwotami tego sprawozdania.\n\n"]
[null,null,"ReconcYesNo","Czy chcesz je przejrzeć przed zapisaniem do pliku e-sprawozdania?\n\n(Naciśnij [Nie], jeżeli chcesz kontynuować zapisywanie bez przeglądania tych różnic)",null,null,null,null,{"$f":"I257+1","v":1217},"Czy chcesz je przejrzeć przed zapisaniem do pliku e-sprawozdania?\n\n(Naciśnij [Nie], jeżeli chcesz kontynuować zapisywanie bez przeglądania tych różnic)","Do you want to review these lines befor saving this statement to the resulting file?\n\n(Click [No] if you want to continue saving these data to the resulting file without reviewing these differences)","Czy chcesz je przejrzeć przed zapisaniem do pliku e-sprawozdania?\n\n(Naciśnij [Nie], jeżeli chcesz kontynuować zapisywanie bez przeglądania tych różnic)"]
[null,null,"ReconcOK","Uzgodnij wskazane kwoty w tym sprawozdaniu.\n\n(Zapisanie do pliku e-sprawozdania będzie możliwe dopiero po uzgodnieniu tych kwot)",null,null,null,null,{"$f":"I258+1","v":1218},"Uzgodnij wskazane kwoty w tym sprawozdaniu.\n\n(Zapisanie do pliku e-sprawozdania będzie możliwe dopiero po uzgodnieniu tych kwot)","Review and reconcile these lines.\n\n(You will be able to create the resulting file when you reconcile all lines of this statement)","Uzgodnij wskazane kwoty w tym sprawozdaniu.\n\n(Zapisanie do pliku e-sprawozdania będzie możliwe dopiero po uzgodnieniu tych kwot)"]
[" ",null,"ReconcDifference","Kwota w zaznaczonej komórce różni się o {0} \nod podświetlonej (po prawej) kwoty z wiersza \"{1}\" ",null,null,null,null,{"$f":"I259+1","v":1219},"Kwota w zaznaczonej komórce różni się o {0} \nod podświetlonej (po prawej) kwoty z wiersza \"{1}\" ","The amount in the selected cell differs by {0} from the highlighted (on the right) amount from line \"{1}\"","Podświetlona na arkuszu kwota różni się o {0} \nw stosunku do kwoty z pola \"{1}\" "]
[null,null,"BuildingResultFile","Tworzenie pliku z raportem…",null,null,null,null,1220,"Tworzenie pliku z raportem…","Createing the report file…","Tworzenie pliku z raportem…"]
[null,null,"Excel2010PrintPreviewBug","Wydruk w Excelu wielu arkuszy naraz psuje ten skoroszyt (przesuwa listy rozwijalne). To znany błąd, naprawiony przez Microsoft dopiero w Excelu 2013.\n\nProgram obsługujący przycisk wydruku odtworzył stan skoroszytu sprzed tego błędu, ale nie był w stanie zapisać go pod dotychczasową nazwą:\n\n{0}\n\nMoże spróbujesz teraz zapisać go pod inną nazwą, lub w innym folderze?\n\n",null,null,null,null,1225,"Wydruk w Excelu wielu arkuszy naraz psuje ten skoroszyt (przesuwa listy rozwijalne). To znany błąd, naprawiony przez Microsoft dopiero w Excelu 2013.\n\nProgram obsługujący przycisk wydruku odtworzył stan skoroszytu sprzed tego błędu, ale nie był w stanie zapisać go pod dotychczasową nazwą:\n\n{0}\n\nMoże spróbujesz teraz zapisać go pod inną nazwą, lub w innym folderze?\n\n","Printing multiple sheets in this Excel 2010 'scatters' the dropdown lists along the sheets in a random fashion. This is a known error, which Microsoft fixed in Excel 2013.\n\nThe procedure run by the \"Print\" button restored the workbook state as before this error, but could not save it as the current file:\n\n{0}\n\nWould you like to save this file in another folder?\n\n","Wydruk w Excelu wielu arkuszy naraz psuje ten skoroszyt (przesuwa listy rozwijalne). To znany błąd, naprawiony przez Microsoft dopiero w Excelu 2013.\n\nProgram obsługujący przycisk wydruku odtworzył stan skoroszytu sprzed tego błędu, ale nie był w stanie zapisać go pod dotychczasową nazwą:\n\n{0}\n\nMoże spróbujesz teraz zapisać go pod inną nazwą, lub w innym folderze?\n\n"]
[null,null,"PastedProtectedContent","Omyłkowo wkleiłeś dane wraz z formatowaniem, a nie same wartości! - Wycofałem tę operację.",null,null,null,null,1230,"Omyłkowo wkleiłeś dane wraz z formatowaniem, a nie same wartości! - Wycofałem tę operację.","You have pasted the formatted (protected) fileds instead of values! - I undid this operation.","Omyłkowo wkleiłeś dane wraz z formatowaniem, a nie same wartości! - Wycofałem tę operację."]
[null,null,"InsertAttachementError","Podczas próby wstawienia do skoroszytu załącznika '{0}' wystąpił błąd:\n\n'{1}'",null,null,null,null,1235,"Podczas próby wstawienia do skoroszytu załącznika '{0}' wystąpił błąd:\n\n'{1}'","An error while placing attachement '{0}':\n\n'{1}'","Podczas próby wstawienia do skoroszytu załącznika '{0}' wystąpił błąd:\n\n'{1}'"]
[null,null,"WriteToDiskInstead?","\n\nChoć w tym stanie nie można dodać tego załącznika do arkusza Excela, to można spróbować zapisać ten plik na dysku. Być może jest to jakaś niewielka wada, która \"sama\" się naprawi podczas próby otwarcia. \n\nCzy chcesz zapisać ten załącznik do odrębnego pliku, a potem kontynuować wczytywanie tego raportu?",null,null,null,null,1240,"\n\nChoć w tym stanie nie można dodać tego załącznika do arkusza Excela, to można spróbować zapisać ten plik na dysku. Być może jest to jakaś niewielka wada, która \"sama\" się naprawi podczas próby otwarcia. \n\nCzy chcesz zapisać ten załącznik do odrębnego pliku, a potem kontynuować wczytywanie tego raportu?","\n\nAthough it is not possible to attach this file to Excel workbook, it is still possible to save it as a separate file on your disk. Maybe this is a minor defect, which will be automatically fixed on the first opening. \n\nDo you want to save this file, and then continue loading this report?","\n\nChoć w tym stanie nie można dodać tego załącznika do arkusza Excela, to można spróbować zapisać ten plik na dysku. Być może jest to jakaś niewielka wada, która \"sama\" się naprawi podczas próby otwarcia. \n\nCzy chcesz zapisać ten załącznik do odrębnego pliku, a potem kontynuować wczytywanie tego raportu?"]
[null,null,"SavingAttachement","Zapisywanie załącznika",null,null,null,null,1245,"Zapisywanie załącznika","Saving attachement","Zapisywanie załącznika"]
[null,null,"SaveAttachement","Zapisz załącznik",null,null,null,null,1250,"Zapisz załącznik","Save attachement","Zapisz załącznik"]
[null,null,"SpecificFileFilter","Dokumenty (*.{0}), *.{0}, Wszystkie pliki (*.*), *.*",null,null,null,null,1255,"Dokumenty (*.{0}), *.{0}, Wszystkie pliki (*.*), *.*","Documents (*.{0}), *.{0}, All files (*.*), *.*","Dokumenty (*.{0}), *.{0}, Wszystkie pliki (*.*), *.*"]
[null,null,"MappingError","Podczas mapowania pola o Id='{0}' wystąpił nieoczekiwany błąd:\n\n{1}",null,null,null,null,1260,"Podczas mapowania pola o Id='{0}' wystąpił nieoczekiwany błąd:\n\n{1}","Unexpected error while mapping field with Id='{0}':\n\n{1}","Podczas mapowania pola o Id='{0}' wystąpił nieoczekiwany błąd:\n\n{1}"]
[null,null,"OlderExcelNotSupported","Używasz starej wersji Excel (Excel 2007 lub jeszcze starszej). Ta funkcja nie jest w niej dostępna.\n\n(Ten skoroszyt wymaga Excela 2010 lub późniejszych)",null,null,null,null,1265,"Używasz starej wersji Excel (Excel 2007 lub jeszcze starszej). Ta funkcja nie jest w niej dostępna.\n\n(Ten skoroszyt wymaga Excela 2010 lub późniejszych)","You are using an old Excel version (Excel 2007 or older), which does not support this function.\n\n(This workbook requires Excel 2010 or later)","Używasz starej wersji Excel (Excel 2007 lub jeszcze starszej). Ta funkcja nie jest w niej dostępna.\n\n(Ten skoroszyt wymaga Excela 2010 lub późniejszych)"]
[null,null,"NoExternalLinks","Ten skoroszyt nie zawiera żadnych odwołań do zewnętrznych arkuszy Excela, które można byłoby edytować",null,null,null,null,1266,"Ten skoroszyt nie zawiera żadnych odwołań do zewnętrznych arkuszy Excela, które można byłoby edytować","This workbook does not contain any references to other Excel files, thus you cannot open the Edit Links dialog window, at this moment.","Ten skoroszyt nie zawiera żadnych odwołań do zewnętrznych arkuszy Excela, które można byłoby edytować"]
[null,null,"InvalidVATRegNo","Nieprawidłowy numer NIP ({0})",null,null,null,null,1267,"Nieprawidłowy numer NIP ({0})","Invalid VAT Registration Number ({0})","Nieprawidłowy numer NIP ({0})"]
[null,null,"CopyrightStatement","  Ten plik zapisano {0} przy użyciu skoroszytu do obsługi e-sprawodzań ZigZak (http://zigzak.eu/esf) w wersji {1} , ref: {2}  ",null,null,null,null,1270,null,null,0]
[null,null,"PeriodShift?","To polecenie przesunie kwoty z okresu bieżącego do poprzedniego. (Kolumna z okresem bieżącym stanie się pusta).\n\nCzy chcesz kontynuować?",null,null,null,null,1271,"To polecenie przesunie kwoty z okresu bieżącego do poprzedniego. (Kolumna z okresem bieżącym stanie się pusta).\n\nCzy chcesz kontynuować?","This command shifts the amounts from the current to the previous period column. (The column of the curren period will become empty).\n\nDo you want to continue?","To polecenie przesunie kwoty z okresu bieżącego do poprzedniego. (Kolumna z okresem bieżącym stanie się pusta).\n\nCzy chcesz kontynuować?"]
[null,null,"PeriodShift","Kwoty z {0} pozycji zostały przesunięte z okresu obecnego do poprzedniego, a daty raportu (w arkuszu \"Nagłówek\") przesunięte o 12 miesięcy.\n\nNie zapomnij przejrzeć i uaktualnić danych w arkuszach\"Wprowadzenie\" i \"Dodatkowe\", gdyż wszelkie informacje tekstowe oraz załączniki pozostały w takim stanie, jak przed tą operacją.",null,null,null,null,1272,"Kwoty z {0} pozycji zostały przesunięte z okresu obecnego do poprzedniego, a daty raportu (w arkuszu \"Nagłówek\") przesunięte o 12 miesięcy.\n\nNie zapomnij przejrzeć i uaktualnić danych w arkuszach\"Wprowadzenie\" i \"Dodatkowe\", gdyż wszelkie informacje tekstowe oraz załączniki pozostały w takim stanie, jak przed tą operacją.","The {0} amounts from the current period have been shifted to the previous period column. Report dates have been shifted by 12 months. \n\nDo not forget to review and update descriptions in \"Introduction\" worksheet, and the attachements in the \"Other\" sheet, because all these informations remain as before this operation.","Kwoty z {0} pozycji zostały przesunięte z okresu obecnego do poprzedniego, a daty raportu (w arkuszu \"Nagłówek\") przesunięte o 12 miesięcy.\n\nNie zapomnij przejrzeć i uaktualnić danych w arkuszach\"Wprowadzenie\" i \"Dodatkowe\", gdyż wszelkie informacje tekstowe oraz załączniki pozostały w takim stanie, jak przed tą operacją."]
[null,null,"PreviousFileFormat",{"$f":"OFFSET(I276,0,WybranyJezyk)","v":"Importowany plik był zapisany zgodnie ze schematem, który obowiązywał poprzednio ({0}). W związku z tym podczas wczytywania nie zostanie sprawdzona jego składnia."},null,null,null,null,1275,"Importowany plik był zapisany zgodnie ze schematem, który obowiązywał poprzednio ({0}). W związku z tym podczas wczytywania nie zostanie sprawdzona jego składnia.","This imported file was created according the previous scheme version ({0}). This program will try to load it without file format validation.","Importowany plik był zapisany zgodnie ze schematem, który obowiązywał poprzednio ({0}). W związku z tym podczas wczytywania nie zostanie sprawdzona jego składnia."]
[null,null,"PathInCloud","Wskazana ścieżka:\n'{0}'\n\njest folderem intranetowej 'chmury', do którego ten program nie możne ani zapisać, ani odczytać pliku *.xml.\n\nWskaż jakiś folder (może Pulpit?), który nie jest w 'chmurze'.",null,null,null,null,1276,"Wskazana ścieżka:\n'{0}'\n\njest folderem intranetowej 'chmury', do którego ten program nie możne ani zapisać, ani odczytać pliku *.xml.\n\nWskaż jakiś folder (może Pulpit?), który nie jest w 'chmurze'.","Selected path:\n'{0}'\n\npoints to a folder in the intranet cloud. This program cannot save or read *.xml files from such a folder. \n\nSelect another, local folder (maybe your Desktop?).","Wskazana ścieżka:\n'{0}'\n\njest folderem intranetowej 'chmury', do którego nie można zapisać wprost pliku *.xml.\n\nWskaż jakiś folder (może Pulpit?), który nie jest w 'chmurze'."]
[null,null,null,null,null,null,null,null,1280]
["Etykierty arkuszy:",null,null,null,null,null,null,"Arkusze:",1285]
[null,null,"Pola wspólne:",null,null,null,null,"Pola wspólne:",1290]
[null,null,null,{"$f":"OFFSET(I281,0,WybranyJezyk)","v":"Pola obowiązkowe:"},null,null,null,null,1295,"Pola obowiązkowe:","Obligatory fields:","*missing*"]
[null,null,null,"Pola opcjonalne:",null,null,null,null,1300,"Pola opcjonalne:","Optional fields:","*missing*"]
[null,null,null,"wszystkie kwoty w ",null,null,null,null,1305,"wszystkie kwoty w ","all amounts in ","*missing*"]
[null,null,null,", koniec strony ",null,null,null,null,1310,", koniec strony ",", end of page ","*missing*"]
[null,null,null,"ukryty wiersz powyżej zawiera nagłówek dla kolejnej strony",null,null,null,null,1315,"ukryty wiersz powyżej zawiera nagłówek dla kolejnej strony","the hidden row above contains temporary header for the printout","*missing*"]
[null,null,null,"ukryty wiersz poniżej zawiera nagłówek dla kolejnej strony",null,null,null,null,1316,"ukryty wiersz poniżej zawiera nagłówek dla kolejnej strony","the hidden row below contains temporary header for the printout","*missing*"]
[null,null,null,", w tym:",null,null,null,null,1320,", w tym:",", including:","*missing*"]
[null,null,null,"skonsolidowane",null,null,null,null,1325,"skonsolidowane","consolidated","*missing*"]
[null,null,null,"(skonsolidowany)",null,null,null,null,1330,"(skonsolidowany)","(consolidated)","*missing*"]
[null,null,null,"(skonsolidowane)",null,null,null,null,1335,"(skonsolidowane)","(consolidated)","*missing*"]
[null,null,null,"Opcjonalne. Aby nie włączać tego zestawienia do sprawozdania - ukryj ten arkusz",null,null,null,null,1340,"Opcjonalne. Aby nie włączać tego zestawienia do sprawozdania - ukryj ten arkusz","Optional. To exclude this statement from the final report - hide this sheet","*missing*"]
[null,null,null,"Przekszt. dane porów. za poprzedni okres",null,null,null,null,1345,"Przekszt. dane porów. za poprzedni okres","Adj. comparative data for the prev. period","*missing*"]
[null,null,"Nagłówek:",null,null,null,null,"Nagłówek:",1350]
[null,null,null,{"$f":"OFFSET(I294,0,WybranyJezyk)","v":"(nazwę i dane firmy wpiszesz w zakładce 'Wprowadzenie')"},null,null,null,null,1355,"(nazwę i dane firmy wpiszesz w zakładce 'Wprowadzenie')","(type the name of this company in the next tab)","*missing*"]
[null,null,null,"sprawozdanie finansowe",null,null,null,null,1360,"sprawozdanie finansowe","financial statement","*Brak trzeciego języka. Przełącz na język polski*"]
[null,null,null,"wersja obowiązująca od 1 października 2018",null,null,null,null,1365,"wersja obowiązująca od 1 października 2018","version valid from the October 1st, 2018","*missing*"]
[null,null,null,"Raport jest wyświetlany w układzie:",null,null,null,null,1370,"Raport jest wyświetlany w układzie:","Report is displayed in the variant:","*missing*"]
[null,null,null,"Wszystkie kwoty tego raportu są podane w:",null,null,null,null,1375,"Wszystkie kwoty tego raportu są podane w:","All amounts in:","*missing*"]
[null,null,null,"Data sporządzenia:",null,null,null,null,1380,"Data sporządzenia:","Creation date:","*missing*"]
[null,null,null,"dla:",null,null,null,null,1385,"dla:","for:","*missing*"]
[null,null,null,"sprawozdanie sporządzono dnia:",null,null,null,null,1390,"sprawozdanie sporządzono dnia:","Report created on:","*missing*"]
[null,null,null,"za okres:",null,null,null,null,1395,"za okres:","reported period:","*missing*"]
[null,null,null,"Excel nie rozpoznał wpisanej 'Daty Od'. Wpisz ją w domyślnym formacie daty - np. dziś jest:",null,null,null,null,1400,"Excel nie rozpoznał wpisanej 'Daty Od'. Wpisz ją w domyślnym formacie daty - np. dziś jest:","The 'From' day that you have typed is not a valid date. Use the default date format - for example:","*missing*"]
[null,null,null,"Excel nie rozpoznał wpisanej 'Daty Do'. Wpisz ją w domyślnym formacie daty - np. dziś jest:",null,null,null,null,1405,"Excel nie rozpoznał wpisanej 'Daty Do'. Wpisz ją w domyślnym formacie daty - np. dziś jest:","The 'To' day that you have typed is not a valid date. Use the default date format - for example:","*missing*"]
[null,null,"Wprowadzenie:","-",null,null,null,"Wprowadzenie:",1410,"-","-","-"]
[null,null,null,null,null,null,null,null,1415]
[null,null,null,{"$f":"OFFSET(I307,0,WybranyJezyk)","v":"Wprowadzenie do sprawozdania finansowego"},null,null,null,null,1420,"Wprowadzenie do sprawozdania finansowego","Introduction","*missing*"]
[null,null,null,null,null,null,null,null,1425]
[null,null,null,{"$f":"OFFSET(I309,0,WybranyJezyk)","v":"Okres objęty sprawozdaniem:"},null,null,null,null,1430,"Okres objęty sprawozdaniem:","Reported period:","*missing*"]
[null,null,null,"Nazwa jednostki",null,null,null,null,1435,"Nazwa jednostki","Company name","*missing*"]
[null,null,null,"Siedziba:",null,null,null,null,1440,"Siedziba:","Location:","*missing*"]
[null,null,null,"Województwo",null,null,null,null,1445,"Województwo","Voivodeship","*missing*"]
[null,null,null,"Powiat",null,null,null,null,1450,"Powiat","County","*missing*"]
[null,null,null,"Gmina",null,null,null,null,1455,"Gmina","Community","*missing*"]
[null,null,null,"Miejscowość",null,null,null,null,1460,"Miejscowość","Place","*missing*"]
[null,null,null,null,null,null,null,null,1465]
[null,null,null,{"$f":"OFFSET(I317,0,WybranyJezyk)","v":"Dokładny adres siedziby (w Polsce):"},null,null,null,null,1470,"Dokładny adres siedziby (w Polsce):","Main office address (in Poland):","*missing*"]
[null,null,null,"Ulica",null,null,null,null,1475,"Ulica","Street","*missing*"]
[null,null,null,"Nr domu",null,null,null,null,1480,"Nr domu","House no","*missing*"]
[null,null,null,"Nr lokalu",null,null,null,null,1485,"Nr lokalu","Flat no","*missing*"]
[null,null,null,"Kod pocztowy",null,null,null,null,1490,"Kod pocztowy","Post code","*missing*"]
[null,null,null,"Poczta",null,null,null,null,1495,"Poczta","Post office in","*missing*"]
[null,null,null,null,null,null,null,null,1500]
[null,null,null,{"$f":"OFFSET(I324,0,WybranyJezyk)","v":"Adres przedsiębiorcy zagranicznego (opcjonalny):"},null,null,null,null,1505,"Adres przedsiębiorcy zagranicznego (opcjonalny):","Foreign address (optional):","*missing*"]
[null,null,null,"Kod kraju",null,null,null,null,1510,"Kod kraju","Country code","*missing*"]
[null,null,null,"Kod pocztowy",null,null,null,null,1515,"Kod pocztowy","Post code","*missing*"]
[null,null,null,"Miejscowość",null,null,null,null,1520,"Miejscowość","Place","*missing*"]
[null,null,null,"Ulica",null,null,null,null,1525,"Ulica","Street","*missing*"]
[null,null,null,"Nr domu",null,null,null,null,1530,"Nr domu","House no","*missing*"]
[null,null,null,"Nr lokalu",null,null,null,null,1535,"Nr lokalu","Flat no","*missing*"]
[null,null,null,"Podstawowy przedmiot działalności:",null,null,null,null,1540,"Podstawowy przedmiot działalności:","Core business:","*missing*"]
[null,null,null,"kod(y) PKD",null,null,null,null,1545,"kod(y) PKD","the PKD code(s)","*missing*"]
[null,null,null,"Identyfikator podmiotu:",null,null,null,null,1550,"Identyfikator podmiotu:","Entity ID","*missing*"]
[null,null,null,"-",null,null,null,null,1555,"-","-","*missing*"]
[null,null,null,"Czas trwania działalności jednostki (jeśli ograniczony):",null,null,null,null,1560,"Czas trwania działalności jednostki (jeśli ograniczony):","Timespan of the Entity operation (if limited):","*missing*"]
[null,null,null,"Od dnia",null,null,null,null,1565,"Od dnia","From day","*missing*"]
[null,null,null,"Do dnia",null,null,null,null,1570,"Do dnia","To day","*missing*"]
[null,null,null,"Do",null,null,null,null,1575,"Do","To","*missing*"]
[null,null,null,"Raportowany okres:",null,null,null,null,1580,"Raportowany okres:","reported period:","*missing*"]
[null,null,null,"Włączenie danych wewnętrznych jednostek organizacyjnych:",null,null,null,null,1585,"Włączenie danych wewnętrznych jednostek organizacyjnych:","Incorporation of the data from the internal units:","*missing*"]
[null,null,null,"Wskazanie okresu objętego sprawozdaniem finansowym:",null,null,null,null,1590,"Wskazanie okresu objętego sprawozdaniem finansowym:","The period being reported:","*missing*"]
[null,null,null,"(w pola tej sekcji jest kopiowany okres wpisany w nagłówku sprawozdania)",null,null,null,null,1595,"(w pola tej sekcji jest kopiowany okres wpisany w nagłówku sprawozdania)","(this section contains the data copied from the header)","*missing*"]
[null,null,null,"Wskazanie, że sprawozdanie finansowe zawiera dane łączne, jeżeli w skład jednostki wchodzą wewnętrzne jednostki organizacyjne sporządzające samodzielne sprawozdania finansowe:",null,null,null,null,1600,"Wskazanie, że sprawozdanie finansowe zawiera dane łączne, jeżeli w skład jednostki wchodzą wewnętrzne jednostki organizacyjne sporządzające samodzielne sprawozdania finansowe:","Information if this statement contains the combined data - when this Entity contains internal units that create their own financial statements:","*missing*"]
[null,null,null,"Czy sprawozdanie zawiera także łączne dane samodzielnych jednostek organizacyjnych?",null,null,null,null,1605,"Czy sprawozdanie zawiera także łączne dane samodzielnych jednostek organizacyjnych?","Does this statement contains combined data of the autonomic internal units?","*missing*"]
[null,null,null,"Założenie kontynuacji działalności jednostki:",null,null,null,null,1610,"Założenie kontynuacji działalności jednostki:","Assumption of the business continuity:","*missing*"]
[null,null,null,"Czy sprawozdanie zawiera dane łączne?",null,null,null,null,1615,"Czy sprawozdanie zawiera dane łączne?","Does this statement contains aggregate data?","*missing*"]
[null,null,null,null,null,null,null,null,1620]
[null,null,null,{"$f":"OFFSET(I348,0,WybranyJezyk)","v":"Czy sprawozdanie finansowe zostało sporządzone przy założeniu kontynuowania działalności gospodarczej  przez jednostkę w dającej się przewidzieć przyszłości?"},null,null,null,null,1625,"Czy sprawozdanie finansowe zostało sporządzone przy założeniu kontynuowania działalności gospodarczej  przez jednostkę w dającej się przewidzieć przyszłości?","Was this statement created with assumption of the business contnuity in the predictable future?","*missing*"]
[null,null,null,"Czy brak jest okoliczności wskazujących na zagrożenie kontynuowania przez nią działalności?",null,null,null,null,1630,"Czy brak jest okoliczności wskazujących na zagrożenie kontynuowania przez nią działalności?","Could you confirm that there are no threats to the business continuity?","*missing*"]
[null,null,null,null,null,null,null,null,1635]
[null,null,null,"Łączenie spółek:",null,null,null,null,1640,"Łączenie spółek:","Merged companies:","*missing*"]
[null,null,null,"Czy to sprawozdanie finansowe sporządzono za okres, w ciągu którego nastąpiło połączenie spółek?",null,null,null,null,1645,"Czy to sprawozdanie finansowe sporządzono za okres, w ciągu którego nastąpiło połączenie spółek?","Was there a company merge during the reported period?","*missing*"]
[null,null,null,"Czy sprawozdanie sporządzono po połączeniu spółek?",null,null,null,null,1650,"Czy sprawozdanie sporządzono po połączeniu spółek?","Was this statement created after this merge?","*missing*"]
[null,null,null,"Zastosowana metoda rozliczenia połączenia (nabycia, łączenia udziałów)",null,null,null,null,1655,"Zastosowana metoda rozliczenia połączenia (nabycia, łączenia udziałów)","The ownership transfer method used in the merge (purchase, stock swap)","*missing*"]
[null,null,null,"Zasady (polityka) rachunkowości:",null,null,null,null,1660,"Zasady (polityka) rachunkowości:","Accounting policies:","*missing*"]
[null,null,null,"w tym:",null,null,null,null,1665,"w tym:","including:","*missing*"]
[null,null,null,"Omówienie przyjętych zasad polityki rachunkowości:",null,null,null,null,1670,"Omówienie przyjętych zasad polityki rachunkowości:","Description of the accounting policies:","*missing*"]
[null,null,null,"metody wyceny aktywów i pasywów:",null,null,null,null,1675,"metody wyceny aktywów i pasywów:","valuation methods of the assets and liabilities","*missing*"]
[null,null,null,"ustalenia wyniku finansowego:",null,null,null,null,1680,"ustalenia wyniku finansowego:","methods used for determinig the financial result","*missing*"]
[null,null,"Mala, Mikro:","ustalenia sposobu sporządzania sprawozdania finansowego:",null,null,null,"Mala, Mikro:",1685,"ustalenia sposobu sporządzania sprawozdania finansowego:","the method of preparing the financial statement","*missing*"]
[null,null,null,null,null,null,null,null,1690]
[null,null,null,{"$f":"OFFSET(I362,0,WybranyJezyk)","v":"ustalenia wyniku finansowego oraz sposobu sporządzenia sprawozdania finansowego:"},null,null,null,null,1695,"ustalenia wyniku finansowego oraz sposobu sporządzenia sprawozdania finansowego:","methods of determinig the financial result and preparing the financial statement","*missing*"]
[null,null,null,{"$f":"OFFSET(I363,0,WybranyJezyk)","v":"Zastosowane zasad rachunkowości przewidzianych dla mniejszych jednostek:"},null,null,null,null,1700,"Zastosowane zasad rachunkowości przewidzianych dla mniejszych jednostek:","Accounting rules for the smaller entities, applied to this statement:","*missing*"]
[null,null,null,{"$f":"OFFSET(I364,0,WybranyJezyk)","v":"Wyszczególnienie wybranych uproszczeń:"},null,null,null,null,1705,"Wyszczególnienie wybranych uproszczeń:","Details of the used simplifications:","*missing*"]
[null,null,"Skonsolidowana:",null,null,null,null,"Skonsolidowana:",1710]
[null,null,null,{"$f":"OFFSET(I366,0,WybranyJezyk)","v":"Nazwa jednostki"},null,null,null,null,1715,"Nazwa jednostki","Holding company","*missing*"]
[null,null,null,"Numer KRS",null,null,null,null,1720,"Numer KRS","KRS id","*missing*"]
[null,null,null,"Podstawowy przedmiot działalności jednostki dominującej:",null,null,null,null,1725,"Podstawowy przedmiot działalności jednostki dominującej:","Basic activity of the holding company:","*missing*"]
[null,null,null,"Położenie siedziby jednostki dominującej:",null,null,null,null,1730,"Położenie siedziby jednostki dominującej:","Office location of the holding company:","*missing*"]
[null,null,null,"Wykaz jednostek zależnych, współzależnych i stowarzyszonych, objętych skonsolidowanym sprawozdaniem finansowym:",null,null,null,null,1735,"Wykaz jednostek zależnych, współzależnych i stowarzyszonych, objętych skonsolidowanym sprawozdaniem finansowym:","List of the subsidiaries consolidated in this financial statement:","*missing*"]
[null,null,null,"Jednostka objęta sprawozdaniem skonsolidowanym:",null,null,null,null,1740,"Jednostka objęta sprawozdaniem skonsolidowanym:","Subsidiary, included in this statement:","*missing*"]
[null,null,null,"Nazwa (firma) i siedziba jednostki:",null,null,null,null,1745,"Nazwa (firma) i siedziba jednostki:","Entity name and location:","*missing*"]
[null,null,null,"Przedmiot działalności:",null,null,null,null,1750,"Przedmiot działalności:","Main activity:","*missing*"]
[null,null,null,"Udział jednostki dominującej w kapitale (funduszu) podstawowym",null,null,null,null,1755,"Udział jednostki dominującej w kapitale (funduszu) podstawowym","Capital share, owned by the holding company","*missing*"]
[null,null,null,"Udział posiadany przez jednostkę dominującą, wspólnika jednostki współzależnej lub znaczącego inwestora w kapitale (funduszu) podstawowym",null,null,null,null,1760,"Udział posiadany przez jednostkę dominującą, wspólnika jednostki współzależnej lub znaczącego inwestora w kapitale (funduszu) podstawowym","*pominięte* - to tekst komentarza do tego pola","*missing*"]
[null,null,null,"Udział w ogólnej liczbie głosów, jeżeli różny od udziału w kapitale",null,null,null,null,1765,"Udział w ogólnej liczbie głosów, jeżeli różny od udziału w kapitale","Votes share, if different than the capital share","*missing*"]
[null,null,null,"Wzajemne powiązania kapitałowe pomiędzy jednostkami objętymi konsolidacją:",null,null,null,null,1770,"Wzajemne powiązania kapitałowe pomiędzy jednostkami objętymi konsolidacją:","Mutual capital connections between subsidiaries:","*missing*"]
[null,null,null,"Kryteria objęcia skonsolidowanym sprawozdaniem finansowym jednostek zależnych:",null,null,null,null,1775,"Kryteria objęcia skonsolidowanym sprawozdaniem finansowym jednostek zależnych:","Selection criteria for the subsidiaries included in this statement:","*missing*"]
[null,null,null,"można nie ujawniać tych informacji, jeżeli jednostka dominująca sprawuje kontrolę nad jednostką z tytułu posiadania bezpośrednio lub pośrednio większości ogólnej liczby głosów w organie stanowiącym innej jednostki (zależnej), także na podstawie porozumień z innymi uprawnionymi do głosu, wykonującymi swe prawa głosu zgodnie z wolą jednostki dominującej oraz jeżeli udział w całkowitej liczbie głosów jest równy udziałowi w kapitale (funduszu) podstawowym",null,null,null,null,1780,"można nie ujawniać tych informacji, jeżeli jednostka dominująca sprawuje kontrolę nad jednostką z tytułu posiadania bezpośrednio lub pośrednio większości ogólnej liczby głosów w organie stanowiącym innej jednostki (zależnej), także na podstawie porozumień z innymi uprawnionymi do głosu, wykonującymi swe prawa głosu zgodnie z wolą jednostki dominującej oraz jeżeli udział w całkowitej liczbie głosów jest równy udziałowi w kapitale (funduszu) podstawowym","In certain cases the field below is optional","*missing*"]
[null,null,null,"Wykaz jednostek innych niż jednostki podporządkowane:",null,null,null,null,1785,"Wykaz jednostek innych niż jednostki podporządkowane:","List of the related parties other than subsidiaries:","*missing*"]
[null,null,null,"Jednostka, w której jednostki podporządkowane posiadają zaangażowanie w kapitale:",null,null,null,null,1790,"Jednostka, w której jednostki podporządkowane posiadają zaangażowanie w kapitale:","Related party with a capital interest of a subsidiary:","*missing*"]
[null,null,null,"Nazwy i siedziby jednostek podporządkowananych posiadających zaangażowanie w kapitale:",null,null,null,null,1795,"Nazwy i siedziby jednostek podporządkowananych posiadających zaangażowanie w kapitale:","Names and locations of the subsidiaries with the capital interest:","*missing*"]
[null,null,null,"Wysokość kapitału podstawowego i wyniku finansowego za ostatni rok obrotowy: ",null,null,null,null,1800,"Wysokość kapitału podstawowego i wyniku finansowego za ostatni rok obrotowy: ","Share capital and financial result fot the last period","*missing*"]
[null,null,null,"można pominąć te dane, jeżeli bilans jednostki nie jest ogłaszany",null,null,null,null,1805,"można pominąć te dane, jeżeli bilans jednostki nie jest ogłaszany","you can skip this information, if this entity does not publish its balance","*missing*"]
[null,null,null,"Udział w kapitale pdst.  i wyniku finansowym netto za ostatni rok",null,null,null,null,1810,"Udział w kapitale pdst.  i wyniku finansowym netto za ostatni rok","Share in the capital and financial result for the last year","*missing*"]
[null,null,null,"Wykaz jednostek podporządkowanych wyłączonych ze skonsolidowanego sprawozdania finansowego:",null,null,null,null,1815,"Wykaz jednostek podporządkowanych wyłączonych ze skonsolidowanego sprawozdania finansowego:","List of the subsidiaries excluded from this financial statement:","*missing*"]
[null,null,null,"Jednostka podporządkowana, wyłączona ze sprawozdania skonsolidowanego:",null,null,null,null,1820,"Jednostka podporządkowana, wyłączona ze sprawozdania skonsolidowanego:","Subsidiary excluded from this statement:","*missing*"]
[null,null,null,"Podstawa prawna oraz uzasadnienie dokonania wyłączenia:",null,null,null,null,1825,"Podstawa prawna oraz uzasadnienie dokonania wyłączenia:","The reason and the legal basis of the exclusion:","*missing*"]
[null,null,null,"Udział jednostki dominującej, lub znaczącego inwestora w kapitale ",null,null,null,null,1830,"Udział jednostki dominującej, lub znaczącego inwestora w kapitale ","Capital share, owned by the holding company (or the main investor)","*missing*"]
[null,null,null,"Nazwy i siedziby jednostek podporządkowananych posiadających udziały w kapitale: ",null,null,null,null,1835,"Nazwy i siedziby jednostek podporządkowananych posiadających udziały w kapitale: ","Names and locations of the subsidiaries with the capital interest:","*missing*"]
[null,null,null,"Wykaz czasu trwania jednostek powiązanych (tylko dla tych, dla których jest ograniczony):",null,null,null,null,1840,"Wykaz czasu trwania jednostek powiązanych (tylko dla tych, dla których jest ograniczony):","List of the entities with limited timespan of their operations:","*missing*"]
[null,null,null,"Jednostka podporządkowana o ograniczonym czasie trwania:",null,null,null,null,1845,"Jednostka podporządkowana o ograniczonym czasie trwania:","Subsidiary with limited business existence timespan:","*missing*"]
[null,null,null,"Wykaz jednostek powiązanych, w których rok obrotowy jest różny od okresu skonsolidowanego sprawozdania finansowego:",null,null,null,null,1850,"Wykaz jednostek powiązanych, w których rok obrotowy jest różny od okresu skonsolidowanego sprawozdania finansowego:","List of the entities which accounting periods differ from the period of this statement:","*missing*"]
[null,null,null,"Jednostka, w której rok obrotowy jest różny od okresu sprawozdania skonsolidowanego:",null,null,null,null,1855,"Jednostka, w której rok obrotowy jest różny od okresu sprawozdania skonsolidowanego:","Subsidiary with different accounting period:","*missing*"]
[null,null,null,"Okres, objęty sprawozdaniem finansowym jednostki:",null,null,null,null,1860,"Okres, objęty sprawozdaniem finansowym jednostki:","Accounting period of tis entity:","*missing*"]
[null,null,null,"Czy to sprawozdania finansowe jednostek powiązanych sporządzono za okres, w ciągu którego nastąpiło połączenie spółek?",null,null,null,null,1865,"Czy to sprawozdania finansowe jednostek powiązanych sporządzono za okres, w ciągu którego nastąpiło połączenie spółek?","Was there a company merge among the subsidiaries during the reported period?","*missing*"]
[null,null,null,"Czy sprawozadnia finansowe sporządzono po połączeniu spółek?",null,null,null,null,1870,"Czy sprawozadnia finansowe sporządzono po połączeniu spółek?","Was this statement created after this merge?","*missing*"]
[null,null,null,null,null,null,null,null,1875,null,null,"*missing*"]
[null,null,null,{"$f":"OFFSET(I399,0,WybranyJezyk)","v":"zasady grupowania operacji gospodarczych:"},null,null,null,null,1880,"zasady grupowania operacji gospodarczych:","the rules for grouping the business activities","*missing*"]
[null,null,null,"dokonywania amortyzacji:",null,null,null,null,1885,"dokonywania amortyzacji:","fixed assets depreciation","*missing*"]
[null,null,null,"Wskazanie, że sprawozdania finansowe jednostek objętych skonsolidowanym sprawozdaniem finansowym zawierają dane łączne, jeżeli w skład jednostek powiązanych wchodzą wewnętrzne jednostki organizacyjne sporządzające samodzielne sprawozdania finansowe:",null,null,null,null,1890,"Wskazanie, że sprawozdania finansowe jednostek objętych skonsolidowanym sprawozdaniem finansowym zawierają dane łączne, jeżeli w skład jednostek powiązanych wchodzą wewnętrzne jednostki organizacyjne sporządzające samodzielne sprawozdania finansowe:","Information if the financial statements of the subsidiaries contain the combined data - when these entities contain internal units that create their own financial statements:","*missing*"]
[null,null,null,"Czy sprawozdania finansowe stanowiące podstawę do sporządzenia sprawozdania skonsolidowanego  sporządzono przy założeniu kontynuowania działalności gospodarczej przez jednostki powiązane w dającej się przewidzieć przyszłości?",null,null,null,null,1895,"Czy sprawozdania finansowe stanowiące podstawę do sporządzenia sprawozdania skonsolidowanego  sporządzono przy założeniu kontynuowania działalności gospodarczej przez jednostki powiązane w dającej się przewidzieć przyszłości?","Were the subsidiary financial statements used as the basis for this consolidated statement, created with the assumption of the business contnuity in the predictable future?","*missing*"]
[null,null,null,"Czy brak jest okoliczności wskazujących na zagrożenie kontynuowania przez te jednostki działalności?",null,null,null,null,1900,"Czy brak jest okoliczności wskazujących na zagrożenie kontynuowania przez te jednostki działalności?","Could you confirm that there are no threats to the business continuity of the entities?","*missing*"]
[null,null,null,"odpowiedź \"Nie\" oznacza, że ISTNIEJĄ takie okoliczności",null,null,null,null,1905,"odpowiedź \"Nie\" oznacza, że ISTNIEJĄ takie okoliczności","the answer \"No\" means that there are certain threats","*missing*"]
[null,null,null,"zasady sporządzania jednostkowych sprawozdań finansowych:",null,null,null,null,1910,"zasady sporządzania jednostkowych sprawozdań finansowych:","Rules for creating financial statements in the subsidiaries:","*missing*"]
[null,null,null,"Zmiany zasad rachunkowości wprowadzone w trakcie raportowanego okresu:",null,null,null,null,1915,"Zmiany zasad rachunkowości wprowadzone w trakcie raportowanego okresu:","Changes in the accounting policies, introduced during the reported period","*missing*"]
[null,null,null,"Zmiany dokonane od pierwszego dnia okresu raportu, w szczególności zasad grupowania operacji gospodarczych, metod wyceny aktywów i pasywów, dokonywania odpisów amortyzacyjnych, ustalania wyniku finansowego i sporządzania jednostkowych sprawozdań finansowych oraz skonsolidowanego sprawozdania finansowego wraz z podaniem ich przyczyny",null,null,null,null,1920,"Zmiany dokonane od pierwszego dnia okresu raportu, w szczególności zasad grupowania operacji gospodarczych, metod wyceny aktywów i pasywów, dokonywania odpisów amortyzacyjnych, ustalania wyniku finansowego i sporządzania jednostkowych sprawozdań finansowych oraz skonsolidowanego sprawozdania finansowego wraz z podaniem ich przyczyny","Changes introduced from the first day of the reporting period, in particular in grouping of the business activities, valuation of assets and liabilities, fixed assets depreciations, determinig the financial result in the subsidiaries and the consolidated financial statements (specify also their reasons).","*missing*"]
[null,null,null,"Kryteria wyłączeń jednostek podporządkowanych ze sprawozdania skonsolidowanego:",null,null,null,null,1925,"Kryteria wyłączeń jednostek podporządkowanych ze sprawozdania skonsolidowanego:","Criteria for excluding subsidiaries from the consolidated report","*missing*"]
[null,null,"Wspólne:",null,null,null,null,"Wspólne:",1930]
[null,null,null,null,null,null,null,null,1935]
[null,null,null,{"$f":"OFFSET(I411,0,WybranyJezyk)","v":"Informacja uszczegóławiająca:"},null,null,null,null,1940,"Informacja uszczegóławiająca:","Additional information:","*missing*"]
[null,null,null,{"$f":"OFFSET(I412,0,WybranyJezyk)","v":"Nazwa pozycji"},null,null,null,null,1945,"Nazwa pozycji","Item name","*missing*"]
[null,null,null,{"$f":"OFFSET(I413,0,WybranyJezyk)","v":"Opis"},null,null,null,null,1950,"Opis","Description","*missing*"]
[null,null,"Bilans:",null,null,null,null,"Bilans:",1955]
[null,null,null,null,null,null,null,null,1960]
[null,null,null,{"$f":"OFFSET(I416,0,WybranyJezyk)","v":"Bilans"},null,null,null,null,1965,"Bilans","Balance Sheet","*missing*"]
[null,null,null,{"$f":"OFFSET(I417,0,WybranyJezyk)","v":"Stan na:"},null,null,null,null,1970,"Stan na:","As at:","*missing*"]
[null,null,"Jednostka Inna",{"$f":"OFFSET(I418,0,WybranyJezyk)","v":"\")"},null,null,null,"Jednostka Inna",1975,"\")","')","*missing*"]
[null,null,"Aktywa:",null,null,null,null,"Aktywa:",1980]
[null,null,null,{"$f":"OFFSET(I420,0,WybranyJezyk)","v":"Aktywa"},null,null,null,null,1985,"Aktywa","Assets","*missing*"]
[null,null,null,"Aktywa trwałe",null,null,null,null,1990,"Aktywa trwałe","Fixed assets","*missing*"]
[null,null,null,"Wartości niematerialne i prawne",null,null,null,null,1995,"Wartości niematerialne i prawne","Intangible assets","*missing*"]
[null,null,null,"Koszty zakończonych prac rozwojowych",null,null,null,null,2000,"Koszty zakończonych prac rozwojowych","R&D expenses","*missing*"]
[null,null,null,"Wartość firmy",null,null,null,null,2005,"Wartość firmy","Goodwill","*missing*"]
[null,null,null,"Inne wartości niematerialne i prawne",null,null,null,null,2010,"Inne wartości niematerialne i prawne","Other intangible assets","*missing*"]
[null,null,null,"Zaliczki na wartości niematerialne i prawne",null,null,null,null,2015,"Zaliczki na wartości niematerialne i prawne","Advances for intangible assets","*missing*"]
[null,null,null,"Rzeczowe aktywa trwałe",null,null,null,null,2020,"Rzeczowe aktywa trwałe","Tangible fixed assets","*missing*"]
[null,null,null,"Środki trwałe",null,null,null,null,2025,"Środki trwałe","Tangible fixed assets in use","*missing*"]
[null,null,null,"grunty (w tym prawo użytkowania wieczystego gruntu)",null,null,null,null,2030,"grunty (w tym prawo użytkowania wieczystego gruntu)","land (including right to perpetual usufruct)","*missing*"]
[null,null,null,"budynki, lokale, prawa do lokali i obiekty inżynierii lądowej i wodnej",null,null,null,null,2035,"budynki, lokale, prawa do lokali i obiekty inżynierii lądowej i wodnej","buildings, premises, civil and water engineering structures","*missing*"]
[null,null,null,"urządzenia techniczne i maszyny",null,null,null,null,2040,"urządzenia techniczne i maszyny","technical equipment and machines","*missing*"]
[null,null,null,"środki transportu",null,null,null,null,2045,"środki transportu","vehicles","*missing*"]
[null,null,null,"inne środki trwałe",null,null,null,null,2050,"inne środki trwałe","other tangible fixed assets","*missing*"]
[null,null,null,"Środki trwałe w budowie",null,null,null,null,2055,"Środki trwałe w budowie","Tangible fixed assets under construction","*missing*"]
[null,null,null,"Zaliczki na środki trwałe w budowie",null,null,null,null,2060,"Zaliczki na środki trwałe w budowie","Advances for tangible fixed assets under construction","*missing*"]
[null,null,null,"Należności długoterminowe",null,null,null,null,2065,"Należności długoterminowe","Long-term receivables","*missing*"]
[null,null,null,"Od jednostek powiązanych",null,null,null,null,2070,"Od jednostek powiązanych","From related parties","*missing*"]
[null,null,null,"Od pozostałych jednostek, w których jednostka posiada zaangażowanie w kapitale",null,null,null,null,2075,"Od pozostałych jednostek, w których jednostka posiada zaangażowanie w kapitale","From other entities, where this company owns a capital share","*missing*"]
[null,null,null,"Od pozostałych jednostek",null,null,null,null,2080,"Od pozostałych jednostek","From other entities","*missing*"]
[null,null,null,"Inwestycje długoterminowe",null,null,null,null,2085,"Inwestycje długoterminowe","Long-term investments","*missing*"]
[null,null,null,"Nieruchomości",null,null,null,null,2090,"Nieruchomości","Real property","*missing*"]
[null,null,null,"Wartości niematerialne i prawne",null,null,null,null,2095,"Wartości niematerialne i prawne","Intangible assets","*missing*"]
[null,null,null,"Długoterminowe aktywa finansowe",null,null,null,null,2100,"Długoterminowe aktywa finansowe","Long-term financial assets","*missing*"]
[null,null,null,"w jednostkach powiązanych",null,null,null,null,2105,"w jednostkach powiązanych","in related parties","*missing*"]
[null,null,null,"udziały lub akcje",null,null,null,null,2110,"udziały lub akcje","shares","*missing*"]
[null,null,null,"inne papiery wartościowe",null,null,null,null,2115,"inne papiery wartościowe","other securities","*missing*"]
[null,null,null,"udzielone pożyczki",null,null,null,null,2120,"udzielone pożyczki","loans granted","*missing*"]
[null,null,"*","inne długoterminowe aktywa finansowe",null,null,null,"*",2125,"inne długoterminowe aktywa finansowe","other long-term financial assets","*missing*"]
[null,null,null,"Aktywa (c.d. \"",null,null,null,null,2130,"Aktywa (c.d. \"","Assets (cont. '","*missing*"]
[null,null,null,"w pozostałych jednostkach, w których jednostka posiada zaangażowanie w kapitale",null,null,null,null,2135,"w pozostałych jednostkach, w których jednostka posiada zaangażowanie w kapitale","in other entities, where this company owns a capital share","*missing*"]
[null,null,null,"udziały lub akcje",null,null,null,null,2140,"udziały lub akcje","shares","*missing*"]
[null,null,null,{"$f":"OFFSET(I452,0,WybranyJezyk)","v":"inne papiery wartościowe"},null,null,null,null,2145,"inne papiery wartościowe","other securities","*missing*"]
[null,null,null,"udzielone pożyczki",null,null,null,null,2150,"udzielone pożyczki","loans granted","*missing*"]
[null,null,null,"inne długoterminowe aktywa finansowe",null,null,null,null,2155,"inne długoterminowe aktywa finansowe","other long-term financial assets","*missing*"]
[null,null,null,"w pozostałych jednostkach",null,null,null,null,2160,"w pozostałych jednostkach","in other entities","*missing*"]
[null,null,null,"udziały lub akcje",null,null,null,null,2165,"udziały lub akcje","shares","*missing*"]
[null,null,null,"inne papiery wartościowe",null,null,null,null,2170,"inne papiery wartościowe","other securities","*missing*"]
[null,null,null,"udzielone pożyczki",null,null,null,null,2175,"udzielone pożyczki","loans granted","*missing*"]
[null,null,null,"inne długoterminowe aktywa finansowe",null,null,null,null,2180,"inne długoterminowe aktywa finansowe","other long-term financial assets","*missing*"]
[null,null,null,"Inne inwestycje długoterminowe",null,null,null,null,2185,"Inne inwestycje długoterminowe","Other long-term investments","*missing*"]
[null,null,null,"Długoterminowe rozliczenia międzyokresowe",null,null,null,null,2190,"Długoterminowe rozliczenia międzyokresowe","Long-term prepayments","*missing*"]
[null,null,null,"Aktywa z tytułu odroczonego podatku dochodowego",null,null,null,null,2195,"Aktywa z tytułu odroczonego podatku dochodowego","Deferred tax assets","*missing*"]
[null,null,null,"Inne rozliczenia międzyokresowe",null,null,null,null,2200,"Inne rozliczenia międzyokresowe","Other prepayments","*missing*"]
[null,null,null,"Aktywa obrotowe",null,null,null,null,2205,"Aktywa obrotowe","Current Assets","*missing*"]
[null,null,null,"Zapasy",null,null,null,null,2210,"Zapasy","Inventory","*missing*"]
[null,null,null,"Materiały",null,null,null,null,2215,"Materiały","Materials","*missing*"]
[null,null,null,"Półprodukty i produkty w toku",null,null,null,null,2220,"Półprodukty i produkty w toku","Semi-finished products and work in progress","*missing*"]
[null,null,null,"w tym: obiekty w zabudowie",null,null,null,null,2221,"w tym: obiekty w zabudowie","including: objects under construction","*missing*"]
[null,null,null,"Produkty gotowe",null,null,null,null,2225,"Produkty gotowe","Finished products","*missing*"]
[null,null,null,"Towary",null,null,null,null,2230,"Towary","Goods","*missing*"]
[null,null,null,"Zaliczki na dostawy i usługi",null,null,null,null,2235,"Zaliczki na dostawy i usługi","Advances for deliveries","*missing*"]
[null,null,null,"Należności krótkoterminowe",null,null,null,null,2240,"Należności krótkoterminowe","Short-term receivables","*missing*"]
[null,null,null,"Należności od jednostek powiązanych",null,null,null,null,2245,"Należności od jednostek powiązanych","Receivables from related parties","*missing*"]
[null,null,null,"z tytułu dostaw i usług, o okresie spłaty:",null,null,null,null,2250,"z tytułu dostaw i usług, o okresie spłaty:","trade receivables, maturing:","*missing*"]
[null,null,null,"do 12 miesięcy",null,null,null,null,2255,"do 12 miesięcy","up to 12 months","*missing*"]
[null,null,null,"powyżej 12 miesięcy",null,null,null,null,2260,"powyżej 12 miesięcy","above 12 months","*missing*"]
[null,null,"*","inne",null,null,null,"*",2265,"inne","other","*missing*"]
[null,null,null,"Aktywa (c.d. \"",null,null,null,null,2270,"Aktywa (c.d. \"","Assets (cont. '","*missing*"]
[null,null,null,"Należności od pozostałych jednostek, w których jednostka posiada zaangażowanie w kapitale",null,null,null,null,2275,"Należności od pozostałych jednostek, w których jednostka posiada zaangażowanie w kapitale","Receivables from other entities, where this company owns a capital share","*missing*"]
[null,null,null,"z tytułu dostaw i usług, o okresie spłaty:",null,null,null,null,2280,"z tytułu dostaw i usług, o okresie spłaty:","trade receivables, maturing:","*missing*"]
[null,null,null,"do 12 miesięcy",null,null,null,null,2285,"do 12 miesięcy","up to 12 months","*missing*"]
[null,null,null,"powyżej 12 miesięcy",null,null,null,null,2290,"powyżej 12 miesięcy","above 12 months","*missing*"]
[null,null,null,"inne",null,null,null,null,2295,"inne","other","*missing*"]
[null,null,null,"Należności od pozostałych jednostek",null,null,null,null,2300,"Należności od pozostałych jednostek","Receivables from other entities","*missing*"]
[null,null,null,{"$f":"OFFSET(I485,0,WybranyJezyk)","v":"z tytułu dostaw i usług, o okresie spłaty:"},null,null,null,null,2305,"z tytułu dostaw i usług, o okresie spłaty:","trade receivables, maturing:","*missing*"]
[null,null,null,"do 12 miesięcy",null,null,null,null,2310,"do 12 miesięcy","up to 12 months","*missing*"]
[null,null,null,"powyżej 12 miesięcy",null,null,null,null,2315,"powyżej 12 miesięcy","above 12 months","*missing*"]
[null,null,null,"z tytułu podatków, dotacji, ceł, ubezpieczeń społecznych i zdrowotnych oraz innych tytułów publicznoprawnych",null,null,null,null,2320,"z tytułu podatków, dotacji, ceł, ubezpieczeń społecznych i zdrowotnych oraz innych tytułów publicznoprawnych","receivables from tax, subsidy, customs, social security and other benefits","*missing*"]
[null,null,null,"inne",null,null,null,null,2325,"inne","other","*missing*"]
[null,null,null,"dochodzone na drodze sądowej",null,null,null,null,2330,"dochodzone na drodze sądowej","claimed at court","*missing*"]
[null,null,null,"Inwestycje krótkoterminowe",null,null,null,null,2335,"Inwestycje krótkoterminowe","Short-term investments","*missing*"]
[null,null,null,"Krótkoterminowe aktywa finansowe",null,null,null,null,2340,"Krótkoterminowe aktywa finansowe","Short-term financial assets","*missing*"]
[null,null,null,"w jednostkach powiązanych",null,null,null,null,2345,"w jednostkach powiązanych","in related parties","*missing*"]
[null,null,null,"udziały lub akcje",null,null,null,null,2350,"udziały lub akcje","shares","*missing*"]
[null,null,null,"inne papiery wartościowe",null,null,null,null,2355,"inne papiery wartościowe","other securities","*missing*"]
[null,null,null,"udzielone pożyczki",null,null,null,null,2360,"udzielone pożyczki","loans granted","*missing*"]
[null,null,null,"inne krótkoterminowe aktywa finansowe",null,null,null,null,2365,"inne krótkoterminowe aktywa finansowe","other short-term financial assets","*missing*"]
[null,null,null,"w pozostałych jednostkach",null,null,null,null,2370,"w pozostałych jednostkach","in other entities","*missing*"]
[null,null,null,"udziały lub akcje",null,null,null,null,2375,"udziały lub akcje","shares","*missing*"]
[null,null,null,"inne papiery wartościowe",null,null,null,null,2380,"inne papiery wartościowe","other securities","*missing*"]
[null,null,null,"udzielone pożyczki",null,null,null,null,2385,"udzielone pożyczki","loans granted","*missing*"]
[null,null,null,"inne krótkoterminowe aktywa finansowe",null,null,null,null,2390,"inne krótkoterminowe aktywa finansowe","other short-term financial assets","*missing*"]
[null,null,null,"środki pieniężne i inne aktywa pieniężne",null,null,null,null,2395,"środki pieniężne i inne aktywa pieniężne","cash and other pecuniary assets","*missing*"]
[null,null,null,"środki pieniężne w kasie i na rachunkach",null,null,null,null,2400,"środki pieniężne w kasie i na rachunkach","cash in hand and at bank","*missing*"]
[null,null,null,"inne środki pieniężne",null,null,null,null,2405,"inne środki pieniężne","other cash","*missing*"]
[null,null,null,"inne aktywa pieniężne",null,null,null,null,2410,"inne aktywa pieniężne","other pecuniary assets","*missing*"]
[null,null,null,"Inne inwestycje krótkoterminowe",null,null,null,null,2415,"Inne inwestycje krótkoterminowe","Other short-term investments","*missing*"]
[null,null,null,"Krótkoterminowe rozliczenia międzyokresowe",null,null,null,null,2420,"Krótkoterminowe rozliczenia międzyokresowe","Short-term prepayments","*missing*"]
[null,null,null,"w tym: aktywa z tytułu niezakończonych umów budowlanych",null,null,null,null,2421,"w tym: aktywa z tytułu niezakończonych umów budowlanych","including: prepayments for pending construction contracts","*missing*"]
[null,null,null,"Należne wpłaty na kapitał (fundusz) podstawowy",null,null,null,null,2425,"Należne wpłaty na kapitał (fundusz) podstawowy","Called up share capital","*missing*"]
[null,null,null,"Udziały (akcje) własne",null,null,null,null,2430,"Udziały (akcje) własne","Own shares","*missing*"]
[null,null,null,"Aktywa razem (suma pozycji A, B, C i D)",null,null,null,null,2435,"Aktywa razem (suma pozycji A, B, C i D)","Total assets (sum of A, B, C, and D)","*missing*"]
[null,null,"Pasywa:",null,null,null,null,"Pasywa:",2440]
[null,null,null,{"$f":"OFFSET(I514,0,WybranyJezyk)","v":"Pasywa"},null,null,null,null,2445,"Pasywa","Liabilities and Equity","*missing*"]
[null,null,null,"Kapitał (fundusz) własny",null,null,null,null,2450,"Kapitał (fundusz) własny","Equity","*missing*"]
[null,null,null,"Kapitał (fundusz) podstawowy",null,null,null,null,2455,"Kapitał (fundusz) podstawowy","Share capital","*missing*"]
[null,null,null,"Kapitał (fundusz) zapasowy, w tym:",null,null,null,null,2460,"Kapitał (fundusz) zapasowy, w tym:","Supplementary capital, including:","*missing*"]
[null,null,null,"nadwyżka wartości sprzedaży (wartości emisyjnej) nad wartością nominalną udziałów (akcji)",null,null,null,null,2465,"nadwyżka wartości sprzedaży (wartości emisyjnej) nad wartością nominalną udziałów (akcji)","excess of the actual share values over their nominal values","*missing*"]
[null,null,null,"kwota zysku wypracowanego w latach przed opodatkowaniem ryczałtem",null,null,null,null,2466,"kwota zysku wypracowanego w latach przed opodatkowaniem ryczałtem","amount of profit earned in the years before flat rate taxation","*missing*"]
[null,null,null,"Kapitał (fundusz) z aktualizacji wyceny, w tym:",null,null,null,null,2470,"Kapitał (fundusz) z aktualizacji wyceny, w tym:","Revaluation reserve, including:","*missing*"]
[null,null,null,"z tytułu aktualizacji wartości godziwej",null,null,null,null,2475,"z tytułu aktualizacji wartości godziwej","fair value adjustments","*missing*"]
[null,null,null,"Pozostałe kapitały (fundusze) rezerwowe, w tym:",null,null,null,null,2480,"Pozostałe kapitały (fundusze) rezerwowe, w tym:","Other reserve capitals, including:","*missing*"]
[null,null,null,"tworzone zgodnie z umową (statutem) spółki",null,null,null,null,2485,"tworzone zgodnie z umową (statutem) spółki","created according the company (statute) rules","*missing*"]
[null,null,null,"na udziały (akcje) własne",null,null,null,null,2490,"na udziały (akcje) własne","for own shares","*missing*"]
[null,null,null,"kwota zysku wypracowanego w latach przed opodatkowaniem ryczałtem",null,null,null,null,2491,{"$f":"J519","v":"kwota zysku wypracowanego w latach przed opodatkowaniem ryczałtem"},{"$f":"K519","v":"amount of profit earned in the years before flat rate taxation"},"*missing*"]
[null,null,null,"Zysk (strata) z lat ubiegłych, w tym:",null,null,null,null,2495,"Zysk (strata) z lat ubiegłych, w tym:","Previous years' profit (loss), including:","*missing*"]
[null,null,null,"kwota niepodzielonych zysków w latach przed opodatkowaniem ryczałtem",null,null,null,null,2496,"kwota niepodzielonych zysków w latach przed opodatkowaniem ryczałtem","amount of undistributed profits  before introduction of the flat rate taxation","*missing*"]
[null,null,null,"kwota niepokrytych strat poniesionych w latach przed opodatkowaniem ryczałtem",null,null,null,null,2497,"kwota niepokrytych strat poniesionych w latach przed opodatkowaniem ryczałtem","amount of uncovered losses incurred before introduction of the flat rate taxation","*missing*"]
[null,null,null,"Zysk (strata) netto",null,null,null,null,2500,"Zysk (strata) netto","Net profit (loss)","*missing*"]
[null,null,null,"Odpisy z zysku netto w ciągu roku obrotowego (wielkość ujemna)",null,null,null,null,2505,"Odpisy z zysku netto w ciągu roku obrotowego (wielkość ujemna)","Write-off on net profit during the financial year (negative value)","*missing*"]
[null,null,null,"Zobowiązania i rezerwy na zobowiązania",null,null,null,null,2510,"Zobowiązania i rezerwy na zobowiązania","Liabilities and provisions for liabilities","*missing*"]
[null,null,null,"Rezerwy na zobowiązania",null,null,null,null,2515,"Rezerwy na zobowiązania","Provisions for liabilities","*missing*"]
[null,null,null,"Rezerwa z tytułu odroczonego podatku dochodowego",null,null,null,null,2520,"Rezerwa z tytułu odroczonego podatku dochodowego","Provision for deferred income tax","*missing*"]
[null,null,null,"Rezerwa na świadczenia emerytalne i podobne",null,null,null,null,2525,"Rezerwa na świadczenia emerytalne i podobne","Provision for retirement and similar benefits","*missing*"]
[null,null,null,"długoterminowa",null,null,null,null,2530,"długoterminowa","long-term","*missing*"]
[null,null,null,"krótkoterminowa",null,null,null,null,2535,"krótkoterminowa","short-term","*missing*"]
[null,null,null,"Pozostałe rezerwy",null,null,null,null,2540,"Pozostałe rezerwy","Other provisions","*missing*"]
[null,null,null,"długoterminowe",null,null,null,null,2545,"długoterminowe","long-term","*missing*"]
[null,null,null,"krótkoterminowe",null,null,null,null,2550,"krótkoterminowe","short-term","*missing*"]
[null,null,null,"Zobowiązania długoterminowe",null,null,null,null,2555,"Zobowiązania długoterminowe","Long-term liabilities","*missing*"]
[null,null,null,"Wobec jednostek powiązanych",null,null,null,null,2560,"Wobec jednostek powiązanych","To related parties","*missing*"]
[null,null,null,"Wobec pozostałych jednostek, w których jednostka posiada zaangażowanie w kapitale",null,null,null,null,2565,"Wobec pozostałych jednostek, w których jednostka posiada zaangażowanie w kapitale","To other entities, where this company owns a capital share","*missing*"]
[null,null,null,"Wobec pozostałych jednostek",null,null,null,null,2570,"Wobec pozostałych jednostek","To other entities","*missing*"]
[null,null,null,"kredyty i pożyczki",null,null,null,null,2575,"kredyty i pożyczki","credits and loans","*missing*"]
[null,null,null,"z tytułu emisji dłużnych papierów wartościowych",null,null,null,null,2580,"z tytułu emisji dłużnych papierów wartościowych","arising from issuance of debt securities","*missing*"]
[null,null,null,"inne zobowiązania finansowe",null,null,null,null,2585,"inne zobowiązania finansowe","other financial liabilities","*missing*"]
[null,null,null,"zobowiązania wekslowe",null,null,null,null,2590,"zobowiązania wekslowe","bill-of-exchange liabilities","*missing*"]
[null,null,"*","inne",null,null,null,"*",2595,"inne","other","*missing*"]
[null,null,null,"Pasywa (c.d. \"",null,null,null,null,2600,"Pasywa (c.d. \"","Liabilities and Equity (cont. '","*missing*"]
[null,null,null,{"$f":"OFFSET(I550,0,WybranyJezyk)","v":"Zobowiązania krótkoterminowe"},null,null,null,null,2605,"Zobowiązania krótkoterminowe","Short-term liabilities","*missing*"]
[null,null,null,"Zobowiązania wobec jednostek powiązanych",null,null,null,null,2610,"Zobowiązania wobec jednostek powiązanych","to related parties","*missing*"]
[null,null,null,"z tytułu dostaw i usług, o okresie wymagalności:",null,null,null,null,2615,"z tytułu dostaw i usług, o okresie wymagalności:","trade liabilities, maturing:","*missing*"]
[null,null,null,"do 12 miesięcy",null,null,null,null,2620,"do 12 miesięcy","up to 12 months","*missing*"]
[null,null,null,"powyżej 12 miesięcy",null,null,null,null,2625,"powyżej 12 miesięcy","above 12 months","*missing*"]
[null,null,null,"inne",null,null,null,null,2630,"inne","other","*missing*"]
[null,null,null,"Zobowiązania wobec pozostałych jednostek, w których jednostka posiada zaangażowanie w kapitale",null,null,null,null,2635,"Zobowiązania wobec pozostałych jednostek, w których jednostka posiada zaangażowanie w kapitale","to other entities, where this company owns a capital share","*missing*"]
[null,null,null,"z tytułu dostaw i usług, o okresie wymagalności:",null,null,null,null,2640,"z tytułu dostaw i usług, o okresie wymagalności:","trade liabilities, maturing:","*missing*"]
[null,null,null,"do 12 miesięcy",null,null,null,null,2645,"do 12 miesięcy","up to 12 months","*missing*"]
[null,null,null,"powyżej 12 miesięcy",null,null,null,null,2650,"powyżej 12 miesięcy","above 12 months","*missing*"]
[null,null,null,"inne",null,null,null,null,2655,"inne","other","*missing*"]
[null,null,null,"Zobowiązania wobec pozostałych jednostek",null,null,null,null,2660,"Zobowiązania wobec pozostałych jednostek","to other entities","*missing*"]
[null,null,null,"kredyty i pożyczki",null,null,null,null,2665,"kredyty i pożyczki","credits and loans","*missing*"]
[null,null,null,"z tytułu emisji dłużnych papierów wartościowych",null,null,null,null,2670,"z tytułu emisji dłużnych papierów wartościowych","arising from issuance of debt securities","*missing*"]
[null,null,null,"inne zobowiązania finansowe",null,null,null,null,2675,"inne zobowiązania finansowe","other financial liabilities","*missing*"]
[null,null,null,"z tytułu dostaw i usług, o okresie wymagalności:",null,null,null,null,2680,"z tytułu dostaw i usług, o okresie wymagalności:","trade liabilities, maturing:","*missing*"]
[null,null,null,"do 12 miesięcy",null,null,null,null,2685,"do 12 miesięcy","up to 12 months","*missing*"]
[null,null,null,"powyżej 12 miesięcy",null,null,null,null,2690,"powyżej 12 miesięcy","above 12 months","*missing*"]
[null,null,null,"zaliczki otrzymane na dostawy i usługi",null,null,null,null,2695,"zaliczki otrzymane na dostawy i usługi","received advances for deliveries","*missing*"]
[null,null,null,"zobowiązania wekslowe",null,null,null,null,2700,"zobowiązania wekslowe","bill-of-exchange liabilities","*missing*"]
[null,null,null,"z tytułu podatków, ceł, ubezpieczeń społecznych i zdrowotnych oraz innych tytułów publicznoprawnych",null,null,null,null,2705,"z tytułu podatków, ceł, ubezpieczeń społecznych i zdrowotnych oraz innych tytułów publicznoprawnych","tax, customs, insurance and other liabilities","*missing*"]
[null,null,null,"z tytułu wynagrodzeń",null,null,null,null,2710,"z tytułu wynagrodzeń","payroll liabilities","*missing*"]
[null,null,null,"inne",null,null,null,null,2715,"inne","other","*missing*"]
[null,null,null,"Fundusze specjalne",null,null,null,null,2720,"Fundusze specjalne","Special funds","*missing*"]
[null,null,null,"Rozliczenia międzyokresowe",null,null,null,null,2725,"Rozliczenia międzyokresowe","Accruals","*missing*"]
[null,null,null,"Ujemna wartość firmy",null,null,null,null,2730,"Ujemna wartość firmy","Negative goodwill","*missing*"]
[null,null,null,"Inne rozliczenia międzyokresowe",null,null,null,null,2735,"Inne rozliczenia międzyokresowe","Other accruals","*missing*"]
[null,null,null,"długoterminowe",null,null,null,null,2740,"długoterminowe","long-term","*missing*"]
[null,null,null,"krótkoterminowe",null,null,null,null,2745,"krótkoterminowe","short-term","*missing*"]
[null,null,null,"rozliczenia międzyokresowe umów budowlanych",null,null,null,null,2746,"rozliczenia międzyokresowe umów budowlanych","accruals of construction contracts","*missing*"]
[null,null,"Jednostka Op","Pasywa razem (suma pozycji A i B)",null,null,null,"Jednostka Op",2750,"Pasywa razem (suma pozycji A i B)","Total equity and liabilities (sum of A and B)","*missing*"]
[null,null,"Aktywa:",null,null,null,null,"Aktywa:",2755]
[null,null,null,null,null,null,null,null,2760]
[null,null,null,{"$f":"OFFSET(I583,0,WybranyJezyk)","v":"Należne wpłaty na fundusz statutowy"},null,null,null,null,2765,"Należne wpłaty na fundusz statutowy","Called up mission fund","*missing*"]
[null,null,"Pasywa:",{"$f":"OFFSET(I584,0,WybranyJezyk)","v":"Aktywa razem (suma pozycji A, B, i C)"},null,null,null,"Pasywa:",2770,"Aktywa razem (suma pozycji A, B, i C)","Total assets (sum of A, B, and C)","*missing*"]
[null,null,null,null,null,null,null,null,2775]
[null,null,null,{"$f":"OFFSET(I586,0,WybranyJezyk)","v":"Fundusz własny"},null,null,null,null,2780,"Fundusz własny","Own fund","*missing*"]
[null,null,null,{"$f":"OFFSET(I587,0,WybranyJezyk)","v":"Fundusz statutowy"},null,null,null,null,2785,"Fundusz statutowy","Mission fund","*missing*"]
[null,null,"Jednostka Mikro",{"$f":"OFFSET(I588,0,WybranyJezyk)","v":"Pozostałe fundusze"},null,null,null,"Jednostka Mikro",2790,"Pozostałe fundusze","Other funds","*missing*"]
[null,null,"Aktywa:",null,null,null,null,"Aktywa:",2795]
[null,null,null,null,null,null,null,null,2800]
[null,null,"Pasywa:",{"$f":"OFFSET(I591,0,WybranyJezyk)","v":"Aktywa trwałe, w tym środki trwałe"},null,null,null,null,2805,"Aktywa trwałe, w tym środki trwałe","Fixed assets","*missing*"]
[null,null,"Skonsolidowana",null,null,null,null,"Pasywa:",2810]
[null,null,"Aktywa:",null,null,null,null,"Skonsolidowana",2815]
[null,null,null,{"$f":"OFFSET(I594,0,WybranyJezyk)","v":"Wartość firmy jednostek podporządkowanych"},null,null,null,"Aktywa:",2820,"Wartość firmy jednostek podporządkowanych","Subsidiaries goodwill","*missing*"]
[null,null,null,"Wartość firmy - jednostki zależne",null,null,null,null,2825,"Wartość firmy - jednostki zależne","godwill of related parties","*missing*"]
[null,null,null,"Wartość firmy - jednostki współzależne",null,null,null,null,2830,"Wartość firmy - jednostki współzależne","godwill of co-related parties","*missing*"]
[null,null,null,"w jednostkach zależnych, współzależnych niewycenianych metodą konsolidacji pełnej lub metodą proporcjonalną",null,null,null,null,2835,"w jednostkach zależnych, współzależnych niewycenianych metodą konsolidacji pełnej lub metodą proporcjonalną","in related and co-related parties, consolidated using different methods than the acquisition or proportional method","*missing*"]
[null,null,null,"w jednostkach zależnych, współzależnych i stowarzyszonych wycenianych metodą praw własności",null,null,null,null,2840,"w jednostkach zależnych, współzależnych i stowarzyszonych wycenianych metodą praw własności","in related, co-related and associated parties, consolidated using the equity method","*missing*"]
[null,null,null,"w jednostkach zależnych i współzależnych",null,null,null,null,2845,"w jednostkach zależnych i współzależnych","in related and co-related parties","*missing*"]
[null,null,null,"w jednostkach stowarzyszonych",null,null,null,null,2850,"w jednostkach stowarzyszonych","in associated parties","*missing*"]
[null,null,null,"Aktywa (c.d.)",null,null,null,null,2855,"Aktywa (c.d.)","Assets (cont. '","*missing*"]
[null,null,"Pasywa:",null,null,null,null,"Pasywa:",2860]
[null,null,null,{"$f":"OFFSET(I603,0,WybranyJezyk)","v":"Różnice kursowe z przeliczenia"},null,null,null,null,2865,"Różnice kursowe z przeliczenia","Currency translation profit/loss","*missing*"]
[null,null,null,"Kapitały mniejszości",null,null,null,null,2870,"Kapitały mniejszości","Minority shares","*missing*"]
[null,null,null,"Ujemna wartość jednostek podporządkowanych",null,null,null,null,2875,"Ujemna wartość jednostek podporządkowanych","Negative goodwill of subsidiaries","*missing*"]
[null,null,null,"Ujemna wartość - jednostki zależne",null,null,null,null,2880,"Ujemna wartość - jednostki zależne","Negative goodwill of related parties","*missing*"]
[null,null,null,"Ujemna wartość - jednostki współzależne",null,null,null,null,2885,"Ujemna wartość - jednostki współzależne","Negative goodwill of co-related parties","*missing*"]
[null,null,null,"Pasywa razem (suma pozycji A i B i C i D)",null,null,null,null,2890,"Pasywa razem (suma pozycji A i B i C i D)","Total equity and liabilities (sum of A, B, C, D)","*missing*"]
[null,null,null,null,null,null,null,null,2895]
[null,null,null,null,null,null,null,null,2900]
[null,null,null,{"$f":"OFFSET(I611,0,WybranyJezyk)","v":"zobowiązania z tytułu kredytów i pożyczek"},null,null,null,null,2905,"zobowiązania z tytułu kredytów i pożyczek","credits and loans","*missing*"]
[null,null,"RZiS:",null,null,null,null,"RZiS:",2910]
[null,null,null,{"$f":"OFFSET(I613,0,WybranyJezyk)","v":"Rachunek zysków i strat"},null,null,null,null,2915,"Rachunek zysków i strat","Profit or Loss Statement","*missing*"]
[null,null,null,{"$f":"OFFSET(I614,0,WybranyJezyk)","v":"RZiS"},null,null,null,null,2920,"RZiS","P&L","*missing*"]
[null,null,"Jednostka Inna:",{"$f":"OFFSET(I615,0,WybranyJezyk)","v":"za rok:"},null,null,null,"Jednostka Inna:",2925,"za rok:","for:","*missing*"]
[null,null,"Wariant porównawczy",null,null,null,null,"Wariant porównawczy",2930]
[null,null,null,{"$f":"OFFSET(I617,0,WybranyJezyk)","v":"wariant porównawczy"},null,null,null,null,2935,"wariant porównawczy","comparative variant","*missing*"]
[null,null,null,"Przychody netto ze sprzedaży i zrównane z nimi, w tym:",null,null,null,null,2940,"Przychody netto ze sprzedaży i zrównane z nimi, w tym:","Net revenues from sales and equivalent, including:","*missing*"]
[null,null,null,"od jednostek powiązanych",null,null,null,null,2945,"od jednostek powiązanych","revenues from related parties","*missing*"]
[null,null,null,"Przychody netto ze sprzedaży produktów",null,null,null,null,2950,"Przychody netto ze sprzedaży produktów","Net revenues from sales of products","*missing*"]
[null,null,null,"Zmiana stanu produktów (zwiększenie – kwota dodatnia, zmniejszenie – kwota ujemna)",null,null,null,null,2955,"Zmiana stanu produktów (zwiększenie – kwota dodatnia, zmniejszenie – kwota ujemna)","Change in the balance of products (increase - positive amount, decrease - negative amount)","*missing*"]
[null,null,null,"w tym: obiekty w zabudowie",null,null,null,null,2956,"w tym: obiekty w zabudowie","including: objects under construction","*missing*"]
[null,null,null,"Koszt wytworzenia produktów na własne potrzeby jednostki",null,null,null,null,2960,"Koszt wytworzenia produktów na własne potrzeby jednostki","Manufacturing cost of products for internal purposes","*missing*"]
[null,null,null,"Przychody netto ze sprzedaży towarów",null,null,null,null,2965,"Przychody netto ze sprzedaży towarów","Net revenues from sales of goods","*missing*"]
[null,null,null,"Koszty działalności operacyjnej",null,null,null,null,2970,"Koszty działalności operacyjnej","Operating expenses","*missing*"]
[null,null,null,"Amortyzacja",null,null,null,null,2975,"Amortyzacja","Amortisation and depreciation","*missing*"]
[null,null,null,"Zużycie materiałów i energii",null,null,null,null,2980,"Zużycie materiałów i energii","Consumption of materials and energy","*missing*"]
[null,null,null,"Usługi obce",null,null,null,null,2985,"Usługi obce","External services","*missing*"]
[null,null,null,"Podatki i opłaty, w tym:",null,null,null,null,2990,"Podatki i opłaty, w tym:","Taxes and charges, including:","*missing*"]
[null,null,null,"podatek akcyzowy",null,null,null,null,2995,"podatek akcyzowy","excise duty","*missing*"]
[null,null,null,"Wynagrodzenia",null,null,null,null,3000,"Wynagrodzenia","Payroll","*missing*"]
[null,null,null,"Ubezpieczenia społeczne i inne świadczenia, w tym:",null,null,null,null,3005,"Ubezpieczenia społeczne i inne świadczenia, w tym:","Social security and other benefits, includng:","*missing*"]
[null,null,null,"emerytalne",null,null,null,null,3010,"emerytalne","retirement benefits","*missing*"]
[null,null,null,"Pozostałe koszty rodzajowe",null,null,null,null,3015,"Pozostałe koszty rodzajowe","Other costs by type","*missing*"]
[null,null,null,"Wartość sprzedanych towarów",null,null,null,null,3020,"Wartość sprzedanych towarów","Value of goods sold","*missing*"]
[null,null,null,"Zysk (strata) ze sprzedaży (A–B)",null,null,null,null,3025,"Zysk (strata) ze sprzedaży (A–B)","Profit (loss) on sales (A-B)","*missing*"]
[null,null,null,"Pozostałe przychody operacyjne",null,null,null,null,3030,"Pozostałe przychody operacyjne","Remaining operating revenues","*missing*"]
[null,null,null,"Zysk z tytułu rozchodu niefinansowych aktywów trwałych",null,null,null,null,3035,"Zysk z tytułu rozchodu niefinansowych aktywów trwałych","Gain on disposal of non-financial fixed assets","*missing*"]
[null,null,null,"Dotacje",null,null,null,null,3040,"Dotacje","Subsidies","*missing*"]
[null,null,null,"Aktualizacja wartości aktywów niefinansowych",null,null,null,null,3045,"Aktualizacja wartości aktywów niefinansowych","Revaluation of non-financial assets","*missing*"]
[null,null,null,"Inne przychody operacyjne",null,null,null,null,3050,"Inne przychody operacyjne","Other operating revenues","*missing*"]
[null,null,null,"Pozostałe koszty operacyjne",null,null,null,null,3055,"Pozostałe koszty operacyjne","Remaining operating expenses","*missing*"]
[null,null,null,"Strata z tytułu rozchodu niefinansowych aktywów trwałych",null,null,null,null,3060,"Strata z tytułu rozchodu niefinansowych aktywów trwałych","Loss on disposal of non-financial fixed assets","*missing*"]
[null,null,null,"Aktualizacja wartości aktywów niefinansowych",null,null,null,null,3065,"Aktualizacja wartości aktywów niefinansowych","Revaluation of non-financial assets","*missing*"]
[null,null,null,"Inne koszty operacyjne",null,null,null,null,3070,"Inne koszty operacyjne","Other operating expenses","*missing*"]
[null,null,null,"Zysk (strata) z działalności operacyjnej (C+D–E)",null,null,null,null,3075,"Zysk (strata) z działalności operacyjnej (C+D–E)","Profit (loss) on operating activities (C+D-E)","*missing*"]
[null,null,null,"Przychody finansowe",null,null,null,null,3080,"Przychody finansowe","Financial revenues","*missing*"]
[null,null,null,"Dywidendy i udziały w zyskach, w tym:",null,null,null,null,3085,"Dywidendy i udziały w zyskach, w tym:","Dividend and profit sharing, including:","*missing*"]
[null,null,null,"od jednostek powiązanych, w tym:",null,null,null,null,3090,"od jednostek powiązanych, w tym:","from related parties, including:","*missing*"]
[null,null,null,{"$f":"OFFSET(I650,0,WybranyJezyk)","v":"w których jednostka posiada zaangażowanie w kapitale"},null,null,null,null,3095,"w których jednostka posiada zaangażowanie w kapitale","entities, which shares are owned by this company","*missing*"]
[null,null,null,"od jednostek pozostałych, w tym:",null,null,null,null,3100,"od jednostek pozostałych, w tym:","from other entities, including:","*missing*"]
[null,null,null,"w których jednostka posiada zaangażowanie w kapitale",null,null,null,null,3105,"w których jednostka posiada zaangażowanie w kapitale","entities, which shares are owned by this company","*missing*"]
[null,null,null,"Odsetki, w tym:",null,null,null,null,3110,"Odsetki, w tym:","Interest, including:","*missing*"]
[null,null,null,"od jednostek powiązanych",null,null,null,null,3115,"od jednostek powiązanych","interest from related parties","*missing*"]
[null,null,null,"Zysk z tytułu rozchodu aktywów finansowych, w tym:",null,null,null,null,3120,"Zysk z tytułu rozchodu aktywów finansowych, w tym:","Gain on disposal of financial assets, including:","*missing*"]
[null,null,null,"w jednostkach powiązanych",null,null,null,null,3125,"w jednostkach powiązanych","gain in related parties","*missing*"]
[null,null,null,"Aktualizacja wartości aktywów finansowych",null,null,null,null,3130,"Aktualizacja wartości aktywów finansowych","Revaluation of financial assets","*missing*"]
[null,null,null,"Inne",null,null,null,null,3135,"Inne","Other","*missing*"]
[null,null,null,"Koszty finansowe",null,null,null,null,3140,"Koszty finansowe","Financial expenses","*missing*"]
[null,null,null,"Odsetki, w tym:",null,null,null,null,3145,"Odsetki, w tym:","Interest, including:","*missing*"]
[null,null,null,"dla jednostek powiązanych",null,null,null,null,3150,"dla jednostek powiązanych","interest for related parties","*missing*"]
[null,null,null,"Strata z tytułu rozchodu aktywów finansowych, w tym:",null,null,null,null,3155,"Strata z tytułu rozchodu aktywów finansowych, w tym:","Loss on disposal of financial assets, including:","*missing*"]
[null,null,null,"w jednostkach powiązanych",null,null,null,null,3160,"w jednostkach powiązanych","losses in related parties","*missing*"]
[null,null,null,"Aktualizacja wartości aktywów finansowych",null,null,null,null,3165,"Aktualizacja wartości aktywów finansowych","Revaluation of financial assets","*missing*"]
[null,null,null,"Inne",null,null,null,null,3170,"Inne","Other","*missing*"]
[null,null,null,"Zysk (strata) brutto (F+G–H)",null,null,null,null,3175,"Zysk (strata) brutto (F+G–H)","Profit (loss) on business activities (F+G-H)","*missing*"]
[null,null,null,"Podatek dochodowy",null,null,null,null,3180,"Podatek dochodowy","Income tax","*missing*"]
[null,null,null,"podatek odroczony",null,null,null,null,3182,"podatek odroczony","deferred tax","*missing*"]
[null,null,null,"Pozostałe obowiązkowe zmniejszenia zysku (zwiększenia straty)",null,null,null,null,3185,"Pozostałe obowiązkowe zmniejszenia zysku (zwiększenia straty)","Other statutory reductions in profit (increases in loss)","*missing*"]
[null,null,"Wariant kalkulacyjny","Zysk (strata) netto (I–J–K)",null,null,null,"Wariant kalkulacyjny",3190,"Zysk (strata) netto (I–J–K)","Net profit (loss) (I-J-K)","*missing*"]
[null,null,null,"wariant kalkulacyjny",null,null,null,null,3195,"wariant kalkulacyjny","calculation variant","*missing*"]
[null,null,null,"Przychody netto ze sprzedaży produktów i towarów, w tym:",null,null,null,null,3200,"Przychody netto ze sprzedaży produktów i towarów, w tym:","Net revenues from sales of products and goods, including:","*missing*"]
[null,null,null,"od jednostek powiązanych",null,null,null,null,3205,"od jednostek powiązanych","revenues from related parties","*missing*"]
[null,null,null,"Przychody netto ze sprzedaży produktów",null,null,null,null,3210,"Przychody netto ze sprzedaży produktów","Net revenues from sales of products","*missing*"]
[null,null,null,"Przychody netto ze sprzedaży towarów",null,null,null,null,3215,"Przychody netto ze sprzedaży towarów","Net revenues from sales of goods","*missing*"]
[null,null,null,"Koszty sprzedanych produktów i towarów, w tym:",null,null,null,null,3220,"Koszty sprzedanych produktów i towarów, w tym:","Cost of products and goods sold, including:","*missing*"]
[null,null,null,"jednostkom powiązanym",null,null,null,null,3225,"jednostkom powiązanym","products sold to related parties","*missing*"]
[null,null,null,"Koszt wytworzenia sprzedanych produktów",null,null,null,null,3230,"Koszt wytworzenia sprzedanych produktów","Manufacturing cost of products sold","*missing*"]
[null,null,null,"Wartość sprzedanych towarów",null,null,null,null,3235,"Wartość sprzedanych towarów","Value of goods sold","*missing*"]
[null,null,null,"Zysk (strata) brutto ze sprzedaży (A–B)",null,null,null,null,3240,"Zysk (strata) brutto ze sprzedaży (A–B)","Gross profit (loss) on sales (A-B)","*missing*"]
[null,null,null,"Koszty sprzedaży",null,null,null,null,3245,"Koszty sprzedaży","Selling costs","*missing*"]
[null,null,null,"Koszty ogólnego zarządu",null,null,null,null,3250,"Koszty ogólnego zarządu","General and administrative costs","*missing*"]
[null,null,null,{"$f":"OFFSET(I683,0,WybranyJezyk)","v":"Zysk (strata) ze sprzedaży (C–D–E)"},null,null,null,null,3255,"Zysk (strata) ze sprzedaży (C–D–E)","Profit (loss) on sales (C-D-E)","*missing*"]
[null,null,null,"Pozostałe przychody operacyjne",null,null,null,null,3260,"Pozostałe przychody operacyjne","Other operating revenues","*missing*"]
[null,null,null,"Zysk z tytułu rozchodu niefinansowych aktywów trwałych",null,null,null,null,3265,"Zysk z tytułu rozchodu niefinansowych aktywów trwałych","Gain on disposal of non-financial fixed assets","*missing*"]
[null,null,null,"Dotacje",null,null,null,null,3270,"Dotacje","Subsidies","*missing*"]
[null,null,null,"Aktualizacja wartości aktywów niefinansowych",null,null,null,null,3275,"Aktualizacja wartości aktywów niefinansowych","Revaluation of non-financial fixed assets","*missing*"]
[null,null,null,"Inne przychody operacyjne",null,null,null,null,3280,"Inne przychody operacyjne","Other operating revenues","*missing*"]
[null,null,null,"Pozostałe koszty operacyjne",null,null,null,null,3285,"Pozostałe koszty operacyjne","Other operating expenses","*missing*"]
[null,null,null,"Strata z tytułu rozchodu niefinansowych aktywów trwałych",null,null,null,null,3290,"Strata z tytułu rozchodu niefinansowych aktywów trwałych","Loss on disposal of non-financial assets","*missing*"]
[null,null,null,"Aktualizacja wartości aktywów niefinansowych",null,null,null,null,3295,"Aktualizacja wartości aktywów niefinansowych","Revaluation of non-financial fixed assets","*missing*"]
[null,null,null,"Inne koszty operacyjne",null,null,null,null,3300,"Inne koszty operacyjne","Other operating expenses","*missing*"]
[null,null,null,"Zysk (strata) z działalności operacyjnej (F+G–H)",null,null,null,null,3305,"Zysk (strata) z działalności operacyjnej (F+G–H)","Profit (loss) on operating activities (F+G-H)","*missing*"]
[null,null,null,"Przychody finansowe",null,null,null,null,3310,"Przychody finansowe","Financial revenues","*missing*"]
[null,null,null,"Dywidendy i udziały w zyskach, w tym:",null,null,null,null,3315,"Dywidendy i udziały w zyskach, w tym:","Dividend and profit sharing, including:","*missing*"]
[null,null,null,"od jednostek powiązanych, w tym:",null,null,null,null,3320,"od jednostek powiązanych, w tym:","dividend from related parties, including:","*missing*"]
[null,null,null,"w których jednostka posiada zaangażowanie w kapitale",null,null,null,null,3325,"w których jednostka posiada zaangażowanie w kapitale","entities, which shares are owned by this company","*missing*"]
[null,null,null,"od jednostek pozostałych, w tym:",null,null,null,null,3330,"od jednostek pozostałych, w tym:","dividend from other entities, including:","*missing*"]
[null,null,null,"w których jednostka posiada zaangażowanie w kapitale",null,null,null,null,3335,"w których jednostka posiada zaangażowanie w kapitale","entities, which shares are owned by this company","*missing*"]
[null,null,null,"Odsetki, w tym:",null,null,null,null,3340,"Odsetki, w tym:","Interest, including:","*missing*"]
[null,null,null,"od jednostek powiązanych",null,null,null,null,3345,"od jednostek powiązanych","interest from related parties","*missing*"]
[null,null,null,"Zysk z tytułu rozchodu aktywów finansowych, w tym:",null,null,null,null,3350,"Zysk z tytułu rozchodu aktywów finansowych, w tym:","Gain on disposal of financial assets, including:","*missing*"]
[null,null,null,"w jednostkach powiązanych",null,null,null,null,3355,"w jednostkach powiązanych","gains from related parties","*missing*"]
[null,null,null,"Aktualizacja wartości aktywów finansowych",null,null,null,null,3360,"Aktualizacja wartości aktywów finansowych","Revaluation of financial assets","*missing*"]
[null,null,null,"Inne",null,null,null,null,3365,"Inne","Other","*missing*"]
[null,null,null,"Koszty finansowe",null,null,null,null,3370,"Koszty finansowe","Financial expenses","*missing*"]
[null,null,null,"Odsetki, w tym:",null,null,null,null,3375,"Odsetki, w tym:","Interest, including:","*missing*"]
[null,null,null,"dla jednostek powiązanych",null,null,null,null,3380,"dla jednostek powiązanych","interest for related parties","*missing*"]
[null,null,null,"Strata z tytułu rozchodu aktywów finansowych, w tym:",null,null,null,null,3385,"Strata z tytułu rozchodu aktywów finansowych, w tym:","Loss on disposal of financial assets, including:","*missing*"]
[null,null,null,"w jednostkach powiązanych",null,null,null,null,3390,"w jednostkach powiązanych","losses in related parties","*missing*"]
[null,null,null,"Aktualizacja wartości aktywów finansowych",null,null,null,null,3395,"Aktualizacja wartości aktywów finansowych","Revaluation of financial assets","*missing*"]
[null,null,null,"Inne",null,null,null,null,3400,"Inne","Other","*missing*"]
[null,null,null,"Zysk (strata) brutto (I+J–K)",null,null,null,null,3405,"Zysk (strata) brutto (I+J–K)","Profit (loss) on business activities (I+J-K)","*missing*"]
[null,null,null,"Podatek dochodowy",null,null,null,null,3410,"Podatek dochodowy","Income tax","*missing*"]
[null,null,null,"Pozostałe obowiązkowe zmniejszenia zysku (zwiększenia straty)",null,null,null,null,3415,"Pozostałe obowiązkowe zmniejszenia zysku (zwiększenia straty)","Other statutory reductions in profit (increases in loss)","*missing*"]
[null,null,null,"Zysk (strata) netto (L–M–N)",null,null,null,null,3420,"Zysk (strata) netto (L–M–N)","Net profit (loss) (L-M-N)","*missing*"]
[null,null,null,null,null,null,null,null,3425]
[null,null,"Jednostka Mała",{"$f":"OFFSET(I718,0,WybranyJezyk)","v":",  c.d. poprzedniej strony"},null,null,null,"Jednostka Mała",3430,",  c.d. poprzedniej strony",", cont. of previous page","*missing*"]
[null,null,null,null,null,null,null,null,3435]
[null,null,"Wariant kalkulacyjny",{"$f":"OFFSET(I720,0,WybranyJezyk)","v":"Dywidendy i udziały w zyskach od jednostek, w których jednostka posiada zaangażowanie w kapitale, w tym:"},null,null,null,"Wariant kalkulacyjny",3440,"Dywidendy i udziały w zyskach od jednostek, w których jednostka posiada zaangażowanie w kapitale, w tym:","Dividend and profit sharing from entities which shares are owned by this company, including:","*missing*"]
[null,null,null,null,null,null,null,null,3445]
[null,null,null,{"$f":"OFFSET(I722,0,WybranyJezyk)","v":"Zysk (strata) ze sprzedaży (A - B - C - D)"},null,null,null,null,3450,"Zysk (strata) ze sprzedaży (A - B - C - D)","Profit (loss) on sales (A-B-C-D)","*missing*"]
[null,null,null,{"$f":"OFFSET(I723,0,WybranyJezyk)","v":"Zysk (strata) brutto (E + F - G + H - I)"},null,null,null,null,3455,"Zysk (strata) brutto (E + F - G + H - I)","Profit (loss) on business activities (E+F-G+H-I)","*missing*"]
[null,null,"Wariant porównawczy",{"$f":"OFFSET(I724,0,WybranyJezyk)","v":"Zysk (strata) netto (J - K)"},null,null,null,"Wariant porównawczy",3460,"Zysk (strata) netto (J - K)","Net profit (loss) (J-K)","*missing*"]
[null,null,null,null,null,null,null,null,3465]
[null,null,null,{"$f":"OFFSET(I726,0,WybranyJezyk)","v":"Przychody netto ze sprzedaży"},null,null,null,null,3470,"Przychody netto ze sprzedaży","Net revenues from sales ","*missing*"]
[null,null,null,{"$f":"OFFSET(I727,0,WybranyJezyk)","v":"Pozostałe koszty, w tym:"},null,null,null,null,3475,"Pozostałe koszty, w tym:","Other expenses, including:","*missing*"]
[null,null,null,{"$f":"OFFSET(I728,0,WybranyJezyk)","v":"Zysk (strata) ze sprzedaży (A - B)"},null,null,null,null,3480,"Zysk (strata) ze sprzedaży (A - B)","Profit (loss) on sales (A-B)","*missing*"]
[null,null,null,{"$f":"OFFSET(I729,0,WybranyJezyk)","v":"Zysk (strata) brutto (C + D - E + F - G)"},null,null,null,null,3485,"Zysk (strata) brutto (C + D - E + F - G)","Profit (loss) on business activities (C+D-E+F-G)","*missing*"]
[null,null,null,{"$f":"OFFSET(I730,0,WybranyJezyk)","v":"Zysk (strata) netto (H - I)"},null,null,null,null,3490,"Zysk (strata) netto (H - I)","Net profit (loss) (H-I)","*missing*"]
[null,null,null,null,null,null,null,null,3495]
[null,null,"Skonsolidowana",null,null,null,null,"Skonsolidowana",3500]
[null,null,null,{"$f":"OFFSET(I733,0,WybranyJezyk)","v":"od jednostek powiązanych nieobjętych metodą konsolidacji pełnej"},null,null,null,null,3505,"od jednostek powiązanych nieobjętych metodą konsolidacji pełnej","in related parties consolidated using other method than acquisition","*missing*"]
[null,null,null,"Zysk (strata) na sprzedaży całości lub części udziałów jednostek podporządkowanych",null,null,null,null,3510,"Zysk (strata) na sprzedaży całości lub części udziałów jednostek podporządkowanych","Profit (loss) on subsidiary share sales","*missing*"]
[null,null,null,"Odpis wartości firmy",null,null,null,null,3515,"Odpis wartości firmy","Write-off on goodwill","*missing*"]
[null,null,null,"Odpis wartości firmy - jednostki zależne",null,null,null,null,3520,"Odpis wartości firmy - jednostki zależne","Write-off on goodwill - related parties","*missing*"]
[null,null,null,"Odpis wartości firmy - jednostki współzależne",null,null,null,null,3525,"Odpis wartości firmy - jednostki współzależne","Write-off on goodwill - co-related parties","*missing*"]
[null,null,null,"Odpis ujemnej wartości firmy",null,null,null,null,3530,"Odpis ujemnej wartości firmy","Write-off on negative goodwill","*missing*"]
[null,null,null,"Odpis ujemnej wartości firmy - jednostki zależne",null,null,null,null,3535,"Odpis ujemnej wartości firmy - jednostki zależne","Write-off on negative goodwill - related parties","*missing*"]
[null,null,null,"Odpis ujemnej wartości firmy - jednostki współzależne",null,null,null,null,3540,"Odpis ujemnej wartości firmy - jednostki współzależne","Write-off on negative goodwill - co-related parties","*missing*"]
[null,null,null,"Zysk (strata) z udziałów w jednostkach podporządkowanych wycenianych metodą praw własności",null,null,null,null,3545,"Zysk (strata) z udziałów w jednostkach podporządkowanych wycenianych metodą praw własności","Profit (loss) from shares in subsidiaries consolidated using the equity method","*missing*"]
[null,null,null,"Zyski (straty) mniejszości",null,null,null,null,3550,"Zyski (straty) mniejszości","Minority profit (loss)","*missing*"]
[null,null,"Wariant kalkulacyjny",null,null,null,null,"Wariant kalkulacyjny",3555]
[null,null,null,{"$f":"OFFSET(I744,0,WybranyJezyk)","v":"Zysk (strata) z działalności gospodarczej (I + J - K +/- L)"},null,null,null,null,3560,"Zysk (strata) z działalności gospodarczej (I + J - K +/- L)","Profit (loss) from business activities (I+J-K+/-L)","*missing*"]
[null,null,null,{"$f":"OFFSET(I745,0,WybranyJezyk)","v":"Zysk (strata) brutto (M - N + O +/- P)"},null,null,null,null,3565,"Zysk (strata) brutto (M - N + O +/- P)","Profit (loss) (M-N+O+/-P)","*missing*"]
[null,null,null,{"$f":"OFFSET(I746,0,WybranyJezyk)","v":"Zysk (strata) netto (R - S - T +/- U)"},null,null,null,null,3570,"Zysk (strata) netto (R - S - T +/- U)","Net profit (loss) (R-S-T+/-U)","*missing*"]
[null,null,"Wariant porównawczy",null,null,null,null,"Wariant porównawczy",3575]
[null,null,null,{"$f":"OFFSET(I748,0,WybranyJezyk)","v":"Zysk (strata) z działalności gospodarczej (F + G - H +/- I)"},null,null,null,null,3580,"Zysk (strata) z działalności gospodarczej (F + G - H +/- I)","Profit (loss) from business activities (F+G-H+/-I)","*missing*"]
[null,null,null,{"$f":"OFFSET(I749,0,WybranyJezyk)","v":"Zysk (strata) brutto (J - K + L +/- M)"},null,null,null,null,3585,"Zysk (strata) brutto (J - K + L +/- M)","Profit (loss) (J-K+L+/-M)","*missing*"]
[null,null,null,{"$f":"OFFSET(I750,0,WybranyJezyk)","v":"Zysk (strata) netto (N - O - P +/- R)"},null,null,null,null,3590,"Zysk (strata) netto (N - O - P +/- R)","Net profit (loss) (N-O-P+/-R)","*missing*"]
[null,null,"Jednostka Op",null,null,null,null,"Jednostka Op",3595]
[null,null,null,{"$f":"OFFSET(I752,0,WybranyJezyk)","v":"Przychody z działalności statutowej"},null,null,null,null,3600,"Przychody z działalności statutowej","Revenues from mission activities","*missing*"]
[null,null,null,"Przychody z nieodpłatnej działalności pożytku publicznego",null,null,null,null,3605,"Przychody z nieodpłatnej działalności pożytku publicznego","Revenues from non-profit, public benefit activities","*missing*"]
[null,null,null,"Przychody z odpłatnej działalności pożytku publicznego",null,null,null,null,3610,"Przychody z odpłatnej działalności pożytku publicznego","Revenues from paid public benefit activities","*missing*"]
[null,null,null,"Przychody z pozostałej działalności statutowej",null,null,null,null,3615,"Przychody z pozostałej działalności statutowej","Revenues from other mission activities","*missing*"]
[null,null,null,"Koszty działalnosci statutowej",null,null,null,null,3620,"Koszty działalnosci statutowej","Expenses of mission activities","*missing*"]
[null,null,null,"Koszty nieodpłatnej działalności pożytku publicznego",null,null,null,null,3625,"Koszty nieodpłatnej działalności pożytku publicznego","Cost of non-profit, public benefit activities","*missing*"]
[null,null,null,"Koszty odpłatnej działalności pożytku publicznego",null,null,null,null,3630,"Koszty odpłatnej działalności pożytku publicznego","Cost of paid public benefit activities","*missing*"]
[null,null,null,"Koszty pozostałej działalności statutowej",null,null,null,null,3635,"Koszty pozostałej działalności statutowej","Cost of other mission activities","*missing*"]
[null,null,null,"Zysk (strata) z działalności statutowej (A - B)",null,null,null,null,3640,"Zysk (strata) z działalności statutowej (A - B)","Profit (loss) from mission activities (A-B)","*missing*"]
[null,null,null,"Przychody z działalności gospodarczej",null,null,null,null,3645,"Przychody z działalności gospodarczej","Revenues from business activities","*missing*"]
[null,null,null,"Koszty działalności gospodarczej",null,null,null,null,3650,"Koszty działalności gospodarczej","Cost of business activities","*missing*"]
[null,null,null,"Zysk (strata) z działalności gospodarczej (D - E)",null,null,null,null,3655,"Zysk (strata) z działalności gospodarczej (D - E)","Profit (loss) from business activities (D-E)","*missing*"]
[null,null,null,"Koszty ogólnego zarządu",null,null,null,null,3660,"Koszty ogólnego zarządu","Management costs","*missing*"]
[null,null,null,"Zysk (strata) z działalności operacyjnej (C + F - G)",null,null,null,null,3665,"Zysk (strata) z działalności operacyjnej (C + F - G)","Profit (loss) on all activities (C+F-G)","*missing*"]
[null,null,null,"Pozostałe przychody operacyjne",null,null,null,null,3670,"Pozostałe przychody operacyjne","Other operational revenues","*missing*"]
[null,null,null,"Pozostałe koszty operacyjne",null,null,null,null,3675,"Pozostałe koszty operacyjne","Other operational expenses","*missing*"]
[null,null,null,"Przychody finansowe",null,null,null,null,3680,"Przychody finansowe","Financial revenues","*missing*"]
[null,null,null,"Koszty finansowe",null,null,null,null,3685,"Koszty finansowe","Financial costs","*missing*"]
[null,null,null,"Zysk (strata) brutto (H + I - J + K - L)",null,null,null,null,3690,"Zysk (strata) brutto (H + I - J + K - L)","Profit (loss) (H+I-J+K-L)","*missing*"]
[null,null,null,"Podatek dochodowy",null,null,null,null,3695,"Podatek dochodowy","Income tax","*missing*"]
[null,null,"Jednostka Mikro","Zysk (strata) netto (M - N)",null,null,null,null,3700,"Zysk (strata) netto (M - N)","Net profit (loss) (M-N)","*missing*"]
[null,null,null,null,null,null,null,"Jednostka Mikro",3705]
[null,null,null,{"$f":"OFFSET(I774,0,WybranyJezyk)","v":"Przychody podstawowej działalności operacyjnej i zrównane z nimi, w tym:"},null,null,null,null,3710,"Przychody podstawowej działalności operacyjnej i zrównane z nimi, w tym:","Revenues from the basic business and equivalent, including:","*missing*"]
[null,null,null,"Koszty podstawowej działalności operacyjnej",null,null,null,null,3715,"Koszty podstawowej działalności operacyjnej","Cost od the basic business","*missing*"]
[null,null,null,"Wynagrodzenia, ubezpieczenia społeczne i inne świadczenia",null,null,null,null,3720,"Wynagrodzenia, ubezpieczenia społeczne i inne świadczenia","Payroll, social security, and other benefits","*missing*"]
[null,null,null,"Pozostałe przychody i zyski, w tym:",null,null,null,null,3725,"Pozostałe przychody i zyski, w tym:","Other gains and revenues, including:","*missing*"]
[null,null,null,"aktualizacja wartości aktywów",null,null,null,null,3730,"aktualizacja wartości aktywów","assets revaluation","*missing*"]
[null,null,null,"Pozostałe koszty i straty, w tym:",null,null,null,null,3735,"Pozostałe koszty i straty, w tym:","Other expenses and losses, including:","*missing*"]
[null,null,null,"Zysk/strata netto (A-B+C-D-E) ",null,null,null,null,3740,"Zysk/strata netto (A-B+C-D-E) ","Net profit (loss) (A-B+C-D-E) ","*missing*"]
[null,null,null,"wykreślone w schemie 1-3",null,null,null,null,3745,"wykreślone w schemie 1-3","removed in scheme 1-3","*missing*"]
[null,null,null,"wykreślone w schemie 1-3",null,null,null,null,3750,"wykreślone w schemie 1-3","removed in scheme 1-3","*missing*"]
[null,null,null,"wykreślone w schemie 1-3",null,null,null,null,3755,"wykreślone w schemie 1-3","removed in scheme 1-3","*missing*"]
[null,null,null,null,null,null,null,null,3760]
[null,null,"Rachunek przepływów:",null,null,null,null,"Rachunek przepływów:",3765]
[null,null,null,null,null,null,null,null,3770]
[null,null,null,{"$f":"OFFSET(I787,0,WybranyJezyk)","v":"Rachunek przepływów"},null,null,null,null,3775,"Rachunek przepływów","Cash Flow Statement","*missing*"]
[null,null,null,"zmiana",null,null,null,null,3780,"zmiana","increase","*missing*"]
[null,null,"metoda bezpośrednia:",{"$f":"OFFSET(I789,0,WybranyJezyk)","v":"Rach. Przepływów"},null,null,null,"metoda bezpośrednia:",3785,"Rach. Przepływów","Cash Flow","*missing*"]
[null,null,null,null,null,null,null,null,3790]
[null,null,null,"Przepływy środków pieniężnych z działalności operacyjnej",null,null,null,null,3795,"Przepływy środków pieniężnych z działalności operacyjnej","Cash flows from operating activities","*missing*"]
[null,null,null,"Wpływy",null,null,null,null,3800,"Wpływy","Inflows","*missing*"]
[null,null,null,"Sprzedaż",null,null,null,null,3805,"Sprzedaż","Sales","*missing*"]
[null,null,null,"Inne wpływy z działalności operacyjnej",null,null,null,null,3810,"Inne wpływy z działalności operacyjnej","Other inflows from operating activities","*missing*"]
[null,null,null,"Wydatki",null,null,null,null,3815,"Wydatki","Outflows","*missing*"]
[null,null,null,"Dostawy i usługi",null,null,null,null,3820,"Dostawy i usługi","Deliveries and services","*missing*"]
[null,null,null,"Wynagrodzenia netto",null,null,null,null,3825,"Wynagrodzenia netto","Net payroll","*missing*"]
[null,null,null,"Ubezpieczenia społeczne i zdrowotne oraz inne świadczenia",null,null,null,null,3830,"Ubezpieczenia społeczne i zdrowotne oraz inne świadczenia","Social security, medical insurance and other benefits","*missing*"]
[null,null,null,"Podatki i opłaty o charakterze publicznoprawnym",null,null,null,null,3835,"Podatki i opłaty o charakterze publicznoprawnym","Taxes and charges due to the State Treasury","*missing*"]
[null,null,null,"Inne wydatki operacyjne",null,null,null,null,3840,"Inne wydatki operacyjne","Other operating expenses","*missing*"]
[null,null,null,"Przepływy pieniężne netto z działalności operacyjnej (I–II)",null,null,null,null,3845,"Przepływy pieniężne netto z działalności operacyjnej (I–II)","Net cash flows from operating activities (I-II)","*missing*"]
[null,null,null,"Przepływy środków pieniężnych z działalności inwestycyjnej",null,null,null,null,3850,"Przepływy środków pieniężnych z działalności inwestycyjnej","Cash flows from investment activities","*missing*"]
[null,null,null,"Wpływy",null,null,null,null,3855,"Wpływy","Inflows","*missing*"]
[null,null,null,"Zbycie wartości niematerialnych i prawnych oraz rzeczowych aktywów trwałych",null,null,null,null,3860,"Zbycie wartości niematerialnych i prawnych oraz rzeczowych aktywów trwałych","Disposal of intangible and tangible fixed assets","*missing*"]
[null,null,null,"Zbycie inwestycji w nieruchomości oraz wartości niematerialne i prawne",null,null,null,null,3865,"Zbycie inwestycji w nieruchomości oraz wartości niematerialne i prawne","Disposal of investments in real property and intangible assets","*missing*"]
[null,null,null,"Z aktywów finansowych, w tym:",null,null,null,null,3870,"Z aktywów finansowych, w tym:","From financial assets, including:","*missing*"]
[null,null,null,"w jednostkach powiązanych",null,null,null,null,3875,"w jednostkach powiązanych","in related parties","*missing*"]
[null,null,null,"w pozostałych jednostkach",null,null,null,null,3880,"w pozostałych jednostkach","in other entities","*missing*"]
[null,null,null,"zbycie aktywów finansowych",null,null,null,null,3885,"zbycie aktywów finansowych","sales of financial assets","*missing*"]
[null,null,null,"dywidendy i udziały w zyskach",null,null,null,null,3890,"dywidendy i udziały w zyskach","dividends and profit sharing","*missing*"]
[null,null,null,"spłata udzielonych pożyczek długoterminowych",null,null,null,null,3895,"spłata udzielonych pożyczek długoterminowych","repayment of granted long-term loans","*missing*"]
[null,null,null,"odsetki",null,null,null,null,3900,"odsetki","interest","*missing*"]
[null,null,null,"inne wpływy z aktywów finansowych",null,null,null,null,3905,"inne wpływy z aktywów finansowych","other inflows from financial assets","*missing*"]
[null,null,null,"Inne wpływy inwestycyjne",null,null,null,null,3910,"Inne wpływy inwestycyjne","Other inflows from investment activities","*missing*"]
[null,null,null,"Wydatki",null,null,null,null,3915,"Wydatki","Outflows","*missing*"]
[null,null,null,"Nabycie wartości niematerialnych i prawnych oraz rzeczowych aktywów trwałych",null,null,null,null,3920,"Nabycie wartości niematerialnych i prawnych oraz rzeczowych aktywów trwałych","Purchase of intangible assets and tangible fixed assets","*missing*"]
[null,null,null,"Inwestycje w nieruchomości oraz wartości niematerialne i prawne",null,null,null,null,3925,"Inwestycje w nieruchomości oraz wartości niematerialne i prawne","Investments in real property and intangible assets","*missing*"]
[null,null,null,0,null,null,null,null,3930]
[null,null,null,"Na aktywa finansowe, w tym:",null,null,null,null,3935,"Na aktywa finansowe, w tym:","To financial assets, including:","*missing*"]
[null,null,null,"w jednostkach powiązanych",null,null,null,null,3940,"w jednostkach powiązanych","in related parties","*missing*"]
[null,null,null,"w pozostałych jednostkach",null,null,null,null,3945,"w pozostałych jednostkach","in other entities","*missing*"]
[null,null,null,"nabycie aktywów finansowych",null,null,null,null,3950,"nabycie aktywów finansowych","purchase of financial assets","*missing*"]
[null,null,null,"udzielone pożyczki długoterminowe",null,null,null,null,3955,"udzielone pożyczki długoterminowe","long-term loans granted","*missing*"]
[null,null,null,"Inne wydatki inwestycyjne",null,null,null,null,3960,"Inne wydatki inwestycyjne","Other outflows from investment activities","*missing*"]
[null,null,null,"Przepływy pieniężne netto z działalności inwestycyjnej (I–II)",null,null,null,null,3965,"Przepływy pieniężne netto z działalności inwestycyjnej (I–II)","Net cash flows from investment activities (I-II)","*missing*"]
[null,null,null,"Przepływy środków pieniężnych z działalności finansowej",null,null,null,null,3970,"Przepływy środków pieniężnych z działalności finansowej","Cash flows from financial activities","*missing*"]
[null,null,null,"Wpływy",null,null,null,null,3975,"Wpływy","Inflows","*missing*"]
[null,null,null,"Wpływy netto z wydania udziałów (emisji akcji) i innych instrumentów kapitałowych oraz dopłat do kapitału",null,null,null,null,3980,"Wpływy netto z wydania udziałów (emisji akcji) i innych instrumentów kapitałowych oraz dopłat do kapitału","Net inflows from issuance of shares and other capital instruments and from capital contributions","*missing*"]
[null,null,null,"Kredyty i pożyczki",null,null,null,null,3985,"Kredyty i pożyczki","Credits and loans","*missing*"]
[null,null,null,"Emisja dłużnych papierów wartościowych",null,null,null,null,3990,"Emisja dłużnych papierów wartościowych","Issuance of debt securities","*missing*"]
[null,null,null,"Inne wpływy finansowe",null,null,null,null,3995,"Inne wpływy finansowe","Other inflows from financial activities","*missing*"]
[null,null,null,"Wydatki",null,null,null,null,4000,"Wydatki","Outflows","*missing*"]
[null,null,null,"Nabycie udziałów (akcji) własnych",null,null,null,null,4005,"Nabycie udziałów (akcji) własnych","Purchase of own shares","*missing*"]
[null,null,null,"Dywidendy i inne wypłaty na rzecz właścicieli",null,null,null,null,4010,"Dywidendy i inne wypłaty na rzecz właścicieli","Dividend and other payments to shareholders","*missing*"]
[null,null,null,"Inne, niż wypłaty na rzecz właścicieli, wydatki z tytułu podziału zysku",null,null,null,null,4015,"Inne, niż wypłaty na rzecz właścicieli, wydatki z tytułu podziału zysku","Profit distribution liabilities other than profit distribution payments to shareholders","*missing*"]
[null,null,null,"Spłaty kredytów i pożyczek",null,null,null,null,4020,"Spłaty kredytów i pożyczek","Repayment of credits and loans","*missing*"]
[null,null,null,"Wykup dłużnych papierów wartościowych",null,null,null,null,4025,"Wykup dłużnych papierów wartościowych","Redemption of debt securities","*missing*"]
[null,null,null,"Z tytułu innych zobowiązań finansowych",null,null,null,null,4030,"Z tytułu innych zobowiązań finansowych","Payment of other financial liabilities","*missing*"]
[null,null,null,"Płatności zobowiązań z tytułu umów leasingu finansowego",null,null,null,null,4035,"Płatności zobowiązań z tytułu umów leasingu finansowego","Payment of liabilities arising from financial leases","*missing*"]
[null,null,null,"Odsetki",null,null,null,null,4040,"Odsetki","Interest","*missing*"]
[null,null,null,"Inne wydatki finansowe",null,null,null,null,4045,"Inne wydatki finansowe","Other outflows from financial activities","*missing*"]
[null,null,null,"Przepływy pieniężne netto z działalności finansowej (I–II)",null,null,null,null,4050,"Przepływy pieniężne netto z działalności finansowej (I–II)","Net cash flows from financial activities (I-II)","*missing*"]
[null,null,null,"Przepływy pieniężne netto, razem (A.III±B.III±C.III)",null,null,null,null,4055,"Przepływy pieniężne netto, razem (A.III±B.III±C.III)","Total net cash flows (A.III. +/- B.III +/- C.III)","*missing*"]
[null,null,null,"Bilansowa zmiana stanu środków pieniężnych, w tym:",null,null,null,null,4060,"Bilansowa zmiana stanu środków pieniężnych, w tym:","Balance sheet change in cash, including:","*missing*"]
[null,null,null,"zmiana stanu środków pieniężnych z tytułu różnic kursowych",null,null,null,null,4065,"zmiana stanu środków pieniężnych z tytułu różnic kursowych","change in cash due to exchange differences","*missing*"]
[null,null,null,"Środki pieniężne na początek okresu",null,null,null,null,4070,"Środki pieniężne na początek okresu","Cash opening balance","*missing*"]
[null,null,null,"Środki pieniężne na koniec okresu (F±D), w tym:",null,null,null,null,4075,"Środki pieniężne na koniec okresu (F±D), w tym:","Closing balance of cash (F+/-D), including:","*missing*"]
[null,null,null,"o ograniczonej możliwości dysponowania",null,null,null,null,4080,"o ograniczonej możliwości dysponowania","of limited disposability","*missing*"]
[null,null,"metoda pośrednia:",null,null,null,null,"metoda pośrednia:",4085]
[null,null,null,null,null,null,null,null,4090]
[null,null,null,{"$f":"OFFSET(I851,0,WybranyJezyk)","v":"Przepływy środków pieniężnych z działalności operacyjnej"},null,null,null,null,4095,"Przepływy środków pieniężnych z działalności operacyjnej","Cash flows from operating activities","*missing*"]
[null,null,null,"Zysk (strata) netto",null,null,null,null,4100,"Zysk (strata) netto","Net profit (loss)","*missing*"]
[null,null,null,"Korekty razem",null,null,null,null,4105,"Korekty razem","Total adjustments","*missing*"]
[null,null,null,"Amortyzacja",null,null,null,null,4110,"Amortyzacja","Amortisation and depreciation","*missing*"]
[null,null,null,"Zyski (straty) z tytułu różnic kursowych",null,null,null,null,4115,"Zyski (straty) z tytułu różnic kursowych","Exchange gains (losses)","*missing*"]
[null,null,null,"Odsetki i udziały w zyskach (dywidendy)",null,null,null,null,4120,"Odsetki i udziały w zyskach (dywidendy)","Interest and profit sharing (dividend)","*missing*"]
[null,null,null,"Zysk (strata) z działalności inwestycyjnej",null,null,null,null,4125,"Zysk (strata) z działalności inwestycyjnej","Profit (loss) on investment activities","*missing*"]
[null,null,null,"Zmiana stanu rezerw",null,null,null,null,4130,"Zmiana stanu rezerw","Change in provisions","*missing*"]
[null,null,null,"Zmiana stanu zapasów",null,null,null,null,4135,"Zmiana stanu zapasów","Change in inventory","*missing*"]
[null,null,null,"Zmiana stanu należności",null,null,null,null,4140,"Zmiana stanu należności","Change in receivables","*missing*"]
[null,null,null,"Zmiana stanu zobowiązań krótkoterminowych, z wyjątkiem pożyczek i kredytów",null,null,null,null,4145,"Zmiana stanu zobowiązań krótkoterminowych, z wyjątkiem pożyczek i kredytów","Change in short-term liabilities excluding credits and loans","*missing*"]
[null,null,null,"Zmiana stanu rozliczeń międzyokresowych",null,null,null,null,4150,"Zmiana stanu rozliczeń międzyokresowych","Change in prepayments and accruals","*missing*"]
[null,null,null,"Inne korekty",null,null,null,null,4155,"Inne korekty","Other adjustments","*missing*"]
[null,null,null,"Przepływy pieniężne netto z działalności operacyjnej (I±II)",null,null,null,null,4160,"Przepływy pieniężne netto z działalności operacyjnej (I±II)","Net cash flows from operating activities (I +/- II)","*missing*"]
[null,null,"Skonsolidowana",null,null,null,null,"Skonsolidowana",4165]
[null,null,null,null,null,null,null,null,4170]
[null,null,null,{"$f":"OFFSET(I867,0,WybranyJezyk)","v":"Dywidendy i inne udziały w zyskach wypłacone udziałowcom (akcjonariuszom) mniejszościowym"},null,null,null,null,4175,"Dywidendy i inne udziały w zyskach wypłacone udziałowcom (akcjonariuszom) mniejszościowym","Dividend and profit shares, paid to minority shareholders","*missing*"]
[null,null,"metoda pośrednia",null,null,null,null,"metoda pośrednia",4180]
[null,null,null,{"$f":"OFFSET(I869,0,WybranyJezyk)","v":"Zyski (straty) mniejszości"},null,null,null,null,4185,"Zyski (straty) mniejszości","Minority profit (loss)","*missing*"]
[null,null,null,"Zysk (strata) z udziałów (akcji) w jednostkach wycenianych metodą praw własności",null,null,null,null,4190,"Zysk (strata) z udziałów (akcji) w jednostkach wycenianych metodą praw własności","Profit (loss) from shares in subsidiaries consolidated using the equity method","*missing*"]
[null,null,null,"Odpisy wartości firmy",null,null,null,null,4195,"Odpisy wartości firmy","Write-off on goodwill","*missing*"]
[null,null,null,"Odpisy ujemnej wartości firmy",null,null,null,null,4200,"Odpisy ujemnej wartości firmy","Write-off on negative goodwill","*missing*"]
[null,null,null,"w jednostkach wycenianych metodą praw własności",null,null,null,null,4205,"w jednostkach wycenianych metodą praw własności","in subsidiaries consolidated using the equity method","*missing*"]
[null,null,null,null,null,null,null,null,4210]
[null,null,"metoda bezpośrednia",null,null,null,null,"metoda bezpośrednia",4215]
[null,null,null,null,null,null,null,null,4220]
[null,null,null,null,null,null,null,null,4225]
[null,null,null,null,null,null,null,null,4230]
[null,null,null,null,null,null,null,null,4235]
[null,null,null,null,null,null,null,null,4240]
[null,null,null,null,null,null,null,null,4245]
[null,null,"Zmiany w kapitale:",null,null,null,null,"Zmiany w kapitale:",4250]
[null,null,"JednostkaInna:",null,null,null,null,"JednostkaInna:",4255]
[null,null,null,{"$f":"OFFSET(I884,0,WybranyJezyk)","v":"Zestawienie zmian w kapitale (funduszu) własnym"},null,null,null,null,4260,"Zestawienie zmian w kapitale (funduszu) własnym","Statement of Changes in Equity","*missing*"]
[null,null,null,"wyszczególnienie",null,null,null,null,4265,"wyszczególnienie","details","*missing*"]
[null,null,null,"Zmiany w kapitale",null,null,null,null,4270,"Zmiany w kapitale","Changes in equity","*missing*"]
[null,null,null,null,null,null,null,null,4275]
[null,null,null,"Kapitał (fundusz) własny na początek okresu (BO)",null,null,null,null,4280,"Kapitał (fundusz) własny na początek okresu (BO)","Opening balance of equity ","*missing*"]
[null,null,null,"zmiany przyjętych zasad (polityki) rachunkowości",null,null,null,null,4285,"zmiany przyjętych zasad (polityki) rachunkowości","changes in accounting policies","*missing*"]
[null,null,null,"korekty błędów",null,null,null,null,4290,"korekty błędów","error adjustments","*missing*"]
[null,null,null,"Kapitał (fundusz) własny na początek okresu (BO), po korektach",null,null,null,null,4295,"Kapitał (fundusz) własny na początek okresu (BO), po korektach","Opening balance of equity after adjustments","*missing*"]
[null,null,null,"Kapitał (fundusz) podstawowy na początek okresu",null,null,null,null,4300,"Kapitał (fundusz) podstawowy na początek okresu","Opening balance of share capital ","*missing*"]
[null,null,null,"Zmiany kapitału (funduszu) podstawowego",null,null,null,null,4305,"Zmiany kapitału (funduszu) podstawowego","Changes in share capital","*missing*"]
[null,null,null,"zwiększenie (z tytułu)",null,null,null,null,4310,"zwiększenie (z tytułu)","increase (due to)","*missing*"]
[null,null,null,"wydania udziałów (emisji akcji)",null,null,null,null,4315,"wydania udziałów (emisji akcji)","issuance of shares","*missing*"]
[null,null,null,"zmniejszenie (z tytułu)",null,null,null,null,4320,"zmniejszenie (z tytułu)","decrease (due to)","*missing*"]
[null,null,null,"umorzenia udziałów (akcji)",null,null,null,null,4325,"umorzenia udziałów (akcji)","shares redemption","*missing*"]
[null,null,null,"Kapitał (fundusz) podstawowy na koniec okresu",null,null,null,null,4330,"Kapitał (fundusz) podstawowy na koniec okresu","Closing balance of share capital","*missing*"]
[null,null,null,"Kapitał (fundusz) zapasowy na początek okresu",null,null,null,null,4335,"Kapitał (fundusz) zapasowy na początek okresu","Opening balance of supplementary capital","*missing*"]
[null,null,null,"Zmiany kapitału (funduszu) zapasowego",null,null,null,null,4340,"Zmiany kapitału (funduszu) zapasowego","Changes in supplementary capital","*missing*"]
[null,null,null,"zwiększenie (z tytułu)",null,null,null,null,4345,"zwiększenie (z tytułu)","increase (due to)","*missing*"]
[null,null,null,"emisji akcji powyżej wartości nominalnej",null,null,null,null,4350,"emisji akcji powyżej wartości nominalnej","issuance of shares above the nominal value","*missing*"]
[null,null,null,"podziału zysku (ustawowo)",null,null,null,null,4355,"podziału zysku (ustawowo)","profit distribution (statutory)","*missing*"]
[null,null,null,"podziału zysku (ponad wymaganą ustawowo minimalną wartość)",null,null,null,null,4360,"podziału zysku (ponad wymaganą ustawowo minimalną wartość)","profit distribution (above the statutory required value)","*missing*"]
[null,null,null,"zmniejszenie (z tytułu)",null,null,null,null,4365,"zmniejszenie (z tytułu)","decrease (due to)","*missing*"]
[null,null,null,"pokrycia straty",null,null,null,null,4370,"pokrycia straty","loss coverage","*missing*"]
[null,null,null,"Stan kapitału (funduszu) zapasowego na koniec okresu",null,null,null,null,4375,"Stan kapitału (funduszu) zapasowego na koniec okresu","Closing balance of supplementary capital","*missing*"]
[null,null,null,"Kapitał (fundusz) z aktualizacji wyceny na początek okresu – zmiany przyjętych zasad (polityki) rachunkowości",null,null,null,null,4380,"Kapitał (fundusz) z aktualizacji wyceny na początek okresu – zmiany przyjętych zasad (polityki) rachunkowości","Opening balance of revaluation reserve","*missing*"]
[null,null,null,"Zmiany kapitału (funduszu) z aktualizacji wyceny",null,null,null,null,4385,"Zmiany kapitału (funduszu) z aktualizacji wyceny","Changes in revaluation reserve","*missing*"]
[null,null,null,"zwiększenie (z tytułu)",null,null,null,null,4390,"zwiększenie (z tytułu)","increase (due to)","*missing*"]
[null,null,null,"zmniejszenie (z tytułu)",null,null,null,null,4395,"zmniejszenie (z tytułu)","decrease (due to)","*missing*"]
[null,null,null,"zbycia środków trwałych",null,null,null,null,4400,"zbycia środków trwałych","sales of tangible fixed assets","*missing*"]
[null,null,null,"Kapitał (fundusz) z aktualizacji wyceny na koniec okresu",null,null,null,null,4405,"Kapitał (fundusz) z aktualizacji wyceny na koniec okresu","Closing balance of revaluation reserve","*missing*"]
[null,null,null,"Pozostałe kapitały (fundusze) rezerwowe na początek okresu",null,null,null,null,4410,"Pozostałe kapitały (fundusze) rezerwowe na początek okresu","Opening balance of other reserve capitals","*missing*"]
[null,null,null,"Zmiany pozostałych kapitałów (funduszy) rezerwowych",null,null,null,null,4415,"Zmiany pozostałych kapitałów (funduszy) rezerwowych","Changes in other reserve capitals","*missing*"]
[null,null,null,"zwiększenie (z tytułu)",null,null,null,null,4420,"zwiększenie (z tytułu)","increase (due to)","*missing*"]
[null,null,null,"zmniejszenie (z tytułu)",null,null,null,null,4425,"zmniejszenie (z tytułu)","decrease (due to)","*missing*"]
[null,null,null,"Pozostałe kapitały (fundusze) rezerwowe na koniec okresu",null,null,null,null,4430,"Pozostałe kapitały (fundusze) rezerwowe na koniec okresu","Closing balance of other reserve capitals","*missing*"]
[null,null,null,"Zysk (strata) z lat ubiegłych na początek okresu",null,null,null,null,4435,"Zysk (strata) z lat ubiegłych na początek okresu","Opening balance of previous years' profit (loss)","*missing*"]
[null,null,null,"Zysk z lat ubiegłych na początek okresu",null,null,null,null,4440,"Zysk z lat ubiegłych na początek okresu","Opening balance of previous years' profit","*missing*"]
[null,null,null,"zmiany przyjętych zasad (polityki) rachunkowości",null,null,null,null,4445,"zmiany przyjętych zasad (polityki) rachunkowości","changes in accounting policies","*missing*"]
[null,null,null,"korekty błędów",null,null,null,null,4450,"korekty błędów","error adjustments","*missing*"]
[null,null,null,"Zysk z lat ubiegłych na początek okresu, po korektach",null,null,null,null,4455,"Zysk z lat ubiegłych na początek okresu, po korektach","Opening balance of previous years' profit, after adjustments","*missing*"]
[null,null,null,"zwiększenie (z tytułu)",null,null,null,null,4460,"zwiększenie (z tytułu)","increase (due to)","*missing*"]
[null,null,null,"podziału zysku z lat ubiegłych",null,null,null,null,4465,"podziału zysku z lat ubiegłych","distribution of previous years' profit","*missing*"]
[null,null,null,"zmniejszenie (z tytułu)",null,null,null,null,4470,"zmniejszenie (z tytułu)","decrease (due to)","*missing*"]
[null,null,null,"Zysk z lat ubiegłych na koniec okresu",null,null,null,null,4475,"Zysk z lat ubiegłych na koniec okresu","Closing balance of previous years' profit","*missing*"]
[null,null,null,"Strata z lat ubiegłych na początek okresu",null,null,null,null,4480,"Strata z lat ubiegłych na początek okresu","Opening balance of previous years' loss","*missing*"]
[null,null,null,"zmiany przyjętych zasad (polityki) rachunkowości",null,null,null,null,4485,"zmiany przyjętych zasad (polityki) rachunkowości","changes in accounting policies","*missing*"]
[null,null,null,"korekty błędów",null,null,null,null,4490,"korekty błędów","error adjustments","*missing*"]
[null,null,null,"Strata z lat ubiegłych na początek okresu, po korektach",null,null,null,null,4495,"Strata z lat ubiegłych na początek okresu, po korektach","Opening balance of previous years' loss, after adjustments","*missing*"]
[null,null,null,"zwiększenie (z tytułu)",null,null,null,null,4500,"zwiększenie (z tytułu)","increase (due to)","*missing*"]
[null,null,null,"przeniesienia straty z lat ubiegłych do pokrycia",null,null,null,null,4505,"przeniesienia straty z lat ubiegłych do pokrycia","previous years' loss brought forward","*missing*"]
[null,null,null,"zmniejszenie (z tytułu)",null,null,null,null,4510,"zmniejszenie (z tytułu)","decrease (due to)","*missing*"]
[null,null,null,"Strata z lat ubiegłych na koniec okresu",null,null,null,null,4515,"Strata z lat ubiegłych na koniec okresu","Closing balance of previous years' loss","*missing*"]
[null,null,null,"Zysk (strata) z lat ubiegłych na koniec okresu",null,null,null,null,4520,"Zysk (strata) z lat ubiegłych na koniec okresu","Closing balance of previous years' profit (loss)","*missing*"]
[null,null,null,"Wynik netto",null,null,null,null,4525,"Wynik netto","Net result","*missing*"]
[null,null,null,"zysk netto",null,null,null,null,4530,"zysk netto","net profit","*missing*"]
[null,null,null,"strata netto",null,null,null,null,4535,"strata netto","net loss","*missing*"]
[null,null,null,"odpisy z zysku",null,null,null,null,4540,"odpisy z zysku","write-offs on profit","*missing*"]
[null,null,null,"Kapitał (fundusz) własny na koniec okresu (BZ)",null,null,null,null,4545,"Kapitał (fundusz) własny na koniec okresu (BZ)","Closing balance of equity","*missing*"]
[null,null,null,"Kapitał (fundusz) własny, po uwzględnieniu proponowanego podziału zysku (pokrycia straty)",null,null,null,null,4550,"Kapitał (fundusz) własny, po uwzględnieniu proponowanego podziału zysku (pokrycia straty)","Equity including proposed profit distribution (loss coverage)","*missing*"]
[null,null,"Skonsolidowana:",null,null,null,null,"Skonsolidowana:",4555]
[null,null,null,"(uchylony)",null,null,null,null,4560,"(uchylony)","(repealed)","*missing*"]
[null,null,null,"Kapitał (fundusz) z aktualizacji wyceny na początek okresu",null,null,null,null,4565,"Kapitał (fundusz) z aktualizacji wyceny na początek okresu","Opening balance of revaluation reserve","*missing*"]
[null,null,null,"Zmiany kapitału (funduszu) z aktualizacji wyceny - zmiany przyjętych zasad (polityki) rachunkowości",null,null,null,null,4570,"Zmiany kapitału (funduszu) z aktualizacji wyceny - zmiany przyjętych zasad (polityki) rachunkowości","Changes of revaluation reserve - changes in the accounting policies","*missing*"]
[null,null,null,"Różnice kursowe z przeliczenia",null,null,null,null,4575,"Różnice kursowe z przeliczenia","Currency translation profit/loss","*missing*"]
[null,null,"Dodatkowe:",null,null,null,null,"Dodatkowe:",4580]
[null,null,null,null,null,null,null,null,4585]
[null,null,null,{"$f":"OFFSET(I950,0,WybranyJezyk)","v":"Dodatkowe informacje i objaśnienia"},null,null,null,null,4590,"Dodatkowe informacje i objaśnienia","Additional Information:","*missing*"]
[null,null,null,"W niektórych polach tego zestawienia napotkasz pomocnicze formuły. Jeżeli to potrzebne, możesz je zmienić, lub wpisać w te pola odpowiednie kwoty.",null,null,null,null,4595,"W niektórych polach tego zestawienia napotkasz pomocnicze formuły. Jeżeli to potrzebne, możesz je zmienić, lub wpisać w te pola odpowiednie kwoty.","In some fields you can encounter helper formulas. If you wish, you can modify them, or overwrite by placing any numeric value.","*missing*"]
[null,null,null,{"$f":"OFFSET(I952,0,WybranyJezyk)","v":"Rozliczenie różnicy pomiędzy podstawą opodatkowania a wynikiem finansowym:"},null,null,null,null,4600,"Rozliczenie różnicy pomiędzy podstawą opodatkowania a wynikiem finansowym:","Reconcilation of difference between the financial result and the income tax basis","*missing*"]
[null,null,null,"Rozliczenie różnicy pomiędzy podstawą opodatkowania podatkiem dochodowym a wynikiem finansowym (zyskiem, stratą) brutto",null,null,null,null,4605,"Rozliczenie różnicy pomiędzy podstawą opodatkowania podatkiem dochodowym a wynikiem finansowym (zyskiem, stratą) brutto","Reconcilation of difference between the financial result (profit or loss) and the income tax basis","*missing*"]
[null,null,null,"Okres\nbieżący",null,null,null,null,4610,"Okres\nbieżący","Current period","*missing*"]
[null,null,null,"Okres\npoprzedni",null,null,null,null,4615,"Okres\npoprzedni","Previous period","*missing*"]
[null,null,null,"Ogółem:",null,null,null,null,4620,"Ogółem:","Total:","*missing*"]
[null,null,null,"w tym z zysków kapitałowych:",null,null,null,null,4625,"w tym z zysków kapitałowych:","from capital gains:","*missing*"]
[null,null,null,"(informacja uszczegóławiająca, wynikająca z potrzeb lub specyfiki jednostki)",null,null,null,null,4630,"(informacja uszczegóławiająca, wynikająca z potrzeb lub specyfiki jednostki)","(detailing, resulting from the entity needs or from its specifics)","*missing*"]
[null,null,null,"pdst. prawna:",null,null,null,null,4635,"pdst. prawna:","legal basis:","*missing*"]
[null,null,null,"Art.",null,null,null,null,4640,"Art.","Sec","*missing*"]
[null,null,null,"poz.",null,null,null,null,4645,"poz.","par.","*missing*"]
[null,null,null,"pkt.",null,null,null,null,4650,"pkt.","pt.","*missing*"]
[null,null,null,"lit.",null,null,null,null,4655,"lit.","lt.","*missing*"]
[null,null,null,"pozostałe (mniej niż 20 tys. zł):",null,null,null,null,4660,"pozostałe (mniej niż 20 tys. zł):","other (less than 20 TPLN):","*missing*"]
[null,null,null,"pozostałe:",null,null,null,null,4665,"pozostałe:","other:","*missing*"]
[null,null,null,"Zysk (strata) brutto za dany rok",null,null,null,null,4670,"Zysk (strata) brutto za dany rok","Profit (loss)","*missing*"]
[null,null,null,"Przychody zwolnione z opodatkowania",null,null,null,null,4675,"Przychody zwolnione z opodatkowania","Revenues exempt from taxation","*missing*"]
[null,null,null,"Przychody niepodlegające opodatkowania w roku bieżącym",null,null,null,null,4680,"Przychody niepodlegające opodatkowania w roku bieżącym","Revenues non-taxable in the current year","*missing*"]
[null,null,null,"Przychody podlegające opodatkowania w roku bieżącym, ujęte w księgach rachunkowych lat ubiegłych",null,null,null,null,4685,"Przychody podlegające opodatkowania w roku bieżącym, ujęte w księgach rachunkowych lat ubiegłych","Revenues taxable in current year, accounted in previous years' books","*missing*"]
[null,null,null,"Koszty niestanowiące kosztów uzyskania przychodów ",null,null,null,null,4690,"Koszty niestanowiące kosztów uzyskania przychodów ","Non-deductible costs","*missing*"]
[null,null,null,"Koszty nieuznawane za koszty uzyskania przychodów w bieżącym roku",null,null,null,null,4695,"Koszty nieuznawane za koszty uzyskania przychodów w bieżącym roku","Costs not recognized as deductible in current year","*missing*"]
[null,null,null,"Koszty uznawane za koszty uzyskania przychodów w roku bieżącym ujęte w księgach lat ubiegłych",null,null,null,null,4700,"Koszty uznawane za koszty uzyskania przychodów w roku bieżącym ujęte w księgach lat ubiegłych","Costs deductible in current year, accounted in previous years' books","*missing*"]
[null,null,null,"Dochód (A - B - C + D + E + F - G)",null,null,null,null,4701,"Dochód (A - B - C + D + E + F - G)","Income (A - B - C + D + E + F - G)","*missing*"]
[null,null,null,"pomocniczy wiersz sumujący (wartości z tego wiersza nie są zapisywane do pliku e-sprawozdania)",null,null,null,null,4702,"pomocniczy wiersz sumujący (wartości z tego wiersza nie są zapisywane do pliku e-sprawozdania)","auxiliary subtotal line (these fields are not included in the final report)","*missing*"]
[null,null,null,"Strata z lat ubiegłych",null,null,null,null,4705,"Strata z lat ubiegłych","Previous years' loss","*missing*"]
[null,null,null,"Oryginalna sekwencja wierszy I. i H. została celowo zmieniona, aby poprawnie przedstawić kolejność odliczeń od dochodu",null,null,null,null,4706,"Oryginalna sekwencja wierszy I. i H. została celowo zmieniona, aby poprawnie przedstawić kolejność odliczeń od dochodu","Original sequence of the I. and H. lines is intentionally reversed, displaying the proper order of eventual deductions from the income","*missing*"]
[null,null,null,"Inne zmiany podstawy opodatkowania",null,null,null,null,4710,"Inne zmiany podstawy opodatkowania","Other changes of the income tax basis","*missing*"]
[null,null,null,"Podstawa opodatkowania podatkiem dochodowym",null,null,null,null,4715,"Podstawa opodatkowania podatkiem dochodowym","Income tax basis","*missing*"]
[null,null,null,"Podatek dochodowy",null,null,null,null,4720,"Podatek dochodowy","Income tax","*missing*"]
[null,null,null,null,null,null,null,null,4725]
[null,null,null,{"$f":"OFFSET(I981,0,WybranyJezyk)","v":"trwałe różnice pomiędzy zyskiem/stratą dla celów rachunkowych a dochodem/stratą dla celów podatkowych"},null,null,null,null,4730,"trwałe różnice pomiędzy zyskiem/stratą dla celów rachunkowych a dochodem/stratą dla celów podatkowych","Permanent differences between the financial profit (loss) and the profit (loss) for tax calculation","*missing*"]
[null,null,null,null,null,null,null,null,4735]
[null,null,null,{"$f":"OFFSET(I983,0,WybranyJezyk)","v":"Załączniki i objaśnienia:"},null,null,null,null,4740,"Załączniki i objaśnienia:","Attachments and explanations:","*missing*"]
[null,null,null,"Opis:",null,null,null,null,4745,"Opis:","Description:","*missing*"]
[null,null,null,"Załącznik:",null,null,null,null,4750,"Załącznik:","Attachment:","*missing*"]
[null,null,"Skonsolidowana:",null,null,null,null,"Skonsolidowana:",4755]
[null,null,null,{"$f":"OFFSET(I987,0,WybranyJezyk)","v":"Dotyczy jednostki:"},null,null,null,null,4760,"Dotyczy jednostki:","Applies to entity:","*missing*"]
[null,null,null,null,null,null,null,null,4765]
[null,null,null,null,null,null,null,null,4770]
[null,null,{"$f":"H990","v":"Dodatki w wersji schemy 1.2"},{"$f":"OFFSET(I990,0,WybranyJezyk)","v":"wg schematu w wersji 1-3 (dla sprawozdań za okres rozpoczynający się od 1 stycznia 2024 lub później)"},null,null,null,"Dodatki w wersji schemy 1.2",4775,"wg schematu w wersji 1-3 (dla sprawozdań za okres rozpoczynający się od 1 stycznia 2024 lub później)","uses scheme in variant 1-3 (for the statements which period starts on 2024-01-01 or later)","*missing*"]
[null,null,null,"Pole wymagane przez system eKRS",null,null,null,null,4780,"Pole wymagane przez system eKRS","Obligatory field for the eKRS system","*missing*"]
[null,null,null,"pozostałe:",null,null,null,null,4785,"pozostałe:","others:","*missing*"]
[null,null,null,"Opis okoliczności zagrażających kontynuacji działalności:",null,null,null,null,4790,"Opis okoliczności zagrażających kontynuacji działalności:","Describe these business continuity threats","*missing*"]
[null,null,null,"Niewłaściwy wersja pliku sprawozdania ({Val}), podczas gdy powinna być to jedna z następujących wersji: '{Exp}'. Ten format może zawierać inne pola, i taka operacja jest niemożliwa",null,null,null,null,4795,"Niewłaściwy wersja pliku sprawozdania ({Val}), podczas gdy powinna być to jedna z następujących wersji: '{Exp}'. Ten format może zawierać inne pola, i taka operacja jest niemożliwa","This file uses schema version ({Val}) which is not among the versions handled by this workbook: '{Exp}'. It can contain different fields, so this import is impossible.","*missing*"]
[null,null,null,"Jednostka, w której w ciągu raportowanego okresu nastąpiło połączenie spółek:",null,null,null,null,4800,"Jednostka, w której w ciągu raportowanego okresu nastąpiło połączenie spółek:","Subsidiary that has merged another company during the reported period:","*missing*"]
[null,null,null,"Czy sprawozadnia finansowe tej jednostki sporządzono po połączeniu spółek?",null,null,null,null,4805,"Czy sprawozadnia finansowe tej jednostki sporządzono po połączeniu spółek?","Was the financial statement of this subsidiary created after this merge?","*missing*"]
[null,null,"Inne","Stawka CIT",null,null,null,null,4810,"Stawka CIT","Tax rate","*missing*"]
[null,null,{"$f":"H998","v":"Dodatki w wersji schemy 1.3"},{"$f":"OFFSET(I998,0,WybranyJezyk)","v":0},null,null,null,"Dodatki w wersji schemy 1.3",4815]
[null,null,"Inne","Obsługiwany przez ten skoroszyt schemat (1-3) jest przeznaczony dla e-sprawozdań, których okres zaczyna się po {Exp}. W tym sprawozdaniu to {Val}, więc nie będzie można go zapisać do pliku XML.",null,null,null,null,4820,"Obsługiwany przez ten skoroszyt schemat (1-3) jest przeznaczony dla e-sprawozdań, których okres zaczyna się po {Exp}. W tym sprawozdaniu to {Val}, więc nie będzie można go zapisać do pliku XML.","This wrokbook uses scheme version (1-3), which is intended for financial statements which period starts after {Exp}. W tym sprawozdaniu to {Val}, więc nie można go zapisac do pliku XML.","*missing*"]
[null,null,"MissingKRS","W arkuszu 'Wprowadzenie' pole z numerem KRS tej jednostki jest puste.\n\nKoniecznie je uzupełnij, jeżeli zamierzasz złożyć to sprawozdanie do e-KRS.",null,null,null,null,4825,"W arkuszu 'Wprowadzenie' pole z numerem KRS tej jednostki jest puste.\n\nKoniecznie je uzupełnij, jeżeli zamierzasz złożyć to sprawozdanie do e-KRS.","In the 'Introduction' sheet the field for the KRS id number is empty.\n\nFill it, if you are going send this report to e-KRS repository.","*missing*"]
[null,null,"Kolejne pozycje estońskiego CIT",0,null,null,null,"Kolejne pozycje estońskiego CIT",4830]
[null,null,null,"kwota zysku wypracowanego w latach opodatkowania ryczałtem",null,null,null,null,4835,"kwota zysku wypracowanego w latach opodatkowania ryczałtem","amount of profit earned in the years of flat rate taxation"]
[null,null,null,"kwota zysku wypracowanego w latach opodatkowania ryczałtem",null,null,null,null,4840,"kwota zysku wypracowanego w latach opodatkowania ryczałtem","amount of profit earned in the years of flat rate taxation"]
[null,null,null,"kwota niepodzielonych zysków z lat opodatkowania ryczałtem",null,null,null,null,4845,"kwota niepodzielonych zysków z lat opodatkowania ryczałtem","amount of undistributed profits  in the years of the flat rate taxation"]
[null,null,null,"kwota niepokrytych strat poniesionych w latach opodatkowania ryczałtem",null,null,null,null,4850,"kwota niepokrytych strat poniesionych w latach opodatkowania ryczałtem","amount of uncovered losses incurred in the years of the flat rate taxation"]
[null,null,"Wydzielone opisy Skonsolidowanego (były inne w 1-2)",0,null,null,null,"Wydzielone opisy Skonsolidowanego (były inne w 1-2)",4855]
[null,null,null,"Zmiana stanu produktów (zwiększenie – wartość dodatnia, zmniejszenie – wartość ujemna)",null,null,null,null,4860,"Zmiana stanu produktów (zwiększenie – wartość dodatnia, zmniejszenie – wartość ujemna)","Change in the balance of products (increase - positive value, decrease - negative value)","*missing*"]
[null,null,null,"Przychody netto ze sprzedaży towarów",null,null,null,null,4865,"Przychody netto ze sprzedaży towarów","Net revenues from sales of goods","*missing*"]
[null,null,null,"Wartość sprzedanych towarów",null,null,null,null,4870,"Wartość sprzedanych towarów","Value of the goods sold","*missing*"]
[null,null,null,0,null,null,null,null,4875]
[null,null,null,"Przychody netto ze sprzedaży produktów i towarów, w tym:",null,null,null,null,4880,"Przychody netto ze sprzedaży produktów i towarów, w tym:","Net revenues from sales of products and goods, including:","*missing*"]
[null,null,null,"Przychody netto ze sprzedaży towarów",null,null,null,null,4885,"Przychody netto ze sprzedaży towarów","Net revenues from sales of goods","*missing*"]
[null,null,null,"Koszty sprzedanych produktów i towarów, w tym:",null,null,null,null,4890,"Koszty sprzedanych produktów i towarów, w tym:","Cost of products, goods sold, including:","*missing*"]
[null,null,null,"Wartość sprzedanych towarów",null,null,null,null,4895,"Wartość sprzedanych towarów","Value of the goods sold","*missing*"]
[null,null,null,null,null,null,null,null,4900]
[null,null,null,null,null,null,null,null,4905]
[null,null,null,null,null,null,null,null,4910]
[null,null,null,null,null,null,null,null,4915]
[null,null,null,null,null,null,null,null,4920]
[null,null,null,null,null,null,null,null,4925]

{"sheet":"mapowanie","index":9,"n_rows":3486,"n_cols":15,"rows_kept":3486,"cut":false,"hidden":true,"merged":[]}
[null,"Mapowanie pól sprawozdania na elementy dokumentu XML",null,null,null,null,null,null,null,"Uwaga: przestrzeń nazw \"sf:\" to przesztrzeń aktualnie wybranego wariantu. Używaj \"xjin:\", \"xjma:\" i \"xjmi:\", by odróżnić \"statycznie\" poszczególne warianty bazowej struktury \n(np. xjin to \"JednostkaInna<Wtysiacach/WZlotych>\"). Do podobnego celu możesz użyć \"jin:\", \"jma:\" i \"jmi:\" (np. jin to \"JednostkaInnaStruktury\")"]
[]
[null,null,null,null,null,null,null,null,null,null,null,null,null,"Zamiennik 1/1 dla wersji schematu:","Zamiennik 1/2"]
[null,"Adres","Domyślne dane w miejsce pustej komórki","Dodatkowy atrybut","Zachowaj przy resecie częściowym","Flaga","Typ","Nr kolejny","Formuła","Element nadrzędny","Element docelowy","Weryfikacja adresu komórki (etykieta elementu)",null,"1-0,1-0E"]
[null,{"$f":"Adr(DataOd)","v":"Nagłówek!$E$8"},null,"MarkParent",null,null,"Data",null,null,"sf:Naglowek","dtsf:OkresOd",0]
[null,{"$f":"Adr(DataDo)","v":"Nagłówek!$G$8"},null,"MarkParent",null,null,"Data",null,null,"sf:Naglowek","dtsf:OkresDo","-"]
[null,{"$f":"Adr(Nagłówek!G11)","v":"Nagłówek!$G$11"},{"$f":"TODAY()","v":"2025-03-31"},null,null,null,"Data",null,null,"sf:Naglowek","dtsf:DataSporzadzenia"]
[null,{"$f":"Adr(Wprowadzenie!I4)","v":"Wprowadzenie!$I$4"},null,null,null,null,"Tekst",null,null,"sf:P_1A","dtsf:NazwaFirmy"]
[null,{"$f":"Adr(Wprowadzenie!I24)","v":"Wprowadzenie!$I$24"},null,null,null,null,"Tekst",null,null,"dtsf:Siedziba","dtsf:Wojewodztwo"]
[null,{"$f":"Adr(Wprowadzenie!I22)","v":"Wprowadzenie!$I$22"},null,null,null,null,"Tekst",null,null,"dtsf:Siedziba","dtsf:Powiat"]
[null,{"$f":"Adr(Wprowadzenie!I20)","v":"Wprowadzenie!$I$20"},null,null,null,null,"Tekst",null,null,"dtsf:Siedziba","dtsf:Gmina"]
[null,{"$f":"Adr(Wprowadzenie!I16)","v":"Wprowadzenie!$I$16"},null,null,null,null,"Tekst",null,null,"dtsf:Siedziba","dtsf:Miejscowosc"]
[null,{"$f":"Adr(Wprowadzenie!O18)","v":"Wprowadzenie!$O$18"},null,null,null,null,"Tekst",null,"PL","dtsf:Adres","dtsf:KodKraju",null,null,{"$f":"J13","v":"dtsf:Adres"},"etd:KodKraju"]
[null,{"$f":"Adr(Wprowadzenie!I24)","v":"Wprowadzenie!$I$24"},null,null,null,null,"Tekst",null,null,"dtsf:Adres","dtsf:Wojewodztwo",null,null,{"$f":"J14","v":"dtsf:Adres"},"etd:Wojewodztwo"]
[null,{"$f":"Adr(Wprowadzenie!I22)","v":"Wprowadzenie!$I$22"},null,null,null,null,"Tekst",null,null,"dtsf:Adres","dtsf:Powiat",null,null,"dtsf:Adres","etd:Powiat"]
[null,{"$f":"Adr(Wprowadzenie!I20)","v":"Wprowadzenie!$I$20"},null,null,null,null,"Tekst",null,null,"dtsf:Adres","dtsf:Gmina",null,null,"dtsf:Adres","etd:Gmina"]
[null,{"$f":"Adr(Wprowadzenie!I12)","v":"Wprowadzenie!$I$12"},null,null,null,null,"Tekst",null,null,"dtsf:Adres","dtsf:Ulica",null,null,"dtsf:Adres","etd:Ulica"]
[null,{"$f":"Adr(Wprowadzenie!I14)","v":"Wprowadzenie!$I$14"},null,null,null,null,"Tekst",null,null,"dtsf:Adres","dtsf:NrDomu",null,null,"dtsf:Adres","etd:NrDomu"]
[null,{"$f":"Adr(Wprowadzenie!K14)","v":"Wprowadzenie!$K$14"},null,null,null,null,"Tekst",null,null,"dtsf:Adres","dtsf:NrLokalu",null,null,"dtsf:Adres","etd:NrLokalu"]
[null,{"$f":"Adr(Wprowadzenie!I16)","v":"Wprowadzenie!$I$16"},null,null,null,null,"Tekst",null,null,"dtsf:Adres","dtsf:Miejscowosc",null,null,"dtsf:Adres","etd:Miejscowosc"]
[null,{"$f":"Adr(Wprowadzenie!L18)","v":"Wprowadzenie!$L$18"},null,null,null,null,"Tekst",null,null,"dtsf:Adres","dtsf:KodPocztowy",null,null,"dtsf:Adres","etd:KodPocztowy"]
[null,{"$f":"Adr(Wprowadzenie!I18)","v":"Wprowadzenie!$I$18"},null,null,null,null,"Tekst",null,null,"dtsf:Adres","dtsf:Poczta",null,null,"dtsf:Adres","etd:Poczta"]
[null,{"$f":"Adr(Wprowadzenie!O32)","v":"Wprowadzenie!$O$32"},null,null,null,null,"Tekst",null,null,"dtsf:AdresPrzedsiebiorcyZagranicznego","dtsf:KodKraju",null,null,{"$f":"J23","v":"dtsf:AdresPrzedsiebiorcyZagranicznego"},"etd:KodKraju"]
[null,{"$f":"Adr(Wprowadzenie!L32)","v":"Wprowadzenie!$L$32"},null,null,null,null,"Tekst",null,null,"dtsf:AdresPrzedsiebiorcyZagranicznego","dtsf:KodPocztowy",null,null,"dtsf:AdresPrzedsiebiorcyZagranicznego","etd:KodPocztowy"]
[null,{"$f":"Adr(Wprowadzenie!I32)","v":"Wprowadzenie!$I$32"},null,null,null,null,"Tekst",null,null,"dtsf:AdresPrzedsiebiorcyZagranicznego","dtsf:Miejscowosc",null,null,"dtsf:AdresPrzedsiebiorcyZagranicznego","etd:Miejscowosc"]
[null,{"$f":"Adr(Wprowadzenie!I28)","v":"Wprowadzenie!$I$28"},null,null,null,null,"Tekst",null,null,"dtsf:AdresPrzedsiebiorcyZagranicznego","dtsf:Ulica",null,null,"dtsf:AdresPrzedsiebiorcyZagranicznego","etd:Ulica"]
[null,{"$f":"Adr(Wprowadzenie!I30)","v":"Wprowadzenie!$I$30"},null,null,null,null,"Tekst",null,null,"dtsf:AdresPrzedsiebiorcyZagranicznego","dtsf:NrDomu",null,null,"dtsf:AdresPrzedsiebiorcyZagranicznego","etd:NrDomu"]
[null,{"$f":"Adr(Wprowadzenie!K30)","v":"Wprowadzenie!$K$30"},null,null,null,null,"Tekst",null,null,"dtsf:AdresPrzedsiebiorcyZagranicznego","dtsf:NrLokalu",null,null,"dtsf:AdresPrzedsiebiorcyZagranicznego","etd:NrLokalu"]
[null,{"$f":"Adr(Wprowadzenie!I42)","v":"Wprowadzenie!$I$42"},null,null,null,null,"Tekst",1,null,"sf:P_1C","dtsf:KodPKD"]
[null,{"$f":"Adr(Wprowadzenie!I43)","v":"Wprowadzenie!$I$43"},null,null,null,null,"Tekst",2,null,"sf:P_1C","dtsf:KodPKD"]
[null,{"$f":"Adr(Wprowadzenie!I44)","v":"Wprowadzenie!$I$44"},null,null,null,null,"Tekst",3,null,"sf:P_1C","dtsf:KodPKD"]
[null,{"$f":"Adr(Wprowadzenie!I45)","v":"Wprowadzenie!$I$45"},null,null,null,null,"Tekst",4,null,"sf:P_1C","dtsf:KodPKD"]
[null,{"$f":"Adr(Wprowadzenie!I46)","v":"Wprowadzenie!$I$46"},null,null,null,null,"Tekst",5,null,"sf:P_1C","dtsf:KodPKD"]
[null,{"$f":"Adr(Wprowadzenie!I47)","v":"Wprowadzenie!$I$47"},null,null,null,null,"Tekst",6,null,"sf:P_1C","dtsf:KodPKD"]
[null,{"$f":"Adr(Wprowadzenie!$I$51)","v":"Wprowadzenie!$I$51"},null,null,null,null,"Tekst",null,null,"sf:InformacjeOgolneJednostkaMikro/sf:P_1","sf:P_1C"]
[null,{"$f":"Adr(Wprowadzenie!$I$51)","v":"Wprowadzenie!$I$51"},null,null,null,null,"Tekst",null,null,"sf:WprowadzenieDoSprawozdaniaFinansowegoJednostkaMala/sf:P_1","sf:P_1C"]
[null,{"$f":"Adr(Wprowadzenie!$I$51)","v":"Wprowadzenie!$I$51"},null,null,null,null,"Tekst",null,null,"sf:WprowadzenieDoSprawozdaniaFinansowegoJednostkaOp/sf:P_1","sf:P_1C"]
[null,{"$f":"Adr(Wprowadzenie!$I$51)","v":"Wprowadzenie!$I$51"},null,null,null,null,"Tekst",null,null,"sf:WprowadzenieDoSprawozdaniaFinansowegoJednostkaInna/sf:P_1","sf:P_1D"]
[null,{"$f":"Adr(Wprowadzenie!$I$51)","v":"Wprowadzenie!$I$51"},null,null,null,null,"Tekst",null,null,"xjin:WprowadzenieDoSprawozdaniaFinansowego/sf:P_1","sf:P_1D"]
[null,{"$f":"Adr(Wprowadzenie!$I$51)","v":"Wprowadzenie!$I$51"},null,null,null,null,"Tekst",null,null,"xsin:WprowadzenieDoSprawozdaniaFinansowego/sf:P_1","xsin:P_1C",null,null,"none","none"]
[null,{"$f":"Adr(Wprowadzenie!$I$53)","v":"Wprowadzenie!$I$53"},null,null,null,null,"Tekst",null,null,"xjin:WprowadzenieDoSprawozdaniaFinansowego/sf:P_1","sf:P_1E",null,null,"sf:P_1/sf:P_1D","dtsf:KRS"]
[null,{"$f":"Adr(Wprowadzenie!$I$53)","v":"Wprowadzenie!$I$53"},null,null,null,null,"Tekst",null,null,"xsin:WprowadzenieDoSprawozdaniaFinansowego/sf:P_1","xsin:P_1D",null,null,"xsin:WprowadzenieDoSprawozdaniaFinansowego/xsin:P_1","xsin:P_1C"]
[null,{"$f":"Adr(Wprowadzenie!$I$53)","v":"Wprowadzenie!$I$53"},null,null,null,null,"Tekst",null,null,"sf:InformacjeOgolneJednostkaMikro/sf:P_1","sf:P_1D",null,null,{"$f":"J43 & \"/sf:P_1C\"","v":"sf:InformacjeOgolneJednostkaMikro/sf:P_1/sf:P_1C"},"dtsf:KRS"]
[null,{"$f":"Adr(Wprowadzenie!$I$53)","v":"Wprowadzenie!$I$53"},null,null,null,null,"Tekst",null,null,"sf:WprowadzenieDoSprawozdaniaFinansowegoJednostkaMala/sf:P_1","sf:P_1D",null,null,{"$f":"J44 & \"/sf:P_1C\"","v":"sf:WprowadzenieDoSprawozdaniaFinansowegoJednostkaMala/sf:P_1/sf:P_1C"},"dtsf:KRS"]
[null,{"$f":"Adr(Wprowadzenie!$I$53)","v":"Wprowadzenie!$I$53"},null,null,null,null,"Tekst",null,null,"sf:WprowadzenieDoSprawozdaniaFinansowegoJednostkaOp/sf:P_1","sf:P_1D",null,null,"sf:WprowadzenieDoSprawozdaniaFinansowegoJednostkaOp/sf:P_1/sf:P_1C","dtsf:KRS"]
[null,{"$f":"Adr(Wprowadzenie!$I$53)","v":"Wprowadzenie!$I$53"},null,null,null,null,"Tekst",null,null,"sf:WprowadzenieDoSprawozdaniaFinansowegoJednostkaInna/sf:P_1","sf:P_1E"]
[null,{"$f":"Adr(Wprowadzenie!I57)","v":"Wprowadzenie!$I$57"},null,null,1,null,"Data",null,null,"sf:P_2","dtsf:DataOd"]
[null,{"$f":"Adr(Wprowadzenie!I59)","v":"Wprowadzenie!$I$59"},null,null,1,null,{"$f":"IF(CzyData(INDIRECT(B48)), \"Data\", \"Tekst\")","v":"Tekst"},null,null,"sf:P_2","dtsf:DataDoOpis"]
[null,{"$f":"Adr(DataOd)","v":"Nagłówek!$E$8"},null,null,null,null,"Data",null,null,"sf:P_3","dtsf:DataOd"]
[null,{"$f":"Adr(DataDo)","v":"Nagłówek!$G$8"},null,null,null,null,"Data",null,null,"sf:P_3","dtsf:DataDo"]
[null,{"$f":"Adr(Wprowadzenie!$I$81)","v":"Wprowadzenie!$I$81"},null,null,null,null,"Logiczny",null,2,"xjin:WprowadzenieDoSprawozdaniaFinansowego","xjin:P_4"]
[null,{"$f":"Adr(Wprowadzenie!$I$81)","v":"Wprowadzenie!$I$81"},null,null,null,null,"Logiczny",null,2,"xsin:WprowadzenieDoSprawozdaniaFinansowego","xsin:P_8"]
[null,{"$f":"Adr(Wprowadzenie!$I$81)","v":"Wprowadzenie!$I$81"},null,null,null,null,"Logiczny",null,2,"sf:WprowadzenieDoSprawozdaniaFinansowegoJednostkaInna","sf:P_4"]
[null,{"$f":"Adr(Wprowadzenie!$I$87)","v":"Wprowadzenie!$I$87"},null,null,null,null,"Logiczny",null,1,"xjin:P_5","xjin:P_5A"]
[null,{"$f":"Adr(Wprowadzenie!$I$90)","v":"Wprowadzenie!$I$90"},null,null,null,null,"Logiczny",null,1,"xjin:P_5","xjin:P_5B"]
[null,{"$f":"Adr(Wprowadzenie!$I$93)","v":"Wprowadzenie!$I$93"},null,null,null,null,"Tekst",null,null,"xjin:P_5","xjin:P_5C"]
[null,{"$f":"Adr(Wprowadzenie!$I$87)","v":"Wprowadzenie!$I$87"},null,null,null,null,"Logiczny",null,1,"xjma:P_5","xjma:P_5A"]
[null,{"$f":"Adr(Wprowadzenie!$I$90)","v":"Wprowadzenie!$I$90"},null,null,null,null,"Logiczny",null,1,"xjma:P_5","xjma:P_5B"]
[null,{"$f":"Adr(Wprowadzenie!$I$93)","v":"Wprowadzenie!$I$93"},null,null,null,null,"Tekst",null,null,"xjma:P_5","xjma:P_5C"]
[null,{"$f":"Adr(Wprowadzenie!$I$87)","v":"Wprowadzenie!$I$87"},null,null,null,null,"Logiczny",null,1,"xjmi:P_5","xjmi:P_5A"]
[null,{"$f":"Adr(Wprowadzenie!$I$90)","v":"Wprowadzenie!$I$90"},null,null,null,null,"Logiczny",null,1,"xjmi:P_5","xjmi:P_5B"]
[null,{"$f":"Adr(Wprowadzenie!$I$93)","v":"Wprowadzenie!$I$93"},null,null,null,null,"Tekst",null,null,"xjmi:P_5","xjmi:P_5C"]
[null,{"$f":"Adr(Wprowadzenie!$I$87)","v":"Wprowadzenie!$I$87"},null,null,null,null,"Logiczny",null,1,"xjop:P_4","xjop:P_4A"]
[null,{"$f":"Adr(Wprowadzenie!$I$90)","v":"Wprowadzenie!$I$90"},null,null,null,null,"Logiczny",null,1,"xjop:P_4","xjop:P_4B"]
[null,{"$f":"Adr(Wprowadzenie!$I$93)","v":"Wprowadzenie!$I$93"},null,null,null,null,"Tekst",null,null,"xjop:P_4","xjop:P_4C"]
[null,{"$f":"Adr(Wprowadzenie!$I$87)","v":"Wprowadzenie!$I$87"},null,null,null,null,"Logiczny",null,1,"xsin:P_9","xsin:P_9A"]
[null,{"$f":"Adr(Wprowadzenie!$I$90)","v":"Wprowadzenie!$I$90"},null,null,null,null,"Logiczny",null,1,"xsin:P_9","xsin:P_9B"]
[null,{"$f":"Adr(Wprowadzenie!$I$93)","v":"Wprowadzenie!$I$93"},null,null,null,null,"Tekst",null,null,"xsin:P_9","xsin:P_9C"]
[null,{"$f":"Adr(Wprowadzenie!$I$99)","v":"Wprowadzenie!$I$99"},null,null,null,"Exists","Logiczny",null,2,"xjin:WprowadzenieDoSprawozdaniaFinansowego","xjin:P_6"]
[null,{"$f":"Adr(Wprowadzenie!$I$102)","v":"Wprowadzenie!$I$102"},null,null,null,"Ancestor","Logiczny",null,null,"xjin:WprowadzenieDoSprawozdaniaFinansowego","xjin:P_6A"]
[null,{"$f":"Adr(Wprowadzenie!$I$105)","v":"Wprowadzenie!$I$105"},null,null,null,"Ancestor","Tekst",null,null,"xjin:WprowadzenieDoSprawozdaniaFinansowego","xjin:P_6B"]
[null,{"$f":"Adr(Wprowadzenie!$I$99)","v":"Wprowadzenie!$I$99"},null,null,null,"Exists","Logiczny",null,2,"sf:WprowadzenieDoSprawozdaniaFinansowegoJednostkaInna","sf:P_6"]
[null,{"$f":"Adr(Wprowadzenie!$I$102)","v":"Wprowadzenie!$I$102"},null,null,null,"Ancestor","Logiczny",null,null,"sf:WprowadzenieDoSprawozdaniaFinansowegoJednostkaInna","sf:P_6A"]
[null,{"$f":"Adr(Wprowadzenie!$I$105)","v":"Wprowadzenie!$I$105"},null,null,null,"Ancestor","Tekst",null,null,"sf:WprowadzenieDoSprawozdaniaFinansowegoJednostkaInna","sf:P_6B"]
[null,{"$f":"Adr(Wprowadzenie!$I$176)","v":"Wprowadzenie!$I$176"},null,null,null,"Ancestor","Mtekst",null,null,"xjin:WprowadzenieDoSprawozdaniaFinansowego","xjin:P_7A",null,null,{"$f":"J75","v":"xjin:WprowadzenieDoSprawozdaniaFinansowego"},"sf:P_7B"]
[null,{"$f":"Adr(Wprowadzenie!$I$186)","v":"Wprowadzenie!$I$186"},null,null,null,"Ancestor","Mtekst",null,null,"xjin:WprowadzenieDoSprawozdaniaFinansowego","xjin:P_7B",null,null,{"$f":"J76","v":"xjin:WprowadzenieDoSprawozdaniaFinansowego"},"sf:P_7C"]
[null,{"$f":"Adr(Wprowadzenie!$I$191)","v":"Wprowadzenie!$I$191"},null,null,null,"Ancestor","Mtekst",null,null,"xjin:WprowadzenieDoSprawozdaniaFinansowego","xjin:P_7C",null,null,"xjin:WprowadzenieDoSprawozdaniaFinansowego","sf:P_7D"]
[null,{"$f":"Adr(Wprowadzenie!$I$196)","v":"Wprowadzenie!$I$196"},null,null,null,"Ancestor","Mtekst",null,null,"xjin:WprowadzenieDoSprawozdaniaFinansowego","xjin:P_7D",null,null,"new","none"]
[null,{"$f":"Adr(Wprowadzenie!I165)","v":"Wprowadzenie!$I$165"},null,null,null,"Ancestor","Mtekst",null,null,"xsin:WprowadzenieDoSprawozdaniaFinansowego","xsin:P_11A"]
[null,{"$f":"Adr(Wprowadzenie!I171)","v":"Wprowadzenie!$I$171"},null,null,null,"Ancestor","Mtekst",null,null,"xsin:WprowadzenieDoSprawozdaniaFinansowego","xsin:P_11B"]
[null,{"$f":"Adr(Wprowadzenie!$I$176)","v":"Wprowadzenie!$I$176"},null,null,null,"Ancestor","Mtekst",null,null,"xsin:WprowadzenieDoSprawozdaniaFinansowego","xsin:P_11C"]
[null,{"$f":"Adr(Wprowadzenie!I181)","v":"Wprowadzenie!$I$181"},null,null,null,"Ancestor","Mtekst",null,null,"xsin:WprowadzenieDoSprawozdaniaFinansowego","xsin:P_11D"]
[null,{"$f":"Adr(Wprowadzenie!$I$186)","v":"Wprowadzenie!$I$186"},null,null,null,"Ancestor","Mtekst",null,null,"xsin:WprowadzenieDoSprawozdaniaFinansowego","xsin:P_11E"]
[null,{"$f":"Adr(Wprowadzenie!$I$191)","v":"Wprowadzenie!$I$191"},null,null,null,"Ancestor","Mtekst",null,null,"xsin:WprowadzenieDoSprawozdaniaFinansowego","xsin:P_11F"]
[null,{"$f":"Adr(Wprowadzenie!$I$196)","v":"Wprowadzenie!$I$196"},null,null,null,"Ancestor","Mtekst",null,null,"xsin:WprowadzenieDoSprawozdaniaFinansowego","xsin:P_11G"]
[null,{"$f":"Adr(Wprowadzenie!$I$176)","v":"Wprowadzenie!$I$176"},null,null,null,"Ancestor","Mtekst",null,null,"sf:WprowadzenieDoSprawozdaniaFinansowegoJednostkaInna","sf:P_7A",null,null,{"$f":"J86","v":"sf:WprowadzenieDoSprawozdaniaFinansowegoJednostkaInna"},"sf:P_7B"]
[null,{"$f":"Adr(Wprowadzenie!$I$186)","v":"Wprowadzenie!$I$186"},null,null,null,"Ancestor","Mtekst",null,null,"sf:WprowadzenieDoSprawozdaniaFinansowegoJednostkaInna","sf:P_7B",null,null,{"$f":"J87","v":"sf:WprowadzenieDoSprawozdaniaFinansowegoJednostkaInna"},"sf:P_7C"]
[null,{"$f":"Adr(Wprowadzenie!$I$191)","v":"Wprowadzenie!$I$191"},null,null,null,"Ancestor","Mtekst",null,null,"sf:WprowadzenieDoSprawozdaniaFinansowegoJednostkaInna","sf:P_7C",null,null,"sf:WprowadzenieDoSprawozdaniaFinansowegoJednostkaInna","sf:P_7D"]
[null,{"$f":"Adr(Wprowadzenie!$I$196)","v":"Wprowadzenie!$I$196"},null,null,null,"Ancestor","Mtekst",null,null,"sf:WprowadzenieDoSprawozdaniaFinansowegoJednostkaInna","sf:P_7D",null,null,"new","none"]
[null,{"$f":"Adr(Wprowadzenie!$I$176)","v":"Wprowadzenie!$I$176"},null,null,null,"Ancestor","Mtekst",null,null,"sf:WprowadzenieDoSprawozdaniaFinansowegoJednostkaMala","sf:P_6A",null,null,{"$f":"J90","v":"sf:WprowadzenieDoSprawozdaniaFinansowegoJednostkaMala"},"sf:P_6B"]
[null,{"$f":"Adr(Wprowadzenie!$I$186)","v":"Wprowadzenie!$I$186"},null,null,null,"Ancestor","Mtekst",null,null,"sf:WprowadzenieDoSprawozdaniaFinansowegoJednostkaMala","sf:P_6B",null,null,{"$f":"J91","v":"sf:WprowadzenieDoSprawozdaniaFinansowegoJednostkaMala"},"sf:P_6C"]
[null,{"$f":"Adr(Wprowadzenie!$I$191)","v":"Wprowadzenie!$I$191"},null,null,null,"Ancestor","Mtekst",null,null,"sf:WprowadzenieDoSprawozdaniaFinansowegoJednostkaMala","sf:P_6C",null,null,"sf:WprowadzenieDoSprawozdaniaFinansowegoJednostkaMala","sf:P_6D"]
[null,{"$f":"Adr(Wprowadzenie!$I$196)","v":"Wprowadzenie!$I$196"},null,null,null,"Ancestor","Mtekst",null,null,"sf:WprowadzenieDoSprawozdaniaFinansowegoJednostkaMala","sf:P_6D",null,null,"new","none"]
[null,{"$f":"Adr(Wprowadzenie!$I$176)","v":"Wprowadzenie!$I$176"},null,null,null,"Ancestor","Mtekst",null,null,"sf:InformacjeOgolneJednostkaMikro","sf:P_6A",null,null,{"$f":"J94","v":"sf:InformacjeOgolneJednostkaMikro"},"sf:P_6B"]
[null,{"$f":"Adr(Wprowadzenie!$I$186)","v":"Wprowadzenie!$I$186"},null,null,null,"Ancestor","Mtekst",null,null,"sf:InformacjeOgolneJednostkaMikro","sf:P_6B",null,null,{"$f":"J95","v":"sf:InformacjeOgolneJednostkaMikro"},"sf:P_6C"]
[null,{"$f":"Adr(Wprowadzenie!$I$191)","v":"Wprowadzenie!$I$191"},null,null,null,"Ancestor","Mtekst",null,null,"sf:InformacjeOgolneJednostkaMikro","sf:P_6C",null,null,"sf:InformacjeOgolneJednostkaMikro","sf:P_6D"]
[null,{"$f":"Adr(Wprowadzenie!$I$196)","v":"Wprowadzenie!$I$196"},null,null,null,"Ancestor","Mtekst",null,null,"sf:InformacjeOgolneJednostkaMikro","sf:P_6D"]
[null,{"$f":"Adr(Wprowadzenie!$I$176)","v":"Wprowadzenie!$I$176"},null,null,null,"Ancestor","Mtekst",null,null,"sf:WprowadzenieDoSprawozdaniaFinansowegoJednostkaOp","sf:P_5A",null,null,{"$f":"J98","v":"sf:WprowadzenieDoSprawozdaniaFinansowegoJednostkaOp"},"sf:P_5B"]
[null,{"$f":"Adr(Wprowadzenie!$I$186)","v":"Wprowadzenie!$I$186"},null,null,null,"Ancestor","Mtekst",null,null,"sf:WprowadzenieDoSprawozdaniaFinansowegoJednostkaOp","sf:P_5B",null,null,{"$f":"J99","v":"sf:WprowadzenieDoSprawozdaniaFinansowegoJednostkaOp"},"sf:P_5C"]
[null,{"$f":"Adr(Wprowadzenie!$I$191)","v":"Wprowadzenie!$I$191"},null,null,null,"Ancestor","Mtekst",null,null,"sf:WprowadzenieDoSprawozdaniaFinansowegoJednostkaOp","sf:P_5C",null,null,"sf:WprowadzenieDoSprawozdaniaFinansowegoJednostkaOp","sf:P_5D"]
[null,{"$f":"Adr(Wprowadzenie!$I$196)","v":"Wprowadzenie!$I$196"},null,null,null,"Ancestor","Mtekst",null,null,"sf:WprowadzenieDoSprawozdaniaFinansowegoJednostkaOp","sf:P_5D",null,null,"new","none"]
[null,{"$f":"Adr(Wprowadzenie!I202)","v":"Wprowadzenie!$I$202"},null,null,null,null,"Tekst",null,null,"xsin:WprowadzenieDoSprawozdaniaFinansowego","xsin:P_12"]
[null,{"$f":"Adr(Wprowadzenie!I207)","v":"Wprowadzenie!$I$207"},null,null,null,null,"Tekst",null,null,"xsin:WprowadzenieDoSprawozdaniaFinansowego","xsin:P_13"]
[null,{"$f":"Adr(Wprowadzenie!$I$213)","v":"Wprowadzenie!$I$213"},null,null,null,"Pidx","Tekst",1,null,"sf:P_8","dtsf:NazwaPozycji"]
[null,{"$f":"Adr(Wprowadzenie!$I$215)","v":"Wprowadzenie!$I$215"},null,null,null,"Pidx","Mtekst",1,null,"sf:P_8","dtsf:Opis"]
[null,{"$f":"Adr(Wprowadzenie!$I$219)","v":"Wprowadzenie!$I$219"},null,null,null,"Pidx","Tekst",2,null,"sf:P_8","dtsf:NazwaPozycji"]
[null,{"$f":"Adr(Wprowadzenie!$I$221)","v":"Wprowadzenie!$I$221"},null,null,null,"Pidx","Mtekst",2,null,"sf:P_8","dtsf:Opis"]
[null,{"$f":"Adr(Wprowadzenie!$I$225)","v":"Wprowadzenie!$I$225"},null,null,null,"Pidx","Tekst",3,null,"sf:P_8","dtsf:NazwaPozycji"]
[null,{"$f":"Adr(Wprowadzenie!$I$227)","v":"Wprowadzenie!$I$227"},null,null,null,"Pidx","Mtekst",3,null,"sf:P_8","dtsf:Opis"]
[null,{"$f":"Adr(Wprowadzenie!$I$231)","v":"Wprowadzenie!$I$231"},null,null,null,"Pidx","Tekst",4,null,"sf:P_8","dtsf:NazwaPozycji"]
[null,{"$f":"Adr(Wprowadzenie!$I$233)","v":"Wprowadzenie!$I$233"},null,null,null,"Pidx","Mtekst",4,null,"sf:P_8","dtsf:Opis"]
[null,{"$f":"Adr(Wprowadzenie!$I$213)","v":"Wprowadzenie!$I$213"},null,null,null,"Pidx","Tekst",1,null,"xsin:P_14","dtsf:NazwaPozycji"]
[null,{"$f":"Adr(Wprowadzenie!$I$215)","v":"Wprowadzenie!$I$215"},null,null,null,"Pidx","Mtekst",1,null,"xsin:P_14","dtsf:Opis"]
[null,{"$f":"Adr(Wprowadzenie!$I$219)","v":"Wprowadzenie!$I$219"},null,null,null,"Pidx","Tekst",2,null,"xsin:P_14","dtsf:NazwaPozycji"]
[null,{"$f":"Adr(Wprowadzenie!$I$221)","v":"Wprowadzenie!$I$221"},null,null,null,"Pidx","Mtekst",2,null,"xsin:P_14","dtsf:Opis"]
[null,{"$f":"Adr(Wprowadzenie!$I$225)","v":"Wprowadzenie!$I$225"},null,null,null,"Pidx","Tekst",3,null,"xsin:P_14","dtsf:NazwaPozycji"]
[null,{"$f":"Adr(Wprowadzenie!$I$227)","v":"Wprowadzenie!$I$227"},null,null,null,"Pidx","Mtekst",3,null,"xsin:P_14","dtsf:Opis"]
[null,{"$f":"Adr(Wprowadzenie!$I$231)","v":"Wprowadzenie!$I$231"},null,null,null,"Pidx","Tekst",4,null,"xsin:P_14","dtsf:NazwaPozycji"]
[null,{"$f":"Adr(Wprowadzenie!$I$233)","v":"Wprowadzenie!$I$233"},null,null,null,"Pidx","Mtekst",4,null,"xsin:P_14","dtsf:Opis"]
[null,{"$f":"Adr(Wprowadzenie!$I$73)","v":"Wprowadzenie!$I$73"},null,null,null,null,"Tekst",null,null,"sf:WprowadzenieDoSprawozdaniaFinansowegoJednostkaInna","sf:P_9"]
[null,{"$f":"Adr(Wprowadzenie!$I$73)","v":"Wprowadzenie!$I$73"},null,null,null,null,"Tekst",null,null,"sf:WprowadzenieDoSprawozdaniaFinansowegoJednostkaMala","sf:P_4"]
[null,{"$f":"Adr(Wprowadzenie!$I$73)","v":"Wprowadzenie!$I$73"},null,null,null,null,"Tekst",null,null,"sf:InformacjeOgolneJednostkaMikro","sf:P_4"]
[null,{"$f":"Adr(Wprowadzenie!$I$213)","v":"Wprowadzenie!$I$213"},null,null,null,"Pidx","Tekst",1,null,"sf:P_7","dtsf:NazwaPozycji"]
[null,{"$f":"Adr(Wprowadzenie!$I$215)","v":"Wprowadzenie!$I$215"},null,null,null,"Pidx","Mtekst",1,null,"sf:P_7","dtsf:Opis"]
[null,{"$f":"Adr(Wprowadzenie!$I$219)","v":"Wprowadzenie!$I$219"},null,null,null,"Pidx","Tekst",2,null,"sf:P_7","dtsf:NazwaPozycji"]
[null,{"$f":"Adr(Wprowadzenie!$I$221)","v":"Wprowadzenie!$I$221"},null,null,null,"Pidx","Mtekst",2,null,"sf:P_7","dtsf:Opis"]
[null,{"$f":"Adr(Wprowadzenie!$I$225)","v":"Wprowadzenie!$I$225"},null,null,null,"Pidx","Tekst",3,null,"sf:P_7","dtsf:NazwaPozycji"]
[null,{"$f":"Adr(Wprowadzenie!$I$227)","v":"Wprowadzenie!$I$227"},null,null,null,"Pidx","Mtekst",3,null,"sf:P_7","dtsf:Opis"]
[null,{"$f":"Adr(Wprowadzenie!$I$231)","v":"Wprowadzenie!$I$231"},null,null,null,"Pidx","Tekst",4,null,"sf:P_7","dtsf:NazwaPozycji"]
[null,{"$f":"Adr(Wprowadzenie!$I$233)","v":"Wprowadzenie!$I$233"},null,null,null,"Pidx","Mtekst",4,null,"sf:P_7","dtsf:Opis"]
[null,{"$f":"Adr(Wprowadzenie!$I$213)","v":"Wprowadzenie!$I$213"},null,null,null,"Pidx","Tekst",1,null,"xjop:P_6","dtsf:NazwaPozycji"]
[null,{"$f":"Adr(Wprowadzenie!$I$215)","v":"Wprowadzenie!$I$215"},null,null,null,"Pidx","Mtekst",1,null,"xjop:P_6","dtsf:Opis"]
[null,{"$f":"Adr(Wprowadzenie!$I$219)","v":"Wprowadzenie!$I$219"},null,null,null,"Pidx","Tekst",2,null,"xjop:P_6","dtsf:NazwaPozycji"]
[null,{"$f":"Adr(Wprowadzenie!$I$221)","v":"Wprowadzenie!$I$221"},null,null,null,"Pidx","Mtekst",2,null,"xjop:P_6","dtsf:Opis"]
[null,{"$f":"Adr(Wprowadzenie!$I$225)","v":"Wprowadzenie!$I$225"},null,null,null,"Pidx","Tekst",3,null,"xjop:P_6","dtsf:NazwaPozycji"]
[null,{"$f":"Adr(Wprowadzenie!$I$227)","v":"Wprowadzenie!$I$227"},null,null,null,"Pidx","Mtekst",3,null,"xjop:P_6","dtsf:Opis"]
[null,{"$f":"Adr(Wprowadzenie!$I$231)","v":"Wprowadzenie!$I$231"},null,null,null,"Pidx","Tekst",4,null,"xjop:P_6","dtsf:NazwaPozycji"]
[null,{"$f":"Adr(Wprowadzenie!$I$233)","v":"Wprowadzenie!$I$233"},null,null,null,"Pidx","Mtekst",4,null,"xjop:P_6","dtsf:Opis"]
[null,{"$f":"Adr_Bilans & \"!$V$97\"","v":"Bilans!$V$97"},null,null,null,null,"Kwota",null,"*SumUp","jin:Aktywa","dtsf:KwotaA"]
[null,{"$f":"Adr_Bilans & \"!$W$97\"","v":"Bilans!$W$97"},null,null,null,null,"Kwota",null,"*SumUp","jin:Aktywa","dtsf:KwotaB"]
[null,{"$f":"Adr_Bilans & \"!$V$6\"","v":"Bilans!$V$6"},null,null,null,null,"Kwota",null,"*Sum","jin:Aktywa_A","dtsf:KwotaA"]
[null,{"$f":"Adr_Bilans & \"!$W$6\"","v":"Bilans!$W$6"},null,null,null,null,"Kwota",null,"*Sum","jin:Aktywa_A","dtsf:KwotaB"]
[null,{"$f":"Adr_Bilans & \"!$V$7\"","v":"Bilans!$V$7"},null,null,null,null,"Kwota",null,"*Sum","jin:Aktywa_A_I","dtsf:KwotaA"]
[null,{"$f":"Adr_Bilans & \"!$W$7\"","v":"Bilans!$W$7"},null,null,null,null,"Kwota",null,"*Sum","jin:Aktywa_A_I","dtsf:KwotaB"]
[null,{"$f":"Adr_Bilans & \"!$V$8\"","v":"Bilans!$V$8"},null,null,null,null,"Kwota",null,null,"jin:Aktywa_A_I_1","dtsf:KwotaA"]
[null,{"$f":"Adr_Bilans & \"!$W$8\"","v":"Bilans!$W$8"},null,null,null,null,"Kwota",null,null,"jin:Aktywa_A_I_1","dtsf:KwotaB"]
[null,{"$f":"Adr_Bilans & \"!$V$9\"","v":"Bilans!$V$9"},null,null,null,null,"Kwota",null,null,"jin:Aktywa_A_I_2","dtsf:KwotaA"]
[null,{"$f":"Adr_Bilans & \"!$W$9\"","v":"Bilans!$W$9"},null,null,null,null,"Kwota",null,null,"jin:Aktywa_A_I_2","dtsf:KwotaB"]
[null,{"$f":"Adr_Bilans & \"!$V$10\"","v":"Bilans!$V$10"},null,null,null,null,"Kwota",null,null,"jin:Aktywa_A_I_3","dtsf:KwotaA"]
[null,{"$f":"Adr_Bilans & \"!$W$10\"","v":"Bilans!$W$10"},null,null,null,null,"Kwota",null,null,"jin:Aktywa_A_I_3","dtsf:KwotaB"]
[null,{"$f":"Adr_Bilans & \"!$V$11\"","v":"Bilans!$V$11"},null,null,null,null,"Kwota",null,null,"jin:Aktywa_A_I_4","dtsf:KwotaA"]
[null,{"$f":"Adr_Bilans & \"!$W$11\"","v":"Bilans!$W$11"},null,null,null,null,"Kwota",null,null,"jin:Aktywa_A_I_4","dtsf:KwotaB"]
[null,{"$f":"Adr_Bilans & \"!$V$12\"","v":"Bilans!$V$12"},null,null,null,null,"Kwota",null,"*Sum","jin:Aktywa_A_II","dtsf:KwotaA"]
[null,{"$f":"Adr_Bilans & \"!$W$12\"","v":"Bilans!$W$12"},null,null,null,null,"Kwota",null,"*Sum","jin:Aktywa_A_II","dtsf:KwotaB"]
[null,{"$f":"Adr_Bilans & \"!$V$13\"","v":"Bilans!$V$13"},null,null,null,null,"Kwota",null,"*Sum","jin:Aktywa_A_II_1","dtsf:KwotaA"]
[null,{"$f":"Adr_Bilans & \"!$W$13\"","v":"Bilans!$W$13"},null,null,null,null,"Kwota",null,"*Sum","jin:Aktywa_A_II_1","dtsf:KwotaB"]
[null,{"$f":"Adr_Bilans & \"!$V$14\"","v":"Bilans!$V$14"},null,null,null,null,"Kwota",null,null,"jin:Aktywa_A_II_1_A","dtsf:KwotaA"]
[null,{"$f":"Adr_Bilans & \"!$W$14\"","v":"Bilans!$W$14"},null,null,null,null,"Kwota",null,null,"jin:Aktywa_A_II_1_A","dtsf:KwotaB"]
[null,{"$f":"Adr_Bilans & \"!$V$15\"","v":"Bilans!$V$15"},null,null,null,null,"Kwota",null,null,"jin:Aktywa_A_II_1_B","dtsf:KwotaA"]
[null,{"$f":"Adr_Bilans & \"!$W$15\"","v":"Bilans!$W$15"},null,null,null,null,"Kwota",null,null,"jin:Aktywa_A_II_1_B","dtsf:KwotaB"]
[null,{"$f":"Adr_Bilans & \"!$V$16\"","v":"Bilans!$V$16"},null,null,null,null,"Kwota",null,null,"jin:Aktywa_A_II_1_C","dtsf:KwotaA"]
[null,{"$f":"Adr_Bilans & \"!$W$16\"","v":"Bilans!$W$16"},null,null,null,null,"Kwota",null,null,"jin:Aktywa_A_II_1_C","dtsf:KwotaB"]
[null,{"$f":"Adr_Bilans & \"!$V$17\"","v":"Bilans!$V$17"},null,null,null,null,"Kwota",null,null,"jin:Aktywa_A_II_1_D","dtsf:KwotaA"]
[null,{"$f":"Adr_Bilans & \"!$W$17\"","v":"Bilans!$W$17"},null,null,null,null,"Kwota",null,null,"jin:Aktywa_A_II_1_D","dtsf:KwotaB"]
[null,{"$f":"Adr_Bilans & \"!$V$18\"","v":"Bilans!$V$18"},null,null,null,null,"Kwota",null,null,"jin:Aktywa_A_II_1_E","dtsf:KwotaA"]
[null,{"$f":"Adr_Bilans & \"!$W$18\"","v":"Bilans!$W$18"},null,null,null,null,"Kwota",null,null,"jin:Aktywa_A_II_1_E","dtsf:KwotaB"]
[null,{"$f":"Adr_Bilans & \"!$V$19\"","v":"Bilans!$V$19"},null,null,null,null,"Kwota",null,null,"jin:Aktywa_A_II_2","dtsf:KwotaA"]
[null,{"$f":"Adr_Bilans & \"!$W$19\"","v":"Bilans!$W$19"},null,null,null,null,"Kwota",null,null,"jin:Aktywa_A_II_2","dtsf:KwotaB"]
[null,{"$f":"Adr_Bilans & \"!$V$20\"","v":"Bilans!$V$20"},null,null,null,null,"Kwota",null,null,"jin:Aktywa_A_II_3","dtsf:KwotaA"]
[null,{"$f":"Adr_Bilans & \"!$W$20\"","v":"Bilans!$W$20"},null,null,null,null,"Kwota",null,null,"jin:Aktywa_A_II_3","dtsf:KwotaB"]
[null,{"$f":"Adr_Bilans & \"!$V$21\"","v":"Bilans!$V$21"},null,null,null,null,"Kwota",null,"*Sum","jin:Aktywa_A_III","dtsf:KwotaA"]
[null,{"$f":"Adr_Bilans & \"!$W$21\"","v":"Bilans!$W$21"},null,null,null,null,"Kwota",null,"*Sum","jin:Aktywa_A_III","dtsf:KwotaB"]
[null,{"$f":"Adr_Bilans & \"!$V$22\"","v":"Bilans!$V$22"},null,null,null,null,"Kwota",null,null,"jin:Aktywa_A_III_1","dtsf:KwotaA"]
[null,{"$f":"Adr_Bilans & \"!$W$22\"","v":"Bilans!$W$22"},null,null,null,null,"Kwota",null,null,"jin:Aktywa_A_III_1","dtsf:KwotaB"]
[null,{"$f":"Adr_Bilans & \"!$V$23\"","v":"Bilans!$V$23"},null,null,null,null,"Kwota",null,null,"jin:Aktywa_A_III_2","dtsf:KwotaA"]
[null,{"$f":"Adr_Bilans & \"!$W$23\"","v":"Bilans!$W$23"},null,null,null,null,"Kwota",null,null,"jin:Aktywa_A_III_2","dtsf:KwotaB"]
[null,{"$f":"Adr_Bilans & \"!$V$24\"","v":"Bilans!$V$24"},null,null,null,null,"Kwota",null,null,"jin:Aktywa_A_III_3","dtsf:KwotaA"]
[null,{"$f":"Adr_Bilans & \"!$W$24\"","v":"Bilans!$W$24"},null,null,null,null,"Kwota",null,null,"jin:Aktywa_A_III_3","dtsf:KwotaB"]
[null,{"$f":"Adr_Bilans & \"!$V$25\"","v":"Bilans!$V$25"},null,null,null,null,"Kwota",null,"*Sum","jin:Aktywa_A_IV","dtsf:KwotaA"]
[null,{"$f":"Adr_Bilans & \"!$W$25\"","v":"Bilans!$W$25"},null,null,null,null,"Kwota",null,"*Sum","jin:Aktywa_A_IV","dtsf:KwotaB"]
[null,{"$f":"Adr_Bilans & \"!$V$26\"","v":"Bilans!$V$26"},null,null,null,null,"Kwota",null,null,"jin:Aktywa_A_IV_1","dtsf:KwotaA"]
[null,{"$f":"Adr_Bilans & \"!$W$26\"","v":"Bilans!$W$26"},null,null,null,null,"Kwota",null,null,"jin:Aktywa_A_IV_1","dtsf:KwotaB"]
[null,{"$f":"Adr_Bilans & \"!$V$27\"","v":"Bilans!$V$27"},null,null,null,null,"Kwota",null,null,"jin:Aktywa_A_IV_2","dtsf:KwotaA"]
[null,{"$f":"Adr_Bilans & \"!$W$27\"","v":"Bilans!$W$27"},null,null,null,null,"Kwota",null,null,"jin:Aktywa_A_IV_2","dtsf:KwotaB"]
[null,{"$f":"Adr_Bilans & \"!$V$28\"","v":"Bilans!$V$28"},null,null,null,null,"Kwota",null,"*Sum","jin:Aktywa_A_IV_3","dtsf:KwotaA"]
[null,{"$f":"Adr_Bilans & \"!$W$28\"","v":"Bilans!$W$28"},null,null,null,null,"Kwota",null,"*Sum","jin:Aktywa_A_IV_3","dtsf:KwotaB"]
[null,{"$f":"Adr_Bilans & \"!$V$29\"","v":"Bilans!$V$29"},null,null,null,null,"Kwota",null,"*Sum","jin:Aktywa_A_IV_3_A","dtsf:KwotaA"]
[null,{"$f":"Adr_Bilans & \"!$W$29\"","v":"Bilans!$W$29"},null,null,null,null,"Kwota",null,"*Sum","jin:Aktywa_A_IV_3_A","dtsf:KwotaB"]
[null,{"$f":"Adr_Bilans & \"!$V$30\"","v":"Bilans!$V$30"},null,null,null,null,"Kwota",null,null,"jin:Aktywa_A_IV_3_A_1","dtsf:KwotaA"]
[null,{"$f":"Adr_Bilans & \"!$W$30\"","v":"Bilans!$W$30"},null,null,null,null,"Kwota",null,null,"jin:Aktywa_A_IV_3_A_1","dtsf:KwotaB"]
[null,{"$f":"Adr_Bilans & \"!$V$31\"","v":"Bilans!$V$31"},null,null,null,null,"Kwota",null,null,"jin:Aktywa_A_IV_3_A_2","dtsf:KwotaA"]
[null,{"$f":"Adr_Bilans & \"!$W$31\"","v":"Bilans!$W$31"},null,null,null,null,"Kwota",null,null,"jin:Aktywa_A_IV_3_A_2","dtsf:KwotaB"]
[null,{"$f":"Adr_Bilans & \"!$V$32\"","v":"Bilans!$V$32"},null,null,null,null,"Kwota",null,null,"jin:Aktywa_A_IV_3_A_3","dtsf:KwotaA"]
[null,{"$f":"Adr_Bilans & \"!$W$32\"","v":"Bilans!$W$32"},null,null,null,null,"Kwota",null,null,"jin:Aktywa_A_IV_3_A_3","dtsf:KwotaB"]
[null,{"$f":"Adr_Bilans & \"!$V$33\"","v":"Bilans!$V$33"},null,null,null,null,"Kwota",null,null,"jin:Aktywa_A_IV_3_A_4","dtsf:KwotaA"]
[null,{"$f":"Adr_Bilans & \"!$W$33\"","v":"Bilans!$W$33"},null,null,null,null,"Kwota",null,null,"jin:Aktywa_A_IV_3_A_4","dtsf:KwotaB"]
[null,{"$f":"Adr_Bilans & \"!$V$35\"","v":"Bilans!$V$35"},null,null,null,null,"Kwota",null,"*Sum","jin:Aktywa_A_IV_3_B","dtsf:KwotaA"]
[null,{"$f":"Adr_Bilans & \"!$W$35\"","v":"Bilans!$W$35"},null,null,null,null,"Kwota",null,"*Sum","jin:Aktywa_A_IV_3_B","dtsf:KwotaB"]
[null,{"$f":"Adr_Bilans & \"!$V$36\"","v":"Bilans!$V$36"},null,null,null,null,"Kwota",null,null,"jin:Aktywa_A_IV_3_B_1","dtsf:KwotaA"]
[null,{"$f":"Adr_Bilans & \"!$W$36\"","v":"Bilans!$W$36"},null,null,null,null,"Kwota",null,null,"jin:Aktywa_A_IV_3_B_1","dtsf:KwotaB"]
[null,{"$f":"Adr_Bilans & \"!$V$37\"","v":"Bilans!$V$37"},null,null,null,null,"Kwota",null,null,"jin:Aktywa_A_IV_3_B_2","dtsf:KwotaA"]
[null,{"$f":"Adr_Bilans & \"!$W$37\"","v":"Bilans!$W$37"},null,null,null,null,"Kwota",null,null,"jin:Aktywa_A_IV_3_B_2","dtsf:KwotaB"]
[null,{"$f":"Adr_Bilans & \"!$V$38\"","v":"Bilans!$V$38"},null,null,null,null,"Kwota",null,null,"jin:Aktywa_A_IV_3_B_3","dtsf:KwotaA"]
[null,{"$f":"Adr_Bilans & \"!$W$38\"","v":"Bilans!$W$38"},null,null,null,null,"Kwota",null,null,"jin:Aktywa_A_IV_3_B_3","dtsf:KwotaB"]
[null,{"$f":"Adr_Bilans & \"!$V$39\"","v":"Bilans!$V$39"},null,null,null,null,"Kwota",null,null,"jin:Aktywa_A_IV_3_B_4","dtsf:KwotaA"]
[null,{"$f":"Adr_Bilans & \"!$W$39\"","v":"Bilans!$W$39"},null,null,null,null,"Kwota",null,null,"jin:Aktywa_A_IV_3_B_4","dtsf:KwotaB"]
[null,{"$f":"Adr_Bilans & \"!$V$40\"","v":"Bilans!$V$40"},null,null,null,null,"Kwota",null,"*Sum","jin:Aktywa_A_IV_3_C","dtsf:KwotaA"]
[null,{"$f":"Adr_Bilans & \"!$W$40\"","v":"Bilans!$W$40"},null,null,null,null,"Kwota",null,"*Sum","jin:Aktywa_A_IV_3_C","dtsf:KwotaB"]
[null,{"$f":"Adr_Bilans & \"!$V$41\"","v":"Bilans!$V$41"},null,null,null,null,"Kwota",null,null,"jin:Aktywa_A_IV_3_C_1","dtsf:KwotaA"]
[null,{"$f":"Adr_Bilans & \"!$W$41\"","v":"Bilans!$W$41"},null,null,null,null,"Kwota",null,null,"jin:Aktywa_A_IV_3_C_1","dtsf:KwotaB"]
[null,{"$f":"Adr_Bilans & \"!$V$42\"","v":"Bilans!$V$42"},null,null,null,null,"Kwota",null,null,"jin:Aktywa_A_IV_3_C_2","dtsf:KwotaA"]
[null,{"$f":"Adr_Bilans & \"!$W$42\"","v":"Bilans!$W$42"},null,null,null,null,"Kwota",null,null,"jin:Aktywa_A_IV_3_C_2","dtsf:KwotaB"]
[null,{"$f":"Adr_Bilans & \"!$V$43\"","v":"Bilans!$V$43"},null,null,null,null,"Kwota",null,null,"jin:Aktywa_A_IV_3_C_3","dtsf:KwotaA"]
[null,{"$f":"Adr_Bilans & \"!$W$43\"","v":"Bilans!$W$43"},null,null,null,null,"Kwota",null,null,"jin:Aktywa_A_IV_3_C_3","dtsf:KwotaB"]
[null,{"$f":"Adr_Bilans & \"!$V$44\"","v":"Bilans!$V$44"},null,null,null,null,"Kwota",null,null,"jin:Aktywa_A_IV_3_C_4","dtsf:KwotaA"]
[null,{"$f":"Adr_Bilans & \"!$W$44\"","v":"Bilans!$W$44"},null,null,null,null,"Kwota",null,null,"jin:Aktywa_A_IV_3_C_4","dtsf:KwotaB"]
[null,{"$f":"Adr_Bilans & \"!$V$45\"","v":"Bilans!$V$45"},null,null,null,null,"Kwota",null,null,"jin:Aktywa_A_IV_4","dtsf:KwotaA"]
[null,{"$f":"Adr_Bilans & \"!$W$45\"","v":"Bilans!$W$45"},null,null,null,null,"Kwota",null,null,"jin:Aktywa_A_IV_4","dtsf:KwotaB"]
[null,{"$f":"Adr_Bilans & \"!$V$46\"","v":"Bilans!$V$46"},null,null,null,null,"Kwota",null,"*Sum","jin:Aktywa_A_V","dtsf:KwotaA"]
[null,{"$f":"Adr_Bilans & \"!$W$46\"","v":"Bilans!$W$46"},null,null,null,null,"Kwota",null,"*Sum","jin:Aktywa_A_V","dtsf:KwotaB"]
[null,{"$f":"Adr_Bilans & \"!$V$47\"","v":"Bilans!$V$47"},null,null,null,null,"Kwota",null,null,"jin:Aktywa_A_V_1","dtsf:KwotaA"]
[null,{"$f":"Adr_Bilans & \"!$W$47\"","v":"Bilans!$W$47"},null,null,null,null,"Kwota",null,null,"jin:Aktywa_A_V_1","dtsf:KwotaB"]
[null,{"$f":"Adr_Bilans & \"!$V$48\"","v":"Bilans!$V$48"},null,null,null,null,"Kwota",null,null,"jin:Aktywa_A_V_2","dtsf:KwotaA"]
[null,{"$f":"Adr_Bilans & \"!$W$48\"","v":"Bilans!$W$48"},null,null,null,null,"Kwota",null,null,"jin:Aktywa_A_V_2","dtsf:KwotaB"]
[null,{"$f":"Adr_Bilans & \"!$V$49\"","v":"Bilans!$V$49"},null,null,null,null,"Kwota",null,"*Sum","jin:Aktywa_B","dtsf:KwotaA"]
[null,{"$f":"Adr_Bilans & \"!$W$49\"","v":"Bilans!$W$49"},null,null,null,null,"Kwota",null,"*Sum","jin:Aktywa_B","dtsf:KwotaB"]
[null,{"$f":"Adr_Bilans & \"!$V$50\"","v":"Bilans!$V$50"},null,null,null,null,"Kwota",null,"*Sum","jin:Aktywa_B_I","dtsf:KwotaA"]
[null,{"$f":"Adr_Bilans & \"!$W$50\"","v":"Bilans!$W$50"},null,null,null,null,"Kwota",null,"*Sum","jin:Aktywa_B_I","dtsf:KwotaB"]
[null,{"$f":"Adr_Bilans & \"!$V$51\"","v":"Bilans!$V$51"},null,null,null,null,"Kwota",null,null,"jin:Aktywa_B_I_1","dtsf:KwotaA"]
[null,{"$f":"Adr_Bilans & \"!$W$51\"","v":"Bilans!$W$51"},null,null,null,null,"Kwota",null,null,"jin:Aktywa_B_I_1","dtsf:KwotaB"]
[null,{"$f":"Adr_Bilans & \"!$V$52\"","v":"Bilans!$V$52"},null,null,null,null,"Kwota",null,null,"jin:Aktywa_B_I_2","dtsf:KwotaA"]
[null,{"$f":"Adr_Bilans & \"!$W$52\"","v":"Bilans!$W$52"},null,null,null,null,"Kwota",null,null,"jin:Aktywa_B_I_2","dtsf:KwotaB"]
[null,{"$f":"Adr_Bilans & \"!$O$53\"","v":"Bilans!$O$53"},{"$f":"IF(OR(ISNUMBER(INDIRECT(B234)),ISNUMBER(INDIRECT(B235)),ISNUMBER(INDIRECT(B236))),\"ExportLabel\",\"\")","v":""},{"$f":"IF(C233=\"\",\"ImportOnly\",\"\")","v":"ImportOnly"},null,"Label","Tekst",null,"=teksty!$D$468","jin:Aktywa_B_I_2/dtsf:PozycjaUszczegolawiajaca[1]","dtsf:NazwaPozycji"]
[null,{"$f":"Adr_Bilans & \"!$V$53\"","v":"Bilans!$V$53"},null,null,null,null,"Kwota",null,null,"jin:Aktywa_B_I_2/dtsf:PozycjaUszczegolawiajaca[1]/dtsf:KwotyPozycji","dtsf:KwotaA"]
[null,{"$f":"Adr_Bilans & \"!$W$53\"","v":"Bilans!$W$53"},null,null,null,null,"Kwota",null,null,"jin:Aktywa_B_I_2/dtsf:PozycjaUszczegolawiajaca[1]/dtsf:KwotyPozycji","dtsf:KwotaB"]
[null,{"$f":"Adr_Bilans & \"!$X$53\"","v":"Bilans!$X$53"},null,null,null,null,"Kwota",null,null,"jin:Aktywa_B_I_2/dtsf:PozycjaUszczegolawiajaca[1]/dtsf:KwotyPozycji","dtsf:KwotaB1"]
[null,{"$f":"Adr_Bilans & \"!$V$54\"","v":"Bilans!$V$54"},null,null,null,null,"Kwota",null,null,"jin:Aktywa_B_I_3","dtsf:KwotaA"]
[null,{"$f":"Adr_Bilans & \"!$W$54\"","v":"Bilans!$W$54"},null,null,null,null,"Kwota",null,null,"jin:Aktywa_B_I_3","dtsf:KwotaB"]
[null,{"$f":"Adr_Bilans & \"!$V$55\"","v":"Bilans!$V$55"},null,null,null,null,"Kwota",null,null,"jin:Aktywa_B_I_4","dtsf:KwotaA"]
[null,{"$f":"Adr_Bilans & \"!$W$55\"","v":"Bilans!$W$55"},null,null,null,null,"Kwota",null,null,"jin:Aktywa_B_I_4","dtsf:KwotaB"]
[null,{"$f":"Adr_Bilans & \"!$V$56\"","v":"Bilans!$V$56"},null,null,null,null,"Kwota",null,null,"jin:Aktywa_B_I_5","dtsf:KwotaA"]
[null,{"$f":"Adr_Bilans & \"!$W$56\"","v":"Bilans!$W$56"},null,null,null,null,"Kwota",null,null,"jin:Aktywa_B_I_5","dtsf:KwotaB"]
[null,{"$f":"Adr_Bilans & \"!$V$57\"","v":"Bilans!$V$57"},null,null,null,null,"Kwota",null,"*Sum","jin:Aktywa_B_II","dtsf:KwotaA"]
[null,{"$f":"Adr_Bilans & \"!$W$57\"","v":"Bilans!$W$57"},null,null,null,null,"Kwota",null,"*Sum","jin:Aktywa_B_II","dtsf:KwotaB"]
[null,{"$f":"Adr_Bilans & \"!$V$58\"","v":"Bilans!$V$58"},null,null,null,null,"Kwota",null,"*Sum","jin:Aktywa_B_II_1","dtsf:KwotaA"]
[null,{"$f":"Adr_Bilans & \"!$W$58\"","v":"Bilans!$W$58"},null,null,null,null,"Kwota",null,"*Sum","jin:Aktywa_B_II_1","dtsf:KwotaB"]
[null,{"$f":"Adr_Bilans & \"!$V$59\"","v":"Bilans!$V$59"},null,null,null,null,"Kwota",null,"*Sum","jin:Aktywa_B_II_1_A","dtsf:KwotaA"]
[null,{"$f":"Adr_Bilans & \"!$W$59\"","v":"Bilans!$W$59"},null,null,null,null,"Kwota",null,"*Sum","jin:Aktywa_B_II_1_A","dtsf:KwotaB"]
[null,{"$f":"Adr_Bilans & \"!$V$60\"","v":"Bilans!$V$60"},null,null,null,null,"Kwota",null,null,"jin:Aktywa_B_II_1_A_1","dtsf:KwotaA"]
[null,{"$f":"Adr_Bilans & \"!$W$60\"","v":"Bilans!$W$60"},null,null,null,null,"Kwota",null,null,"jin:Aktywa_B_II_1_A_1","dtsf:KwotaB"]
[null,{"$f":"Adr_Bilans & \"!$V$61\"","v":"Bilans!$V$61"},null,null,null,null,"Kwota",null,null,"jin:Aktywa_B_II_1_A_2","dtsf:KwotaA"]
[null,{"$f":"Adr_Bilans & \"!$W$61\"","v":"Bilans!$W$61"},null,null,null,null,"Kwota",null,null,"jin:Aktywa_B_II_1_A_2","dtsf:KwotaB"]
[null,{"$f":"Adr_Bilans & \"!$V$62\"","v":"Bilans!$V$62"},null,null,null,null,"Kwota",null,null,"jin:Aktywa_B_II_1_B","dtsf:KwotaA"]
[null,{"$f":"Adr_Bilans & \"!$W$62\"","v":"Bilans!$W$62"},null,null,null,null,"Kwota",null,null,"jin:Aktywa_B_II_1_B","dtsf:KwotaB"]
[null,{"$f":"Adr_Bilans & \"!$V$64\"","v":"Bilans!$V$64"},null,null,null,null,"Kwota",null,"*Sum","jin:Aktywa_B_II_2","dtsf:KwotaA"]
[null,{"$f":"Adr_Bilans & \"!$W$64\"","v":"Bilans!$W$64"},null,null,null,null,"Kwota",null,"*Sum","jin:Aktywa_B_II_2","dtsf:KwotaB"]
[null,{"$f":"Adr_Bilans & \"!$V$65\"","v":"Bilans!$V$65"},null,null,null,null,"Kwota",null,"*Sum","jin:Aktywa_B_II_2_A","dtsf:KwotaA"]
[null,{"$f":"Adr_Bilans & \"!$W$65\"","v":"Bilans!$W$65"},null,null,null,null,"Kwota",null,"*Sum","jin:Aktywa_B_II_2_A","dtsf:KwotaB"]
[null,{"$f":"Adr_Bilans & \"!$V$66\"","v":"Bilans!$V$66"},null,null,null,null,"Kwota",null,null,"jin:Aktywa_B_II_2_A_1","dtsf:KwotaA"]
[null,{"$f":"Adr_Bilans & \"!$W$66\"","v":"Bilans!$W$66"},null,null,null,null,"Kwota",null,null,"jin:Aktywa_B_II_2_A_1","dtsf:KwotaB"]
[null,{"$f":"Adr_Bilans & \"!$V$67\"","v":"Bilans!$V$67"},null,null,null,null,"Kwota",null,null,"jin:Aktywa_B_II_2_A_2","dtsf:KwotaA"]
[null,{"$f":"Adr_Bilans & \"!$W$67\"","v":"Bilans!$W$67"},null,null,null,null,"Kwota",null,null,"jin:Aktywa_B_II_2_A_2","dtsf:KwotaB"]
[null,{"$f":"Adr_Bilans & \"!$V$68\"","v":"Bilans!$V$68"},null,null,null,null,"Kwota",null,null,"jin:Aktywa_B_II_2_B","dtsf:KwotaA"]
[null,{"$f":"Adr_Bilans & \"!$W$68\"","v":"Bilans!$W$68"},null,null,null,null,"Kwota",null,null,"jin:Aktywa_B_II_2_B","dtsf:KwotaB"]
[null,{"$f":"Adr_Bilans & \"!$V$69\"","v":"Bilans!$V$69"},null,null,null,null,"Kwota",null,"*Sum","jin:Aktywa_B_II_3","dtsf:KwotaA"]
[null,{"$f":"Adr_Bilans & \"!$W$69\"","v":"Bilans!$W$69"},null,null,null,null,"Kwota",null,"*Sum","jin:Aktywa_B_II_3","dtsf:KwotaB"]
[null,{"$f":"Adr_Bilans & \"!$V$70\"","v":"Bilans!$V$70"},null,null,null,null,"Kwota",null,"*Sum","jin:Aktywa_B_II_3_A","dtsf:KwotaA"]
[null,{"$f":"Adr_Bilans & \"!$W$70\"","v":"Bilans!$W$70"},null,null,null,null,"Kwota",null,"*Sum","jin:Aktywa_B_II_3_A","dtsf:KwotaB"]
[null,{"$f":"Adr_Bilans & \"!$V$71\"","v":"Bilans!$V$71"},null,null,null,null,"Kwota",null,null,"jin:Aktywa_B_II_3_A_1","dtsf:KwotaA"]
[null,{"$f":"Adr_Bilans & \"!$W$71\"","v":"Bilans!$W$71"},null,null,null,null,"Kwota",null,null,"jin:Aktywa_B_II_3_A_1","dtsf:KwotaB"]
[null,{"$f":"Adr_Bilans & \"!$V$72\"","v":"Bilans!$V$72"},null,null,null,null,"Kwota",null,null,"jin:Aktywa_B_II_3_A_2","dtsf:KwotaA"]
[null,{"$f":"Adr_Bilans & \"!$W$72\"","v":"Bilans!$W$72"},null,null,null,null,"Kwota",null,null,"jin:Aktywa_B_II_3_A_2","dtsf:KwotaB"]
[null,{"$f":"Adr_Bilans & \"!$V$73\"","v":"Bilans!$V$73"},null,null,null,null,"Kwota",null,null,"jin:Aktywa_B_II_3_B","dtsf:KwotaA"]
[null,{"$f":"Adr_Bilans & \"!$W$73\"","v":"Bilans!$W$73"},null,null,null,null,"Kwota",null,null,"jin:Aktywa_B_II_3_B","dtsf:KwotaB"]
[null,{"$f":"Adr_Bilans & \"!$V$74\"","v":"Bilans!$V$74"},null,null,null,null,"Kwota",null,null,"jin:Aktywa_B_II_3_C","dtsf:KwotaA"]
[null,{"$f":"Adr_Bilans & \"!$W$74\"","v":"Bilans!$W$74"},null,null,null,null,"Kwota",null,null,"jin:Aktywa_B_II_3_C","dtsf:KwotaB"]
[null,{"$f":"Adr_Bilans & \"!$V$75\"","v":"Bilans!$V$75"},null,null,null,null,"Kwota",null,null,"jin:Aktywa_B_II_3_D","dtsf:KwotaA"]
[null,{"$f":"Adr_Bilans & \"!$W$75\"","v":"Bilans!$W$75"},null,null,null,null,"Kwota",null,null,"jin:Aktywa_B_II_3_D","dtsf:KwotaB"]
[null,{"$f":"Adr_Bilans & \"!$V$76\"","v":"Bilans!$V$76"},null,null,null,null,"Kwota",null,"*Sum","jin:Aktywa_B_III","dtsf:KwotaA"]
[null,{"$f":"Adr_Bilans & \"!$W$76\"","v":"Bilans!$W$76"},null,null,null,null,"Kwota",null,"*Sum","jin:Aktywa_B_III","dtsf:KwotaB"]
[null,{"$f":"Adr_Bilans & \"!$V$77\"","v":"Bilans!$V$77"},null,null,null,null,"Kwota",null,"*Sum","jin:Aktywa_B_III_1","dtsf:KwotaA"]
[null,{"$f":"Adr_Bilans & \"!$W$77\"","v":"Bilans!$W$77"},null,null,null,null,"Kwota",null,"*Sum","jin:Aktywa_B_III_1","dtsf:KwotaB"]
[null,{"$f":"Adr_Bilans & \"!$V$78\"","v":"Bilans!$V$78"},null,null,null,null,"Kwota",null,"*Sum","jin:Aktywa_B_III_1_A","dtsf:KwotaA"]
[null,{"$f":"Adr_Bilans & \"!$W$78\"","v":"Bilans!$W$78"},null,null,null,null,"Kwota",null,"*Sum","jin:Aktywa_B_III_1_A","dtsf:KwotaB"]
[null,{"$f":"Adr_Bilans & \"!$V$79\"","v":"Bilans!$V$79"},null,null,null,null,"Kwota",null,null,"jin:Aktywa_B_III_1_A_1","dtsf:KwotaA"]
[null,{"$f":"Adr_Bilans & \"!$W$79\"","v":"Bilans!$W$79"},null,null,null,null,"Kwota",null,null,"jin:Aktywa_B_III_1_A_1","dtsf:KwotaB"]
[null,{"$f":"Adr_Bilans & \"!$V$80\"","v":"Bilans!$V$80"},null,null,null,null,"Kwota",null,null,"jin:Aktywa_B_III_1_A_2","dtsf:KwotaA"]
[null,{"$f":"Adr_Bilans & \"!$W$80\"","v":"Bilans!$W$80"},null,null,null,null,"Kwota",null,null,"jin:Aktywa_B_III_1_A_2","dtsf:KwotaB"]
[null,{"$f":"Adr_Bilans & \"!$V$81\"","v":"Bilans!$V$81"},null,null,null,null,"Kwota",null,null,"jin:Aktywa_B_III_1_A_3","dtsf:KwotaA"]
[null,{"$f":"Adr_Bilans & \"!$W$81\"","v":"Bilans!$W$81"},null,null,null,null,"Kwota",null,null,"jin:Aktywa_B_III_1_A_3","dtsf:KwotaB"]
[null,{"$f":"Adr_Bilans & \"!$V$82\"","v":"Bilans!$V$82"},null,null,null,null,"Kwota",null,null,"jin:Aktywa_B_III_1_A_4","dtsf:KwotaA"]
[null,{"$f":"Adr_Bilans & \"!$W$82\"","v":"Bilans!$W$82"},null,null,null,null,"Kwota",null,null,"jin:Aktywa_B_III_1_A_4","dtsf:KwotaB"]
[null,{"$f":"Adr_Bilans & \"!$V$83\"","v":"Bilans!$V$83"},null,null,null,null,"Kwota",null,"*Sum","jin:Aktywa_B_III_1_B","dtsf:KwotaA"]
[null,{"$f":"Adr_Bilans & \"!$W$83\"","v":"Bilans!$W$83"},null,null,null,null,"Kwota",null,"*Sum","jin:Aktywa_B_III_1_B","dtsf:KwotaB"]
[null,{"$f":"Adr_Bilans & \"!$V$84\"","v":"Bilans!$V$84"},null,null,null,null,"Kwota",null,null,"jin:Aktywa_B_III_1_B_1","dtsf:KwotaA"]
[null,{"$f":"Adr_Bilans & \"!$W$84\"","v":"Bilans!$W$84"},null,null,null,null,"Kwota",null,null,"jin:Aktywa_B_III_1_B_1","dtsf:KwotaB"]
[null,{"$f":"Adr_Bilans & \"!$V$85\"","v":"Bilans!$V$85"},null,null,null,null,"Kwota",null,null,"jin:Aktywa_B_III_1_B_2","dtsf:KwotaA"]
[null,{"$f":"Adr_Bilans & \"!$W$85\"","v":"Bilans!$W$85"},null,null,null,null,"Kwota",null,null,"jin:Aktywa_B_III_1_B_2","dtsf:KwotaB"]
[null,{"$f":"Adr_Bilans & \"!$V$86\"","v":"Bilans!$V$86"},null,null,null,null,"Kwota",null,null,"jin:Aktywa_B_III_1_B_3","dtsf:KwotaA"]
[null,{"$f":"Adr_Bilans & \"!$W$86\"","v":"Bilans!$W$86"},null,null,null,null,"Kwota",null,null,"jin:Aktywa_B_III_1_B_3","dtsf:KwotaB"]
[null,{"$f":"Adr_Bilans & \"!$V$87\"","v":"Bilans!$V$87"},null,null,null,null,"Kwota",null,null,"jin:Aktywa_B_III_1_B_4","dtsf:KwotaA"]
[null,{"$f":"Adr_Bilans & \"!$W$87\"","v":"Bilans!$W$87"},null,null,null,null,"Kwota",null,null,"jin:Aktywa_B_III_1_B_4","dtsf:KwotaB"]
[null,{"$f":"Adr_Bilans & \"!$V$88\"","v":"Bilans!$V$88"},null,null,null,null,"Kwota",null,"*Sum","jin:Aktywa_B_III_1_C","dtsf:KwotaA"]
[null,{"$f":"Adr_Bilans & \"!$W$88\"","v":"Bilans!$W$88"},null,null,null,null,"Kwota",null,"*Sum","jin:Aktywa_B_III_1_C","dtsf:KwotaB"]
[null,{"$f":"Adr_Bilans & \"!$V$89\"","v":"Bilans!$V$89"},null,null,null,null,"Kwota",null,null,"jin:Aktywa_B_III_1_C_1","dtsf:KwotaA"]
[null,{"$f":"Adr_Bilans & \"!$W$89\"","v":"Bilans!$W$89"},null,null,null,null,"Kwota",null,null,"jin:Aktywa_B_III_1_C_1","dtsf:KwotaB"]
[null,{"$f":"Adr_Bilans & \"!$V$90\"","v":"Bilans!$V$90"},null,null,null,null,"Kwota",null,null,"jin:Aktywa_B_III_1_C_2","dtsf:KwotaA"]
[null,{"$f":"Adr_Bilans & \"!$W$90\"","v":"Bilans!$W$90"},null,null,null,null,"Kwota",null,null,"jin:Aktywa_B_III_1_C_2","dtsf:KwotaB"]
[null,{"$f":"Adr_Bilans & \"!$V$91\"","v":"Bilans!$V$91"},null,null,null,null,"Kwota",null,null,"jin:Aktywa_B_III_1_C_3","dtsf:KwotaA"]
[null,{"$f":"Adr_Bilans & \"!$W$91\"","v":"Bilans!$W$91"},null,null,null,null,"Kwota",null,null,"jin:Aktywa_B_III_1_C_3","dtsf:KwotaB"]
[null,{"$f":"Adr_Bilans & \"!$V$92\"","v":"Bilans!$V$92"},null,null,null,null,"Kwota",null,null,"jin:Aktywa_B_III_2","dtsf:KwotaA"]
[null,{"$f":"Adr_Bilans & \"!$W$92\"","v":"Bilans!$W$92"},null,null,null,null,"Kwota",null,null,"jin:Aktywa_B_III_2","dtsf:KwotaB"]
[null,{"$f":"Adr_Bilans & \"!$V$93\"","v":"Bilans!$V$93"},null,null,null,null,"Kwota",null,null,"jin:Aktywa_B_IV","dtsf:KwotaA"]
[null,{"$f":"Adr_Bilans & \"!$W$93\"","v":"Bilans!$W$93"},null,null,null,null,"Kwota",null,null,"jin:Aktywa_B_IV","dtsf:KwotaB"]
[null,{"$f":"Adr_Bilans & \"!$O$94\"","v":"Bilans!$O$94"},{"$f":"IF(OR(ISNUMBER(INDIRECT(B316)),ISNUMBER(INDIRECT(B317)),ISNUMBER(INDIRECT(B318))),\"ExportLabel\",\"\")","v":""},{"$f":"IF(C315=\"\",\"ImportOnly\",\"\")","v":"ImportOnly"},null,"Label","Tekst",null,"=teksty!$D$509","jin:Aktywa_B_IV/dtsf:PozycjaUszczegolawiajaca[1]","dtsf:NazwaPozycji"]
[null,{"$f":"Adr_Bilans & \"!$V$94\"","v":"Bilans!$V$94"},null,null,null,null,"Kwota",null,null,"jin:Aktywa_B_IV/dtsf:PozycjaUszczegolawiajaca[1]/dtsf:KwotyPozycji","dtsf:KwotaA"]
[null,{"$f":"Adr_Bilans & \"!$W$94\"","v":"Bilans!$W$94"},null,null,null,null,"Kwota",null,null,"jin:Aktywa_B_IV/dtsf:PozycjaUszczegolawiajaca[1]/dtsf:KwotyPozycji","dtsf:KwotaB"]
[null,{"$f":"Adr_Bilans & \"!$X$94\"","v":"Bilans!$X$94"},null,null,null,null,"Kwota",null,null,"jin:Aktywa_B_IV/dtsf:PozycjaUszczegolawiajaca[1]/dtsf:KwotyPozycji","dtsf:KwotaB1"]
[null,{"$f":"Adr_Bilans & \"!$V$95\"","v":"Bilans!$V$95"},null,null,null,null,"Kwota",null,null,"jin:Aktywa_C","dtsf:KwotaA"]
[null,{"$f":"Adr_Bilans & \"!$W$95\"","v":"Bilans!$W$95"},null,null,null,null,"Kwota",null,null,"jin:Aktywa_C","dtsf:KwotaB"]
[null,{"$f":"Adr_Bilans & \"!$V$96\"","v":"Bilans!$V$96"},null,null,null,null,"Kwota",null,null,"jin:Aktywa_D","dtsf:KwotaA"]
[null,{"$f":"Adr_Bilans & \"!$W$96\"","v":"Bilans!$W$96"},null,null,null,null,"Kwota",null,null,"jin:Aktywa_D","dtsf:KwotaB"]
[]
[null,{"$f":"Adr_Bilans & \"!$X$6\"","v":"Bilans!$X$6"},null,null,null,null,"Kwota",null,null,"jin:Aktywa_A","dtsf:KwotaB1"]
[null,{"$f":"Adr_Bilans & \"!$X$7\"","v":"Bilans!$X$7"},null,null,null,null,"Kwota",null,null,"jin:Aktywa_A_I","dtsf:KwotaB1"]
[null,{"$f":"Adr_Bilans & \"!$X$8\"","v":"Bilans!$X$8"},null,null,null,null,"Kwota",null,null,"jin:Aktywa_A_I_1","dtsf:KwotaB1"]
[null,{"$f":"Adr_Bilans & \"!$X$9\"","v":"Bilans!$X$9"},null,null,null,null,"Kwota",null,null,"jin:Aktywa_A_I_2","dtsf:KwotaB1"]
[null,{"$f":"Adr_Bilans & \"!$X$10\"","v":"Bilans!$X$10"},null,null,null,null,"Kwota",null,null,"jin:Aktywa_A_I_3","dtsf:KwotaB1"]
[null,{"$f":"Adr_Bilans & \"!$X$11\"","v":"Bilans!$X$11"},null,null,null,null,"Kwota",null,null,"jin:Aktywa_A_I_4","dtsf:KwotaB1"]
[null,{"$f":"Adr_Bilans & \"!$X$12\"","v":"Bilans!$X$12"},null,null,null,null,"Kwota",null,null,"jin:Aktywa_A_II","dtsf:KwotaB1"]
[null,{"$f":"Adr_Bilans & \"!$X$13\"","v":"Bilans!$X$13"},null,null,null,null,"Kwota",null,null,"jin:Aktywa_A_II_1","dtsf:KwotaB1"]
[null,{"$f":"Adr_Bilans & \"!$X$14\"","v":"Bilans!$X$14"},null,null,null,null,"Kwota",null,null,"jin:Aktywa_A_II_1_A","dtsf:KwotaB1"]
[null,{"$f":"Adr_Bilans & \"!$X$15\"","v":"Bilans!$X$15"},null,null,null,null,"Kwota",null,null,"jin:Aktywa_A_II_1_B","dtsf:KwotaB1"]
[null,{"$f":"Adr_Bilans & \"!$X$16\"","v":"Bilans!$X$16"},null,null,null,null,"Kwota",null,null,"jin:Aktywa_A_II_1_C","dtsf:KwotaB1"]
[null,{"$f":"Adr_Bilans & \"!$X$17\"","v":"Bilans!$X$17"},null,null,null,null,"Kwota",null,null,"jin:Aktywa_A_II_1_D","dtsf:KwotaB1"]
[null,{"$f":"Adr_Bilans & \"!$X$18\"","v":"Bilans!$X$18"},null,null,null,null,"Kwota",null,null,"jin:Aktywa_A_II_1_E","dtsf:KwotaB1"]
[null,{"$f":"Adr_Bilans & \"!$X$19\"","v":"Bilans!$X$19"},null,null,null,null,"Kwota",null,null,"jin:Aktywa_A_II_2","dtsf:KwotaB1"]
[null,{"$f":"Adr_Bilans & \"!$X$20\"","v":"Bilans!$X$20"},null,null,null,null,"Kwota",null,null,"jin:Aktywa_A_II_3","dtsf:KwotaB1"]
[null,{"$f":"Adr_Bilans & \"!$X$21\"","v":"Bilans!$X$21"},null,null,null,null,"Kwota",null,null,"jin:Aktywa_A_III","dtsf:KwotaB1"]
[null,{"$f":"Adr_Bilans & \"!$X$22\"","v":"Bilans!$X$22"},null,null,null,null,"Kwota",null,null,"jin:Aktywa_A_III_1","dtsf:KwotaB1"]
[null,{"$f":"Adr_Bilans & \"!$X$23\"","v":"Bilans!$X$23"},null,null,null,null,"Kwota",null,null,"jin:Aktywa_A_III_2","dtsf:KwotaB1"]
[null,{"$f":"Adr_Bilans & \"!$X$24\"","v":"Bilans!$X$24"},null,null,null,null,"Kwota",null,null,"jin:Aktywa_A_III_3","dtsf:KwotaB1"]
[null,{"$f":"Adr_Bilans & \"!$X$25\"","v":"Bilans!$X$25"},null,null,null,null,"Kwota",null,null,"jin:Aktywa_A_IV","dtsf:KwotaB1"]
[null,{"$f":"Adr_Bilans & \"!$X$26\"","v":"Bilans!$X$26"},null,null,null,null,"Kwota",null,null,"jin:Aktywa_A_IV_1","dtsf:KwotaB1"]
[null,{"$f":"Adr_Bilans & \"!$X$27\"","v":"Bilans!$X$27"},null,null,null,null,"Kwota",null,null,"jin:Aktywa_A_IV_2","dtsf:KwotaB1"]
[null,{"$f":"Adr_Bilans & \"!$X$28\"","v":"Bilans!$X$28"},null,null,null,null,"Kwota",null,null,"jin:Aktywa_A_IV_3","dtsf:KwotaB1"]
[null,{"$f":"Adr_Bilans & \"!$X$29\"","v":"Bilans!$X$29"},null,null,null,null,"Kwota",null,null,"jin:Aktywa_A_IV_3_A","dtsf:KwotaB1"]
[null,{"$f":"Adr_Bilans & \"!$X$30\"","v":"Bilans!$X$30"},null,null,null,null,"Kwota",null,null,"jin:Aktywa_A_IV_3_A_1","dtsf:KwotaB1"]
[null,{"$f":"Adr_Bilans & \"!$X$31\"","v":"Bilans!$X$31"},null,null,null,null,"Kwota",null,null,"jin:Aktywa_A_IV_3_A_2","dtsf:KwotaB1"]
[null,{"$f":"Adr_Bilans & \"!$X$32\"","v":"Bilans!$X$32"},null,null,null,null,"Kwota",null,null,"jin:Aktywa_A_IV_3_A_3","dtsf:KwotaB1"]
[null,{"$f":"Adr_Bilans & \"!$X$33\"","v":"Bilans!$X$33"},null,null,null,null,"Kwota",null,null,"jin:Aktywa_A_IV_3_A_4","dtsf:KwotaB1"]
[null,{"$f":"Adr_Bilans & \"!$X$35\"","v":"Bilans!$X$35"},null,null,null,null,"Kwota",null,null,"jin:Aktywa_A_IV_3_B","dtsf:KwotaB1"]
[null,{"$f":"Adr_Bilans & \"!$X$36\"","v":"Bilans!$X$36"},null,null,null,null,"Kwota",null,null,"jin:Aktywa_A_IV_3_B_1","dtsf:KwotaB1"]
[null,{"$f":"Adr_Bilans & \"!$X$37\"","v":"Bilans!$X$37"},null,null,null,null,"Kwota",null,null,"jin:Aktywa_A_IV_3_B_2","dtsf:KwotaB1"]
[null,{"$f":"Adr_Bilans & \"!$X$38\"","v":"Bilans!$X$38"},null,null,null,null,"Kwota",null,null,"jin:Aktywa_A_IV_3_B_3","dtsf:KwotaB1"]
[null,{"$f":"Adr_Bilans & \"!$X$39\"","v":"Bilans!$X$39"},null,null,null,null,"Kwota",null,null,"jin:Aktywa_A_IV_3_B_4","dtsf:KwotaB1"]
[null,{"$f":"Adr_Bilans & \"!$X$40\"","v":"Bilans!$X$40"},null,null,null,null,"Kwota",null,null,"jin:Aktywa_A_IV_3_C","dtsf:KwotaB1"]
[null,{"$f":"Adr_Bilans & \"!$X$41\"","v":"Bilans!$X$41"},null,null,null,null,"Kwota",null,null,"jin:Aktywa_A_IV_3_C_1","dtsf:KwotaB1"]
[null,{"$f":"Adr_Bilans & \"!$X$42\"","v":"Bilans!$X$42"},null,null,null,null,"Kwota",null,null,"jin:Aktywa_A_IV_3_C_2","dtsf:KwotaB1"]
[null,{"$f":"Adr_Bilans & \"!$X$43\"","v":"Bilans!$X$43"},null,null,null,null,"Kwota",null,null,"jin:Aktywa_A_IV_3_C_3","dtsf:KwotaB1"]
[null,{"$f":"Adr_Bilans & \"!$X$44\"","v":"Bilans!$X$44"},null,null,null,null,"Kwota",null,null,"jin:Aktywa_A_IV_3_C_4","dtsf:KwotaB1"]
[null,{"$f":"Adr_Bilans & \"!$X$45\"","v":"Bilans!$X$45"},null,null,null,null,"Kwota",null,null,"jin:Aktywa_A_IV_4","dtsf:KwotaB1"]
[null,{"$f":"Adr_Bilans & \"!$X$46\"","v":"Bilans!$X$46"},null,null,null,null,"Kwota",null,null,"jin:Aktywa_A_V","dtsf:KwotaB1"]
[null,{"$f":"Adr_Bilans & \"!$X$47\"","v":"Bilans!$X$47"},null,null,null,null,"Kwota",null,null,"jin:Aktywa_A_V_1","dtsf:KwotaB1"]
[null,{"$f":"Adr_Bilans & \"!$X$48\"","v":"Bilans!$X$48"},null,null,null,null,"Kwota",null,null,"jin:Aktywa_A_V_2","dtsf:KwotaB1"]
[null,{"$f":"Adr_Bilans & \"!$X$49\"","v":"Bilans!$X$49"},null,null,null,null,"Kwota",null,null,"jin:Aktywa_B","dtsf:KwotaB1"]
[null,{"$f":"Adr_Bilans & \"!$X$50\"","v":"Bilans!$X$50"},null,null,null,null,"Kwota",null,null,"jin:Aktywa_B_I","dtsf:KwotaB1"]
[null,{"$f":"Adr_Bilans & \"!$X$51\"","v":"Bilans!$X$51"},null,null,null,null,"Kwota",null,null,"jin:Aktywa_B_I_1","dtsf:KwotaB1"]
[null,{"$f":"Adr_Bilans & \"!$X$52\"","v":"Bilans!$X$52"},null,null,null,null,"Kwota",null,null,"jin:Aktywa_B_I_2","dtsf:KwotaB1"]
[null,{"$f":"Adr_Bilans & \"!$X$54\"","v":"Bilans!$X$54"},null,null,null,null,"Kwota",null,null,"jin:Aktywa_B_I_3","dtsf:KwotaB1"]
[null,{"$f":"Adr_Bilans & \"!$X$55\"","v":"Bilans!$X$55"},null,null,null,null,"Kwota",null,null,"jin:Aktywa_B_I_4","dtsf:KwotaB1"]
[null,{"$f":"Adr_Bilans & \"!$X$56\"","v":"Bilans!$X$56"},null,null,null,null,"Kwota",null,null,"jin:Aktywa_B_I_5","dtsf:KwotaB1"]
[null,{"$f":"Adr_Bilans & \"!$X$57\"","v":"Bilans!$X$57"},null,null,null,null,"Kwota",null,null,"jin:Aktywa_B_II","dtsf:KwotaB1"]
[null,{"$f":"Adr_Bilans & \"!$X$58\"","v":"Bilans!$X$58"},null,null,null,null,"Kwota",null,null,"jin:Aktywa_B_II_1","dtsf:KwotaB1"]
[null,{"$f":"Adr_Bilans & \"!$X$59\"","v":"Bilans!$X$59"},null,null,null,null,"Kwota",null,null,"jin:Aktywa_B_II_1_A","dtsf:KwotaB1"]
[null,{"$f":"Adr_Bilans & \"!$X$60\"","v":"Bilans!$X$60"},null,null,null,null,"Kwota",null,null,"jin:Aktywa_B_II_1_A_1","dtsf:KwotaB1"]
[null,{"$f":"Adr_Bilans & \"!$X$61\"","v":"Bilans!$X$61"},null,null,null,null,"Kwota",null,null,"jin:Aktywa_B_II_1_A_2","dtsf:KwotaB1"]
[null,{"$f":"Adr_Bilans & \"!$X$62\"","v":"Bilans!$X$62"},null,null,null,null,"Kwota",null,null,"jin:Aktywa_B_II_1_B","dtsf:KwotaB1"]
[null,{"$f":"Adr_Bilans & \"!$X$64\"","v":"Bilans!$X$64"},null,null,null,null,"Kwota",null,null,"jin:Aktywa_B_II_2","dtsf:KwotaB1"]
[null,{"$f":"Adr_Bilans & \"!$X$65\"","v":"Bilans!$X$65"},null,null,null,null,"Kwota",null,null,"jin:Aktywa_B_II_2_A","dtsf:KwotaB1"]
[null,{"$f":"Adr_Bilans & \"!$X$66\"","v":"Bilans!$X$66"},null,null,null,null,"Kwota",null,null,"jin:Aktywa_B_II_2_A_1","dtsf:KwotaB1"]
[null,{"$f":"Adr_Bilans & \"!$X$67\"","v":"Bilans!$X$67"},null,null,null,null,"Kwota",null,null,"jin:Aktywa_B_II_2_A_2","dtsf:KwotaB1"]
[null,{"$f":"Adr_Bilans & \"!$X$68\"","v":"Bilans!$X$68"},null,null,null,null,"Kwota",null,null,"jin:Aktywa_B_II_2_B","dtsf:KwotaB1"]
[null,{"$f":"Adr_Bilans & \"!$X$69\"","v":"Bilans!$X$69"},null,null,null,null,"Kwota",null,null,"jin:Aktywa_B_II_3","dtsf:KwotaB1"]
[null,{"$f":"Adr_Bilans & \"!$X$70\"","v":"Bilans!$X$70"},null,null,null,null,"Kwota",null,null,"jin:Aktywa_B_II_3_A","dtsf:KwotaB1"]
[null,{"$f":"Adr_Bilans & \"!$X$71\"","v":"Bilans!$X$71"},null,null,null,null,"Kwota",null,null,"jin:Aktywa_B_II_3_A_1","dtsf:KwotaB1"]
[null,{"$f":"Adr_Bilans & \"!$X$72\"","v":"Bilans!$X$72"},null,null,null,null,"Kwota",null,null,"jin:Aktywa_B_II_3_A_2","dtsf:KwotaB1"]
[null,{"$f":"Adr_Bilans & \"!$X$73\"","v":"Bilans!$X$73"},null,null,null,null,"Kwota",null,null,"jin:Aktywa_B_II_3_B","dtsf:KwotaB1"]
[null,{"$f":"Adr_Bilans & \"!$X$74\"","v":"Bilans!$X$74"},null,null,null,null,"Kwota",null,null,"jin:Aktywa_B_II_3_C","dtsf:KwotaB1"]
[null,{"$f":"Adr_Bilans & \"!$X$75\"","v":"Bilans!$X$75"},null,null,null,null,"Kwota",null,null,"jin:Aktywa_B_II_3_D","dtsf:KwotaB1"]
[null,{"$f":"Adr_Bilans & \"!$X$76\"","v":"Bilans!$X$76"},null,null,null,null,"Kwota",null,null,"jin:Aktywa_B_III","dtsf:KwotaB1"]
[null,{"$f":"Adr_Bilans & \"!$X$77\"","v":"Bilans!$X$77"},null,null,null,null,"Kwota",null,null,"jin:Aktywa_B_III_1","dtsf:KwotaB1"]
[null,{"$f":"Adr_Bilans & \"!$X$78\"","v":"Bilans!$X$78"},null,null,null,null,"Kwota",null,null,"jin:Aktywa_B_III_1_A","dtsf:KwotaB1"]
[null,{"$f":"Adr_Bilans & \"!$X$79\"","v":"Bilans!$X$79"},null,null,null,null,"Kwota",null,null,"jin:Aktywa_B_III_1_A_1","dtsf:KwotaB1"]
[null,{"$f":"Adr_Bilans & \"!$X$80\"","v":"Bilans!$X$80"},null,null,null,null,"Kwota",null,null,"jin:Aktywa_B_III_1_A_2","dtsf:KwotaB1"]
[null,{"$f":"Adr_Bilans & \"!$X$81\"","v":"Bilans!$X$81"},null,null,null,null,"Kwota",null,null,"jin:Aktywa_B_III_1_A_3","dtsf:KwotaB1"]
[null,{"$f":"Adr_Bilans & \"!$X$82\"","v":"Bilans!$X$82"},null,null,null,null,"Kwota",null,null,"jin:Aktywa_B_III_1_A_4","dtsf:KwotaB1"]
[null,{"$f":"Adr_Bilans & \"!$X$83\"","v":"Bilans!$X$83"},null,null,null,null,"Kwota",null,null,"jin:Aktywa_B_III_1_B","dtsf:KwotaB1"]
[null,{"$f":"Adr_Bilans & \"!$X$84\"","v":"Bilans!$X$84"},null,null,null,null,"Kwota",null,null,"jin:Aktywa_B_III_1_B_1","dtsf:KwotaB1"]
[null,{"$f":"Adr_Bilans & \"!$X$85\"","v":"Bilans!$X$85"},null,null,null,null,"Kwota",null,null,"jin:Aktywa_B_III_1_B_2","dtsf:KwotaB1"]
[null,{"$f":"Adr_Bilans & \"!$X$86\"","v":"Bilans!$X$86"},null,null,null,null,"Kwota",null,null,"jin:Aktywa_B_III_1_B_3","dtsf:KwotaB1"]
[null,{"$f":"Adr_Bilans & \"!$X$87\"","v":"Bilans!$X$87"},null,null,null,null,"Kwota",null,null,"jin:Aktywa_B_III_1_B_4","dtsf:KwotaB1"]
[null,{"$f":"Adr_Bilans & \"!$X$88\"","v":"Bilans!$X$88"},null,null,null,null,"Kwota",null,null,"jin:Aktywa_B_III_1_C","dtsf:KwotaB1"]
[null,{"$f":"Adr_Bilans & \"!$X$89\"","v":"Bilans!$X$89"},null,null,null,null,"Kwota",null,null,"jin:Aktywa_B_III_1_C_1","dtsf:KwotaB1"]
[null,{"$f":"Adr_Bilans & \"!$X$90\"","v":"Bilans!$X$90"},null,null,null,null,"Kwota",null,null,"jin:Aktywa_B_III_1_C_2","dtsf:KwotaB1"]
[null,{"$f":"Adr_Bilans & \"!$X$91\"","v":"Bilans!$X$91"},null,null,null,null,"Kwota",null,null,"jin:Aktywa_B_III_1_C_3","dtsf:KwotaB1"]
[null,{"$f":"Adr_Bilans & \"!$X$92\"","v":"Bilans!$X$92"},null,null,null,null,"Kwota",null,null,"jin:Aktywa_B_III_2","dtsf:KwotaB1"]
[null,{"$f":"Adr_Bilans & \"!$X$93\"","v":"Bilans!$X$93"},null,null,null,null,"Kwota",null,null,"jin:Aktywa_B_IV","dtsf:KwotaB1"]
[null,{"$f":"Adr_Bilans & \"!$X$95\"","v":"Bilans!$X$95"},null,null,null,null,"Kwota",null,null,"jin:Aktywa_C","dtsf:KwotaB1"]
[null,{"$f":"Adr_Bilans & \"!$X$96\"","v":"Bilans!$X$96"},null,null,null,null,"Kwota",null,null,"jin:Aktywa_D","dtsf:KwotaB1"]
[null,{"$f":"Adr_Bilans & \"!$X$97\"","v":"Bilans!$X$97"},null,null,null,null,"Kwota",null,null,"jin:Aktywa","dtsf:KwotaB1"]
[]
[null,{"$f":"Adr_Bilans & \"!$V$172\"","v":"Bilans!$V$172"},null,null,null,null,"Kwota",null,"*SumUp","jin:Pasywa","dtsf:KwotaA"]
[null,{"$f":"Adr_Bilans & \"!$W$172\"","v":"Bilans!$W$172"},null,null,null,null,"Kwota",null,"*SumUp","jin:Pasywa","dtsf:KwotaB"]
[null,{"$f":"Adr_Bilans & \"!$V$102\"","v":"Bilans!$V$102"},null,null,null,null,"Kwota",null,"*Sum","jin:Pasywa_A","dtsf:KwotaA"]
[null,{"$f":"Adr_Bilans & \"!$W$102\"","v":"Bilans!$W$102"},null,null,null,null,"Kwota",null,"*Sum","jin:Pasywa_A","dtsf:KwotaB"]
[null,{"$f":"Adr_Bilans & \"!$V$103\"","v":"Bilans!$V$103"},null,null,null,null,"Kwota",null,null,"jin:Pasywa_A_I","dtsf:KwotaA"]
[null,{"$f":"Adr_Bilans & \"!$W$103\"","v":"Bilans!$W$103"},null,null,null,null,"Kwota",null,null,"jin:Pasywa_A_I","dtsf:KwotaB"]
[null,{"$f":"Adr_Bilans & \"!$V$104\"","v":"Bilans!$V$104"},null,null,null,null,"Kwota",null,null,"jin:Pasywa_A_II","dtsf:KwotaA"]
[null,{"$f":"Adr_Bilans & \"!$W$104\"","v":"Bilans!$W$104"},null,null,null,null,"Kwota",null,null,"jin:Pasywa_A_II","dtsf:KwotaB"]
[null,{"$f":"Adr_Bilans & \"!$V$105\"","v":"Bilans!$V$105"},null,null,null,null,"Kwota",null,null,"jin:Pasywa_A_II_1","dtsf:KwotaA"]
[null,{"$f":"Adr_Bilans & \"!$W$105\"","v":"Bilans!$W$105"},null,null,null,null,"Kwota",null,null,"jin:Pasywa_A_II_1","dtsf:KwotaB"]
[null,{"$f":"Adr_Bilans & \"!$O$106\"","v":"Bilans!$O$106"},{"$f":"IF(OR(ISNUMBER(INDIRECT(B424)),ISNUMBER(INDIRECT(B425)),ISNUMBER(INDIRECT(B426))),\"ExportLabel\",\"\")","v":""},{"$f":"IF(C423=\"\",\"ImportOnly\",\"\")","v":"ImportOnly"},null,"Label","Tekst",null,"=\" – \" & teksty!$D$519","jin:Pasywa_A_II/jin:PozycjaUszczegolawiajaca_2[1]","dtsf:NazwaPozycji"]
[null,{"$f":"Adr_Bilans & \"!$V$106\"","v":"Bilans!$V$106"},null,null,null,null,"Kwota",null,null,"jin:Pasywa_A_II/jin:PozycjaUszczegolawiajaca_2[1]/dtsf:KwotyPozycji","dtsf:KwotaA"]
[null,{"$f":"Adr_Bilans & \"!$W$106\"","v":"Bilans!$W$106"},null,null,null,null,"Kwota",null,null,"jin:Pasywa_A_II/jin:PozycjaUszczegolawiajaca_2[1]/dtsf:KwotyPozycji","dtsf:KwotaB"]
[null,{"$f":"Adr_Bilans & \"!$X$106\"","v":"Bilans!$X$106"},null,null,null,null,"Kwota",null,null,"jin:Pasywa_A_II/jin:PozycjaUszczegolawiajaca_2[1]/dtsf:KwotyPozycji","dtsf:KwotaB1"]
[null,{"$f":"Adr_Bilans & \"!$O$107\"","v":"Bilans!$O$107"},{"$f":"IF(OR(ISNUMBER(INDIRECT(B428)),ISNUMBER(INDIRECT(B429)),ISNUMBER(INDIRECT(B430))),\"ExportLabel\",\"\")","v":""},{"$f":"IF(C427=\"\",\"ImportOnly\",\"\")","v":"ImportOnly"},null,"Label","Tekst",null,{"$f":"\"=IF(\" & MID(B$423,SEARCH(\"!\",B$423)+1,20) & \" = \"\" – \"\" & teksty!$D$519,\"\" – \"\" & teksty!$D$1002,\"\"\"\")\"","v":"=IF($O$106 = \" – \" & teksty!$D$519,\" – \" & teksty!$D$1002,\"\")"},"jin:Pasywa_A_II/jin:PozycjaUszczegolawiajaca_2[2]","dtsf:NazwaPozycji"]
[null,{"$f":"Adr_Bilans & \"!$V$107\"","v":"Bilans!$V$107"},null,null,null,null,"Kwota",null,null,"jin:Pasywa_A_II/jin:PozycjaUszczegolawiajaca_2[2]/dtsf:KwotyPozycji","dtsf:KwotaA"]
[null,{"$f":"Adr_Bilans & \"!$W$107\"","v":"Bilans!$W$107"},null,null,null,null,"Kwota",null,null,"jin:Pasywa_A_II/jin:PozycjaUszczegolawiajaca_2[2]/dtsf:KwotyPozycji","dtsf:KwotaB"]
[null,{"$f":"Adr_Bilans & \"!$X$107\"","v":"Bilans!$X$107"},null,null,null,null,"Kwota",null,null,"jin:Pasywa_A_II/jin:PozycjaUszczegolawiajaca_2[2]/dtsf:KwotyPozycji","dtsf:KwotaB1"]
[null,{"$f":"Adr_Bilans & \"!$V$108\"","v":"Bilans!$V$108"},null,null,null,null,"Kwota",null,null,"jin:Pasywa_A_III","dtsf:KwotaA"]
[null,{"$f":"Adr_Bilans & \"!$W$108\"","v":"Bilans!$W$108"},null,null,null,null,"Kwota",null,null,"jin:Pasywa_A_III","dtsf:KwotaB"]
[null,{"$f":"Adr_Bilans & \"!$V$109\"","v":"Bilans!$V$109"},null,null,null,null,"Kwota",null,null,"jin:Pasywa_A_III_1","dtsf:KwotaA"]
[null,{"$f":"Adr_Bilans & \"!$W$109\"","v":"Bilans!$W$109"},null,null,null,null,"Kwota",null,null,"jin:Pasywa_A_III_1","dtsf:KwotaB"]
[null,{"$f":"Adr_Bilans & \"!$V$110\"","v":"Bilans!$V$110"},null,null,null,null,"Kwota",null,null,"jin:Pasywa_A_IV","dtsf:KwotaA"]
[null,{"$f":"Adr_Bilans & \"!$W$110\"","v":"Bilans!$W$110"},null,null,null,null,"Kwota",null,null,"jin:Pasywa_A_IV","dtsf:KwotaB"]
[null,{"$f":"Adr_Bilans & \"!$V$111\"","v":"Bilans!$V$111"},null,null,null,null,"Kwota",null,null,"jin:Pasywa_A_IV_1","dtsf:KwotaA"]
[null,{"$f":"Adr_Bilans & \"!$W$111\"","v":"Bilans!$W$111"},null,null,null,null,"Kwota",null,null,"jin:Pasywa_A_IV_1","dtsf:KwotaB"]
[null,{"$f":"Adr_Bilans & \"!$V$112\"","v":"Bilans!$V$112"},null,null,null,null,"Kwota",null,null,"jin:Pasywa_A_IV_2","dtsf:KwotaA"]
[null,{"$f":"Adr_Bilans & \"!$W$112\"","v":"Bilans!$W$112"},null,null,null,null,"Kwota",null,null,"jin:Pasywa_A_IV_2","dtsf:KwotaB"]
[null,{"$f":"Adr_Bilans & \"!$O$113\"","v":"Bilans!$O$113"},{"$f":"IF(OR(ISNUMBER(INDIRECT(B442)),ISNUMBER(INDIRECT(B443)),ISNUMBER(INDIRECT(B444))),\"ExportLabel\",\"\")","v":""},{"$f":"IF(C441=\"\",\"ImportOnly\",\"\")","v":"ImportOnly"},null,"Label","Tekst",null,"=\" – \" & teksty!$D$525","jin:Pasywa_A_IV/jin:PozycjaUszczegolawiajaca_3[1]","dtsf:NazwaPozycji"]
[null,{"$f":"Adr_Bilans & \"!$V$113\"","v":"Bilans!$V$113"},null,null,null,null,"Kwota",null,null,"jin:Pasywa_A_IV/jin:PozycjaUszczegolawiajaca_3[1]/dtsf:KwotyPozycji","dtsf:KwotaA"]
[null,{"$f":"Adr_Bilans & \"!$W$113\"","v":"Bilans!$W$113"},null,null,null,null,"Kwota",null,null,"jin:Pasywa_A_IV/jin:PozycjaUszczegolawiajaca_3[1]/dtsf:KwotyPozycji","dtsf:KwotaB"]
[null,{"$f":"Adr_Bilans & \"!$X$113\"","v":"Bilans!$X$113"},null,null,null,null,"Kwota",null,null,"jin:Pasywa_A_IV/jin:PozycjaUszczegolawiajaca_3[1]/dtsf:KwotyPozycji","dtsf:KwotaB1"]
[null,{"$f":"Adr_Bilans & \"!$O$114\"","v":"Bilans!$O$114"},{"$f":"IF(OR(ISNUMBER(INDIRECT(B446)),ISNUMBER(INDIRECT(B447)),ISNUMBER(INDIRECT(B448))),\"ExportLabel\",\"\")","v":""},{"$f":"IF(C445=\"\",\"ImportOnly\",\"\")","v":"ImportOnly"},null,"Label","Tekst",null,{"$f":"\"=IF(\" & MID(B$441,SEARCH(\"!\",B$441)+1,20) & \" = \"\" – \"\" & teksty!$D$525,\"\" – \"\" & teksty!$D$1003,\"\"\"\")\"","v":"=IF($O$113 = \" – \" & teksty!$D$525,\" – \" & teksty!$D$1003,\"\")"},"jin:Pasywa_A_IV/jin:PozycjaUszczegolawiajaca_3[2]","dtsf:NazwaPozycji"]
[null,{"$f":"Adr_Bilans & \"!$V$114\"","v":"Bilans!$V$114"},null,null,null,null,"Kwota",null,null,"jin:Pasywa_A_IV/jin:PozycjaUszczegolawiajaca_3[2]/dtsf:KwotyPozycji","dtsf:KwotaA"]
[null,{"$f":"Adr_Bilans & \"!$W$114\"","v":"Bilans!$W$114"},null,null,null,null,"Kwota",null,null,"jin:Pasywa_A_IV/jin:PozycjaUszczegolawiajaca_3[2]/dtsf:KwotyPozycji","dtsf:KwotaB"]
[null,{"$f":"Adr_Bilans & \"!$X$114\"","v":"Bilans!$X$114"},null,null,null,null,"Kwota",null,null,"jin:Pasywa_A_IV/jin:PozycjaUszczegolawiajaca_3[2]/dtsf:KwotyPozycji","dtsf:KwotaB1"]
[null,{"$f":"Adr_Bilans & \"!$V$115\"","v":"Bilans!$V$115"},null,null,null,null,"Kwota",null,null,"jin:Pasywa_A_V","dtsf:KwotaA"]
[null,{"$f":"Adr_Bilans & \"!$W$115\"","v":"Bilans!$W$115"},null,null,null,null,"Kwota",null,null,"jin:Pasywa_A_V","dtsf:KwotaB"]
[null,{"$f":"Adr_Bilans & \"!$O$116\"","v":"Bilans!$O$116"},{"$f":"IF(OR(ISNUMBER(INDIRECT(B452)),ISNUMBER(INDIRECT(B453)),ISNUMBER(INDIRECT(B454))),\"ExportLabel\",\"\")","v":""},{"$f":"IF(C451=\"\",\"ImportOnly\",\"\")","v":"ImportOnly"},null,"Label","Tekst",null,"=\" – \" & teksty!$D$527","jin:Pasywa_A_V/dtsf:PozycjaUszczegolawiajaca[1]","dtsf:NazwaPozycji"]
[null,{"$f":"Adr_Bilans & \"!$V$116\"","v":"Bilans!$V$116"},null,null,null,null,"Kwota",null,null,"jin:Pasywa_A_V/dtsf:PozycjaUszczegolawiajaca[1]/dtsf:KwotyPozycji","dtsf:KwotaA"]
[null,{"$f":"Adr_Bilans & \"!$W$116\"","v":"Bilans!$W$116"},null,null,null,null,"Kwota",null,null,"jin:Pasywa_A_V/dtsf:PozycjaUszczegolawiajaca[1]/dtsf:KwotyPozycji","dtsf:KwotaB"]
[null,{"$f":"Adr_Bilans & \"!$X$116\"","v":"Bilans!$X$116"},null,null,null,null,"Kwota",null,null,"jin:Pasywa_A_V/dtsf:PozycjaUszczegolawiajaca[1]/dtsf:KwotyPozycji","dtsf:KwotaB1"]
[null,{"$f":"Adr_Bilans & \"!$O$117\"","v":"Bilans!$O$117"},{"$f":"IF(OR(ISNUMBER(INDIRECT(B456)),ISNUMBER(INDIRECT(B457)),ISNUMBER(INDIRECT(B458))),\"ExportLabel\",\"\")","v":""},{"$f":"IF(C455=\"\",\"ImportOnly\",\"\")","v":"ImportOnly"},null,"Label","Tekst",null,{"$f":"\"=IF(\" & MID(B$451,SEARCH(\"!\",B$451)+1,20) & \" = \"\" – \"\" & teksty!$D$527,\"\" – \"\" & teksty!$D$528,\"\"\"\")\"","v":"=IF($O$116 = \" – \" & teksty!$D$527,\" – \" & teksty!$D$528,\"\")"},"jin:Pasywa_A_V/dtsf:PozycjaUszczegolawiajaca[2]","dtsf:NazwaPozycji"]
[null,{"$f":"Adr_Bilans & \"!$V$117\"","v":"Bilans!$V$117"},null,null,null,null,"Kwota",null,null,"jin:Pasywa_A_V/dtsf:PozycjaUszczegolawiajaca[2]/dtsf:KwotyPozycji","dtsf:KwotaA"]
[null,{"$f":"Adr_Bilans & \"!$W$117\"","v":"Bilans!$W$117"},null,null,null,null,"Kwota",null,null,"jin:Pasywa_A_V/dtsf:PozycjaUszczegolawiajaca[2]/dtsf:KwotyPozycji","dtsf:KwotaB"]
[null,{"$f":"Adr_Bilans & \"!$X$117\"","v":"Bilans!$X$117"},null,null,null,null,"Kwota",null,null,"jin:Pasywa_A_V/dtsf:PozycjaUszczegolawiajaca[2]/dtsf:KwotyPozycji","dtsf:KwotaB1"]
[null,{"$f":"Adr_Bilans & \"!$O$118\"","v":"Bilans!$O$118"},{"$f":"IF(OR(ISNUMBER(INDIRECT(B460)),ISNUMBER(INDIRECT(B461)),ISNUMBER(INDIRECT(B462))),\"ExportLabel\",\"\")","v":""},{"$f":"IF(C459=\"\",\"ImportOnly\",\"\")","v":"ImportOnly"},null,"Label","Tekst",null,{"$f":"\"=IF(\" & MID(B$451,SEARCH(\"!\",B$451)+1,20) & \" = \"\" – \"\" & teksty!$D$527,\"\" – \"\" & teksty!$D$1004,\"\"\"\")\"","v":"=IF($O$116 = \" – \" & teksty!$D$527,\" – \" & teksty!$D$1004,\"\")"},"jin:Pasywa_A_V/dtsf:PozycjaUszczegolawiajaca[3]","dtsf:NazwaPozycji"]
[null,{"$f":"Adr_Bilans & \"!$V$118\"","v":"Bilans!$V$118"},null,null,null,null,"Kwota",null,null,"jin:Pasywa_A_V/dtsf:PozycjaUszczegolawiajaca[3]/dtsf:KwotyPozycji","dtsf:KwotaA"]
[null,{"$f":"Adr_Bilans & \"!$W$118\"","v":"Bilans!$W$118"},null,null,null,null,"Kwota",null,null,"jin:Pasywa_A_V/dtsf:PozycjaUszczegolawiajaca[3]/dtsf:KwotyPozycji","dtsf:KwotaB"]
[null,{"$f":"Adr_Bilans & \"!$X$118\"","v":"Bilans!$X$118"},null,null,null,null,"Kwota",null,null,"jin:Pasywa_A_V/dtsf:PozycjaUszczegolawiajaca[3]/dtsf:KwotyPozycji","dtsf:KwotaB1"]
[null,{"$f":"Adr_Bilans & \"!$O$119\"","v":"Bilans!$O$119"},{"$f":"IF(OR(ISNUMBER(INDIRECT(B464)),ISNUMBER(INDIRECT(B465)),ISNUMBER(INDIRECT(B466))),\"ExportLabel\",\"\")","v":""},{"$f":"IF(C463=\"\",\"ImportOnly\",\"\")","v":"ImportOnly"},null,"Label","Tekst",null,{"$f":"\"=IF(\" & MID(B$451,SEARCH(\"!\",B$451)+1,20) & \" = \"\" – \"\" & teksty!$D$527,\"\" – \"\" & teksty!$D$1005,\"\"\"\")\"","v":"=IF($O$116 = \" – \" & teksty!$D$527,\" – \" & teksty!$D$1005,\"\")"},"jin:Pasywa_A_V/dtsf:PozycjaUszczegolawiajaca[4]","dtsf:NazwaPozycji"]
[null,{"$f":"Adr_Bilans & \"!$V$119\"","v":"Bilans!$V$119"},null,null,null,null,"Kwota",null,null,"jin:Pasywa_A_V/dtsf:PozycjaUszczegolawiajaca[4]/dtsf:KwotyPozycji","dtsf:KwotaA"]
[null,{"$f":"Adr_Bilans & \"!$W$119\"","v":"Bilans!$W$119"},null,null,null,null,"Kwota",null,null,"jin:Pasywa_A_V/dtsf:PozycjaUszczegolawiajaca[4]/dtsf:KwotyPozycji","dtsf:KwotaB"]
[null,{"$f":"Adr_Bilans & \"!$X$119\"","v":"Bilans!$X$119"},null,null,null,null,"Kwota",null,null,"jin:Pasywa_A_V/dtsf:PozycjaUszczegolawiajaca[4]/dtsf:KwotyPozycji","dtsf:KwotaB1"]
[null,{"$f":"Adr_Bilans & \"!$V$120\"","v":"Bilans!$V$120"},null,null,null,null,"Kwota",null,null,"jin:Pasywa_A_VI","dtsf:KwotaA"]
[null,{"$f":"Adr_Bilans & \"!$W$120\"","v":"Bilans!$W$120"},null,null,null,null,"Kwota",null,null,"jin:Pasywa_A_VI","dtsf:KwotaB"]
[null,{"$f":"Adr_Bilans & \"!$V$121\"","v":"Bilans!$V$121"},null,null,null,null,"Kwota",null,null,"jin:Pasywa_A_VII","dtsf:KwotaA"]
[null,{"$f":"Adr_Bilans & \"!$W$121\"","v":"Bilans!$W$121"},null,null,null,null,"Kwota",null,null,"jin:Pasywa_A_VII","dtsf:KwotaB"]
[null,{"$f":"Adr_Bilans & \"!$V$122\"","v":"Bilans!$V$122"},null,null,null,null,"Kwota",null,"*Sum","jin:Pasywa_B","dtsf:KwotaA"]
[null,{"$f":"Adr_Bilans & \"!$W$122\"","v":"Bilans!$W$122"},null,null,null,null,"Kwota",null,"*Sum","jin:Pasywa_B","dtsf:KwotaB"]
[null,{"$f":"Adr_Bilans & \"!$V$123\"","v":"Bilans!$V$123"},null,null,null,null,"Kwota",null,"*Sum","jin:Pasywa_B_I","dtsf:KwotaA"]
[null,{"$f":"Adr_Bilans & \"!$W$123\"","v":"Bilans!$W$123"},null,null,null,null,"Kwota",null,"*Sum","jin:Pasywa_B_I","dtsf:KwotaB"]
[null,{"$f":"Adr_Bilans & \"!$V$124\"","v":"Bilans!$V$124"},null,null,null,null,"Kwota",null,null,"jin:Pasywa_B_I_1","dtsf:KwotaA"]
[null,{"$f":"Adr_Bilans & \"!$W$124\"","v":"Bilans!$W$124"},null,null,null,null,"Kwota",null,null,"jin:Pasywa_B_I_1","dtsf:KwotaB"]
[null,{"$f":"Adr_Bilans & \"!$V$125\"","v":"Bilans!$V$125"},null,null,null,null,"Kwota",null,"*Sum","jin:Pasywa_B_I_2","dtsf:KwotaA"]
[null,{"$f":"Adr_Bilans & \"!$W$125\"","v":"Bilans!$W$125"},null,null,null,null,"Kwota",null,"*Sum","jin:Pasywa_B_I_2","dtsf:KwotaB"]
[null,{"$f":"Adr_Bilans & \"!$V$126\"","v":"Bilans!$V$126"},null,null,null,null,"Kwota",null,null,"jin:Pasywa_B_I_2_1","dtsf:KwotaA"]
[null,{"$f":"Adr_Bilans & \"!$W$126\"","v":"Bilans!$W$126"},null,null,null,null,"Kwota",null,null,"jin:Pasywa_B_I_2_1","dtsf:KwotaB"]
[null,{"$f":"Adr_Bilans & \"!$V$127\"","v":"Bilans!$V$127"},null,null,null,null,"Kwota",null,null,"jin:Pasywa_B_I_2_2","dtsf:KwotaA"]
[null,{"$f":"Adr_Bilans & \"!$W$127\"","v":"Bilans!$W$127"},null,null,null,null,"Kwota",null,null,"jin:Pasywa_B_I_2_2","dtsf:KwotaB"]
[null,{"$f":"Adr_Bilans & \"!$V$128\"","v":"Bilans!$V$128"},null,null,null,null,"Kwota",null,"*Sum","jin:Pasywa_B_I_3","dtsf:KwotaA"]
[null,{"$f":"Adr_Bilans & \"!$W$128\"","v":"Bilans!$W$128"},null,null,null,null,"Kwota",null,"*Sum","jin:Pasywa_B_I_3","dtsf:KwotaB"]
[null,{"$f":"Adr_Bilans & \"!$V$129\"","v":"Bilans!$V$129"},null,null,null,null,"Kwota",null,null,"jin:Pasywa_B_I_3_1","dtsf:KwotaA"]
[null,{"$f":"Adr_Bilans & \"!$W$129\"","v":"Bilans!$W$129"},null,null,null,null,"Kwota",null,null,"jin:Pasywa_B_I_3_1","dtsf:KwotaB"]
[null,{"$f":"Adr_Bilans & \"!$V$130\"","v":"Bilans!$V$130"},null,null,null,null,"Kwota",null,null,"jin:Pasywa_B_I_3_2","dtsf:KwotaA"]
[null,{"$f":"Adr_Bilans & \"!$W$130\"","v":"Bilans!$W$130"},null,null,null,null,"Kwota",null,null,"jin:Pasywa_B_I_3_2","dtsf:KwotaB"]
[null,{"$f":"Adr_Bilans & \"!$V$132\"","v":"Bilans!$V$132"},null,null,null,null,"Kwota",null,"*Sum","jin:Pasywa_B_II","dtsf:KwotaA"]
[null,{"$f":"Adr_Bilans & \"!$W$132\"","v":"Bilans!$W$132"},null,null,null,null,"Kwota",null,"*Sum","jin:Pasywa_B_II","dtsf:KwotaB"]
[null,{"$f":"Adr_Bilans & \"!$V$133\"","v":"Bilans!$V$133"},null,null,null,null,"Kwota",null,null,"jin:Pasywa_B_II_1","dtsf:KwotaA"]
[null,{"$f":"Adr_Bilans & \"!$W$133\"","v":"Bilans!$W$133"},null,null,null,null,"Kwota",null,null,"jin:Pasywa_B_II_1","dtsf:KwotaB"]
[null,{"$f":"Adr_Bilans & \"!$V$134\"","v":"Bilans!$V$134"},null,null,null,null,"Kwota",null,null,"jin:Pasywa_B_II_2","dtsf:KwotaA"]
[null,{"$f":"Adr_Bilans & \"!$W$134\"","v":"Bilans!$W$134"},null,null,null,null,"Kwota",null,null,"jin:Pasywa_B_II_2","dtsf:KwotaB"]
[null,{"$f":"Adr_Bilans & \"!$V$135\"","v":"Bilans!$V$135"},null,null,null,null,"Kwota",null,"*Sum","jin:Pasywa_B_II_3","dtsf:KwotaA"]
[null,{"$f":"Adr_Bilans & \"!$W$135\"","v":"Bilans!$W$135"},null,null,null,null,"Kwota",null,"*Sum","jin:Pasywa_B_II_3","dtsf:KwotaB"]
[null,{"$f":"Adr_Bilans & \"!$V$136\"","v":"Bilans!$V$136"},null,null,null,null,"Kwota",null,null,"jin:Pasywa_B_II_3_A","dtsf:KwotaA"]
[null,{"$f":"Adr_Bilans & \"!$W$136\"","v":"Bilans!$W$136"},null,null,null,null,"Kwota",null,null,"jin:Pasywa_B_II_3_A","dtsf:KwotaB"]
[null,{"$f":"Adr_Bilans & \"!$V$137\"","v":"Bilans!$V$137"},null,null,null,null,"Kwota",null,null,"jin:Pasywa_B_II_3_B","dtsf:KwotaA"]
[null,{"$f":"Adr_Bilans & \"!$W$137\"","v":"Bilans!$W$137"},null,null,null,null,"Kwota",null,null,"jin:Pasywa_B_II_3_B","dtsf:KwotaB"]
[null,{"$f":"Adr_Bilans & \"!$V$138\"","v":"Bilans!$V$138"},null,null,null,null,"Kwota",null,null,"jin:Pasywa_B_II_3_C","dtsf:KwotaA"]
[null,{"$f":"Adr_Bilans & \"!$W$138\"","v":"Bilans!$W$138"},null,null,null,null,"Kwota",null,null,"jin:Pasywa_B_II_3_C","dtsf:KwotaB"]
[null,{"$f":"Adr_Bilans & \"!$V$139\"","v":"Bilans!$V$139"},null,null,null,null,"Kwota",null,null,"jin:Pasywa_B_II_3_D","dtsf:KwotaA"]
[null,{"$f":"Adr_Bilans & \"!$W$139\"","v":"Bilans!$W$139"},null,null,null,null,"Kwota",null,null,"jin:Pasywa_B_II_3_D","dtsf:KwotaB"]
[null,{"$f":"Adr_Bilans & \"!$V$140\"","v":"Bilans!$V$140"},null,null,null,null,"Kwota",null,null,"jin:Pasywa_B_II_3_E","dtsf:KwotaA"]
[null,{"$f":"Adr_Bilans & \"!$W$140\"","v":"Bilans!$W$140"},null,null,null,null,"Kwota",null,null,"jin:Pasywa_B_II_3_E","dtsf:KwotaB"]
[null,{"$f":"Adr_Bilans & \"!$V$141\"","v":"Bilans!$V$141"},null,null,null,null,"Kwota",null,"*Sum","jin:Pasywa_B_III","dtsf:KwotaA"]
[null,{"$f":"Adr_Bilans & \"!$W$141\"","v":"Bilans!$W$141"},null,null,null,null,"Kwota",null,"*Sum","jin:Pasywa_B_III","dtsf:KwotaB"]
[null,{"$f":"Adr_Bilans & \"!$V$142\"","v":"Bilans!$V$142"},null,null,null,null,"Kwota",null,"*Sum","jin:Pasywa_B_III_1","dtsf:KwotaA"]
[null,{"$f":"Adr_Bilans & \"!$W$142\"","v":"Bilans!$W$142"},null,null,null,null,"Kwota",null,"*Sum","jin:Pasywa_B_III_1","dtsf:KwotaB"]
[null,{"$f":"Adr_Bilans & \"!$V$143\"","v":"Bilans!$V$143"},null,null,null,null,"Kwota",null,"*Sum","jin:Pasywa_B_III_1_A","dtsf:KwotaA"]
[null,{"$f":"Adr_Bilans & \"!$W$143\"","v":"Bilans!$W$143"},null,null,null,null,"Kwota",null,"*Sum","jin:Pasywa_B_III_1_A","dtsf:KwotaB"]
[null,{"$f":"Adr_Bilans & \"!$V$144\"","v":"Bilans!$V$144"},null,null,null,null,"Kwota",null,null,"jin:Pasywa_B_III_1_A_1","dtsf:KwotaA"]
[null,{"$f":"Adr_Bilans & \"!$W$144\"","v":"Bilans!$W$144"},null,null,null,null,"Kwota",null,null,"jin:Pasywa_B_III_1_A_1","dtsf:KwotaB"]
[null,{"$f":"Adr_Bilans & \"!$V$145\"","v":"Bilans!$V$145"},null,null,null,null,"Kwota",null,null,"jin:Pasywa_B_III_1_A_2","dtsf:KwotaA"]
[null,{"$f":"Adr_Bilans & \"!$W$145\"","v":"Bilans!$W$145"},null,null,null,null,"Kwota",null,null,"jin:Pasywa_B_III_1_A_2","dtsf:KwotaB"]
[null,{"$f":"Adr_Bilans & \"!$V$146\"","v":"Bilans!$V$146"},null,null,null,null,"Kwota",null,null,"jin:Pasywa_B_III_1_B","dtsf:KwotaA"]
[null,{"$f":"Adr_Bilans & \"!$W$146\"","v":"Bilans!$W$146"},null,null,null,null,"Kwota",null,null,"jin:Pasywa_B_III_1_B","dtsf:KwotaB"]
[null,{"$f":"Adr_Bilans & \"!$V$147\"","v":"Bilans!$V$147"},null,null,null,null,"Kwota",null,"*Sum","jin:Pasywa_B_III_2","dtsf:KwotaA"]
[null,{"$f":"Adr_Bilans & \"!$W$147\"","v":"Bilans!$W$147"},null,null,null,null,"Kwota",null,"*Sum","jin:Pasywa_B_III_2","dtsf:KwotaB"]
[null,{"$f":"Adr_Bilans & \"!$V$148\"","v":"Bilans!$V$148"},null,null,null,null,"Kwota",null,"*Sum","jin:Pasywa_B_III_2_A","dtsf:KwotaA"]
[null,{"$f":"Adr_Bilans & \"!$W$148\"","v":"Bilans!$W$148"},null,null,null,null,"Kwota",null,"*Sum","jin:Pasywa_B_III_2_A","dtsf:KwotaB"]
[null,{"$f":"Adr_Bilans & \"!$V$149\"","v":"Bilans!$V$149"},null,null,null,null,"Kwota",null,null,"jin:Pasywa_B_III_2_A_1","dtsf:KwotaA"]
[null,{"$f":"Adr_Bilans & \"!$W$149\"","v":"Bilans!$W$149"},null,null,null,null,"Kwota",null,null,"jin:Pasywa_B_III_2_A_1","dtsf:KwotaB"]
[null,{"$f":"Adr_Bilans & \"!$V$150\"","v":"Bilans!$V$150"},null,null,null,null,"Kwota",null,null,"jin:Pasywa_B_III_2_A_2","dtsf:KwotaA"]
[null,{"$f":"Adr_Bilans & \"!$W$150\"","v":"Bilans!$W$150"},null,null,null,null,"Kwota",null,null,"jin:Pasywa_B_III_2_A_2","dtsf:KwotaB"]
[null,{"$f":"Adr_Bilans & \"!$V$151\"","v":"Bilans!$V$151"},null,null,null,null,"Kwota",null,null,"jin:Pasywa_B_III_2_B","dtsf:KwotaA"]
[null,{"$f":"Adr_Bilans & \"!$W$151\"","v":"Bilans!$W$151"},null,null,null,null,"Kwota",null,null,"jin:Pasywa_B_III_2_B","dtsf:KwotaB"]
[null,{"$f":"Adr_Bilans & \"!$V$152\"","v":"Bilans!$V$152"},null,null,null,null,"Kwota",null,"*Sum","jin:Pasywa_B_III_3","dtsf:KwotaA"]
[null,{"$f":"Adr_Bilans & \"!$W$152\"","v":"Bilans!$W$152"},null,null,null,null,"Kwota",null,"*Sum","jin:Pasywa_B_III_3","dtsf:KwotaB"]
[null,{"$f":"Adr_Bilans & \"!$V$153\"","v":"Bilans!$V$153"},null,null,null,null,"Kwota",null,null,"jin:Pasywa_B_III_3_A","dtsf:KwotaA"]
[null,{"$f":"Adr_Bilans & \"!$W$153\"","v":"Bilans!$W$153"},null,null,null,null,"Kwota",null,null,"jin:Pasywa_B_III_3_A","dtsf:KwotaB"]
[null,{"$f":"Adr_Bilans & \"!$V$154\"","v":"Bilans!$V$154"},null,null,null,null,"Kwota",null,null,"jin:Pasywa_B_III_3_B","dtsf:KwotaA"]
[null,{"$f":"Adr_Bilans & \"!$W$154\"","v":"Bilans!$W$154"},null,null,null,null,"Kwota",null,null,"jin:Pasywa_B_III_3_B","dtsf:KwotaB"]
[null,{"$f":"Adr_Bilans & \"!$V$155\"","v":"Bilans!$V$155"},null,null,null,null,"Kwota",null,null,"jin:Pasywa_B_III_3_C","dtsf:KwotaA"]
[null,{"$f":"Adr_Bilans & \"!$W$155\"","v":"Bilans!$W$155"},null,null,null,null,"Kwota",null,null,"jin:Pasywa_B_III_3_C","dtsf:KwotaB"]
[null,{"$f":"Adr_Bilans & \"!$V$156\"","v":"Bilans!$V$156"},null,null,null,null,"Kwota",null,"*Sum","jin:Pasywa_B_III_3_D","dtsf:KwotaA"]
[null,{"$f":"Adr_Bilans & \"!$W$156\"","v":"Bilans!$W$156"},null,null,null,null,"Kwota",null,"*Sum","jin:Pasywa_B_III_3_D","dtsf:KwotaB"]
[null,{"$f":"Adr_Bilans & \"!$V$157\"","v":"Bilans!$V$157"},null,null,null,null,"Kwota",null,null,"jin:Pasywa_B_III_3_D_1","dtsf:KwotaA"]
[null,{"$f":"Adr_Bilans & \"!$W$157\"","v":"Bilans!$W$157"},null,null,null,null,"Kwota",null,null,"jin:Pasywa_B_III_3_D_1","dtsf:KwotaB"]
[null,{"$f":"Adr_Bilans & \"!$V$158\"","v":"Bilans!$V$158"},null,null,null,null,"Kwota",null,null,"jin:Pasywa_B_III_3_D_2","dtsf:KwotaA"]
[null,{"$f":"Adr_Bilans & \"!$W$158\"","v":"Bilans!$W$158"},null,null,null,null,"Kwota",null,null,"jin:Pasywa_B_III_3_D_2","dtsf:KwotaB"]
[null,{"$f":"Adr_Bilans & \"!$V$159\"","v":"Bilans!$V$159"},null,null,null,null,"Kwota",null,null,"jin:Pasywa_B_III_3_E","dtsf:KwotaA"]
[null,{"$f":"Adr_Bilans & \"!$W$159\"","v":"Bilans!$W$159"},null,null,null,null,"Kwota",null,null,"jin:Pasywa_B_III_3_E","dtsf:KwotaB"]
[null,{"$f":"Adr_Bilans & \"!$V$160\"","v":"Bilans!$V$160"},null,null,null,null,"Kwota",null,null,"jin:Pasywa_B_III_3_F","dtsf:KwotaA"]
[null,{"$f":"Adr_Bilans & \"!$W$160\"","v":"Bilans!$W$160"},null,null,null,null,"Kwota",null,null,"jin:Pasywa_B_III_3_F","dtsf:KwotaB"]
[null,{"$f":"Adr_Bilans & \"!$V$161\"","v":"Bilans!$V$161"},null,null,null,null,"Kwota",null,null,"jin:Pasywa_B_III_3_G","dtsf:KwotaA"]
[null,{"$f":"Adr_Bilans & \"!$W$161\"","v":"Bilans!$W$161"},null,null,null,null,"Kwota",null,null,"jin:Pasywa_B_III_3_G","dtsf:KwotaB"]
[null,{"$f":"Adr_Bilans & \"!$V$162\"","v":"Bilans!$V$162"},null,null,null,null,"Kwota",null,null,"jin:Pasywa_B_III_3_H","dtsf:KwotaA"]
[null,{"$f":"Adr_Bilans & \"!$W$162\"","v":"Bilans!$W$162"},null,null,null,null,"Kwota",null,null,"jin:Pasywa_B_III_3_H","dtsf:KwotaB"]
[null,{"$f":"Adr_Bilans & \"!$V$163\"","v":"Bilans!$V$163"},null,null,null,null,"Kwota",null,null,"jin:Pasywa_B_III_3_I","dtsf:KwotaA"]
[null,{"$f":"Adr_Bilans & \"!$W$163\"","v":"Bilans!$W$163"},null,null,null,null,"Kwota",null,null,"jin:Pasywa_B_III_3_I","dtsf:KwotaB"]
[null,{"$f":"Adr_Bilans & \"!$V$164\"","v":"Bilans!$V$164"},null,null,null,null,"Kwota",null,null,"jin:Pasywa_B_III_4","dtsf:KwotaA"]
[null,{"$f":"Adr_Bilans & \"!$W$164\"","v":"Bilans!$W$164"},null,null,null,null,"Kwota",null,null,"jin:Pasywa_B_III_4","dtsf:KwotaB"]
[null,{"$f":"Adr_Bilans & \"!$V$166\"","v":"Bilans!$V$166"},null,null,null,null,"Kwota",null,"*Sum","jin:Pasywa_B_IV","dtsf:KwotaA"]
[null,{"$f":"Adr_Bilans & \"!$W$166\"","v":"Bilans!$W$166"},null,null,null,null,"Kwota",null,"*Sum","jin:Pasywa_B_IV","dtsf:KwotaB"]
[null,{"$f":"Adr_Bilans & \"!$V$167\"","v":"Bilans!$V$167"},null,null,null,null,"Kwota",null,null,"jin:Pasywa_B_IV_1","dtsf:KwotaA"]
[null,{"$f":"Adr_Bilans & \"!$W$167\"","v":"Bilans!$W$167"},null,null,null,null,"Kwota",null,null,"jin:Pasywa_B_IV_1","dtsf:KwotaB"]
[null,{"$f":"Adr_Bilans & \"!$V$168\"","v":"Bilans!$V$168"},null,null,null,null,"Kwota",null,"*Sum","jin:Pasywa_B_IV_2","dtsf:KwotaA"]
[null,{"$f":"Adr_Bilans & \"!$W$168\"","v":"Bilans!$W$168"},null,null,null,null,"Kwota",null,"*Sum","jin:Pasywa_B_IV_2","dtsf:KwotaB"]
[null,{"$f":"Adr_Bilans & \"!$V$169\"","v":"Bilans!$V$169"},null,null,null,null,"Kwota",null,null,"jin:Pasywa_B_IV_2_1","dtsf:KwotaA"]
[null,{"$f":"Adr_Bilans & \"!$W$169\"","v":"Bilans!$W$169"},null,null,null,null,"Kwota",null,null,"jin:Pasywa_B_IV_2_1","dtsf:KwotaB"]
[null,{"$f":"Adr_Bilans & \"!$V$170\"","v":"Bilans!$V$170"},null,null,null,null,"Kwota",null,null,"jin:Pasywa_B_IV_2_2","dtsf:KwotaA"]
[null,{"$f":"Adr_Bilans & \"!$W$170\"","v":"Bilans!$W$170"},null,null,null,null,"Kwota",null,null,"jin:Pasywa_B_IV_2_2","dtsf:KwotaB"]
[null,{"$f":"Adr_Bilans & \"!$O$171\"","v":"Bilans!$O$171"},{"$f":"IF(OR(ISNUMBER(INDIRECT(B566)),ISNUMBER(INDIRECT(B567)),ISNUMBER(INDIRECT(B568))),\"ExportLabel\",\"\")","v":""},{"$f":"IF(C565=\"\",\"ImportOnly\",\"\")","v":"ImportOnly"},null,"Label","Tekst",null,"=\" – \" & teksty!$D$579","jin:Pasywa_B_IV_2/jin:PozycjaUszczegolawiajaca_3[1]","dtsf:NazwaPozycji"]
[null,{"$f":"Adr_Bilans & \"!$V$171\"","v":"Bilans!$V$171"},null,null,null,null,"Kwota",null,null,"jin:Pasywa_B_IV_2/jin:PozycjaUszczegolawiajaca_3[1]/dtsf:KwotyPozycji","dtsf:KwotaA"]
[null,{"$f":"Adr_Bilans & \"!$W$171\"","v":"Bilans!$W$171"},null,null,null,null,"Kwota",null,null,"jin:Pasywa_B_IV_2/jin:PozycjaUszczegolawiajaca_3[1]/dtsf:KwotyPozycji","dtsf:KwotaB"]
[null,{"$f":"Adr_Bilans & \"!$X$171\"","v":"Bilans!$X$171"},null,null,null,null,"Kwota",null,null,"jin:Pasywa_B_IV_2/jin:PozycjaUszczegolawiajaca_3[1]/dtsf:KwotyPozycji","dtsf:KwotaB1"]
[]
[null,{"$f":"Adr_Bilans & \"!$X$102\"","v":"Bilans!$X$102"},null,null,null,null,"Kwota",null,null,"jin:Pasywa_A","dtsf:KwotaB1"]
[null,{"$f":"Adr_Bilans & \"!$X$103\"","v":"Bilans!$X$103"},null,null,null,null,"Kwota",null,null,"jin:Pasywa_A_I","dtsf:KwotaB1"]
[null,{"$f":"Adr_Bilans & \"!$X$104\"","v":"Bilans!$X$104"},null,null,null,null,"Kwota",null,null,"jin:Pasywa_A_II","dtsf:KwotaB1"]
[null,{"$f":"Adr_Bilans & \"!$X$105\"","v":"Bilans!$X$105"},null,null,null,null,"Kwota",null,null,"jin:Pasywa_A_II_1","dtsf:KwotaB1"]
[null,{"$f":"Adr_Bilans & \"!$X$108\"","v":"Bilans!$X$108"},null,null,null,null,"Kwota",null,null,"jin:Pasywa_A_III","dtsf:KwotaB1"]
[null,{"$f":"Adr_Bilans & \"!$X$109\"","v":"Bilans!$X$109"},null,null,null,null,"Kwota",null,null,"jin:Pasywa_A_III_1","dtsf:KwotaB1"]
[null,{"$f":"Adr_Bilans & \"!$X$110\"","v":"Bilans!$X$110"},null,null,null,null,"Kwota",null,null,"jin:Pasywa_A_IV","dtsf:KwotaB1"]
[null,{"$f":"Adr_Bilans & \"!$X$111\"","v":"Bilans!$X$111"},null,null,null,null,"Kwota",null,null,"jin:Pasywa_A_IV_1","dtsf:KwotaB1"]
[null,{"$f":"Adr_Bilans & \"!$X$112\"","v":"Bilans!$X$112"},null,null,null,null,"Kwota",null,null,"jin:Pasywa_A_IV_2","dtsf:KwotaB1"]
[null,{"$f":"Adr_Bilans & \"!$X$115\"","v":"Bilans!$X$115"},null,null,null,null,"Kwota",null,null,"jin:Pasywa_A_V","dtsf:KwotaB1"]
[null,{"$f":"Adr_Bilans & \"!$X$120\"","v":"Bilans!$X$120"},null,null,null,null,"Kwota",null,null,"jin:Pasywa_A_VI","dtsf:KwotaB1"]
[null,{"$f":"Adr_Bilans & \"!$X$121\"","v":"Bilans!$X$121"},null,null,null,null,"Kwota",null,null,"jin:Pasywa_A_VII","dtsf:KwotaB1"]
[null,{"$f":"Adr_Bilans & \"!$X$122\"","v":"Bilans!$X$122"},null,null,null,null,"Kwota",null,null,"jin:Pasywa_B","dtsf:KwotaB1"]
[null,{"$f":"Adr_Bilans & \"!$X$123\"","v":"Bilans!$X$123"},null,null,null,null,"Kwota",null,null,"jin:Pasywa_B_I","dtsf:KwotaB1"]
[null,{"$f":"Adr_Bilans & \"!$X$124\"","v":"Bilans!$X$124"},null,null,null,null,"Kwota",null,null,"jin:Pasywa_B_I_1","dtsf:KwotaB1"]
[null,{"$f":"Adr_Bilans & \"!$X$125\"","v":"Bilans!$X$125"},null,null,null,null,"Kwota",null,null,"jin:Pasywa_B_I_2","dtsf:KwotaB1"]
[null,{"$f":"Adr_Bilans & \"!$X$126\"","v":"Bilans!$X$126"},null,null,null,null,"Kwota",null,null,"jin:Pasywa_B_I_2_1","dtsf:KwotaB1"]
[null,{"$f":"Adr_Bilans & \"!$X$127\"","v":"Bilans!$X$127"},null,null,null,null,"Kwota",null,null,"jin:Pasywa_B_I_2_2","dtsf:KwotaB1"]
[null,{"$f":"Adr_Bilans & \"!$X$128\"","v":"Bilans!$X$128"},null,null,null,null,"Kwota",null,null,"jin:Pasywa_B_I_3","dtsf:KwotaB1"]
[null,{"$f":"Adr_Bilans & \"!$X$129\"","v":"Bilans!$X$129"},null,null,null,null,"Kwota",null,null,"jin:Pasywa_B_I_3_1","dtsf:KwotaB1"]
[null,{"$f":"Adr_Bilans & \"!$X$130\"","v":"Bilans!$X$130"},null,null,null,null,"Kwota",null,null,"jin:Pasywa_B_I_3_2","dtsf:KwotaB1"]
[null,{"$f":"Adr_Bilans & \"!$X$132\"","v":"Bilans!$X$132"},null,null,null,null,"Kwota",null,null,"jin:Pasywa_B_II","dtsf:KwotaB1"]
[null,{"$f":"Adr_Bilans & \"!$X$133\"","v":"Bilans!$X$133"},null,null,null,null,"Kwota",null,null,"jin:Pasywa_B_II_1","dtsf:KwotaB1"]
[null,{"$f":"Adr_Bilans & \"!$X$134\"","v":"Bilans!$X$134"},null,null,null,null,"Kwota",null,null,"jin:Pasywa_B_II_2","dtsf:KwotaB1"]
[null,{"$f":"Adr_Bilans & \"!$X$135\"","v":"Bilans!$X$135"},null,null,null,null,"Kwota",null,null,"jin:Pasywa_B_II_3","dtsf:KwotaB1"]
[null,{"$f":"Adr_Bilans & \"!$X$136\"","v":"Bilans!$X$136"},null,null,null,null,"Kwota",null,null,"jin:Pasywa_B_II_3_A","dtsf:KwotaB1"]
[null,{"$f":"Adr_Bilans & \"!$X$137\"","v":"Bilans!$X$137"},null,null,null,null,"Kwota",null,null,"jin:Pasywa_B_II_3_B","dtsf:KwotaB1"]
[null,{"$f":"Adr_Bilans & \"!$X$138\"","v":"Bilans!$X$138"},null,null,null,null,"Kwota",null,null,"jin:Pasywa_B_II_3_C","dtsf:KwotaB1"]
[null,{"$f":"Adr_Bilans & \"!$X$139\"","v":"Bilans!$X$139"},null,null,null,null,"Kwota",null,null,"jin:Pasywa_B_II_3_D","dtsf:KwotaB1"]
[null,{"$f":"Adr_Bilans & \"!$X$140\"","v":"Bilans!$X$140"},null,null,null,null,"Kwota",null,null,"jin:Pasywa_B_II_3_E","dtsf:KwotaB1"]
[null,{"$f":"Adr_Bilans & \"!$X$141\"","v":"Bilans!$X$141"},null,null,null,null,"Kwota",null,null,"jin:Pasywa_B_III","dtsf:KwotaB1"]
[null,{"$f":"Adr_Bilans & \"!$X$142\"","v":"Bilans!$X$142"},null,null,null,null,"Kwota",null,null,"jin:Pasywa_B_III_1","dtsf:KwotaB1"]
[null,{"$f":"Adr_Bilans & \"!$X$143\"","v":"Bilans!$X$143"},null,null,null,null,"Kwota",null,null,"jin:Pasywa_B_III_1_A","dtsf:KwotaB1"]
[null,{"$f":"Adr_Bilans & \"!$X$144\"","v":"Bilans!$X$144"},null,null,null,null,"Kwota",null,null,"jin:Pasywa_B_III_1_A_1","dtsf:KwotaB1"]
[null,{"$f":"Adr_Bilans & \"!$X$145\"","v":"Bilans!$X$145"},null,null,null,null,"Kwota",null,null,"jin:Pasywa_B_III_1_A_2","dtsf:KwotaB1"]
[null,{"$f":"Adr_Bilans & \"!$X$146\"","v":"Bilans!$X$146"},null,null,null,null,"Kwota",null,null,"jin:Pasywa_B_III_1_B","dtsf:KwotaB1"]
[null,{"$f":"Adr_Bilans & \"!$X$147\"","v":"Bilans!$X$147"},null,null,null,null,"Kwota",null,null,"jin:Pasywa_B_III_2","dtsf:KwotaB1"]
[null,{"$f":"Adr_Bilans & \"!$X$148\"","v":"Bilans!$X$148"},null,null,null,null,"Kwota",null,null,"jin:Pasywa_B_III_2_A","dtsf:KwotaB1"]
[null,{"$f":"Adr_Bilans & \"!$X$149\"","v":"Bilans!$X$149"},null,null,null,null,"Kwota",null,null,"jin:Pasywa_B_III_2_A_1","dtsf:KwotaB1"]
[null,{"$f":"Adr_Bilans & \"!$X$150\"","v":"Bilans!$X$150"},null,null,null,null,"Kwota",null,null,"jin:Pasywa_B_III_2_A_2","dtsf:KwotaB1"]
[null,{"$f":"Adr_Bilans & \"!$X$151\"","v":"Bilans!$X$151"},null,null,null,null,"Kwota",null,null,"jin:Pasywa_B_III_2_B","dtsf:KwotaB1"]
[null,{"$f":"Adr_Bilans & \"!$X$152\"","v":"Bilans!$X$152"},null,null,null,null,"Kwota",null,null,"jin:Pasywa_B_III_3","dtsf:KwotaB1"]
[null,{"$f":"Adr_Bilans & \"!$X$153\"","v":"Bilans!$X$153"},null,null,null,null,"Kwota",null,null,"jin:Pasywa_B_III_3_A","dtsf:KwotaB1"]
[null,{"$f":"Adr_Bilans & \"!$X$154\"","v":"Bilans!$X$154"},null,null,null,null,"Kwota",null,null,"jin:Pasywa_B_III_3_B","dtsf:KwotaB1"]
[null,{"$f":"Adr_Bilans & \"!$X$155\"","v":"Bilans!$X$155"},null,null,null,null,"Kwota",null,null,"jin:Pasywa_B_III_3_C","dtsf:KwotaB1"]
[null,{"$f":"Adr_Bilans & \"!$X$156\"","v":"Bilans!$X$156"},null,null,null,null,"Kwota",null,null,"jin:Pasywa_B_III_3_D","dtsf:KwotaB1"]
[null,{"$f":"Adr_Bilans & \"!$X$157\"","v":"Bilans!$X$157"},null,null,null,null,"Kwota",null,null,"jin:Pasywa_B_III_3_D_1","dtsf:KwotaB1"]
[null,{"$f":"Adr_Bilans & \"!$X$158\"","v":"Bilans!$X$158"},null,null,null,null,"Kwota",null,null,"jin:Pasywa_B_III_3_D_2","dtsf:KwotaB1"]
[null,{"$f":"Adr_Bilans & \"!$X$159\"","v":"Bilans!$X$159"},null,null,null,null,"Kwota",null,null,"jin:Pasywa_B_III_3_E","dtsf:KwotaB1"]
[null,{"$f":"Adr_Bilans & \"!$X$160\"","v":"Bilans!$X$160"},null,null,null,null,"Kwota",null,null,"jin:Pasywa_B_III_3_F","dtsf:KwotaB1"]
[null,{"$f":"Adr_Bilans & \"!$X$161\"","v":"Bilans!$X$161"},null,null,null,null,"Kwota",null,null,"jin:Pasywa_B_III_3_G","dtsf:KwotaB1"]
[null,{"$f":"Adr_Bilans & \"!$X$162\"","v":"Bilans!$X$162"},null,null,null,null,"Kwota",null,null,"jin:Pasywa_B_III_3_H","dtsf:KwotaB1"]
[null,{"$f":"Adr_Bilans & \"!$X$163\"","v":"Bilans!$X$163"},null,null,null,null,"Kwota",null,null,"jin:Pasywa_B_III_3_I","dtsf:KwotaB1"]
[null,{"$f":"Adr_Bilans & \"!$X$164\"","v":"Bilans!$X$164"},null,null,null,null,"Kwota",null,null,"jin:Pasywa_B_III_4","dtsf:KwotaB1"]
[null,{"$f":"Adr_Bilans & \"!$X$166\"","v":"Bilans!$X$166"},null,null,null,null,"Kwota",null,null,"jin:Pasywa_B_IV","dtsf:KwotaB1"]
[null,{"$f":"Adr_Bilans & \"!$X$167\"","v":"Bilans!$X$167"},null,null,null,null,"Kwota",null,null,"jin:Pasywa_B_IV_1","dtsf:KwotaB1"]
[null,{"$f":"Adr_Bilans & \"!$X$168\"","v":"Bilans!$X$168"},null,null,null,null,"Kwota",null,null,"jin:Pasywa_B_IV_2","dtsf:KwotaB1"]
[null,{"$f":"Adr_Bilans & \"!$X$169\"","v":"Bilans!$X$169"},null,null,null,null,"Kwota",null,null,"jin:Pasywa_B_IV_2_1","dtsf:KwotaB1"]
[null,{"$f":"Adr_Bilans & \"!$X$170\"","v":"Bilans!$X$170"},null,null,null,null,"Kwota",null,null,"jin:Pasywa_B_IV_2_2","dtsf:KwotaB1"]
[null,{"$f":"Adr_Bilans & \"!$X$172\"","v":"Bilans!$X$172"},null,null,null,null,"Kwota",null,null,"jin:Pasywa","dtsf:KwotaB1"]
[]
[null,{"$f":"Adr_Bilans & \"!$V$198\"","v":"Bilans!$V$198"},null,null,null,null,"Kwota",null,"*SumUp","jma:Aktywa","dtsf:KwotaA"]
[null,{"$f":"Adr_Bilans & \"!$W$198\"","v":"Bilans!$W$198"},null,null,null,null,"Kwota",null,"*SumUp","jma:Aktywa","dtsf:KwotaB"]
[null,{"$f":"Adr_Bilans & \"!$V$176\"","v":"Bilans!$V$176"},null,null,null,null,"Kwota",null,"*Sum","jma:Aktywa_A","dtsf:KwotaA"]
[null,{"$f":"Adr_Bilans & \"!$W$176\"","v":"Bilans!$W$176"},null,null,null,null,"Kwota",null,"*Sum","jma:Aktywa_A","dtsf:KwotaB"]
[null,{"$f":"Adr_Bilans & \"!$V$177\"","v":"Bilans!$V$177"},null,null,null,null,"Kwota",null,null,"jma:Aktywa_A_I","dtsf:KwotaA"]
[null,{"$f":"Adr_Bilans & \"!$W$177\"","v":"Bilans!$W$177"},null,null,null,null,"Kwota",null,null,"jma:Aktywa_A_I","dtsf:KwotaB"]
[null,{"$f":"Adr_Bilans & \"!$V$178\"","v":"Bilans!$V$178"},null,null,null,null,"Kwota",null,null,"jma:Aktywa_A_II","dtsf:KwotaA"]
[null,{"$f":"Adr_Bilans & \"!$W$178\"","v":"Bilans!$W$178"},null,null,null,null,"Kwota",null,null,"jma:Aktywa_A_II","dtsf:KwotaB"]
[null,{"$f":"Adr_Bilans & \"!$V$179\"","v":"Bilans!$V$179"},null,null,null,null,"Kwota",null,null,"jma:Aktywa_A_II_1","dtsf:KwotaA"]
[null,{"$f":"Adr_Bilans & \"!$W$179\"","v":"Bilans!$W$179"},null,null,null,null,"Kwota",null,null,"jma:Aktywa_A_II_1","dtsf:KwotaB"]
[null,{"$f":"Adr_Bilans & \"!$V$180\"","v":"Bilans!$V$180"},null,null,null,null,"Kwota",null,null,"jma:Aktywa_A_II_2","dtsf:KwotaA"]
[null,{"$f":"Adr_Bilans & \"!$W$180\"","v":"Bilans!$W$180"},null,null,null,null,"Kwota",null,null,"jma:Aktywa_A_II_2","dtsf:KwotaB"]
[null,{"$f":"Adr_Bilans & \"!$V$181\"","v":"Bilans!$V$181"},null,null,null,null,"Kwota",null,null,"jma:Aktywa_A_III","dtsf:KwotaA"]
[null,{"$f":"Adr_Bilans & \"!$W$181\"","v":"Bilans!$W$181"},null,null,null,null,"Kwota",null,null,"jma:Aktywa_A_III","dtsf:KwotaB"]
[null,{"$f":"Adr_Bilans & \"!$V$182\"","v":"Bilans!$V$182"},null,null,null,null,"Kwota",null,null,"jma:Aktywa_A_IV","dtsf:KwotaA"]
[null,{"$f":"Adr_Bilans & \"!$W$182\"","v":"Bilans!$W$182"},null,null,null,null,"Kwota",null,null,"jma:Aktywa_A_IV","dtsf:KwotaB"]
[null,{"$f":"Adr_Bilans & \"!$V$183\"","v":"Bilans!$V$183"},null,null,null,null,"Kwota",null,null,"jma:Aktywa_A_IV_1","dtsf:KwotaA"]
[null,{"$f":"Adr_Bilans & \"!$W$183\"","v":"Bilans!$W$183"},null,null,null,null,"Kwota",null,null,"jma:Aktywa_A_IV_1","dtsf:KwotaB"]
[null,{"$f":"Adr_Bilans & \"!$V$184\"","v":"Bilans!$V$184"},null,null,null,null,"Kwota",null,null,"jma:Aktywa_A_IV_2","dtsf:KwotaA"]
[null,{"$f":"Adr_Bilans & \"!$W$184\"","v":"Bilans!$W$184"},null,null,null,null,"Kwota",null,null,"jma:Aktywa_A_IV_2","dtsf:KwotaB"]
[null,{"$f":"Adr_Bilans & \"!$V$185\"","v":"Bilans!$V$185"},null,null,null,null,"Kwota",null,null,"jma:Aktywa_A_V","dtsf:KwotaA"]
[null,{"$f":"Adr_Bilans & \"!$W$185\"","v":"Bilans!$W$185"},null,null,null,null,"Kwota",null,null,"jma:Aktywa_A_V","dtsf:KwotaB"]
[null,{"$f":"Adr_Bilans & \"!$V$186\"","v":"Bilans!$V$186"},null,null,null,null,"Kwota",null,"*Sum","jma:Aktywa_B","dtsf:KwotaA"]
[null,{"$f":"Adr_Bilans & \"!$W$186\"","v":"Bilans!$W$186"},null,null,null,null,"Kwota",null,"*Sum","jma:Aktywa_B","dtsf:KwotaB"]
[null,{"$f":"Adr_Bilans & \"!$V$187\"","v":"Bilans!$V$187"},null,null,null,null,"Kwota",null,null,"jma:Aktywa_B_I","dtsf:KwotaA"]
[null,{"$f":"Adr_Bilans & \"!$W$187\"","v":"Bilans!$W$187"},null,null,null,null,"Kwota",null,null,"jma:Aktywa_B_I","dtsf:KwotaB"]
[null,{"$f":"Adr_Bilans & \"!$V$188\"","v":"Bilans!$V$188"},null,null,null,null,"Kwota",null,null,"jma:Aktywa_B_II","dtsf:KwotaA"]
[null,{"$f":"Adr_Bilans & \"!$W$188\"","v":"Bilans!$W$188"},null,null,null,null,"Kwota",null,null,"jma:Aktywa_B_II","dtsf:KwotaB"]
[null,{"$f":"Adr_Bilans & \"!$V$189\"","v":"Bilans!$V$189"},null,null,null,null,"Kwota",null,"*Sum","jma:Aktywa_B_II_A","dtsf:KwotaA"]
[null,{"$f":"Adr_Bilans & \"!$W$189\"","v":"Bilans!$W$189"},null,null,null,null,"Kwota",null,"*Sum","jma:Aktywa_B_II_A","dtsf:KwotaB"]
[null,{"$f":"Adr_Bilans & \"!$V$190\"","v":"Bilans!$V$190"},null,null,null,null,"Kwota",null,null,"jma:Aktywa_B_II_A_1","dtsf:KwotaA"]
[null,{"$f":"Adr_Bilans & \"!$W$190\"","v":"Bilans!$W$190"},null,null,null,null,"Kwota",null,null,"jma:Aktywa_B_II_A_1","dtsf:KwotaB"]
[null,{"$f":"Adr_Bilans & \"!$V$191\"","v":"Bilans!$V$191"},null,null,null,null,"Kwota",null,null,"jma:Aktywa_B_II_A_2","dtsf:KwotaA"]
[null,{"$f":"Adr_Bilans & \"!$W$191\"","v":"Bilans!$W$191"},null,null,null,null,"Kwota",null,null,"jma:Aktywa_B_II_A_2","dtsf:KwotaB"]
[null,{"$f":"Adr_Bilans & \"!$V$192\"","v":"Bilans!$V$192"},null,null,null,null,"Kwota",null,null,"jma:Aktywa_B_III","dtsf:KwotaA"]
[null,{"$f":"Adr_Bilans & \"!$W$192\"","v":"Bilans!$W$192"},null,null,null,null,"Kwota",null,null,"jma:Aktywa_B_III","dtsf:KwotaB"]
[null,{"$f":"Adr_Bilans & \"!$V$193\"","v":"Bilans!$V$193"},null,null,null,null,"Kwota",null,null,"jma:Aktywa_B_III_A","dtsf:KwotaA"]
[null,{"$f":"Adr_Bilans & \"!$W$193\"","v":"Bilans!$W$193"},null,null,null,null,"Kwota",null,null,"jma:Aktywa_B_III_A","dtsf:KwotaB"]
[null,{"$f":"Adr_Bilans & \"!$V$194\"","v":"Bilans!$V$194"},null,null,null,null,"Kwota",null,null,"jma:Aktywa_B_III_A_1","dtsf:KwotaA"]
[null,{"$f":"Adr_Bilans & \"!$W$194\"","v":"Bilans!$W$194"},null,null,null,null,"Kwota",null,null,"jma:Aktywa_B_III_A_1","dtsf:KwotaB"]
[null,{"$f":"Adr_Bilans & \"!$V$195\"","v":"Bilans!$V$195"},null,null,null,null,"Kwota",null,null,"jma:Aktywa_B_IV","dtsf:KwotaA"]
[null,{"$f":"Adr_Bilans & \"!$W$195\"","v":"Bilans!$W$195"},null,null,null,null,"Kwota",null,null,"jma:Aktywa_B_IV","dtsf:KwotaB"]
[null,{"$f":"Adr_Bilans & \"!$V$196\"","v":"Bilans!$V$196"},null,null,null,null,"Kwota",null,null,"jma:Aktywa_C","dtsf:KwotaA"]
[null,{"$f":"Adr_Bilans & \"!$W$196\"","v":"Bilans!$W$196"},null,null,null,null,"Kwota",null,null,"jma:Aktywa_C","dtsf:KwotaB"]
[null,{"$f":"Adr_Bilans & \"!$V$197\"","v":"Bilans!$V$197"},null,null,null,null,"Kwota",null,null,"jma:Aktywa_D","dtsf:KwotaA"]
[null,{"$f":"Adr_Bilans & \"!$W$197\"","v":"Bilans!$W$197"},null,null,null,null,"Kwota",null,null,"jma:Aktywa_D","dtsf:KwotaB"]
[]
[null,{"$f":"Adr_Bilans & \"!$X$176\"","v":"Bilans!$X$176"},null,null,null,null,"Kwota",null,null,"jma:Aktywa_A","dtsf:KwotaB1"]
[null,{"$f":"Adr_Bilans & \"!$X$177\"","v":"Bilans!$X$177"},null,null,null,null,"Kwota",null,null,"jma:Aktywa_A_I","dtsf:KwotaB1"]
[null,{"$f":"Adr_Bilans & \"!$X$178\"","v":"Bilans!$X$178"},null,null,null,null,"Kwota",null,null,"jma:Aktywa_A_II","dtsf:KwotaB1"]
[null,{"$f":"Adr_Bilans & \"!$X$179\"","v":"Bilans!$X$179"},null,null,null,null,"Kwota",null,null,"jma:Aktywa_A_II_1","dtsf:KwotaB1"]
[null,{"$f":"Adr_Bilans & \"!$X$180\"","v":"Bilans!$X$180"},null,null,null,null,"Kwota",null,null,"jma:Aktywa_A_II_2","dtsf:KwotaB1"]
[null,{"$f":"Adr_Bilans & \"!$X$181\"","v":"Bilans!$X$181"},null,null,null,null,"Kwota",null,null,"jma:Aktywa_A_III","dtsf:KwotaB1"]
[null,{"$f":"Adr_Bilans & \"!$X$182\"","v":"Bilans!$X$182"},null,null,null,null,"Kwota",null,null,"jma:Aktywa_A_IV","dtsf:KwotaB1"]
[null,{"$f":"Adr_Bilans & \"!$X$183\"","v":"Bilans!$X$183"},null,null,null,null,"Kwota",null,null,"jma:Aktywa_A_IV_1","dtsf:KwotaB1"]
[null,{"$f":"Adr_Bilans & \"!$X$184\"","v":"Bilans!$X$184"},null,null,null,null,"Kwota",null,null,"jma:Aktywa_A_IV_2","dtsf:KwotaB1"]
[null,{"$f":"Adr_Bilans & \"!$X$185\"","v":"Bilans!$X$185"},null,null,null,null,"Kwota",null,null,"jma:Aktywa_A_V","dtsf:KwotaB1"]
[null,{"$f":"Adr_Bilans & \"!$X$186\"","v":"Bilans!$X$186"},null,null,null,null,"Kwota",null,null,"jma:Aktywa_B","dtsf:KwotaB1"]
[null,{"$f":"Adr_Bilans & \"!$X$187\"","v":"Bilans!$X$187"},null,null,null,null,"Kwota",null,null,"jma:Aktywa_B_I","dtsf:KwotaB1"]
[null,{"$f":"Adr_Bilans & \"!$X$188\"","v":"Bilans!$X$188"},null,null,null,null,"Kwota",null,null,"jma:Aktywa_B_II","dtsf:KwotaB1"]
[null,{"$f":"Adr_Bilans & \"!$X$189\"","v":"Bilans!$X$189"},null,null,null,null,"Kwota",null,null,"jma:Aktywa_B_II_A","dtsf:KwotaB1"]
[null,{"$f":"Adr_Bilans & \"!$X$190\"","v":"Bilans!$X$190"},null,null,null,null,"Kwota",null,null,"jma:Aktywa_B_II_A_1","dtsf:KwotaB1"]
[null,{"$f":"Adr_Bilans & \"!$X$191\"","v":"Bilans!$X$191"},null,null,null,null,"Kwota",null,null,"jma:Aktywa_B_II_A_2","dtsf:KwotaB1"]
[null,{"$f":"Adr_Bilans & \"!$X$192\"","v":"Bilans!$X$192"},null,null,null,null,"Kwota",null,null,"jma:Aktywa_B_III","dtsf:KwotaB1"]
[null,{"$f":"Adr_Bilans & \"!$X$193\"","v":"Bilans!$X$193"},null,null,null,null,"Kwota",null,null,"jma:Aktywa_B_III_A","dtsf:KwotaB1"]
[null,{"$f":"Adr_Bilans & \"!$X$194\"","v":"Bilans!$X$194"},null,null,null,null,"Kwota",null,null,"jma:Aktywa_B_III_A_1","dtsf:KwotaB1"]
[null,{"$f":"Adr_Bilans & \"!$X$195\"","v":"Bilans!$X$195"},null,null,null,null,"Kwota",null,null,"jma:Aktywa_B_IV","dtsf:KwotaB1"]
[null,{"$f":"Adr_Bilans & \"!$X$196\"","v":"Bilans!$X$196"},null,null,null,null,"Kwota",null,null,"jma:Aktywa_C","dtsf:KwotaB1"]
[null,{"$f":"Adr_Bilans & \"!$X$197\"","v":"Bilans!$X$197"},null,null,null,null,"Kwota",null,null,"jma:Aktywa_D","dtsf:KwotaB1"]
[null,{"$f":"Adr_Bilans & \"!$X$198\"","v":"Bilans!$X$198"},null,null,null,null,"Kwota",null,null,"jma:Aktywa","dtsf:KwotaB1"]
[]
[null,{"$f":"Adr_Bilans & \"!$V$233\"","v":"Bilans!$V$233"},null,null,null,null,"Kwota",null,"*SumUp","jma:Pasywa","dtsf:KwotaA"]
[null,{"$f":"Adr_Bilans & \"!$W$233\"","v":"Bilans!$W$233"},null,null,null,null,"Kwota",null,"*SumUp","jma:Pasywa","dtsf:KwotaB"]
[null,{"$f":"Adr_Bilans & \"!$V$203\"","v":"Bilans!$V$203"},null,null,null,null,"Kwota",null,"*Sum","jma:Pasywa_A","dtsf:KwotaA"]
[null,{"$f":"Adr_Bilans & \"!$W$203\"","v":"Bilans!$W$203"},null,null,null,null,"Kwota",null,"*Sum","jma:Pasywa_A","dtsf:KwotaB"]
[null,{"$f":"Adr_Bilans & \"!$V$204\"","v":"Bilans!$V$204"},null,null,null,null,"Kwota",null,null,"jma:Pasywa_A_I","dtsf:KwotaA"]
[null,{"$f":"Adr_Bilans & \"!$W$204\"","v":"Bilans!$W$204"},null,null,null,null,"Kwota",null,null,"jma:Pasywa_A_I","dtsf:KwotaB"]
[null,{"$f":"Adr_Bilans & \"!$V$205\"","v":"Bilans!$V$205"},null,null,null,null,"Kwota",null,null,"jma:Pasywa_A_II","dtsf:KwotaA"]
[null,{"$f":"Adr_Bilans & \"!$W$205\"","v":"Bilans!$W$205"},null,null,null,null,"Kwota",null,null,"jma:Pasywa_A_II","dtsf:KwotaB"]
[null,{"$f":"Adr_Bilans & \"!$V$206\"","v":"Bilans!$V$206"},null,null,null,null,"Kwota",null,null,"jma:Pasywa_A_II_1","dtsf:KwotaA"]
[null,{"$f":"Adr_Bilans & \"!$W$206\"","v":"Bilans!$W$206"},null,null,null,null,"Kwota",null,null,"jma:Pasywa_A_II_1","dtsf:KwotaB"]
[null,{"$f":"Adr_Bilans & \"!$O$207\"","v":"Bilans!$O$207"},{"$f":"IF(OR(ISNUMBER(INDIRECT(B713)),ISNUMBER(INDIRECT(B714)),ISNUMBER(INDIRECT(B715))),\"ExportLabel\",\"\")","v":""},{"$f":"IF(C712=\"\",\"ImportOnly\",\"\")","v":"ImportOnly"},null,"Label","Tekst",null,"=\" – \" & teksty!$D$519","jma:Pasywa_A_II/jma:PozycjaUszczegolawiajaca_2[1]","dtsf:NazwaPozycji"]
[null,{"$f":"Adr_Bilans & \"!$V$207\"","v":"Bilans!$V$207"},null,null,null,null,"Kwota",null,null,"jma:Pasywa_A_II/jma:PozycjaUszczegolawiajaca_2[1]/dtsf:KwotyPozycji","dtsf:KwotaA"]
[null,{"$f":"Adr_Bilans & \"!$W$207\"","v":"Bilans!$W$207"},null,null,null,null,"Kwota",null,null,"jma:Pasywa_A_II/jma:PozycjaUszczegolawiajaca_2[1]/dtsf:KwotyPozycji","dtsf:KwotaB"]
[null,{"$f":"Adr_Bilans & \"!$X$207\"","v":"Bilans!$X$207"},null,null,null,null,"Kwota",null,null,"jma:Pasywa_A_II/jma:PozycjaUszczegolawiajaca_2[1]/dtsf:KwotyPozycji","dtsf:KwotaB1"]
[null,{"$f":"Adr_Bilans & \"!$O$208\"","v":"Bilans!$O$208"},{"$f":"IF(OR(ISNUMBER(INDIRECT(B717)),ISNUMBER(INDIRECT(B718)),ISNUMBER(INDIRECT(B719))),\"ExportLabel\",\"\")","v":""},{"$f":"IF(C716=\"\",\"ImportOnly\",\"\")","v":"ImportOnly"},null,"Label","Tekst",null,{"$f":"\"=IF(\" & MID(B$712,SEARCH(\"!\",B$712)+1,20) & \" = \"\" – \"\" & teksty!$D$519,\"\" – \"\" & teksty!$D$1002,\"\"\"\")\"","v":"=IF($O$207 = \" – \" & teksty!$D$519,\" – \" & teksty!$D$1002,\"\")"},"jma:Pasywa_A_II/jma:PozycjaUszczegolawiajaca_2[2]","dtsf:NazwaPozycji"]
[null,{"$f":"Adr_Bilans & \"!$V$208\"","v":"Bilans!$V$208"},null,null,null,null,"Kwota",null,null,"jma:Pasywa_A_II/jma:PozycjaUszczegolawiajaca_2[2]/dtsf:KwotyPozycji","dtsf:KwotaA"]
[null,{"$f":"Adr_Bilans & \"!$W$208\"","v":"Bilans!$W$208"},null,null,null,null,"Kwota",null,null,"jma:Pasywa_A_II/jma:PozycjaUszczegolawiajaca_2[2]/dtsf:KwotyPozycji","dtsf:KwotaB"]
[null,{"$f":"Adr_Bilans & \"!$X$208\"","v":"Bilans!$X$208"},null,null,null,null,"Kwota",null,null,"jma:Pasywa_A_II/jma:PozycjaUszczegolawiajaca_2[2]/dtsf:KwotyPozycji","dtsf:KwotaB1"]
[null,{"$f":"Adr_Bilans & \"!$V$209\"","v":"Bilans!$V$209"},null,null,null,null,"Kwota",null,null,"jma:Pasywa_A_III","dtsf:KwotaA"]
[null,{"$f":"Adr_Bilans & \"!$W$209\"","v":"Bilans!$W$209"},null,null,null,null,"Kwota",null,null,"jma:Pasywa_A_III","dtsf:KwotaB"]
[null,{"$f":"Adr_Bilans & \"!$V$210\"","v":"Bilans!$V$210"},null,null,null,null,"Kwota",null,null,"jma:Pasywa_A_III_1","dtsf:KwotaA"]
[null,{"$f":"Adr_Bilans & \"!$W$210\"","v":"Bilans!$W$210"},null,null,null,null,"Kwota",null,null,"jma:Pasywa_A_III_1","dtsf:KwotaB"]
[null,{"$f":"Adr_Bilans & \"!$V$211\"","v":"Bilans!$V$211"},null,null,null,null,"Kwota",null,null,"jma:Pasywa_A_IV","dtsf:KwotaA"]
[null,{"$f":"Adr_Bilans & \"!$W$211\"","v":"Bilans!$W$211"},null,null,null,null,"Kwota",null,null,"jma:Pasywa_A_IV","dtsf:KwotaB"]
[null,{"$f":"Adr_Bilans & \"!$O$212\"","v":"Bilans!$O$212"},{"$f":"IF(OR(ISNUMBER(INDIRECT(B727)),ISNUMBER(INDIRECT(B728)),ISNUMBER(INDIRECT(B729))),\"ExportLabel\",\"\")","v":""},{"$f":"IF(C726=\"\",\"ImportOnly\",\"\")","v":"ImportOnly"},null,"Label","Tekst",null,"=\" – \" & teksty!$D$525","jma:Pasywa_A_IV/dtsf:PozycjaUszczegolawiajaca[1]","dtsf:NazwaPozycji"]
[null,{"$f":"Adr_Bilans & \"!$V$212\"","v":"Bilans!$V$212"},null,null,null,null,"Kwota",null,null,"jma:Pasywa_A_IV/dtsf:PozycjaUszczegolawiajaca[1]/dtsf:KwotyPozycji","dtsf:KwotaA"]
[null,{"$f":"Adr_Bilans & \"!$W$212\"","v":"Bilans!$W$212"},null,null,null,null,"Kwota",null,null,"jma:Pasywa_A_IV/dtsf:PozycjaUszczegolawiajaca[1]/dtsf:KwotyPozycji","dtsf:KwotaB"]
[null,{"$f":"Adr_Bilans & \"!$X$212\"","v":"Bilans!$X$212"},null,null,null,null,"Kwota",null,null,"jma:Pasywa_A_IV/dtsf:PozycjaUszczegolawiajaca[1]/dtsf:KwotyPozycji","dtsf:KwotaB1"]
[null,{"$f":"Adr_Bilans & \"!$O$213\"","v":"Bilans!$O$213"},{"$f":"IF(OR(ISNUMBER(INDIRECT(B731)),ISNUMBER(INDIRECT(B732)),ISNUMBER(INDIRECT(B733))),\"ExportLabel\",\"\")","v":""},{"$f":"IF(C730=\"\",\"ImportOnly\",\"\")","v":"ImportOnly"},null,"Label","Tekst",null,{"$f":"\"=IF(\" & MID(B$726,SEARCH(\"!\",B$726)+1,20) & \" = \"\" – \"\" & teksty!$D$525,\"\" – \"\" & teksty!$D$1003,\"\"\"\")\"","v":"=IF($O$212 = \" – \" & teksty!$D$525,\" – \" & teksty!$D$1003,\"\")"},"jma:Pasywa_A_IV/dtsf:PozycjaUszczegolawiajaca[2]","dtsf:NazwaPozycji"]
[null,{"$f":"Adr_Bilans & \"!$V$213\"","v":"Bilans!$V$213"},null,null,null,null,"Kwota",null,null,"jma:Pasywa_A_IV/dtsf:PozycjaUszczegolawiajaca[2]/dtsf:KwotyPozycji","dtsf:KwotaA"]
[null,{"$f":"Adr_Bilans & \"!$W$213\"","v":"Bilans!$W$213"},null,null,null,null,"Kwota",null,null,"jma:Pasywa_A_IV/dtsf:PozycjaUszczegolawiajaca[2]/dtsf:KwotyPozycji","dtsf:KwotaB"]
[null,{"$f":"Adr_Bilans & \"!$X$213\"","v":"Bilans!$X$213"},null,null,null,null,"Kwota",null,null,"jma:Pasywa_A_IV/dtsf:PozycjaUszczegolawiajaca[2]/dtsf:KwotyPozycji","dtsf:KwotaB1"]
[null,{"$f":"Adr_Bilans & \"!$V$214\"","v":"Bilans!$V$214"},null,null,null,null,"Kwota",null,null,"jma:Pasywa_A_V","dtsf:KwotaA"]
[null,{"$f":"Adr_Bilans & \"!$W$214\"","v":"Bilans!$W$214"},null,null,null,null,"Kwota",null,null,"jma:Pasywa_A_V","dtsf:KwotaB"]
[null,{"$f":"Adr_Bilans & \"!$O$215\"","v":"Bilans!$O$215"},{"$f":"IF(OR(ISNUMBER(INDIRECT(B737)),ISNUMBER(INDIRECT(B738)),ISNUMBER(INDIRECT(B739))),\"ExportLabel\",\"\")","v":""},{"$f":"IF(C736=\"\",\"ImportOnly\",\"\")","v":"ImportOnly"},null,"Label","Tekst",null,"=\" – \" & teksty!$D$527","jma:Pasywa_A_V/dtsf:PozycjaUszczegolawiajaca[1]","dtsf:NazwaPozycji"]
[null,{"$f":"Adr_Bilans & \"!$V$215\"","v":"Bilans!$V$215"},null,null,null,null,"Kwota",null,null,"jma:Pasywa_A_V/dtsf:PozycjaUszczegolawiajaca[1]/dtsf:KwotyPozycji","dtsf:KwotaA"]
[null,{"$f":"Adr_Bilans & \"!$W$215\"","v":"Bilans!$W$215"},null,null,null,null,"Kwota",null,null,"jma:Pasywa_A_V/dtsf:PozycjaUszczegolawiajaca[1]/dtsf:KwotyPozycji","dtsf:KwotaB"]
[null,{"$f":"Adr_Bilans & \"!$X$215\"","v":"Bilans!$X$215"},null,null,null,null,"Kwota",null,null,"jma:Pasywa_A_V/dtsf:PozycjaUszczegolawiajaca[1]/dtsf:KwotyPozycji","dtsf:KwotaB1"]
[null,{"$f":"Adr_Bilans & \"!$O$216\"","v":"Bilans!$O$216"},{"$f":"IF(OR(ISNUMBER(INDIRECT(B741)),ISNUMBER(INDIRECT(B742)),ISNUMBER(INDIRECT(B743))),\"ExportLabel\",\"\")","v":""},{"$f":"IF(C740=\"\",\"ImportOnly\",\"\")","v":"ImportOnly"},null,"Label","Tekst",null,{"$f":"\"=IF(\" & MID(B$736,SEARCH(\"!\",B$736)+1,20) & \" = \"\" – \"\" & teksty!$D$527,\"\" – \"\" & teksty!$D$528,\"\"\"\")\"","v":"=IF($O$215 = \" – \" & teksty!$D$527,\" – \" & teksty!$D$528,\"\")"},"jma:Pasywa_A_V/dtsf:PozycjaUszczegolawiajaca[2]","dtsf:NazwaPozycji"]
[null,{"$f":"Adr_Bilans & \"!$V$216\"","v":"Bilans!$V$216"},null,null,null,null,"Kwota",null,null,"jma:Pasywa_A_V/dtsf:PozycjaUszczegolawiajaca[2]/dtsf:KwotyPozycji","dtsf:KwotaA"]
[null,{"$f":"Adr_Bilans & \"!$W$216\"","v":"Bilans!$W$216"},null,null,null,null,"Kwota",null,null,"jma:Pasywa_A_V/dtsf:PozycjaUszczegolawiajaca[2]/dtsf:KwotyPozycji","dtsf:KwotaB"]
[null,{"$f":"Adr_Bilans & \"!$X$216\"","v":"Bilans!$X$216"},null,null,null,null,"Kwota",null,null,"jma:Pasywa_A_V/dtsf:PozycjaUszczegolawiajaca[2]/dtsf:KwotyPozycji","dtsf:KwotaB1"]
[null,{"$f":"Adr_Bilans & \"!$O$217\"","v":"Bilans!$O$217"},{"$f":"IF(OR(ISNUMBER(INDIRECT(B745)),ISNUMBER(INDIRECT(B746)),ISNUMBER(INDIRECT(B747))),\"ExportLabel\",\"\")","v":""},{"$f":"IF(C744=\"\",\"ImportOnly\",\"\")","v":"ImportOnly"},null,"Label","Tekst",null,{"$f":"\"=IF(\" & MID(B$736,SEARCH(\"!\",B$736)+1,20) & \" = \"\" – \"\" & teksty!$D$527,\"\" – \"\" & teksty!$D$1004,\"\"\"\")\"","v":"=IF($O$215 = \" – \" & teksty!$D$527,\" – \" & teksty!$D$1004,\"\")"},"jma:Pasywa_A_V/dtsf:PozycjaUszczegolawiajaca[3]","dtsf:NazwaPozycji"]
[null,{"$f":"Adr_Bilans & \"!$V$217\"","v":"Bilans!$V$217"},null,null,null,null,"Kwota",null,null,"jma:Pasywa_A_V/dtsf:PozycjaUszczegolawiajaca[3]/dtsf:KwotyPozycji","dtsf:KwotaA"]
[null,{"$f":"Adr_Bilans & \"!$W$217\"","v":"Bilans!$W$217"},null,null,null,null,"Kwota",null,null,"jma:Pasywa_A_V/dtsf:PozycjaUszczegolawiajaca[3]/dtsf:KwotyPozycji","dtsf:KwotaB"]
[null,{"$f":"Adr_Bilans & \"!$X$217\"","v":"Bilans!$X$217"},null,null,null,null,"Kwota",null,null,"jma:Pasywa_A_V/dtsf:PozycjaUszczegolawiajaca[3]/dtsf:KwotyPozycji","dtsf:KwotaB1"]
[null,{"$f":"Adr_Bilans & \"!$O$218\"","v":"Bilans!$O$218"},{"$f":"IF(OR(ISNUMBER(INDIRECT(B749)),ISNUMBER(INDIRECT(B750)),ISNUMBER(INDIRECT(B751))),\"ExportLabel\",\"\")","v":""},{"$f":"IF(C748=\"\",\"ImportOnly\",\"\")","v":"ImportOnly"},null,"Label","Tekst",null,{"$f":"\"=IF(\" & MID(B$736,SEARCH(\"!\",B$736)+1,20) & \" = \"\" – \"\" & teksty!$D$527,\"\" – \"\" & teksty!$D$1005,\"\"\"\")\"","v":"=IF($O$215 = \" – \" & teksty!$D$527,\" – \" & teksty!$D$1005,\"\")"},"jma:Pasywa_A_V/dtsf:PozycjaUszczegolawiajaca[4]","dtsf:NazwaPozycji"]
[null,{"$f":"Adr_Bilans & \"!$V$218\"","v":"Bilans!$V$218"},null,null,null,null,"Kwota",null,null,"jma:Pasywa_A_V/dtsf:PozycjaUszczegolawiajaca[4]/dtsf:KwotyPozycji","dtsf:KwotaA"]
[null,{"$f":"Adr_Bilans & \"!$W$218\"","v":"Bilans!$W$218"},null,null,null,null,"Kwota",null,null,"jma:Pasywa_A_V/dtsf:PozycjaUszczegolawiajaca[4]/dtsf:KwotyPozycji","dtsf:KwotaB"]
[null,{"$f":"Adr_Bilans & \"!$X$218\"","v":"Bilans!$X$218"},null,null,null,null,"Kwota",null,null,"jma:Pasywa_A_V/dtsf:PozycjaUszczegolawiajaca[4]/dtsf:KwotyPozycji","dtsf:KwotaB1"]
[null,{"$f":"Adr_Bilans & \"!$V$219\"","v":"Bilans!$V$219"},null,null,null,null,"Kwota",null,null,"jma:Pasywa_A_VI","dtsf:KwotaA"]
[null,{"$f":"Adr_Bilans & \"!$W$219\"","v":"Bilans!$W$219"},null,null,null,null,"Kwota",null,null,"jma:Pasywa_A_VI","dtsf:KwotaB"]
[null,{"$f":"Adr_Bilans & \"!$V$220\"","v":"Bilans!$V$220"},null,null,null,null,"Kwota",null,null,"jma:Pasywa_A_VII","dtsf:KwotaA"]
[null,{"$f":"Adr_Bilans & \"!$W$220\"","v":"Bilans!$W$220"},null,null,null,null,"Kwota",null,null,"jma:Pasywa_A_VII","dtsf:KwotaB"]
[null,{"$f":"Adr_Bilans & \"!$V$221\"","v":"Bilans!$V$221"},null,null,null,null,"Kwota",null,"*Sum","jma:Pasywa_B","dtsf:KwotaA"]
[null,{"$f":"Adr_Bilans & \"!$W$221\"","v":"Bilans!$W$221"},null,null,null,null,"Kwota",null,"*Sum","jma:Pasywa_B","dtsf:KwotaB"]
[null,{"$f":"Adr_Bilans & \"!$V$222\"","v":"Bilans!$V$222"},null,null,null,null,"Kwota",null,null,"jma:Pasywa_B_I","dtsf:KwotaA"]
[null,{"$f":"Adr_Bilans & \"!$W$222\"","v":"Bilans!$W$222"},null,null,null,null,"Kwota",null,null,"jma:Pasywa_B_I","dtsf:KwotaB"]
[null,{"$f":"Adr_Bilans & \"!$V$223\"","v":"Bilans!$V$223"},null,null,null,null,"Kwota",null,null,"jma:Pasywa_B_I_1","dtsf:KwotaA"]
[null,{"$f":"Adr_Bilans & \"!$W$223\"","v":"Bilans!$W$223"},null,null,null,null,"Kwota",null,null,"jma:Pasywa_B_I_1","dtsf:KwotaB"]
[null,{"$f":"Adr_Bilans & \"!$V$224\"","v":"Bilans!$V$224"},null,null,null,null,"Kwota",null,null,"jma:Pasywa_B_II","dtsf:KwotaA"]
[null,{"$f":"Adr_Bilans & \"!$W$224\"","v":"Bilans!$W$224"},null,null,null,null,"Kwota",null,null,"jma:Pasywa_B_II","dtsf:KwotaB"]
[null,{"$f":"Adr_Bilans & \"!$V$225\"","v":"Bilans!$V$225"},null,null,null,null,"Kwota",null,null,"jma:Pasywa_B_II_1","dtsf:KwotaA"]
[null,{"$f":"Adr_Bilans & \"!$W$225\"","v":"Bilans!$W$225"},null,null,null,null,"Kwota",null,null,"jma:Pasywa_B_II_1","dtsf:KwotaB"]
[null,{"$f":"Adr_Bilans & \"!$V$226\"","v":"Bilans!$V$226"},null,null,null,null,"Kwota",null,null,"jma:Pasywa_B_III","dtsf:KwotaA"]
[null,{"$f":"Adr_Bilans & \"!$W$226\"","v":"Bilans!$W$226"},null,null,null,null,"Kwota",null,null,"jma:Pasywa_B_III","dtsf:KwotaB"]
[null,{"$f":"Adr_Bilans & \"!$V$227\"","v":"Bilans!$V$227"},null,null,null,null,"Kwota",null,null,"jma:Pasywa_B_III_A","dtsf:KwotaA"]
[null,{"$f":"Adr_Bilans & \"!$W$227\"","v":"Bilans!$W$227"},null,null,null,null,"Kwota",null,null,"jma:Pasywa_B_III_A","dtsf:KwotaB"]
[null,{"$f":"Adr_Bilans & \"!$V$228\"","v":"Bilans!$V$228"},null,null,null,null,"Kwota",null,"*Sum","jma:Pasywa_B_III_B","dtsf:KwotaA"]
[null,{"$f":"Adr_Bilans & \"!$W$228\"","v":"Bilans!$W$228"},null,null,null,null,"Kwota",null,"*Sum","jma:Pasywa_B_III_B","dtsf:KwotaB"]
[null,{"$f":"Adr_Bilans & \"!$V$229\"","v":"Bilans!$V$229"},null,null,null,null,"Kwota",null,null,"jma:Pasywa_B_III_B_1","dtsf:KwotaA"]
[null,{"$f":"Adr_Bilans & \"!$W$229\"","v":"Bilans!$W$229"},null,null,null,null,"Kwota",null,null,"jma:Pasywa_B_III_B_1","dtsf:KwotaB"]
[null,{"$f":"Adr_Bilans & \"!$V$230\"","v":"Bilans!$V$230"},null,null,null,null,"Kwota",null,null,"jma:Pasywa_B_III_B_2","dtsf:KwotaA"]
[null,{"$f":"Adr_Bilans & \"!$W$230\"","v":"Bilans!$W$230"},null,null,null,null,"Kwota",null,null,"jma:Pasywa_B_III_B_2","dtsf:KwotaB"]
[null,{"$f":"Adr_Bilans & \"!$V$231\"","v":"Bilans!$V$231"},null,null,null,null,"Kwota",null,null,"jma:Pasywa_B_III_C","dtsf:KwotaA"]
[null,{"$f":"Adr_Bilans & \"!$W$231\"","v":"Bilans!$W$231"},null,null,null,null,"Kwota",null,null,"jma:Pasywa_B_III_C","dtsf:KwotaB"]
[null,{"$f":"Adr_Bilans & \"!$V$232\"","v":"Bilans!$V$232"},null,null,null,null,"Kwota",null,null,"jma:Pasywa_B_IV","dtsf:KwotaA"]
[null,{"$f":"Adr_Bilans & \"!$W$232\"","v":"Bilans!$W$232"},null,null,null,null,"Kwota",null,null,"jma:Pasywa_B_IV","dtsf:KwotaB"]
[]
[null,{"$f":"Adr_Bilans & \"!$X$203\"","v":"Bilans!$X$203"},null,null,null,null,"Kwota",null,null,"jma:Pasywa_A","dtsf:KwotaB1"]
[null,{"$f":"Adr_Bilans & \"!$X$204\"","v":"Bilans!$X$204"},null,null,null,null,"Kwota",null,null,"jma:Pasywa_A_I","dtsf:KwotaB1"]
[null,{"$f":"Adr_Bilans & \"!$X$205\"","v":"Bilans!$X$205"},null,null,null,null,"Kwota",null,null,"jma:Pasywa_A_II","dtsf:KwotaB1"]
[null,{"$f":"Adr_Bilans & \"!$X$206\"","v":"Bilans!$X$206"},null,null,null,null,"Kwota",null,null,"jma:Pasywa_A_II_1","dtsf:KwotaB1"]
[null,{"$f":"Adr_Bilans & \"!$X$209\"","v":"Bilans!$X$209"},null,null,null,null,"Kwota",null,null,"jma:Pasywa_A_III","dtsf:KwotaB1"]
[null,{"$f":"Adr_Bilans & \"!$X$210\"","v":"Bilans!$X$210"},null,null,null,null,"Kwota",null,null,"jma:Pasywa_A_III_1","dtsf:KwotaB1"]
[null,{"$f":"Adr_Bilans & \"!$X$211\"","v":"Bilans!$X$211"},null,null,null,null,"Kwota",null,null,"jma:Pasywa_A_IV","dtsf:KwotaB1"]
[null,{"$f":"Adr_Bilans & \"!$X$214\"","v":"Bilans!$X$214"},null,null,null,null,"Kwota",null,null,"jma:Pasywa_A_V","dtsf:KwotaB1"]
[null,{"$f":"Adr_Bilans & \"!$X$219\"","v":"Bilans!$X$219"},null,null,null,null,"Kwota",null,null,"jma:Pasywa_A_VI","dtsf:KwotaB1"]
[null,{"$f":"Adr_Bilans & \"!$X$220\"","v":"Bilans!$X$220"},null,null,null,null,"Kwota",null,null,"jma:Pasywa_A_VII","dtsf:KwotaB1"]
[null,{"$f":"Adr_Bilans & \"!$X$221\"","v":"Bilans!$X$221"},null,null,null,null,"Kwota",null,null,"jma:Pasywa_B","dtsf:KwotaB1"]
[null,{"$f":"Adr_Bilans & \"!$X$222\"","v":"Bilans!$X$222"},null,null,null,null,"Kwota",null,null,"jma:Pasywa_B_I","dtsf:KwotaB1"]
[null,{"$f":"Adr_Bilans & \"!$X$223\"","v":"Bilans!$X$223"},null,null,null,null,"Kwota",null,null,"jma:Pasywa_B_I_1","dtsf:KwotaB1"]
[null,{"$f":"Adr_Bilans & \"!$X$224\"","v":"Bilans!$X$224"},null,null,null,null,"Kwota",null,null,"jma:Pasywa_B_II","dtsf:KwotaB1"]
[null,{"$f":"Adr_Bilans & \"!$X$225\"","v":"Bilans!$X$225"},null,null,null,null,"Kwota",null,null,"jma:Pasywa_B_II_1","dtsf:KwotaB1"]
[null,{"$f":"Adr_Bilans & \"!$X$226\"","v":"Bilans!$X$226"},null,null,null,null,"Kwota",null,null,"jma:Pasywa_B_III","dtsf:KwotaB1"]
[null,{"$f":"Adr_Bilans & \"!$X$227\"","v":"Bilans!$X$227"},null,null,null,null,"Kwota",null,null,"jma:Pasywa_B_III_A","dtsf:KwotaB1"]
[null,{"$f":"Adr_Bilans & \"!$X$228\"","v":"Bilans!$X$228"},null,null,null,null,"Kwota",null,null,"jma:Pasywa_B_III_B","dtsf:KwotaB1"]
[null,{"$f":"Adr_Bilans & \"!$X$229\"","v":"Bilans!$X$229"},null,null,null,null,"Kwota",null,null,"jma:Pasywa_B_III_B_1","dtsf:KwotaB1"]
[null,{"$f":"Adr_Bilans & \"!$X$230\"","v":"Bilans!$X$230"},null,null,null,null,"Kwota",null,null,"jma:Pasywa_B_III_B_2","dtsf:KwotaB1"]
[null,{"$f":"Adr_Bilans & \"!$X$231\"","v":"Bilans!$X$231"},null,null,null,null,"Kwota",null,null,"jma:Pasywa_B_III_C","dtsf:KwotaB1"]
[null,{"$f":"Adr_Bilans & \"!$X$232\"","v":"Bilans!$X$232"},null,null,null,null,"Kwota",null,null,"jma:Pasywa_B_IV","dtsf:KwotaB1"]
[null,{"$f":"Adr_Bilans & \"!$X$233\"","v":"Bilans!$X$233"},null,null,null,null,"Kwota",null,null,"jma:Pasywa","dtsf:KwotaB1"]
[]
[]
[null,{"$f":"Adr_Bilans & \"!$V$249\"","v":"Bilans!$V$249"},null,null,null,null,"Kwota",null,"*SumUp","jop:Aktywa","dtsf:KwotaA"]
[null,{"$f":"Adr_Bilans & \"!$W$249\"","v":"Bilans!$W$249"},null,null,null,null,"Kwota",null,"*SumUp","jop:Aktywa","dtsf:KwotaB"]
[null,{"$f":"Adr_Bilans & \"!$V$237\"","v":"Bilans!$V$237"},null,null,null,null,"Kwota",null,"*Sum","jop:Aktywa_A","dtsf:KwotaA"]
[null,{"$f":"Adr_Bilans & \"!$W$237\"","v":"Bilans!$W$237"},null,null,null,null,"Kwota",null,"*Sum","jop:Aktywa_A","dtsf:KwotaB"]
[null,{"$f":"Adr_Bilans & \"!$V$238\"","v":"Bilans!$V$238"},null,null,null,null,"Kwota",null,null,"jop:Aktywa_A_I","dtsf:KwotaA"]
[null,{"$f":"Adr_Bilans & \"!$W$238\"","v":"Bilans!$W$238"},null,null,null,null,"Kwota",null,null,"jop:Aktywa_A_I","dtsf:KwotaB"]
[null,{"$f":"Adr_Bilans & \"!$V$239\"","v":"Bilans!$V$239"},null,null,null,null,"Kwota",null,null,"jop:Aktywa_A_II","dtsf:KwotaA"]
[null,{"$f":"Adr_Bilans & \"!$W$239\"","v":"Bilans!$W$239"},null,null,null,null,"Kwota",null,null,"jop:Aktywa_A_II","dtsf:KwotaB"]
[null,{"$f":"Adr_Bilans & \"!$V$240\"","v":"Bilans!$V$240"},null,null,null,null,"Kwota",null,null,"jop:Aktywa_A_III","dtsf:KwotaA"]
[null,{"$f":"Adr_Bilans & \"!$W$240\"","v":"Bilans!$W$240"},null,null,null,null,"Kwota",null,null,"jop:Aktywa_A_III","dtsf:KwotaB"]
[null,{"$f":"Adr_Bilans & \"!$V$241\"","v":"Bilans!$V$241"},null,null,null,null,"Kwota",null,null,"jop:Aktywa_A_IV","dtsf:KwotaA"]
[null,{"$f":"Adr_Bilans & \"!$W$241\"","v":"Bilans!$W$241"},null,null,null,null,"Kwota",null,null,"jop:Aktywa_A_IV","dtsf:KwotaB"]
[null,{"$f":"Adr_Bilans & \"!$V$242\"","v":"Bilans!$V$242"},null,null,null,null,"Kwota",null,null,"jop:Aktywa_A_V","dtsf:KwotaA"]
[null,{"$f":"Adr_Bilans & \"!$W$242\"","v":"Bilans!$W$242"},null,null,null,null,"Kwota",null,null,"jop:Aktywa_A_V","dtsf:KwotaB"]
[null,{"$f":"Adr_Bilans & \"!$V$243\"","v":"Bilans!$V$243"},null,null,null,null,"Kwota",null,"*Sum","jop:Aktywa_B","dtsf:KwotaA"]
[null,{"$f":"Adr_Bilans & \"!$W$243\"","v":"Bilans!$W$243"},null,null,null,null,"Kwota",null,"*Sum","jop:Aktywa_B","dtsf:KwotaB"]
[null,{"$f":"Adr_Bilans & \"!$V$244\"","v":"Bilans!$V$244"},null,null,null,null,"Kwota",null,null,"jop:Aktywa_B_I","dtsf:KwotaA"]
[null,{"$f":"Adr_Bilans & \"!$W$244\"","v":"Bilans!$W$244"},null,null,null,null,"Kwota",null,null,"jop:Aktywa_B_I","dtsf:KwotaB"]
[null,{"$f":"Adr_Bilans & \"!$V$245\"","v":"Bilans!$V$245"},null,null,null,null,"Kwota",null,null,"jop:Aktywa_B_II","dtsf:KwotaA"]
[null,{"$f":"Adr_Bilans & \"!$W$245\"","v":"Bilans!$W$245"},null,null,null,null,"Kwota",null,null,"jop:Aktywa_B_II","dtsf:KwotaB"]
[null,{"$f":"Adr_Bilans & \"!$V$246\"","v":"Bilans!$V$246"},null,null,null,null,"Kwota",null,null,"jop:Aktywa_B_III","dtsf:KwotaA"]
[null,{"$f":"Adr_Bilans & \"!$W$246\"","v":"Bilans!$W$246"},null,null,null,null,"Kwota",null,null,"jop:Aktywa_B_III","dtsf:KwotaB"]
[null,{"$f":"Adr_Bilans & \"!$V$247\"","v":"Bilans!$V$247"},null,null,null,null,"Kwota",null,null,"jop:Aktywa_B_IV","dtsf:KwotaA"]
[null,{"$f":"Adr_Bilans & \"!$W$247\"","v":"Bilans!$W$247"},null,null,null,null,"Kwota",null,null,"jop:Aktywa_B_IV","dtsf:KwotaB"]
[null,{"$f":"Adr_Bilans & \"!$V$248\"","v":"Bilans!$V$248"},null,null,null,null,"Kwota",null,null,"jop:Aktywa_C","dtsf:KwotaA"]
[null,{"$f":"Adr_Bilans & \"!$W$248\"","v":"Bilans!$W$248"},null,null,null,null,"Kwota",null,null,"jop:Aktywa_C","dtsf:KwotaB"]
[]
[null,{"$f":"Adr_Bilans & \"!$X$237\"","v":"Bilans!$X$237"},null,null,null,null,"Kwota",null,null,"jop:Aktywa_A","dtsf:KwotaB1"]
[null,{"$f":"Adr_Bilans & \"!$X$238\"","v":"Bilans!$X$238"},null,null,null,null,"Kwota",null,null,"jop:Aktywa_A_I","dtsf:KwotaB1"]
[null,{"$f":"Adr_Bilans & \"!$X$239\"","v":"Bilans!$X$239"},null,null,null,null,"Kwota",null,null,"jop:Aktywa_A_II","dtsf:KwotaB1"]
[null,{"$f":"Adr_Bilans & \"!$X$240\"","v":"Bilans!$X$240"},null,null,null,null,"Kwota",null,null,"jop:Aktywa_A_III","dtsf:KwotaB1"]
[null,{"$f":"Adr_Bilans & \"!$X$241\"","v":"Bilans!$X$241"},null,null,null,null,"Kwota",null,null,"jop:Aktywa_A_IV","dtsf:KwotaB1"]
[null,{"$f":"Adr_Bilans & \"!$X$242\"","v":"Bilans!$X$242"},null,null,null,null,"Kwota",null,null,"jop:Aktywa_A_V","dtsf:KwotaB1"]
[null,{"$f":"Adr_Bilans & \"!$X$243\"","v":"Bilans!$X$243"},null,null,null,null,"Kwota",null,null,"jop:Aktywa_B","dtsf:KwotaB1"]
[null,{"$f":"Adr_Bilans & \"!$X$244\"","v":"Bilans!$X$244"},null,null,null,null,"Kwota",null,null,"jop:Aktywa_B_I","dtsf:KwotaB1"]
[null,{"$f":"Adr_Bilans & \"!$X$245\"","v":"Bilans!$X$245"},null,null,null,null,"Kwota",null,null,"jop:Aktywa_B_II","dtsf:KwotaB1"]
[null,{"$f":"Adr_Bilans & \"!$X$246\"","v":"Bilans!$X$246"},null,null,null,null,"Kwota",null,null,"jop:Aktywa_B_III","dtsf:KwotaB1"]
[null,{"$f":"Adr_Bilans & \"!$X$247\"","v":"Bilans!$X$247"},null,null,null,null,"Kwota",null,null,"jop:Aktywa_B_IV","dtsf:KwotaB1"]
[null,{"$f":"Adr_Bilans & \"!$X$248\"","v":"Bilans!$X$248"},null,null,null,null,"Kwota",null,null,"jop:Aktywa_C","dtsf:KwotaB1"]
[null,{"$f":"Adr_Bilans & \"!$X$249\"","v":"Bilans!$X$249"},null,null,null,null,"Kwota",null,null,"jop:Aktywa","dtsf:KwotaB1"]
[]
[null,{"$f":"Adr_Bilans & \"!$V$263\"","v":"Bilans!$V$263"},null,null,null,null,"Kwota",null,"*SumUp","jop:Pasywa","dtsf:KwotaA"]
[null,{"$f":"Adr_Bilans & \"!$W$263\"","v":"Bilans!$W$263"},null,null,null,null,"Kwota",null,"*SumUp","jop:Pasywa","dtsf:KwotaB"]
[null,{"$f":"Adr_Bilans & \"!$V$253\"","v":"Bilans!$V$253"},null,null,null,null,"Kwota",null,"*Sum","jop:Pasywa_A","dtsf:KwotaA"]
[null,{"$f":"Adr_Bilans & \"!$W$253\"","v":"Bilans!$W$253"},null,null,null,null,"Kwota",null,"*Sum","jop:Pasywa_A","dtsf:KwotaB"]
[null,{"$f":"Adr_Bilans & \"!$V$254\"","v":"Bilans!$V$254"},null,null,null,null,"Kwota",null,null,"jop:Pasywa_A_I","dtsf:KwotaA"]
[null,{"$f":"Adr_Bilans & \"!$W$254\"","v":"Bilans!$W$254"},null,null,null,null,"Kwota",null,null,"jop:Pasywa_A_I","dtsf:KwotaB"]
[null,{"$f":"Adr_Bilans & \"!$V$255\"","v":"Bilans!$V$255"},null,null,null,null,"Kwota",null,null,"jop:Pasywa_A_II","dtsf:KwotaA"]
[null,{"$f":"Adr_Bilans & \"!$W$255\"","v":"Bilans!$W$255"},null,null,null,null,"Kwota",null,null,"jop:Pasywa_A_II","dtsf:KwotaB"]
[null,{"$f":"Adr_Bilans & \"!$V$256\"","v":"Bilans!$V$256"},null,null,null,null,"Kwota",null,null,"jop:Pasywa_A_III","dtsf:KwotaA"]
[null,{"$f":"Adr_Bilans & \"!$W$256\"","v":"Bilans!$W$256"},null,null,null,null,"Kwota",null,null,"jop:Pasywa_A_III","dtsf:KwotaB"]
[null,{"$f":"Adr_Bilans & \"!$V$257\"","v":"Bilans!$V$257"},null,null,null,null,"Kwota",null,null,"jop:Pasywa_A_IV","dtsf:KwotaA"]
[null,{"$f":"Adr_Bilans & \"!$W$257\"","v":"Bilans!$W$257"},null,null,null,null,"Kwota",null,null,"jop:Pasywa_A_IV","dtsf:KwotaB"]
[null,{"$f":"Adr_Bilans & \"!$V$258\"","v":"Bilans!$V$258"},null,null,null,null,"Kwota",null,"*Sum","jop:Pasywa_B","dtsf:KwotaA"]
[null,{"$f":"Adr_Bilans & \"!$W$258\"","v":"Bilans!$W$258"},null,null,null,null,"Kwota",null,"*Sum","jop:Pasywa_B","dtsf:KwotaB"]
[null,{"$f":"Adr_Bilans & \"!$V$259\"","v":"Bilans!$V$259"},null,null,null,null,"Kwota",null,null,"jop:Pasywa_B_I","dtsf:KwotaA"]
[null,{"$f":"Adr_Bilans & \"!$W$259\"","v":"Bilans!$W$259"},null,null,null,null,"Kwota",null,null,"jop:Pasywa_B_I","dtsf:KwotaB"]
[null,{"$f":"Adr_Bilans & \"!$V$260\"","v":"Bilans!$V$260"},null,null,null,null,"Kwota",null,null,"jop:Pasywa_B_II","dtsf:KwotaA"]
[null,{"$f":"Adr_Bilans & \"!$W$260\"","v":"Bilans!$W$260"},null,null,null,null,"Kwota",null,null,"jop:Pasywa_B_II","dtsf:KwotaB"]
[null,{"$f":"Adr_Bilans & \"!$V$261\"","v":"Bilans!$V$261"},null,null,null,null,"Kwota",null,null,"jop:Pasywa_B_III","dtsf:KwotaA"]
[null,{"$f":"Adr_Bilans & \"!$W$261\"","v":"Bilans!$W$261"},null,null,null,null,"Kwota",null,null,"jop:Pasywa_B_III","dtsf:KwotaB"]
[null,{"$f":"Adr_Bilans & \"!$V$262\"","v":"Bilans!$V$262"},null,null,null,null,"Kwota",null,null,"jop:Pasywa_B_IV","dtsf:KwotaA"]
[null,{"$f":"Adr_Bilans & \"!$W$262\"","v":"Bilans!$W$262"},null,null,null,null,"Kwota",null,null,"jop:Pasywa_B_IV","dtsf:KwotaB"]
[]
[null,{"$f":"Adr_Bilans & \"!$X$253\"","v":"Bilans!$X$253"},null,null,null,null,"Kwota",null,null,"jop:Pasywa_A","dtsf:KwotaB1"]
[null,{"$f":"Adr_Bilans & \"!$X$254\"","v":"Bilans!$X$254"},null,null,null,null,"Kwota",null,null,"jop:Pasywa_A_I","dtsf:KwotaB1"]
[null,{"$f":"Adr_Bilans & \"!$X$255\"","v":"Bilans!$X$255"},null,null,null,null,"Kwota",null,null,"jop:Pasywa_A_II","dtsf:KwotaB1"]
[null,{"$f":"Adr_Bilans & \"!$X$256\"","v":"Bilans!$X$256"},null,null,null,null,"Kwota",null,null,"jop:Pasywa_A_III","dtsf:KwotaB1"]
[null,{"$f":"Adr_Bilans & \"!$X$257\"","v":"Bilans!$X$257"},null,null,null,null,"Kwota",null,null,"jop:Pasywa_A_IV","dtsf:KwotaB1"]
[null,{"$f":"Adr_Bilans & \"!$X$258\"","v":"Bilans!$X$258"},null,null,null,null,"Kwota",null,null,"jop:Pasywa_B","dtsf:KwotaB1"]
[null,{"$f":"Adr_Bilans & \"!$X$259\"","v":"Bilans!$X$259"},null,null,null,null,"Kwota",null,null,"jop:Pasywa_B_I","dtsf:KwotaB1"]
[null,{"$f":"Adr_Bilans & \"!$X$260\"","v":"Bilans!$X$260"},null,null,null,null,"Kwota",null,null,"jop:Pasywa_B_II","dtsf:KwotaB1"]
[null,{"$f":"Adr_Bilans & \"!$X$261\"","v":"Bilans!$X$261"},null,null,null,null,"Kwota",null,null,"jop:Pasywa_B_III","dtsf:KwotaB1"]
[null,{"$f":"Adr_Bilans & \"!$X$262\"","v":"Bilans!$X$262"},null,null,null,null,"Kwota",null,null,"jop:Pasywa_B_IV","dtsf:KwotaB1"]
[null,{"$f":"Adr_Bilans & \"!$X$263\"","v":"Bilans!$X$263"},null,null,null,null,"Kwota",null,null,"jop:Pasywa","dtsf:KwotaB1"]
[]
[]
[null,{"$f":"Adr_Bilans & \"!$V$272\"","v":"Bilans!$V$272"},null,null,null,null,"Kwota",null,"*SumUp","jmi:Aktywa","dtsf:KwotaA"]
[null,{"$f":"Adr_Bilans & \"!$W$272\"","v":"Bilans!$W$272"},null,null,null,null,"Kwota",null,"*SumUp","jmi:Aktywa","dtsf:KwotaB"]
[null,{"$f":"Adr_Bilans & \"!$V$266\"","v":"Bilans!$V$266"},null,null,null,null,"Kwota",null,null,"jmi:Aktywa_A","dtsf:KwotaA"]
[null,{"$f":"Adr_Bilans & \"!$W$266\"","v":"Bilans!$W$266"},null,null,null,null,"Kwota",null,null,"jmi:Aktywa_A","dtsf:KwotaB"]
[null,{"$f":"Adr_Bilans & \"!$V$267\"","v":"Bilans!$V$267"},null,null,null,null,"Kwota",null,null,"jmi:Aktywa_B","dtsf:KwotaA"]
[null,{"$f":"Adr_Bilans & \"!$W$267\"","v":"Bilans!$W$267"},null,null,null,null,"Kwota",null,null,"jmi:Aktywa_B","dtsf:KwotaB"]
[null,{"$f":"Adr_Bilans & \"!$V$268\"","v":"Bilans!$V$268"},null,null,null,null,"Kwota",null,null,"jmi:Aktywa_B_1","dtsf:KwotaA"]
[null,{"$f":"Adr_Bilans & \"!$W$268\"","v":"Bilans!$W$268"},null,null,null,null,"Kwota",null,null,"jmi:Aktywa_B_1","dtsf:KwotaB"]
[null,{"$f":"Adr_Bilans & \"!$V$269\"","v":"Bilans!$V$269"},null,null,null,null,"Kwota",null,null,"jmi:Aktywa_B_2","dtsf:KwotaA"]
[null,{"$f":"Adr_Bilans & \"!$W$269\"","v":"Bilans!$W$269"},null,null,null,null,"Kwota",null,null,"jmi:Aktywa_B_2","dtsf:KwotaB"]
[null,{"$f":"Adr_Bilans & \"!$V$270\"","v":"Bilans!$V$270"},null,null,null,null,"Kwota",null,null,"jmi:Aktywa_C","dtsf:KwotaA"]
[null,{"$f":"Adr_Bilans & \"!$W$270\"","v":"Bilans!$W$270"},null,null,null,null,"Kwota",null,null,"jmi:Aktywa_C","dtsf:KwotaB"]
[null,{"$f":"Adr_Bilans & \"!$V$271\"","v":"Bilans!$V$271"},null,null,null,null,"Kwota",null,null,"jmi:Aktywa_D","dtsf:KwotaA"]
[null,{"$f":"Adr_Bilans & \"!$W$271\"","v":"Bilans!$W$271"},null,null,null,null,"Kwota",null,null,"jmi:Aktywa_D","dtsf:KwotaB"]
[]
[null,{"$f":"Adr_Bilans & \"!$X$266\"","v":"Bilans!$X$266"},null,null,null,null,"Kwota",null,null,"jmi:Aktywa_A","dtsf:KwotaB1"]
[null,{"$f":"Adr_Bilans & \"!$X$267\"","v":"Bilans!$X$267"},null,null,null,null,"Kwota",null,null,"jmi:Aktywa_B","dtsf:KwotaB1"]
[null,{"$f":"Adr_Bilans & \"!$X$268\"","v":"Bilans!$X$268"},null,null,null,null,"Kwota",null,null,"jmi:Aktywa_B_1","dtsf:KwotaB1"]
[null,{"$f":"Adr_Bilans & \"!$X$269\"","v":"Bilans!$X$269"},null,null,null,null,"Kwota",null,null,"jmi:Aktywa_B_2","dtsf:KwotaB1"]
[null,{"$f":"Adr_Bilans & \"!$X$270\"","v":"Bilans!$X$270"},null,null,null,null,"Kwota",null,null,"jmi:Aktywa_C","dtsf:KwotaB1"]
[null,{"$f":"Adr_Bilans & \"!$X$271\"","v":"Bilans!$X$271"},null,null,null,null,"Kwota",null,null,"jmi:Aktywa_D","dtsf:KwotaB1"]
[null,{"$f":"Adr_Bilans & \"!$X$272\"","v":"Bilans!$X$272"},null,null,null,null,"Kwota",null,null,"jmi:Aktywa","dtsf:KwotaB1"]
[]
[null,{"$f":"Adr_Bilans & \"!$V$281\"","v":"Bilans!$V$281"},null,null,null,null,"Kwota",null,"*SumUp","jmi:Pasywa","dtsf:KwotaA"]
[null,{"$f":"Adr_Bilans & \"!$W$281\"","v":"Bilans!$W$281"},null,null,null,null,"Kwota",null,"*SumUp","jmi:Pasywa","dtsf:KwotaB"]
[null,{"$f":"Adr_Bilans & \"!$V$276\"","v":"Bilans!$V$276"},null,null,null,null,"Kwota",null,null,"jmi:Pasywa_A","dtsf:KwotaA"]
[null,{"$f":"Adr_Bilans & \"!$W$276\"","v":"Bilans!$W$276"},null,null,null,null,"Kwota",null,null,"jmi:Pasywa_A","dtsf:KwotaB"]
[null,{"$f":"Adr_Bilans & \"!$V$277\"","v":"Bilans!$V$277"},null,null,null,null,"Kwota",null,null,"jmi:Pasywa_A_1","dtsf:KwotaA"]
[null,{"$f":"Adr_Bilans & \"!$W$277\"","v":"Bilans!$W$277"},null,null,null,null,"Kwota",null,null,"jmi:Pasywa_A_1","dtsf:KwotaB"]
[null,{"$f":"Adr_Bilans & \"!$V$278\"","v":"Bilans!$V$278"},null,null,null,null,"Kwota",null,null,"jmi:Pasywa_B","dtsf:KwotaA"]
[null,{"$f":"Adr_Bilans & \"!$W$278\"","v":"Bilans!$W$278"},null,null,null,null,"Kwota",null,null,"jmi:Pasywa_B","dtsf:KwotaB"]
[null,{"$f":"Adr_Bilans & \"!$V$279\"","v":"Bilans!$V$279"},null,null,null,null,"Kwota",null,null,"jmi:Pasywa_B_1","dtsf:KwotaA"]
[null,{"$f":"Adr_Bilans & \"!$W$279\"","v":"Bilans!$W$279"},null,null,null,null,"Kwota",null,null,"jmi:Pasywa_B_1","dtsf:KwotaB"]
[null,{"$f":"Adr_Bilans & \"!$V$280\"","v":"Bilans!$V$280"},null,null,null,null,"Kwota",null,null,"jmi:Pasywa_B_2","dtsf:KwotaA"]
[null,{"$f":"Adr_Bilans & \"!$W$280\"","v":"Bilans!$W$280"},null,null,null,null,"Kwota",null,null,"jmi:Pasywa_B_2","dtsf:KwotaB"]
[]
[null,{"$f":"Adr_Bilans & \"!$X$276\"","v":"Bilans!$X$276"},null,null,null,null,"Kwota",null,null,"jmi:Pasywa_A","dtsf:KwotaB1"]
[null,{"$f":"Adr_Bilans & \"!$X$277\"","v":"Bilans!$X$277"},null,null,null,null,"Kwota",null,null,"jmi:Pasywa_A_1","dtsf:KwotaB1"]
[null,{"$f":"Adr_Bilans & \"!$X$278\"","v":"Bilans!$X$278"},null,null,null,null,"Kwota",null,null,"jmi:Pasywa_B","dtsf:KwotaB1"]
[null,{"$f":"Adr_Bilans & \"!$X$279\"","v":"Bilans!$X$279"},null,null,null,null,"Kwota",null,null,"jmi:Pasywa_B_1","dtsf:KwotaB1"]
[null,{"$f":"Adr_Bilans & \"!$X$280\"","v":"Bilans!$X$280"},null,null,null,null,"Kwota",null,null,"jmi:Pasywa_B_2","dtsf:KwotaB1"]
[null,{"$f":"Adr_Bilans & \"!$X$281\"","v":"Bilans!$X$281"},null,null,null,null,"Kwota",null,null,"jmi:Pasywa","dtsf:KwotaB1"]
[]
[null,{"$f":"Adr_RZiS & \"!$V$6\"","v":"RZiS!$V$6"},null,null,null,null,"Kwota",null,"*Sum","jin:RZiSPor//jin:A","dtsf:KwotaA"]
[null,{"$f":"Adr_RZiS & \"!$W$6\"","v":"RZiS!$W$6"},null,null,null,null,"Kwota",null,"*Sum","jin:RZiSPor//jin:A","dtsf:KwotaB"]
[null,{"$f":"Adr_RZiS & \"!$V$7\"","v":"RZiS!$V$7"},null,null,null,null,"Kwota",null,null,"jin:RZiSPor//jin:A_J","dtsf:KwotaA"]
[null,{"$f":"Adr_RZiS & \"!$W$7\"","v":"RZiS!$W$7"},null,null,null,null,"Kwota",null,null,"jin:RZiSPor//jin:A_J","dtsf:KwotaB"]
[null,{"$f":"Adr_RZiS & \"!$V$8\"","v":"RZiS!$V$8"},null,null,null,null,"Kwota",null,null,"jin:RZiSPor//jin:A_I","dtsf:KwotaA"]
[null,{"$f":"Adr_RZiS & \"!$W$8\"","v":"RZiS!$W$8"},null,null,null,null,"Kwota",null,null,"jin:RZiSPor//jin:A_I","dtsf:KwotaB"]
[null,{"$f":"Adr_RZiS & \"!$V$9\"","v":"RZiS!$V$9"},null,null,null,null,"Kwota",null,null,"jin:RZiSPor//jin:A_II","dtsf:KwotaA"]
[null,{"$f":"Adr_RZiS & \"!$W$9\"","v":"RZiS!$W$9"},null,null,null,null,"Kwota",null,null,"jin:RZiSPor//jin:A_II","dtsf:KwotaB"]
[null,{"$f":"Adr_RZiS & \"!$O$10\"","v":"RZiS!$O$10"},{"$f":"IF(OR(ISNUMBER(INDIRECT(B935)),ISNUMBER(INDIRECT(B936)),ISNUMBER(INDIRECT(B937))),\"ExportLabel\",\"\")","v":""},{"$f":"IF(C934=\"\",\"ImportOnly\",\"\")","v":"ImportOnly"},null,"Label","Tekst",null,"=IF($N$7=\"\",\" – \") & teksty!$D$622","jin:RZiSPor//jin:A_II/dtsf:PozycjaUszczegolawiajaca[1]","dtsf:NazwaPozycji"]
[null,{"$f":"Adr_RZiS & \"!$V$10\"","v":"RZiS!$V$10"},null,null,null,null,"Kwota",null,null,"jin:RZiSPor//jin:A_II/dtsf:PozycjaUszczegolawiajaca[1]/dtsf:KwotyPozycji","dtsf:KwotaA"]
[null,{"$f":"Adr_RZiS & \"!$W$10\"","v":"RZiS!$W$10"},null,null,null,null,"Kwota",null,null,"jin:RZiSPor//jin:A_II/dtsf:PozycjaUszczegolawiajaca[1]/dtsf:KwotyPozycji","dtsf:KwotaB"]
[null,{"$f":"Adr_RZiS & \"!$X$10\"","v":"RZiS!$X$10"},null,null,null,null,"Kwota",null,null,"jin:RZiSPor//jin:A_II/dtsf:PozycjaUszczegolawiajaca[1]/dtsf:KwotyPozycji","dtsf:KwotaB1"]
[null,{"$f":"Adr_RZiS & \"!$V$11\"","v":"RZiS!$V$11"},null,null,null,null,"Kwota",null,null,"jin:RZiSPor//jin:A_III","dtsf:KwotaA"]
[null,{"$f":"Adr_RZiS & \"!$W$11\"","v":"RZiS!$W$11"},null,null,null,null,"Kwota",null,null,"jin:RZiSPor//jin:A_III","dtsf:KwotaB"]
[null,{"$f":"Adr_RZiS & \"!$V$12\"","v":"RZiS!$V$12"},null,null,null,null,"Kwota",null,null,"jin:RZiSPor//jin:A_IV","dtsf:KwotaA"]
[null,{"$f":"Adr_RZiS & \"!$W$12\"","v":"RZiS!$W$12"},null,null,null,null,"Kwota",null,null,"jin:RZiSPor//jin:A_IV","dtsf:KwotaB"]
[null,{"$f":"Adr_RZiS & \"!$V$13\"","v":"RZiS!$V$13"},null,null,null,null,"Kwota",null,"*Sum","jin:RZiSPor//jin:B","dtsf:KwotaA"]
[null,{"$f":"Adr_RZiS & \"!$W$13\"","v":"RZiS!$W$13"},null,null,null,null,"Kwota",null,"*Sum","jin:RZiSPor//jin:B","dtsf:KwotaB"]
[null,{"$f":"Adr_RZiS & \"!$V$14\"","v":"RZiS!$V$14"},null,null,null,null,"Kwota",null,null,"jin:RZiSPor//jin:B_I","dtsf:KwotaA"]
[null,{"$f":"Adr_RZiS & \"!$W$14\"","v":"RZiS!$W$14"},null,null,null,null,"Kwota",null,null,"jin:RZiSPor//jin:B_I","dtsf:KwotaB"]
[null,{"$f":"Adr_RZiS & \"!$V$15\"","v":"RZiS!$V$15"},null,null,null,null,"Kwota",null,null,"jin:RZiSPor//jin:B_II","dtsf:KwotaA"]
[null,{"$f":"Adr_RZiS & \"!$W$15\"","v":"RZiS!$W$15"},null,null,null,null,"Kwota",null,null,"jin:RZiSPor//jin:B_II","dtsf:KwotaB"]
[null,{"$f":"Adr_RZiS & \"!$V$16\"","v":"RZiS!$V$16"},null,null,null,null,"Kwota",null,null,"jin:RZiSPor//jin:B_III","dtsf:KwotaA"]
[null,{"$f":"Adr_RZiS & \"!$W$16\"","v":"RZiS!$W$16"},null,null,null,null,"Kwota",null,null,"jin:RZiSPor//jin:B_III","dtsf:KwotaB"]
[null,{"$f":"Adr_RZiS & \"!$V$17\"","v":"RZiS!$V$17"},null,null,null,null,"Kwota",null,null,"jin:RZiSPor//jin:B_IV","dtsf:KwotaA"]
[null,{"$f":"Adr_RZiS & \"!$W$17\"","v":"RZiS!$W$17"},null,null,null,null,"Kwota",null,null,"jin:RZiSPor//jin:B_IV","dtsf:KwotaB"]
[null,{"$f":"Adr_RZiS & \"!$V$18\"","v":"RZiS!$V$18"},null,null,null,null,"Kwota",null,null,"jin:RZiSPor//jin:B_IV_1","dtsf:KwotaA"]
[null,{"$f":"Adr_RZiS & \"!$W$18\"","v":"RZiS!$W$18"},null,null,null,null,"Kwota",null,null,"jin:RZiSPor//jin:B_IV_1","dtsf:KwotaB"]
[null,{"$f":"Adr_RZiS & \"!$V$19\"","v":"RZiS!$V$19"},null,null,null,null,"Kwota",null,null,"jin:RZiSPor//jin:B_V","dtsf:KwotaA"]
[null,{"$f":"Adr_RZiS & \"!$W$19\"","v":"RZiS!$W$19"},null,null,null,null,"Kwota",null,null,"jin:RZiSPor//jin:B_V","dtsf:KwotaB"]
[null,{"$f":"Adr_RZiS & \"!$V$20\"","v":"RZiS!$V$20"},null,null,null,null,"Kwota",null,null,"jin:RZiSPor//jin:B_VI","dtsf:KwotaA"]
[null,{"$f":"Adr_RZiS & \"!$W$20\"","v":"RZiS!$W$20"},null,null,null,null,"Kwota",null,null,"jin:RZiSPor//jin:B_VI","dtsf:KwotaB"]
[null,{"$f":"Adr_RZiS & \"!$V$21\"","v":"RZiS!$V$21"},null,null,null,null,"Kwota",null,null,"jin:RZiSPor//jin:B_VI_1","dtsf:KwotaA"]
[null,{"$f":"Adr_RZiS & \"!$W$21\"","v":"RZiS!$W$21"},null,null,null,null,"Kwota",null,null,"jin:RZiSPor//jin:B_VI_1","dtsf:KwotaB"]
[null,{"$f":"Adr_RZiS & \"!$V$22\"","v":"RZiS!$V$22"},null,null,null,null,"Kwota",null,null,"jin:RZiSPor//jin:B_VII","dtsf:KwotaA"]
[null,{"$f":"Adr_RZiS & \"!$W$22\"","v":"RZiS!$W$22"},null,null,null,null,"Kwota",null,null,"jin:RZiSPor//jin:B_VII","dtsf:KwotaB"]
[null,{"$f":"Adr_RZiS & \"!$V$23\"","v":"RZiS!$V$23"},null,null,null,null,"Kwota",null,null,"jin:RZiSPor//jin:B_VIII","dtsf:KwotaA"]
[null,{"$f":"Adr_RZiS & \"!$W$23\"","v":"RZiS!$W$23"},null,null,null,null,"Kwota",null,null,"jin:RZiSPor//jin:B_VIII","dtsf:KwotaB"]
[null,{"$f":"Adr_RZiS & \"!$V$24\"","v":"RZiS!$V$24"},null,null,null,null,"Kwota",null,"=V6-V13","jin:RZiSPor//jin:C","dtsf:KwotaA"]
[null,{"$f":"Adr_RZiS & \"!$W$24\"","v":"RZiS!$W$24"},null,null,null,null,"Kwota",null,"=W6-W13","jin:RZiSPor//jin:C","dtsf:KwotaB"]
[null,{"$f":"Adr_RZiS & \"!$V$25\"","v":"RZiS!$V$25"},null,null,null,null,"Kwota",null,"*Sum","jin:RZiSPor//jin:D","dtsf:KwotaA"]
[null,{"$f":"Adr_RZiS & \"!$W$25\"","v":"RZiS!$W$25"},null,null,null,null,"Kwota",null,"*Sum","jin:RZiSPor//jin:D","dtsf:KwotaB"]
[null,{"$f":"Adr_RZiS & \"!$V$26\"","v":"RZiS!$V$26"},null,null,null,null,"Kwota",null,null,"jin:RZiSPor//jin:D_I","dtsf:KwotaA"]
[null,{"$f":"Adr_RZiS & \"!$W$26\"","v":"RZiS!$W$26"},null,null,null,null,"Kwota",null,null,"jin:RZiSPor//jin:D_I","dtsf:KwotaB"]
[null,{"$f":"Adr_RZiS & \"!$V$27\"","v":"RZiS!$V$27"},null,null,null,null,"Kwota",null,null,"jin:RZiSPor//jin:D_II","dtsf:KwotaA"]
[null,{"$f":"Adr_RZiS & \"!$W$27\"","v":"RZiS!$W$27"},null,null,null,null,"Kwota",null,null,"jin:RZiSPor//jin:D_II","dtsf:KwotaB"]
[null,{"$f":"Adr_RZiS & \"!$V$28\"","v":"RZiS!$V$28"},null,null,null,null,"Kwota",null,null,"jin:RZiSPor//jin:D_III","dtsf:KwotaA"]
[null,{"$f":"Adr_RZiS & \"!$W$28\"","v":"RZiS!$W$28"},null,null,null,null,"Kwota",null,null,"jin:RZiSPor//jin:D_III","dtsf:KwotaB"]
[null,{"$f":"Adr_RZiS & \"!$V$29\"","v":"RZiS!$V$29"},null,null,null,null,"Kwota",null,null,"jin:RZiSPor//jin:D_IV","dtsf:KwotaA"]
[null,{"$f":"Adr_RZiS & \"!$W$29\"","v":"RZiS!$W$29"},null,null,null,null,"Kwota",null,null,"jin:RZiSPor//jin:D_IV","dtsf:KwotaB"]
[null,{"$f":"Adr_RZiS & \"!$V$30\"","v":"RZiS!$V$30"},null,null,null,null,"Kwota",null,"*Sum","jin:RZiSPor//jin:E","dtsf:KwotaA"]
[null,{"$f":"Adr_RZiS & \"!$W$30\"","v":"RZiS!$W$30"},null,null,null,null,"Kwota",null,"*Sum","jin:RZiSPor//jin:E","dtsf:KwotaB"]
[null,{"$f":"Adr_RZiS & \"!$V$31\"","v":"RZiS!$V$31"},null,null,null,null,"Kwota",null,null,"jin:RZiSPor//jin:E_I","dtsf:KwotaA"]
[null,{"$f":"Adr_RZiS & \"!$W$31\"","v":"RZiS!$W$31"},null,null,null,null,"Kwota",null,null,"jin:RZiSPor//jin:E_I","dtsf:KwotaB"]
[null,{"$f":"Adr_RZiS & \"!$V$32\"","v":"RZiS!$V$32"},null,null,null,null,"Kwota",null,null,"jin:RZiSPor//jin:E_II","dtsf:KwotaA"]
[null,{"$f":"Adr_RZiS & \"!$W$32\"","v":"RZiS!$W$32"},null,null,null,null,"Kwota",null,null,"jin:RZiSPor//jin:E_II","dtsf:KwotaB"]
[null,{"$f":"Adr_RZiS & \"!$V$33\"","v":"RZiS!$V$33"},null,null,null,null,"Kwota",null,null,"jin:RZiSPor//jin:E_III","dtsf:KwotaA"]
[null,{"$f":"Adr_RZiS & \"!$W$33\"","v":"RZiS!$W$33"},null,null,null,null,"Kwota",null,null,"jin:RZiSPor//jin:E_III","dtsf:KwotaB"]
[null,{"$f":"Adr_RZiS & \"!$V$34\"","v":"RZiS!$V$34"},null,null,null,null,"Kwota",null,"=V24+V25-V30","jin:RZiSPor//jin:F","dtsf:KwotaA"]
[null,{"$f":"Adr_RZiS & \"!$W$34\"","v":"RZiS!$W$34"},null,null,null,null,"Kwota",null,"=W24+W25-W30","jin:RZiSPor//jin:F","dtsf:KwotaB"]
[null,{"$f":"Adr_RZiS & \"!$V$35\"","v":"RZiS!$V$35"},null,null,null,null,"Kwota",null,"*Sum","jin:RZiSPor//jin:G","dtsf:KwotaA"]
[null,{"$f":"Adr_RZiS & \"!$W$35\"","v":"RZiS!$W$35"},null,null,null,null,"Kwota",null,"*Sum","jin:RZiSPor//jin:G","dtsf:KwotaB"]
[null,{"$f":"Adr_RZiS & \"!$V$37\"","v":"RZiS!$V$37"},null,null,null,null,"Kwota",null,null,"jin:RZiSPor//jin:G_I","dtsf:KwotaA"]
[null,{"$f":"Adr_RZiS & \"!$W$37\"","v":"RZiS!$W$37"},null,null,null,null,"Kwota",null,null,"jin:RZiSPor//jin:G_I","dtsf:KwotaB"]
[null,{"$f":"Adr_RZiS & \"!$V$38\"","v":"RZiS!$V$38"},null,null,null,null,"Kwota",null,null,"jin:RZiSPor//jin:G_I_A","dtsf:KwotaA"]
[null,{"$f":"Adr_RZiS & \"!$W$38\"","v":"RZiS!$W$38"},null,null,null,null,"Kwota",null,null,"jin:RZiSPor//jin:G_I_A","dtsf:KwotaB"]
[null,{"$f":"Adr_RZiS & \"!$V$39\"","v":"RZiS!$V$39"},null,null,null,null,"Kwota",null,null,"jin:RZiSPor//jin:G_I_A_1","dtsf:KwotaA"]
[null,{"$f":"Adr_RZiS & \"!$W$39\"","v":"RZiS!$W$39"},null,null,null,null,"Kwota",null,null,"jin:RZiSPor//jin:G_I_A_1","dtsf:KwotaB"]
[null,{"$f":"Adr_RZiS & \"!$V$40\"","v":"RZiS!$V$40"},null,null,null,null,"Kwota",null,null,"jin:RZiSPor//jin:G_I_B","dtsf:KwotaA"]
[null,{"$f":"Adr_RZiS & \"!$W$40\"","v":"RZiS!$W$40"},null,null,null,null,"Kwota",null,null,"jin:RZiSPor//jin:G_I_B","dtsf:KwotaB"]
[null,{"$f":"Adr_RZiS & \"!$V$41\"","v":"RZiS!$V$41"},null,null,null,null,"Kwota",null,null,"jin:RZiSPor//jin:G_I_B_1","dtsf:KwotaA"]
[null,{"$f":"Adr_RZiS & \"!$W$41\"","v":"RZiS!$W$41"},null,null,null,null,"Kwota",null,null,"jin:RZiSPor//jin:G_I_B_1","dtsf:KwotaB"]
[null,{"$f":"Adr_RZiS & \"!$V$42\"","v":"RZiS!$V$42"},null,null,null,null,"Kwota",null,null,"jin:RZiSPor//jin:G_II","dtsf:KwotaA"]
[null,{"$f":"Adr_RZiS & \"!$W$42\"","v":"RZiS!$W$42"},null,null,null,null,"Kwota",null,null,"jin:RZiSPor//jin:G_II","dtsf:KwotaB"]
[null,{"$f":"Adr_RZiS & \"!$V$43\"","v":"RZiS!$V$43"},null,null,null,null,"Kwota",null,null,"jin:RZiSPor//jin:G_II_J","dtsf:KwotaA"]
[null,{"$f":"Adr_RZiS & \"!$W$43\"","v":"RZiS!$W$43"},null,null,null,null,"Kwota",null,null,"jin:RZiSPor//jin:G_II_J","dtsf:KwotaB"]
[null,{"$f":"Adr_RZiS & \"!$V$44\"","v":"RZiS!$V$44"},null,null,null,null,"Kwota",null,null,"jin:RZiSPor//jin:G_III","dtsf:KwotaA"]
[null,{"$f":"Adr_RZiS & \"!$W$44\"","v":"RZiS!$W$44"},null,null,null,null,"Kwota",null,null,"jin:RZiSPor//jin:G_III","dtsf:KwotaB"]
[null,{"$f":"Adr_RZiS & \"!$V$45\"","v":"RZiS!$V$45"},null,null,null,null,"Kwota",null,null,"jin:RZiSPor//jin:G_III_J","dtsf:KwotaA"]
[null,{"$f":"Adr_RZiS & \"!$W$45\"","v":"RZiS!$W$45"},null,null,null,null,"Kwota",null,null,"jin:RZiSPor//jin:G_III_J","dtsf:KwotaB"]
[null,{"$f":"Adr_RZiS & \"!$V$46\"","v":"RZiS!$V$46"},null,null,null,null,"Kwota",null,null,"jin:RZiSPor//jin:G_IV","dtsf:KwotaA"]
[null,{"$f":"Adr_RZiS & \"!$W$46\"","v":"RZiS!$W$46"},null,null,null,null,"Kwota",null,null,"jin:RZiSPor//jin:G_IV","dtsf:KwotaB"]
[null,{"$f":"Adr_RZiS & \"!$V$47\"","v":"RZiS!$V$47"},null,null,null,null,"Kwota",null,null,"jin:RZiSPor//jin:G_V","dtsf:KwotaA"]
[null,{"$f":"Adr_RZiS & \"!$W$47\"","v":"RZiS!$W$47"},null,null,null,null,"Kwota",null,null,"jin:RZiSPor//jin:G_V","dtsf:KwotaB"]
[null,{"$f":"Adr_RZiS & \"!$V$48\"","v":"RZiS!$V$48"},null,null,null,null,"Kwota",null,"*Sum","jin:RZiSPor//jin:H","dtsf:KwotaA"]
[null,{"$f":"Adr_RZiS & \"!$W$48\"","v":"RZiS!$W$48"},null,null,null,null,"Kwota",null,"*Sum","jin:RZiSPor//jin:H","dtsf:KwotaB"]
[null,{"$f":"Adr_RZiS & \"!$V$49\"","v":"RZiS!$V$49"},null,null,null,null,"Kwota",null,null,"jin:RZiSPor//jin:H_I","dtsf:KwotaA"]
[null,{"$f":"Adr_RZiS & \"!$W$49\"","v":"RZiS!$W$49"},null,null,null,null,"Kwota",null,null,"jin:RZiSPor//jin:H_I","dtsf:KwotaB"]
[null,{"$f":"Adr_RZiS & \"!$V$50\"","v":"RZiS!$V$50"},null,null,null,null,"Kwota",null,null,"jin:RZiSPor//jin:H_I_J","dtsf:KwotaA"]
[null,{"$f":"Adr_RZiS & \"!$W$50\"","v":"RZiS!$W$50"},null,null,null,null,"Kwota",null,null,"jin:RZiSPor//jin:H_I_J","dtsf:KwotaB"]
[null,{"$f":"Adr_RZiS & \"!$V$51\"","v":"RZiS!$V$51"},null,null,null,null,"Kwota",null,null,"jin:RZiSPor//jin:H_II","dtsf:KwotaA"]
[null,{"$f":"Adr_RZiS & \"!$W$51\"","v":"RZiS!$W$51"},null,null,null,null,"Kwota",null,null,"jin:RZiSPor//jin:H_II","dtsf:KwotaB"]
[null,{"$f":"Adr_RZiS & \"!$V$52\"","v":"RZiS!$V$52"},null,null,null,null,"Kwota",null,null,"jin:RZiSPor//jin:H_II_J","dtsf:KwotaA"]
[null,{"$f":"Adr_RZiS & \"!$W$52\"","v":"RZiS!$W$52"},null,null,null,null,"Kwota",null,null,"jin:RZiSPor//jin:H_II_J","dtsf:KwotaB"]
[null,{"$f":"Adr_RZiS & \"!$V$53\"","v":"RZiS!$V$53"},null,null,null,null,"Kwota",null,null,"jin:RZiSPor//jin:H_III","dtsf:KwotaA"]
[null,{"$f":"Adr_RZiS & \"!$W$53\"","v":"RZiS!$W$53"},null,null,null,null,"Kwota",null,null,"jin:RZiSPor//jin:H_III","dtsf:KwotaB"]
[null,{"$f":"Adr_RZiS & \"!$V$54\"","v":"RZiS!$V$54"},null,null,null,null,"Kwota",null,null,"jin:RZiSPor//jin:H_IV","dtsf:KwotaA"]
[null,{"$f":"Adr_RZiS & \"!$W$54\"","v":"RZiS!$W$54"},null,null,null,null,"Kwota",null,null,"jin:RZiSPor//jin:H_IV","dtsf:KwotaB"]
[null,{"$f":"Adr_RZiS & \"!$V$55\"","v":"RZiS!$V$55"},null,null,null,null,"Kwota",null,"=V34+V35-V48","jin:RZiSPor//jin:I","dtsf:KwotaA"]
[null,{"$f":"Adr_RZiS & \"!$W$55\"","v":"RZiS!$W$55"},null,null,null,null,"Kwota",null,"=W34+W35-W48","jin:RZiSPor//jin:I","dtsf:KwotaB"]
[null,{"$f":"Adr_RZiS & \"!$V$56\"","v":"RZiS!$V$56"},null,null,null,null,"Kwota",null,null,"jin:RZiSPor//jin:J","dtsf:KwotaA"]
[null,{"$f":"Adr_RZiS & \"!$W$56\"","v":"RZiS!$W$56"},null,null,null,null,"Kwota",null,null,"jin:RZiSPor//jin:J","dtsf:KwotaB"]
[null,{"$f":"Adr_RZiS & \"!$O$57\"","v":"RZiS!$O$57"},{"$f":"IF(OR(ISNUMBER(INDIRECT(B1029)),ISNUMBER(INDIRECT(B1030)),ISNUMBER(INDIRECT(B1031))),\"ExportLabel\",\"\")","v":""},{"$f":"IF(C1028=\"\",\"ImportOnly\",\"\")","v":"ImportOnly"},null,"Label","Tekst",null,"=IF($N$52=\"\",\" – \") & SUBSTITUTE(teksty!D$356,\":\",\" \" & teksty!$D$668 & \":\")","jin:RZiSPor//jin:J/dtsf:PozycjaUszczegolawiajaca[1]","dtsf:NazwaPozycji"]
[null,{"$f":"Adr_RZiS & \"!$V$57\"","v":"RZiS!$V$57"},null,null,null,null,"Kwota",null,null,"jin:RZiSPor//jin:J/dtsf:PozycjaUszczegolawiajaca[1]/dtsf:KwotyPozycji","dtsf:KwotaA"]
[null,{"$f":"Adr_RZiS & \"!$W$57\"","v":"RZiS!$W$57"},null,null,null,null,"Kwota",null,null,"jin:RZiSPor//jin:J/dtsf:PozycjaUszczegolawiajaca[1]/dtsf:KwotyPozycji","dtsf:KwotaB"]
[null,{"$f":"Adr_RZiS & \"!$X$57\"","v":"RZiS!$X$57"},null,null,null,null,"Kwota",null,null,"jin:RZiSPor//jin:J/dtsf:PozycjaUszczegolawiajaca[1]/dtsf:KwotyPozycji","dtsf:KwotaB1"]
[null,{"$f":"Adr_RZiS & \"!$V$58\"","v":"RZiS!$V$58"},null,null,null,null,"Kwota",null,null,"jin:RZiSPor//jin:K","dtsf:KwotaA"]
[null,{"$f":"Adr_RZiS & \"!$W$58\"","v":"RZiS!$W$58"},null,null,null,null,"Kwota",null,null,"jin:RZiSPor//jin:K","dtsf:KwotaB"]
[null,{"$f":"Adr_RZiS & \"!$V$59\"","v":"RZiS!$V$59"},null,null,null,null,"Kwota",null,"=V55-V56-V58","jin:RZiSPor//jin:L","dtsf:KwotaA"]
[null,{"$f":"Adr_RZiS & \"!$W$59\"","v":"RZiS!$W$59"},null,null,null,null,"Kwota",null,"=W55-W56-W58","jin:RZiSPor//jin:L","dtsf:KwotaB"]
[]
[null,{"$f":"Adr_RZiS & \"!$X$6\"","v":"RZiS!$X$6"},null,null,null,null,"Kwota",null,null,"jin:RZiSPor//jin:A","dtsf:KwotaB1"]
[null,{"$f":"Adr_RZiS & \"!$X$7\"","v":"RZiS!$X$7"},null,null,null,null,"Kwota",null,null,"jin:RZiSPor//jin:A_J","dtsf:KwotaB1"]
[null,{"$f":"Adr_RZiS & \"!$X$8\"","v":"RZiS!$X$8"},null,null,null,null,"Kwota",null,null,"jin:RZiSPor//jin:A_I","dtsf:KwotaB1"]
[null,{"$f":"Adr_RZiS & \"!$X$9\"","v":"RZiS!$X$9"},null,null,null,null,"Kwota",null,null,"jin:RZiSPor//jin:A_II","dtsf:KwotaB1"]
[null,{"$f":"Adr_RZiS & \"!$X$11\"","v":"RZiS!$X$11"},null,null,null,null,"Kwota",null,null,"jin:RZiSPor//jin:A_III","dtsf:KwotaB1"]
[null,{"$f":"Adr_RZiS & \"!$X$12\"","v":"RZiS!$X$12"},null,null,null,null,"Kwota",null,null,"jin:RZiSPor//jin:A_IV","dtsf:KwotaB1"]
[null,{"$f":"Adr_RZiS & \"!$X$13\"","v":"RZiS!$X$13"},null,null,null,null,"Kwota",null,null,"jin:RZiSPor//jin:B","dtsf:KwotaB1"]
[null,{"$f":"Adr_RZiS & \"!$X$14\"","v":"RZiS!$X$14"},null,null,null,null,"Kwota",null,null,"jin:RZiSPor//jin:B_I","dtsf:KwotaB1"]
[null,{"$f":"Adr_RZiS & \"!$X$15\"","v":"RZiS!$X$15"},null,null,null,null,"Kwota",null,null,"jin:RZiSPor//jin:B_II","dtsf:KwotaB1"]
[null,{"$f":"Adr_RZiS & \"!$X$16\"","v":"RZiS!$X$16"},null,null,null,null,"Kwota",null,null,"jin:RZiSPor//jin:B_III","dtsf:KwotaB1"]
[null,{"$f":"Adr_RZiS & \"!$X$17\"","v":"RZiS!$X$17"},null,null,null,null,"Kwota",null,null,"jin:RZiSPor//jin:B_IV","dtsf:KwotaB1"]
[null,{"$f":"Adr_RZiS & \"!$X$18\"","v":"RZiS!$X$18"},null,null,null,null,"Kwota",null,null,"jin:RZiSPor//jin:B_IV_1","dtsf:KwotaB1"]
[null,{"$f":"Adr_RZiS & \"!$X$19\"","v":"RZiS!$X$19"},null,null,null,null,"Kwota",null,null,"jin:RZiSPor//jin:B_V","dtsf:KwotaB1"]
[null,{"$f":"Adr_RZiS & \"!$X$20\"","v":"RZiS!$X$20"},null,null,null,null,"Kwota",null,null,"jin:RZiSPor//jin:B_VI","dtsf:KwotaB1"]
[null,{"$f":"Adr_RZiS & \"!$X$21\"","v":"RZiS!$X$21"},null,null,null,null,"Kwota",null,null,"jin:RZiSPor//jin:B_VI_1","dtsf:KwotaB1"]
[null,{"$f":"Adr_RZiS & \"!$X$22\"","v":"RZiS!$X$22"},null,null,null,null,"Kwota",null,null,"jin:RZiSPor//jin:B_VII","dtsf:KwotaB1"]
[null,{"$f":"Adr_RZiS & \"!$X$23\"","v":"RZiS!$X$23"},null,null,null,null,"Kwota",null,null,"jin:RZiSPor//jin:B_VIII","dtsf:KwotaB1"]
[null,{"$f":"Adr_RZiS & \"!$X$24\"","v":"RZiS!$X$24"},null,null,null,null,"Kwota",null,null,"jin:RZiSPor//jin:C","dtsf:KwotaB1"]
[null,{"$f":"Adr_RZiS & \"!$X$25\"","v":"RZiS!$X$25"},null,null,null,null,"Kwota",null,null,"jin:RZiSPor//jin:D","dtsf:KwotaB1"]
[null,{"$f":"Adr_RZiS & \"!$X$26\"","v":"RZiS!$X$26"},null,null,null,null,"Kwota",null,null,"jin:RZiSPor//jin:D_I","dtsf:KwotaB1"]
[null,{"$f":"Adr_RZiS & \"!$X$27\"","v":"RZiS!$X$27"},null,null,null,null,"Kwota",null,null,"jin:RZiSPor//jin:D_II","dtsf:KwotaB1"]
[null,{"$f":"Adr_RZiS & \"!$X$28\"","v":"RZiS!$X$28"},null,null,null,null,"Kwota",null,null,"jin:RZiSPor//jin:D_III","dtsf:KwotaB1"]
[null,{"$f":"Adr_RZiS & \"!$X$29\"","v":"RZiS!$X$29"},null,null,null,null,"Kwota",null,null,"jin:RZiSPor//jin:D_IV","dtsf:KwotaB1"]
[null,{"$f":"Adr_RZiS & \"!$X$30\"","v":"RZiS!$X$30"},null,null,null,null,"Kwota",null,null,"jin:RZiSPor//jin:E","dtsf:KwotaB1"]
[null,{"$f":"Adr_RZiS & \"!$X$31\"","v":"RZiS!$X$31"},null,null,null,null,"Kwota",null,null,"jin:RZiSPor//jin:E_I","dtsf:KwotaB1"]
[null,{"$f":"Adr_RZiS & \"!$X$32\"","v":"RZiS!$X$32"},null,null,null,null,"Kwota",null,null,"jin:RZiSPor//jin:E_II","dtsf:KwotaB1"]
[null,{"$f":"Adr_RZiS & \"!$X$33\"","v":"RZiS!$X$33"},null,null,null,null,"Kwota",null,null,"jin:RZiSPor//jin:E_III","dtsf:KwotaB1"]
[null,{"$f":"Adr_RZiS & \"!$X$34\"","v":"RZiS!$X$34"},null,null,null,null,"Kwota",null,null,"jin:RZiSPor//jin:F","dtsf:KwotaB1"]
[null,{"$f":"Adr_RZiS & \"!$X$35\"","v":"RZiS!$X$35"},null,null,null,null,"Kwota",null,null,"jin:RZiSPor//jin:G","dtsf:KwotaB1"]
[null,{"$f":"Adr_RZiS & \"!$X$37\"","v":"RZiS!$X$37"},null,null,null,null,"Kwota",null,null,"jin:RZiSPor//jin:G_I","dtsf:KwotaB1"]
[null,{"$f":"Adr_RZiS & \"!$X$38\"","v":"RZiS!$X$38"},null,null,null,null,"Kwota",null,null,"jin:RZiSPor//jin:G_I_A","dtsf:KwotaB1"]
[null,{"$f":"Adr_RZiS & \"!$X$39\"","v":"RZiS!$X$39"},null,null,null,null,"Kwota",null,null,"jin:RZiSPor//jin:G_I_A_1","dtsf:KwotaB1"]
[null,{"$f":"Adr_RZiS & \"!$X$40\"","v":"RZiS!$X$40"},null,null,null,null,"Kwota",null,null,"jin:RZiSPor//jin:G_I_B","dtsf:KwotaB1"]
[null,{"$f":"Adr_RZiS & \"!$X$41\"","v":"RZiS!$X$41"},null,null,null,null,"Kwota",null,null,"jin:RZiSPor//jin:G_I_B_1","dtsf:KwotaB1"]
[null,{"$f":"Adr_RZiS & \"!$X$42\"","v":"RZiS!$X$42"},null,null,null,null,"Kwota",null,null,"jin:RZiSPor//jin:G_II","dtsf:KwotaB1"]
[null,{"$f":"Adr_RZiS & \"!$X$43\"","v":"RZiS!$X$43"},null,null,null,null,"Kwota",null,null,"jin:RZiSPor//jin:G_II_J","dtsf:KwotaB1"]
[null,{"$f":"Adr_RZiS & \"!$X$44\"","v":"RZiS!$X$44"},null,null,null,null,"Kwota",null,null,"jin:RZiSPor//jin:G_III","dtsf:KwotaB1"]
[null,{"$f":"Adr_RZiS & \"!$X$45\"","v":"RZiS!$X$45"},null,null,null,null,"Kwota",null,null,"jin:RZiSPor//jin:G_III_J","dtsf:KwotaB1"]
[null,{"$f":"Adr_RZiS & \"!$X$46\"","v":"RZiS!$X$46"},null,null,null,null,"Kwota",null,null,"jin:RZiSPor//jin:G_IV","dtsf:KwotaB1"]
[null,{"$f":"Adr_RZiS & \"!$X$47\"","v":"RZiS!$X$47"},null,null,null,null,"Kwota",null,null,"jin:RZiSPor//jin:G_V","dtsf:KwotaB1"]
[null,{"$f":"Adr_RZiS & \"!$X$48\"","v":"RZiS!$X$48"},null,null,null,null,"Kwota",null,null,"jin:RZiSPor//jin:H","dtsf:KwotaB1"]
[null,{"$f":"Adr_RZiS & \"!$X$49\"","v":"RZiS!$X$49"},null,null,null,null,"Kwota",null,null,"jin:RZiSPor//jin:H_I","dtsf:KwotaB1"]
[null,{"$f":"Adr_RZiS & \"!$X$50\"","v":"RZiS!$X$50"},null,null,null,null,"Kwota",null,null,"jin:RZiSPor//jin:H_I_J","dtsf:KwotaB1"]
[null,{"$f":"Adr_RZiS & \"!$X$51\"","v":"RZiS!$X$51"},null,null,null,null,"Kwota",null,null,"jin:RZiSPor//jin:H_II","dtsf:KwotaB1"]
[null,{"$f":"Adr_RZiS & \"!$X$52\"","v":"RZiS!$X$52"},null,null,null,null,"Kwota",null,null,"jin:RZiSPor//jin:H_II_J","dtsf:KwotaB1"]
[null,{"$f":"Adr_RZiS & \"!$X$53\"","v":"RZiS!$X$53"},null,null,null,null,"Kwota",null,null,"jin:RZiSPor//jin:H_III","dtsf:KwotaB1"]
[null,{"$f":"Adr_RZiS & \"!$X$54\"","v":"RZiS!$X$54"},null,null,null,null,"Kwota",null,null,"jin:RZiSPor//jin:H_IV","dtsf:KwotaB1"]
[null,{"$f":"Adr_RZiS & \"!$X$55\"","v":"RZiS!$X$55"},null,null,null,null,"Kwota",null,null,"jin:RZiSPor//jin:I","dtsf:KwotaB1"]
[null,{"$f":"Adr_RZiS & \"!$X$56\"","v":"RZiS!$X$56"},null,null,null,null,"Kwota",null,null,"jin:RZiSPor//jin:J","dtsf:KwotaB1"]
[null,{"$f":"Adr_RZiS & \"!$X$58\"","v":"RZiS!$X$58"},null,null,null,null,"Kwota",null,null,"jin:RZiSPor//jin:K","dtsf:KwotaB1"]
[null,{"$f":"Adr_RZiS & \"!$X$59\"","v":"RZiS!$X$59"},null,null,null,null,"Kwota",null,null,"jin:RZiSPor//jin:L","dtsf:KwotaB1"]
[]
[null,{"$f":"Adr_RZiS & \"!$V$61\"","v":"RZiS!$V$61"},null,null,null,null,"Kwota",null,"*Sum","jin:RZiSKalk//jin:A","dtsf:KwotaA"]
[null,{"$f":"Adr_RZiS & \"!$W$61\"","v":"RZiS!$W$61"},null,null,null,null,"Kwota",null,"*Sum","jin:RZiSKalk//jin:A","dtsf:KwotaB"]
[null,{"$f":"Adr_RZiS & \"!$V$63\"","v":"RZiS!$V$63"},null,null,null,null,"Kwota",null,null,"jin:RZiSKalk//jin:A_I","dtsf:KwotaA"]
[null,{"$f":"Adr_RZiS & \"!$W$63\"","v":"RZiS!$W$63"},null,null,null,null,"Kwota",null,null,"jin:RZiSKalk//jin:A_I","dtsf:KwotaB"]
[null,{"$f":"Adr_RZiS & \"!$V$64\"","v":"RZiS!$V$64"},null,null,null,null,"Kwota",null,null,"jin:RZiSKalk//jin:A_II","dtsf:KwotaA"]
[null,{"$f":"Adr_RZiS & \"!$W$64\"","v":"RZiS!$W$64"},null,null,null,null,"Kwota",null,null,"jin:RZiSKalk//jin:A_II","dtsf:KwotaB"]
[null,{"$f":"Adr_RZiS & \"!$V$62\"","v":"RZiS!$V$62"},null,null,null,null,"Kwota",null,null,"jin:RZiSKalk//jin:A_J","dtsf:KwotaA"]
[null,{"$f":"Adr_RZiS & \"!$W$62\"","v":"RZiS!$W$62"},null,null,null,null,"Kwota",null,null,"jin:RZiSKalk//jin:A_J","dtsf:KwotaB"]
[null,{"$f":"Adr_RZiS & \"!$V$65\"","v":"RZiS!$V$65"},null,null,null,null,"Kwota",null,"*Sum","jin:RZiSKalk//jin:B","dtsf:KwotaA"]
[null,{"$f":"Adr_RZiS & \"!$W$65\"","v":"RZiS!$W$65"},null,null,null,null,"Kwota",null,"*Sum","jin:RZiSKalk//jin:B","dtsf:KwotaB"]
[null,{"$f":"Adr_RZiS & \"!$V$67\"","v":"RZiS!$V$67"},null,null,null,null,"Kwota",null,null,"jin:RZiSKalk//jin:B_I","dtsf:KwotaA"]
[null,{"$f":"Adr_RZiS & \"!$W$67\"","v":"RZiS!$W$67"},null,null,null,null,"Kwota",null,null,"jin:RZiSKalk//jin:B_I","dtsf:KwotaB"]
[null,{"$f":"Adr_RZiS & \"!$V$68\"","v":"RZiS!$V$68"},null,null,null,null,"Kwota",null,null,"jin:RZiSKalk//jin:B_II","dtsf:KwotaA"]
[null,{"$f":"Adr_RZiS & \"!$W$68\"","v":"RZiS!$W$68"},null,null,null,null,"Kwota",null,null,"jin:RZiSKalk//jin:B_II","dtsf:KwotaB"]
[null,{"$f":"Adr_RZiS & \"!$V$66\"","v":"RZiS!$V$66"},null,null,null,null,"Kwota",null,null,"jin:RZiSKalk//jin:B_J","dtsf:KwotaA"]
[null,{"$f":"Adr_RZiS & \"!$W$66\"","v":"RZiS!$W$66"},null,null,null,null,"Kwota",null,null,"jin:RZiSKalk//jin:B_J","dtsf:KwotaB"]
[null,{"$f":"Adr_RZiS & \"!$V$69\"","v":"RZiS!$V$69"},null,null,null,null,"Kwota",null,"=V61-V65","jin:RZiSKalk//jin:C","dtsf:KwotaA"]
[null,{"$f":"Adr_RZiS & \"!$W$69\"","v":"RZiS!$W$69"},null,null,null,null,"Kwota",null,"=W61-W65","jin:RZiSKalk//jin:C","dtsf:KwotaB"]
[null,{"$f":"Adr_RZiS & \"!$V$70\"","v":"RZiS!$V$70"},null,null,null,null,"Kwota",null,null,"jin:RZiSKalk//jin:D","dtsf:KwotaA"]
[null,{"$f":"Adr_RZiS & \"!$W$70\"","v":"RZiS!$W$70"},null,null,null,null,"Kwota",null,null,"jin:RZiSKalk//jin:D","dtsf:KwotaB"]
[null,{"$f":"Adr_RZiS & \"!$V$71\"","v":"RZiS!$V$71"},null,null,null,null,"Kwota",null,null,"jin:RZiSKalk//jin:E","dtsf:KwotaA"]
[null,{"$f":"Adr_RZiS & \"!$W$71\"","v":"RZiS!$W$71"},null,null,null,null,"Kwota",null,null,"jin:RZiSKalk//jin:E","dtsf:KwotaB"]
[null,{"$f":"Adr_RZiS & \"!$V$72\"","v":"RZiS!$V$72"},null,null,null,null,"Kwota",null,"=V69-V70-V71","jin:RZiSKalk//jin:F","dtsf:KwotaA"]
[null,{"$f":"Adr_RZiS & \"!$W$72\"","v":"RZiS!$W$72"},null,null,null,null,"Kwota",null,"=W69-W70-W71","jin:RZiSKalk//jin:F","dtsf:KwotaB"]
[null,{"$f":"Adr_RZiS & \"!$V$73\"","v":"RZiS!$V$73"},null,null,null,null,"Kwota",null,"*Sum","jin:RZiSKalk//jin:G","dtsf:KwotaA"]
[null,{"$f":"Adr_RZiS & \"!$W$73\"","v":"RZiS!$W$73"},null,null,null,null,"Kwota",null,"*Sum","jin:RZiSKalk//jin:G","dtsf:KwotaB"]
[null,{"$f":"Adr_RZiS & \"!$V$74\"","v":"RZiS!$V$74"},null,null,null,null,"Kwota",null,null,"jin:RZiSKalk//jin:G_I","dtsf:KwotaA"]
[null,{"$f":"Adr_RZiS & \"!$W$74\"","v":"RZiS!$W$74"},null,null,null,null,"Kwota",null,null,"jin:RZiSKalk//jin:G_I","dtsf:KwotaB"]
[null,{"$f":"Adr_RZiS & \"!$V$75\"","v":"RZiS!$V$75"},null,null,null,null,"Kwota",null,null,"jin:RZiSKalk//jin:G_II","dtsf:KwotaA"]
[null,{"$f":"Adr_RZiS & \"!$W$75\"","v":"RZiS!$W$75"},null,null,null,null,"Kwota",null,null,"jin:RZiSKalk//jin:G_II","dtsf:KwotaB"]
[null,{"$f":"Adr_RZiS & \"!$V$76\"","v":"RZiS!$V$76"},null,null,null,null,"Kwota",null,null,"jin:RZiSKalk//jin:G_III","dtsf:KwotaA"]
[null,{"$f":"Adr_RZiS & \"!$W$76\"","v":"RZiS!$W$76"},null,null,null,null,"Kwota",null,null,"jin:RZiSKalk//jin:G_III","dtsf:KwotaB"]
[null,{"$f":"Adr_RZiS & \"!$V$77\"","v":"RZiS!$V$77"},null,null,null,null,"Kwota",null,null,"jin:RZiSKalk//jin:G_IV","dtsf:KwotaA"]
[null,{"$f":"Adr_RZiS & \"!$W$77\"","v":"RZiS!$W$77"},null,null,null,null,"Kwota",null,null,"jin:RZiSKalk//jin:G_IV","dtsf:KwotaB"]
[null,{"$f":"Adr_RZiS & \"!$V$78\"","v":"RZiS!$V$78"},null,null,null,null,"Kwota",null,"*Sum","jin:RZiSKalk//jin:H","dtsf:KwotaA"]
[null,{"$f":"Adr_RZiS & \"!$W$78\"","v":"RZiS!$W$78"},null,null,null,null,"Kwota",null,"*Sum","jin:RZiSKalk//jin:H","dtsf:KwotaB"]
[null,{"$f":"Adr_RZiS & \"!$V$79\"","v":"RZiS!$V$79"},null,null,null,null,"Kwota",null,null,"jin:RZiSKalk//jin:H_I","dtsf:KwotaA"]
[null,{"$f":"Adr_RZiS & \"!$W$79\"","v":"RZiS!$W$79"},null,null,null,null,"Kwota",null,null,"jin:RZiSKalk//jin:H_I","dtsf:KwotaB"]
[null,{"$f":"Adr_RZiS & \"!$V$80\"","v":"RZiS!$V$80"},null,null,null,null,"Kwota",null,null,"jin:RZiSKalk//jin:H_II","dtsf:KwotaA"]
[null,{"$f":"Adr_RZiS & \"!$W$80\"","v":"RZiS!$W$80"},null,null,null,null,"Kwota",null,null,"jin:RZiSKalk//jin:H_II","dtsf:KwotaB"]
[null,{"$f":"Adr_RZiS & \"!$V$81\"","v":"RZiS!$V$81"},null,null,null,null,"Kwota",null,null,"jin:RZiSKalk//jin:H_III","dtsf:KwotaA"]
[null,{"$f":"Adr_RZiS & \"!$W$81\"","v":"RZiS!$W$81"},null,null,null,null,"Kwota",null,null,"jin:RZiSKalk//jin:H_III","dtsf:KwotaB"]
[null,{"$f":"Adr_RZiS & \"!$V$82\"","v":"RZiS!$V$82"},null,null,null,null,"Kwota",null,"=V72+V73-V78","jin:RZiSKalk//jin:I","dtsf:KwotaA"]
[null,{"$f":"Adr_RZiS & \"!$W$82\"","v":"RZiS!$W$82"},null,null,null,null,"Kwota",null,"=W72+W73-W78","jin:RZiSKalk//jin:I","dtsf:KwotaB"]
[null,{"$f":"Adr_RZiS & \"!$V$83\"","v":"RZiS!$V$83"},null,null,null,null,"Kwota",null,"*Sum","jin:RZiSKalk//jin:J","dtsf:KwotaA"]
[null,{"$f":"Adr_RZiS & \"!$W$83\"","v":"RZiS!$W$83"},null,null,null,null,"Kwota",null,"*Sum","jin:RZiSKalk//jin:J","dtsf:KwotaB"]
[null,{"$f":"Adr_RZiS & \"!$V$84\"","v":"RZiS!$V$84"},null,null,null,null,"Kwota",null,null,"jin:RZiSKalk//jin:J_I","dtsf:KwotaA"]
[null,{"$f":"Adr_RZiS & \"!$W$84\"","v":"RZiS!$W$84"},null,null,null,null,"Kwota",null,null,"jin:RZiSKalk//jin:J_I","dtsf:KwotaB"]
[null,{"$f":"Adr_RZiS & \"!$V$85\"","v":"RZiS!$V$85"},null,null,null,null,"Kwota",null,null,"jin:RZiSKalk//jin:J_I_A","dtsf:KwotaA"]
[null,{"$f":"Adr_RZiS & \"!$W$85\"","v":"RZiS!$W$85"},null,null,null,null,"Kwota",null,null,"jin:RZiSKalk//jin:J_I_A","dtsf:KwotaB"]
[null,{"$f":"Adr_RZiS & \"!$V$86\"","v":"RZiS!$V$86"},null,null,null,null,"Kwota",null,null,"jin:RZiSKalk//jin:J_I_A_1","dtsf:KwotaA"]
[null,{"$f":"Adr_RZiS & \"!$W$86\"","v":"RZiS!$W$86"},null,null,null,null,"Kwota",null,null,"jin:RZiSKalk//jin:J_I_A_1","dtsf:KwotaB"]
[null,{"$f":"Adr_RZiS & \"!$V$87\"","v":"RZiS!$V$87"},null,null,null,null,"Kwota",null,null,"jin:RZiSKalk//jin:J_I_B","dtsf:KwotaA"]
[null,{"$f":"Adr_RZiS & \"!$W$87\"","v":"RZiS!$W$87"},null,null,null,null,"Kwota",null,null,"jin:RZiSKalk//jin:J_I_B","dtsf:KwotaB"]
[null,{"$f":"Adr_RZiS & \"!$V$88\"","v":"RZiS!$V$88"},null,null,null,null,"Kwota",null,null,"jin:RZiSKalk//jin:J_I_B_1","dtsf:KwotaA"]
[null,{"$f":"Adr_RZiS & \"!$W$88\"","v":"RZiS!$W$88"},null,null,null,null,"Kwota",null,null,"jin:RZiSKalk//jin:J_I_B_1","dtsf:KwotaB"]
[null,{"$f":"Adr_RZiS & \"!$V$89\"","v":"RZiS!$V$89"},null,null,null,null,"Kwota",null,null,"jin:RZiSKalk//jin:J_II","dtsf:KwotaA"]
[null,{"$f":"Adr_RZiS & \"!$W$89\"","v":"RZiS!$W$89"},null,null,null,null,"Kwota",null,null,"jin:RZiSKalk//jin:J_II","dtsf:KwotaB"]
[null,{"$f":"Adr_RZiS & \"!$V$90\"","v":"RZiS!$V$90"},null,null,null,null,"Kwota",null,null,"jin:RZiSKalk//jin:J_II_J","dtsf:KwotaA"]
[null,{"$f":"Adr_RZiS & \"!$W$90\"","v":"RZiS!$W$90"},null,null,null,null,"Kwota",null,null,"jin:RZiSKalk//jin:J_II_J","dtsf:KwotaB"]
[null,{"$f":"Adr_RZiS & \"!$V$92\"","v":"RZiS!$V$92"},null,null,null,null,"Kwota",null,null,"jin:RZiSKalk//jin:J_III","dtsf:KwotaA"]
[null,{"$f":"Adr_RZiS & \"!$W$92\"","v":"RZiS!$W$92"},null,null,null,null,"Kwota",null,null,"jin:RZiSKalk//jin:J_III","dtsf:KwotaB"]
[null,{"$f":"Adr_RZiS & \"!$V$93\"","v":"RZiS!$V$93"},null,null,null,null,"Kwota",null,null,"jin:RZiSKalk//jin:J_III_J","dtsf:KwotaA"]
[null,{"$f":"Adr_RZiS & \"!$W$93\"","v":"RZiS!$W$93"},null,null,null,null,"Kwota",null,null,"jin:RZiSKalk//jin:J_III_J","dtsf:KwotaB"]
[null,{"$f":"Adr_RZiS & \"!$V$94\"","v":"RZiS!$V$94"},null,null,null,null,"Kwota",null,null,"jin:RZiSKalk//jin:J_IV","dtsf:KwotaA"]
[null,{"$f":"Adr_RZiS & \"!$W$94\"","v":"RZiS!$W$94"},null,null,null,null,"Kwota",null,null,"jin:RZiSKalk//jin:J_IV","dtsf:KwotaB"]
[null,{"$f":"Adr_RZiS & \"!$V$95\"","v":"RZiS!$V$95"},null,null,null,null,"Kwota",null,null,"jin:RZiSKalk//jin:J_V","dtsf:KwotaA"]
[null,{"$f":"Adr_RZiS & \"!$W$95\"","v":"RZiS!$W$95"},null,null,null,null,"Kwota",null,null,"jin:RZiSKalk//jin:J_V","dtsf:KwotaB"]
[null,{"$f":"Adr_RZiS & \"!$V$96\"","v":"RZiS!$V$96"},null,null,null,null,"Kwota",null,"*Sum","jin:RZiSKalk//jin:K","dtsf:KwotaA"]
[null,{"$f":"Adr_RZiS & \"!$W$96\"","v":"RZiS!$W$96"},null,null,null,null,"Kwota",null,"*Sum","jin:RZiSKalk//jin:K","dtsf:KwotaB"]
[null,{"$f":"Adr_RZiS & \"!$V$97\"","v":"RZiS!$V$97"},null,null,null,null,"Kwota",null,null,"jin:RZiSKalk//jin:K_I","dtsf:KwotaA"]
[null,{"$f":"Adr_RZiS & \"!$W$97\"","v":"RZiS!$W$97"},null,null,null,null,"Kwota",null,null,"jin:RZiSKalk//jin:K_I","dtsf:KwotaB"]
[null,{"$f":"Adr_RZiS & \"!$V$98\"","v":"RZiS!$V$98"},null,null,null,null,"Kwota",null,null,"jin:RZiSKalk//jin:K_I_J","dtsf:KwotaA"]
[null,{"$f":"Adr_RZiS & \"!$W$98\"","v":"RZiS!$W$98"},null,null,null,null,"Kwota",null,null,"jin:RZiSKalk//jin:K_I_J","dtsf:KwotaB"]
[null,{"$f":"Adr_RZiS & \"!$V$99\"","v":"RZiS!$V$99"},null,null,null,null,"Kwota",null,null,"jin:RZiSKalk//jin:K_II","dtsf:KwotaA"]
[null,{"$f":"Adr_RZiS & \"!$W$99\"","v":"RZiS!$W$99"},null,null,null,null,"Kwota",null,null,"jin:RZiSKalk//jin:K_II","dtsf:KwotaB"]
[null,{"$f":"Adr_RZiS & \"!$V$100\"","v":"RZiS!$V$100"},null,null,null,null,"Kwota",null,null,"jin:RZiSKalk//jin:K_II_J","dtsf:KwotaA"]
[null,{"$f":"Adr_RZiS & \"!$W$100\"","v":"RZiS!$W$100"},null,null,null,null,"Kwota",null,null,"jin:RZiSKalk//jin:K_II_J","dtsf:KwotaB"]
[null,{"$f":"Adr_RZiS & \"!$V$101\"","v":"RZiS!$V$101"},null,null,null,null,"Kwota",null,null,"jin:RZiSKalk//jin:K_III","dtsf:KwotaA"]
[null,{"$f":"Adr_RZiS & \"!$W$101\"","v":"RZiS!$W$101"},null,null,null,null,"Kwota",null,null,"jin:RZiSKalk//jin:K_III","dtsf:KwotaB"]
[null,{"$f":"Adr_RZiS & \"!$V$102\"","v":"RZiS!$V$102"},null,null,null,null,"Kwota",null,null,"jin:RZiSKalk//jin:K_IV","dtsf:KwotaA"]
[null,{"$f":"Adr_RZiS & \"!$W$102\"","v":"RZiS!$W$102"},null,null,null,null,"Kwota",null,null,"jin:RZiSKalk//jin:K_IV","dtsf:KwotaB"]
[null,{"$f":"Adr_RZiS & \"!$V$103\"","v":"RZiS!$V$103"},null,null,null,null,"Kwota",null,"=V82+V83-V96","jin:RZiSKalk//jin:L","dtsf:KwotaA"]
[null,{"$f":"Adr_RZiS & \"!$W$103\"","v":"RZiS!$W$103"},null,null,null,null,"Kwota",null,"=W82+W83-W96","jin:RZiSKalk//jin:L","dtsf:KwotaB"]
[null,{"$f":"Adr_RZiS & \"!$V$104\"","v":"RZiS!$V$104"},null,null,null,null,"Kwota",null,null,"jin:RZiSKalk//jin:M","dtsf:KwotaA"]
[null,{"$f":"Adr_RZiS & \"!$W$104\"","v":"RZiS!$W$104"},null,null,null,null,"Kwota",null,null,"jin:RZiSKalk//jin:M","dtsf:KwotaB"]
[null,{"$f":"Adr_RZiS & \"!$O$105\"","v":"RZiS!$O$105"},{"$f":"IF(OR(ISNUMBER(INDIRECT(B1176)),ISNUMBER(INDIRECT(B1177)),ISNUMBER(INDIRECT(B1178))),\"ExportLabel\",\"\")","v":""},{"$f":"IF(C1175=\"\",\"ImportOnly\",\"\")","v":"ImportOnly"},null,"Label","Tekst",null,"=IF($N$105=\"\",\" – \") & SUBSTITUTE(teksty!D$356,\":\",\" \" & teksty!$D$668 & \":\")","jin:RZiSKalk//jin:M/dtsf:PozycjaUszczegolawiajaca[1]","dtsf:NazwaPozycji"]
[null,{"$f":"Adr_RZiS & \"!$V$105\"","v":"RZiS!$V$105"},null,null,null,null,"Kwota",null,null,"jin:RZiSKalk//jin:M/dtsf:PozycjaUszczegolawiajaca[1]/dtsf:KwotyPozycji","dtsf:KwotaA"]
[null,{"$f":"Adr_RZiS & \"!$W$105\"","v":"RZiS!$W$105"},null,null,null,null,"Kwota",null,null,"jin:RZiSKalk//jin:M/dtsf:PozycjaUszczegolawiajaca[1]/dtsf:KwotyPozycji","dtsf:KwotaB"]
[null,{"$f":"Adr_RZiS & \"!$X$105\"","v":"RZiS!$X$105"},null,null,null,null,"Kwota",null,null,"jin:RZiSKalk//jin:M/dtsf:PozycjaUszczegolawiajaca[1]/dtsf:KwotyPozycji","dtsf:KwotaB1"]
[null,{"$f":"Adr_RZiS & \"!$V$106\"","v":"RZiS!$V$106"},null,null,null,null,"Kwota",null,null,"jin:RZiSKalk//jin:N","dtsf:KwotaA"]
[null,{"$f":"Adr_RZiS & \"!$W$106\"","v":"RZiS!$W$106"},null,null,null,null,"Kwota",null,null,"jin:RZiSKalk//jin:N","dtsf:KwotaB"]
[null,{"$f":"Adr_RZiS & \"!$V$107\"","v":"RZiS!$V$107"},null,null,null,null,"Kwota",null,"=V103-V104-V106","jin:RZiSKalk//jin:O","dtsf:KwotaA"]
[null,{"$f":"Adr_RZiS & \"!$W$107\"","v":"RZiS!$W$107"},null,null,null,null,"Kwota",null,"=W103-W104-W106","jin:RZiSKalk//jin:O","dtsf:KwotaB"]
[]
[null,{"$f":"Adr_RZiS & \"!$X$61\"","v":"RZiS!$X$61"},null,null,null,null,"Kwota",null,null,"jin:RZiSKalk//jin:A","dtsf:KwotaB1"]
[null,{"$f":"Adr_RZiS & \"!$X$62\"","v":"RZiS!$X$62"},null,null,null,null,"Kwota",null,null,"jin:RZiSKalk//jin:A_J","dtsf:KwotaB1"]
[null,{"$f":"Adr_RZiS & \"!$X$63\"","v":"RZiS!$X$63"},null,null,null,null,"Kwota",null,null,"jin:RZiSKalk//jin:A_I","dtsf:KwotaB1"]
[null,{"$f":"Adr_RZiS & \"!$X$64\"","v":"RZiS!$X$64"},null,null,null,null,"Kwota",null,null,"jin:RZiSKalk//jin:A_II","dtsf:KwotaB1"]
[null,{"$f":"Adr_RZiS & \"!$X$65\"","v":"RZiS!$X$65"},null,null,null,null,"Kwota",null,null,"jin:RZiSKalk//jin:B","dtsf:KwotaB1"]
[null,{"$f":"Adr_RZiS & \"!$X$66\"","v":"RZiS!$X$66"},null,null,null,null,"Kwota",null,null,"jin:RZiSKalk//jin:B_J","dtsf:KwotaB1"]
[null,{"$f":"Adr_RZiS & \"!$X$67\"","v":"RZiS!$X$67"},null,null,null,null,"Kwota",null,null,"jin:RZiSKalk//jin:B_I","dtsf:KwotaB1"]
[null,{"$f":"Adr_RZiS & \"!$X$68\"","v":"RZiS!$X$68"},null,null,null,null,"Kwota",null,null,"jin:RZiSKalk//jin:B_II","dtsf:KwotaB1"]
[null,{"$f":"Adr_RZiS & \"!$X$69\"","v":"RZiS!$X$69"},null,null,null,null,"Kwota",null,null,"jin:RZiSKalk//jin:C","dtsf:KwotaB1"]
[null,{"$f":"Adr_RZiS & \"!$X$70\"","v":"RZiS!$X$70"},null,null,null,null,"Kwota",null,null,"jin:RZiSKalk//jin:D","dtsf:KwotaB1"]
[null,{"$f":"Adr_RZiS & \"!$X$71\"","v":"RZiS!$X$71"},null,null,null,null,"Kwota",null,null,"jin:RZiSKalk//jin:E","dtsf:KwotaB1"]
[null,{"$f":"Adr_RZiS & \"!$X$72\"","v":"RZiS!$X$72"},null,null,null,null,"Kwota",null,null,"jin:RZiSKalk//jin:F","dtsf:KwotaB1"]
[null,{"$f":"Adr_RZiS & \"!$X$73\"","v":"RZiS!$X$73"},null,null,null,null,"Kwota",null,null,"jin:RZiSKalk//jin:G","dtsf:KwotaB1"]
[null,{"$f":"Adr_RZiS & \"!$X$74\"","v":"RZiS!$X$74"},null,null,null,null,"Kwota",null,null,"jin:RZiSKalk//jin:G_I","dtsf:KwotaB1"]
[null,{"$f":"Adr_RZiS & \"!$X$75\"","v":"RZiS!$X$75"},null,null,null,null,"Kwota",null,null,"jin:RZiSKalk//jin:G_II","dtsf:KwotaB1"]
[null,{"$f":"Adr_RZiS & \"!$X$76\"","v":"RZiS!$X$76"},null,null,null,null,"Kwota",null,null,"jin:RZiSKalk//jin:G_III","dtsf:KwotaB1"]
[null,{"$f":"Adr_RZiS & \"!$X$77\"","v":"RZiS!$X$77"},null,null,null,null,"Kwota",null,null,"jin:RZiSKalk//jin:G_IV","dtsf:KwotaB1"]
[null,{"$f":"Adr_RZiS & \"!$X$78\"","v":"RZiS!$X$78"},null,null,null,null,"Kwota",null,null,"jin:RZiSKalk//jin:H","dtsf:KwotaB1"]
[null,{"$f":"Adr_RZiS & \"!$X$79\"","v":"RZiS!$X$79"},null,null,null,null,"Kwota",null,null,"jin:RZiSKalk//jin:H_I","dtsf:KwotaB1"]
[null,{"$f":"Adr_RZiS & \"!$X$80\"","v":"RZiS!$X$80"},null,null,null,null,"Kwota",null,null,"jin:RZiSKalk//jin:H_II","dtsf:KwotaB1"]
[null,{"$f":"Adr_RZiS & \"!$X$81\"","v":"RZiS!$X$81"},null,null,null,null,"Kwota",null,null,"jin:RZiSKalk//jin:H_III","dtsf:KwotaB1"]
[null,{"$f":"Adr_RZiS & \"!$X$82\"","v":"RZiS!$X$82"},null,null,null,null,"Kwota",null,null,"jin:RZiSKalk//jin:I","dtsf:KwotaB1"]
[null,{"$f":"Adr_RZiS & \"!$X$83\"","v":"RZiS!$X$83"},null,null,null,null,"Kwota",null,null,"jin:RZiSKalk//jin:J","dtsf:KwotaB1"]
[null,{"$f":"Adr_RZiS & \"!$X$84\"","v":"RZiS!$X$84"},null,null,null,null,"Kwota",null,null,"jin:RZiSKalk//jin:J_I","dtsf:KwotaB1"]
[null,{"$f":"Adr_RZiS & \"!$X$85\"","v":"RZiS!$X$85"},null,null,null,null,"Kwota",null,null,"jin:RZiSKalk//jin:J_I_A","dtsf:KwotaB1"]
[null,{"$f":"Adr_RZiS & \"!$X$86\"","v":"RZiS!$X$86"},null,null,null,null,"Kwota",null,null,"jin:RZiSKalk//jin:J_I_A_1","dtsf:KwotaB1"]
[null,{"$f":"Adr_RZiS & \"!$X$87\"","v":"RZiS!$X$87"},null,null,null,null,"Kwota",null,null,"jin:RZiSKalk//jin:J_I_B","dtsf:KwotaB1"]
[null,{"$f":"Adr_RZiS & \"!$X$88\"","v":"RZiS!$X$88"},null,null,null,null,"Kwota",null,null,"jin:RZiSKalk//jin:J_I_B_1","dtsf:KwotaB1"]
[null,{"$f":"Adr_RZiS & \"!$X$89\"","v":"RZiS!$X$89"},null,null,null,null,"Kwota",null,null,"jin:RZiSKalk//jin:J_II","dtsf:KwotaB1"]
[null,{"$f":"Adr_RZiS & \"!$X$90\"","v":"RZiS!$X$90"},null,null,null,null,"Kwota",null,null,"jin:RZiSKalk//jin:J_II_J","dtsf:KwotaB1"]
[null,{"$f":"Adr_RZiS & \"!$X$92\"","v":"RZiS!$X$92"},null,null,null,null,"Kwota",null,null,"jin:RZiSKalk//jin:J_III","dtsf:KwotaB1"]
[null,{"$f":"Adr_RZiS & \"!$X$93\"","v":"RZiS!$X$93"},null,null,null,null,"Kwota",null,null,"jin:RZiSKalk//jin:J_III_J","dtsf:KwotaB1"]
[null,{"$f":"Adr_RZiS & \"!$X$94\"","v":"RZiS!$X$94"},null,null,null,null,"Kwota",null,null,"jin:RZiSKalk//jin:J_IV","dtsf:KwotaB1"]
[null,{"$f":"Adr_RZiS & \"!$X$95\"","v":"RZiS!$X$95"},null,null,null,null,"Kwota",null,null,"jin:RZiSKalk//jin:J_V","dtsf:KwotaB1"]
[null,{"$f":"Adr_RZiS & \"!$X$96\"","v":"RZiS!$X$96"},null,null,null,null,"Kwota",null,null,"jin:RZiSKalk//jin:K","dtsf:KwotaB1"]
[null,{"$f":"Adr_RZiS & \"!$X$97\"","v":"RZiS!$X$97"},null,null,null,null,"Kwota",null,null,"jin:RZiSKalk//jin:K_I","dtsf:KwotaB1"]
[null,{"$f":"Adr_RZiS & \"!$X$98\"","v":"RZiS!$X$98"},null,null,null,null,"Kwota",null,null,"jin:RZiSKalk//jin:K_I_J","dtsf:KwotaB1"]
[null,{"$f":"Adr_RZiS & \"!$X$99\"","v":"RZiS!$X$99"},null,null,null,null,"Kwota",null,null,"jin:RZiSKalk//jin:K_II","dtsf:KwotaB1"]
[null,{"$f":"Adr_RZiS & \"!$X$100\"","v":"RZiS!$X$100"},null,null,null,null,"Kwota",null,null,"jin:RZiSKalk//jin:K_II_J","dtsf:KwotaB1"]
[null,{"$f":"Adr_RZiS & \"!$X$101\"","v":"RZiS!$X$101"},null,null,null,null,"Kwota",null,null,"jin:RZiSKalk//jin:K_III","dtsf:KwotaB1"]
[null,{"$f":"Adr_RZiS & \"!$X$102\"","v":"RZiS!$X$102"},null,null,null,null,"Kwota",null,null,"jin:RZiSKalk//jin:K_IV","dtsf:KwotaB1"]
[null,{"$f":"Adr_RZiS & \"!$X$103\"","v":"RZiS!$X$103"},null,null,null,null,"Kwota",null,null,"jin:RZiSKalk//jin:L","dtsf:KwotaB1"]
[null,{"$f":"Adr_RZiS & \"!$X$104\"","v":"RZiS!$X$104"},null,null,null,null,"Kwota",null,null,"jin:RZiSKalk//jin:M","dtsf:KwotaB1"]
[null,{"$f":"Adr_RZiS & \"!$X$106\"","v":"RZiS!$X$106"},null,null,null,null,"Kwota",null,null,"jin:RZiSKalk//jin:N","dtsf:KwotaB1"]
[null,{"$f":"Adr_RZiS & \"!$X$107\"","v":"RZiS!$X$107"},null,null,null,null,"Kwota",null,null,"jin:RZiSKalk//jin:O","dtsf:KwotaB1"]
[]
[]
[null,{"$f":"Adr_RZiS & \"!$V$109\"","v":"RZiS!$V$109"},null,null,null,null,"Kwota",null,null,"jma:RZiSKalk//jma:A","dtsf:KwotaA"]
[null,{"$f":"Adr_RZiS & \"!$W$109\"","v":"RZiS!$W$109"},null,null,null,null,"Kwota",null,"","jma:RZiSKalk//jma:A","dtsf:KwotaB"]
[null,{"$f":"Adr_RZiS & \"!$V$110\"","v":"RZiS!$V$110"},null,null,null,null,"Kwota",null,null,"jma:RZiSKalk//jma:B","dtsf:KwotaA"]
[null,{"$f":"Adr_RZiS & \"!$W$110\"","v":"RZiS!$W$110"},null,null,null,null,"Kwota",null,null,"jma:RZiSKalk//jma:B","dtsf:KwotaB"]
[null,{"$f":"Adr_RZiS & \"!$V$111\"","v":"RZiS!$V$111"},null,null,null,null,"Kwota",null,null,"jma:RZiSKalk//jma:C","dtsf:KwotaA"]
[null,{"$f":"Adr_RZiS & \"!$W$111\"","v":"RZiS!$W$111"},null,null,null,null,"Kwota",null,null,"jma:RZiSKalk//jma:C","dtsf:KwotaB"]
[null,{"$f":"Adr_RZiS & \"!$V$112\"","v":"RZiS!$V$112"},null,null,null,null,"Kwota",null,null,"jma:RZiSKalk//jma:D","dtsf:KwotaA"]
[null,{"$f":"Adr_RZiS & \"!$W$112\"","v":"RZiS!$W$112"},null,null,null,null,"Kwota",null,null,"jma:RZiSKalk//jma:D","dtsf:KwotaB"]
[null,{"$f":"Adr_RZiS & \"!$V$113\"","v":"RZiS!$V$113"},null,null,null,null,"Kwota",null,"=V109-V110-V111-V112","jma:RZiSKalk//jma:E","dtsf:KwotaA"]
[null,{"$f":"Adr_RZiS & \"!$W$113\"","v":"RZiS!$W$113"},null,null,null,null,"Kwota",null,"=W109-W110-W111-W112","jma:RZiSKalk//jma:E","dtsf:KwotaB"]
[null,{"$f":"Adr_RZiS & \"!$V$114\"","v":"RZiS!$V$114"},null,null,null,null,"Kwota",null,null,"jma:RZiSKalk//jma:F","dtsf:KwotaA"]
[null,{"$f":"Adr_RZiS & \"!$W$114\"","v":"RZiS!$W$114"},null,null,null,null,"Kwota",null,null,"jma:RZiSKalk//jma:F","dtsf:KwotaB"]
[null,{"$f":"Adr_RZiS & \"!$V$115\"","v":"RZiS!$V$115"},null,null,null,null,"Kwota",null,null,"jma:RZiSKalk//jma:F_1","dtsf:KwotaA"]
[null,{"$f":"Adr_RZiS & \"!$W$115\"","v":"RZiS!$W$115"},null,null,null,null,"Kwota",null,null,"jma:RZiSKalk//jma:F_1","dtsf:KwotaB"]
[null,{"$f":"Adr_RZiS & \"!$V$116\"","v":"RZiS!$V$116"},null,null,null,null,"Kwota",null,null,"jma:RZiSKalk//jma:G","dtsf:KwotaA"]
[null,{"$f":"Adr_RZiS & \"!$W$116\"","v":"RZiS!$W$116"},null,null,null,null,"Kwota",null,null,"jma:RZiSKalk//jma:G","dtsf:KwotaB"]
[null,{"$f":"Adr_RZiS & \"!$V$117\"","v":"RZiS!$V$117"},null,null,null,null,"Kwota",null,null,"jma:RZiSKalk//jma:G_1","dtsf:KwotaA"]
[null,{"$f":"Adr_RZiS & \"!$W$117\"","v":"RZiS!$W$117"},null,null,null,null,"Kwota",null,null,"jma:RZiSKalk//jma:G_1","dtsf:KwotaB"]
[null,{"$f":"Adr_RZiS & \"!$V$118\"","v":"RZiS!$V$118"},null,null,null,null,"Kwota",null,null,"jma:RZiSKalk//jma:H","dtsf:KwotaA"]
[null,{"$f":"Adr_RZiS & \"!$W$118\"","v":"RZiS!$W$118"},null,null,null,null,"Kwota",null,null,"jma:RZiSKalk//jma:H","dtsf:KwotaB"]
[null,{"$f":"Adr_RZiS & \"!$V$119\"","v":"RZiS!$V$119"},null,null,null,null,"Kwota",null,null,"jma:RZiSKalk//jma:H_I","dtsf:KwotaA"]
[null,{"$f":"Adr_RZiS & \"!$W$119\"","v":"RZiS!$W$119"},null,null,null,null,"Kwota",null,null,"jma:RZiSKalk//jma:H_I","dtsf:KwotaB"]
[null,{"$f":"Adr_RZiS & \"!$V$120\"","v":"RZiS!$V$120"},null,null,null,null,"Kwota",null,null,"jma:RZiSKalk//jma:H_I_1","dtsf:KwotaA"]
[null,{"$f":"Adr_RZiS & \"!$W$120\"","v":"RZiS!$W$120"},null,null,null,null,"Kwota",null,null,"jma:RZiSKalk//jma:H_I_1","dtsf:KwotaB"]
[null,{"$f":"Adr_RZiS & \"!$V$121\"","v":"RZiS!$V$121"},null,null,null,null,"Kwota",null,null,"jma:RZiSKalk//jma:H_II","dtsf:KwotaA"]
[null,{"$f":"Adr_RZiS & \"!$W$121\"","v":"RZiS!$W$121"},null,null,null,null,"Kwota",null,null,"jma:RZiSKalk//jma:H_II","dtsf:KwotaB"]
[null,{"$f":"Adr_RZiS & \"!$V$122\"","v":"RZiS!$V$122"},null,null,null,null,"Kwota",null,null,"jma:RZiSKalk//jma:H_II_1","dtsf:KwotaA"]
[null,{"$f":"Adr_RZiS & \"!$W$122\"","v":"RZiS!$W$122"},null,null,null,null,"Kwota",null,null,"jma:RZiSKalk//jma:H_II_1","dtsf:KwotaB"]
[null,{"$f":"Adr_RZiS & \"!$V$123\"","v":"RZiS!$V$123"},null,null,null,null,"Kwota",null,null,"jma:RZiSKalk//jma:H_III","dtsf:KwotaA"]
[null,{"$f":"Adr_RZiS & \"!$W$123\"","v":"RZiS!$W$123"},null,null,null,null,"Kwota",null,null,"jma:RZiSKalk//jma:H_III","dtsf:KwotaB"]
[null,{"$f":"Adr_RZiS & \"!$V$124\"","v":"RZiS!$V$124"},null,null,null,null,"Kwota",null,null,"jma:RZiSKalk//jma:H_III_1","dtsf:KwotaA"]
[null,{"$f":"Adr_RZiS & \"!$W$124\"","v":"RZiS!$W$124"},null,null,null,null,"Kwota",null,null,"jma:RZiSKalk//jma:H_III_1","dtsf:KwotaB"]
[null,{"$f":"Adr_RZiS & \"!$V$125\"","v":"RZiS!$V$125"},null,null,null,null,"Kwota",null,null,"jma:RZiSKalk//jma:H_IV","dtsf:KwotaA"]
[null,{"$f":"Adr_RZiS & \"!$W$125\"","v":"RZiS!$W$125"},null,null,null,null,"Kwota",null,null,"jma:RZiSKalk//jma:H_IV","dtsf:KwotaB"]
[null,{"$f":"Adr_RZiS & \"!$V$126\"","v":"RZiS!$V$126"},null,null,null,null,"Kwota",null,null,"jma:RZiSKalk//jma:I","dtsf:KwotaA"]
[null,{"$f":"Adr_RZiS & \"!$W$126\"","v":"RZiS!$W$126"},null,null,null,null,"Kwota",null,null,"jma:RZiSKalk//jma:I","dtsf:KwotaB"]
[null,{"$f":"Adr_RZiS & \"!$V$127\"","v":"RZiS!$V$127"},null,null,null,null,"Kwota",null,null,"jma:RZiSKalk//jma:I_I","dtsf:KwotaA"]
[null,{"$f":"Adr_RZiS & \"!$W$127\"","v":"RZiS!$W$127"},null,null,null,null,"Kwota",null,null,"jma:RZiSKalk//jma:I_I","dtsf:KwotaB"]
[null,{"$f":"Adr_RZiS & \"!$V$128\"","v":"RZiS!$V$128"},null,null,null,null,"Kwota",null,null,"jma:RZiSKalk//jma:I_I_1","dtsf:KwotaA"]
[null,{"$f":"Adr_RZiS & \"!$W$128\"","v":"RZiS!$W$128"},null,null,null,null,"Kwota",null,null,"jma:RZiSKalk//jma:I_I_1","dtsf:KwotaB"]
[null,{"$f":"Adr_RZiS & \"!$V$129\"","v":"RZiS!$V$129"},null,null,null,null,"Kwota",null,null,"jma:RZiSKalk//jma:I_II","dtsf:KwotaA"]
[null,{"$f":"Adr_RZiS & \"!$W$129\"","v":"RZiS!$W$129"},null,null,null,null,"Kwota",null,null,"jma:RZiSKalk//jma:I_II","dtsf:KwotaB"]
[null,{"$f":"Adr_RZiS & \"!$V$130\"","v":"RZiS!$V$130"},null,null,null,null,"Kwota",null,null,"jma:RZiSKalk//jma:I_II_1","dtsf:KwotaA"]
[null,{"$f":"Adr_RZiS & \"!$W$130\"","v":"RZiS!$W$130"},null,null,null,null,"Kwota",null,null,"jma:RZiSKalk//jma:I_II_1","dtsf:KwotaB"]
[null,{"$f":"Adr_RZiS & \"!$V$131\"","v":"RZiS!$V$131"},null,null,null,null,"Kwota",null,null,"jma:RZiSKalk//jma:I_III","dtsf:KwotaA"]
[null,{"$f":"Adr_RZiS & \"!$W$131\"","v":"RZiS!$W$131"},null,null,null,null,"Kwota",null,null,"jma:RZiSKalk//jma:I_III","dtsf:KwotaB"]
[null,{"$f":"Adr_RZiS & \"!$V$132\"","v":"RZiS!$V$132"},null,null,null,null,"Kwota",null,"=V113+V114-V116+V118-V126","jma:RZiSKalk//jma:J","dtsf:KwotaA"]
[null,{"$f":"Adr_RZiS & \"!$W$132\"","v":"RZiS!$W$132"},null,null,null,null,"Kwota",null,"=W113+W114-W116+W118-W126","jma:RZiSKalk//jma:J","dtsf:KwotaB"]
[null,{"$f":"Adr_RZiS & \"!$V$133\"","v":"RZiS!$V$133"},null,null,null,null,"Kwota",null,null,"jma:RZiSKalk//jma:K","dtsf:KwotaA"]
[null,{"$f":"Adr_RZiS & \"!$W$133\"","v":"RZiS!$W$133"},null,null,null,null,"Kwota",null,null,"jma:RZiSKalk//jma:K","dtsf:KwotaB"]
[null,{"$f":"Adr_RZiS & \"!$O$134\"","v":"RZiS!$O$134"},{"$f":"IF(OR(ISNUMBER(INDIRECT(B1282)),ISNUMBER(INDIRECT(B1283)),ISNUMBER(INDIRECT(B1284))),\"ExportLabel\",\"\")","v":""},{"$f":"IF(C1281=\"\",\"ImportOnly\",\"\")","v":"ImportOnly"},null,"Label","Tekst",null,"=IF($N$134=\"\",\" – \") & SUBSTITUTE(teksty!D$356,\":\",\" \" & teksty!$D$668 & \":\")","jma:RZiSKalk//jma:K/dtsf:PozycjaUszczegolawiajaca[1]","dtsf:NazwaPozycji"]
[null,{"$f":"Adr_RZiS & \"!$V$134\"","v":"RZiS!$V$134"},null,null,null,null,"Kwota",null,null,"jma:RZiSKalk//jma:K/dtsf:PozycjaUszczegolawiajaca[1]/dtsf:KwotyPozycji","dtsf:KwotaA"]
[null,{"$f":"Adr_RZiS & \"!$W$134\"","v":"RZiS!$W$134"},null,null,null,null,"Kwota",null,null,"jma:RZiSKalk//jma:K/dtsf:PozycjaUszczegolawiajaca[1]/dtsf:KwotyPozycji","dtsf:KwotaB"]
[null,{"$f":"Adr_RZiS & \"!$X$134\"","v":"RZiS!$X$134"},null,null,null,null,"Kwota",null,null,"jma:RZiSKalk//jma:K/dtsf:PozycjaUszczegolawiajaca[1]/dtsf:KwotyPozycji","dtsf:KwotaB1"]
[null,{"$f":"Adr_RZiS & \"!$V$135\"","v":"RZiS!$V$135"},null,null,null,null,"Kwota",null,"=V132-V133","jma:RZiSKalk//jma:L","dtsf:KwotaA"]
[null,{"$f":"Adr_RZiS & \"!$W$135\"","v":"RZiS!$W$135"},null,null,null,null,"Kwota",null,"=W132-W133","jma:RZiSKalk//jma:L","dtsf:KwotaB"]
[]
[null,{"$f":"Adr_RZiS & \"!$X$109\"","v":"RZiS!$X$109"},null,null,null,null,"Kwota",null,null,"jma:RZiSKalk//jma:A","dtsf:KwotaB1"]
[null,{"$f":"Adr_RZiS & \"!$X$110\"","v":"RZiS!$X$110"},null,null,null,null,"Kwota",null,null,"jma:RZiSKalk//jma:B","dtsf:KwotaB1"]
[null,{"$f":"Adr_RZiS & \"!$X$111\"","v":"RZiS!$X$111"},null,null,null,null,"Kwota",null,null,"jma:RZiSKalk//jma:C","dtsf:KwotaB1"]
[null,{"$f":"Adr_RZiS & \"!$X$112\"","v":"RZiS!$X$112"},null,null,null,null,"Kwota",null,null,"jma:RZiSKalk//jma:D","dtsf:KwotaB1"]
[null,{"$f":"Adr_RZiS & \"!$X$113\"","v":"RZiS!$X$113"},null,null,null,null,"Kwota",null,null,"jma:RZiSKalk//jma:E","dtsf:KwotaB1"]
[null,{"$f":"Adr_RZiS & \"!$X$114\"","v":"RZiS!$X$114"},null,null,null,null,"Kwota",null,null,"jma:RZiSKalk//jma:F","dtsf:KwotaB1"]
[null,{"$f":"Adr_RZiS & \"!$X$115\"","v":"RZiS!$X$115"},null,null,null,null,"Kwota",null,null,"jma:RZiSKalk//jma:F_1","dtsf:KwotaB1"]
[null,{"$f":"Adr_RZiS & \"!$X$116\"","v":"RZiS!$X$116"},null,null,null,null,"Kwota",null,null,"jma:RZiSKalk//jma:G","dtsf:KwotaB1"]
[null,{"$f":"Adr_RZiS & \"!$X$117\"","v":"RZiS!$X$117"},null,null,null,null,"Kwota",null,null,"jma:RZiSKalk//jma:G_1","dtsf:KwotaB1"]
[null,{"$f":"Adr_RZiS & \"!$X$118\"","v":"RZiS!$X$118"},null,null,null,null,"Kwota",null,null,"jma:RZiSKalk//jma:H","dtsf:KwotaB1"]
[null,{"$f":"Adr_RZiS & \"!$X$119\"","v":"RZiS!$X$119"},null,null,null,null,"Kwota",null,null,"jma:RZiSKalk//jma:H_I","dtsf:KwotaB1"]
[null,{"$f":"Adr_RZiS & \"!$X$120\"","v":"RZiS!$X$120"},null,null,null,null,"Kwota",null,null,"jma:RZiSKalk//jma:H_I_1","dtsf:KwotaB1"]
[null,{"$f":"Adr_RZiS & \"!$X$121\"","v":"RZiS!$X$121"},null,null,null,null,"Kwota",null,null,"jma:RZiSKalk//jma:H_II","dtsf:KwotaB1"]
[null,{"$f":"Adr_RZiS & \"!$X$122\"","v":"RZiS!$X$122"},null,null,null,null,"Kwota",null,null,"jma:RZiSKalk//jma:H_II_1","dtsf:KwotaB1"]
[null,{"$f":"Adr_RZiS & \"!$X$123\"","v":"RZiS!$X$123"},null,null,null,null,"Kwota",null,null,"jma:RZiSKalk//jma:H_III","dtsf:KwotaB1"]
[null,{"$f":"Adr_RZiS & \"!$X$124\"","v":"RZiS!$X$124"},null,null,null,null,"Kwota",null,null,"jma:RZiSKalk//jma:H_III_1","dtsf:KwotaB1"]
[null,{"$f":"Adr_RZiS & \"!$X$125\"","v":"RZiS!$X$125"},null,null,null,null,"Kwota",null,null,"jma:RZiSKalk//jma:H_IV","dtsf:KwotaB1"]
[null,{"$f":"Adr_RZiS & \"!$X$126\"","v":"RZiS!$X$126"},null,null,null,null,"Kwota",null,null,"jma:RZiSKalk//jma:I","dtsf:KwotaB1"]
[null,{"$f":"Adr_RZiS & \"!$X$127\"","v":"RZiS!$X$127"},null,null,null,null,"Kwota",null,null,"jma:RZiSKalk//jma:I_I","dtsf:KwotaB1"]
[null,{"$f":"Adr_RZiS & \"!$X$128\"","v":"RZiS!$X$128"},null,null,null,null,"Kwota",null,null,"jma:RZiSKalk//jma:I_I_1","dtsf:KwotaB1"]
[null,{"$f":"Adr_RZiS & \"!$X$129\"","v":"RZiS!$X$129"},null,null,null,null,"Kwota",null,null,"jma:RZiSKalk//jma:I_II","dtsf:KwotaB1"]
[null,{"$f":"Adr_RZiS & \"!$X$130\"","v":"RZiS!$X$130"},null,null,null,null,"Kwota",null,null,"jma:RZiSKalk//jma:I_II_1","dtsf:KwotaB1"]
[null,{"$f":"Adr_RZiS & \"!$X$131\"","v":"RZiS!$X$131"},null,null,null,null,"Kwota",null,null,"jma:RZiSKalk//jma:I_III","dtsf:KwotaB1"]
[null,{"$f":"Adr_RZiS & \"!$X$132\"","v":"RZiS!$X$132"},null,null,null,null,"Kwota",null,null,"jma:RZiSKalk//jma:J","dtsf:KwotaB1"]
[null,{"$f":"Adr_RZiS & \"!$X$133\"","v":"RZiS!$X$133"},null,null,null,null,"Kwota",null,null,"jma:RZiSKalk//jma:K","dtsf:KwotaB1"]
[null,{"$f":"Adr_RZiS & \"!$X$135\"","v":"RZiS!$X$135"},null,null,null,null,"Kwota",null,null,"jma:RZiSKalk//jma:L","dtsf:KwotaB1"]
[]
[null,{"$f":"Adr_RZiS & \"!$V$137\"","v":"RZiS!$V$137"},null,null,null,null,"Kwota",null,"*Sum","jma:RZiSPor//jma:A","dtsf:KwotaA"]
[null,{"$f":"Adr_RZiS & \"!$W$137\"","v":"RZiS!$W$137"},null,null,null,null,"Kwota",null,"*Sum","jma:RZiSPor//jma:A","dtsf:KwotaB"]
[null,{"$f":"Adr_RZiS & \"!$V$138\"","v":"RZiS!$V$138"},null,null,null,null,"Kwota",null,null,"jma:RZiSPor//jma:A_I","dtsf:KwotaA"]
[null,{"$f":"Adr_RZiS & \"!$W$138\"","v":"RZiS!$W$138"},null,null,null,null,"Kwota",null,null,"jma:RZiSPor//jma:A_I","dtsf:KwotaB"]
[null,{"$f":"Adr_RZiS & \"!$V$139\"","v":"RZiS!$V$139"},null,null,null,null,"Kwota",null,null,"jma:RZiSPor//jma:A_II","dtsf:KwotaA"]
[null,{"$f":"Adr_RZiS & \"!$W$139\"","v":"RZiS!$W$139"},null,null,null,null,"Kwota",null,null,"jma:RZiSPor//jma:A_II","dtsf:KwotaB"]
[null,{"$f":"Adr_RZiS & \"!$V$140\"","v":"RZiS!$V$140"},null,null,null,null,"Kwota",null,null,"jma:RZiSPor//jma:A_III","dtsf:KwotaA"]
[null,{"$f":"Adr_RZiS & \"!$W$140\"","v":"RZiS!$W$140"},null,null,null,null,"Kwota",null,null,"jma:RZiSPor//jma:A_III","dtsf:KwotaB"]
[null,{"$f":"Adr_RZiS & \"!$V$141\"","v":"RZiS!$V$141"},null,null,null,null,"Kwota",null,"*Sum","jma:RZiSPor//jma:B","dtsf:KwotaA"]
[null,{"$f":"Adr_RZiS & \"!$W$141\"","v":"RZiS!$W$141"},null,null,null,null,"Kwota",null,"*Sum","jma:RZiSPor//jma:B","dtsf:KwotaB"]
[null,{"$f":"Adr_RZiS & \"!$V$142\"","v":"RZiS!$V$142"},null,null,null,null,"Kwota",null,null,"jma:RZiSPor//jma:B_I","dtsf:KwotaA"]
[null,{"$f":"Adr_RZiS & \"!$W$142\"","v":"RZiS!$W$142"},null,null,null,null,"Kwota",null,null,"jma:RZiSPor//jma:B_I","dtsf:KwotaB"]
[null,{"$f":"Adr_RZiS & \"!$V$143\"","v":"RZiS!$V$143"},null,null,null,null,"Kwota",null,null,"jma:RZiSPor//jma:B_II","dtsf:KwotaA"]
[null,{"$f":"Adr_RZiS & \"!$W$143\"","v":"RZiS!$W$143"},null,null,null,null,"Kwota",null,null,"jma:RZiSPor//jma:B_II","dtsf:KwotaB"]
[null,{"$f":"Adr_RZiS & \"!$V$144\"","v":"RZiS!$V$144"},null,null,null,null,"Kwota",null,null,"jma:RZiSPor//jma:B_III","dtsf:KwotaA"]
[null,{"$f":"Adr_RZiS & \"!$W$144\"","v":"RZiS!$W$144"},null,null,null,null,"Kwota",null,null,"jma:RZiSPor//jma:B_III","dtsf:KwotaB"]
[null,{"$f":"Adr_RZiS & \"!$V$145\"","v":"RZiS!$V$145"},null,null,null,null,"Kwota",null,null,"jma:RZiSPor//jma:B_IV","dtsf:KwotaA"]
[null,{"$f":"Adr_RZiS & \"!$W$145\"","v":"RZiS!$W$145"},null,null,null,null,"Kwota",null,null,"jma:RZiSPor//jma:B_IV","dtsf:KwotaB"]
[null,{"$f":"Adr_RZiS & \"!$V$146\"","v":"RZiS!$V$146"},null,null,null,null,"Kwota",null,null,"jma:RZiSPor//jma:B_V","dtsf:KwotaA"]
[null,{"$f":"Adr_RZiS & \"!$W$146\"","v":"RZiS!$W$146"},null,null,null,null,"Kwota",null,null,"jma:RZiSPor//jma:B_V","dtsf:KwotaB"]
[null,{"$f":"Adr_RZiS & \"!$V$147\"","v":"RZiS!$V$147"},null,null,null,null,"Kwota",null,null,"jma:RZiSPor//jma:B_V_1","dtsf:KwotaA"]
[null,{"$f":"Adr_RZiS & \"!$W$147\"","v":"RZiS!$W$147"},null,null,null,null,"Kwota",null,null,"jma:RZiSPor//jma:B_V_1","dtsf:KwotaB"]
[null,{"$f":"Adr_RZiS & \"!$V$148\"","v":"RZiS!$V$148"},null,null,null,null,"Kwota",null,null,"jma:RZiSPor//jma:B_VI","dtsf:KwotaA"]
[null,{"$f":"Adr_RZiS & \"!$W$148\"","v":"RZiS!$W$148"},null,null,null,null,"Kwota",null,null,"jma:RZiSPor//jma:B_VI","dtsf:KwotaB"]
[null,{"$f":"Adr_RZiS & \"!$V$149\"","v":"RZiS!$V$149"},null,null,null,null,"Kwota",null,null,"jma:RZiSPor//jma:B_VI_1","dtsf:KwotaA"]
[null,{"$f":"Adr_RZiS & \"!$W$149\"","v":"RZiS!$W$149"},null,null,null,null,"Kwota",null,null,"jma:RZiSPor//jma:B_VI_1","dtsf:KwotaB"]
[null,{"$f":"Adr_RZiS & \"!$V$150\"","v":"RZiS!$V$150"},null,null,null,null,"Kwota",null,"=V137-V141","jma:RZiSPor//jma:C","dtsf:KwotaA"]
[null,{"$f":"Adr_RZiS & \"!$W$150\"","v":"RZiS!$W$150"},null,null,null,null,"Kwota",null,"=W137-W141","jma:RZiSPor//jma:C","dtsf:KwotaB"]
[null,{"$f":"Adr_RZiS & \"!$V$151\"","v":"RZiS!$V$151"},null,null,null,null,"Kwota",null,null,"jma:RZiSPor//jma:D","dtsf:KwotaA"]
[null,{"$f":"Adr_RZiS & \"!$W$151\"","v":"RZiS!$W$151"},null,null,null,null,"Kwota",null,null,"jma:RZiSPor//jma:D","dtsf:KwotaB"]
[null,{"$f":"Adr_RZiS & \"!$V$152\"","v":"RZiS!$V$152"},null,null,null,null,"Kwota",null,null,"jma:RZiSPor//jma:D_1","dtsf:KwotaA"]
[null,{"$f":"Adr_RZiS & \"!$W$152\"","v":"RZiS!$W$152"},null,null,null,null,"Kwota",null,null,"jma:RZiSPor//jma:D_1","dtsf:KwotaB"]
[null,{"$f":"Adr_RZiS & \"!$V$153\"","v":"RZiS!$V$153"},null,null,null,null,"Kwota",null,null,"jma:RZiSPor//jma:E","dtsf:KwotaA"]
[null,{"$f":"Adr_RZiS & \"!$W$153\"","v":"RZiS!$W$153"},null,null,null,null,"Kwota",null,null,"jma:RZiSPor//jma:E","dtsf:KwotaB"]
[null,{"$f":"Adr_RZiS & \"!$V$154\"","v":"RZiS!$V$154"},null,null,null,null,"Kwota",null,null,"jma:RZiSPor//jma:E_1","dtsf:KwotaA"]
[null,{"$f":"Adr_RZiS & \"!$W$154\"","v":"RZiS!$W$154"},null,null,null,null,"Kwota",null,null,"jma:RZiSPor//jma:E_1","dtsf:KwotaB"]
[null,{"$f":"Adr_RZiS & \"!$V$155\"","v":"RZiS!$V$155"},null,null,null,null,"Kwota",null,null,"jma:RZiSPor//jma:F","dtsf:KwotaA"]
[null,{"$f":"Adr_RZiS & \"!$W$155\"","v":"RZiS!$W$155"},null,null,null,null,"Kwota",null,null,"jma:RZiSPor//jma:F","dtsf:KwotaB"]
[null,{"$f":"Adr_RZiS & \"!$V$156\"","v":"RZiS!$V$156"},null,null,null,null,"Kwota",null,null,"jma:RZiSPor//jma:F_I","dtsf:KwotaA"]
[null,{"$f":"Adr_RZiS & \"!$W$156\"","v":"RZiS!$W$156"},null,null,null,null,"Kwota",null,null,"jma:RZiSPor//jma:F_I","dtsf:KwotaB"]
[null,{"$f":"Adr_RZiS & \"!$V$157\"","v":"RZiS!$V$157"},null,null,null,null,"Kwota",null,null,"jma:RZiSPor//jma:F_I_1","dtsf:KwotaA"]
[null,{"$f":"Adr_RZiS & \"!$W$157\"","v":"RZiS!$W$157"},null,null,null,null,"Kwota",null,null,"jma:RZiSPor//jma:F_I_1","dtsf:KwotaB"]
[null,{"$f":"Adr_RZiS & \"!$V$158\"","v":"RZiS!$V$158"},null,null,null,null,"Kwota",null,null,"jma:RZiSPor//jma:F_II","dtsf:KwotaA"]
[null,{"$f":"Adr_RZiS & \"!$W$158\"","v":"RZiS!$W$158"},null,null,null,null,"Kwota",null,null,"jma:RZiSPor//jma:F_II","dtsf:KwotaB"]
[null,{"$f":"Adr_RZiS & \"!$V$159\"","v":"RZiS!$V$159"},null,null,null,null,"Kwota",null,null,"jma:RZiSPor//jma:F_II_1","dtsf:KwotaA"]
[null,{"$f":"Adr_RZiS & \"!$W$159\"","v":"RZiS!$W$159"},null,null,null,null,"Kwota",null,null,"jma:RZiSPor//jma:F_II_1","dtsf:KwotaB"]
[null,{"$f":"Adr_RZiS & \"!$V$160\"","v":"RZiS!$V$160"},null,null,null,null,"Kwota",null,null,"jma:RZiSPor//jma:F_III","dtsf:KwotaA"]
[null,{"$f":"Adr_RZiS & \"!$W$160\"","v":"RZiS!$W$160"},null,null,null,null,"Kwota",null,null,"jma:RZiSPor//jma:F_III","dtsf:KwotaB"]
[null,{"$f":"Adr_RZiS & \"!$V$161\"","v":"RZiS!$V$161"},null,null,null,null,"Kwota",null,null,"jma:RZiSPor//jma:F_III_1","dtsf:KwotaA"]
[null,{"$f":"Adr_RZiS & \"!$W$161\"","v":"RZiS!$W$161"},null,null,null,null,"Kwota",null,null,"jma:RZiSPor//jma:F_III_1","dtsf:KwotaB"]
[null,{"$f":"Adr_RZiS & \"!$V$162\"","v":"RZiS!$V$162"},null,null,null,null,"Kwota",null,null,"jma:RZiSPor//jma:F_IV","dtsf:KwotaA"]
[null,{"$f":"Adr_RZiS & \"!$W$162\"","v":"RZiS!$W$162"},null,null,null,null,"Kwota",null,null,"jma:RZiSPor//jma:F_IV","dtsf:KwotaB"]
[null,{"$f":"Adr_RZiS & \"!$V$163\"","v":"RZiS!$V$163"},null,null,null,null,"Kwota",null,null,"jma:RZiSPor//jma:G","dtsf:KwotaA"]
[null,{"$f":"Adr_RZiS & \"!$W$163\"","v":"RZiS!$W$163"},null,null,null,null,"Kwota",null,null,"jma:RZiSPor//jma:G","dtsf:KwotaB"]
[null,{"$f":"Adr_RZiS & \"!$V$164\"","v":"RZiS!$V$164"},null,null,null,null,"Kwota",null,null,"jma:RZiSPor//jma:G_I","dtsf:KwotaA"]
[null,{"$f":"Adr_RZiS & \"!$W$164\"","v":"RZiS!$W$164"},null,null,null,null,"Kwota",null,null,"jma:RZiSPor//jma:G_I","dtsf:KwotaB"]
[null,{"$f":"Adr_RZiS & \"!$V$165\"","v":"RZiS!$V$165"},null,null,null,null,"Kwota",null,null,"jma:RZiSPor//jma:G_I_1","dtsf:KwotaA"]
[null,{"$f":"Adr_RZiS & \"!$W$165\"","v":"RZiS!$W$165"},null,null,null,null,"Kwota",null,null,"jma:RZiSPor//jma:G_I_1","dtsf:KwotaB"]
[null,{"$f":"Adr_RZiS & \"!$V$166\"","v":"RZiS!$V$166"},null,null,null,null,"Kwota",null,null,"jma:RZiSPor//jma:G_II","dtsf:KwotaA"]
[null,{"$f":"Adr_RZiS & \"!$W$166\"","v":"RZiS!$W$166"},null,null,null,null,"Kwota",null,null,"jma:RZiSPor//jma:G_II","dtsf:KwotaB"]
[null,{"$f":"Adr_RZiS & \"!$V$167\"","v":"RZiS!$V$167"},null,null,null,null,"Kwota",null,null,"jma:RZiSPor//jma:G_II_1","dtsf:KwotaA"]
[null,{"$f":"Adr_RZiS & \"!$W$167\"","v":"RZiS!$W$167"},null,null,null,null,"Kwota",null,null,"jma:RZiSPor//jma:G_II_1","dtsf:KwotaB"]
[null,{"$f":"Adr_RZiS & \"!$V$168\"","v":"RZiS!$V$168"},null,null,null,null,"Kwota",null,null,"jma:RZiSPor//jma:G_III","dtsf:KwotaA"]
[null,{"$f":"Adr_RZiS & \"!$W$168\"","v":"RZiS!$W$168"},null,null,null,null,"Kwota",null,null,"jma:RZiSPor//jma:G_III","dtsf:KwotaB"]
[null,{"$f":"Adr_RZiS & \"!$V$170\"","v":"RZiS!$V$170"},null,null,null,null,"Kwota",null,"=V150+V151-V153+V155-V163","jma:RZiSPor//jma:H","dtsf:KwotaA"]
[null,{"$f":"Adr_RZiS & \"!$W$170\"","v":"RZiS!$W$170"},null,null,null,null,"Kwota",null,"=W150+W151-W153+W155-W163","jma:RZiSPor//jma:H","dtsf:KwotaB"]
[null,{"$f":"Adr_RZiS & \"!$V$171\"","v":"RZiS!$V$171"},null,null,null,null,"Kwota",null,null,"jma:RZiSPor//jma:I","dtsf:KwotaA"]
[null,{"$f":"Adr_RZiS & \"!$W$171\"","v":"RZiS!$W$171"},null,null,null,null,"Kwota",null,null,"jma:RZiSPor//jma:I","dtsf:KwotaB"]
[null,{"$f":"Adr_RZiS & \"!$O$172\"","v":"RZiS!$O$172"},{"$f":"IF(OR(ISNUMBER(INDIRECT(B1384)),ISNUMBER(INDIRECT(B1385)),ISNUMBER(INDIRECT(B1386))),\"ExportLabel\",\"\")","v":""},{"$f":"IF(C1383=\"\",\"ImportOnly\",\"\")","v":"ImportOnly"},null,"Label","Tekst",null,"=IF($N$172=\"\",\" – \") & SUBSTITUTE(teksty!D$356,\":\",\" \" & teksty!$D$668 & \":\")","jma:RZiSPor//jma:I/dtsf:PozycjaUszczegolawiajaca[1]","dtsf:NazwaPozycji"]
[null,{"$f":"Adr_RZiS & \"!$V$172\"","v":"RZiS!$V$172"},null,null,null,null,"Kwota",null,null,"jma:RZiSPor//jma:I/dtsf:PozycjaUszczegolawiajaca[1]/dtsf:KwotyPozycji","dtsf:KwotaA"]
[null,{"$f":"Adr_RZiS & \"!$W$172\"","v":"RZiS!$W$172"},null,null,null,null,"Kwota",null,null,"jma:RZiSPor//jma:I/dtsf:PozycjaUszczegolawiajaca[1]/dtsf:KwotyPozycji","dtsf:KwotaB"]
[null,{"$f":"Adr_RZiS & \"!$X$172\"","v":"RZiS!$X$172"},null,null,null,null,"Kwota",null,null,"jma:RZiSPor//jma:I/dtsf:PozycjaUszczegolawiajaca[1]/dtsf:KwotyPozycji","dtsf:KwotaB1"]
[null,{"$f":"Adr_RZiS & \"!$V$173\"","v":"RZiS!$V$173"},null,null,null,null,"Kwota",null,"=V170-V171","jma:RZiSPor//jma:J","dtsf:KwotaA"]
[null,{"$f":"Adr_RZiS & \"!$W$173\"","v":"RZiS!$W$173"},null,null,null,null,"Kwota",null,"=W170-W171","jma:RZiSPor//jma:J","dtsf:KwotaB"]
[]
[null,{"$f":"Adr_RZiS & \"!$X$137\"","v":"RZiS!$X$137"},null,null,null,null,"Kwota",null,null,"jma:RZiSPor//jma:A","dtsf:KwotaB1"]
[null,{"$f":"Adr_RZiS & \"!$X$138\"","v":"RZiS!$X$138"},null,null,null,null,"Kwota",null,null,"jma:RZiSPor//jma:A_I","dtsf:KwotaB1"]
[null,{"$f":"Adr_RZiS & \"!$X$139\"","v":"RZiS!$X$139"},null,null,null,null,"Kwota",null,null,"jma:RZiSPor//jma:A_II","dtsf:KwotaB1"]
[null,{"$f":"Adr_RZiS & \"!$X$140\"","v":"RZiS!$X$140"},null,null,null,null,"Kwota",null,null,"jma:RZiSPor//jma:A_III","dtsf:KwotaB1"]
[null,{"$f":"Adr_RZiS & \"!$X$141\"","v":"RZiS!$X$141"},null,null,null,null,"Kwota",null,null,"jma:RZiSPor//jma:B","dtsf:KwotaB1"]
[null,{"$f":"Adr_RZiS & \"!$X$142\"","v":"RZiS!$X$142"},null,null,null,null,"Kwota",null,null,"jma:RZiSPor//jma:B_I","dtsf:KwotaB1"]
[null,{"$f":"Adr_RZiS & \"!$X$143\"","v":"RZiS!$X$143"},null,null,null,null,"Kwota",null,null,"jma:RZiSPor//jma:B_II","dtsf:KwotaB1"]
[null,{"$f":"Adr_RZiS & \"!$X$144\"","v":"RZiS!$X$144"},null,null,null,null,"Kwota",null,null,"jma:RZiSPor//jma:B_III","dtsf:KwotaB1"]
[null,{"$f":"Adr_RZiS & \"!$X$145\"","v":"RZiS!$X$145"},null,null,null,null,"Kwota",null,null,"jma:RZiSPor//jma:B_IV","dtsf:KwotaB1"]
[null,{"$f":"Adr_RZiS & \"!$X$146\"","v":"RZiS!$X$146"},null,null,null,null,"Kwota",null,null,"jma:RZiSPor//jma:B_V","dtsf:KwotaB1"]
[null,{"$f":"Adr_RZiS & \"!$X$147\"","v":"RZiS!$X$147"},null,null,null,null,"Kwota",null,null,"jma:RZiSPor//jma:B_V_1","dtsf:KwotaB1"]
[null,{"$f":"Adr_RZiS & \"!$X$148\"","v":"RZiS!$X$148"},null,null,null,null,"Kwota",null,null,"jma:RZiSPor//jma:B_VI","dtsf:KwotaB1"]
[null,{"$f":"Adr_RZiS & \"!$X$149\"","v":"RZiS!$X$149"},null,null,null,null,"Kwota",null,null,"jma:RZiSPor//jma:B_VI_1","dtsf:KwotaB1"]
[null,{"$f":"Adr_RZiS & \"!$X$150\"","v":"RZiS!$X$150"},null,null,null,null,"Kwota",null,null,"jma:RZiSPor//jma:C","dtsf:KwotaB1"]
[null,{"$f":"Adr_RZiS & \"!$X$151\"","v":"RZiS!$X$151"},null,null,null,null,"Kwota",null,null,"jma:RZiSPor//jma:D","dtsf:KwotaB1"]
[null,{"$f":"Adr_RZiS & \"!$X$152\"","v":"RZiS!$X$152"},null,null,null,null,"Kwota",null,null,"jma:RZiSPor//jma:D_1","dtsf:KwotaB1"]
[null,{"$f":"Adr_RZiS & \"!$X$153\"","v":"RZiS!$X$153"},null,null,null,null,"Kwota",null,null,"jma:RZiSPor//jma:E","dtsf:KwotaB1"]
[null,{"$f":"Adr_RZiS & \"!$X$154\"","v":"RZiS!$X$154"},null,null,null,null,"Kwota",null,null,"jma:RZiSPor//jma:E_1","dtsf:KwotaB1"]
[null,{"$f":"Adr_RZiS & \"!$X$155\"","v":"RZiS!$X$155"},null,null,null,null,"Kwota",null,null,"jma:RZiSPor//jma:F","dtsf:KwotaB1"]
[null,{"$f":"Adr_RZiS & \"!$X$156\"","v":"RZiS!$X$156"},null,null,null,null,"Kwota",null,null,"jma:RZiSPor//jma:F_I","dtsf:KwotaB1"]
[null,{"$f":"Adr_RZiS & \"!$X$157\"","v":"RZiS!$X$157"},null,null,null,null,"Kwota",null,null,"jma:RZiSPor//jma:F_I_1","dtsf:KwotaB1"]
[null,{"$f":"Adr_RZiS & \"!$X$158\"","v":"RZiS!$X$158"},null,null,null,null,"Kwota",null,null,"jma:RZiSPor//jma:F_II","dtsf:KwotaB1"]
[null,{"$f":"Adr_RZiS & \"!$X$159\"","v":"RZiS!$X$159"},null,null,null,null,"Kwota",null,null,"jma:RZiSPor//jma:F_II_1","dtsf:KwotaB1"]
[null,{"$f":"Adr_RZiS & \"!$X$160\"","v":"RZiS!$X$160"},null,null,null,null,"Kwota",null,null,"jma:RZiSPor//jma:F_III","dtsf:KwotaB1"]
[null,{"$f":"Adr_RZiS & \"!$X$161\"","v":"RZiS!$X$161"},null,null,null,null,"Kwota",null,null,"jma:RZiSPor//jma:F_III_1","dtsf:KwotaB1"]
[null,{"$f":"Adr_RZiS & \"!$X$162\"","v":"RZiS!$X$162"},null,null,null,null,"Kwota",null,null,"jma:RZiSPor//jma:F_IV","dtsf:KwotaB1"]
[null,{"$f":"Adr_RZiS & \"!$X$163\"","v":"RZiS!$X$163"},null,null,null,null,"Kwota",null,null,"jma:RZiSPor//jma:G","dtsf:KwotaB1"]
[null,{"$f":"Adr_RZiS & \"!$X$164\"","v":"RZiS!$X$164"},null,null,null,null,"Kwota",null,null,"jma:RZiSPor//jma:G_I","dtsf:KwotaB1"]
[null,{"$f":"Adr_RZiS & \"!$X$165\"","v":"RZiS!$X$165"},null,null,null,null,"Kwota",null,null,"jma:RZiSPor//jma:G_I_1","dtsf:KwotaB1"]
[null,{"$f":"Adr_RZiS & \"!$X$166\"","v":"RZiS!$X$166"},null,null,null,null,"Kwota",null,null,"jma:RZiSPor//jma:G_II","dtsf:KwotaB1"]
[null,{"$f":"Adr_RZiS & \"!$X$167\"","v":"RZiS!$X$167"},null,null,null,null,"Kwota",null,null,"jma:RZiSPor//jma:G_II_1","dtsf:KwotaB1"]
[null,{"$f":"Adr_RZiS & \"!$X$168\"","v":"RZiS!$X$168"},null,null,null,null,"Kwota",null,null,"jma:RZiSPor//jma:G_III","dtsf:KwotaB1"]
[null,{"$f":"Adr_RZiS & \"!$X$170\"","v":"RZiS!$X$170"},null,null,null,null,"Kwota",null,null,"jma:RZiSPor//jma:H","dtsf:KwotaB1"]
[null,{"$f":"Adr_RZiS & \"!$X$171\"","v":"RZiS!$X$171"},null,null,null,null,"Kwota",null,null,"jma:RZiSPor//jma:I","dtsf:KwotaB1"]
[null,{"$f":"Adr_RZiS & \"!$X$173\"","v":"RZiS!$X$173"},null,null,null,null,"Kwota",null,null,"jma:RZiSPor//jma:J","dtsf:KwotaB1"]
[]
[]
[null,{"$f":"Adr_RZiS & \"!$V$177\"","v":"RZiS!$V$177"},null,null,null,null,"Kwota",null,"*Sum","sf:RZiSJednostkaOp//jop:A","dtsf:KwotaA"]
[null,{"$f":"Adr_RZiS & \"!$W$177\"","v":"RZiS!$W$177"},null,null,null,null,"Kwota",null,"*Sum","sf:RZiSJednostkaOp//jop:A","dtsf:KwotaB"]
[null,{"$f":"Adr_RZiS & \"!$V$178\"","v":"RZiS!$V$178"},null,null,null,null,"Kwota",null,null,"sf:RZiSJednostkaOp//jop:A_I","dtsf:KwotaA"]
[null,{"$f":"Adr_RZiS & \"!$W$178\"","v":"RZiS!$W$178"},null,null,null,null,"Kwota",null,null,"sf:RZiSJednostkaOp//jop:A_I","dtsf:KwotaB"]
[null,{"$f":"Adr_RZiS & \"!$V$179\"","v":"RZiS!$V$179"},null,null,null,null,"Kwota",null,null,"sf:RZiSJednostkaOp//jop:A_II","dtsf:KwotaA"]
[null,{"$f":"Adr_RZiS & \"!$W$179\"","v":"RZiS!$W$179"},null,null,null,null,"Kwota",null,null,"sf:RZiSJednostkaOp//jop:A_II","dtsf:KwotaB"]
[null,{"$f":"Adr_RZiS & \"!$V$180\"","v":"RZiS!$V$180"},null,null,null,null,"Kwota",null,null,"sf:RZiSJednostkaOp//jop:A_III","dtsf:KwotaA"]
[null,{"$f":"Adr_RZiS & \"!$W$180\"","v":"RZiS!$W$180"},null,null,null,null,"Kwota",null,null,"sf:RZiSJednostkaOp//jop:A_III","dtsf:KwotaB"]
[null,{"$f":"Adr_RZiS & \"!$V$181\"","v":"RZiS!$V$181"},null,null,null,null,"Kwota",null,"*Sum","sf:RZiSJednostkaOp//jop:B","dtsf:KwotaA"]
[null,{"$f":"Adr_RZiS & \"!$W$181\"","v":"RZiS!$W$181"},null,null,null,null,"Kwota",null,"*Sum","sf:RZiSJednostkaOp//jop:B","dtsf:KwotaB"]
[null,{"$f":"Adr_RZiS & \"!$V$182\"","v":"RZiS!$V$182"},null,null,null,null,"Kwota",null,null,"sf:RZiSJednostkaOp//jop:B_I","dtsf:KwotaA"]
[null,{"$f":"Adr_RZiS & \"!$W$182\"","v":"RZiS!$W$182"},null,null,null,null,"Kwota",null,null,"sf:RZiSJednostkaOp//jop:B_I","dtsf:KwotaB"]
[null,{"$f":"Adr_RZiS & \"!$V$183\"","v":"RZiS!$V$183"},null,null,null,null,"Kwota",null,null,"sf:RZiSJednostkaOp//jop:B_II","dtsf:KwotaA"]
[null,{"$f":"Adr_RZiS & \"!$W$183\"","v":"RZiS!$W$183"},null,null,null,null,"Kwota",null,null,"sf:RZiSJednostkaOp//jop:B_II","dtsf:KwotaB"]
[null,{"$f":"Adr_RZiS & \"!$V$184\"","v":"RZiS!$V$184"},null,null,null,null,"Kwota",null,null,"sf:RZiSJednostkaOp//jop:B_III","dtsf:KwotaA"]
[null,{"$f":"Adr_RZiS & \"!$W$184\"","v":"RZiS!$W$184"},null,null,null,null,"Kwota",null,null,"sf:RZiSJednostkaOp//jop:B_III","dtsf:KwotaB"]
[null,{"$f":"Adr_RZiS & \"!$V$185\"","v":"RZiS!$V$185"},null,null,null,null,"Kwota",null,"=V177-V181","sf:RZiSJednostkaOp//jop:C","dtsf:KwotaA"]
[null,{"$f":"Adr_RZiS & \"!$W$185\"","v":"RZiS!$W$185"},null,null,null,null,"Kwota",null,"=W177-W181","sf:RZiSJednostkaOp//jop:C","dtsf:KwotaB"]
[null,{"$f":"Adr_RZiS & \"!$V$186\"","v":"RZiS!$V$186"},null,null,null,null,"Kwota",null,null,"sf:RZiSJednostkaOp//jop:D","dtsf:KwotaA"]
[null,{"$f":"Adr_RZiS & \"!$W$186\"","v":"RZiS!$W$186"},null,null,null,null,"Kwota",null,null,"sf:RZiSJednostkaOp//jop:D","dtsf:KwotaB"]
[null,{"$f":"Adr_RZiS & \"!$V$187\"","v":"RZiS!$V$187"},null,null,null,null,"Kwota",null,null,"sf:RZiSJednostkaOp//jop:E","dtsf:KwotaA"]
[null,{"$f":"Adr_RZiS & \"!$W$187\"","v":"RZiS!$W$187"},null,null,null,null,"Kwota",null,null,"sf:RZiSJednostkaOp//jop:E","dtsf:KwotaB"]
[null,{"$f":"Adr_RZiS & \"!$V$188\"","v":"RZiS!$V$188"},null,null,null,null,"Kwota",null,"=V186-V187","sf:RZiSJednostkaOp//jop:F","dtsf:KwotaA"]
[null,{"$f":"Adr_RZiS & \"!$W$188\"","v":"RZiS!$W$188"},null,null,null,null,"Kwota",null,"=W186-W187","sf:RZiSJednostkaOp//jop:F","dtsf:KwotaB"]
[null,{"$f":"Adr_RZiS & \"!$V$189\"","v":"RZiS!$V$189"},null,null,null,null,"Kwota",null,null,"sf:RZiSJednostkaOp//jop:G","dtsf:KwotaA"]
[null,{"$f":"Adr_RZiS & \"!$W$189\"","v":"RZiS!$W$189"},null,null,null,null,"Kwota",null,null,"sf:RZiSJednostkaOp//jop:G","dtsf:KwotaB"]
[null,{"$f":"Adr_RZiS & \"!$V$190\"","v":"RZiS!$V$190"},null,null,null,null,"Kwota",null,"=V185+V188-V189","sf:RZiSJednostkaOp//jop:H","dtsf:KwotaA"]
[null,{"$f":"Adr_RZiS & \"!$W$190\"","v":"RZiS!$W$190"},null,null,null,null,"Kwota",null,"=W185+W188-W189","sf:RZiSJednostkaOp//jop:H","dtsf:KwotaB"]
[null,{"$f":"Adr_RZiS & \"!$V$191\"","v":"RZiS!$V$191"},null,null,null,null,"Kwota",null,null,"sf:RZiSJednostkaOp//jop:I","dtsf:KwotaA"]
[null,{"$f":"Adr_RZiS & \"!$W$191\"","v":"RZiS!$W$191"},null,null,null,null,"Kwota",null,null,"sf:RZiSJednostkaOp//jop:I","dtsf:KwotaB"]
[null,{"$f":"Adr_RZiS & \"!$V$192\"","v":"RZiS!$V$192"},null,null,null,null,"Kwota",null,null,"sf:RZiSJednostkaOp//jop:J","dtsf:KwotaA"]
[null,{"$f":"Adr_RZiS & \"!$W$192\"","v":"RZiS!$W$192"},null,null,null,null,"Kwota",null,null,"sf:RZiSJednostkaOp//jop:J","dtsf:KwotaB"]
[null,{"$f":"Adr_RZiS & \"!$V$193\"","v":"RZiS!$V$193"},null,null,null,null,"Kwota",null,null,"sf:RZiSJednostkaOp//jop:K","dtsf:KwotaA"]
[null,{"$f":"Adr_RZiS & \"!$W$193\"","v":"RZiS!$W$193"},null,null,null,null,"Kwota",null,null,"sf:RZiSJednostkaOp//jop:K","dtsf:KwotaB"]
[null,{"$f":"Adr_RZiS & \"!$V$194\"","v":"RZiS!$V$194"},null,null,null,null,"Kwota",null,null,"sf:RZiSJednostkaOp//jop:L","dtsf:KwotaA"]
[null,{"$f":"Adr_RZiS & \"!$W$194\"","v":"RZiS!$W$194"},null,null,null,null,"Kwota",null,null,"sf:RZiSJednostkaOp//jop:L","dtsf:KwotaB"]
[null,{"$f":"Adr_RZiS & \"!$V$195\"","v":"RZiS!$V$195"},null,null,null,null,"Kwota",null,"=V190+V191-V192+V193-V194","sf:RZiSJednostkaOp//jop:M","dtsf:KwotaA"]
[null,{"$f":"Adr_RZiS & \"!$W$195\"","v":"RZiS!$W$195"},null,null,null,null,"Kwota",null,"=W190+W191-W192+W193-W194","sf:RZiSJednostkaOp//jop:M","dtsf:KwotaB"]
[null,{"$f":"Adr_RZiS & \"!$V$196\"","v":"RZiS!$V$196"},null,null,null,null,"Kwota",null,null,"sf:RZiSJednostkaOp//jop:N","dtsf:KwotaA"]
[null,{"$f":"Adr_RZiS & \"!$W$196\"","v":"RZiS!$W$196"},null,null,null,null,"Kwota",null,null,"sf:RZiSJednostkaOp//jop:N","dtsf:KwotaB"]
[null,{"$f":"Adr_RZiS & \"!$V$197\"","v":"RZiS!$V$197"},null,null,null,null,"Kwota",null,"=V195-V196","sf:RZiSJednostkaOp//jop:O","dtsf:KwotaA"]
[null,{"$f":"Adr_RZiS & \"!$W$197\"","v":"RZiS!$W$197"},null,null,null,null,"Kwota",null,"=W195-W196","sf:RZiSJednostkaOp//jop:O","dtsf:KwotaB"]
[]
[null,{"$f":"Adr_RZiS & \"!$X$177\"","v":"RZiS!$X$177"},null,null,null,null,"Kwota",null,null,"sf:RZiSJednostkaOp//jop:A","dtsf:KwotaB1"]
[null,{"$f":"Adr_RZiS & \"!$X$178\"","v":"RZiS!$X$178"},null,null,null,null,"Kwota",null,null,"sf:RZiSJednostkaOp//jop:A_I","dtsf:KwotaB1"]
[null,{"$f":"Adr_RZiS & \"!$X$179\"","v":"RZiS!$X$179"},null,null,null,null,"Kwota",null,null,"sf:RZiSJednostkaOp//jop:A_II","dtsf:KwotaB1"]
[null,{"$f":"Adr_RZiS & \"!$X$180\"","v":"RZiS!$X$180"},null,null,null,null,"Kwota",null,null,"sf:RZiSJednostkaOp//jop:A_III","dtsf:KwotaB1"]
[null,{"$f":"Adr_RZiS & \"!$X$181\"","v":"RZiS!$X$181"},null,null,null,null,"Kwota",null,null,"sf:RZiSJednostkaOp//jop:B","dtsf:KwotaB1"]
[null,{"$f":"Adr_RZiS & \"!$X$182\"","v":"RZiS!$X$182"},null,null,null,null,"Kwota",null,null,"sf:RZiSJednostkaOp//jop:B_I","dtsf:KwotaB1"]
[null,{"$f":"Adr_RZiS & \"!$X$183\"","v":"RZiS!$X$183"},null,null,null,null,"Kwota",null,null,"sf:RZiSJednostkaOp//jop:B_II","dtsf:KwotaB1"]
[null,{"$f":"Adr_RZiS & \"!$X$184\"","v":"RZiS!$X$184"},null,null,null,null,"Kwota",null,null,"sf:RZiSJednostkaOp//jop:B_III","dtsf:KwotaB1"]
[null,{"$f":"Adr_RZiS & \"!$X$185\"","v":"RZiS!$X$185"},null,null,null,null,"Kwota",null,null,"sf:RZiSJednostkaOp//jop:C","dtsf:KwotaB1"]
[null,{"$f":"Adr_RZiS & \"!$X$186\"","v":"RZiS!$X$186"},null,null,null,null,"Kwota",null,null,"sf:RZiSJednostkaOp//jop:D","dtsf:KwotaB1"]
[null,{"$f":"Adr_RZiS & \"!$X$187\"","v":"RZiS!$X$187"},null,null,null,null,"Kwota",null,null,"sf:RZiSJednostkaOp//jop:E","dtsf:KwotaB1"]
[null,{"$f":"Adr_RZiS & \"!$X$188\"","v":"RZiS!$X$188"},null,null,null,null,"Kwota",null,null,"sf:RZiSJednostkaOp//jop:F","dtsf:KwotaB1"]
[null,{"$f":"Adr_RZiS & \"!$X$189\"","v":"RZiS!$X$189"},null,null,null,null,"Kwota",null,null,"sf:RZiSJednostkaOp//jop:G","dtsf:KwotaB1"]
[null,{"$f":"Adr_RZiS & \"!$X$190\"","v":"RZiS!$X$190"},null,null,null,null,"Kwota",null,null,"sf:RZiSJednostkaOp//jop:H","dtsf:KwotaB1"]
[null,{"$f":"Adr_RZiS & \"!$X$191\"","v":"RZiS!$X$191"},null,null,null,null,"Kwota",null,null,"sf:RZiSJednostkaOp//jop:I","dtsf:KwotaB1"]
[null,{"$f":"Adr_RZiS & \"!$X$192\"","v":"RZiS!$X$192"},null,null,null,null,"Kwota",null,null,"sf:RZiSJednostkaOp//jop:J","dtsf:KwotaB1"]
[null,{"$f":"Adr_RZiS & \"!$X$193\"","v":"RZiS!$X$193"},null,null,null,null,"Kwota",null,null,"sf:RZiSJednostkaOp//jop:K","dtsf:KwotaB1"]
[null,{"$f":"Adr_RZiS & \"!$X$194\"","v":"RZiS!$X$194"},null,null,null,null,"Kwota",null,null,"sf:RZiSJednostkaOp//jop:L","dtsf:KwotaB1"]
[null,{"$f":"Adr_RZiS & \"!$X$195\"","v":"RZiS!$X$195"},null,null,null,null,"Kwota",null,null,"sf:RZiSJednostkaOp//jop:M","dtsf:KwotaB1"]
[null,{"$f":"Adr_RZiS & \"!$X$196\"","v":"RZiS!$X$196"},null,null,null,null,"Kwota",null,null,"sf:RZiSJednostkaOp//jop:N","dtsf:KwotaB1"]
[null,{"$f":"Adr_RZiS & \"!$X$197\"","v":"RZiS!$X$197"},null,null,null,null,"Kwota",null,null,"sf:RZiSJednostkaOp//jop:O","dtsf:KwotaB1"]
[]
[]
[null,{"$f":"Adr_RZiS & \"!$V$200\"","v":"RZiS!$V$200"},null,null,null,null,"Kwota",null,null,"sf:RZiSJednostkaMikro//jmi:A","dtsf:KwotaA"]
[null,{"$f":"Adr_RZiS & \"!$W$200\"","v":"RZiS!$W$200"},null,null,null,null,"Kwota",null,null,"sf:RZiSJednostkaMikro//jmi:A","dtsf:KwotaB"]
[null,{"$f":"Adr_RZiS & \"!$V$201\"","v":"RZiS!$V$201"},null,null,null,null,"Kwota",null,null,"sf:RZiSJednostkaMikro//jmi:A_1","dtsf:KwotaA"]
[null,{"$f":"Adr_RZiS & \"!$W$201\"","v":"RZiS!$W$201"},null,null,null,null,"Kwota",null,null,"sf:RZiSJednostkaMikro//jmi:A_1","dtsf:KwotaB"]
[null,{"$f":"Adr_RZiS & \"!$V$202\"","v":"RZiS!$V$202"},null,null,null,null,"Kwota",null,"*Sum","sf:RZiSJednostkaMikro//jmi:B","dtsf:KwotaA"]
[null,{"$f":"Adr_RZiS & \"!$W$202\"","v":"RZiS!$W$202"},null,null,null,null,"Kwota",null,"*Sum","sf:RZiSJednostkaMikro//jmi:B","dtsf:KwotaB"]
[null,{"$f":"Adr_RZiS & \"!$V$203\"","v":"RZiS!$V$203"},null,null,null,null,"Kwota",null,null,"sf:RZiSJednostkaMikro//jmi:B_I","dtsf:KwotaA"]
[null,{"$f":"Adr_RZiS & \"!$W$203\"","v":"RZiS!$W$203"},null,null,null,null,"Kwota",null,null,"sf:RZiSJednostkaMikro//jmi:B_I","dtsf:KwotaB"]
[null,{"$f":"Adr_RZiS & \"!$V$204\"","v":"RZiS!$V$204"},null,null,null,null,"Kwota",null,null,"sf:RZiSJednostkaMikro//jmi:B_II","dtsf:KwotaA"]
[null,{"$f":"Adr_RZiS & \"!$W$204\"","v":"RZiS!$W$204"},null,null,null,null,"Kwota",null,null,"sf:RZiSJednostkaMikro//jmi:B_II","dtsf:KwotaB"]
[null,{"$f":"Adr_RZiS & \"!$V$205\"","v":"RZiS!$V$205"},null,null,null,null,"Kwota",null,null,"sf:RZiSJednostkaMikro//jmi:B_III","dtsf:KwotaA"]
[null,{"$f":"Adr_RZiS & \"!$W$205\"","v":"RZiS!$W$205"},null,null,null,null,"Kwota",null,null,"sf:RZiSJednostkaMikro//jmi:B_III","dtsf:KwotaB"]
[null,{"$f":"Adr_RZiS & \"!$V$206\"","v":"RZiS!$V$206"},null,null,null,null,"Kwota",null,null,"sf:RZiSJednostkaMikro//jmi:B_IV","dtsf:KwotaA"]
[null,{"$f":"Adr_RZiS & \"!$W$206\"","v":"RZiS!$W$206"},null,null,null,null,"Kwota",null,null,"sf:RZiSJednostkaMikro//jmi:B_IV","dtsf:KwotaB"]
[null,{"$f":"Adr_RZiS & \"!$V$207\"","v":"RZiS!$V$207"},null,null,null,null,"Kwota",null,null,"sf:RZiSJednostkaMikro//jmi:C","dtsf:KwotaA"]
[null,{"$f":"Adr_RZiS & \"!$W$207\"","v":"RZiS!$W$207"},null,null,null,null,"Kwota",null,null,"sf:RZiSJednostkaMikro//jmi:C","dtsf:KwotaB"]
[null,{"$f":"Adr_RZiS & \"!$V$208\"","v":"RZiS!$V$208"},null,null,null,null,"Kwota",null,null,"sf:RZiSJednostkaMikro//jmi:C_1","dtsf:KwotaA"]
[null,{"$f":"Adr_RZiS & \"!$W$208\"","v":"RZiS!$W$208"},null,null,null,null,"Kwota",null,null,"sf:RZiSJednostkaMikro//jmi:C_1","dtsf:KwotaB"]
[null,{"$f":"Adr_RZiS & \"!$V$209\"","v":"RZiS!$V$209"},null,null,null,null,"Kwota",null,null,"sf:RZiSJednostkaMikro//jmi:D","dtsf:KwotaA"]
[null,{"$f":"Adr_RZiS & \"!$W$209\"","v":"RZiS!$W$209"},null,null,null,null,"Kwota",null,null,"sf:RZiSJednostkaMikro//jmi:D","dtsf:KwotaB"]
[null,{"$f":"Adr_RZiS & \"!$V$210\"","v":"RZiS!$V$210"},null,null,null,null,"Kwota",null,null,"sf:RZiSJednostkaMikro//jmi:D_1","dtsf:KwotaA"]
[null,{"$f":"Adr_RZiS & \"!$W$210\"","v":"RZiS!$W$210"},null,null,null,null,"Kwota",null,null,"sf:RZiSJednostkaMikro//jmi:D_1","dtsf:KwotaB"]
[null,{"$f":"Adr_RZiS & \"!$V$211\"","v":"RZiS!$V$211"},null,null,null,null,"Kwota",null,null,"sf:RZiSJednostkaMikro//jmi:E","dtsf:KwotaA"]
[null,{"$f":"Adr_RZiS & \"!$W$211\"","v":"RZiS!$W$211"},null,null,null,null,"Kwota",null,null,"sf:RZiSJednostkaMikro//jmi:E","dtsf:KwotaB"]
[null,{"$f":"Adr_RZiS & \"!$V$212\"","v":"RZiS!$V$212"},null,null,null,null,"Kwota",null,"=V200-V202+V207-V209-V211","sf:RZiSJednostkaMikro//jmi:F","dtsf:KwotaA"]
[null,{"$f":"Adr_RZiS & \"!$W$212\"","v":"RZiS!$W$212"},null,null,null,null,"Kwota",null,"=W200-W202+W207-W209-W211","sf:RZiSJednostkaMikro//jmi:F","dtsf:KwotaB"]
[null,{"$f":"Adr_RZiS & \"!$V$213\"","v":"RZiS!$V$213"},null,null,null,null,"Kwota",null,"=V200-V202+V207-V209-V211","sf:RZiSJednostkaMikro//jmi:G","dtsf:KwotaA"]
[null,{"$f":"Adr_RZiS & \"!$W$213\"","v":"RZiS!$W$213"},null,null,null,null,"Kwota",null,"=W200-W202+W207-W209-W211","sf:RZiSJednostkaMikro//jmi:G","dtsf:KwotaB"]
[null,{"$f":"Adr_RZiS & \"!$V$214\"","v":"RZiS!$V$214"},null,null,null,null,"Kwota",null,null,"sf:RZiSJednostkaMikro//jmi:G_I","dtsf:KwotaA"]
[null,{"$f":"Adr_RZiS & \"!$W$214\"","v":"RZiS!$W$214"},null,null,null,null,"Kwota",null,null,"sf:RZiSJednostkaMikro//jmi:G_I","dtsf:KwotaB"]
[null,{"$f":"Adr_RZiS & \"!$V$215\"","v":"RZiS!$V$215"},null,null,null,null,"Kwota",null,null,"sf:RZiSJednostkaMikro//jmi:G_II","dtsf:KwotaA"]
[null,{"$f":"Adr_RZiS & \"!$W$215\"","v":"RZiS!$W$215"},null,null,null,null,"Kwota",null,null,"sf:RZiSJednostkaMikro//jmi:G_II","dtsf:KwotaB"]
[]
[null,{"$f":"Adr_RZiS & \"!$X$200\"","v":"RZiS!$X$200"},null,null,null,null,"Kwota",null,null,"sf:RZiSJednostkaMikro//jmi:A","dtsf:KwotaB1"]
[null,{"$f":"Adr_RZiS & \"!$X$201\"","v":"RZiS!$X$201"},null,null,null,null,"Kwota",null,null,"sf:RZiSJednostkaMikro//jmi:A_1","dtsf:KwotaB1"]
[null,{"$f":"Adr_RZiS & \"!$X$202\"","v":"RZiS!$X$202"},null,null,null,null,"Kwota",null,null,"sf:RZiSJednostkaMikro//jmi:B","dtsf:KwotaB1"]
[null,{"$f":"Adr_RZiS & \"!$X$203\"","v":"RZiS!$X$203"},null,null,null,null,"Kwota",null,null,"sf:RZiSJednostkaMikro//jmi:B_I","dtsf:KwotaB1"]
[null,{"$f":"Adr_RZiS & \"!$X$204\"","v":"RZiS!$X$204"},null,null,null,null,"Kwota",null,null,"sf:RZiSJednostkaMikro//jmi:B_II","dtsf:KwotaB1"]
[null,{"$f":"Adr_RZiS & \"!$X$205\"","v":"RZiS!$X$205"},null,null,null,null,"Kwota",null,null,"sf:RZiSJednostkaMikro//jmi:B_III","dtsf:KwotaB1"]
[null,{"$f":"Adr_RZiS & \"!$X$206\"","v":"RZiS!$X$206"},null,null,null,null,"Kwota",null,null,"sf:RZiSJednostkaMikro//jmi:B_IV","dtsf:KwotaB1"]
[null,{"$f":"Adr_RZiS & \"!$X$207\"","v":"RZiS!$X$207"},null,null,null,null,"Kwota",null,null,"sf:RZiSJednostkaMikro//jmi:C","dtsf:KwotaB1"]
[null,{"$f":"Adr_RZiS & \"!$X$208\"","v":"RZiS!$X$208"},null,null,null,null,"Kwota",null,null,"sf:RZiSJednostkaMikro//jmi:C_1","dtsf:KwotaB1"]
[null,{"$f":"Adr_RZiS & \"!$X$209\"","v":"RZiS!$X$209"},null,null,null,null,"Kwota",null,null,"sf:RZiSJednostkaMikro//jmi:D","dtsf:KwotaB1"]
[null,{"$f":"Adr_RZiS & \"!$X$210\"","v":"RZiS!$X$210"},null,null,null,null,"Kwota",null,null,"sf:RZiSJednostkaMikro//jmi:D_1","dtsf:KwotaB1"]
[null,{"$f":"Adr_RZiS & \"!$X$211\"","v":"RZiS!$X$211"},null,null,null,null,"Kwota",null,null,"sf:RZiSJednostkaMikro//jmi:E","dtsf:KwotaB1"]
[null,{"$f":"Adr_RZiS & \"!$X$212\"","v":"RZiS!$X$212"},null,null,null,null,"Kwota",null,null,"sf:RZiSJednostkaMikro//jmi:F","dtsf:KwotaB1"]
[null,{"$f":"Adr_RZiS & \"!$X$213\"","v":"RZiS!$X$213"},null,null,null,null,"Kwota",null,null,"sf:RZiSJednostkaMikro//jmi:G","dtsf:KwotaB1"]
[null,{"$f":"Adr_RZiS & \"!$X$214\"","v":"RZiS!$X$214"},null,null,null,null,"Kwota",null,null,"sf:RZiSJednostkaMikro//jmi:G_I","dtsf:KwotaB1"]
[null,{"$f":"Adr_RZiS & \"!$X$215\"","v":"RZiS!$X$215"},null,null,null,null,"Kwota",null,null,"sf:RZiSJednostkaMikro//jmi:G_II","dtsf:KwotaB1"]
[]
[]
[]
[]
[null,{"$f":"Adr_Przepływy & \"!$V$7\"","v":"Przepływy!$V$7"},null,null,null,null,"Kwota",null,null,"jin:PrzeplywyPosr//jin:A_I","dtsf:KwotaA"]
[null,{"$f":"Adr_Przepływy & \"!$W$7\"","v":"Przepływy!$W$7"},null,null,null,null,"Kwota",null,null,"jin:PrzeplywyPosr//jin:A_I","dtsf:KwotaB"]
[null,{"$f":"Adr_Przepływy & \"!$V$8\"","v":"Przepływy!$V$8"},null,null,null,null,"Kwota",null,"*Sum","jin:PrzeplywyPosr//jin:A_II","dtsf:KwotaA"]
[null,{"$f":"Adr_Przepływy & \"!$W$8\"","v":"Przepływy!$W$8"},null,null,null,null,"Kwota",null,"*Sum","jin:PrzeplywyPosr//jin:A_II","dtsf:KwotaB"]
[null,{"$f":"Adr_Przepływy & \"!$V$9\"","v":"Przepływy!$V$9"},null,null,null,null,"Kwota",null,null,"jin:PrzeplywyPosr//jin:A_II_1","dtsf:KwotaA"]
[null,{"$f":"Adr_Przepływy & \"!$W$9\"","v":"Przepływy!$W$9"},null,null,null,null,"Kwota",null,null,"jin:PrzeplywyPosr//jin:A_II_1","dtsf:KwotaB"]
[null,{"$f":"Adr_Przepływy & \"!$V$18\"","v":"Przepływy!$V$18"},null,null,null,null,"Kwota",null,null,"jin:PrzeplywyPosr//jin:A_II_10","dtsf:KwotaA"]
[null,{"$f":"Adr_Przepływy & \"!$W$18\"","v":"Przepływy!$W$18"},null,null,null,null,"Kwota",null,null,"jin:PrzeplywyPosr//jin:A_II_10","dtsf:KwotaB"]
[null,{"$f":"Adr_Przepływy & \"!$V$10\"","v":"Przepływy!$V$10"},null,null,null,null,"Kwota",null,null,"jin:PrzeplywyPosr//jin:A_II_2","dtsf:KwotaA"]
[null,{"$f":"Adr_Przepływy & \"!$W$10\"","v":"Przepływy!$W$10"},null,null,null,null,"Kwota",null,null,"jin:PrzeplywyPosr//jin:A_II_2","dtsf:KwotaB"]
[null,{"$f":"Adr_Przepływy & \"!$V$11\"","v":"Przepływy!$V$11"},null,null,null,null,"Kwota",null,null,"jin:PrzeplywyPosr//jin:A_II_3","dtsf:KwotaA"]
[null,{"$f":"Adr_Przepływy & \"!$W$11\"","v":"Przepływy!$W$11"},null,null,null,null,"Kwota",null,null,"jin:PrzeplywyPosr//jin:A_II_3","dtsf:KwotaB"]
[null,{"$f":"Adr_Przepływy & \"!$V$12\"","v":"Przepływy!$V$12"},null,null,null,null,"Kwota",null,null,"jin:PrzeplywyPosr//jin:A_II_4","dtsf:KwotaA"]
[null,{"$f":"Adr_Przepływy & \"!$W$12\"","v":"Przepływy!$W$12"},null,null,null,null,"Kwota",null,null,"jin:PrzeplywyPosr//jin:A_II_4","dtsf:KwotaB"]
[null,{"$f":"Adr_Przepływy & \"!$V$13\"","v":"Przepływy!$V$13"},null,null,null,null,"Kwota",null,null,"jin:PrzeplywyPosr//jin:A_II_5","dtsf:KwotaA"]
[null,{"$f":"Adr_Przepływy & \"!$W$13\"","v":"Przepływy!$W$13"},null,null,null,null,"Kwota",null,null,"jin:PrzeplywyPosr//jin:A_II_5","dtsf:KwotaB"]
[null,{"$f":"Adr_Przepływy & \"!$V$14\"","v":"Przepływy!$V$14"},null,null,null,null,"Kwota",null,null,"jin:PrzeplywyPosr//jin:A_II_6","dtsf:KwotaA"]
[null,{"$f":"Adr_Przepływy & \"!$W$14\"","v":"Przepływy!$W$14"},null,null,null,null,"Kwota",null,null,"jin:PrzeplywyPosr//jin:A_II_6","dtsf:KwotaB"]
[null,{"$f":"Adr_Przepływy & \"!$V$15\"","v":"Przepływy!$V$15"},null,null,null,null,"Kwota",null,null,"jin:PrzeplywyPosr//jin:A_II_7","dtsf:KwotaA"]
[null,{"$f":"Adr_Przepływy & \"!$W$15\"","v":"Przepływy!$W$15"},null,null,null,null,"Kwota",null,null,"jin:PrzeplywyPosr//jin:A_II_7","dtsf:KwotaB"]
[null,{"$f":"Adr_Przepływy & \"!$V$16\"","v":"Przepływy!$V$16"},null,null,null,null,"Kwota",null,null,"jin:PrzeplywyPosr//jin:A_II_8","dtsf:KwotaA"]
[null,{"$f":"Adr_Przepływy & \"!$W$16\"","v":"Przepływy!$W$16"},null,null,null,null,"Kwota",null,null,"jin:PrzeplywyPosr//jin:A_II_8","dtsf:KwotaB"]
[null,{"$f":"Adr_Przepływy & \"!$V$17\"","v":"Przepływy!$V$17"},null,null,null,null,"Kwota",null,null,"jin:PrzeplywyPosr//jin:A_II_9","dtsf:KwotaA"]
[null,{"$f":"Adr_Przepływy & \"!$W$17\"","v":"Przepływy!$W$17"},null,null,null,null,"Kwota",null,null,"jin:PrzeplywyPosr//jin:A_II_9","dtsf:KwotaB"]
[null,{"$f":"Adr_Przepływy & \"!$V$19\"","v":"Przepływy!$V$19"},null,null,null,null,"Kwota",null,"=V7+V8","jin:PrzeplywyPosr//jin:A_III","dtsf:KwotaA"]
[null,{"$f":"Adr_Przepływy & \"!$W$19\"","v":"Przepływy!$W$19"},null,null,null,null,"Kwota",null,"=W7+W8","jin:PrzeplywyPosr//jin:A_III","dtsf:KwotaB"]
[]
[]
[null,{"$f":"Adr_Przepływy & \"!$V$21\"","v":"Przepływy!$V$21"},null,null,null,null,"Kwota",null,"*Sum","jin:PrzeplywyPosr//jin:B_I","dtsf:KwotaA"]
[null,{"$f":"Adr_Przepływy & \"!$W$21\"","v":"Przepływy!$W$21"},null,null,null,null,"Kwota",null,"*Sum","jin:PrzeplywyPosr//jin:B_I","dtsf:KwotaB"]
[null,{"$f":"Adr_Przepływy & \"!$V$22\"","v":"Przepływy!$V$22"},null,null,null,null,"Kwota",null,null,"jin:PrzeplywyPosr//jin:B_I_1","dtsf:KwotaA"]
[null,{"$f":"Adr_Przepływy & \"!$W$22\"","v":"Przepływy!$W$22"},null,null,null,null,"Kwota",null,null,"jin:PrzeplywyPosr//jin:B_I_1","dtsf:KwotaB"]
[null,{"$f":"Adr_Przepływy & \"!$V$23\"","v":"Przepływy!$V$23"},null,null,null,null,"Kwota",null,null,"jin:PrzeplywyPosr//jin:B_I_2","dtsf:KwotaA"]
[null,{"$f":"Adr_Przepływy & \"!$W$23\"","v":"Przepływy!$W$23"},null,null,null,null,"Kwota",null,null,"jin:PrzeplywyPosr//jin:B_I_2","dtsf:KwotaB"]
[null,{"$f":"Adr_Przepływy & \"!$V$24\"","v":"Przepływy!$V$24"},null,null,null,null,"Kwota",null,"*Sum","jin:PrzeplywyPosr//jin:B_I_3","dtsf:KwotaA"]
[null,{"$f":"Adr_Przepływy & \"!$W$24\"","v":"Przepływy!$W$24"},null,null,null,null,"Kwota",null,"*Sum","jin:PrzeplywyPosr//jin:B_I_3","dtsf:KwotaB"]
[null,{"$f":"Adr_Przepływy & \"!$V$25\"","v":"Przepływy!$V$25"},null,null,null,null,"Kwota",null,null,"jin:PrzeplywyPosr//jin:B_I_3_A","dtsf:KwotaA"]
[null,{"$f":"Adr_Przepływy & \"!$W$25\"","v":"Przepływy!$W$25"},null,null,null,null,"Kwota",null,null,"jin:PrzeplywyPosr//jin:B_I_3_A","dtsf:KwotaB"]
[null,{"$f":"Adr_Przepływy & \"!$V$26\"","v":"Przepływy!$V$26"},null,null,null,null,"Kwota",null,"*Sum","jin:PrzeplywyPosr//jin:B_I_3_B","dtsf:KwotaA"]
[null,{"$f":"Adr_Przepływy & \"!$W$26\"","v":"Przepływy!$W$26"},null,null,null,null,"Kwota",null,"*Sum","jin:PrzeplywyPosr//jin:B_I_3_B","dtsf:KwotaB"]
[null,{"$f":"Adr_Przepływy & \"!$V$27\"","v":"Przepływy!$V$27"},null,null,null,null,"Kwota",null,null,"jin:PrzeplywyPosr//jin:B_I_3_B_1","dtsf:KwotaA"]
[null,{"$f":"Adr_Przepływy & \"!$W$27\"","v":"Przepływy!$W$27"},null,null,null,null,"Kwota",null,null,"jin:PrzeplywyPosr//jin:B_I_3_B_1","dtsf:KwotaB"]
[null,{"$f":"Adr_Przepływy & \"!$V$28\"","v":"Przepływy!$V$28"},null,null,null,null,"Kwota",null,null,"jin:PrzeplywyPosr//jin:B_I_3_B_2","dtsf:KwotaA"]
[null,{"$f":"Adr_Przepływy & \"!$W$28\"","v":"Przepływy!$W$28"},null,null,null,null,"Kwota",null,null,"jin:PrzeplywyPosr//jin:B_I_3_B_2","dtsf:KwotaB"]
[null,{"$f":"Adr_Przepływy & \"!$V$29\"","v":"Przepływy!$V$29"},null,null,null,null,"Kwota",null,null,"jin:PrzeplywyPosr//jin:B_I_3_B_3","dtsf:KwotaA"]
[null,{"$f":"Adr_Przepływy & \"!$W$29\"","v":"Przepływy!$W$29"},null,null,null,null,"Kwota",null,null,"jin:PrzeplywyPosr//jin:B_I_3_B_3","dtsf:KwotaB"]
[null,{"$f":"Adr_Przepływy & \"!$V$30\"","v":"Przepływy!$V$30"},null,null,null,null,"Kwota",null,null,"jin:PrzeplywyPosr//jin:B_I_3_B_4","dtsf:KwotaA"]
[null,{"$f":"Adr_Przepływy & \"!$W$30\"","v":"Przepływy!$W$30"},null,null,null,null,"Kwota",null,null,"jin:PrzeplywyPosr//jin:B_I_3_B_4","dtsf:KwotaB"]
[null,{"$f":"Adr_Przepływy & \"!$V$31\"","v":"Przepływy!$V$31"},null,null,null,null,"Kwota",null,null,"jin:PrzeplywyPosr//jin:B_I_3_B_5","dtsf:KwotaA"]
[null,{"$f":"Adr_Przepływy & \"!$W$31\"","v":"Przepływy!$W$31"},null,null,null,null,"Kwota",null,null,"jin:PrzeplywyPosr//jin:B_I_3_B_5","dtsf:KwotaB"]
[null,{"$f":"Adr_Przepływy & \"!$V$32\"","v":"Przepływy!$V$32"},null,null,null,null,"Kwota",null,null,"jin:PrzeplywyPosr//jin:B_I_4","dtsf:KwotaA"]
[null,{"$f":"Adr_Przepływy & \"!$W$32\"","v":"Przepływy!$W$32"},null,null,null,null,"Kwota",null,null,"jin:PrzeplywyPosr//jin:B_I_4","dtsf:KwotaB"]
[null,{"$f":"Adr_Przepływy & \"!$V$33\"","v":"Przepływy!$V$33"},null,null,null,null,"Kwota",null,"*Sum","jin:PrzeplywyPosr//jin:B_II","dtsf:KwotaA"]
[null,{"$f":"Adr_Przepływy & \"!$W$33\"","v":"Przepływy!$W$33"},null,null,null,null,"Kwota",null,"*Sum","jin:PrzeplywyPosr//jin:B_II","dtsf:KwotaB"]
[null,{"$f":"Adr_Przepływy & \"!$V$34\"","v":"Przepływy!$V$34"},null,null,null,null,"Kwota",null,null,"jin:PrzeplywyPosr//jin:B_II_1","dtsf:KwotaA"]
[null,{"$f":"Adr_Przepływy & \"!$W$34\"","v":"Przepływy!$W$34"},null,null,null,null,"Kwota",null,null,"jin:PrzeplywyPosr//jin:B_II_1","dtsf:KwotaB"]
[null,{"$f":"Adr_Przepływy & \"!$V$36\"","v":"Przepływy!$V$36"},null,null,null,null,"Kwota",null,null,"jin:PrzeplywyPosr//jin:B_II_2","dtsf:KwotaA"]
[null,{"$f":"Adr_Przepływy & \"!$W$36\"","v":"Przepływy!$W$36"},null,null,null,null,"Kwota",null,null,"jin:PrzeplywyPosr//jin:B_II_2","dtsf:KwotaB"]
[null,{"$f":"Adr_Przepływy & \"!$V$37\"","v":"Przepływy!$V$37"},null,null,null,null,"Kwota",null,"*Sum","jin:PrzeplywyPosr//jin:B_II_3","dtsf:KwotaA"]
[null,{"$f":"Adr_Przepływy & \"!$W$37\"","v":"Przepływy!$W$37"},null,null,null,null,"Kwota",null,"*Sum","jin:PrzeplywyPosr//jin:B_II_3","dtsf:KwotaB"]
[null,{"$f":"Adr_Przepływy & \"!$V$38\"","v":"Przepływy!$V$38"},null,null,null,null,"Kwota",null,null,"jin:PrzeplywyPosr//jin:B_II_3_A","dtsf:KwotaA"]
[null,{"$f":"Adr_Przepływy & \"!$W$38\"","v":"Przepływy!$W$38"},null,null,null,null,"Kwota",null,null,"jin:PrzeplywyPosr//jin:B_II_3_A","dtsf:KwotaB"]
[null,{"$f":"Adr_Przepływy & \"!$V$39\"","v":"Przepływy!$V$39"},null,null,null,null,"Kwota",null,"*Sum","jin:PrzeplywyPosr//jin:B_II_3_B","dtsf:KwotaA"]
[null,{"$f":"Adr_Przepływy & \"!$W$39\"","v":"Przepływy!$W$39"},null,null,null,null,"Kwota",null,"*Sum","jin:PrzeplywyPosr//jin:B_II_3_B","dtsf:KwotaB"]
[null,{"$f":"Adr_Przepływy & \"!$V$40\"","v":"Przepływy!$V$40"},null,null,null,null,"Kwota",null,null,"jin:PrzeplywyPosr//jin:B_II_3_B_1","dtsf:KwotaA"]
[null,{"$f":"Adr_Przepływy & \"!$W$40\"","v":"Przepływy!$W$40"},null,null,null,null,"Kwota",null,null,"jin:PrzeplywyPosr//jin:B_II_3_B_1","dtsf:KwotaB"]
[null,{"$f":"Adr_Przepływy & \"!$V$41\"","v":"Przepływy!$V$41"},null,null,null,null,"Kwota",null,null,"jin:PrzeplywyPosr//jin:B_II_3_B_2","dtsf:KwotaA"]
[null,{"$f":"Adr_Przepływy & \"!$W$41\"","v":"Przepływy!$W$41"},null,null,null,null,"Kwota",null,null,"jin:PrzeplywyPosr//jin:B_II_3_B_2","dtsf:KwotaB"]
[null,{"$f":"Adr_Przepływy & \"!$V$42\"","v":"Przepływy!$V$42"},null,null,null,null,"Kwota",null,null,"jin:PrzeplywyPosr//jin:B_II_4","dtsf:KwotaA"]
[null,{"$f":"Adr_Przepływy & \"!$W$42\"","v":"Przepływy!$W$42"},null,null,null,null,"Kwota",null,null,"jin:PrzeplywyPosr//jin:B_II_4","dtsf:KwotaB"]
[null,{"$f":"Adr_Przepływy & \"!$V$43\"","v":"Przepływy!$V$43"},null,null,null,null,"Kwota",null,"=V21-V33","jin:PrzeplywyPosr//jin:B_III","dtsf:KwotaA"]
[null,{"$f":"Adr_Przepływy & \"!$W$43\"","v":"Przepływy!$W$43"},null,null,null,null,"Kwota",null,"=W21-W33","jin:PrzeplywyPosr//jin:B_III","dtsf:KwotaB"]
[]
[]
[null,{"$f":"Adr_Przepływy & \"!$V$45\"","v":"Przepływy!$V$45"},null,null,null,null,"Kwota",null,"*Sum","jin:PrzeplywyPosr//jin:C_I","dtsf:KwotaA"]
[null,{"$f":"Adr_Przepływy & \"!$W$45\"","v":"Przepływy!$W$45"},null,null,null,null,"Kwota",null,"*Sum","jin:PrzeplywyPosr//jin:C_I","dtsf:KwotaB"]
[null,{"$f":"Adr_Przepływy & \"!$V$46\"","v":"Przepływy!$V$46"},null,null,null,null,"Kwota",null,null,"jin:PrzeplywyPosr//jin:C_I_1","dtsf:KwotaA"]
[null,{"$f":"Adr_Przepływy & \"!$W$46\"","v":"Przepływy!$W$46"},null,null,null,null,"Kwota",null,null,"jin:PrzeplywyPosr//jin:C_I_1","dtsf:KwotaB"]
[null,{"$f":"Adr_Przepływy & \"!$V$47\"","v":"Przepływy!$V$47"},null,null,null,null,"Kwota",null,null,"jin:PrzeplywyPosr//jin:C_I_2","dtsf:KwotaA"]
[null,{"$f":"Adr_Przepływy & \"!$W$47\"","v":"Przepływy!$W$47"},null,null,null,null,"Kwota",null,null,"jin:PrzeplywyPosr//jin:C_I_2","dtsf:KwotaB"]
[null,{"$f":"Adr_Przepływy & \"!$V$48\"","v":"Przepływy!$V$48"},null,null,null,null,"Kwota",null,null,"jin:PrzeplywyPosr//jin:C_I_3","dtsf:KwotaA"]
[null,{"$f":"Adr_Przepływy & \"!$W$48\"","v":"Przepływy!$W$48"},null,null,null,null,"Kwota",null,null,"jin:PrzeplywyPosr//jin:C_I_3","dtsf:KwotaB"]
[null,{"$f":"Adr_Przepływy & \"!$V$49\"","v":"Przepływy!$V$49"},null,null,null,null,"Kwota",null,null,"jin:PrzeplywyPosr//jin:C_I_4","dtsf:KwotaA"]
[null,{"$f":"Adr_Przepływy & \"!$W$49\"","v":"Przepływy!$W$49"},null,null,null,null,"Kwota",null,null,"jin:PrzeplywyPosr//jin:C_I_4","dtsf:KwotaB"]
[null,{"$f":"Adr_Przepływy & \"!$V$50\"","v":"Przepływy!$V$50"},null,null,null,null,"Kwota",null,"*Sum","jin:PrzeplywyPosr//jin:C_II","dtsf:KwotaA"]
[null,{"$f":"Adr_Przepływy & \"!$W$50\"","v":"Przepływy!$W$50"},null,null,null,null,"Kwota",null,"*Sum","jin:PrzeplywyPosr//jin:C_II","dtsf:KwotaB"]
[null,{"$f":"Adr_Przepływy & \"!$V$51\"","v":"Przepływy!$V$51"},null,null,null,null,"Kwota",null,null,"jin:PrzeplywyPosr//jin:C_II_1","dtsf:KwotaA"]
[null,{"$f":"Adr_Przepływy & \"!$W$51\"","v":"Przepływy!$W$51"},null,null,null,null,"Kwota",null,null,"jin:PrzeplywyPosr//jin:C_II_1","dtsf:KwotaB"]
[null,{"$f":"Adr_Przepływy & \"!$V$52\"","v":"Przepływy!$V$52"},null,null,null,null,"Kwota",null,null,"jin:PrzeplywyPosr//jin:C_II_2","dtsf:KwotaA"]
[null,{"$f":"Adr_Przepływy & \"!$W$52\"","v":"Przepływy!$W$52"},null,null,null,null,"Kwota",null,null,"jin:PrzeplywyPosr//jin:C_II_2","dtsf:KwotaB"]
[null,{"$f":"Adr_Przepływy & \"!$V$53\"","v":"Przepływy!$V$53"},null,null,null,null,"Kwota",null,null,"jin:PrzeplywyPosr//jin:C_II_3","dtsf:KwotaA"]
[null,{"$f":"Adr_Przepływy & \"!$W$53\"","v":"Przepływy!$W$53"},null,null,null,null,"Kwota",null,null,"jin:PrzeplywyPosr//jin:C_II_3","dtsf:KwotaB"]
[null,{"$f":"Adr_Przepływy & \"!$V$54\"","v":"Przepływy!$V$54"},null,null,null,null,"Kwota",null,null,"jin:PrzeplywyPosr//jin:C_II_4","dtsf:KwotaA"]
[null,{"$f":"Adr_Przepływy & \"!$W$54\"","v":"Przepływy!$W$54"},null,null,null,null,"Kwota",null,null,"jin:PrzeplywyPosr//jin:C_II_4","dtsf:KwotaB"]
[null,{"$f":"Adr_Przepływy & \"!$V$55\"","v":"Przepływy!$V$55"},null,null,null,null,"Kwota",null,null,"jin:PrzeplywyPosr//jin:C_II_5","dtsf:KwotaA"]
[null,{"$f":"Adr_Przepływy & \"!$W$55\"","v":"Przepływy!$W$55"},null,null,null,null,"Kwota",null,null,"jin:PrzeplywyPosr//jin:C_II_5","dtsf:KwotaB"]
[null,{"$f":"Adr_Przepływy & \"!$V$56\"","v":"Przepływy!$V$56"},null,null,null,null,"Kwota",null,null,"jin:PrzeplywyPosr//jin:C_II_6","dtsf:KwotaA"]
[null,{"$f":"Adr_Przepływy & \"!$W$56\"","v":"Przepływy!$W$56"},null,null,null,null,"Kwota",null,null,"jin:PrzeplywyPosr//jin:C_II_6","dtsf:KwotaB"]
[null,{"$f":"Adr_Przepływy & \"!$V$57\"","v":"Przepływy!$V$57"},null,null,null,null,"Kwota",null,null,"jin:PrzeplywyPosr//jin:C_II_7","dtsf:KwotaA"]
[null,{"$f":"Adr_Przepływy & \"!$W$57\"","v":"Przepływy!$W$57"},null,null,null,null,"Kwota",null,null,"jin:PrzeplywyPosr//jin:C_II_7","dtsf:KwotaB"]
[null,{"$f":"Adr_Przepływy & \"!$V$58\"","v":"Przepływy!$V$58"},null,null,null,null,"Kwota",null,null,"jin:PrzeplywyPosr//jin:C_II_8","dtsf:KwotaA"]
[null,{"$f":"Adr_Przepływy & \"!$W$58\"","v":"Przepływy!$W$58"},null,null,null,null,"Kwota",null,null,"jin:PrzeplywyPosr//jin:C_II_8","dtsf:KwotaB"]
[null,{"$f":"Adr_Przepływy & \"!$V$59\"","v":"Przepływy!$V$59"},null,null,null,null,"Kwota",null,null,"jin:PrzeplywyPosr//jin:C_II_9","dtsf:KwotaA"]
[null,{"$f":"Adr_Przepływy & \"!$W$59\"","v":"Przepływy!$W$59"},null,null,null,null,"Kwota",null,null,"jin:PrzeplywyPosr//jin:C_II_9","dtsf:KwotaB"]
[null,{"$f":"Adr_Przepływy & \"!$V$60\"","v":"Przepływy!$V$60"},null,null,null,null,"Kwota",null,"=V45-V50","jin:PrzeplywyPosr//jin:C_III","dtsf:KwotaA"]
[null,{"$f":"Adr_Przepływy & \"!$W$60\"","v":"Przepływy!$W$60"},null,null,null,null,"Kwota",null,"=W45-W50","jin:PrzeplywyPosr//jin:C_III","dtsf:KwotaB"]
[null,{"$f":"Adr_Przepływy & \"!$V$61\"","v":"Przepływy!$V$61"},null,null,null,null,"Kwota",null,"=V19+V43+V60","jin:PrzeplywyPosr//jin:D","dtsf:KwotaA"]
[null,{"$f":"Adr_Przepływy & \"!$W$61\"","v":"Przepływy!$W$61"},null,null,null,null,"Kwota",null,"=W19+W43+W60","jin:PrzeplywyPosr//jin:D","dtsf:KwotaB"]
[null,{"$f":"Adr_Przepływy & \"!$V$62\"","v":"Przepływy!$V$62"},null,null,null,null,"Kwota",null,null,"jin:PrzeplywyPosr//jin:E","dtsf:KwotaA"]
[null,{"$f":"Adr_Przepływy & \"!$W$62\"","v":"Przepływy!$W$62"},null,null,null,null,"Kwota",null,null,"jin:PrzeplywyPosr//jin:E","dtsf:KwotaB"]
[null,{"$f":"Adr_Przepływy & \"!$V$63\"","v":"Przepływy!$V$63"},null,null,null,null,"Kwota",null,null,"jin:PrzeplywyPosr//jin:E_1","dtsf:KwotaA"]
[null,{"$f":"Adr_Przepływy & \"!$W$63\"","v":"Przepływy!$W$63"},null,null,null,null,"Kwota",null,null,"jin:PrzeplywyPosr//jin:E_1","dtsf:KwotaB"]
[null,{"$f":"Adr_Przepływy & \"!$V$64\"","v":"Przepływy!$V$64"},null,null,null,null,"Kwota",null,0,"jin:PrzeplywyPosr//jin:F","dtsf:KwotaA"]
[null,{"$f":"Adr_Przepływy & \"!$W$64\"","v":"Przepływy!$W$64"},null,null,null,null,"Kwota",null,0,"jin:PrzeplywyPosr//jin:F","dtsf:KwotaB"]
[null,{"$f":"Adr_Przepływy & \"!$V$65\"","v":"Przepływy!$V$65"},null,null,null,null,"Kwota",null,"=V64+V61","jin:PrzeplywyPosr//jin:G","dtsf:KwotaA"]
[null,{"$f":"Adr_Przepływy & \"!$W$65\"","v":"Przepływy!$W$65"},null,null,null,null,"Kwota",null,"=W64+W61","jin:PrzeplywyPosr//jin:G","dtsf:KwotaB"]
[null,{"$f":"Adr_Przepływy & \"!$V$66\"","v":"Przepływy!$V$66"},null,null,null,null,"Kwota",null,null,"jin:PrzeplywyPosr//jin:G_1","dtsf:KwotaA"]
[null,{"$f":"Adr_Przepływy & \"!$W$66\"","v":"Przepływy!$W$66"},null,null,null,null,"Kwota",null,null,"jin:PrzeplywyPosr//jin:G_1","dtsf:KwotaB"]
[]
[]
[null,{"$f":"Adr_Przepływy & \"!$X$7\"","v":"Przepływy!$X$7"},null,null,null,null,"Kwota",null,null,"jin:PrzeplywyPosr//jin:A_I","dtsf:KwotaB1"]
[null,{"$f":"Adr_Przepływy & \"!$X$8\"","v":"Przepływy!$X$8"},null,null,null,null,"Kwota",null,null,"jin:PrzeplywyPosr//jin:A_II","dtsf:KwotaB1"]
[null,{"$f":"Adr_Przepływy & \"!$X$9\"","v":"Przepływy!$X$9"},null,null,null,null,"Kwota",null,null,"jin:PrzeplywyPosr//jin:A_II_1","dtsf:KwotaB1"]
[null,{"$f":"Adr_Przepływy & \"!$X$10\"","v":"Przepływy!$X$10"},null,null,null,null,"Kwota",null,null,"jin:PrzeplywyPosr//jin:A_II_2","dtsf:KwotaB1"]
[null,{"$f":"Adr_Przepływy & \"!$X$11\"","v":"Przepływy!$X$11"},null,null,null,null,"Kwota",null,null,"jin:PrzeplywyPosr//jin:A_II_3","dtsf:KwotaB1"]
[null,{"$f":"Adr_Przepływy & \"!$X$12\"","v":"Przepływy!$X$12"},null,null,null,null,"Kwota",null,null,"jin:PrzeplywyPosr//jin:A_II_4","dtsf:KwotaB1"]
[null,{"$f":"Adr_Przepływy & \"!$X$13\"","v":"Przepływy!$X$13"},null,null,null,null,"Kwota",null,null,"jin:PrzeplywyPosr//jin:A_II_5","dtsf:KwotaB1"]
[null,{"$f":"Adr_Przepływy & \"!$X$14\"","v":"Przepływy!$X$14"},null,null,null,null,"Kwota",null,null,"jin:PrzeplywyPosr//jin:A_II_6","dtsf:KwotaB1"]
[null,{"$f":"Adr_Przepływy & \"!$X$15\"","v":"Przepływy!$X$15"},null,null,null,null,"Kwota",null,null,"jin:PrzeplywyPosr//jin:A_II_7","dtsf:KwotaB1"]
[null,{"$f":"Adr_Przepływy & \"!$X$16\"","v":"Przepływy!$X$16"},null,null,null,null,"Kwota",null,null,"jin:PrzeplywyPosr//jin:A_II_8","dtsf:KwotaB1"]
[null,{"$f":"Adr_Przepływy & \"!$X$17\"","v":"Przepływy!$X$17"},null,null,null,null,"Kwota",null,null,"jin:PrzeplywyPosr//jin:A_II_9","dtsf:KwotaB1"]
[null,{"$f":"Adr_Przepływy & \"!$X$18\"","v":"Przepływy!$X$18"},null,null,null,null,"Kwota",null,null,"jin:PrzeplywyPosr//jin:A_II_10","dtsf:KwotaB1"]
[null,{"$f":"Adr_Przepływy & \"!$X$19\"","v":"Przepływy!$X$19"},null,null,null,null,"Kwota",null,null,"jin:PrzeplywyPosr//jin:A_III","dtsf:KwotaB1"]
[]
[null,{"$f":"Adr_Przepływy & \"!$X$21\"","v":"Przepływy!$X$21"},null,null,null,null,"Kwota",null,null,"jin:PrzeplywyPosr//jin:B_I","dtsf:KwotaB1"]
[null,{"$f":"Adr_Przepływy & \"!$X$22\"","v":"Przepływy!$X$22"},null,null,null,null,"Kwota",null,null,"jin:PrzeplywyPosr//jin:B_I_1","dtsf:KwotaB1"]
[null,{"$f":"Adr_Przepływy & \"!$X$23\"","v":"Przepływy!$X$23"},null,null,null,null,"Kwota",null,null,"jin:PrzeplywyPosr//jin:B_I_2","dtsf:KwotaB1"]
[null,{"$f":"Adr_Przepływy & \"!$X$24\"","v":"Przepływy!$X$24"},null,null,null,null,"Kwota",null,null,"jin:PrzeplywyPosr//jin:B_I_3","dtsf:KwotaB1"]
[null,{"$f":"Adr_Przepływy & \"!$X$25\"","v":"Przepływy!$X$25"},null,null,null,null,"Kwota",null,null,"jin:PrzeplywyPosr//jin:B_I_3_A","dtsf:KwotaB1"]
[null,{"$f":"Adr_Przepływy & \"!$X$26\"","v":"Przepływy!$X$26"},null,null,null,null,"Kwota",null,null,"jin:PrzeplywyPosr//jin:B_I_3_B","dtsf:KwotaB1"]
[null,{"$f":"Adr_Przepływy & \"!$X$27\"","v":"Przepływy!$X$27"},null,null,null,null,"Kwota",null,null,"jin:PrzeplywyPosr//jin:B_I_3_B_1","dtsf:KwotaB1"]
[null,{"$f":"Adr_Przepływy & \"!$X$28\"","v":"Przepływy!$X$28"},null,null,null,null,"Kwota",null,null,"jin:PrzeplywyPosr//jin:B_I_3_B_2","dtsf:KwotaB1"]
[null,{"$f":"Adr_Przepływy & \"!$X$29\"","v":"Przepływy!$X$29"},null,null,null,null,"Kwota",null,null,"jin:PrzeplywyPosr//jin:B_I_3_B_3","dtsf:KwotaB1"]
[null,{"$f":"Adr_Przepływy & \"!$X$30\"","v":"Przepływy!$X$30"},null,null,null,null,"Kwota",null,null,"jin:PrzeplywyPosr//jin:B_I_3_B_4","dtsf:KwotaB1"]
[null,{"$f":"Adr_Przepływy & \"!$X$31\"","v":"Przepływy!$X$31"},null,null,null,null,"Kwota",null,null,"jin:PrzeplywyPosr//jin:B_I_3_B_5","dtsf:KwotaB1"]
[null,{"$f":"Adr_Przepływy & \"!$X$32\"","v":"Przepływy!$X$32"},null,null,null,null,"Kwota",null,null,"jin:PrzeplywyPosr//jin:B_I_4","dtsf:KwotaB1"]
[null,{"$f":"Adr_Przepływy & \"!$X$33\"","v":"Przepływy!$X$33"},null,null,null,null,"Kwota",null,null,"jin:PrzeplywyPosr//jin:B_II","dtsf:KwotaB1"]
[null,{"$f":"Adr_Przepływy & \"!$X$34\"","v":"Przepływy!$X$34"},null,null,null,null,"Kwota",null,null,"jin:PrzeplywyPosr//jin:B_II_1","dtsf:KwotaB1"]
[null,{"$f":"Adr_Przepływy & \"!$X$36\"","v":"Przepływy!$X$36"},null,null,null,null,"Kwota",null,null,"jin:PrzeplywyPosr//jin:B_II_2","dtsf:KwotaB1"]
[null,{"$f":"Adr_Przepływy & \"!$X$37\"","v":"Przepływy!$X$37"},null,null,null,null,"Kwota",null,null,"jin:PrzeplywyPosr//jin:B_II_3","dtsf:KwotaB1"]
[null,{"$f":"Adr_Przepływy & \"!$X$38\"","v":"Przepływy!$X$38"},null,null,null,null,"Kwota",null,null,"jin:PrzeplywyPosr//jin:B_II_3_A","dtsf:KwotaB1"]
[null,{"$f":"Adr_Przepływy & \"!$X$39\"","v":"Przepływy!$X$39"},null,null,null,null,"Kwota",null,null,"jin:PrzeplywyPosr//jin:B_II_3_B","dtsf:KwotaB1"]
[null,{"$f":"Adr_Przepływy & \"!$X$40\"","v":"Przepływy!$X$40"},null,null,null,null,"Kwota",null,null,"jin:PrzeplywyPosr//jin:B_II_3_B_1","dtsf:KwotaB1"]
[null,{"$f":"Adr_Przepływy & \"!$X$41\"","v":"Przepływy!$X$41"},null,null,null,null,"Kwota",null,null,"jin:PrzeplywyPosr//jin:B_II_3_B_2","dtsf:KwotaB1"]
[null,{"$f":"Adr_Przepływy & \"!$X$42\"","v":"Przepływy!$X$42"},null,null,null,null,"Kwota",null,null,"jin:PrzeplywyPosr//jin:B_II_4","dtsf:KwotaB1"]
[null,{"$f":"Adr_Przepływy & \"!$X$43\"","v":"Przepływy!$X$43"},null,null,null,null,"Kwota",null,null,"jin:PrzeplywyPosr//jin:B_III","dtsf:KwotaB1"]
[]
[null,{"$f":"Adr_Przepływy & \"!$X$45\"","v":"Przepływy!$X$45"},null,null,null,null,"Kwota",null,null,"jin:PrzeplywyPosr//jin:C_I","dtsf:KwotaB1"]
[null,{"$f":"Adr_Przepływy & \"!$X$46\"","v":"Przepływy!$X$46"},null,null,null,null,"Kwota",null,null,"jin:PrzeplywyPosr//jin:C_I_1","dtsf:KwotaB1"]
[null,{"$f":"Adr_Przepływy & \"!$X$47\"","v":"Przepływy!$X$47"},null,null,null,null,"Kwota",null,null,"jin:PrzeplywyPosr//jin:C_I_2","dtsf:KwotaB1"]
[null,{"$f":"Adr_Przepływy & \"!$X$48\"","v":"Przepływy!$X$48"},null,null,null,null,"Kwota",null,null,"jin:PrzeplywyPosr//jin:C_I_3","dtsf:KwotaB1"]
[null,{"$f":"Adr_Przepływy & \"!$X$49\"","v":"Przepływy!$X$49"},null,null,null,null,"Kwota",null,null,"jin:PrzeplywyPosr//jin:C_I_4","dtsf:KwotaB1"]
[null,{"$f":"Adr_Przepływy & \"!$X$50\"","v":"Przepływy!$X$50"},null,null,null,null,"Kwota",null,null,"jin:PrzeplywyPosr//jin:C_II","dtsf:KwotaB1"]
[null,{"$f":"Adr_Przepływy & \"!$X$51\"","v":"Przepływy!$X$51"},null,null,null,null,"Kwota",null,null,"jin:PrzeplywyPosr//jin:C_II_1","dtsf:KwotaB1"]
[null,{"$f":"Adr_Przepływy & \"!$X$52\"","v":"Przepływy!$X$52"},null,null,null,null,"Kwota",null,null,"jin:PrzeplywyPosr//jin:C_II_2","dtsf:KwotaB1"]
[null,{"$f":"Adr_Przepływy & \"!$X$53\"","v":"Przepływy!$X$53"},null,null,null,null,"Kwota",null,null,"jin:PrzeplywyPosr//jin:C_II_3","dtsf:KwotaB1"]
[null,{"$f":"Adr_Przepływy & \"!$X$54\"","v":"Przepływy!$X$54"},null,null,null,null,"Kwota",null,null,"jin:PrzeplywyPosr//jin:C_II_4","dtsf:KwotaB1"]
[null,{"$f":"Adr_Przepływy & \"!$X$55\"","v":"Przepływy!$X$55"},null,null,null,null,"Kwota",null,null,"jin:PrzeplywyPosr//jin:C_II_5","dtsf:KwotaB1"]
[null,{"$f":"Adr_Przepływy & \"!$X$56\"","v":"Przepływy!$X$56"},null,null,null,null,"Kwota",null,null,"jin:PrzeplywyPosr//jin:C_II_6","dtsf:KwotaB1"]
[null,{"$f":"Adr_Przepływy & \"!$X$57\"","v":"Przepływy!$X$57"},null,null,null,null,"Kwota",null,null,"jin:PrzeplywyPosr//jin:C_II_7","dtsf:KwotaB1"]
[null,{"$f":"Adr_Przepływy & \"!$X$58\"","v":"Przepływy!$X$58"},null,null,null,null,"Kwota",null,null,"jin:PrzeplywyPosr//jin:C_II_8","dtsf:KwotaB1"]
[null,{"$f":"Adr_Przepływy & \"!$X$59\"","v":"Przepływy!$X$59"},null,null,null,null,"Kwota",null,null,"jin:PrzeplywyPosr//jin:C_II_9","dtsf:KwotaB1"]
[null,{"$f":"Adr_Przepływy & \"!$X$60\"","v":"Przepływy!$X$60"},null,null,null,null,"Kwota",null,null,"jin:PrzeplywyPosr//jin:C_III","dtsf:KwotaB1"]
[null,{"$f":"Adr_Przepływy & \"!$X$61\"","v":"Przepływy!$X$61"},null,null,null,null,"Kwota",null,null,"jin:PrzeplywyPosr//jin:D","dtsf:KwotaB1"]
[null,{"$f":"Adr_Przepływy & \"!$X$62\"","v":"Przepływy!$X$62"},null,null,null,null,"Kwota",null,null,"jin:PrzeplywyPosr//jin:E","dtsf:KwotaB1"]
[null,{"$f":"Adr_Przepływy & \"!$X$63\"","v":"Przepływy!$X$63"},null,null,null,null,"Kwota",null,null,"jin:PrzeplywyPosr//jin:E_1","dtsf:KwotaB1"]
[null,{"$f":"Adr_Przepływy & \"!$X$64\"","v":"Przepływy!$X$64"},null,null,null,null,"Kwota",null,null,"jin:PrzeplywyPosr//jin:F","dtsf:KwotaB1"]
[null,{"$f":"Adr_Przepływy & \"!$X$65\"","v":"Przepływy!$X$65"},null,null,null,null,"Kwota",null,null,"jin:PrzeplywyPosr//jin:G","dtsf:KwotaB1"]
[null,{"$f":"Adr_Przepływy & \"!$X$66\"","v":"Przepływy!$X$66"},null,null,null,null,"Kwota",null,null,"jin:PrzeplywyPosr//jin:G_1","dtsf:KwotaB1"]
[]
[]
[]
[null,{"$f":"Adr_Przepływy & \"!$V$69\"","v":"Przepływy!$V$69"},null,null,null,null,"Kwota",null,"*Sum","jin:PrzeplywyBezp//jin:A_I","dtsf:KwotaA"]
[null,{"$f":"Adr_Przepływy & \"!$W$69\"","v":"Przepływy!$W$69"},null,null,null,null,"Kwota",null,"*Sum","jin:PrzeplywyBezp//jin:A_I","dtsf:KwotaB"]
[null,{"$f":"Adr_Przepływy & \"!$V$70\"","v":"Przepływy!$V$70"},null,null,null,null,"Kwota",null,null,"jin:PrzeplywyBezp//jin:A_I_1","dtsf:KwotaA"]
[null,{"$f":"Adr_Przepływy & \"!$W$70\"","v":"Przepływy!$W$70"},null,null,null,null,"Kwota",null,null,"jin:PrzeplywyBezp//jin:A_I_1","dtsf:KwotaB"]
[null,{"$f":"Adr_Przepływy & \"!$V$71\"","v":"Przepływy!$V$71"},null,null,null,null,"Kwota",null,null,"jin:PrzeplywyBezp//jin:A_I_2","dtsf:KwotaA"]
[null,{"$f":"Adr_Przepływy & \"!$W$71\"","v":"Przepływy!$W$71"},null,null,null,null,"Kwota",null,null,"jin:PrzeplywyBezp//jin:A_I_2","dtsf:KwotaB"]
[null,{"$f":"Adr_Przepływy & \"!$V$72\"","v":"Przepływy!$V$72"},null,null,null,null,"Kwota",null,"*Sum","jin:PrzeplywyBezp//jin:A_II","dtsf:KwotaA"]
[null,{"$f":"Adr_Przepływy & \"!$W$72\"","v":"Przepływy!$W$72"},null,null,null,null,"Kwota",null,"*Sum","jin:PrzeplywyBezp//jin:A_II","dtsf:KwotaB"]
[null,{"$f":"Adr_Przepływy & \"!$V$73\"","v":"Przepływy!$V$73"},null,null,null,null,"Kwota",null,null,"jin:PrzeplywyBezp//jin:A_II_1","dtsf:KwotaA"]
[null,{"$f":"Adr_Przepływy & \"!$W$73\"","v":"Przepływy!$W$73"},null,null,null,null,"Kwota",null,null,"jin:PrzeplywyBezp//jin:A_II_1","dtsf:KwotaB"]
[null,{"$f":"Adr_Przepływy & \"!$V$74\"","v":"Przepływy!$V$74"},null,null,null,null,"Kwota",null,null,"jin:PrzeplywyBezp//jin:A_II_2","dtsf:KwotaA"]
[null,{"$f":"Adr_Przepływy & \"!$W$74\"","v":"Przepływy!$W$74"},null,null,null,null,"Kwota",null,null,"jin:PrzeplywyBezp//jin:A_II_2","dtsf:KwotaB"]
[null,{"$f":"Adr_Przepływy & \"!$V$75\"","v":"Przepływy!$V$75"},null,null,null,null,"Kwota",null,null,"jin:PrzeplywyBezp//jin:A_II_3","dtsf:KwotaA"]
[null,{"$f":"Adr_Przepływy & \"!$W$75\"","v":"Przepływy!$W$75"},null,null,null,null,"Kwota",null,null,"jin:PrzeplywyBezp//jin:A_II_3","dtsf:KwotaB"]
[null,{"$f":"Adr_Przepływy & \"!$V$76\"","v":"Przepływy!$V$76"},null,null,null,null,"Kwota",null,null,"jin:PrzeplywyBezp//jin:A_II_4","dtsf:KwotaA"]
[null,{"$f":"Adr_Przepływy & \"!$W$76\"","v":"Przepływy!$W$76"},null,null,null,null,"Kwota",null,null,"jin:PrzeplywyBezp//jin:A_II_4","dtsf:KwotaB"]
[null,{"$f":"Adr_Przepływy & \"!$V$77\"","v":"Przepływy!$V$77"},null,null,null,null,"Kwota",null,null,"jin:PrzeplywyBezp//jin:A_II_5","dtsf:KwotaA"]
[null,{"$f":"Adr_Przepływy & \"!$W$77\"","v":"Przepływy!$W$77"},null,null,null,null,"Kwota",null,null,"jin:PrzeplywyBezp//jin:A_II_5","dtsf:KwotaB"]
[null,{"$f":"Adr_Przepływy & \"!$V$78\"","v":"Przepływy!$V$78"},null,null,null,null,"Kwota",null,"=V69-V72","jin:PrzeplywyBezp//jin:A_III","dtsf:KwotaA"]
[null,{"$f":"Adr_Przepływy & \"!$W$78\"","v":"Przepływy!$W$78"},null,null,null,null,"Kwota",null,"=W69-W72","jin:PrzeplywyBezp//jin:A_III","dtsf:KwotaB"]
[]
[]
[null,{"$f":"Adr_Przepływy & \"!$V$80\"","v":"Przepływy!$V$80"},null,null,null,null,"Kwota",null,"*Sum","jin:PrzeplywyBezp//jin:B_I","dtsf:KwotaA"]
[null,{"$f":"Adr_Przepływy & \"!$W$80\"","v":"Przepływy!$W$80"},null,null,null,null,"Kwota",null,"*Sum","jin:PrzeplywyBezp//jin:B_I","dtsf:KwotaB"]
[null,{"$f":"Adr_Przepływy & \"!$V$81\"","v":"Przepływy!$V$81"},null,null,null,null,"Kwota",null,null,"jin:PrzeplywyBezp//jin:B_I_1","dtsf:KwotaA"]
[null,{"$f":"Adr_Przepływy & \"!$W$81\"","v":"Przepływy!$W$81"},null,null,null,null,"Kwota",null,null,"jin:PrzeplywyBezp//jin:B_I_1","dtsf:KwotaB"]
[null,{"$f":"Adr_Przepływy & \"!$V$82\"","v":"Przepływy!$V$82"},null,null,null,null,"Kwota",null,null,"jin:PrzeplywyBezp//jin:B_I_2","dtsf:KwotaA"]
[null,{"$f":"Adr_Przepływy & \"!$W$82\"","v":"Przepływy!$W$82"},null,null,null,null,"Kwota",null,null,"jin:PrzeplywyBezp//jin:B_I_2","dtsf:KwotaB"]
[null,{"$f":"Adr_Przepływy & \"!$V$83\"","v":"Przepływy!$V$83"},null,null,null,null,"Kwota",null,"*Sum","jin:PrzeplywyBezp//jin:B_I_3","dtsf:KwotaA"]
[null,{"$f":"Adr_Przepływy & \"!$W$83\"","v":"Przepływy!$W$83"},null,null,null,null,"Kwota",null,"*Sum","jin:PrzeplywyBezp//jin:B_I_3","dtsf:KwotaB"]
[null,{"$f":"Adr_Przepływy & \"!$V$84\"","v":"Przepływy!$V$84"},null,null,null,null,"Kwota",null,null,"jin:PrzeplywyBezp//jin:B_I_3_A","dtsf:KwotaA"]
[null,{"$f":"Adr_Przepływy & \"!$W$84\"","v":"Przepływy!$W$84"},null,null,null,null,"Kwota",null,null,"jin:PrzeplywyBezp//jin:B_I_3_A","dtsf:KwotaB"]
[null,{"$f":"Adr_Przepływy & \"!$V$85\"","v":"Przepływy!$V$85"},null,null,null,null,"Kwota",null,"*Sum","jin:PrzeplywyBezp//jin:B_I_3_B","dtsf:KwotaA"]
[null,{"$f":"Adr_Przepływy & \"!$W$85\"","v":"Przepływy!$W$85"},null,null,null,null,"Kwota",null,"*Sum","jin:PrzeplywyBezp//jin:B_I_3_B","dtsf:KwotaB"]
[null,{"$f":"Adr_Przepływy & \"!$V$86\"","v":"Przepływy!$V$86"},null,null,null,null,"Kwota",null,null,"jin:PrzeplywyBezp//jin:B_I_3_B_1","dtsf:KwotaA"]
[null,{"$f":"Adr_Przepływy & \"!$W$86\"","v":"Przepływy!$W$86"},null,null,null,null,"Kwota",null,null,"jin:PrzeplywyBezp//jin:B_I_3_B_1","dtsf:KwotaB"]
[null,{"$f":"Adr_Przepływy & \"!$V$87\"","v":"Przepływy!$V$87"},null,null,null,null,"Kwota",null,null,"jin:PrzeplywyBezp//jin:B_I_3_B_2","dtsf:KwotaA"]
[null,{"$f":"Adr_Przepływy & \"!$W$87\"","v":"Przepływy!$W$87"},null,null,null,null,"Kwota",null,null,"jin:PrzeplywyBezp//jin:B_I_3_B_2","dtsf:KwotaB"]
[null,{"$f":"Adr_Przepływy & \"!$V$88\"","v":"Przepływy!$V$88"},null,null,null,null,"Kwota",null,null,"jin:PrzeplywyBezp//jin:B_I_3_B_3","dtsf:KwotaA"]
[null,{"$f":"Adr_Przepływy & \"!$W$88\"","v":"Przepływy!$W$88"},null,null,null,null,"Kwota",null,null,"jin:PrzeplywyBezp//jin:B_I_3_B_3","dtsf:KwotaB"]
[null,{"$f":"Adr_Przepływy & \"!$V$89\"","v":"Przepływy!$V$89"},null,null,null,null,"Kwota",null,null,"jin:PrzeplywyBezp//jin:B_I_3_B_4","dtsf:KwotaA"]
[null,{"$f":"Adr_Przepływy & \"!$W$89\"","v":"Przepływy!$W$89"},null,null,null,null,"Kwota",null,null,"jin:PrzeplywyBezp//jin:B_I_3_B_4","dtsf:KwotaB"]
[null,{"$f":"Adr_Przepływy & \"!$V$90\"","v":"Przepływy!$V$90"},null,null,null,null,"Kwota",null,null,"jin:PrzeplywyBezp//jin:B_I_3_B_5","dtsf:KwotaA"]
[null,{"$f":"Adr_Przepływy & \"!$W$90\"","v":"Przepływy!$W$90"},null,null,null,null,"Kwota",null,null,"jin:PrzeplywyBezp//jin:B_I_3_B_5","dtsf:KwotaB"]
[null,{"$f":"Adr_Przepływy & \"!$V$91\"","v":"Przepływy!$V$91"},null,null,null,null,"Kwota",null,null,"jin:PrzeplywyBezp//jin:B_I_4","dtsf:KwotaA"]
[null,{"$f":"Adr_Przepływy & \"!$W$91\"","v":"Przepływy!$W$91"},null,null,null,null,"Kwota",null,null,"jin:PrzeplywyBezp//jin:B_I_4","dtsf:KwotaB"]
[null,{"$f":"Adr_Przepływy & \"!$V$92\"","v":"Przepływy!$V$92"},null,null,null,null,"Kwota",null,"*Sum","jin:PrzeplywyBezp//jin:B_II","dtsf:KwotaA"]
[null,{"$f":"Adr_Przepływy & \"!$W$92\"","v":"Przepływy!$W$92"},null,null,null,null,"Kwota",null,"*Sum","jin:PrzeplywyBezp//jin:B_II","dtsf:KwotaB"]
[null,{"$f":"Adr_Przepływy & \"!$V$93\"","v":"Przepływy!$V$93"},null,null,null,null,"Kwota",null,null,"jin:PrzeplywyBezp//jin:B_II_1","dtsf:KwotaA"]
[null,{"$f":"Adr_Przepływy & \"!$W$93\"","v":"Przepływy!$W$93"},null,null,null,null,"Kwota",null,null,"jin:PrzeplywyBezp//jin:B_II_1","dtsf:KwotaB"]
[null,{"$f":"Adr_Przepływy & \"!$V$94\"","v":"Przepływy!$V$94"},null,null,null,null,"Kwota",null,null,"jin:PrzeplywyBezp//jin:B_II_2","dtsf:KwotaA"]
[null,{"$f":"Adr_Przepływy & \"!$W$94\"","v":"Przepływy!$W$94"},null,null,null,null,"Kwota",null,null,"jin:PrzeplywyBezp//jin:B_II_2","dtsf:KwotaB"]
[null,{"$f":"Adr_Przepływy & \"!$V$96\"","v":"Przepływy!$V$96"},null,null,null,null,"Kwota",null,"*Sum","jin:PrzeplywyBezp//jin:B_II_3","dtsf:KwotaA"]
[null,{"$f":"Adr_Przepływy & \"!$W$96\"","v":"Przepływy!$W$96"},null,null,null,null,"Kwota",null,"*Sum","jin:PrzeplywyBezp//jin:B_II_3","dtsf:KwotaB"]
[null,{"$f":"Adr_Przepływy & \"!$V$97\"","v":"Przepływy!$V$97"},null,null,null,null,"Kwota",null,null,"jin:PrzeplywyBezp//jin:B_II_3_A","dtsf:KwotaA"]
[null,{"$f":"Adr_Przepływy & \"!$W$97\"","v":"Przepływy!$W$97"},null,null,null,null,"Kwota",null,null,"jin:PrzeplywyBezp//jin:B_II_3_A","dtsf:KwotaB"]
[null,{"$f":"Adr_Przepływy & \"!$V$98\"","v":"Przepływy!$V$98"},null,null,null,null,"Kwota",null,"*Sum","jin:PrzeplywyBezp//jin:B_II_3_B","dtsf:KwotaA"]
[null,{"$f":"Adr_Przepływy & \"!$W$98\"","v":"Przepływy!$W$98"},null,null,null,null,"Kwota",null,"*Sum","jin:PrzeplywyBezp//jin:B_II_3_B","dtsf:KwotaB"]
[null,{"$f":"Adr_Przepływy & \"!$V$99\"","v":"Przepływy!$V$99"},null,null,null,null,"Kwota",null,null,"jin:PrzeplywyBezp//jin:B_II_3_B_1","dtsf:KwotaA"]
[null,{"$f":"Adr_Przepływy & \"!$W$99\"","v":"Przepływy!$W$99"},null,null,null,null,"Kwota",null,null,"jin:PrzeplywyBezp//jin:B_II_3_B_1","dtsf:KwotaB"]
[null,{"$f":"Adr_Przepływy & \"!$V$100\"","v":"Przepływy!$V$100"},null,null,null,null,"Kwota",null,null,"jin:PrzeplywyBezp//jin:B_II_3_B_2","dtsf:KwotaA"]
[null,{"$f":"Adr_Przepływy & \"!$W$100\"","v":"Przepływy!$W$100"},null,null,null,null,"Kwota",null,null,"jin:PrzeplywyBezp//jin:B_II_3_B_2","dtsf:KwotaB"]
[null,{"$f":"Adr_Przepływy & \"!$V$101\"","v":"Przepływy!$V$101"},null,null,null,null,"Kwota",null,null,"jin:PrzeplywyBezp//jin:B_II_4","dtsf:KwotaA"]
[null,{"$f":"Adr_Przepływy & \"!$W$101\"","v":"Przepływy!$W$101"},null,null,null,null,"Kwota",null,null,"jin:PrzeplywyBezp//jin:B_II_4","dtsf:KwotaB"]
[null,{"$f":"Adr_Przepływy & \"!$V$102\"","v":"Przepływy!$V$102"},null,null,null,null,"Kwota",null,"=V80-V92","jin:PrzeplywyBezp//jin:B_III","dtsf:KwotaA"]
[null,{"$f":"Adr_Przepływy & \"!$W$102\"","v":"Przepływy!$W$102"},null,null,null,null,"Kwota",null,"=W80-W92","jin:PrzeplywyBezp//jin:B_III","dtsf:KwotaB"]
[]
[]
[null,{"$f":"Adr_Przepływy & \"!$V$104\"","v":"Przepływy!$V$104"},null,null,null,null,"Kwota",null,"*Sum","jin:PrzeplywyBezp//jin:C_I","dtsf:KwotaA"]
[null,{"$f":"Adr_Przepływy & \"!$W$104\"","v":"Przepływy!$W$104"},null,null,null,null,"Kwota",null,"*Sum","jin:PrzeplywyBezp//jin:C_I","dtsf:KwotaB"]
[null,{"$f":"Adr_Przepływy & \"!$V$105\"","v":"Przepływy!$V$105"},null,null,null,null,"Kwota",null,null,"jin:PrzeplywyBezp//jin:C_I_1","dtsf:KwotaA"]
[null,{"$f":"Adr_Przepływy & \"!$W$105\"","v":"Przepływy!$W$105"},null,null,null,null,"Kwota",null,null,"jin:PrzeplywyBezp//jin:C_I_1","dtsf:KwotaB"]
[null,{"$f":"Adr_Przepływy & \"!$V$106\"","v":"Przepływy!$V$106"},null,null,null,null,"Kwota",null,null,"jin:PrzeplywyBezp//jin:C_I_2","dtsf:KwotaA"]
[null,{"$f":"Adr_Przepływy & \"!$W$106\"","v":"Przepływy!$W$106"},null,null,null,null,"Kwota",null,null,"jin:PrzeplywyBezp//jin:C_I_2","dtsf:KwotaB"]
[null,{"$f":"Adr_Przepływy & \"!$V$107\"","v":"Przepływy!$V$107"},null,null,null,null,"Kwota",null,null,"jin:PrzeplywyBezp//jin:C_I_3","dtsf:KwotaA"]
[null,{"$f":"Adr_Przepływy & \"!$W$107\"","v":"Przepływy!$W$107"},null,null,null,null,"Kwota",null,null,"jin:PrzeplywyBezp//jin:C_I_3","dtsf:KwotaB"]
[null,{"$f":"Adr_Przepływy & \"!$V$108\"","v":"Przepływy!$V$108"},null,null,null,null,"Kwota",null,null,"jin:PrzeplywyBezp//jin:C_I_4","dtsf:KwotaA"]
[null,{"$f":"Adr_Przepływy & \"!$W$108\"","v":"Przepływy!$W$108"},null,null,null,null,"Kwota",null,null,"jin:PrzeplywyBezp//jin:C_I_4","dtsf:KwotaB"]
[null,{"$f":"Adr_Przepływy & \"!$V$109\"","v":"Przepływy!$V$109"},null,null,null,null,"Kwota",null,"*Sum","jin:PrzeplywyBezp//jin:C_II","dtsf:KwotaA"]
[null,{"$f":"Adr_Przepływy & \"!$W$109\"","v":"Przepływy!$W$109"},null,null,null,null,"Kwota",null,"*Sum","jin:PrzeplywyBezp//jin:C_II","dtsf:KwotaB"]
[null,{"$f":"Adr_Przepływy & \"!$V$110\"","v":"Przepływy!$V$110"},null,null,null,null,"Kwota",null,null,"jin:PrzeplywyBezp//jin:C_II_1","dtsf:KwotaA"]
[null,{"$f":"Adr_Przepływy & \"!$W$110\"","v":"Przepływy!$W$110"},null,null,null,null,"Kwota",null,null,"jin:PrzeplywyBezp//jin:C_II_1","dtsf:KwotaB"]
[null,{"$f":"Adr_Przepływy & \"!$V$111\"","v":"Przepływy!$V$111"},null,null,null,null,"Kwota",null,null,"jin:PrzeplywyBezp//jin:C_II_2","dtsf:KwotaA"]
[null,{"$f":"Adr_Przepływy & \"!$W$111\"","v":"Przepływy!$W$111"},null,null,null,null,"Kwota",null,null,"jin:PrzeplywyBezp//jin:C_II_2","dtsf:KwotaB"]
[null,{"$f":"Adr_Przepływy & \"!$V$112\"","v":"Przepływy!$V$112"},null,null,null,null,"Kwota",null,null,"jin:PrzeplywyBezp//jin:C_II_3","dtsf:KwotaA"]
[null,{"$f":"Adr_Przepływy & \"!$W$112\"","v":"Przepływy!$W$112"},null,null,null,null,"Kwota",null,null,"jin:PrzeplywyBezp//jin:C_II_3","dtsf:KwotaB"]
[null,{"$f":"Adr_Przepływy & \"!$V$113\"","v":"Przepływy!$V$113"},null,null,null,null,"Kwota",null,null,"jin:PrzeplywyBezp//jin:C_II_4","dtsf:KwotaA"]
[null,{"$f":"Adr_Przepływy & \"!$W$113\"","v":"Przepływy!$W$113"},null,null,null,null,"Kwota",null,null,"jin:PrzeplywyBezp//jin:C_II_4","dtsf:KwotaB"]
[null,{"$f":"Adr_Przepływy & \"!$V$114\"","v":"Przepływy!$V$114"},null,null,null,null,"Kwota",null,null,"jin:PrzeplywyBezp//jin:C_II_5","dtsf:KwotaA"]
[null,{"$f":"Adr_Przepływy & \"!$W$114\"","v":"Przepływy!$W$114"},null,null,null,null,"Kwota",null,null,"jin:PrzeplywyBezp//jin:C_II_5","dtsf:KwotaB"]
[null,{"$f":"Adr_Przepływy & \"!$V$115\"","v":"Przepływy!$V$115"},null,null,null,null,"Kwota",null,null,"jin:PrzeplywyBezp//jin:C_II_6","dtsf:KwotaA"]
[null,{"$f":"Adr_Przepływy & \"!$W$115\"","v":"Przepływy!$W$115"},null,null,null,null,"Kwota",null,null,"jin:PrzeplywyBezp//jin:C_II_6","dtsf:KwotaB"]
[null,{"$f":"Adr_Przepływy & \"!$V$116\"","v":"Przepływy!$V$116"},null,null,null,null,"Kwota",null,null,"jin:PrzeplywyBezp//jin:C_II_7","dtsf:KwotaA"]
[null,{"$f":"Adr_Przepływy & \"!$W$116\"","v":"Przepływy!$W$116"},null,null,null,null,"Kwota",null,null,"jin:PrzeplywyBezp//jin:C_II_7","dtsf:KwotaB"]
[null,{"$f":"Adr_Przepływy & \"!$V$117\"","v":"Przepływy!$V$117"},null,null,null,null,"Kwota",null,null,"jin:PrzeplywyBezp//jin:C_II_8","dtsf:KwotaA"]
[null,{"$f":"Adr_Przepływy & \"!$W$117\"","v":"Przepływy!$W$117"},null,null,null,null,"Kwota",null,null,"jin:PrzeplywyBezp//jin:C_II_8","dtsf:KwotaB"]
[null,{"$f":"Adr_Przepływy & \"!$V$118\"","v":"Przepływy!$V$118"},null,null,null,null,"Kwota",null,null,"jin:PrzeplywyBezp//jin:C_II_9","dtsf:KwotaA"]
[null,{"$f":"Adr_Przepływy & \"!$W$118\"","v":"Przepływy!$W$118"},null,null,null,null,"Kwota",null,null,"jin:PrzeplywyBezp//jin:C_II_9","dtsf:KwotaB"]
[null,{"$f":"Adr_Przepływy & \"!$V$119\"","v":"Przepływy!$V$119"},null,null,null,null,"Kwota",null,"=V104-V109","jin:PrzeplywyBezp//jin:C_III","dtsf:KwotaA"]
[null,{"$f":"Adr_Przepływy & \"!$W$119\"","v":"Przepływy!$W$119"},null,null,null,null,"Kwota",null,"=W104-W109","jin:PrzeplywyBezp//jin:C_III","dtsf:KwotaB"]
[null,{"$f":"Adr_Przepływy & \"!$V$120\"","v":"Przepływy!$V$120"},null,null,null,null,"Kwota",null,"=V78+V102+V119","jin:PrzeplywyBezp//jin:D","dtsf:KwotaA"]
[null,{"$f":"Adr_Przepływy & \"!$W$120\"","v":"Przepływy!$W$120"},null,null,null,null,"Kwota",null,"=W78+W102+W119","jin:PrzeplywyBezp//jin:D","dtsf:KwotaB"]
[null,{"$f":"Adr_Przepływy & \"!$V$121\"","v":"Przepływy!$V$121"},null,null,null,null,"Kwota",null,null,"jin:PrzeplywyBezp//jin:E","dtsf:KwotaA"]
[null,{"$f":"Adr_Przepływy & \"!$W$121\"","v":"Przepływy!$W$121"},null,null,null,null,"Kwota",null,null,"jin:PrzeplywyBezp//jin:E","dtsf:KwotaB"]
[null,{"$f":"Adr_Przepływy & \"!$V$122\"","v":"Przepływy!$V$122"},null,null,null,null,"Kwota",null,null,"jin:PrzeplywyBezp//jin:E_1","dtsf:KwotaA"]
[null,{"$f":"Adr_Przepływy & \"!$W$122\"","v":"Przepływy!$W$122"},null,null,null,null,"Kwota",null,null,"jin:PrzeplywyBezp//jin:E_1","dtsf:KwotaB"]
[null,{"$f":"Adr_Przepływy & \"!$V$123\"","v":"Przepływy!$V$123"},null,null,null,null,"Kwota",null,0,"jin:PrzeplywyBezp//jin:F","dtsf:KwotaA"]
[null,{"$f":"Adr_Przepływy & \"!$W$123\"","v":"Przepływy!$W$123"},null,null,null,null,"Kwota",null,0,"jin:PrzeplywyBezp//jin:F","dtsf:KwotaB"]
[null,{"$f":"Adr_Przepływy & \"!$V$124\"","v":"Przepływy!$V$124"},null,null,null,null,"Kwota",null,"=V123+V120","jin:PrzeplywyBezp//jin:G","dtsf:KwotaA"]
[null,{"$f":"Adr_Przepływy & \"!$W$124\"","v":"Przepływy!$W$124"},null,null,null,null,"Kwota",null,"=W123+W120","jin:PrzeplywyBezp//jin:G","dtsf:KwotaB"]
[null,{"$f":"Adr_Przepływy & \"!$V$125\"","v":"Przepływy!$V$125"},null,null,null,null,"Kwota",null,null,"jin:PrzeplywyBezp//jin:G_1","dtsf:KwotaA"]
[null,{"$f":"Adr_Przepływy & \"!$W$125\"","v":"Przepływy!$W$125"},null,null,null,null,"Kwota",null,null,"jin:PrzeplywyBezp//jin:G_1","dtsf:KwotaB"]
[]
[]
[null,{"$f":"Adr_Przepływy & \"!$X$69\"","v":"Przepływy!$X$69"},null,null,null,null,"Kwota",null,null,"jin:PrzeplywyBezp//jin:A_I","dtsf:KwotaB1"]
[null,{"$f":"Adr_Przepływy & \"!$X$70\"","v":"Przepływy!$X$70"},null,null,null,null,"Kwota",null,null,"jin:PrzeplywyBezp//jin:A_I_1","dtsf:KwotaB1"]
[null,{"$f":"Adr_Przepływy & \"!$X$71\"","v":"Przepływy!$X$71"},null,null,null,null,"Kwota",null,null,"jin:PrzeplywyBezp//jin:A_I_2","dtsf:KwotaB1"]
[null,{"$f":"Adr_Przepływy & \"!$X$72\"","v":"Przepływy!$X$72"},null,null,null,null,"Kwota",null,null,"jin:PrzeplywyBezp//jin:A_II","dtsf:KwotaB1"]
[null,{"$f":"Adr_Przepływy & \"!$X$73\"","v":"Przepływy!$X$73"},null,null,null,null,"Kwota",null,null,"jin:PrzeplywyBezp//jin:A_II_1","dtsf:KwotaB1"]
[null,{"$f":"Adr_Przepływy & \"!$X$74\"","v":"Przepływy!$X$74"},null,null,null,null,"Kwota",null,null,"jin:PrzeplywyBezp//jin:A_II_2","dtsf:KwotaB1"]
[null,{"$f":"Adr_Przepływy & \"!$X$75\"","v":"Przepływy!$X$75"},null,null,null,null,"Kwota",null,null,"jin:PrzeplywyBezp//jin:A_II_3","dtsf:KwotaB1"]
[null,{"$f":"Adr_Przepływy & \"!$X$76\"","v":"Przepływy!$X$76"},null,null,null,null,"Kwota",null,null,"jin:PrzeplywyBezp//jin:A_II_4","dtsf:KwotaB1"]
[null,{"$f":"Adr_Przepływy & \"!$X$77\"","v":"Przepływy!$X$77"},null,null,null,null,"Kwota",null,null,"jin:PrzeplywyBezp//jin:A_II_5","dtsf:KwotaB1"]
[null,{"$f":"Adr_Przepływy & \"!$X$78\"","v":"Przepływy!$X$78"},null,null,null,null,"Kwota",null,null,"jin:PrzeplywyBezp//jin:A_III","dtsf:KwotaB1"]
[]
[null,{"$f":"Adr_Przepływy & \"!$X$80\"","v":"Przepływy!$X$80"},null,null,null,null,"Kwota",null,null,"jin:PrzeplywyBezp//jin:B_I","dtsf:KwotaB1"]
[null,{"$f":"Adr_Przepływy & \"!$X$81\"","v":"Przepływy!$X$81"},null,null,null,null,"Kwota",null,null,"jin:PrzeplywyBezp//jin:B_I_1","dtsf:KwotaB1"]
[null,{"$f":"Adr_Przepływy & \"!$X$82\"","v":"Przepływy!$X$82"},null,null,null,null,"Kwota",null,null,"jin:PrzeplywyBezp//jin:B_I_2","dtsf:KwotaB1"]
[null,{"$f":"Adr_Przepływy & \"!$X$83\"","v":"Przepływy!$X$83"},null,null,null,null,"Kwota",null,null,"jin:PrzeplywyBezp//jin:B_I_3","dtsf:KwotaB1"]
[null,{"$f":"Adr_Przepływy & \"!$X$84\"","v":"Przepływy!$X$84"},null,null,null,null,"Kwota",null,null,"jin:PrzeplywyBezp//jin:B_I_3_A","dtsf:KwotaB1"]
[null,{"$f":"Adr_Przepływy & \"!$X$85\"","v":"Przepływy!$X$85"},null,null,null,null,"Kwota",null,null,"jin:PrzeplywyBezp//jin:B_I_3_B","dtsf:KwotaB1"]
[null,{"$f":"Adr_Przepływy & \"!$X$86\"","v":"Przepływy!$X$86"},null,null,null,null,"Kwota",null,null,"jin:PrzeplywyBezp//jin:B_I_3_B_1","dtsf:KwotaB1"]
[null,{"$f":"Adr_Przepływy & \"!$X$87\"","v":"Przepływy!$X$87"},null,null,null,null,"Kwota",null,null,"jin:PrzeplywyBezp//jin:B_I_3_B_2","dtsf:KwotaB1"]
[null,{"$f":"Adr_Przepływy & \"!$X$88\"","v":"Przepływy!$X$88"},null,null,null,null,"Kwota",null,null,"jin:PrzeplywyBezp//jin:B_I_3_B_3","dtsf:KwotaB1"]
[null,{"$f":"Adr_Przepływy & \"!$X$89\"","v":"Przepływy!$X$89"},null,null,null,null,"Kwota",null,null,"jin:PrzeplywyBezp//jin:B_I_3_B_4","dtsf:KwotaB1"]
[null,{"$f":"Adr_Przepływy & \"!$X$90\"","v":"Przepływy!$X$90"},null,null,null,null,"Kwota",null,null,"jin:PrzeplywyBezp//jin:B_I_3_B_5","dtsf:KwotaB1"]
[null,{"$f":"Adr_Przepływy & \"!$X$91\"","v":"Przepływy!$X$91"},null,null,null,null,"Kwota",null,null,"jin:PrzeplywyBezp//jin:B_I_4","dtsf:KwotaB1"]
[null,{"$f":"Adr_Przepływy & \"!$X$92\"","v":"Przepływy!$X$92"},null,null,null,null,"Kwota",null,null,"jin:PrzeplywyBezp//jin:B_II","dtsf:KwotaB1"]
[null,{"$f":"Adr_Przepływy & \"!$X$93\"","v":"Przepływy!$X$93"},null,null,null,null,"Kwota",null,null,"jin:PrzeplywyBezp//jin:B_II_1","dtsf:KwotaB1"]
[null,{"$f":"Adr_Przepływy & \"!$X$94\"","v":"Przepływy!$X$94"},null,null,null,null,"Kwota",null,null,"jin:PrzeplywyBezp//jin:B_II_2","dtsf:KwotaB1"]
[null,{"$f":"Adr_Przepływy & \"!$X$96\"","v":"Przepływy!$X$96"},null,null,null,null,"Kwota",null,null,"jin:PrzeplywyBezp//jin:B_II_3","dtsf:KwotaB1"]
[null,{"$f":"Adr_Przepływy & \"!$X$97\"","v":"Przepływy!$X$97"},null,null,null,null,"Kwota",null,null,"jin:PrzeplywyBezp//jin:B_II_3_A","dtsf:KwotaB1"]
[null,{"$f":"Adr_Przepływy & \"!$X$98\"","v":"Przepływy!$X$98"},null,null,null,null,"Kwota",null,null,"jin:PrzeplywyBezp//jin:B_II_3_B","dtsf:KwotaB1"]
[null,{"$f":"Adr_Przepływy & \"!$X$99\"","v":"Przepływy!$X$99"},null,null,null,null,"Kwota",null,null,"jin:PrzeplywyBezp//jin:B_II_3_B_1","dtsf:KwotaB1"]
[null,{"$f":"Adr_Przepływy & \"!$X$100\"","v":"Przepływy!$X$100"},null,null,null,null,"Kwota",null,null,"jin:PrzeplywyBezp//jin:B_II_3_B_2","dtsf:KwotaB1"]
[null,{"$f":"Adr_Przepływy & \"!$X$101\"","v":"Przepływy!$X$101"},null,null,null,null,"Kwota",null,null,"jin:PrzeplywyBezp//jin:B_II_4","dtsf:KwotaB1"]
[null,{"$f":"Adr_Przepływy & \"!$X$102\"","v":"Przepływy!$X$102"},null,null,null,null,"Kwota",null,null,"jin:PrzeplywyBezp//jin:B_III","dtsf:KwotaB1"]
[]
[null,{"$f":"Adr_Przepływy & \"!$X$104\"","v":"Przepływy!$X$104"},null,null,null,null,"Kwota",null,null,"jin:PrzeplywyBezp//jin:C_I","dtsf:KwotaB1"]
[null,{"$f":"Adr_Przepływy & \"!$X$105\"","v":"Przepływy!$X$105"},null,null,null,null,"Kwota",null,null,"jin:PrzeplywyBezp//jin:C_I_1","dtsf:KwotaB1"]
[null,{"$f":"Adr_Przepływy & \"!$X$106\"","v":"Przepływy!$X$106"},null,null,null,null,"Kwota",null,null,"jin:PrzeplywyBezp//jin:C_I_2","dtsf:KwotaB1"]
[null,{"$f":"Adr_Przepływy & \"!$X$107\"","v":"Przepływy!$X$107"},null,null,null,null,"Kwota",null,null,"jin:PrzeplywyBezp//jin:C_I_3","dtsf:KwotaB1"]
[null,{"$f":"Adr_Przepływy & \"!$X$108\"","v":"Przepływy!$X$108"},null,null,null,null,"Kwota",null,null,"jin:PrzeplywyBezp//jin:C_I_4","dtsf:KwotaB1"]
[null,{"$f":"Adr_Przepływy & \"!$X$109\"","v":"Przepływy!$X$109"},null,null,null,null,"Kwota",null,null,"jin:PrzeplywyBezp//jin:C_II","dtsf:KwotaB1"]
[null,{"$f":"Adr_Przepływy & \"!$X$110\"","v":"Przepływy!$X$110"},null,null,null,null,"Kwota",null,null,"jin:PrzeplywyBezp//jin:C_II_1","dtsf:KwotaB1"]
[null,{"$f":"Adr_Przepływy & \"!$X$111\"","v":"Przepływy!$X$111"},null,null,null,null,"Kwota",null,null,"jin:PrzeplywyBezp//jin:C_II_2","dtsf:KwotaB1"]
[null,{"$f":"Adr_Przepływy & \"!$X$112\"","v":"Przepływy!$X$112"},null,null,null,null,"Kwota",null,null,"jin:PrzeplywyBezp//jin:C_II_3","dtsf:KwotaB1"]
[null,{"$f":"Adr_Przepływy & \"!$X$113\"","v":"Przepływy!$X$113"},null,null,null,null,"Kwota",null,null,"jin:PrzeplywyBezp//jin:C_II_4","dtsf:KwotaB1"]
[null,{"$f":"Adr_Przepływy & \"!$X$114\"","v":"Przepływy!$X$114"},null,null,null,null,"Kwota",null,null,"jin:PrzeplywyBezp//jin:C_II_5","dtsf:KwotaB1"]
[null,{"$f":"Adr_Przepływy & \"!$X$115\"","v":"Przepływy!$X$115"},null,null,null,null,"Kwota",null,null,"jin:PrzeplywyBezp//jin:C_II_6","dtsf:KwotaB1"]
[null,{"$f":"Adr_Przepływy & \"!$X$116\"","v":"Przepływy!$X$116"},null,null,null,null,"Kwota",null,null,"jin:PrzeplywyBezp//jin:C_II_7","dtsf:KwotaB1"]
[null,{"$f":"Adr_Przepływy & \"!$X$117\"","v":"Przepływy!$X$117"},null,null,null,null,"Kwota",null,null,"jin:PrzeplywyBezp//jin:C_II_8","dtsf:KwotaB1"]
[null,{"$f":"Adr_Przepływy & \"!$X$118\"","v":"Przepływy!$X$118"},null,null,null,null,"Kwota",null,null,"jin:PrzeplywyBezp//jin:C_II_9","dtsf:KwotaB1"]
[null,{"$f":"Adr_Przepływy & \"!$X$119\"","v":"Przepływy!$X$119"},null,null,null,null,"Kwota",null,null,"jin:PrzeplywyBezp//jin:C_III","dtsf:KwotaB1"]
[null,{"$f":"Adr_Przepływy & \"!$X$120\"","v":"Przepływy!$X$120"},null,null,null,null,"Kwota",null,null,"jin:PrzeplywyBezp//jin:D","dtsf:KwotaB1"]
[null,{"$f":"Adr_Przepływy & \"!$X$121\"","v":"Przepływy!$X$121"},null,null,null,null,"Kwota",null,null,"jin:PrzeplywyBezp//jin:E","dtsf:KwotaB1"]
[null,{"$f":"Adr_Przepływy & \"!$X$122\"","v":"Przepływy!$X$122"},null,null,null,null,"Kwota",null,null,"jin:PrzeplywyBezp//jin:E_1","dtsf:KwotaB1"]
[null,{"$f":"Adr_Przepływy & \"!$X$123\"","v":"Przepływy!$X$123"},null,null,null,null,"Kwota",null,null,"jin:PrzeplywyBezp//jin:F","dtsf:KwotaB1"]
[null,{"$f":"Adr_Przepływy & \"!$X$124\"","v":"Przepływy!$X$124"},null,null,null,null,"Kwota",null,null,"jin:PrzeplywyBezp//jin:G","dtsf:KwotaB1"]
[null,{"$f":"Adr_Przepływy & \"!$X$125\"","v":"Przepływy!$X$125"},null,null,null,null,"Kwota",null,null,"jin:PrzeplywyBezp//jin:G_1","dtsf:KwotaB1"]
[]
[]
[null,{"$f":"Adr_Kapitał & \"!$V$6\"","v":"Kapitał!$V$6"},null,null,null,null,"Kwota",null,"0","sf:ZestZmianWKapitale//jin:I","dtsf:KwotaA"]
[null,{"$f":"Adr_Kapitał & \"!$W$6\"","v":"Kapitał!$W$6"},null,null,null,null,"Kwota",null,"0","sf:ZestZmianWKapitale//jin:I","dtsf:KwotaB"]
[null,{"$f":"Adr_Kapitał & \"!$V$7\"","v":"Kapitał!$V$7"},null,null,null,null,"Kwota",null,null,"sf:ZestZmianWKapitale//jin:I_1","dtsf:KwotaA"]
[null,{"$f":"Adr_Kapitał & \"!$W$7\"","v":"Kapitał!$W$7"},null,null,null,null,"Kwota",null,null,"sf:ZestZmianWKapitale//jin:I_1","dtsf:KwotaB"]
[null,{"$f":"Adr_Kapitał & \"!$V$8\"","v":"Kapitał!$V$8"},null,null,null,null,"Kwota",null,null,"sf:ZestZmianWKapitale//jin:I_2","dtsf:KwotaA"]
[null,{"$f":"Adr_Kapitał & \"!$W$8\"","v":"Kapitał!$W$8"},null,null,null,null,"Kwota",null,null,"sf:ZestZmianWKapitale//jin:I_2","dtsf:KwotaB"]
[null,{"$f":"Adr_Kapitał & \"!$V$9\"","v":"Kapitał!$V$9"},null,null,null,null,"Kwota",null,"=V6+V7+V8","sf:ZestZmianWKapitale//jin:IA","dtsf:KwotaA"]
[null,{"$f":"Adr_Kapitał & \"!$W$9\"","v":"Kapitał!$W$9"},null,null,null,null,"Kwota",null,"=W6+W7+W8","sf:ZestZmianWKapitale//jin:IA","dtsf:KwotaB"]
[null,{"$f":"Adr_Kapitał & \"!$V$10\"","v":"Kapitał!$V$10"},null,null,null,null,"Kwota",null,"0","sf:ZestZmianWKapitale//jin:IA_1","dtsf:KwotaA"]
[null,{"$f":"Adr_Kapitał & \"!$W$10\"","v":"Kapitał!$W$10"},null,null,null,null,"Kwota",null,"0","sf:ZestZmianWKapitale//jin:IA_1","dtsf:KwotaB"]
[null,{"$f":"Adr_Kapitał & \"!$V$11\"","v":"Kapitał!$V$11"},null,null,null,null,"Kwota",null,"=V12-V17","sf:ZestZmianWKapitale//jin:IA_1_1","dtsf:KwotaA"]
[null,{"$f":"Adr_Kapitał & \"!$W$11\"","v":"Kapitał!$W$11"},null,null,null,null,"Kwota",null,"=W12-W17","sf:ZestZmianWKapitale//jin:IA_1_1","dtsf:KwotaB"]
[null,{"$f":"Adr_Kapitał & \"!$V$12\"","v":"Kapitał!$V$12"},null,null,null,null,"Kwota",null,"*Sum","sf:ZestZmianWKapitale//jin:IA_1_1_A","dtsf:KwotaA"]
[null,{"$f":"Adr_Kapitał & \"!$W$12\"","v":"Kapitał!$W$12"},null,null,null,null,"Kwota",null,"*Sum","sf:ZestZmianWKapitale//jin:IA_1_1_A","dtsf:KwotaB"]
[null,{"$f":"Adr_Kapitał & \"!$V$13\"","v":"Kapitał!$V$13"},null,null,null,null,"Kwota",null,null,"sf:ZestZmianWKapitale//jin:IA_1_1_A_1","dtsf:KwotaA"]
[null,{"$f":"Adr_Kapitał & \"!$W$13\"","v":"Kapitał!$W$13"},null,null,null,null,"Kwota",null,null,"sf:ZestZmianWKapitale//jin:IA_1_1_A_1","dtsf:KwotaB"]
[null,{"$f":"Adr_Kapitał & \"!$O$14\"","v":"Kapitał!$O$14"},null,null,0,"Pidx","Tekst",1,null,"sf:ZestZmianWKapitale//jin:IA_1_1_A/jin:PozycjaUszczegolawiajaca_2","dtsf:NazwaPozycji"]
[null,{"$f":"Adr_Kapitał & \"!$V$14\"","v":"Kapitał!$V$14"},null,null,null,"Pidx","Kwota",1,null,"sf:ZestZmianWKapitale//jin:IA_1_1_A/jin:PozycjaUszczegolawiajaca_2","dtsf:KwotyPozycji/dtsf:KwotaA"]
[null,{"$f":"Adr_Kapitał & \"!$W$14\"","v":"Kapitał!$W$14"},null,null,null,"Pidx","Kwota",1,null,"sf:ZestZmianWKapitale//jin:IA_1_1_A/jin:PozycjaUszczegolawiajaca_2","dtsf:KwotyPozycji/dtsf:KwotaB"]
[null,{"$f":"Adr_Kapitał & \"!$O$15\"","v":"Kapitał!$O$15"},null,null,0,"Pidx","Tekst",2,null,"sf:ZestZmianWKapitale//jin:IA_1_1_A/jin:PozycjaUszczegolawiajaca_2","dtsf:NazwaPozycji"]
[null,{"$f":"Adr_Kapitał & \"!$V$15\"","v":"Kapitał!$V$15"},null,null,null,"Pidx","Kwota",2,null,"sf:ZestZmianWKapitale//jin:IA_1_1_A/jin:PozycjaUszczegolawiajaca_2","dtsf:KwotyPozycji/dtsf:KwotaA"]
[null,{"$f":"Adr_Kapitał & \"!$W$15\"","v":"Kapitał!$W$15"},null,null,null,"Pidx","Kwota",2,null,"sf:ZestZmianWKapitale//jin:IA_1_1_A/jin:PozycjaUszczegolawiajaca_2","dtsf:KwotyPozycji/dtsf:KwotaB"]
[null,{"$f":"Adr_Kapitał & \"!$O$16\"","v":"Kapitał!$O$16"},null,null,0,"Pidx","Tekst",3,null,"sf:ZestZmianWKapitale//jin:IA_1_1_A/jin:PozycjaUszczegolawiajaca_2","dtsf:NazwaPozycji"]
[null,{"$f":"Adr_Kapitał & \"!$V$16\"","v":"Kapitał!$V$16"},null,null,null,"Pidx","Kwota",3,null,"sf:ZestZmianWKapitale//jin:IA_1_1_A/jin:PozycjaUszczegolawiajaca_2","dtsf:KwotyPozycji/dtsf:KwotaA"]
[null,{"$f":"Adr_Kapitał & \"!$W$16\"","v":"Kapitał!$W$16"},null,null,null,"Pidx","Kwota",3,null,"sf:ZestZmianWKapitale//jin:IA_1_1_A/jin:PozycjaUszczegolawiajaca_2","dtsf:KwotyPozycji/dtsf:KwotaB"]
[null,{"$f":"Adr_Kapitał & \"!$V$17\"","v":"Kapitał!$V$17"},null,null,null,null,"Kwota",null,"*Sum","sf:ZestZmianWKapitale//jin:IA_1_1_B","dtsf:KwotaA"]
[null,{"$f":"Adr_Kapitał & \"!$W$17\"","v":"Kapitał!$W$17"},null,null,null,null,"Kwota",null,"*Sum","sf:ZestZmianWKapitale//jin:IA_1_1_B","dtsf:KwotaB"]
[null,{"$f":"Adr_Kapitał & \"!$V$18\"","v":"Kapitał!$V$18"},null,null,null,null,"Kwota",null,null,"sf:ZestZmianWKapitale//jin:IA_1_1_B_1","dtsf:KwotaA"]
[null,{"$f":"Adr_Kapitał & \"!$W$18\"","v":"Kapitał!$W$18"},null,null,null,null,"Kwota",null,null,"sf:ZestZmianWKapitale//jin:IA_1_1_B_1","dtsf:KwotaB"]
[null,{"$f":"Adr_Kapitał & \"!$O$19\"","v":"Kapitał!$O$19"},null,null,0,"Pidx","Tekst",1,null,"sf:ZestZmianWKapitale//jin:IA_1_1_B/jin:PozycjaUszczegolawiajaca_2","dtsf:NazwaPozycji"]
[null,{"$f":"Adr_Kapitał & \"!$V$19\"","v":"Kapitał!$V$19"},null,null,null,"Pidx","Kwota",1,null,"sf:ZestZmianWKapitale//jin:IA_1_1_B/jin:PozycjaUszczegolawiajaca_2","dtsf:KwotyPozycji/dtsf:KwotaA"]
[null,{"$f":"Adr_Kapitał & \"!$W$19\"","v":"Kapitał!$W$19"},null,null,null,"Pidx","Kwota",1,null,"sf:ZestZmianWKapitale//jin:IA_1_1_B/jin:PozycjaUszczegolawiajaca_2","dtsf:KwotyPozycji/dtsf:KwotaB"]
[null,{"$f":"Adr_Kapitał & \"!$O$20\"","v":"Kapitał!$O$20"},null,null,0,"Pidx","Tekst",2,null,"sf:ZestZmianWKapitale//jin:IA_1_1_B/jin:PozycjaUszczegolawiajaca_2","dtsf:NazwaPozycji"]
[null,{"$f":"Adr_Kapitał & \"!$V$20\"","v":"Kapitał!$V$20"},null,null,null,"Pidx","Kwota",2,null,"sf:ZestZmianWKapitale//jin:IA_1_1_B/jin:PozycjaUszczegolawiajaca_2","dtsf:KwotyPozycji/dtsf:KwotaA"]
[null,{"$f":"Adr_Kapitał & \"!$W$20\"","v":"Kapitał!$W$20"},null,null,null,"Pidx","Kwota",2,null,"sf:ZestZmianWKapitale//jin:IA_1_1_B/jin:PozycjaUszczegolawiajaca_2","dtsf:KwotyPozycji/dtsf:KwotaB"]
[null,{"$f":"Adr_Kapitał & \"!$O$21\"","v":"Kapitał!$O$21"},null,null,0,"Pidx","Tekst",3,null,"sf:ZestZmianWKapitale//jin:IA_1_1_B/jin:PozycjaUszczegolawiajaca_2","dtsf:NazwaPozycji"]
[null,{"$f":"Adr_Kapitał & \"!$V$21\"","v":"Kapitał!$V$21"},null,null,null,"Pidx","Kwota",3,null,"sf:ZestZmianWKapitale//jin:IA_1_1_B/jin:PozycjaUszczegolawiajaca_2","dtsf:KwotyPozycji/dtsf:KwotaA"]
[null,{"$f":"Adr_Kapitał & \"!$W$21\"","v":"Kapitał!$W$21"},null,null,null,"Pidx","Kwota",3,null,"sf:ZestZmianWKapitale//jin:IA_1_1_B/jin:PozycjaUszczegolawiajaca_2","dtsf:KwotyPozycji/dtsf:KwotaB"]
[null,{"$f":"Adr_Kapitał & \"!$V$22\"","v":"Kapitał!$V$22"},null,null,null,null,"Kwota",null,"=V10+V11","sf:ZestZmianWKapitale//jin:IA_1_2","dtsf:KwotaA"]
[null,{"$f":"Adr_Kapitał & \"!$W$22\"","v":"Kapitał!$W$22"},null,null,null,null,"Kwota",null,"=W10+W11","sf:ZestZmianWKapitale//jin:IA_1_2","dtsf:KwotaB"]
[null,{"$f":"Adr_Kapitał & \"!$V$23\"","v":"Kapitał!$V$23"},null,null,null,null,"Kwota",null,"0","sf:ZestZmianWKapitale//jin:IA_2","dtsf:KwotaA"]
[null,{"$f":"Adr_Kapitał & \"!$W$23\"","v":"Kapitał!$W$23"},null,null,null,null,"Kwota",null,"0","sf:ZestZmianWKapitale//jin:IA_2","dtsf:KwotaB"]
[null,{"$f":"Adr_Kapitał & \"!$V$24\"","v":"Kapitał!$V$24"},null,null,null,null,"Kwota",null,"=V25-V32","sf:ZestZmianWKapitale//jin:IA_2_1","dtsf:KwotaA"]
[null,{"$f":"Adr_Kapitał & \"!$W$24\"","v":"Kapitał!$W$24"},null,null,null,null,"Kwota",null,"=W25-W32","sf:ZestZmianWKapitale//jin:IA_2_1","dtsf:KwotaB"]
[null,{"$f":"Adr_Kapitał & \"!$V$25\"","v":"Kapitał!$V$25"},null,null,null,null,"Kwota",null,"*Sum","sf:ZestZmianWKapitale//jin:IA_2_1_A","dtsf:KwotaA"]
[null,{"$f":"Adr_Kapitał & \"!$W$25\"","v":"Kapitał!$W$25"},null,null,null,null,"Kwota",null,"*Sum","sf:ZestZmianWKapitale//jin:IA_2_1_A","dtsf:KwotaB"]
[null,{"$f":"Adr_Kapitał & \"!$V$26\"","v":"Kapitał!$V$26"},null,null,null,null,"Kwota",null,null,"sf:ZestZmianWKapitale//jin:IA_2_1_A_1","dtsf:KwotaA"]
[null,{"$f":"Adr_Kapitał & \"!$W$26\"","v":"Kapitał!$W$26"},null,null,null,null,"Kwota",null,null,"sf:ZestZmianWKapitale//jin:IA_2_1_A_1","dtsf:KwotaB"]
[null,{"$f":"Adr_Kapitał & \"!$V$27\"","v":"Kapitał!$V$27"},null,null,null,null,"Kwota",null,null,"sf:ZestZmianWKapitale//jin:IA_2_1_A_2","dtsf:KwotaA"]
[null,{"$f":"Adr_Kapitał & \"!$W$27\"","v":"Kapitał!$W$27"},null,null,null,null,"Kwota",null,null,"sf:ZestZmianWKapitale//jin:IA_2_1_A_2","dtsf:KwotaB"]
[null,{"$f":"Adr_Kapitał & \"!$V$28\"","v":"Kapitał!$V$28"},null,null,null,null,"Kwota",null,null,"sf:ZestZmianWKapitale//jin:IA_2_1_A_3","dtsf:KwotaA"]
[null,{"$f":"Adr_Kapitał & \"!$W$28\"","v":"Kapitał!$W$28"},null,null,null,null,"Kwota",null,null,"sf:ZestZmianWKapitale//jin:IA_2_1_A_3","dtsf:KwotaB"]
[null,{"$f":"Adr_Kapitał & \"!$O$29\"","v":"Kapitał!$O$29"},null,null,0,"Pidx","Tekst",1,null,"sf:ZestZmianWKapitale//jin:IA_2_1_A/jin:PozycjaUszczegolawiajaca_4","dtsf:NazwaPozycji"]
[null,{"$f":"Adr_Kapitał & \"!$V$29\"","v":"Kapitał!$V$29"},null,null,null,"Pidx","Kwota",1,null,"sf:ZestZmianWKapitale//jin:IA_2_1_A/jin:PozycjaUszczegolawiajaca_4","dtsf:KwotyPozycji/dtsf:KwotaA"]
[null,{"$f":"Adr_Kapitał & \"!$W$29\"","v":"Kapitał!$W$29"},null,null,null,"Pidx","Kwota",1,null,"sf:ZestZmianWKapitale//jin:IA_2_1_A/jin:PozycjaUszczegolawiajaca_4","dtsf:KwotyPozycji/dtsf:KwotaB"]
[null,{"$f":"Adr_Kapitał & \"!$O$30\"","v":"Kapitał!$O$30"},null,null,0,"Pidx","Tekst",2,null,"sf:ZestZmianWKapitale//jin:IA_2_1_A/jin:PozycjaUszczegolawiajaca_4","dtsf:NazwaPozycji"]
[null,{"$f":"Adr_Kapitał & \"!$V$30\"","v":"Kapitał!$V$30"},null,null,null,"Pidx","Kwota",2,null,"sf:ZestZmianWKapitale//jin:IA_2_1_A/jin:PozycjaUszczegolawiajaca_4","dtsf:KwotyPozycji/dtsf:KwotaA"]
[null,{"$f":"Adr_Kapitał & \"!$W$30\"","v":"Kapitał!$W$30"},null,null,null,"Pidx","Kwota",2,null,"sf:ZestZmianWKapitale//jin:IA_2_1_A/jin:PozycjaUszczegolawiajaca_4","dtsf:KwotyPozycji/dtsf:KwotaB"]
[null,{"$f":"Adr_Kapitał & \"!$O$31\"","v":"Kapitał!$O$31"},null,null,0,"Pidx","Tekst",3,null,"sf:ZestZmianWKapitale//jin:IA_2_1_A/jin:PozycjaUszczegolawiajaca_4","dtsf:NazwaPozycji"]
[null,{"$f":"Adr_Kapitał & \"!$V$31\"","v":"Kapitał!$V$31"},null,null,null,"Pidx","Kwota",3,null,"sf:ZestZmianWKapitale//jin:IA_2_1_A/jin:PozycjaUszczegolawiajaca_4","dtsf:KwotyPozycji/dtsf:KwotaA"]
[null,{"$f":"Adr_Kapitał & \"!$W$31\"","v":"Kapitał!$W$31"},null,null,null,"Pidx","Kwota",3,null,"sf:ZestZmianWKapitale//jin:IA_2_1_A/jin:PozycjaUszczegolawiajaca_4","dtsf:KwotyPozycji/dtsf:KwotaB"]
[null,{"$f":"Adr_Kapitał & \"!$V$32\"","v":"Kapitał!$V$32"},null,null,null,null,"Kwota",null,"*Sum","sf:ZestZmianWKapitale//jin:IA_2_1_B","dtsf:KwotaA"]
[null,{"$f":"Adr_Kapitał & \"!$W$32\"","v":"Kapitał!$W$32"},null,null,null,null,"Kwota",null,"*Sum","sf:ZestZmianWKapitale//jin:IA_2_1_B","dtsf:KwotaB"]
[null,{"$f":"Adr_Kapitał & \"!$V$33\"","v":"Kapitał!$V$33"},null,null,null,null,"Kwota",null,null,"sf:ZestZmianWKapitale//jin:IA_2_1_B_1","dtsf:KwotaA"]
[null,{"$f":"Adr_Kapitał & \"!$W$33\"","v":"Kapitał!$W$33"},null,null,null,null,"Kwota",null,null,"sf:ZestZmianWKapitale//jin:IA_2_1_B_1","dtsf:KwotaB"]
[null,{"$f":"Adr_Kapitał & \"!$O$34\"","v":"Kapitał!$O$34"},null,null,0,"Pidx","Tekst",1,null,"sf:ZestZmianWKapitale//jin:IA_2_1_B/jin:PozycjaUszczegolawiajaca_2","dtsf:NazwaPozycji"]
[null,{"$f":"Adr_Kapitał & \"!$V$34\"","v":"Kapitał!$V$34"},null,null,null,"Pidx","Kwota",1,null,"sf:ZestZmianWKapitale//jin:IA_2_1_B/jin:PozycjaUszczegolawiajaca_2","dtsf:KwotyPozycji/dtsf:KwotaA"]
[null,{"$f":"Adr_Kapitał & \"!$W$34\"","v":"Kapitał!$W$34"},null,null,null,"Pidx","Kwota",1,null,"sf:ZestZmianWKapitale//jin:IA_2_1_B/jin:PozycjaUszczegolawiajaca_2","dtsf:KwotyPozycji/dtsf:KwotaB"]
[null,{"$f":"Adr_Kapitał & \"!$O$35\"","v":"Kapitał!$O$35"},null,null,0,"Pidx","Tekst",2,null,"sf:ZestZmianWKapitale//jin:IA_2_1_B/jin:PozycjaUszczegolawiajaca_2","dtsf:NazwaPozycji"]
[null,{"$f":"Adr_Kapitał & \"!$V$35\"","v":"Kapitał!$V$35"},null,null,null,"Pidx","Kwota",2,null,"sf:ZestZmianWKapitale//jin:IA_2_1_B/jin:PozycjaUszczegolawiajaca_2","dtsf:KwotyPozycji/dtsf:KwotaA"]
[null,{"$f":"Adr_Kapitał & \"!$W$35\"","v":"Kapitał!$W$35"},null,null,null,"Pidx","Kwota",2,null,"sf:ZestZmianWKapitale//jin:IA_2_1_B/jin:PozycjaUszczegolawiajaca_2","dtsf:KwotyPozycji/dtsf:KwotaB"]
[null,{"$f":"Adr_Kapitał & \"!$O$36\"","v":"Kapitał!$O$36"},null,null,0,"Pidx","Tekst",3,null,"sf:ZestZmianWKapitale//jin:IA_2_1_B/jin:PozycjaUszczegolawiajaca_2","dtsf:NazwaPozycji"]
[null,{"$f":"Adr_Kapitał & \"!$V$36\"","v":"Kapitał!$V$36"},null,null,null,"Pidx","Kwota",3,null,"sf:ZestZmianWKapitale//jin:IA_2_1_B/jin:PozycjaUszczegolawiajaca_2","dtsf:KwotyPozycji/dtsf:KwotaA"]
[null,{"$f":"Adr_Kapitał & \"!$W$36\"","v":"Kapitał!$W$36"},null,null,null,"Pidx","Kwota",3,null,"sf:ZestZmianWKapitale//jin:IA_2_1_B/jin:PozycjaUszczegolawiajaca_2","dtsf:KwotyPozycji/dtsf:KwotaB"]
[null,{"$f":"Adr_Kapitał & \"!$V$37\"","v":"Kapitał!$V$37"},null,null,null,null,"Kwota",null,"=V23+V24","sf:ZestZmianWKapitale//jin:IA_2_2","dtsf:KwotaA"]
[null,{"$f":"Adr_Kapitał & \"!$W$37\"","v":"Kapitał!$W$37"},null,null,null,null,"Kwota",null,"=W23+W24","sf:ZestZmianWKapitale//jin:IA_2_2","dtsf:KwotaB"]
[null,{"$f":"Adr_Kapitał & \"!$V$39\"","v":"Kapitał!$V$39"},null,null,null,null,"Kwota",null,"0","sf:ZestZmianWKapitale//jin:IA_3","dtsf:KwotaA"]
[null,{"$f":"Adr_Kapitał & \"!$W$39\"","v":"Kapitał!$W$39"},null,null,null,null,"Kwota",null,"0","sf:ZestZmianWKapitale//jin:IA_3","dtsf:KwotaB"]
[null,{"$f":"Adr_Kapitał & \"!$V$40\"","v":"Kapitał!$V$40"},null,null,null,null,"Kwota",null,"=V41-V45","sf:ZestZmianWKapitale//jin:IA_3_1","dtsf:KwotaA"]
[null,{"$f":"Adr_Kapitał & \"!$W$40\"","v":"Kapitał!$W$40"},null,null,null,null,"Kwota",null,"=W41-W45","sf:ZestZmianWKapitale//jin:IA_3_1","dtsf:KwotaB"]
[null,{"$f":"Adr_Kapitał & \"!$V$41\"","v":"Kapitał!$V$41"},null,null,null,null,"Kwota",null,"*Sum","sf:ZestZmianWKapitale//jin:IA_3_1_A","dtsf:KwotaA"]
[null,{"$f":"Adr_Kapitał & \"!$W$41\"","v":"Kapitał!$W$41"},null,null,null,null,"Kwota",null,"*Sum","sf:ZestZmianWKapitale//jin:IA_3_1_A","dtsf:KwotaB"]
[null,{"$f":"Adr_Kapitał & \"!$O$42\"","v":"Kapitał!$O$42"},null,null,0,"Pidx","Tekst",1,null,"sf:ZestZmianWKapitale//jin:IA_3_1_A/dtsf:PozycjaUszczegolawiajaca","dtsf:NazwaPozycji"]
[null,{"$f":"Adr_Kapitał & \"!$V$42\"","v":"Kapitał!$V$42"},null,null,null,"Pidx","Kwota",1,null,"sf:ZestZmianWKapitale//jin:IA_3_1_A/dtsf:PozycjaUszczegolawiajaca","dtsf:KwotyPozycji/dtsf:KwotaA"]
[null,{"$f":"Adr_Kapitał & \"!$W$42\"","v":"Kapitał!$W$42"},null,null,null,"Pidx","Kwota",1,null,"sf:ZestZmianWKapitale//jin:IA_3_1_A/dtsf:PozycjaUszczegolawiajaca","dtsf:KwotyPozycji/dtsf:KwotaB"]
[null,{"$f":"Adr_Kapitał & \"!$O$43\"","v":"Kapitał!$O$43"},null,null,0,"Pidx","Tekst",2,null,"sf:ZestZmianWKapitale//jin:IA_3_1_A/dtsf:PozycjaUszczegolawiajaca","dtsf:NazwaPozycji"]
[null,{"$f":"Adr_Kapitał & \"!$V$43\"","v":"Kapitał!$V$43"},null,null,null,"Pidx","Kwota",2,null,"sf:ZestZmianWKapitale//jin:IA_3_1_A/dtsf:PozycjaUszczegolawiajaca","dtsf:KwotyPozycji/dtsf:KwotaA"]
[null,{"$f":"Adr_Kapitał & \"!$W$43\"","v":"Kapitał!$W$43"},null,null,null,"Pidx","Kwota",2,null,"sf:ZestZmianWKapitale//jin:IA_3_1_A/dtsf:PozycjaUszczegolawiajaca","dtsf:KwotyPozycji/dtsf:KwotaB"]
[null,{"$f":"Adr_Kapitał & \"!$O$44\"","v":"Kapitał!$O$44"},null,null,0,"Pidx","Tekst",3,null,"sf:ZestZmianWKapitale//jin:IA_3_1_A/dtsf:PozycjaUszczegolawiajaca","dtsf:NazwaPozycji"]
[null,{"$f":"Adr_Kapitał & \"!$V$44\"","v":"Kapitał!$V$44"},null,null,null,"Pidx","Kwota",3,null,"sf:ZestZmianWKapitale//jin:IA_3_1_A/dtsf:PozycjaUszczegolawiajaca","dtsf:KwotyPozycji/dtsf:KwotaA"]
[null,{"$f":"Adr_Kapitał & \"!$W$44\"","v":"Kapitał!$W$44"},null,null,null,"Pidx","Kwota",3,null,"sf:ZestZmianWKapitale//jin:IA_3_1_A/dtsf:PozycjaUszczegolawiajaca","dtsf:KwotyPozycji/dtsf:KwotaB"]
[null,{"$f":"Adr_Kapitał & \"!$V$45\"","v":"Kapitał!$V$45"},null,null,null,null,"Kwota",null,"*Sum","sf:ZestZmianWKapitale//jin:IA_3_1_B","dtsf:KwotaA"]
[null,{"$f":"Adr_Kapitał & \"!$W$45\"","v":"Kapitał!$W$45"},null,null,null,null,"Kwota",null,"*Sum","sf:ZestZmianWKapitale//jin:IA_3_1_B","dtsf:KwotaB"]
[null,{"$f":"Adr_Kapitał & \"!$V$46\"","v":"Kapitał!$V$46"},null,null,null,null,"Kwota",null,null,"sf:ZestZmianWKapitale//jin:IA_3_1_B_1","dtsf:KwotaA"]
[null,{"$f":"Adr_Kapitał & \"!$W$46\"","v":"Kapitał!$W$46"},null,null,null,null,"Kwota",null,null,"sf:ZestZmianWKapitale//jin:IA_3_1_B_1","dtsf:KwotaB"]
[null,{"$f":"Adr_Kapitał & \"!$O$47\"","v":"Kapitał!$O$47"},null,null,0,"Pidx","Tekst",1,null,"sf:ZestZmianWKapitale//jin:IA_3_1_B/jin:PozycjaUszczegolawiajaca_2","dtsf:NazwaPozycji"]
[null,{"$f":"Adr_Kapitał & \"!$V$47\"","v":"Kapitał!$V$47"},null,null,null,"Pidx","Kwota",1,null,"sf:ZestZmianWKapitale//jin:IA_3_1_B/jin:PozycjaUszczegolawiajaca_2","dtsf:KwotyPozycji/dtsf:KwotaA"]
[null,{"$f":"Adr_Kapitał & \"!$W$47\"","v":"Kapitał!$W$47"},null,null,null,"Pidx","Kwota",1,null,"sf:ZestZmianWKapitale//jin:IA_3_1_B/jin:PozycjaUszczegolawiajaca_2","dtsf:KwotyPozycji/dtsf:KwotaB"]
[null,{"$f":"Adr_Kapitał & \"!$O$48\"","v":"Kapitał!$O$48"},null,null,0,"Pidx","Tekst",2,null,"sf:ZestZmianWKapitale//jin:IA_3_1_B/jin:PozycjaUszczegolawiajaca_2","dtsf:NazwaPozycji"]
[null,{"$f":"Adr_Kapitał & \"!$V$48\"","v":"Kapitał!$V$48"},null,null,null,"Pidx","Kwota",2,null,"sf:ZestZmianWKapitale//jin:IA_3_1_B/jin:PozycjaUszczegolawiajaca_2","dtsf:KwotyPozycji/dtsf:KwotaA"]
[null,{"$f":"Adr_Kapitał & \"!$W$48\"","v":"Kapitał!$W$48"},null,null,null,"Pidx","Kwota",2,null,"sf:ZestZmianWKapitale//jin:IA_3_1_B/jin:PozycjaUszczegolawiajaca_2","dtsf:KwotyPozycji/dtsf:KwotaB"]
[null,{"$f":"Adr_Kapitał & \"!$O$49\"","v":"Kapitał!$O$49"},null,null,0,"Pidx","Tekst",3,null,"sf:ZestZmianWKapitale//jin:IA_3_1_B/jin:PozycjaUszczegolawiajaca_2","dtsf:NazwaPozycji"]
[null,{"$f":"Adr_Kapitał & \"!$V$49\"","v":"Kapitał!$V$49"},null,null,null,"Pidx","Kwota",3,null,"sf:ZestZmianWKapitale//jin:IA_3_1_B/jin:PozycjaUszczegolawiajaca_2","dtsf:KwotyPozycji/dtsf:KwotaA"]
[null,{"$f":"Adr_Kapitał & \"!$W$49\"","v":"Kapitał!$W$49"},null,null,null,"Pidx","Kwota",3,null,"sf:ZestZmianWKapitale//jin:IA_3_1_B/jin:PozycjaUszczegolawiajaca_2","dtsf:KwotyPozycji/dtsf:KwotaB"]
[null,{"$f":"Adr_Kapitał & \"!$V$50\"","v":"Kapitał!$V$50"},null,null,null,null,"Kwota",null,"=V39+V40","sf:ZestZmianWKapitale//jin:IA_3_2","dtsf:KwotaA"]
[null,{"$f":"Adr_Kapitał & \"!$W$50\"","v":"Kapitał!$W$50"},null,null,null,null,"Kwota",null,"=W39+W40","sf:ZestZmianWKapitale//jin:IA_3_2","dtsf:KwotaB"]
[null,{"$f":"Adr_Kapitał & \"!$V$51\"","v":"Kapitał!$V$51"},null,null,null,null,"Kwota",null,"0","sf:ZestZmianWKapitale//jin:IA_4","dtsf:KwotaA"]
[null,{"$f":"Adr_Kapitał & \"!$W$51\"","v":"Kapitał!$W$51"},null,null,null,null,"Kwota",null,"0","sf:ZestZmianWKapitale//jin:IA_4","dtsf:KwotaB"]
[null,{"$f":"Adr_Kapitał & \"!$V$52\"","v":"Kapitał!$V$52"},null,null,null,null,"Kwota",null,"=V53-V57","sf:ZestZmianWKapitale//jin:IA_4_1","dtsf:KwotaA"]
[null,{"$f":"Adr_Kapitał & \"!$W$52\"","v":"Kapitał!$W$52"},null,null,null,null,"Kwota",null,"=W53-W57","sf:ZestZmianWKapitale//jin:IA_4_1","dtsf:KwotaB"]
[null,{"$f":"Adr_Kapitał & \"!$V$53\"","v":"Kapitał!$V$53"},null,null,null,null,"Kwota",null,"*Sum","sf:ZestZmianWKapitale//jin:IA_4_1_A","dtsf:KwotaA"]
[null,{"$f":"Adr_Kapitał & \"!$W$53\"","v":"Kapitał!$W$53"},null,null,null,null,"Kwota",null,"*Sum","sf:ZestZmianWKapitale//jin:IA_4_1_A","dtsf:KwotaB"]
[null,{"$f":"Adr_Kapitał & \"!$O$54\"","v":"Kapitał!$O$54"},null,null,0,"Pidx","Tekst",1,null,"sf:ZestZmianWKapitale//jin:IA_4_1_A/dtsf:PozycjaUszczegolawiajaca","dtsf:NazwaPozycji"]
[null,{"$f":"Adr_Kapitał & \"!$V$54\"","v":"Kapitał!$V$54"},null,null,null,"Pidx","Kwota",1,null,"sf:ZestZmianWKapitale//jin:IA_4_1_A/dtsf:PozycjaUszczegolawiajaca","dtsf:KwotyPozycji/dtsf:KwotaA"]
[null,{"$f":"Adr_Kapitał & \"!$W$54\"","v":"Kapitał!$W$54"},null,null,null,"Pidx","Kwota",1,null,"sf:ZestZmianWKapitale//jin:IA_4_1_A/dtsf:PozycjaUszczegolawiajaca","dtsf:KwotyPozycji/dtsf:KwotaB"]
[null,{"$f":"Adr_Kapitał & \"!$O$55\"","v":"Kapitał!$O$55"},null,null,0,"Pidx","Tekst",2,null,"sf:ZestZmianWKapitale//jin:IA_4_1_A/dtsf:PozycjaUszczegolawiajaca","dtsf:NazwaPozycji"]
[null,{"$f":"Adr_Kapitał & \"!$V$55\"","v":"Kapitał!$V$55"},null,null,null,"Pidx","Kwota",2,null,"sf:ZestZmianWKapitale//jin:IA_4_1_A/dtsf:PozycjaUszczegolawiajaca","dtsf:KwotyPozycji/dtsf:KwotaA"]
[null,{"$f":"Adr_Kapitał & \"!$W$55\"","v":"Kapitał!$W$55"},null,null,null,"Pidx","Kwota",2,null,"sf:ZestZmianWKapitale//jin:IA_4_1_A/dtsf:PozycjaUszczegolawiajaca","dtsf:KwotyPozycji/dtsf:KwotaB"]
[null,{"$f":"Adr_Kapitał & \"!$O$56\"","v":"Kapitał!$O$56"},null,null,0,"Pidx","Tekst",3,null,"sf:ZestZmianWKapitale//jin:IA_4_1_A/dtsf:PozycjaUszczegolawiajaca","dtsf:NazwaPozycji"]
[null,{"$f":"Adr_Kapitał & \"!$V$56\"","v":"Kapitał!$V$56"},null,null,null,"Pidx","Kwota",3,null,"sf:ZestZmianWKapitale//jin:IA_4_1_A/dtsf:PozycjaUszczegolawiajaca","dtsf:KwotyPozycji/dtsf:KwotaA"]
[null,{"$f":"Adr_Kapitał & \"!$W$56\"","v":"Kapitał!$W$56"},null,null,null,"Pidx","Kwota",3,null,"sf:ZestZmianWKapitale//jin:IA_4_1_A/dtsf:PozycjaUszczegolawiajaca","dtsf:KwotyPozycji/dtsf:KwotaB"]
[null,{"$f":"Adr_Kapitał & \"!$V$57\"","v":"Kapitał!$V$57"},null,null,null,null,"Kwota",null,"*Sum","sf:ZestZmianWKapitale//jin:IA_4_1_B","dtsf:KwotaA"]
[null,{"$f":"Adr_Kapitał & \"!$W$57\"","v":"Kapitał!$W$57"},null,null,null,null,"Kwota",null,"*Sum","sf:ZestZmianWKapitale//jin:IA_4_1_B","dtsf:KwotaB"]
[null,{"$f":"Adr_Kapitał & \"!$O$58\"","v":"Kapitał!$O$58"},null,null,0,"Pidx","Tekst",1,null,"sf:ZestZmianWKapitale//jin:IA_4_1_B/dtsf:PozycjaUszczegolawiajaca","dtsf:NazwaPozycji"]
[null,{"$f":"Adr_Kapitał & \"!$V$58\"","v":"Kapitał!$V$58"},null,null,null,"Pidx","Kwota",1,null,"sf:ZestZmianWKapitale//jin:IA_4_1_B/dtsf:PozycjaUszczegolawiajaca","dtsf:KwotyPozycji/dtsf:KwotaA"]
[null,{"$f":"Adr_Kapitał & \"!$W$58\"","v":"Kapitał!$W$58"},null,null,null,"Pidx","Kwota",1,null,"sf:ZestZmianWKapitale//jin:IA_4_1_B/dtsf:PozycjaUszczegolawiajaca","dtsf:KwotyPozycji/dtsf:KwotaB"]
[null,{"$f":"Adr_Kapitał & \"!$O$59\"","v":"Kapitał!$O$59"},null,null,0,"Pidx","Tekst",2,null,"sf:ZestZmianWKapitale//jin:IA_4_1_B/dtsf:PozycjaUszczegolawiajaca","dtsf:NazwaPozycji"]
[null,{"$f":"Adr_Kapitał & \"!$V$59\"","v":"Kapitał!$V$59"},null,null,null,"Pidx","Kwota",2,null,"sf:ZestZmianWKapitale//jin:IA_4_1_B/dtsf:PozycjaUszczegolawiajaca","dtsf:KwotyPozycji/dtsf:KwotaA"]
[null,{"$f":"Adr_Kapitał & \"!$W$59\"","v":"Kapitał!$W$59"},null,null,null,"Pidx","Kwota",2,null,"sf:ZestZmianWKapitale//jin:IA_4_1_B/dtsf:PozycjaUszczegolawiajaca","dtsf:KwotyPozycji/dtsf:KwotaB"]
[null,{"$f":"Adr_Kapitał & \"!$O$60\"","v":"Kapitał!$O$60"},null,null,0,"Pidx","Tekst",3,null,"sf:ZestZmianWKapitale//jin:IA_4_1_B/dtsf:PozycjaUszczegolawiajaca","dtsf:NazwaPozycji"]
[null,{"$f":"Adr_Kapitał & \"!$V$60\"","v":"Kapitał!$V$60"},null,null,null,"Pidx","Kwota",3,null,"sf:ZestZmianWKapitale//jin:IA_4_1_B/dtsf:PozycjaUszczegolawiajaca","dtsf:KwotyPozycji/dtsf:KwotaA"]
[null,{"$f":"Adr_Kapitał & \"!$W$60\"","v":"Kapitał!$W$60"},null,null,null,"Pidx","Kwota",3,null,"sf:ZestZmianWKapitale//jin:IA_4_1_B/dtsf:PozycjaUszczegolawiajaca","dtsf:KwotyPozycji/dtsf:KwotaB"]
[null,{"$f":"Adr_Kapitał & \"!$V$61\"","v":"Kapitał!$V$61"},null,null,null,null,"Kwota",null,"=V51+V52","sf:ZestZmianWKapitale//jin:IA_4_2","dtsf:KwotaA"]
[null,{"$f":"Adr_Kapitał & \"!$W$61\"","v":"Kapitał!$W$61"},null,null,null,null,"Kwota",null,"=W51+W52","sf:ZestZmianWKapitale//jin:IA_4_2","dtsf:KwotaB"]
[null,{"$f":"Adr_Kapitał & \"!$V$62\"","v":"Kapitał!$V$62"},null,null,null,null,"Kwota",null,"=W94-W95+W92","sf:ZestZmianWKapitale//jin:IA_5","dtsf:KwotaA"]
[null,{"$f":"Adr_Kapitał & \"!$W$62\"","v":"Kapitał!$W$62"},null,null,null,null,"Kwota",null,"0","sf:ZestZmianWKapitale//jin:IA_5","dtsf:KwotaB"]
[null,{"$f":"Adr_Kapitał & \"!$V$63\"","v":"Kapitał!$V$63"},null,null,null,null,"Kwota",null,"=IF(V62>=0,V62,0)","sf:ZestZmianWKapitale//jin:IA_5_1","dtsf:KwotaA"]
[null,{"$f":"Adr_Kapitał & \"!$W$63\"","v":"Kapitał!$W$63"},null,null,null,null,"Kwota",null,"=IF(W62>=0,W62,0)","sf:ZestZmianWKapitale//jin:IA_5_1","dtsf:KwotaB"]
[null,{"$f":"Adr_Kapitał & \"!$V$64\"","v":"Kapitał!$V$64"},null,null,null,null,"Kwota",null,null,"sf:ZestZmianWKapitale//jin:IA_5_1_1","dtsf:KwotaA"]
[null,{"$f":"Adr_Kapitał & \"!$W$64\"","v":"Kapitał!$W$64"},null,null,null,null,"Kwota",null,null,"sf:ZestZmianWKapitale//jin:IA_5_1_1","dtsf:KwotaB"]
[null,{"$f":"Adr_Kapitał & \"!$V$65\"","v":"Kapitał!$V$65"},null,null,null,null,"Kwota",null,null,"sf:ZestZmianWKapitale//jin:IA_5_1_2","dtsf:KwotaA"]
[null,{"$f":"Adr_Kapitał & \"!$W$65\"","v":"Kapitał!$W$65"},null,null,null,null,"Kwota",null,null,"sf:ZestZmianWKapitale//jin:IA_5_1_2","dtsf:KwotaB"]
[null,{"$f":"Adr_Kapitał & \"!$V$67\"","v":"Kapitał!$V$67"},null,null,null,null,"Kwota",null,"=V63+V64+V65","sf:ZestZmianWKapitale//jin:IA_5_2","dtsf:KwotaA"]
[null,{"$f":"Adr_Kapitał & \"!$W$67\"","v":"Kapitał!$W$67"},null,null,null,null,"Kwota",null,"=W63+W64+W65","sf:ZestZmianWKapitale//jin:IA_5_2","dtsf:KwotaB"]
[null,{"$f":"Adr_Kapitał & \"!$V$68\"","v":"Kapitał!$V$68"},null,null,null,null,"Kwota",null,"*Sum","sf:ZestZmianWKapitale//jin:IA_5_2_A","dtsf:KwotaA"]
[null,{"$f":"Adr_Kapitał & \"!$W$68\"","v":"Kapitał!$W$68"},null,null,null,null,"Kwota",null,"*Sum","sf:ZestZmianWKapitale//jin:IA_5_2_A","dtsf:KwotaB"]
[null,{"$f":"Adr_Kapitał & \"!$V$69\"","v":"Kapitał!$V$69"},null,null,null,null,"Kwota",null,null,"sf:ZestZmianWKapitale//jin:IA_5_2_A_1","dtsf:KwotaA"]
[null,{"$f":"Adr_Kapitał & \"!$W$69\"","v":"Kapitał!$W$69"},null,null,null,null,"Kwota",null,null,"sf:ZestZmianWKapitale//jin:IA_5_2_A_1","dtsf:KwotaB"]
[null,{"$f":"Adr_Kapitał & \"!$O$70\"","v":"Kapitał!$O$70"},null,null,0,"Pidx","Tekst",1,null,"sf:ZestZmianWKapitale//jin:IA_5_2_A/jin:PozycjaUszczegolawiajaca_2","dtsf:NazwaPozycji"]
[null,{"$f":"Adr_Kapitał & \"!$V$70\"","v":"Kapitał!$V$70"},null,null,null,"Pidx","Kwota",1,null,"sf:ZestZmianWKapitale//jin:IA_5_2_A/jin:PozycjaUszczegolawiajaca_2","dtsf:KwotyPozycji/dtsf:KwotaA"]
[null,{"$f":"Adr_Kapitał & \"!$W$70\"","v":"Kapitał!$W$70"},null,null,null,"Pidx","Kwota",1,null,"sf:ZestZmianWKapitale//jin:IA_5_2_A/jin:PozycjaUszczegolawiajaca_2","dtsf:KwotyPozycji/dtsf:KwotaB"]
[null,{"$f":"Adr_Kapitał & \"!$O$71\"","v":"Kapitał!$O$71"},null,null,0,"Pidx","Tekst",2,null,"sf:ZestZmianWKapitale//jin:IA_5_2_A/jin:PozycjaUszczegolawiajaca_2","dtsf:NazwaPozycji"]
[null,{"$f":"Adr_Kapitał & \"!$V$71\"","v":"Kapitał!$V$71"},null,null,null,"Pidx","Kwota",2,null,"sf:ZestZmianWKapitale//jin:IA_5_2_A/jin:PozycjaUszczegolawiajaca_2","dtsf:KwotyPozycji/dtsf:KwotaA"]
[null,{"$f":"Adr_Kapitał & \"!$W$71\"","v":"Kapitał!$W$71"},null,null,null,"Pidx","Kwota",2,null,"sf:ZestZmianWKapitale//jin:IA_5_2_A/jin:PozycjaUszczegolawiajaca_2","dtsf:KwotyPozycji/dtsf:KwotaB"]
[null,{"$f":"Adr_Kapitał & \"!$O$72\"","v":"Kapitał!$O$72"},null,null,0,"Pidx","Tekst",3,null,"sf:ZestZmianWKapitale//jin:IA_5_2_A/jin:PozycjaUszczegolawiajaca_2","dtsf:NazwaPozycji"]
[null,{"$f":"Adr_Kapitał & \"!$V$72\"","v":"Kapitał!$V$72"},null,null,null,"Pidx","Kwota",3,null,"sf:ZestZmianWKapitale//jin:IA_5_2_A/jin:PozycjaUszczegolawiajaca_2","dtsf:KwotyPozycji/dtsf:KwotaA"]
[null,{"$f":"Adr_Kapitał & \"!$W$72\"","v":"Kapitał!$W$72"},null,null,null,"Pidx","Kwota",3,null,"sf:ZestZmianWKapitale//jin:IA_5_2_A/jin:PozycjaUszczegolawiajaca_2","dtsf:KwotyPozycji/dtsf:KwotaB"]
[null,{"$f":"Adr_Kapitał & \"!$V$73\"","v":"Kapitał!$V$73"},null,null,null,null,"Kwota",null,"*Sum","sf:ZestZmianWKapitale//jin:IA_5_2_B","dtsf:KwotaA"]
[null,{"$f":"Adr_Kapitał & \"!$W$73\"","v":"Kapitał!$W$73"},null,null,null,null,"Kwota",null,"*Sum","sf:ZestZmianWKapitale//jin:IA_5_2_B","dtsf:KwotaB"]
[null,{"$f":"Adr_Kapitał & \"!$O$74\"","v":"Kapitał!$O$74"},null,null,0,"Pidx","Tekst",1,null,"sf:ZestZmianWKapitale//jin:IA_5_2_B/dtsf:PozycjaUszczegolawiajaca","dtsf:NazwaPozycji"]
[null,{"$f":"Adr_Kapitał & \"!$V$74\"","v":"Kapitał!$V$74"},null,null,null,"Pidx","Kwota",1,null,"sf:ZestZmianWKapitale//jin:IA_5_2_B/dtsf:PozycjaUszczegolawiajaca","dtsf:KwotyPozycji/dtsf:KwotaA"]
[null,{"$f":"Adr_Kapitał & \"!$W$74\"","v":"Kapitał!$W$74"},null,null,null,"Pidx","Kwota",1,null,"sf:ZestZmianWKapitale//jin:IA_5_2_B/dtsf:PozycjaUszczegolawiajaca","dtsf:KwotyPozycji/dtsf:KwotaB"]
[null,{"$f":"Adr_Kapitał & \"!$O$75\"","v":"Kapitał!$O$75"},null,null,0,"Pidx","Tekst",2,null,"sf:ZestZmianWKapitale//jin:IA_5_2_B/dtsf:PozycjaUszczegolawiajaca","dtsf:NazwaPozycji"]
[null,{"$f":"Adr_Kapitał & \"!$V$75\"","v":"Kapitał!$V$75"},null,null,null,"Pidx","Kwota",2,null,"sf:ZestZmianWKapitale//jin:IA_5_2_B/dtsf:PozycjaUszczegolawiajaca","dtsf:KwotyPozycji/dtsf:KwotaA"]
[null,{"$f":"Adr_Kapitał & \"!$W$75\"","v":"Kapitał!$W$75"},null,null,null,"Pidx","Kwota",2,null,"sf:ZestZmianWKapitale//jin:IA_5_2_B/dtsf:PozycjaUszczegolawiajaca","dtsf:KwotyPozycji/dtsf:KwotaB"]
[null,{"$f":"Adr_Kapitał & \"!$O$76\"","v":"Kapitał!$O$76"},null,null,0,"Pidx","Tekst",3,null,"sf:ZestZmianWKapitale//jin:IA_5_2_B/dtsf:PozycjaUszczegolawiajaca","dtsf:NazwaPozycji"]
[null,{"$f":"Adr_Kapitał & \"!$V$76\"","v":"Kapitał!$V$76"},null,null,null,"Pidx","Kwota",3,null,"sf:ZestZmianWKapitale//jin:IA_5_2_B/dtsf:PozycjaUszczegolawiajaca","dtsf:KwotyPozycji/dtsf:KwotaA"]
[null,{"$f":"Adr_Kapitał & \"!$W$76\"","v":"Kapitał!$W$76"},null,null,null,"Pidx","Kwota",3,null,"sf:ZestZmianWKapitale//jin:IA_5_2_B/dtsf:PozycjaUszczegolawiajaca","dtsf:KwotyPozycji/dtsf:KwotaB"]
[null,{"$f":"Adr_Kapitał & \"!$V$77\"","v":"Kapitał!$V$77"},null,null,null,null,"Kwota",null,"=V67+V68-V73","sf:ZestZmianWKapitale//jin:IA_5_3","dtsf:KwotaA"]
[null,{"$f":"Adr_Kapitał & \"!$W$77\"","v":"Kapitał!$W$77"},null,null,null,null,"Kwota",null,"=W67+W68-W73","sf:ZestZmianWKapitale//jin:IA_5_3","dtsf:KwotaB"]
[null,{"$f":"Adr_Kapitał & \"!$V$78\"","v":"Kapitał!$V$78"},null,null,null,null,"Kwota",null,"=IF(V62<0,-V62,0)","sf:ZestZmianWKapitale//jin:IA_5_4","dtsf:KwotaA"]
[null,{"$f":"Adr_Kapitał & \"!$W$78\"","v":"Kapitał!$W$78"},null,null,null,null,"Kwota",null,"=IF(W62<0,-W62,0)","sf:ZestZmianWKapitale//jin:IA_5_4","dtsf:KwotaB"]
[null,{"$f":"Adr_Kapitał & \"!$V$79\"","v":"Kapitał!$V$79"},null,null,null,null,"Kwota",null,null,"sf:ZestZmianWKapitale//jin:IA_5_4_1","dtsf:KwotaA"]
[null,{"$f":"Adr_Kapitał & \"!$W$79\"","v":"Kapitał!$W$79"},null,null,null,null,"Kwota",null,null,"sf:ZestZmianWKapitale//jin:IA_5_4_1","dtsf:KwotaB"]
[null,{"$f":"Adr_Kapitał & \"!$V$80\"","v":"Kapitał!$V$80"},null,null,null,null,"Kwota",null,null,"sf:ZestZmianWKapitale//jin:IA_5_4_2","dtsf:KwotaA"]
[null,{"$f":"Adr_Kapitał & \"!$W$80\"","v":"Kapitał!$W$80"},null,null,null,null,"Kwota",null,null,"sf:ZestZmianWKapitale//jin:IA_5_4_2","dtsf:KwotaB"]
[null,{"$f":"Adr_Kapitał & \"!$V$81\"","v":"Kapitał!$V$81"},null,null,null,null,"Kwota",null,"=V78+V79+V80","sf:ZestZmianWKapitale//jin:IA_5_5","dtsf:KwotaA"]
[null,{"$f":"Adr_Kapitał & \"!$W$81\"","v":"Kapitał!$W$81"},null,null,null,null,"Kwota",null,"=W78+W79+W80","sf:ZestZmianWKapitale//jin:IA_5_5","dtsf:KwotaB"]
[null,{"$f":"Adr_Kapitał & \"!$V$82\"","v":"Kapitał!$V$82"},null,null,null,null,"Kwota",null,"*Sum","sf:ZestZmianWKapitale//jin:IA_5_5_A","dtsf:KwotaA"]
[null,{"$f":"Adr_Kapitał & \"!$W$82\"","v":"Kapitał!$W$82"},null,null,null,null,"Kwota",null,"*Sum","sf:ZestZmianWKapitale//jin:IA_5_5_A","dtsf:KwotaB"]
[null,{"$f":"Adr_Kapitał & \"!$V$83\"","v":"Kapitał!$V$83"},null,null,null,null,"Kwota",null,null,"sf:ZestZmianWKapitale//jin:IA_5_5_A_1","dtsf:KwotaA"]
[null,{"$f":"Adr_Kapitał & \"!$W$83\"","v":"Kapitał!$W$83"},null,null,null,null,"Kwota",null,null,"sf:ZestZmianWKapitale//jin:IA_5_5_A_1","dtsf:KwotaB"]
[null,{"$f":"Adr_Kapitał & \"!$O$84\"","v":"Kapitał!$O$84"},null,null,0,"Pidx","Tekst",1,null,"sf:ZestZmianWKapitale//jin:IA_5_5_A/jin:PozycjaUszczegolawiajaca_2","dtsf:NazwaPozycji"]
[null,{"$f":"Adr_Kapitał & \"!$V$84\"","v":"Kapitał!$V$84"},null,null,null,"Pidx","Kwota",1,null,"sf:ZestZmianWKapitale//jin:IA_5_5_A/jin:PozycjaUszczegolawiajaca_2","dtsf:KwotyPozycji/dtsf:KwotaA"]
[null,{"$f":"Adr_Kapitał & \"!$W$84\"","v":"Kapitał!$W$84"},null,null,null,"Pidx","Kwota",1,null,"sf:ZestZmianWKapitale//jin:IA_5_5_A/jin:PozycjaUszczegolawiajaca_2","dtsf:KwotyPozycji/dtsf:KwotaB"]
[null,{"$f":"Adr_Kapitał & \"!$O$85\"","v":"Kapitał!$O$85"},null,null,0,"Pidx","Tekst",2,null,"sf:ZestZmianWKapitale//jin:IA_5_5_A/jin:PozycjaUszczegolawiajaca_2","dtsf:NazwaPozycji"]
[null,{"$f":"Adr_Kapitał & \"!$V$85\"","v":"Kapitał!$V$85"},null,null,null,"Pidx","Kwota",2,null,"sf:ZestZmianWKapitale//jin:IA_5_5_A/jin:PozycjaUszczegolawiajaca_2","dtsf:KwotyPozycji/dtsf:KwotaA"]
[null,{"$f":"Adr_Kapitał & \"!$W$85\"","v":"Kapitał!$W$85"},null,null,null,"Pidx","Kwota",2,null,"sf:ZestZmianWKapitale//jin:IA_5_5_A/jin:PozycjaUszczegolawiajaca_2","dtsf:KwotyPozycji/dtsf:KwotaB"]
[null,{"$f":"Adr_Kapitał & \"!$O$86\"","v":"Kapitał!$O$86"},null,null,0,"Pidx","Tekst",3,null,"sf:ZestZmianWKapitale//jin:IA_5_5_A/jin:PozycjaUszczegolawiajaca_2","dtsf:NazwaPozycji"]
[null,{"$f":"Adr_Kapitał & \"!$V$86\"","v":"Kapitał!$V$86"},null,null,null,"Pidx","Kwota",3,null,"sf:ZestZmianWKapitale//jin:IA_5_5_A/jin:PozycjaUszczegolawiajaca_2","dtsf:KwotyPozycji/dtsf:KwotaA"]
[null,{"$f":"Adr_Kapitał & \"!$W$86\"","v":"Kapitał!$W$86"},null,null,null,"Pidx","Kwota",3,null,"sf:ZestZmianWKapitale//jin:IA_5_5_A/jin:PozycjaUszczegolawiajaca_2","dtsf:KwotyPozycji/dtsf:KwotaB"]
[null,{"$f":"Adr_Kapitał & \"!$V$87\"","v":"Kapitał!$V$87"},null,null,null,null,"Kwota",null,"*Sum","sf:ZestZmianWKapitale//jin:IA_5_5_B","dtsf:KwotaA"]
[null,{"$f":"Adr_Kapitał & \"!$W$87\"","v":"Kapitał!$W$87"},null,null,null,null,"Kwota",null,"*Sum","sf:ZestZmianWKapitale//jin:IA_5_5_B","dtsf:KwotaB"]
[null,{"$f":"Adr_Kapitał & \"!$O$88\"","v":"Kapitał!$O$88"},null,null,0,"Pidx","Tekst",1,null,"sf:ZestZmianWKapitale//jin:IA_5_5_B/dtsf:PozycjaUszczegolawiajaca","dtsf:NazwaPozycji"]
[null,{"$f":"Adr_Kapitał & \"!$V$88\"","v":"Kapitał!$V$88"},null,null,null,"Pidx","Kwota",1,null,"sf:ZestZmianWKapitale//jin:IA_5_5_B/dtsf:PozycjaUszczegolawiajaca","dtsf:KwotyPozycji/dtsf:KwotaA"]
[null,{"$f":"Adr_Kapitał & \"!$W$88\"","v":"Kapitał!$W$88"},null,null,null,"Pidx","Kwota",1,null,"sf:ZestZmianWKapitale//jin:IA_5_5_B/dtsf:PozycjaUszczegolawiajaca","dtsf:KwotyPozycji/dtsf:KwotaB"]
[null,{"$f":"Adr_Kapitał & \"!$O$89\"","v":"Kapitał!$O$89"},null,null,0,"Pidx","Tekst",2,null,"sf:ZestZmianWKapitale//jin:IA_5_5_B/dtsf:PozycjaUszczegolawiajaca","dtsf:NazwaPozycji"]
[null,{"$f":"Adr_Kapitał & \"!$V$89\"","v":"Kapitał!$V$89"},null,null,null,"Pidx","Kwota",2,null,"sf:ZestZmianWKapitale//jin:IA_5_5_B/dtsf:PozycjaUszczegolawiajaca","dtsf:KwotyPozycji/dtsf:KwotaA"]
[null,{"$f":"Adr_Kapitał & \"!$W$89\"","v":"Kapitał!$W$89"},null,null,null,"Pidx","Kwota",2,null,"sf:ZestZmianWKapitale//jin:IA_5_5_B/dtsf:PozycjaUszczegolawiajaca","dtsf:KwotyPozycji/dtsf:KwotaB"]
[null,{"$f":"Adr_Kapitał & \"!$O$90\"","v":"Kapitał!$O$90"},null,null,0,"Pidx","Tekst",3,null,"sf:ZestZmianWKapitale//jin:IA_5_5_B/dtsf:PozycjaUszczegolawiajaca","dtsf:NazwaPozycji"]
[null,{"$f":"Adr_Kapitał & \"!$V$90\"","v":"Kapitał!$V$90"},null,null,null,"Pidx","Kwota",3,null,"sf:ZestZmianWKapitale//jin:IA_5_5_B/dtsf:PozycjaUszczegolawiajaca","dtsf:KwotyPozycji/dtsf:KwotaA"]
[null,{"$f":"Adr_Kapitał & \"!$W$90\"","v":"Kapitał!$W$90"},null,null,null,"Pidx","Kwota",3,null,"sf:ZestZmianWKapitale//jin:IA_5_5_B/dtsf:PozycjaUszczegolawiajaca","dtsf:KwotyPozycji/dtsf:KwotaB"]
[null,{"$f":"Adr_Kapitał & \"!$V$91\"","v":"Kapitał!$V$91"},null,null,null,null,"Kwota",null,"=V81+V82-V87","sf:ZestZmianWKapitale//jin:IA_5_6","dtsf:KwotaA"]
[null,{"$f":"Adr_Kapitał & \"!$W$91\"","v":"Kapitał!$W$91"},null,null,null,null,"Kwota",null,"=W81+W82-W87","sf:ZestZmianWKapitale//jin:IA_5_6","dtsf:KwotaB"]
[null,{"$f":"Adr_Kapitał & \"!$V$92\"","v":"Kapitał!$V$92"},null,null,null,null,"Kwota",null,"=V77-V91","sf:ZestZmianWKapitale//jin:IA_5_7","dtsf:KwotaA"]
[null,{"$f":"Adr_Kapitał & \"!$W$92\"","v":"Kapitał!$W$92"},null,null,null,null,"Kwota",null,"=W77-W91","sf:ZestZmianWKapitale//jin:IA_5_7","dtsf:KwotaB"]
[null,{"$f":"Adr_Kapitał & \"!$V$93\"","v":"Kapitał!$V$93"},null,null,null,null,"Kwota",null,"=V94-V95-V96","sf:ZestZmianWKapitale//jin:IA_6","dtsf:KwotaA"]
[null,{"$f":"Adr_Kapitał & \"!$W$93\"","v":"Kapitał!$W$93"},null,null,null,null,"Kwota",null,"=W94-W95-W96","sf:ZestZmianWKapitale//jin:IA_6","dtsf:KwotaB"]
[null,{"$f":"Adr_Kapitał & \"!$V$94\"","v":"Kapitał!$V$94"},null,null,null,null,"Kwota",null,null,"sf:ZestZmianWKapitale//jin:IA_6_A","dtsf:KwotaA"]
[null,{"$f":"Adr_Kapitał & \"!$W$94\"","v":"Kapitał!$W$94"},null,null,null,null,"Kwota",null,null,"sf:ZestZmianWKapitale//jin:IA_6_A","dtsf:KwotaB"]
[null,{"$f":"Adr_Kapitał & \"!$V$95\"","v":"Kapitał!$V$95"},null,null,null,null,"Kwota",null,null,"sf:ZestZmianWKapitale//jin:IA_6_B","dtsf:KwotaA"]
[null,{"$f":"Adr_Kapitał & \"!$W$95\"","v":"Kapitał!$W$95"},null,null,null,null,"Kwota",null,null,"sf:ZestZmianWKapitale//jin:IA_6_B","dtsf:KwotaB"]
[null,{"$f":"Adr_Kapitał & \"!$V$96\"","v":"Kapitał!$V$96"},null,null,null,null,"Kwota",null,null,"sf:ZestZmianWKapitale//jin:IA_6_C","dtsf:KwotaA"]
[null,{"$f":"Adr_Kapitał & \"!$W$96\"","v":"Kapitał!$W$96"},null,null,null,null,"Kwota",null,null,"sf:ZestZmianWKapitale//jin:IA_6_C","dtsf:KwotaB"]
[null,{"$f":"Adr_Kapitał & \"!$V$97\"","v":"Kapitał!$V$97"},null,null,null,null,"Kwota",null,"=V22+V37+V50+V61+V92+V93","sf:ZestZmianWKapitale//jin:II","dtsf:KwotaA"]
[null,{"$f":"Adr_Kapitał & \"!$W$97\"","v":"Kapitał!$W$97"},null,null,null,null,"Kwota",null,"=W22+W37+W50+W61+W92+W93","sf:ZestZmianWKapitale//jin:II","dtsf:KwotaB"]
[null,{"$f":"Adr_Kapitał & \"!$V$98\"","v":"Kapitał!$V$98"},null,null,null,null,"Kwota",null,"=V97","sf:ZestZmianWKapitale//jin:III","dtsf:KwotaA"]
[null,{"$f":"Adr_Kapitał & \"!$W$98\"","v":"Kapitał!$W$98"},null,null,null,null,"Kwota",null,"=W97","sf:ZestZmianWKapitale//jin:III","dtsf:KwotaB"]
[null,{"$f":"Adr_Kapitał & \"!$X$6\"","v":"Kapitał!$X$6"},null,null,null,null,"Kwota",null,null,"sf:ZestZmianWKapitale//jin:I","dtsf:KwotaB1"]
[null,{"$f":"Adr_Kapitał & \"!$X$7\"","v":"Kapitał!$X$7"},null,null,null,null,"Kwota",null,null,"sf:ZestZmianWKapitale//jin:I_1","dtsf:KwotaB1"]
[null,{"$f":"Adr_Kapitał & \"!$X$8\"","v":"Kapitał!$X$8"},null,null,null,null,"Kwota",null,null,"sf:ZestZmianWKapitale//jin:I_2","dtsf:KwotaB1"]
[null,{"$f":"Adr_Kapitał & \"!$X$9\"","v":"Kapitał!$X$9"},null,null,null,null,"Kwota",null,null,"sf:ZestZmianWKapitale//jin:IA","dtsf:KwotaB1"]
[null,{"$f":"Adr_Kapitał & \"!$X$10\"","v":"Kapitał!$X$10"},null,null,null,null,"Kwota",null,null,"sf:ZestZmianWKapitale//jin:IA_1","dtsf:KwotaB1"]
[null,{"$f":"Adr_Kapitał & \"!$X$11\"","v":"Kapitał!$X$11"},null,null,null,null,"Kwota",null,null,"sf:ZestZmianWKapitale//jin:IA_1_1","dtsf:KwotaB1"]
[null,{"$f":"Adr_Kapitał & \"!$X$12\"","v":"Kapitał!$X$12"},null,null,null,null,"Kwota",null,null,"sf:ZestZmianWKapitale//jin:IA_1_1_A","dtsf:KwotaB1"]
[null,{"$f":"Adr_Kapitał & \"!$X$13\"","v":"Kapitał!$X$13"},null,null,null,null,"Kwota",null,null,"sf:ZestZmianWKapitale//jin:IA_1_1_A_1","dtsf:KwotaB1"]
[null,{"$f":"Adr_Kapitał & \"!$X$14\"","v":"Kapitał!$X$14"},null,null,null,"Pidx","Kwota",1,null,"sf:ZestZmianWKapitale//jin:IA_1_1_A/jin:PozycjaUszczegolawiajaca_2","dtsf:KwotyPozycji/dtsf:KwotaB1"]
[null,{"$f":"Adr_Kapitał & \"!$X$15\"","v":"Kapitał!$X$15"},null,null,null,"Pidx","Kwota",2,null,"sf:ZestZmianWKapitale//jin:IA_1_1_A/jin:PozycjaUszczegolawiajaca_2","dtsf:KwotyPozycji/dtsf:KwotaB1"]
[null,{"$f":"Adr_Kapitał & \"!$X$16\"","v":"Kapitał!$X$16"},null,null,null,"Pidx","Kwota",3,null,"sf:ZestZmianWKapitale//jin:IA_1_1_A/jin:PozycjaUszczegolawiajaca_2","dtsf:KwotyPozycji/dtsf:KwotaB1"]
[" ",{"$f":"Adr_Kapitał & \"!$X$17\"","v":"Kapitał!$X$17"},null,null,null,null,"Kwota",null,null,"sf:ZestZmianWKapitale//jin:IA_1_1_B","dtsf:KwotaB1"]
[null,{"$f":"Adr_Kapitał & \"!$X$18\"","v":"Kapitał!$X$18"},null,null,null,null,"Kwota",null,null,"sf:ZestZmianWKapitale//jin:IA_1_1_B_1","dtsf:KwotaB1"]
[null,{"$f":"Adr_Kapitał & \"!$X$19\"","v":"Kapitał!$X$19"},null,null,null,"Pidx","Kwota",1,null,"sf:ZestZmianWKapitale//jin:IA_1_1_B/jin:PozycjaUszczegolawiajaca_2","dtsf:KwotyPozycji/dtsf:KwotaB1"]
[null,{"$f":"Adr_Kapitał & \"!$X$20\"","v":"Kapitał!$X$20"},null,null,null,"Pidx","Kwota",2,null,"sf:ZestZmianWKapitale//jin:IA_1_1_B/jin:PozycjaUszczegolawiajaca_2","dtsf:KwotyPozycji/dtsf:KwotaB1"]
[null,{"$f":"Adr_Kapitał & \"!$X$21\"","v":"Kapitał!$X$21"},null,null,null,"Pidx","Kwota",3,null,"sf:ZestZmianWKapitale//jin:IA_1_1_B/jin:PozycjaUszczegolawiajaca_2","dtsf:KwotyPozycji/dtsf:KwotaB1"]
[null,{"$f":"Adr_Kapitał & \"!$X$22\"","v":"Kapitał!$X$22"},null,null,null,null,"Kwota",null,null,"sf:ZestZmianWKapitale//jin:IA_1_2","dtsf:KwotaB1"]
[null,{"$f":"Adr_Kapitał & \"!$X$23\"","v":"Kapitał!$X$23"},null,null,null,null,"Kwota",null,null,"sf:ZestZmianWKapitale//jin:IA_2","dtsf:KwotaB1"]
[null,{"$f":"Adr_Kapitał & \"!$X$24\"","v":"Kapitał!$X$24"},null,null,null,null,"Kwota",null,null,"sf:ZestZmianWKapitale//jin:IA_2_1","dtsf:KwotaB1"]
[null,{"$f":"Adr_Kapitał & \"!$X$25\"","v":"Kapitał!$X$25"},null,null,null,null,"Kwota",null,null,"sf:ZestZmianWKapitale//jin:IA_2_1_A","dtsf:KwotaB1"]
[null,{"$f":"Adr_Kapitał & \"!$X$26\"","v":"Kapitał!$X$26"},null,null,null,null,"Kwota",null,null,"sf:ZestZmianWKapitale//jin:IA_2_1_A_1","dtsf:KwotaB1"]
[null,{"$f":"Adr_Kapitał & \"!$X$27\"","v":"Kapitał!$X$27"},null,null,null,null,"Kwota",null,null,"sf:ZestZmianWKapitale//jin:IA_2_1_A_2","dtsf:KwotaB1"]
[null,{"$f":"Adr_Kapitał & \"!$X$28\"","v":"Kapitał!$X$28"},null,null,null,null,"Kwota",null,null,"sf:ZestZmianWKapitale//jin:IA_2_1_A_3","dtsf:KwotaB1"]
[null,{"$f":"Adr_Kapitał & \"!$X$29\"","v":"Kapitał!$X$29"},null,null,null,"Pidx","Kwota",1,null,"sf:ZestZmianWKapitale//jin:IA_2_1_A/jin:PozycjaUszczegolawiajaca_4","dtsf:KwotyPozycji/dtsf:KwotaB1"]
[null,{"$f":"Adr_Kapitał & \"!$X$30\"","v":"Kapitał!$X$30"},null,null,null,"Pidx","Kwota",2,null,"sf:ZestZmianWKapitale//jin:IA_2_1_A/jin:PozycjaUszczegolawiajaca_4","dtsf:KwotyPozycji/dtsf:KwotaB1"]
[null,{"$f":"Adr_Kapitał & \"!$X$31\"","v":"Kapitał!$X$31"},null,null,null,"Pidx","Kwota",3,null,"sf:ZestZmianWKapitale//jin:IA_2_1_A/jin:PozycjaUszczegolawiajaca_4","dtsf:KwotyPozycji/dtsf:KwotaB1"]
[null,{"$f":"Adr_Kapitał & \"!$X$32\"","v":"Kapitał!$X$32"},null,null,null,null,"Kwota",null,null,"sf:ZestZmianWKapitale//jin:IA_2_1_B","dtsf:KwotaB1"]
[null,{"$f":"Adr_Kapitał & \"!$X$33\"","v":"Kapitał!$X$33"},null,null,null,null,"Kwota",null,null,"sf:ZestZmianWKapitale//jin:IA_2_1_B_1","dtsf:KwotaB1"]
[null,{"$f":"Adr_Kapitał & \"!$X$34\"","v":"Kapitał!$X$34"},null,null,null,"Pidx","Kwota",1,null,"sf:ZestZmianWKapitale//jin:IA_2_1_B/jin:PozycjaUszczegolawiajaca_2","dtsf:KwotyPozycji/dtsf:KwotaB1"]
[null,{"$f":"Adr_Kapitał & \"!$X$35\"","v":"Kapitał!$X$35"},null,null,null,"Pidx","Kwota",2,null,"sf:ZestZmianWKapitale//jin:IA_2_1_B/jin:PozycjaUszczegolawiajaca_2","dtsf:KwotyPozycji/dtsf:KwotaB1"]
[null,{"$f":"Adr_Kapitał & \"!$X$36\"","v":"Kapitał!$X$36"},null,null,null,"Pidx","Kwota",3,null,"sf:ZestZmianWKapitale//jin:IA_2_1_B/jin:PozycjaUszczegolawiajaca_2","dtsf:KwotyPozycji/dtsf:KwotaB1"]
[null,{"$f":"Adr_Kapitał & \"!$X$37\"","v":"Kapitał!$X$37"},null,null,null,null,"Kwota",null,null,"sf:ZestZmianWKapitale//jin:IA_2_2","dtsf:KwotaB1"]
[null,{"$f":"Adr_Kapitał & \"!$X$39\"","v":"Kapitał!$X$39"},null,null,null,null,"Kwota",null,null,"sf:ZestZmianWKapitale//jin:IA_3","dtsf:KwotaB1"]
[null,{"$f":"Adr_Kapitał & \"!$X$40\"","v":"Kapitał!$X$40"},null,null,null,null,"Kwota",null,null,"sf:ZestZmianWKapitale//jin:IA_3_1","dtsf:KwotaB1"]
[null,{"$f":"Adr_Kapitał & \"!$X$41\"","v":"Kapitał!$X$41"},null,null,null,null,"Kwota",null,null,"sf:ZestZmianWKapitale//jin:IA_3_1_A","dtsf:KwotaB1"]
[null,{"$f":"Adr_Kapitał & \"!$X$42\"","v":"Kapitał!$X$42"},null,null,null,"Pidx","Kwota",1,null,"sf:ZestZmianWKapitale//jin:IA_3_1_A/dtsf:PozycjaUszczegolawiajaca","dtsf:KwotyPozycji/dtsf:KwotaB1"]
[null,{"$f":"Adr_Kapitał & \"!$X$43\"","v":"Kapitał!$X$43"},null,null,null,"Pidx","Kwota",2,null,"sf:ZestZmianWKapitale//jin:IA_3_1_A/dtsf:PozycjaUszczegolawiajaca","dtsf:KwotyPozycji/dtsf:KwotaB1"]
[null,{"$f":"Adr_Kapitał & \"!$X$44\"","v":"Kapitał!$X$44"},null,null,null,"Pidx","Kwota",3,null,"sf:ZestZmianWKapitale//jin:IA_3_1_A/dtsf:PozycjaUszczegolawiajaca","dtsf:KwotyPozycji/dtsf:KwotaB1"]
[null,{"$f":"Adr_Kapitał & \"!$X$45\"","v":"Kapitał!$X$45"},null,null,null,null,"Kwota",null,null,"sf:ZestZmianWKapitale//jin:IA_3_1_B","dtsf:KwotaB1"]
[null,{"$f":"Adr_Kapitał & \"!$X$46\"","v":"Kapitał!$X$46"},null,null,null,null,"Kwota",null,null,"sf:ZestZmianWKapitale//jin:IA_3_1_B_1","dtsf:KwotaB1"]
[null,{"$f":"Adr_Kapitał & \"!$X$47\"","v":"Kapitał!$X$47"},null,null,null,"Pidx","Kwota",1,null,"sf:ZestZmianWKapitale//jin:IA_3_1_B/jin:PozycjaUszczegolawiajaca_2","dtsf:KwotyPozycji/dtsf:KwotaB1"]
[null,{"$f":"Adr_Kapitał & \"!$X$48\"","v":"Kapitał!$X$48"},null,null,null,"Pidx","Kwota",2,null,"sf:ZestZmianWKapitale//jin:IA_3_1_B/jin:PozycjaUszczegolawiajaca_2","dtsf:KwotyPozycji/dtsf:KwotaB1"]
[null,{"$f":"Adr_Kapitał & \"!$X$49\"","v":"Kapitał!$X$49"},null,null,null,"Pidx","Kwota",3,null,"sf:ZestZmianWKapitale//jin:IA_3_1_B/jin:PozycjaUszczegolawiajaca_2","dtsf:KwotyPozycji/dtsf:KwotaB1"]
[null,{"$f":"Adr_Kapitał & \"!$X$50\"","v":"Kapitał!$X$50"},null,null,null,null,"Kwota",null,null,"sf:ZestZmianWKapitale//jin:IA_3_2","dtsf:KwotaB1"]
[null,{"$f":"Adr_Kapitał & \"!$X$51\"","v":"Kapitał!$X$51"},null,null,null,null,"Kwota",null,null,"sf:ZestZmianWKapitale//jin:IA_4","dtsf:KwotaB1"]
[null,{"$f":"Adr_Kapitał & \"!$X$52\"","v":"Kapitał!$X$52"},null,null,null,null,"Kwota",null,null,"sf:ZestZmianWKapitale//jin:IA_4_1","dtsf:KwotaB1"]
[null,{"$f":"Adr_Kapitał & \"!$X$53\"","v":"Kapitał!$X$53"},null,null,null,null,"Kwota",null,null,"sf:ZestZmianWKapitale//jin:IA_4_1_A","dtsf:KwotaB1"]
[null,{"$f":"Adr_Kapitał & \"!$X$54\"","v":"Kapitał!$X$54"},null,null,null,"Pidx","Kwota",1,null,"sf:ZestZmianWKapitale//jin:IA_4_1_A/dtsf:PozycjaUszczegolawiajaca","dtsf:KwotyPozycji/dtsf:KwotaB1"]
[null,{"$f":"Adr_Kapitał & \"!$X$55\"","v":"Kapitał!$X$55"},null,null,null,"Pidx","Kwota",2,null,"sf:ZestZmianWKapitale//jin:IA_4_1_A/dtsf:PozycjaUszczegolawiajaca","dtsf:KwotyPozycji/dtsf:KwotaB1"]
[null,{"$f":"Adr_Kapitał & \"!$X$56\"","v":"Kapitał!$X$56"},null,null,null,"Pidx","Kwota",3,null,"sf:ZestZmianWKapitale//jin:IA_4_1_A/dtsf:PozycjaUszczegolawiajaca","dtsf:KwotyPozycji/dtsf:KwotaB1"]
[null,{"$f":"Adr_Kapitał & \"!$X$57\"","v":"Kapitał!$X$57"},null,null,null,null,"Kwota",null,null,"sf:ZestZmianWKapitale//jin:IA_4_1_B","dtsf:KwotaB1"]
[null,{"$f":"Adr_Kapitał & \"!$X$58\"","v":"Kapitał!$X$58"},null,null,null,"Pidx","Kwota",1,null,"sf:ZestZmianWKapitale//jin:IA_4_1_B/dtsf:PozycjaUszczegolawiajaca","dtsf:KwotyPozycji/dtsf:KwotaB1"]
[null,{"$f":"Adr_Kapitał & \"!$X$59\"","v":"Kapitał!$X$59"},null,null,null,"Pidx","Kwota",2,null,"sf:ZestZmianWKapitale//jin:IA_4_1_B/dtsf:PozycjaUszczegolawiajaca","dtsf:KwotyPozycji/dtsf:KwotaB1"]
[null,{"$f":"Adr_Kapitał & \"!$X$60\"","v":"Kapitał!$X$60"},null,null,null,"Pidx","Kwota",3,null,"sf:ZestZmianWKapitale//jin:IA_4_1_B/dtsf:PozycjaUszczegolawiajaca","dtsf:KwotyPozycji/dtsf:KwotaB1"]
[null,{"$f":"Adr_Kapitał & \"!$X$61\"","v":"Kapitał!$X$61"},null,null,null,null,"Kwota",null,null,"sf:ZestZmianWKapitale//jin:IA_4_2","dtsf:KwotaB1"]
[null,{"$f":"Adr_Kapitał & \"!$X$62\"","v":"Kapitał!$X$62"},null,null,null,null,"Kwota",null,null,"sf:ZestZmianWKapitale//jin:IA_5","dtsf:KwotaB1"]
[null,{"$f":"Adr_Kapitał & \"!$X$63\"","v":"Kapitał!$X$63"},null,null,null,null,"Kwota",null,null,"sf:ZestZmianWKapitale//jin:IA_5_1","dtsf:KwotaB1"]
[null,{"$f":"Adr_Kapitał & \"!$X$64\"","v":"Kapitał!$X$64"},null,null,null,null,"Kwota",null,null,"sf:ZestZmianWKapitale//jin:IA_5_1_1","dtsf:KwotaB1"]
[null,{"$f":"Adr_Kapitał & \"!$X$65\"","v":"Kapitał!$X$65"},null,null,null,null,"Kwota",null,null,"sf:ZestZmianWKapitale//jin:IA_5_1_2","dtsf:KwotaB1"]
[null,{"$f":"Adr_Kapitał & \"!$X$67\"","v":"Kapitał!$X$67"},null,null,null,null,"Kwota",null,null,"sf:ZestZmianWKapitale//jin:IA_5_2","dtsf:KwotaB1"]
[null,{"$f":"Adr_Kapitał & \"!$X$68\"","v":"Kapitał!$X$68"},null,null,null,null,"Kwota",null,null,"sf:ZestZmianWKapitale//jin:IA_5_2_A","dtsf:KwotaB1"]
[null,{"$f":"Adr_Kapitał & \"!$X$69\"","v":"Kapitał!$X$69"},null,null,null,null,"Kwota",null,null,"sf:ZestZmianWKapitale//jin:IA_5_2_A_1","dtsf:KwotaB1"]
[null,{"$f":"Adr_Kapitał & \"!$X$70\"","v":"Kapitał!$X$70"},null,null,null,"Pidx","Kwota",1,null,"sf:ZestZmianWKapitale//jin:IA_5_2_A/jin:PozycjaUszczegolawiajaca_2","dtsf:KwotyPozycji/dtsf:KwotaB1"]
[null,{"$f":"Adr_Kapitał & \"!$X$71\"","v":"Kapitał!$X$71"},null,null,null,"Pidx","Kwota",2,null,"sf:ZestZmianWKapitale//jin:IA_5_2_A/jin:PozycjaUszczegolawiajaca_2","dtsf:KwotyPozycji/dtsf:KwotaB1"]
[null,{"$f":"Adr_Kapitał & \"!$X$72\"","v":"Kapitał!$X$72"},null,null,null,"Pidx","Kwota",3,null,"sf:ZestZmianWKapitale//jin:IA_5_2_A/jin:PozycjaUszczegolawiajaca_2","dtsf:KwotyPozycji/dtsf:KwotaB1"]
[null,{"$f":"Adr_Kapitał & \"!$X$73\"","v":"Kapitał!$X$73"},null,null,null,null,"Kwota",null,null,"sf:ZestZmianWKapitale//jin:IA_5_2_B","dtsf:KwotaB1"]
[null,{"$f":"Adr_Kapitał & \"!$X$74\"","v":"Kapitał!$X$74"},null,null,null,"Pidx","Kwota",1,null,"sf:ZestZmianWKapitale//jin:IA_5_2_B/dtsf:PozycjaUszczegolawiajaca","dtsf:KwotyPozycji/dtsf:KwotaB1"]
[null,{"$f":"Adr_Kapitał & \"!$X$75\"","v":"Kapitał!$X$75"},null,null,null,"Pidx","Kwota",2,null,"sf:ZestZmianWKapitale//jin:IA_5_2_B/dtsf:PozycjaUszczegolawiajaca","dtsf:KwotyPozycji/dtsf:KwotaB1"]
[null,{"$f":"Adr_Kapitał & \"!$X$76\"","v":"Kapitał!$X$76"},null,null,null,"Pidx","Kwota",3,null,"sf:ZestZmianWKapitale//jin:IA_5_2_B/dtsf:PozycjaUszczegolawiajaca","dtsf:KwotyPozycji/dtsf:KwotaB1"]
[null,{"$f":"Adr_Kapitał & \"!$X$77\"","v":"Kapitał!$X$77"},null,null,null,null,"Kwota",null,null,"sf:ZestZmianWKapitale//jin:IA_5_3","dtsf:KwotaB1"]
[null,{"$f":"Adr_Kapitał & \"!$X$78\"","v":"Kapitał!$X$78"},null,null,null,null,"Kwota",null,null,"sf:ZestZmianWKapitale//jin:IA_5_4","dtsf:KwotaB1"]
[null,{"$f":"Adr_Kapitał & \"!$X$79\"","v":"Kapitał!$X$79"},null,null,null,null,"Kwota",null,null,"sf:ZestZmianWKapitale//jin:IA_5_4_1","dtsf:KwotaB1"]
[null,{"$f":"Adr_Kapitał & \"!$X$80\"","v":"Kapitał!$X$80"},null,null,null,null,"Kwota",null,null,"sf:ZestZmianWKapitale//jin:IA_5_4_2","dtsf:KwotaB1"]
[null,{"$f":"Adr_Kapitał & \"!$X$81\"","v":"Kapitał!$X$81"},null,null,null,null,"Kwota",null,null,"sf:ZestZmianWKapitale//jin:IA_5_5","dtsf:KwotaB1"]
[null,{"$f":"Adr_Kapitał & \"!$X$82\"","v":"Kapitał!$X$82"},null,null,null,null,"Kwota",null,null,"sf:ZestZmianWKapitale//jin:IA_5_5_A","dtsf:KwotaB1"]
[null,{"$f":"Adr_Kapitał & \"!$X$83\"","v":"Kapitał!$X$83"},null,null,null,null,"Kwota",null,null,"sf:ZestZmianWKapitale//jin:IA_5_5_A_1","dtsf:KwotaB1"]
[null,{"$f":"Adr_Kapitał & \"!$X$84\"","v":"Kapitał!$X$84"},null,null,null,"Pidx","Kwota",1,null,"sf:ZestZmianWKapitale//jin:IA_5_5_A/jin:PozycjaUszczegolawiajaca_2","dtsf:KwotyPozycji/dtsf:KwotaB1"]
[null,{"$f":"Adr_Kapitał & \"!$X$85\"","v":"Kapitał!$X$85"},null,null,null,"Pidx","Kwota",2,null,"sf:ZestZmianWKapitale//jin:IA_5_5_A/jin:PozycjaUszczegolawiajaca_2","dtsf:KwotyPozycji/dtsf:KwotaB1"]
[null,{"$f":"Adr_Kapitał & \"!$X$86\"","v":"Kapitał!$X$86"},null,null,null,"Pidx","Kwota",3,null,"sf:ZestZmianWKapitale//jin:IA_5_5_A/jin:PozycjaUszczegolawiajaca_2","dtsf:KwotyPozycji/dtsf:KwotaB1"]
[null,{"$f":"Adr_Kapitał & \"!$X$87\"","v":"Kapitał!$X$87"},null,null,null,null,"Kwota",null,null,"sf:ZestZmianWKapitale//jin:IA_5_5_B","dtsf:KwotaB1"]
[null,{"$f":"Adr_Kapitał & \"!$X$88\"","v":"Kapitał!$X$88"},null,null,null,"Pidx","Kwota",1,null,"sf:ZestZmianWKapitale//jin:IA_5_5_B/dtsf:PozycjaUszczegolawiajaca","dtsf:KwotyPozycji/dtsf:KwotaB1"]
[null,{"$f":"Adr_Kapitał & \"!$X$89\"","v":"Kapitał!$X$89"},null,null,null,"Pidx","Kwota",2,null,"sf:ZestZmianWKapitale//jin:IA_5_5_B/dtsf:PozycjaUszczegolawiajaca","dtsf:KwotyPozycji/dtsf:KwotaB1"]
[null,{"$f":"Adr_Kapitał & \"!$X$90\"","v":"Kapitał!$X$90"},null,null,null,"Pidx","Kwota",3,null,"sf:ZestZmianWKapitale//jin:IA_5_5_B/dtsf:PozycjaUszczegolawiajaca","dtsf:KwotyPozycji/dtsf:KwotaB1"]
[null,{"$f":"Adr_Kapitał & \"!$X$91\"","v":"Kapitał!$X$91"},null,null,null,null,"Kwota",null,null,"sf:ZestZmianWKapitale//jin:IA_5_6","dtsf:KwotaB1"]
[null,{"$f":"Adr_Kapitał & \"!$X$92\"","v":"Kapitał!$X$92"},null,null,null,null,"Kwota",null,null,"sf:ZestZmianWKapitale//jin:IA_5_7","dtsf:KwotaB1"]
[null,{"$f":"Adr_Kapitał & \"!$X$93\"","v":"Kapitał!$X$93"},null,null,null,null,"Kwota",null,null,"sf:ZestZmianWKapitale//jin:IA_6","dtsf:KwotaB1"]
[null,{"$f":"Adr_Kapitał & \"!$X$94\"","v":"Kapitał!$X$94"},null,null,null,null,"Kwota",null,null,"sf:ZestZmianWKapitale//jin:IA_6_A","dtsf:KwotaB1"]
[null,{"$f":"Adr_Kapitał & \"!$X$95\"","v":"Kapitał!$X$95"},null,null,null,null,"Kwota",null,null,"sf:ZestZmianWKapitale//jin:IA_6_B","dtsf:KwotaB1"]
[null,{"$f":"Adr_Kapitał & \"!$X$96\"","v":"Kapitał!$X$96"},null,null,null,null,"Kwota",null,null,"sf:ZestZmianWKapitale//jin:IA_6_C","dtsf:KwotaB1"]
[null,{"$f":"Adr_Kapitał & \"!$X$97\"","v":"Kapitał!$X$97"},null,null,null,null,"Kwota",null,null,"sf:ZestZmianWKapitale//jin:II","dtsf:KwotaB1"]
[null,{"$f":"Adr_Kapitał & \"!$X$98\"","v":"Kapitał!$X$98"},null,null,null,null,"Kwota",null,null,"sf:ZestZmianWKapitale//jin:III","dtsf:KwotaB1"]
[]
[]
[null,{"$f":"Adr_Kapitał & \"!$V$6\"","v":"Kapitał!$V$6"},null,null,null,null,{"$f":"G1900","v":"Kwota"},null,"0","sf:ZestZmianWKapitaleJednostkaInna//jin:I","dtsf:KwotaA"]
[null,{"$f":"Adr_Kapitał & \"!$W$6\"","v":"Kapitał!$W$6"},null,null,null,null,"Kwota",null,"0","sf:ZestZmianWKapitaleJednostkaInna//jin:I","dtsf:KwotaB"]
[null,{"$f":"Adr_Kapitał & \"!$V$7\"","v":"Kapitał!$V$7"},null,null,null,null,"Kwota",null,null,"sf:ZestZmianWKapitaleJednostkaInna//jin:I_1","dtsf:KwotaA"]
[null,{"$f":"Adr_Kapitał & \"!$W$7\"","v":"Kapitał!$W$7"},null,null,null,null,"Kwota",null,null,"sf:ZestZmianWKapitaleJednostkaInna//jin:I_1","dtsf:KwotaB"]
[null,{"$f":"Adr_Kapitał & \"!$V$8\"","v":"Kapitał!$V$8"},null,null,null,null,"Kwota",null,null,"sf:ZestZmianWKapitaleJednostkaInna//jin:I_2","dtsf:KwotaA"]
[null,{"$f":"Adr_Kapitał & \"!$W$8\"","v":"Kapitał!$W$8"},null,null,null,null,"Kwota",null,null,"sf:ZestZmianWKapitaleJednostkaInna//jin:I_2","dtsf:KwotaB"]
[null,{"$f":"Adr_Kapitał & \"!$V$9\"","v":"Kapitał!$V$9"},null,null,null,null,"Kwota",null,{"$f":"I1906","v":"=V6+V7+V8"},"sf:ZestZmianWKapitaleJednostkaInna//jin:IA","dtsf:KwotaA"]
[null,{"$f":"Adr_Kapitał & \"!$W$9\"","v":"Kapitał!$W$9"},null,null,null,null,"Kwota",null,{"$f":"I1907","v":"=W6+W7+W8"},"sf:ZestZmianWKapitaleJednostkaInna//jin:IA","dtsf:KwotaB"]
[null,{"$f":"Adr_Kapitał & \"!$V$10\"","v":"Kapitał!$V$10"},null,null,null,null,"Kwota",null,"0","sf:ZestZmianWKapitaleJednostkaInna//jin:IA_1","dtsf:KwotaA"]
[null,{"$f":"Adr_Kapitał & \"!$W$10\"","v":"Kapitał!$W$10"},null,null,null,null,"Kwota",null,"0","sf:ZestZmianWKapitaleJednostkaInna//jin:IA_1","dtsf:KwotaB"]
[null,{"$f":"Adr_Kapitał & \"!$V$11\"","v":"Kapitał!$V$11"},null,null,null,null,"Kwota",null,{"$f":"I1910","v":"=V12-V17"},"sf:ZestZmianWKapitaleJednostkaInna//jin:IA_1_1","dtsf:KwotaA"]
[null,{"$f":"Adr_Kapitał & \"!$W$11\"","v":"Kapitał!$W$11"},null,null,null,null,"Kwota",null,{"$f":"I1911","v":"=W12-W17"},"sf:ZestZmianWKapitaleJednostkaInna//jin:IA_1_1","dtsf:KwotaB"]
[null,{"$f":"Adr_Kapitał & \"!$V$12\"","v":"Kapitał!$V$12"},null,null,null,null,"Kwota",null,{"$f":"I1912","v":"*Sum"},"sf:ZestZmianWKapitaleJednostkaInna//jin:IA_1_1_A","dtsf:KwotaA"]
[null,{"$f":"Adr_Kapitał & \"!$W$12\"","v":"Kapitał!$W$12"},null,null,null,null,"Kwota",null,{"$f":"I1913","v":"*Sum"},"sf:ZestZmianWKapitaleJednostkaInna//jin:IA_1_1_A","dtsf:KwotaB"]
[null,{"$f":"Adr_Kapitał & \"!$V$13\"","v":"Kapitał!$V$13"},null,null,null,null,"Kwota",null,null,"sf:ZestZmianWKapitaleJednostkaInna//jin:IA_1_1_A_1","dtsf:KwotaA"]
[null,{"$f":"Adr_Kapitał & \"!$W$13\"","v":"Kapitał!$W$13"},null,null,null,null,"Kwota",null,null,"sf:ZestZmianWKapitaleJednostkaInna//jin:IA_1_1_A_1","dtsf:KwotaB"]
[null,{"$f":"Adr_Kapitał & \"!$O$14\"","v":"Kapitał!$O$14"},null,null,0,{"$f":"F1916","v":"Pidx"},"Tekst",{"$f":"H1916","v":1},null,"sf:ZestZmianWKapitaleJednostkaInna//jin:IA_1_1_A/jin:PozycjaUszczegolawiajaca_2","dtsf:NazwaPozycji"]
[null,{"$f":"Adr_Kapitał & \"!$V$14\"","v":"Kapitał!$V$14"},null,null,null,"Pidx","Kwota",1,null,"sf:ZestZmianWKapitaleJednostkaInna//jin:IA_1_1_A/jin:PozycjaUszczegolawiajaca_2","dtsf:KwotyPozycji/dtsf:KwotaA"]
[null,{"$f":"Adr_Kapitał & \"!$W$14\"","v":"Kapitał!$W$14"},null,null,null,"Pidx","Kwota",1,null,"sf:ZestZmianWKapitaleJednostkaInna//jin:IA_1_1_A/jin:PozycjaUszczegolawiajaca_2","dtsf:KwotyPozycji/dtsf:KwotaB"]
[null,{"$f":"Adr_Kapitał & \"!$O$15\"","v":"Kapitał!$O$15"},null,null,0,"Pidx","Tekst",2,null,"sf:ZestZmianWKapitaleJednostkaInna//jin:IA_1_1_A/jin:PozycjaUszczegolawiajaca_2","dtsf:NazwaPozycji"]
[null,{"$f":"Adr_Kapitał & \"!$V$15\"","v":"Kapitał!$V$15"},null,null,null,"Pidx","Kwota",2,null,"sf:ZestZmianWKapitaleJednostkaInna//jin:IA_1_1_A/jin:PozycjaUszczegolawiajaca_2","dtsf:KwotyPozycji/dtsf:KwotaA"]
[null,{"$f":"Adr_Kapitał & \"!$W$15\"","v":"Kapitał!$W$15"},null,null,null,"Pidx","Kwota",2,null,"sf:ZestZmianWKapitaleJednostkaInna//jin:IA_1_1_A/jin:PozycjaUszczegolawiajaca_2","dtsf:KwotyPozycji/dtsf:KwotaB"]
[null,{"$f":"Adr_Kapitał & \"!$O$16\"","v":"Kapitał!$O$16"},null,null,0,"Pidx","Tekst",3,null,"sf:ZestZmianWKapitaleJednostkaInna//jin:IA_1_1_A/jin:PozycjaUszczegolawiajaca_2","dtsf:NazwaPozycji"]
[null,{"$f":"Adr_Kapitał & \"!$V$16\"","v":"Kapitał!$V$16"},null,null,null,"Pidx","Kwota",3,null,"sf:ZestZmianWKapitaleJednostkaInna//jin:IA_1_1_A/jin:PozycjaUszczegolawiajaca_2","dtsf:KwotyPozycji/dtsf:KwotaA"]
[null,{"$f":"Adr_Kapitał & \"!$W$16\"","v":"Kapitał!$W$16"},null,null,null,"Pidx","Kwota",3,null,"sf:ZestZmianWKapitaleJednostkaInna//jin:IA_1_1_A/jin:PozycjaUszczegolawiajaca_2","dtsf:KwotyPozycji/dtsf:KwotaB"]
[null,{"$f":"Adr_Kapitał & \"!$V$17\"","v":"Kapitał!$V$17"},null,null,null,null,"Kwota",null,{"$f":"I1925","v":"*Sum"},"sf:ZestZmianWKapitaleJednostkaInna//jin:IA_1_1_B","dtsf:KwotaA"]
[null,{"$f":"Adr_Kapitał & \"!$W$17\"","v":"Kapitał!$W$17"},null,null,null,null,"Kwota",null,{"$f":"I1926","v":"*Sum"},"sf:ZestZmianWKapitaleJednostkaInna//jin:IA_1_1_B","dtsf:KwotaB"]
[null,{"$f":"Adr_Kapitał & \"!$V$18\"","v":"Kapitał!$V$18"},null,null,null,null,"Kwota",null,null,"sf:ZestZmianWKapitaleJednostkaInna//jin:IA_1_1_B_1","dtsf:KwotaA"]
[null,{"$f":"Adr_Kapitał & \"!$W$18\"","v":"Kapitał!$W$18"},null,null,null,null,"Kwota",null,null,"sf:ZestZmianWKapitaleJednostkaInna//jin:IA_1_1_B_1","dtsf:KwotaB"]
[null,{"$f":"Adr_Kapitał & \"!$O$19\"","v":"Kapitał!$O$19"},null,null,0,{"$f":"F1929","v":"Pidx"},"Tekst",{"$f":"H1929","v":1},null,"sf:ZestZmianWKapitaleJednostkaInna//jin:IA_1_1_B/jin:PozycjaUszczegolawiajaca_2","dtsf:NazwaPozycji"]
[null,{"$f":"Adr_Kapitał & \"!$V$19\"","v":"Kapitał!$V$19"},null,null,null,"Pidx","Kwota",1,null,"sf:ZestZmianWKapitaleJednostkaInna//jin:IA_1_1_B/jin:PozycjaUszczegolawiajaca_2","dtsf:KwotyPozycji/dtsf:KwotaA"]
[null,{"$f":"Adr_Kapitał & \"!$W$19\"","v":"Kapitał!$W$19"},null,null,null,"Pidx","Kwota",1,null,"sf:ZestZmianWKapitaleJednostkaInna//jin:IA_1_1_B/jin:PozycjaUszczegolawiajaca_2","dtsf:KwotyPozycji/dtsf:KwotaB"]
[null,{"$f":"Adr_Kapitał & \"!$O$20\"","v":"Kapitał!$O$20"},null,null,0,"Pidx","Tekst",2,null,"sf:ZestZmianWKapitaleJednostkaInna//jin:IA_1_1_B/jin:PozycjaUszczegolawiajaca_2","dtsf:NazwaPozycji"]
[null,{"$f":"Adr_Kapitał & \"!$V$20\"","v":"Kapitał!$V$20"},null,null,null,"Pidx","Kwota",2,null,"sf:ZestZmianWKapitaleJednostkaInna//jin:IA_1_1_B/jin:PozycjaUszczegolawiajaca_2","dtsf:KwotyPozycji/dtsf:KwotaA"]
[null,{"$f":"Adr_Kapitał & \"!$W$20\"","v":"Kapitał!$W$20"},null,null,null,"Pidx","Kwota",2,null,"sf:ZestZmianWKapitaleJednostkaInna//jin:IA_1_1_B/jin:PozycjaUszczegolawiajaca_2","dtsf:KwotyPozycji/dtsf:KwotaB"]
[null,{"$f":"Adr_Kapitał & \"!$O$21\"","v":"Kapitał!$O$21"},null,null,0,"Pidx","Tekst",3,null,"sf:ZestZmianWKapitaleJednostkaInna//jin:IA_1_1_B/jin:PozycjaUszczegolawiajaca_2","dtsf:NazwaPozycji"]
[null,{"$f":"Adr_Kapitał & \"!$V$21\"","v":"Kapitał!$V$21"},null,null,null,"Pidx","Kwota",3,null,"sf:ZestZmianWKapitaleJednostkaInna//jin:IA_1_1_B/jin:PozycjaUszczegolawiajaca_2","dtsf:KwotyPozycji/dtsf:KwotaA"]
[null,{"$f":"Adr_Kapitał & \"!$W$21\"","v":"Kapitał!$W$21"},null,null,null,"Pidx","Kwota",3,null,"sf:ZestZmianWKapitaleJednostkaInna//jin:IA_1_1_B/jin:PozycjaUszczegolawiajaca_2","dtsf:KwotyPozycji/dtsf:KwotaB"]
[null,{"$f":"Adr_Kapitał & \"!$V$22\"","v":"Kapitał!$V$22"},null,null,null,null,"Kwota",null,{"$f":"I1938","v":"=V10+V11"},"sf:ZestZmianWKapitaleJednostkaInna//jin:IA_1_2","dtsf:KwotaA"]
[null,{"$f":"Adr_Kapitał & \"!$W$22\"","v":"Kapitał!$W$22"},null,null,null,null,"Kwota",null,{"$f":"I1939","v":"=W10+W11"},"sf:ZestZmianWKapitaleJednostkaInna//jin:IA_1_2","dtsf:KwotaB"]
[null,{"$f":"Adr_Kapitał & \"!$V$23\"","v":"Kapitał!$V$23"},null,null,null,null,"Kwota",null,"0","sf:ZestZmianWKapitaleJednostkaInna//jin:IA_2","dtsf:KwotaA"]
[null,{"$f":"Adr_Kapitał & \"!$W$23\"","v":"Kapitał!$W$23"},null,null,null,null,"Kwota",null,"0","sf:ZestZmianWKapitaleJednostkaInna//jin:IA_2","dtsf:KwotaB"]
[null,{"$f":"Adr_Kapitał & \"!$V$24\"","v":"Kapitał!$V$24"},null,null,null,null,"Kwota",null,{"$f":"I1942","v":"=V25-V32"},"sf:ZestZmianWKapitaleJednostkaInna//jin:IA_2_1","dtsf:KwotaA"]
[null,{"$f":"Adr_Kapitał & \"!$W$24\"","v":"Kapitał!$W$24"},null,null,null,null,"Kwota",null,{"$f":"I1943","v":"=W25-W32"},"sf:ZestZmianWKapitaleJednostkaInna//jin:IA_2_1","dtsf:KwotaB"]
[null,{"$f":"Adr_Kapitał & \"!$V$25\"","v":"Kapitał!$V$25"},null,null,null,null,"Kwota",null,{"$f":"I1944","v":"*Sum"},"sf:ZestZmianWKapitaleJednostkaInna//jin:IA_2_1_A","dtsf:KwotaA"]
[null,{"$f":"Adr_Kapitał & \"!$W$25\"","v":"Kapitał!$W$25"},null,null,null,null,"Kwota",null,{"$f":"I1945","v":"*Sum"},"sf:ZestZmianWKapitaleJednostkaInna//jin:IA_2_1_A","dtsf:KwotaB"]
[null,{"$f":"Adr_Kapitał & \"!$V$26\"","v":"Kapitał!$V$26"},null,null,null,null,"Kwota",null,null,"sf:ZestZmianWKapitaleJednostkaInna//jin:IA_2_1_A_1","dtsf:KwotaA"]
[null,{"$f":"Adr_Kapitał & \"!$W$26\"","v":"Kapitał!$W$26"},null,null,null,null,"Kwota",null,null,"sf:ZestZmianWKapitaleJednostkaInna//jin:IA_2_1_A_1","dtsf:KwotaB"]
[null,{"$f":"Adr_Kapitał & \"!$V$27\"","v":"Kapitał!$V$27"},null,null,null,null,"Kwota",null,null,"sf:ZestZmianWKapitaleJednostkaInna//jin:IA_2_1_A_2","dtsf:KwotaA"]
[null,{"$f":"Adr_Kapitał & \"!$W$27\"","v":"Kapitał!$W$27"},null,null,null,null,"Kwota",null,null,"sf:ZestZmianWKapitaleJednostkaInna//jin:IA_2_1_A_2","dtsf:KwotaB"]
[null,{"$f":"Adr_Kapitał & \"!$V$28\"","v":"Kapitał!$V$28"},null,null,null,null,"Kwota",null,null,"sf:ZestZmianWKapitaleJednostkaInna//jin:IA_2_1_A_3","dtsf:KwotaA"]
[null,{"$f":"Adr_Kapitał & \"!$W$28\"","v":"Kapitał!$W$28"},null,null,null,null,"Kwota",null,null,"sf:ZestZmianWKapitaleJednostkaInna//jin:IA_2_1_A_3","dtsf:KwotaB"]
[null,{"$f":"Adr_Kapitał & \"!$O$29\"","v":"Kapitał!$O$29"},null,null,0,{"$f":"F1952","v":"Pidx"},"Tekst",{"$f":"H1952","v":1},null,"sf:ZestZmianWKapitaleJednostkaInna//jin:IA_2_1_A/jin:PozycjaUszczegolawiajaca_4","dtsf:NazwaPozycji"]
[null,{"$f":"Adr_Kapitał & \"!$V$29\"","v":"Kapitał!$V$29"},null,null,null,"Pidx","Kwota",1,null,"sf:ZestZmianWKapitaleJednostkaInna//jin:IA_2_1_A/jin:PozycjaUszczegolawiajaca_4","dtsf:KwotyPozycji/dtsf:KwotaA"]
[null,{"$f":"Adr_Kapitał & \"!$W$29\"","v":"Kapitał!$W$29"},null,null,null,"Pidx","Kwota",1,null,"sf:ZestZmianWKapitaleJednostkaInna//jin:IA_2_1_A/jin:PozycjaUszczegolawiajaca_4","dtsf:KwotyPozycji/dtsf:KwotaB"]
[null,{"$f":"Adr_Kapitał & \"!$O$30\"","v":"Kapitał!$O$30"},null,null,0,"Pidx","Tekst",2,null,"sf:ZestZmianWKapitaleJednostkaInna//jin:IA_2_1_A/jin:PozycjaUszczegolawiajaca_4","dtsf:NazwaPozycji"]
[null,{"$f":"Adr_Kapitał & \"!$V$30\"","v":"Kapitał!$V$30"},null,null,null,"Pidx","Kwota",2,null,"sf:ZestZmianWKapitaleJednostkaInna//jin:IA_2_1_A/jin:PozycjaUszczegolawiajaca_4","dtsf:KwotyPozycji/dtsf:KwotaA"]
[null,{"$f":"Adr_Kapitał & \"!$W$30\"","v":"Kapitał!$W$30"},null,null,null,"Pidx","Kwota",2,null,"sf:ZestZmianWKapitaleJednostkaInna//jin:IA_2_1_A/jin:PozycjaUszczegolawiajaca_4","dtsf:KwotyPozycji/dtsf:KwotaB"]
[null,{"$f":"Adr_Kapitał & \"!$O$31\"","v":"Kapitał!$O$31"},null,null,0,"Pidx","Tekst",3,null,"sf:ZestZmianWKapitaleJednostkaInna//jin:IA_2_1_A/jin:PozycjaUszczegolawiajaca_4","dtsf:NazwaPozycji"]
[null,{"$f":"Adr_Kapitał & \"!$V$31\"","v":"Kapitał!$V$31"},null,null,null,"Pidx","Kwota",3,null,"sf:ZestZmianWKapitaleJednostkaInna//jin:IA_2_1_A/jin:PozycjaUszczegolawiajaca_4","dtsf:KwotyPozycji/dtsf:KwotaA"]
[null,{"$f":"Adr_Kapitał & \"!$W$31\"","v":"Kapitał!$W$31"},null,null,null,"Pidx","Kwota",3,null,"sf:ZestZmianWKapitaleJednostkaInna//jin:IA_2_1_A/jin:PozycjaUszczegolawiajaca_4","dtsf:KwotyPozycji/dtsf:KwotaB"]
[null,{"$f":"Adr_Kapitał & \"!$V$32\"","v":"Kapitał!$V$32"},null,null,null,null,"Kwota",null,{"$f":"I1961","v":"*Sum"},"sf:ZestZmianWKapitaleJednostkaInna//jin:IA_2_1_B","dtsf:KwotaA"]
[null,{"$f":"Adr_Kapitał & \"!$W$32\"","v":"Kapitał!$W$32"},null,null,null,null,"Kwota",null,{"$f":"I1962","v":"*Sum"},"sf:ZestZmianWKapitaleJednostkaInna//jin:IA_2_1_B","dtsf:KwotaB"]
[null,{"$f":"Adr_Kapitał & \"!$V$33\"","v":"Kapitał!$V$33"},null,null,null,null,"Kwota",null,null,"sf:ZestZmianWKapitaleJednostkaInna//jin:IA_2_1_B_1","dtsf:KwotaA"]
[null,{"$f":"Adr_Kapitał & \"!$W$33\"","v":"Kapitał!$W$33"},null,null,null,null,{"$f":"G1964","v":"Kwota"},null,null,"sf:ZestZmianWKapitaleJednostkaInna//jin:IA_2_1_B_1","dtsf:KwotaB"]
[null,{"$f":"Adr_Kapitał & \"!$O$34\"","v":"Kapitał!$O$34"},null,null,0,{"$f":"F1965","v":"Pidx"},"Tekst",{"$f":"H1965","v":1},null,"sf:ZestZmianWKapitaleJednostkaInna//jin:IA_2_1_B/jin:PozycjaUszczegolawiajaca_2","dtsf:NazwaPozycji"]
[null,{"$f":"Adr_Kapitał & \"!$V$34\"","v":"Kapitał!$V$34"},null,null,null,"Pidx","Kwota",1,null,"sf:ZestZmianWKapitaleJednostkaInna//jin:IA_2_1_B/jin:PozycjaUszczegolawiajaca_2","dtsf:KwotyPozycji/dtsf:KwotaA"]
[null,{"$f":"Adr_Kapitał & \"!$W$34\"","v":"Kapitał!$W$34"},null,null,null,"Pidx","Kwota",1,null,"sf:ZestZmianWKapitaleJednostkaInna//jin:IA_2_1_B/jin:PozycjaUszczegolawiajaca_2","dtsf:KwotyPozycji/dtsf:KwotaB"]
[null,{"$f":"Adr_Kapitał & \"!$O$35\"","v":"Kapitał!$O$35"},null,null,0,"Pidx","Tekst",2,null,"sf:ZestZmianWKapitaleJednostkaInna//jin:IA_2_1_B/jin:PozycjaUszczegolawiajaca_2","dtsf:NazwaPozycji"]
[null,{"$f":"Adr_Kapitał & \"!$V$35\"","v":"Kapitał!$V$35"},null,null,null,"Pidx","Kwota",2,null,"sf:ZestZmianWKapitaleJednostkaInna//jin:IA_2_1_B/jin:PozycjaUszczegolawiajaca_2","dtsf:KwotyPozycji/dtsf:KwotaA"]
[null,{"$f":"Adr_Kapitał & \"!$W$35\"","v":"Kapitał!$W$35"},null,null,null,"Pidx","Kwota",2,null,"sf:ZestZmianWKapitaleJednostkaInna//jin:IA_2_1_B/jin:PozycjaUszczegolawiajaca_2","dtsf:KwotyPozycji/dtsf:KwotaB"]
[null,{"$f":"Adr_Kapitał & \"!$O$36\"","v":"Kapitał!$O$36"},null,null,0,"Pidx","Tekst",3,null,"sf:ZestZmianWKapitaleJednostkaInna//jin:IA_2_1_B/jin:PozycjaUszczegolawiajaca_2","dtsf:NazwaPozycji"]
[null,{"$f":"Adr_Kapitał & \"!$V$36\"","v":"Kapitał!$V$36"},null,null,null,"Pidx","Kwota",3,null,"sf:ZestZmianWKapitaleJednostkaInna//jin:IA_2_1_B/jin:PozycjaUszczegolawiajaca_2","dtsf:KwotyPozycji/dtsf:KwotaA"]
[null,{"$f":"Adr_Kapitał & \"!$W$36\"","v":"Kapitał!$W$36"},null,null,null,"Pidx","Kwota",3,null,"sf:ZestZmianWKapitaleJednostkaInna//jin:IA_2_1_B/jin:PozycjaUszczegolawiajaca_2","dtsf:KwotyPozycji/dtsf:KwotaB"]
[null,{"$f":"Adr_Kapitał & \"!$V$37\"","v":"Kapitał!$V$37"},null,null,null,null,"Kwota",null,{"$f":"I1974","v":"=V23+V24"},"sf:ZestZmianWKapitaleJednostkaInna//jin:IA_2_2","dtsf:KwotaA"]
[null,{"$f":"Adr_Kapitał & \"!$W$37\"","v":"Kapitał!$W$37"},null,null,null,null,"Kwota",null,{"$f":"I1975","v":"=W23+W24"},"sf:ZestZmianWKapitaleJednostkaInna//jin:IA_2_2","dtsf:KwotaB"]
[null,{"$f":"Adr_Kapitał & \"!$V$39\"","v":"Kapitał!$V$39"},null,null,null,null,"Kwota",null,"0","sf:ZestZmianWKapitaleJednostkaInna//jin:IA_3","dtsf:KwotaA"]
[null,{"$f":"Adr_Kapitał & \"!$W$39\"","v":"Kapitał!$W$39"},null,null,null,null,"Kwota",null,"0","sf:ZestZmianWKapitaleJednostkaInna//jin:IA_3","dtsf:KwotaB"]
[null,{"$f":"Adr_Kapitał & \"!$V$40\"","v":"Kapitał!$V$40"},null,null,null,null,"Kwota",null,{"$f":"I1978","v":"=V41-V45"},"sf:ZestZmianWKapitaleJednostkaInna//jin:IA_3_1","dtsf:KwotaA"]
[null,{"$f":"Adr_Kapitał & \"!$W$40\"","v":"Kapitał!$W$40"},null,null,null,null,"Kwota",null,{"$f":"I1979","v":"=W41-W45"},"sf:ZestZmianWKapitaleJednostkaInna//jin:IA_3_1","dtsf:KwotaB"]
[null,{"$f":"Adr_Kapitał & \"!$V$41\"","v":"Kapitał!$V$41"},null,null,null,null,"Kwota",null,{"$f":"I1980","v":"*Sum"},"sf:ZestZmianWKapitaleJednostkaInna//jin:IA_3_1_A","dtsf:KwotaA"]
[null,{"$f":"Adr_Kapitał & \"!$W$41\"","v":"Kapitał!$W$41"},null,null,null,null,"Kwota",null,{"$f":"I1981","v":"*Sum"},"sf:ZestZmianWKapitaleJednostkaInna//jin:IA_3_1_A","dtsf:KwotaB"]
[null,{"$f":"Adr_Kapitał & \"!$O$42\"","v":"Kapitał!$O$42"},null,null,0,{"$f":"F1982","v":"Pidx"},"Tekst",{"$f":"H1982","v":1},null,"sf:ZestZmianWKapitaleJednostkaInna//jin:IA_3_1_A/dtsf:PozycjaUszczegolawiajaca","dtsf:NazwaPozycji"]
[null,{"$f":"Adr_Kapitał & \"!$V$42\"","v":"Kapitał!$V$42"},null,null,null,"Pidx","Kwota",1,null,"sf:ZestZmianWKapitaleJednostkaInna//jin:IA_3_1_A/dtsf:PozycjaUszczegolawiajaca","dtsf:KwotyPozycji/dtsf:KwotaA"]
[null,{"$f":"Adr_Kapitał & \"!$W$42\"","v":"Kapitał!$W$42"},null,null,null,"Pidx","Kwota",1,null,"sf:ZestZmianWKapitaleJednostkaInna//jin:IA_3_1_A/dtsf:PozycjaUszczegolawiajaca","dtsf:KwotyPozycji/dtsf:KwotaB"]
[null,{"$f":"Adr_Kapitał & \"!$O$43\"","v":"Kapitał!$O$43"},null,null,0,"Pidx","Tekst",2,null,"sf:ZestZmianWKapitaleJednostkaInna//jin:IA_3_1_A/dtsf:PozycjaUszczegolawiajaca","dtsf:NazwaPozycji"]
[null,{"$f":"Adr_Kapitał & \"!$V$43\"","v":"Kapitał!$V$43"},null,null,null,"Pidx","Kwota",2,null,"sf:ZestZmianWKapitaleJednostkaInna//jin:IA_3_1_A/dtsf:PozycjaUszczegolawiajaca","dtsf:KwotyPozycji/dtsf:KwotaA"]
[null,{"$f":"Adr_Kapitał & \"!$W$43\"","v":"Kapitał!$W$43"},null,null,null,"Pidx","Kwota",2,null,"sf:ZestZmianWKapitaleJednostkaInna//jin:IA_3_1_A/dtsf:PozycjaUszczegolawiajaca","dtsf:KwotyPozycji/dtsf:KwotaB"]
[null,{"$f":"Adr_Kapitał & \"!$O$44\"","v":"Kapitał!$O$44"},null,null,0,"Pidx","Tekst",3,null,"sf:ZestZmianWKapitaleJednostkaInna//jin:IA_3_1_A/dtsf:PozycjaUszczegolawiajaca","dtsf:NazwaPozycji"]
[null,{"$f":"Adr_Kapitał & \"!$V$44\"","v":"Kapitał!$V$44"},null,null,null,"Pidx","Kwota",3,null,"sf:ZestZmianWKapitaleJednostkaInna//jin:IA_3_1_A/dtsf:PozycjaUszczegolawiajaca","dtsf:KwotyPozycji/dtsf:KwotaA"]
[null,{"$f":"Adr_Kapitał & \"!$W$44\"","v":"Kapitał!$W$44"},null,null,null,"Pidx","Kwota",3,null,"sf:ZestZmianWKapitaleJednostkaInna//jin:IA_3_1_A/dtsf:PozycjaUszczegolawiajaca","dtsf:KwotyPozycji/dtsf:KwotaB"]
[null,{"$f":"Adr_Kapitał & \"!$V$45\"","v":"Kapitał!$V$45"},null,null,null,null,"Kwota",null,{"$f":"I1991","v":"*Sum"},"sf:ZestZmianWKapitaleJednostkaInna//jin:IA_3_1_B","dtsf:KwotaA"]
[null,{"$f":"Adr_Kapitał & \"!$W$45\"","v":"Kapitał!$W$45"},null,null,null,null,"Kwota",null,{"$f":"I1992","v":"*Sum"},"sf:ZestZmianWKapitaleJednostkaInna//jin:IA_3_1_B","dtsf:KwotaB"]
[null,{"$f":"Adr_Kapitał & \"!$V$46\"","v":"Kapitał!$V$46"},null,null,null,null,"Kwota",null,null,"sf:ZestZmianWKapitaleJednostkaInna//jin:IA_3_1_B_1","dtsf:KwotaA"]
[null,{"$f":"Adr_Kapitał & \"!$W$46\"","v":"Kapitał!$W$46"},null,null,null,null,"Kwota",null,null,"sf:ZestZmianWKapitaleJednostkaInna//jin:IA_3_1_B_1","dtsf:KwotaB"]
[null,{"$f":"Adr_Kapitał & \"!$O$47\"","v":"Kapitał!$O$47"},null,null,0,{"$f":"F1995","v":"Pidx"},"Tekst",{"$f":"H1995","v":1},null,"sf:ZestZmianWKapitaleJednostkaInna//jin:IA_3_1_B/jin:PozycjaUszczegolawiajaca_2","dtsf:NazwaPozycji"]
[null,{"$f":"Adr_Kapitał & \"!$V$47\"","v":"Kapitał!$V$47"},null,null,null,"Pidx","Kwota",1,null,"sf:ZestZmianWKapitaleJednostkaInna//jin:IA_3_1_B/jin:PozycjaUszczegolawiajaca_2","dtsf:KwotyPozycji/dtsf:KwotaA"]
[null,{"$f":"Adr_Kapitał & \"!$W$47\"","v":"Kapitał!$W$47"},null,null,null,"Pidx","Kwota",1,null,"sf:ZestZmianWKapitaleJednostkaInna//jin:IA_3_1_B/jin:PozycjaUszczegolawiajaca_2","dtsf:KwotyPozycji/dtsf:KwotaB"]
[null,{"$f":"Adr_Kapitał & \"!$O$48\"","v":"Kapitał!$O$48"},null,null,0,"Pidx","Tekst",2,null,"sf:ZestZmianWKapitaleJednostkaInna//jin:IA_3_1_B/jin:PozycjaUszczegolawiajaca_2","dtsf:NazwaPozycji"]
[null,{"$f":"Adr_Kapitał & \"!$V$48\"","v":"Kapitał!$V$48"},null,null,null,"Pidx","Kwota",2,null,"sf:ZestZmianWKapitaleJednostkaInna//jin:IA_3_1_B/jin:PozycjaUszczegolawiajaca_2","dtsf:KwotyPozycji/dtsf:KwotaA"]
[null,{"$f":"Adr_Kapitał & \"!$W$48\"","v":"Kapitał!$W$48"},null,null,null,"Pidx","Kwota",2,null,"sf:ZestZmianWKapitaleJednostkaInna//jin:IA_3_1_B/jin:PozycjaUszczegolawiajaca_2","dtsf:KwotyPozycji/dtsf:KwotaB"]
[null,{"$f":"Adr_Kapitał & \"!$O$49\"","v":"Kapitał!$O$49"},null,null,0,"Pidx","Tekst",3,null,"sf:ZestZmianWKapitaleJednostkaInna//jin:IA_3_1_B/jin:PozycjaUszczegolawiajaca_2","dtsf:NazwaPozycji"]
[null,{"$f":"Adr_Kapitał & \"!$V$49\"","v":"Kapitał!$V$49"},null,null,null,"Pidx","Kwota",3,null,"sf:ZestZmianWKapitaleJednostkaInna//jin:IA_3_1_B/jin:PozycjaUszczegolawiajaca_2","dtsf:KwotyPozycji/dtsf:KwotaA"]
[null,{"$f":"Adr_Kapitał & \"!$W$49\"","v":"Kapitał!$W$49"},null,null,null,"Pidx","Kwota",3,null,"sf:ZestZmianWKapitaleJednostkaInna//jin:IA_3_1_B/jin:PozycjaUszczegolawiajaca_2","dtsf:KwotyPozycji/dtsf:KwotaB"]
[null,{"$f":"Adr_Kapitał & \"!$V$50\"","v":"Kapitał!$V$50"},null,null,null,null,"Kwota",null,{"$f":"I2004","v":"=V39+V40"},"sf:ZestZmianWKapitaleJednostkaInna//jin:IA_3_2","dtsf:KwotaA"]
[null,{"$f":"Adr_Kapitał & \"!$W$50\"","v":"Kapitał!$W$50"},null,null,null,null,"Kwota",null,{"$f":"I2005","v":"=W39+W40"},"sf:ZestZmianWKapitaleJednostkaInna//jin:IA_3_2","dtsf:KwotaB"]
[null,{"$f":"Adr_Kapitał & \"!$V$51\"","v":"Kapitał!$V$51"},null,null,null,null,"Kwota",null,"0","sf:ZestZmianWKapitaleJednostkaInna//jin:IA_4","dtsf:KwotaA"]
[null,{"$f":"Adr_Kapitał & \"!$W$51\"","v":"Kapitał!$W$51"},null,null,null,null,"Kwota",null,"0","sf:ZestZmianWKapitaleJednostkaInna//jin:IA_4","dtsf:KwotaB"]
[null,{"$f":"Adr_Kapitał & \"!$V$52\"","v":"Kapitał!$V$52"},null,null,null,null,"Kwota",null,{"$f":"I2008","v":"=V53-V57"},"sf:ZestZmianWKapitaleJednostkaInna//jin:IA_4_1","dtsf:KwotaA"]
[null,{"$f":"Adr_Kapitał & \"!$W$52\"","v":"Kapitał!$W$52"},null,null,null,null,"Kwota",null,{"$f":"I2009","v":"=W53-W57"},"sf:ZestZmianWKapitaleJednostkaInna//jin:IA_4_1","dtsf:KwotaB"]
[null,{"$f":"Adr_Kapitał & \"!$V$53\"","v":"Kapitał!$V$53"},null,null,null,null,"Kwota",null,{"$f":"I2010","v":"*Sum"},"sf:ZestZmianWKapitaleJednostkaInna//jin:IA_4_1_A","dtsf:KwotaA"]
[null,{"$f":"Adr_Kapitał & \"!$W$53\"","v":"Kapitał!$W$53"},null,null,null,null,"Kwota",null,{"$f":"I2011","v":"*Sum"},"sf:ZestZmianWKapitaleJednostkaInna//jin:IA_4_1_A","dtsf:KwotaB"]
[null,{"$f":"Adr_Kapitał & \"!$O$54\"","v":"Kapitał!$O$54"},null,null,0,{"$f":"F2012","v":"Pidx"},"Tekst",{"$f":"H2012","v":1},null,"sf:ZestZmianWKapitaleJednostkaInna//jin:IA_4_1_A/dtsf:PozycjaUszczegolawiajaca","dtsf:NazwaPozycji"]
[null,{"$f":"Adr_Kapitał & \"!$V$54\"","v":"Kapitał!$V$54"},null,null,null,"Pidx","Kwota",1,null,"sf:ZestZmianWKapitaleJednostkaInna//jin:IA_4_1_A/dtsf:PozycjaUszczegolawiajaca","dtsf:KwotyPozycji/dtsf:KwotaA"]
[null,{"$f":"Adr_Kapitał & \"!$W$54\"","v":"Kapitał!$W$54"},null,null,null,"Pidx","Kwota",1,null,"sf:ZestZmianWKapitaleJednostkaInna//jin:IA_4_1_A/dtsf:PozycjaUszczegolawiajaca","dtsf:KwotyPozycji/dtsf:KwotaB"]
[null,{"$f":"Adr_Kapitał & \"!$O$55\"","v":"Kapitał!$O$55"},null,null,0,"Pidx","Tekst",2,null,"sf:ZestZmianWKapitaleJednostkaInna//jin:IA_4_1_A/dtsf:PozycjaUszczegolawiajaca","dtsf:NazwaPozycji"]
[null,{"$f":"Adr_Kapitał & \"!$V$55\"","v":"Kapitał!$V$55"},null,null,null,"Pidx","Kwota",2,null,"sf:ZestZmianWKapitaleJednostkaInna//jin:IA_4_1_A/dtsf:PozycjaUszczegolawiajaca","dtsf:KwotyPozycji/dtsf:KwotaA"]
[null,{"$f":"Adr_Kapitał & \"!$W$55\"","v":"Kapitał!$W$55"},null,null,null,"Pidx","Kwota",2,null,"sf:ZestZmianWKapitaleJednostkaInna//jin:IA_4_1_A/dtsf:PozycjaUszczegolawiajaca","dtsf:KwotyPozycji/dtsf:KwotaB"]
[null,{"$f":"Adr_Kapitał & \"!$O$56\"","v":"Kapitał!$O$56"},null,null,0,"Pidx","Tekst",3,null,"sf:ZestZmianWKapitaleJednostkaInna//jin:IA_4_1_A/dtsf:PozycjaUszczegolawiajaca","dtsf:NazwaPozycji"]
[null,{"$f":"Adr_Kapitał & \"!$V$56\"","v":"Kapitał!$V$56"},null,null,null,"Pidx","Kwota",3,null,"sf:ZestZmianWKapitaleJednostkaInna//jin:IA_4_1_A/dtsf:PozycjaUszczegolawiajaca","dtsf:KwotyPozycji/dtsf:KwotaA"]
[null,{"$f":"Adr_Kapitał & \"!$W$56\"","v":"Kapitał!$W$56"},null,null,null,"Pidx","Kwota",3,null,"sf:ZestZmianWKapitaleJednostkaInna//jin:IA_4_1_A/dtsf:PozycjaUszczegolawiajaca","dtsf:KwotyPozycji/dtsf:KwotaB"]
[null,{"$f":"Adr_Kapitał & \"!$V$57\"","v":"Kapitał!$V$57"},null,null,null,null,"Kwota",null,{"$f":"I2021","v":"*Sum"},"sf:ZestZmianWKapitaleJednostkaInna//jin:IA_4_1_B","dtsf:KwotaA"]
[null,{"$f":"Adr_Kapitał & \"!$W$57\"","v":"Kapitał!$W$57"},null,null,null,null,"Kwota",null,{"$f":"I2022","v":"*Sum"},"sf:ZestZmianWKapitaleJednostkaInna//jin:IA_4_1_B","dtsf:KwotaB"]
[null,{"$f":"Adr_Kapitał & \"!$O$58\"","v":"Kapitał!$O$58"},null,null,0,{"$f":"F2023","v":"Pidx"},"Tekst",{"$f":"H2023","v":1},null,"sf:ZestZmianWKapitaleJednostkaInna//jin:IA_4_1_B/dtsf:PozycjaUszczegolawiajaca","dtsf:NazwaPozycji"]
[null,{"$f":"Adr_Kapitał & \"!$V$58\"","v":"Kapitał!$V$58"},null,null,null,"Pidx","Kwota",1,null,"sf:ZestZmianWKapitaleJednostkaInna//jin:IA_4_1_B/dtsf:PozycjaUszczegolawiajaca","dtsf:KwotyPozycji/dtsf:KwotaA"]
[null,{"$f":"Adr_Kapitał & \"!$W$58\"","v":"Kapitał!$W$58"},null,null,null,"Pidx","Kwota",1,null,"sf:ZestZmianWKapitaleJednostkaInna//jin:IA_4_1_B/dtsf:PozycjaUszczegolawiajaca","dtsf:KwotyPozycji/dtsf:KwotaB"]
[null,{"$f":"Adr_Kapitał & \"!$O$59\"","v":"Kapitał!$O$59"},null,null,0,"Pidx","Tekst",2,null,"sf:ZestZmianWKapitaleJednostkaInna//jin:IA_4_1_B/dtsf:PozycjaUszczegolawiajaca","dtsf:NazwaPozycji"]
[null,{"$f":"Adr_Kapitał & \"!$V$59\"","v":"Kapitał!$V$59"},null,null,null,"Pidx","Kwota",2,null,"sf:ZestZmianWKapitaleJednostkaInna//jin:IA_4_1_B/dtsf:PozycjaUszczegolawiajaca","dtsf:KwotyPozycji/dtsf:KwotaA"]
[null,{"$f":"Adr_Kapitał & \"!$W$59\"","v":"Kapitał!$W$59"},null,null,null,"Pidx",{"$f":"G2028","v":"Kwota"},2,null,"sf:ZestZmianWKapitaleJednostkaInna//jin:IA_4_1_B/dtsf:PozycjaUszczegolawiajaca","dtsf:KwotyPozycji/dtsf:KwotaB"]
[null,{"$f":"Adr_Kapitał & \"!$O$60\"","v":"Kapitał!$O$60"},null,null,0,"Pidx","Tekst",3,null,"sf:ZestZmianWKapitaleJednostkaInna//jin:IA_4_1_B/dtsf:PozycjaUszczegolawiajaca","dtsf:NazwaPozycji"]
[null,{"$f":"Adr_Kapitał & \"!$V$60\"","v":"Kapitał!$V$60"},null,null,null,"Pidx","Kwota",3,null,"sf:ZestZmianWKapitaleJednostkaInna//jin:IA_4_1_B/dtsf:PozycjaUszczegolawiajaca","dtsf:KwotyPozycji/dtsf:KwotaA"]
[null,{"$f":"Adr_Kapitał & \"!$W$60\"","v":"Kapitał!$W$60"},null,null,null,"Pidx","Kwota",3,null,"sf:ZestZmianWKapitaleJednostkaInna//jin:IA_4_1_B/dtsf:PozycjaUszczegolawiajaca","dtsf:KwotyPozycji/dtsf:KwotaB"]
[null,{"$f":"Adr_Kapitał & \"!$V$61\"","v":"Kapitał!$V$61"},null,null,null,null,"Kwota",null,{"$f":"I2032","v":"=V51+V52"},"sf:ZestZmianWKapitaleJednostkaInna//jin:IA_4_2","dtsf:KwotaA"]
[null,{"$f":"Adr_Kapitał & \"!$W$61\"","v":"Kapitał!$W$61"},null,null,null,null,"Kwota",null,{"$f":"I2033","v":"=W51+W52"},"sf:ZestZmianWKapitaleJednostkaInna//jin:IA_4_2","dtsf:KwotaB"]
[null,{"$f":"Adr_Kapitał & \"!$V$62\"","v":"Kapitał!$V$62"},null,null,null,null,"Kwota",null,"0","sf:ZestZmianWKapitaleJednostkaInna//jin:IA_5","dtsf:KwotaA"]
[null,{"$f":"Adr_Kapitał & \"!$W$62\"","v":"Kapitał!$W$62"},null,null,null,null,"Kwota",null,"0","sf:ZestZmianWKapitaleJednostkaInna//jin:IA_5","dtsf:KwotaB"]
[null,{"$f":"Adr_Kapitał & \"!$V$63\"","v":"Kapitał!$V$63"},null,null,null,null,"Kwota",null,{"$f":"I2036","v":"=IF(V62>=0,V62,0)"},"sf:ZestZmianWKapitaleJednostkaInna//jin:IA_5_1","dtsf:KwotaA"]
[null,{"$f":"Adr_Kapitał & \"!$W$63\"","v":"Kapitał!$W$63"},null,null,null,null,"Kwota",null,{"$f":"I2037","v":"=IF(W62>=0,W62,0)"},"sf:ZestZmianWKapitaleJednostkaInna//jin:IA_5_1","dtsf:KwotaB"]
[null,{"$f":"Adr_Kapitał & \"!$V$64\"","v":"Kapitał!$V$64"},null,null,null,null,"Kwota",null,null,"sf:ZestZmianWKapitaleJednostkaInna//jin:IA_5_1_1","dtsf:KwotaA"]
[null,{"$f":"Adr_Kapitał & \"!$W$64\"","v":"Kapitał!$W$64"},null,null,null,null,"Kwota",null,null,"sf:ZestZmianWKapitaleJednostkaInna//jin:IA_5_1_1","dtsf:KwotaB"]
[null,{"$f":"Adr_Kapitał & \"!$V$65\"","v":"Kapitał!$V$65"},null,null,null,null,"Kwota",null,null,"sf:ZestZmianWKapitaleJednostkaInna//jin:IA_5_1_2","dtsf:KwotaA"]
[null,{"$f":"Adr_Kapitał & \"!$W$65\"","v":"Kapitał!$W$65"},null,null,null,null,"Kwota",null,null,"sf:ZestZmianWKapitaleJednostkaInna//jin:IA_5_1_2","dtsf:KwotaB"]
[null,{"$f":"Adr_Kapitał & \"!$V$67\"","v":"Kapitał!$V$67"},null,null,null,null,"Kwota",null,{"$f":"I2042","v":"=V63+V64+V65"},"sf:ZestZmianWKapitaleJednostkaInna//jin:IA_5_2","dtsf:KwotaA"]
[null,{"$f":"Adr_Kapitał & \"!$W$67\"","v":"Kapitał!$W$67"},null,null,null,null,"Kwota",null,{"$f":"I2043","v":"=W63+W64+W65"},"sf:ZestZmianWKapitaleJednostkaInna//jin:IA_5_2","dtsf:KwotaB"]
[null,{"$f":"Adr_Kapitał & \"!$V$68\"","v":"Kapitał!$V$68"},null,null,null,null,"Kwota",null,{"$f":"I2044","v":"*Sum"},"sf:ZestZmianWKapitaleJednostkaInna//jin:IA_5_2_A","dtsf:KwotaA"]
[null,{"$f":"Adr_Kapitał & \"!$W$68\"","v":"Kapitał!$W$68"},null,null,null,null,"Kwota",null,{"$f":"I2045","v":"*Sum"},"sf:ZestZmianWKapitaleJednostkaInna//jin:IA_5_2_A","dtsf:KwotaB"]
[null,{"$f":"Adr_Kapitał & \"!$V$69\"","v":"Kapitał!$V$69"},null,null,null,null,"Kwota",null,null,"sf:ZestZmianWKapitaleJednostkaInna//jin:IA_5_2_A_1","dtsf:KwotaA"]
[null,{"$f":"Adr_Kapitał & \"!$W$69\"","v":"Kapitał!$W$69"},null,null,null,null,"Kwota",null,null,"sf:ZestZmianWKapitaleJednostkaInna//jin:IA_5_2_A_1","dtsf:KwotaB"]
[null,{"$f":"Adr_Kapitał & \"!$O$70\"","v":"Kapitał!$O$70"},null,null,0,{"$f":"F2048","v":"Pidx"},"Tekst",{"$f":"H2048","v":1},null,"sf:ZestZmianWKapitaleJednostkaInna//jin:IA_5_2_A/jin:PozycjaUszczegolawiajaca_2","dtsf:NazwaPozycji"]
[null,{"$f":"Adr_Kapitał & \"!$V$70\"","v":"Kapitał!$V$70"},null,null,null,"Pidx","Kwota",1,null,"sf:ZestZmianWKapitaleJednostkaInna//jin:IA_5_2_A/jin:PozycjaUszczegolawiajaca_2","dtsf:KwotyPozycji/dtsf:KwotaA"]
[null,{"$f":"Adr_Kapitał & \"!$W$70\"","v":"Kapitał!$W$70"},null,null,null,"Pidx","Kwota",1,null,"sf:ZestZmianWKapitaleJednostkaInna//jin:IA_5_2_A/jin:PozycjaUszczegolawiajaca_2","dtsf:KwotyPozycji/dtsf:KwotaB"]
[null,{"$f":"Adr_Kapitał & \"!$O$71\"","v":"Kapitał!$O$71"},null,null,0,"Pidx","Tekst",2,null,"sf:ZestZmianWKapitaleJednostkaInna//jin:IA_5_2_A/jin:PozycjaUszczegolawiajaca_2","dtsf:NazwaPozycji"]
[null,{"$f":"Adr_Kapitał & \"!$V$71\"","v":"Kapitał!$V$71"},null,null,null,"Pidx","Kwota",2,null,"sf:ZestZmianWKapitaleJednostkaInna//jin:IA_5_2_A/jin:PozycjaUszczegolawiajaca_2","dtsf:KwotyPozycji/dtsf:KwotaA"]
[null,{"$f":"Adr_Kapitał & \"!$W$71\"","v":"Kapitał!$W$71"},null,null,null,"Pidx","Kwota",2,null,"sf:ZestZmianWKapitaleJednostkaInna//jin:IA_5_2_A/jin:PozycjaUszczegolawiajaca_2","dtsf:KwotyPozycji/dtsf:KwotaB"]
[null,{"$f":"Adr_Kapitał & \"!$O$72\"","v":"Kapitał!$O$72"},null,null,0,"Pidx","Tekst",3,null,"sf:ZestZmianWKapitaleJednostkaInna//jin:IA_5_2_A/jin:PozycjaUszczegolawiajaca_2","dtsf:NazwaPozycji"]
[null,{"$f":"Adr_Kapitał & \"!$V$72\"","v":"Kapitał!$V$72"},null,null,null,"Pidx","Kwota",3,null,"sf:ZestZmianWKapitaleJednostkaInna//jin:IA_5_2_A/jin:PozycjaUszczegolawiajaca_2","dtsf:KwotyPozycji/dtsf:KwotaA"]
[null,{"$f":"Adr_Kapitał & \"!$W$72\"","v":"Kapitał!$W$72"},null,null,null,"Pidx","Kwota",3,null,"sf:ZestZmianWKapitaleJednostkaInna//jin:IA_5_2_A/jin:PozycjaUszczegolawiajaca_2","dtsf:KwotyPozycji/dtsf:KwotaB"]
[null,{"$f":"Adr_Kapitał & \"!$V$73\"","v":"Kapitał!$V$73"},null,null,null,null,"Kwota",null,{"$f":"I2057","v":"*Sum"},"sf:ZestZmianWKapitaleJednostkaInna//jin:IA_5_2_B","dtsf:KwotaA"]
[null,{"$f":"Adr_Kapitał & \"!$W$73\"","v":"Kapitał!$W$73"},null,null,null,null,"Kwota",null,{"$f":"I2058","v":"*Sum"},"sf:ZestZmianWKapitaleJednostkaInna//jin:IA_5_2_B","dtsf:KwotaB"]
[null,{"$f":"Adr_Kapitał & \"!$O$74\"","v":"Kapitał!$O$74"},null,null,0,{"$f":"F2059","v":"Pidx"},"Tekst",{"$f":"H2059","v":1},null,"sf:ZestZmianWKapitaleJednostkaInna//jin:IA_5_2_B/dtsf:PozycjaUszczegolawiajaca","dtsf:NazwaPozycji"]
[null,{"$f":"Adr_Kapitał & \"!$V$74\"","v":"Kapitał!$V$74"},null,null,null,"Pidx","Kwota",1,null,"sf:ZestZmianWKapitaleJednostkaInna//jin:IA_5_2_B/dtsf:PozycjaUszczegolawiajaca","dtsf:KwotyPozycji/dtsf:KwotaA"]
[null,{"$f":"Adr_Kapitał & \"!$W$74\"","v":"Kapitał!$W$74"},null,null,null,"Pidx","Kwota",1,null,"sf:ZestZmianWKapitaleJednostkaInna//jin:IA_5_2_B/dtsf:PozycjaUszczegolawiajaca","dtsf:KwotyPozycji/dtsf:KwotaB"]
[null,{"$f":"Adr_Kapitał & \"!$O$75\"","v":"Kapitał!$O$75"},null,null,0,"Pidx","Tekst",2,null,"sf:ZestZmianWKapitaleJednostkaInna//jin:IA_5_2_B/dtsf:PozycjaUszczegolawiajaca","dtsf:NazwaPozycji"]
[null,{"$f":"Adr_Kapitał & \"!$V$75\"","v":"Kapitał!$V$75"},null,null,null,"Pidx","Kwota",2,null,"sf:ZestZmianWKapitaleJednostkaInna//jin:IA_5_2_B/dtsf:PozycjaUszczegolawiajaca","dtsf:KwotyPozycji/dtsf:KwotaA"]
[null,{"$f":"Adr_Kapitał & \"!$W$75\"","v":"Kapitał!$W$75"},null,null,null,"Pidx","Kwota",2,null,"sf:ZestZmianWKapitaleJednostkaInna//jin:IA_5_2_B/dtsf:PozycjaUszczegolawiajaca","dtsf:KwotyPozycji/dtsf:KwotaB"]
[null,{"$f":"Adr_Kapitał & \"!$O$76\"","v":"Kapitał!$O$76"},null,null,0,"Pidx","Tekst",3,null,"sf:ZestZmianWKapitaleJednostkaInna//jin:IA_5_2_B/dtsf:PozycjaUszczegolawiajaca","dtsf:NazwaPozycji"]
[null,{"$f":"Adr_Kapitał & \"!$V$76\"","v":"Kapitał!$V$76"},null,null,null,"Pidx","Kwota",3,null,"sf:ZestZmianWKapitaleJednostkaInna//jin:IA_5_2_B/dtsf:PozycjaUszczegolawiajaca","dtsf:KwotyPozycji/dtsf:KwotaA"]
[null,{"$f":"Adr_Kapitał & \"!$W$76\"","v":"Kapitał!$W$76"},null,null,null,"Pidx","Kwota",3,null,"sf:ZestZmianWKapitaleJednostkaInna//jin:IA_5_2_B/dtsf:PozycjaUszczegolawiajaca","dtsf:KwotyPozycji/dtsf:KwotaB"]
[null,{"$f":"Adr_Kapitał & \"!$V$77\"","v":"Kapitał!$V$77"},null,null,null,null,"Kwota",null,{"$f":"I2068","v":"=V67+V68-V73"},"sf:ZestZmianWKapitaleJednostkaInna//jin:IA_5_3","dtsf:KwotaA"]
[null,{"$f":"Adr_Kapitał & \"!$W$77\"","v":"Kapitał!$W$77"},null,null,null,null,"Kwota",null,{"$f":"I2069","v":"=W67+W68-W73"},"sf:ZestZmianWKapitaleJednostkaInna//jin:IA_5_3","dtsf:KwotaB"]
[null,{"$f":"Adr_Kapitał & \"!$V$78\"","v":"Kapitał!$V$78"},null,null,null,null,"Kwota",null,null,"sf:ZestZmianWKapitaleJednostkaInna//jin:IA_5_4","dtsf:KwotaA"]
[null,{"$f":"Adr_Kapitał & \"!$W$78\"","v":"Kapitał!$W$78"},null,null,null,null,"Kwota",null,null,"sf:ZestZmianWKapitaleJednostkaInna//jin:IA_5_4","dtsf:KwotaB"]
[null,{"$f":"Adr_Kapitał & \"!$V$79\"","v":"Kapitał!$V$79"},null,null,null,null,"Kwota",null,null,"sf:ZestZmianWKapitaleJednostkaInna//jin:IA_5_4_1","dtsf:KwotaA"]
[null,{"$f":"Adr_Kapitał & \"!$W$79\"","v":"Kapitał!$W$79"},null,null,null,null,"Kwota",null,null,"sf:ZestZmianWKapitaleJednostkaInna//jin:IA_5_4_1","dtsf:KwotaB"]
[null,{"$f":"Adr_Kapitał & \"!$V$80\"","v":"Kapitał!$V$80"},null,null,null,null,"Kwota",null,null,"sf:ZestZmianWKapitaleJednostkaInna//jin:IA_5_4_2","dtsf:KwotaA"]
[null,{"$f":"Adr_Kapitał & \"!$W$80\"","v":"Kapitał!$W$80"},null,null,null,null,"Kwota",null,null,"sf:ZestZmianWKapitaleJednostkaInna//jin:IA_5_4_2","dtsf:KwotaB"]
[null,{"$f":"Adr_Kapitał & \"!$V$81\"","v":"Kapitał!$V$81"},null,null,null,null,"Kwota",null,{"$f":"I2076","v":"=V78+V79+V80"},"sf:ZestZmianWKapitaleJednostkaInna//jin:IA_5_5","dtsf:KwotaA"]
[null,{"$f":"Adr_Kapitał & \"!$W$81\"","v":"Kapitał!$W$81"},null,null,null,null,"Kwota",null,{"$f":"I2077","v":"=W78+W79+W80"},"sf:ZestZmianWKapitaleJednostkaInna//jin:IA_5_5","dtsf:KwotaB"]
[null,{"$f":"Adr_Kapitał & \"!$V$82\"","v":"Kapitał!$V$82"},null,null,null,null,"Kwota",null,{"$f":"I2078","v":"*Sum"},"sf:ZestZmianWKapitaleJednostkaInna//jin:IA_5_5_A","dtsf:KwotaA"]
[null,{"$f":"Adr_Kapitał & \"!$W$82\"","v":"Kapitał!$W$82"},null,null,null,null,"Kwota",null,{"$f":"I2079","v":"*Sum"},"sf:ZestZmianWKapitaleJednostkaInna//jin:IA_5_5_A","dtsf:KwotaB"]
[null,{"$f":"Adr_Kapitał & \"!$V$83\"","v":"Kapitał!$V$83"},null,null,null,null,"Kwota",null,null,"sf:ZestZmianWKapitaleJednostkaInna//jin:IA_5_5_A_1","dtsf:KwotaA"]
[null,{"$f":"Adr_Kapitał & \"!$W$83\"","v":"Kapitał!$W$83"},null,null,null,null,"Kwota",null,null,"sf:ZestZmianWKapitaleJednostkaInna//jin:IA_5_5_A_1","dtsf:KwotaB"]
[null,{"$f":"Adr_Kapitał & \"!$O$84\"","v":"Kapitał!$O$84"},null,null,0,{"$f":"F2082","v":"Pidx"},"Tekst",{"$f":"H2082","v":1},null,"sf:ZestZmianWKapitaleJednostkaInna//jin:IA_5_5_A/jin:PozycjaUszczegolawiajaca_2","dtsf:NazwaPozycji"]
[null,{"$f":"Adr_Kapitał & \"!$V$84\"","v":"Kapitał!$V$84"},null,null,null,"Pidx","Kwota",1,null,"sf:ZestZmianWKapitaleJednostkaInna//jin:IA_5_5_A/jin:PozycjaUszczegolawiajaca_2","dtsf:KwotyPozycji/dtsf:KwotaA"]
[null,{"$f":"Adr_Kapitał & \"!$W$84\"","v":"Kapitał!$W$84"},null,null,null,"Pidx","Kwota",1,null,"sf:ZestZmianWKapitaleJednostkaInna//jin:IA_5_5_A/jin:PozycjaUszczegolawiajaca_2","dtsf:KwotyPozycji/dtsf:KwotaB"]
[null,{"$f":"Adr_Kapitał & \"!$O$85\"","v":"Kapitał!$O$85"},null,null,0,"Pidx","Tekst",2,null,"sf:ZestZmianWKapitaleJednostkaInna//jin:IA_5_5_A/jin:PozycjaUszczegolawiajaca_2","dtsf:NazwaPozycji"]
[null,{"$f":"Adr_Kapitał & \"!$V$85\"","v":"Kapitał!$V$85"},null,null,null,"Pidx","Kwota",2,null,"sf:ZestZmianWKapitaleJednostkaInna//jin:IA_5_5_A/jin:PozycjaUszczegolawiajaca_2","dtsf:KwotyPozycji/dtsf:KwotaA"]
[null,{"$f":"Adr_Kapitał & \"!$W$85\"","v":"Kapitał!$W$85"},null,null,null,"Pidx","Kwota",2,null,"sf:ZestZmianWKapitaleJednostkaInna//jin:IA_5_5_A/jin:PozycjaUszczegolawiajaca_2","dtsf:KwotyPozycji/dtsf:KwotaB"]
[null,{"$f":"Adr_Kapitał & \"!$O$86\"","v":"Kapitał!$O$86"},null,null,0,"Pidx","Tekst",3,null,"sf:ZestZmianWKapitaleJednostkaInna//jin:IA_5_5_A/jin:PozycjaUszczegolawiajaca_2","dtsf:NazwaPozycji"]
[null,{"$f":"Adr_Kapitał & \"!$V$86\"","v":"Kapitał!$V$86"},null,null,null,"Pidx","Kwota",3,null,"sf:ZestZmianWKapitaleJednostkaInna//jin:IA_5_5_A/jin:PozycjaUszczegolawiajaca_2","dtsf:KwotyPozycji/dtsf:KwotaA"]
[null,{"$f":"Adr_Kapitał & \"!$W$86\"","v":"Kapitał!$W$86"},null,null,null,"Pidx","Kwota",3,null,"sf:ZestZmianWKapitaleJednostkaInna//jin:IA_5_5_A/jin:PozycjaUszczegolawiajaca_2","dtsf:KwotyPozycji/dtsf:KwotaB"]
[null,{"$f":"Adr_Kapitał & \"!$V$87\"","v":"Kapitał!$V$87"},null,null,null,null,"Kwota",null,{"$f":"I2091","v":"*Sum"},"sf:ZestZmianWKapitaleJednostkaInna//jin:IA_5_5_B","dtsf:KwotaA"]
[null,{"$f":"Adr_Kapitał & \"!$W$87\"","v":"Kapitał!$W$87"},null,null,null,null,{"$f":"G2092","v":"Kwota"},null,{"$f":"I2092","v":"*Sum"},"sf:ZestZmianWKapitaleJednostkaInna//jin:IA_5_5_B","dtsf:KwotaB"]
[null,{"$f":"Adr_Kapitał & \"!$O$88\"","v":"Kapitał!$O$88"},null,null,0,{"$f":"F2093","v":"Pidx"},"Tekst",{"$f":"H2093","v":1},null,"sf:ZestZmianWKapitaleJednostkaInna//jin:IA_5_5_B/dtsf:PozycjaUszczegolawiajaca","dtsf:NazwaPozycji"]
[null,{"$f":"Adr_Kapitał & \"!$V$88\"","v":"Kapitał!$V$88"},null,null,null,"Pidx","Kwota",1,null,"sf:ZestZmianWKapitaleJednostkaInna//jin:IA_5_5_B/dtsf:PozycjaUszczegolawiajaca","dtsf:KwotyPozycji/dtsf:KwotaA"]
[null,{"$f":"Adr_Kapitał & \"!$W$88\"","v":"Kapitał!$W$88"},null,null,null,"Pidx","Kwota",1,null,"sf:ZestZmianWKapitaleJednostkaInna//jin:IA_5_5_B/dtsf:PozycjaUszczegolawiajaca","dtsf:KwotyPozycji/dtsf:KwotaB"]
[null,{"$f":"Adr_Kapitał & \"!$O$89\"","v":"Kapitał!$O$89"},null,null,0,"Pidx","Tekst",2,null,"sf:ZestZmianWKapitaleJednostkaInna//jin:IA_5_5_B/dtsf:PozycjaUszczegolawiajaca","dtsf:NazwaPozycji"]
[null,{"$f":"Adr_Kapitał & \"!$V$89\"","v":"Kapitał!$V$89"},null,null,null,"Pidx","Kwota",2,null,"sf:ZestZmianWKapitaleJednostkaInna//jin:IA_5_5_B/dtsf:PozycjaUszczegolawiajaca","dtsf:KwotyPozycji/dtsf:KwotaA"]
[null,{"$f":"Adr_Kapitał & \"!$W$89\"","v":"Kapitał!$W$89"},null,null,null,"Pidx","Kwota",2,null,"sf:ZestZmianWKapitaleJednostkaInna//jin:IA_5_5_B/dtsf:PozycjaUszczegolawiajaca","dtsf:KwotyPozycji/dtsf:KwotaB"]
[null,{"$f":"Adr_Kapitał & \"!$O$90\"","v":"Kapitał!$O$90"},null,null,0,"Pidx","Tekst",3,null,"sf:ZestZmianWKapitaleJednostkaInna//jin:IA_5_5_B/dtsf:PozycjaUszczegolawiajaca","dtsf:NazwaPozycji"]
[null,{"$f":"Adr_Kapitał & \"!$V$90\"","v":"Kapitał!$V$90"},null,null,null,"Pidx","Kwota",3,null,"sf:ZestZmianWKapitaleJednostkaInna//jin:IA_5_5_B/dtsf:PozycjaUszczegolawiajaca","dtsf:KwotyPozycji/dtsf:KwotaA"]
[null,{"$f":"Adr_Kapitał & \"!$W$90\"","v":"Kapitał!$W$90"},null,null,null,"Pidx","Kwota",3,null,"sf:ZestZmianWKapitaleJednostkaInna//jin:IA_5_5_B/dtsf:PozycjaUszczegolawiajaca","dtsf:KwotyPozycji/dtsf:KwotaB"]
[null,{"$f":"Adr_Kapitał & \"!$V$91\"","v":"Kapitał!$V$91"},null,null,null,null,"Kwota",null,{"$f":"I2102","v":"=V81+V82-V87"},"sf:ZestZmianWKapitaleJednostkaInna//jin:IA_5_6","dtsf:KwotaA"]
[null,{"$f":"Adr_Kapitał & \"!$W$91\"","v":"Kapitał!$W$91"},null,null,null,null,"Kwota",null,"=W81+W82-W87","sf:ZestZmianWKapitaleJednostkaInna//jin:IA_5_6","dtsf:KwotaB"]
[null,{"$f":"Adr_Kapitał & \"!$V$92\"","v":"Kapitał!$V$92"},null,null,null,null,"Kwota",null,"=V77-V91","sf:ZestZmianWKapitaleJednostkaInna//jin:IA_5_7","dtsf:KwotaA"]
[null,{"$f":"Adr_Kapitał & \"!$W$92\"","v":"Kapitał!$W$92"},null,null,null,null,"Kwota",null,"=W77-W91","sf:ZestZmianWKapitaleJednostkaInna//jin:IA_5_7","dtsf:KwotaB"]
[null,{"$f":"Adr_Kapitał & \"!$V$93\"","v":"Kapitał!$V$93"},null,null,null,null,"Kwota",null,"=V94-V95-V96","sf:ZestZmianWKapitaleJednostkaInna//jin:IA_6","dtsf:KwotaA"]
[null,{"$f":"Adr_Kapitał & \"!$W$93\"","v":"Kapitał!$W$93"},null,null,null,null,"Kwota",null,"=W94-W95-W96","sf:ZestZmianWKapitaleJednostkaInna//jin:IA_6","dtsf:KwotaB"]
[null,{"$f":"Adr_Kapitał & \"!$V$94\"","v":"Kapitał!$V$94"},null,null,null,null,"Kwota",null,null,"sf:ZestZmianWKapitaleJednostkaInna//jin:IA_6_A","dtsf:KwotaA"]
[null,{"$f":"Adr_Kapitał & \"!$W$94\"","v":"Kapitał!$W$94"},null,null,null,null,"Kwota",null,null,"sf:ZestZmianWKapitaleJednostkaInna//jin:IA_6_A","dtsf:KwotaB"]
[null,{"$f":"Adr_Kapitał & \"!$V$95\"","v":"Kapitał!$V$95"},null,null,null,null,"Kwota",null,null,"sf:ZestZmianWKapitaleJednostkaInna//jin:IA_6_B","dtsf:KwotaA"]
[null,{"$f":"Adr_Kapitał & \"!$W$95\"","v":"Kapitał!$W$95"},null,null,null,null,"Kwota",null,null,"sf:ZestZmianWKapitaleJednostkaInna//jin:IA_6_B","dtsf:KwotaB"]
[null,{"$f":"Adr_Kapitał & \"!$V$96\"","v":"Kapitał!$V$96"},null,null,null,null,"Kwota",null,null,"sf:ZestZmianWKapitaleJednostkaInna//jin:IA_6_C","dtsf:KwotaA"]
[null,{"$f":"Adr_Kapitał & \"!$W$96\"","v":"Kapitał!$W$96"},null,null,null,null,"Kwota",null,null,"sf:ZestZmianWKapitaleJednostkaInna//jin:IA_6_C","dtsf:KwotaB"]
[null,{"$f":"Adr_Kapitał & \"!$V$97\"","v":"Kapitał!$V$97"},null,null,null,null,"Kwota",null,{"$f":"I2114","v":"=V22+V37+V50+V61+V92+V93"},"sf:ZestZmianWKapitaleJednostkaInna//jin:II","dtsf:KwotaA"]
[null,{"$f":"Adr_Kapitał & \"!$W$97\"","v":"Kapitał!$W$97"},null,null,null,null,"Kwota",null,{"$f":"I2115","v":"=W22+W37+W50+W61+W92+W93"},"sf:ZestZmianWKapitaleJednostkaInna//jin:II","dtsf:KwotaB"]
[null,{"$f":"Adr_Kapitał & \"!$V$98\"","v":"Kapitał!$V$98"},null,null,null,null,"Kwota",null,{"$f":"I2116","v":"=V97"},"sf:ZestZmianWKapitaleJednostkaInna//jin:III","dtsf:KwotaA"]
[null,{"$f":"Adr_Kapitał & \"!$W$98\"","v":"Kapitał!$W$98"},null,null,null,null,"Kwota",null,{"$f":"I2117","v":"=W97"},"sf:ZestZmianWKapitaleJednostkaInna//jin:III","dtsf:KwotaB"]
[null,{"$f":"Adr_Kapitał & \"!$X$6\"","v":"Kapitał!$X$6"},null,null,null,null,"Kwota",null,null,"sf:ZestZmianWKapitaleJednostkaInna//jin:I","dtsf:KwotaB1"]
[null,{"$f":"Adr_Kapitał & \"!$X$7\"","v":"Kapitał!$X$7"},null,null,null,null,"Kwota",null,null,"sf:ZestZmianWKapitaleJednostkaInna//jin:I_1","dtsf:KwotaB1"]
[null,{"$f":"Adr_Kapitał & \"!$X$8\"","v":"Kapitał!$X$8"},null,null,null,null,"Kwota",null,null,"sf:ZestZmianWKapitaleJednostkaInna//jin:I_2","dtsf:KwotaB1"]
[null,{"$f":"Adr_Kapitał & \"!$X$9\"","v":"Kapitał!$X$9"},null,null,null,null,"Kwota",null,null,"sf:ZestZmianWKapitaleJednostkaInna//jin:IA","dtsf:KwotaB1"]
[null,{"$f":"Adr_Kapitał & \"!$X$10\"","v":"Kapitał!$X$10"},null,null,null,null,"Kwota",null,null,"sf:ZestZmianWKapitaleJednostkaInna//jin:IA_1","dtsf:KwotaB1"]
[null,{"$f":"Adr_Kapitał & \"!$X$11\"","v":"Kapitał!$X$11"},null,null,null,null,"Kwota",null,null,"sf:ZestZmianWKapitaleJednostkaInna//jin:IA_1_1","dtsf:KwotaB1"]
[null,{"$f":"Adr_Kapitał & \"!$X$12\"","v":"Kapitał!$X$12"},null,null,null,null,"Kwota",null,null,"sf:ZestZmianWKapitaleJednostkaInna//jin:IA_1_1_A","dtsf:KwotaB1"]
[null,{"$f":"Adr_Kapitał & \"!$X$13\"","v":"Kapitał!$X$13"},null,null,null,null,"Kwota",null,null,"sf:ZestZmianWKapitaleJednostkaInna//jin:IA_1_1_A_1","dtsf:KwotaB1"]
[null,{"$f":"Adr_Kapitał & \"!$X$14\"","v":"Kapitał!$X$14"},null,null,null,{"$f":"F2126","v":"Pidx"},{"$f":"G2126","v":"Kwota"},1,null,"sf:ZestZmianWKapitaleJednostkaInna//jin:IA_1_1_A/jin:PozycjaUszczegolawiajaca_2","dtsf:KwotyPozycji/dtsf:KwotaB1"]
[null,{"$f":"Adr_Kapitał & \"!$X$15\"","v":"Kapitał!$X$15"},null,null,null,{"$f":"F2127","v":"Pidx"},{"$f":"G2127","v":"Kwota"},{"$f":"H2127","v":2},null,"sf:ZestZmianWKapitaleJednostkaInna//jin:IA_1_1_A/jin:PozycjaUszczegolawiajaca_2","dtsf:KwotyPozycji/dtsf:KwotaB1"]
[null,{"$f":"Adr_Kapitał & \"!$X$16\"","v":"Kapitał!$X$16"},null,null,null,{"$f":"F2128","v":"Pidx"},"Kwota",{"$f":"H2128","v":3},null,"sf:ZestZmianWKapitaleJednostkaInna//jin:IA_1_1_A/jin:PozycjaUszczegolawiajaca_2","dtsf:KwotyPozycji/dtsf:KwotaB1"]
[null,{"$f":"Adr_Kapitał & \"!$X$17\"","v":"Kapitał!$X$17"},null,null,null,null,"Kwota",null,null,"sf:ZestZmianWKapitaleJednostkaInna//jin:IA_1_1_B","dtsf:KwotaB1"]
[null,{"$f":"Adr_Kapitał & \"!$X$18\"","v":"Kapitał!$X$18"},null,null,null,null,"Kwota",null,null,"sf:ZestZmianWKapitaleJednostkaInna//jin:IA_1_1_B_1","dtsf:KwotaB1"]
[null,{"$f":"Adr_Kapitał & \"!$X$19\"","v":"Kapitał!$X$19"},null,null,null,{"$f":"F2131","v":"Pidx"},"Kwota",1,null,"sf:ZestZmianWKapitaleJednostkaInna//jin:IA_1_1_B/jin:PozycjaUszczegolawiajaca_2","dtsf:KwotyPozycji/dtsf:KwotaB1"]
[null,{"$f":"Adr_Kapitał & \"!$X$20\"","v":"Kapitał!$X$20"},null,null,null,{"$f":"F2132","v":"Pidx"},"Kwota",2,null,"sf:ZestZmianWKapitaleJednostkaInna//jin:IA_1_1_B/jin:PozycjaUszczegolawiajaca_2","dtsf:KwotyPozycji/dtsf:KwotaB1"]
[null,{"$f":"Adr_Kapitał & \"!$X$21\"","v":"Kapitał!$X$21"},null,null,null,{"$f":"F2133","v":"Pidx"},"Kwota",3,null,"sf:ZestZmianWKapitaleJednostkaInna//jin:IA_1_1_B/jin:PozycjaUszczegolawiajaca_2","dtsf:KwotyPozycji/dtsf:KwotaB1"]
[null,{"$f":"Adr_Kapitał & \"!$X$22\"","v":"Kapitał!$X$22"},null,null,null,null,"Kwota",null,null,"sf:ZestZmianWKapitaleJednostkaInna//jin:IA_1_2","dtsf:KwotaB1"]
[null,{"$f":"Adr_Kapitał & \"!$X$23\"","v":"Kapitał!$X$23"},null,null,null,null,"Kwota",null,null,"sf:ZestZmianWKapitaleJednostkaInna//jin:IA_2","dtsf:KwotaB1"]
[null,{"$f":"Adr_Kapitał & \"!$X$24\"","v":"Kapitał!$X$24"},null,null,null,null,"Kwota",null,null,"sf:ZestZmianWKapitaleJednostkaInna//jin:IA_2_1","dtsf:KwotaB1"]
[null,{"$f":"Adr_Kapitał & \"!$X$25\"","v":"Kapitał!$X$25"},null,null,null,null,"Kwota",null,null,"sf:ZestZmianWKapitaleJednostkaInna//jin:IA_2_1_A","dtsf:KwotaB1"]
[null,{"$f":"Adr_Kapitał & \"!$X$26\"","v":"Kapitał!$X$26"},null,null,null,null,"Kwota",null,null,"sf:ZestZmianWKapitaleJednostkaInna//jin:IA_2_1_A_1","dtsf:KwotaB1"]
[null,{"$f":"Adr_Kapitał & \"!$X$27\"","v":"Kapitał!$X$27"},null,null,null,null,"Kwota",null,null,"sf:ZestZmianWKapitaleJednostkaInna//jin:IA_2_1_A_2","dtsf:KwotaB1"]
[null,{"$f":"Adr_Kapitał & \"!$X$28\"","v":"Kapitał!$X$28"},null,null,null,null,"Kwota",null,null,"sf:ZestZmianWKapitaleJednostkaInna//jin:IA_2_1_A_3","dtsf:KwotaB1"]
[null,{"$f":"Adr_Kapitał & \"!$X$29\"","v":"Kapitał!$X$29"},null,null,null,{"$f":"F2141","v":"Pidx"},"Kwota",{"$f":"H2141","v":1},null,"sf:ZestZmianWKapitaleJednostkaInna//jin:IA_2_1_A/jin:PozycjaUszczegolawiajaca_4","dtsf:KwotyPozycji/dtsf:KwotaB1"]
[null,{"$f":"Adr_Kapitał & \"!$X$30\"","v":"Kapitał!$X$30"},null,null,null,{"$f":"F2142","v":"Pidx"},"Kwota",2,null,"sf:ZestZmianWKapitaleJednostkaInna//jin:IA_2_1_A/jin:PozycjaUszczegolawiajaca_4","dtsf:KwotyPozycji/dtsf:KwotaB1"]
[null,{"$f":"Adr_Kapitał & \"!$X$31\"","v":"Kapitał!$X$31"},null,null,null,{"$f":"F2143","v":"Pidx"},"Kwota",3,null,"sf:ZestZmianWKapitaleJednostkaInna//jin:IA_2_1_A/jin:PozycjaUszczegolawiajaca_4","dtsf:KwotyPozycji/dtsf:KwotaB1"]
[null,{"$f":"Adr_Kapitał & \"!$X$32\"","v":"Kapitał!$X$32"},null,null,null,null,"Kwota",null,null,"sf:ZestZmianWKapitaleJednostkaInna//jin:IA_2_1_B","dtsf:KwotaB1"]
[null,{"$f":"Adr_Kapitał & \"!$X$33\"","v":"Kapitał!$X$33"},null,null,null,null,"Kwota",null,null,"sf:ZestZmianWKapitaleJednostkaInna//jin:IA_2_1_B_1","dtsf:KwotaB1"]
[null,{"$f":"Adr_Kapitał & \"!$X$34\"","v":"Kapitał!$X$34"},null,null,null,{"$f":"F2146","v":"Pidx"},"Kwota",{"$f":"H2146","v":1},null,"sf:ZestZmianWKapitaleJednostkaInna//jin:IA_2_1_B/jin:PozycjaUszczegolawiajaca_2","dtsf:KwotyPozycji/dtsf:KwotaB1"]
[null,{"$f":"Adr_Kapitał & \"!$X$35\"","v":"Kapitał!$X$35"},null,null,null,{"$f":"F2147","v":"Pidx"},"Kwota",2,null,"sf:ZestZmianWKapitaleJednostkaInna//jin:IA_2_1_B/jin:PozycjaUszczegolawiajaca_2","dtsf:KwotyPozycji/dtsf:KwotaB1"]
[null,{"$f":"Adr_Kapitał & \"!$X$36\"","v":"Kapitał!$X$36"},null,null,null,{"$f":"F2148","v":"Pidx"},"Kwota",3,null,"sf:ZestZmianWKapitaleJednostkaInna//jin:IA_2_1_B/jin:PozycjaUszczegolawiajaca_2","dtsf:KwotyPozycji/dtsf:KwotaB1"]
[null,{"$f":"Adr_Kapitał & \"!$X$37\"","v":"Kapitał!$X$37"},null,null,null,null,"Kwota",null,null,"sf:ZestZmianWKapitaleJednostkaInna//jin:IA_2_2","dtsf:KwotaB1"]
[null,{"$f":"Adr_Kapitał & \"!$X$39\"","v":"Kapitał!$X$39"},null,null,null,null,"Kwota",null,null,"sf:ZestZmianWKapitaleJednostkaInna//jin:IA_3","dtsf:KwotaB1"]
[null,{"$f":"Adr_Kapitał & \"!$X$40\"","v":"Kapitał!$X$40"},null,null,null,null,"Kwota",null,null,"sf:ZestZmianWKapitaleJednostkaInna//jin:IA_3_1","dtsf:KwotaB1"]
[null,{"$f":"Adr_Kapitał & \"!$X$41\"","v":"Kapitał!$X$41"},null,null,null,null,"Kwota",null,null,"sf:ZestZmianWKapitaleJednostkaInna//jin:IA_3_1_A","dtsf:KwotaB1"]
[null,{"$f":"Adr_Kapitał & \"!$X$42\"","v":"Kapitał!$X$42"},null,null,null,{"$f":"F2153","v":"Pidx"},"Kwota",{"$f":"H2153","v":1},null,"sf:ZestZmianWKapitaleJednostkaInna//jin:IA_3_1_A/dtsf:PozycjaUszczegolawiajaca","dtsf:KwotyPozycji/dtsf:KwotaB1"]
[null,{"$f":"Adr_Kapitał & \"!$X$43\"","v":"Kapitał!$X$43"},null,null,null,{"$f":"F2154","v":"Pidx"},"Kwota",2,null,"sf:ZestZmianWKapitaleJednostkaInna//jin:IA_3_1_A/dtsf:PozycjaUszczegolawiajaca","dtsf:KwotyPozycji/dtsf:KwotaB1"]
[null,{"$f":"Adr_Kapitał & \"!$X$44\"","v":"Kapitał!$X$44"},null,null,null,{"$f":"F2155","v":"Pidx"},"Kwota",3,null,"sf:ZestZmianWKapitaleJednostkaInna//jin:IA_3_1_A/dtsf:PozycjaUszczegolawiajaca","dtsf:KwotyPozycji/dtsf:KwotaB1"]
[null,{"$f":"Adr_Kapitał & \"!$X$45\"","v":"Kapitał!$X$45"},null,null,null,null,"Kwota",null,null,"sf:ZestZmianWKapitaleJednostkaInna//jin:IA_3_1_B","dtsf:KwotaB1"]
[null,{"$f":"Adr_Kapitał & \"!$X$46\"","v":"Kapitał!$X$46"},null,null,null,null,"Kwota",null,null,"sf:ZestZmianWKapitaleJednostkaInna//jin:IA_3_1_B_1","dtsf:KwotaB1"]
[null,{"$f":"Adr_Kapitał & \"!$X$47\"","v":"Kapitał!$X$47"},null,null,null,{"$f":"F2158","v":"Pidx"},"Kwota",{"$f":"H2158","v":1},null,"sf:ZestZmianWKapitaleJednostkaInna//jin:IA_3_1_B/jin:PozycjaUszczegolawiajaca_2","dtsf:KwotyPozycji/dtsf:KwotaB1"]
[null,{"$f":"Adr_Kapitał & \"!$X$48\"","v":"Kapitał!$X$48"},null,null,null,{"$f":"F2159","v":"Pidx"},{"$f":"G2159","v":"Kwota"},2,null,"sf:ZestZmianWKapitaleJednostkaInna//jin:IA_3_1_B/jin:PozycjaUszczegolawiajaca_2","dtsf:KwotyPozycji/dtsf:KwotaB1"]
[null,{"$f":"Adr_Kapitał & \"!$X$49\"","v":"Kapitał!$X$49"},null,null,null,{"$f":"F2160","v":"Pidx"},"Kwota",3,null,"sf:ZestZmianWKapitaleJednostkaInna//jin:IA_3_1_B/jin:PozycjaUszczegolawiajaca_2","dtsf:KwotyPozycji/dtsf:KwotaB1"]
[null,{"$f":"Adr_Kapitał & \"!$X$50\"","v":"Kapitał!$X$50"},null,null,null,null,"Kwota",null,null,"sf:ZestZmianWKapitaleJednostkaInna//jin:IA_3_2","dtsf:KwotaB1"]
[null,{"$f":"Adr_Kapitał & \"!$X$51\"","v":"Kapitał!$X$51"},null,null,null,null,"Kwota",null,null,"sf:ZestZmianWKapitaleJednostkaInna//jin:IA_4","dtsf:KwotaB1"]
[null,{"$f":"Adr_Kapitał & \"!$X$52\"","v":"Kapitał!$X$52"},null,null,null,null,"Kwota",null,null,"sf:ZestZmianWKapitaleJednostkaInna//jin:IA_4_1","dtsf:KwotaB1"]
[null,{"$f":"Adr_Kapitał & \"!$X$53\"","v":"Kapitał!$X$53"},null,null,null,null,"Kwota",null,null,"sf:ZestZmianWKapitaleJednostkaInna//jin:IA_4_1_A","dtsf:KwotaB1"]
[null,{"$f":"Adr_Kapitał & \"!$X$54\"","v":"Kapitał!$X$54"},null,null,null,{"$f":"F2165","v":"Pidx"},"Kwota",{"$f":"H2165","v":1},null,"sf:ZestZmianWKapitaleJednostkaInna//jin:IA_4_1_A/dtsf:PozycjaUszczegolawiajaca","dtsf:KwotyPozycji/dtsf:KwotaB1"]
[null,{"$f":"Adr_Kapitał & \"!$X$55\"","v":"Kapitał!$X$55"},null,null,null,{"$f":"F2166","v":"Pidx"},"Kwota",2,null,"sf:ZestZmianWKapitaleJednostkaInna//jin:IA_4_1_A/dtsf:PozycjaUszczegolawiajaca","dtsf:KwotyPozycji/dtsf:KwotaB1"]
[null,{"$f":"Adr_Kapitał & \"!$X$56\"","v":"Kapitał!$X$56"},null,null,null,{"$f":"F2167","v":"Pidx"},"Kwota",3,null,"sf:ZestZmianWKapitaleJednostkaInna//jin:IA_4_1_A/dtsf:PozycjaUszczegolawiajaca","dtsf:KwotyPozycji/dtsf:KwotaB1"]
[null,{"$f":"Adr_Kapitał & \"!$X$57\"","v":"Kapitał!$X$57"},null,null,null,null,"Kwota",null,null,"sf:ZestZmianWKapitaleJednostkaInna//jin:IA_4_1_B","dtsf:KwotaB1"]
[null,{"$f":"Adr_Kapitał & \"!$X$58\"","v":"Kapitał!$X$58"},null,null,null,{"$f":"F2169","v":"Pidx"},"Kwota",{"$f":"H2169","v":1},null,"sf:ZestZmianWKapitaleJednostkaInna//jin:IA_4_1_B/dtsf:PozycjaUszczegolawiajaca","dtsf:KwotyPozycji/dtsf:KwotaB1"]
[null,{"$f":"Adr_Kapitał & \"!$X$59\"","v":"Kapitał!$X$59"},null,null,null,{"$f":"F2170","v":"Pidx"},"Kwota",2,null,"sf:ZestZmianWKapitaleJednostkaInna//jin:IA_4_1_B/dtsf:PozycjaUszczegolawiajaca","dtsf:KwotyPozycji/dtsf:KwotaB1"]
[null,{"$f":"Adr_Kapitał & \"!$X$60\"","v":"Kapitał!$X$60"},null,null,null,{"$f":"F2171","v":"Pidx"},"Kwota",3,null,"sf:ZestZmianWKapitaleJednostkaInna//jin:IA_4_1_B/dtsf:PozycjaUszczegolawiajaca","dtsf:KwotyPozycji/dtsf:KwotaB1"]
[null,{"$f":"Adr_Kapitał & \"!$X$61\"","v":"Kapitał!$X$61"},null,null,null,null,"Kwota",null,null,"sf:ZestZmianWKapitaleJednostkaInna//jin:IA_4_2","dtsf:KwotaB1"]
[null,{"$f":"Adr_Kapitał & \"!$X$62\"","v":"Kapitał!$X$62"},null,null,null,null,"Kwota",null,null,"sf:ZestZmianWKapitaleJednostkaInna//jin:IA_5","dtsf:KwotaB1"]
[null,{"$f":"Adr_Kapitał & \"!$X$63\"","v":"Kapitał!$X$63"},null,null,null,null,"Kwota",null,null,"sf:ZestZmianWKapitaleJednostkaInna//jin:IA_5_1","dtsf:KwotaB1"]
[null,{"$f":"Adr_Kapitał & \"!$X$64\"","v":"Kapitał!$X$64"},null,null,null,null,"Kwota",null,null,"sf:ZestZmianWKapitaleJednostkaInna//jin:IA_5_1_1","dtsf:KwotaB1"]
[null,{"$f":"Adr_Kapitał & \"!$X$65\"","v":"Kapitał!$X$65"},null,null,null,null,"Kwota",null,null,"sf:ZestZmianWKapitaleJednostkaInna//jin:IA_5_1_2","dtsf:KwotaB1"]
[null,{"$f":"Adr_Kapitał & \"!$X$67\"","v":"Kapitał!$X$67"},null,null,null,null,"Kwota",null,null,"sf:ZestZmianWKapitaleJednostkaInna//jin:IA_5_2","dtsf:KwotaB1"]
[null,{"$f":"Adr_Kapitał & \"!$X$68\"","v":"Kapitał!$X$68"},null,null,null,null,"Kwota",null,null,"sf:ZestZmianWKapitaleJednostkaInna//jin:IA_5_2_A","dtsf:KwotaB1"]
[null,{"$f":"Adr_Kapitał & \"!$X$69\"","v":"Kapitał!$X$69"},null,null,null,null,"Kwota",null,null,"sf:ZestZmianWKapitaleJednostkaInna//jin:IA_5_2_A_1","dtsf:KwotaB1"]
[null,{"$f":"Adr_Kapitał & \"!$X$70\"","v":"Kapitał!$X$70"},null,null,null,{"$f":"F2180","v":"Pidx"},"Kwota",{"$f":"H2180","v":1},null,"sf:ZestZmianWKapitaleJednostkaInna//jin:IA_5_2_A/jin:PozycjaUszczegolawiajaca_2","dtsf:KwotyPozycji/dtsf:KwotaB1"]
[null,{"$f":"Adr_Kapitał & \"!$X$71\"","v":"Kapitał!$X$71"},null,null,null,{"$f":"F2181","v":"Pidx"},"Kwota",2,null,"sf:ZestZmianWKapitaleJednostkaInna//jin:IA_5_2_A/jin:PozycjaUszczegolawiajaca_2","dtsf:KwotyPozycji/dtsf:KwotaB1"]
[null,{"$f":"Adr_Kapitał & \"!$X$72\"","v":"Kapitał!$X$72"},null,null,null,{"$f":"F2182","v":"Pidx"},"Kwota",3,null,"sf:ZestZmianWKapitaleJednostkaInna//jin:IA_5_2_A/jin:PozycjaUszczegolawiajaca_2","dtsf:KwotyPozycji/dtsf:KwotaB1"]
[null,{"$f":"Adr_Kapitał & \"!$X$73\"","v":"Kapitał!$X$73"},null,null,null,null,"Kwota",null,null,"sf:ZestZmianWKapitaleJednostkaInna//jin:IA_5_2_B","dtsf:KwotaB1"]
[null,{"$f":"Adr_Kapitał & \"!$X$74\"","v":"Kapitał!$X$74"},null,null,null,{"$f":"F2184","v":"Pidx"},"Kwota",{"$f":"H2184","v":1},null,"sf:ZestZmianWKapitaleJednostkaInna//jin:IA_5_2_B/dtsf:PozycjaUszczegolawiajaca","dtsf:KwotyPozycji/dtsf:KwotaB1"]
[null,{"$f":"Adr_Kapitał & \"!$X$75\"","v":"Kapitał!$X$75"},null,null,null,{"$f":"F2185","v":"Pidx"},"Kwota",2,null,"sf:ZestZmianWKapitaleJednostkaInna//jin:IA_5_2_B/dtsf:PozycjaUszczegolawiajaca","dtsf:KwotyPozycji/dtsf:KwotaB1"]
[null,{"$f":"Adr_Kapitał & \"!$X$76\"","v":"Kapitał!$X$76"},null,null,null,{"$f":"F2186","v":"Pidx"},"Kwota",3,null,"sf:ZestZmianWKapitaleJednostkaInna//jin:IA_5_2_B/dtsf:PozycjaUszczegolawiajaca","dtsf:KwotyPozycji/dtsf:KwotaB1"]
[null,{"$f":"Adr_Kapitał & \"!$X$77\"","v":"Kapitał!$X$77"},null,null,null,null,"Kwota",null,null,"sf:ZestZmianWKapitaleJednostkaInna//jin:IA_5_3","dtsf:KwotaB1"]
[null,{"$f":"Adr_Kapitał & \"!$X$78\"","v":"Kapitał!$X$78"},null,null,null,null,"Kwota",null,null,"sf:ZestZmianWKapitaleJednostkaInna//jin:IA_5_4","dtsf:KwotaB1"]
[null,{"$f":"Adr_Kapitał & \"!$X$79\"","v":"Kapitał!$X$79"},null,null,null,null,"Kwota",null,null,"sf:ZestZmianWKapitaleJednostkaInna//jin:IA_5_4_1","dtsf:KwotaB1"]
[null,{"$f":"Adr_Kapitał & \"!$X$80\"","v":"Kapitał!$X$80"},null,null,null,null,"Kwota",null,null,"sf:ZestZmianWKapitaleJednostkaInna//jin:IA_5_4_2","dtsf:KwotaB1"]
[null,{"$f":"Adr_Kapitał & \"!$X$81\"","v":"Kapitał!$X$81"},null,null,null,null,{"$f":"G2191","v":"Kwota"},null,null,"sf:ZestZmianWKapitaleJednostkaInna//jin:IA_5_5","dtsf:KwotaB1"]
[null,{"$f":"Adr_Kapitał & \"!$X$82\"","v":"Kapitał!$X$82"},null,null,null,null,"Kwota",null,null,"sf:ZestZmianWKapitaleJednostkaInna//jin:IA_5_5_A","dtsf:KwotaB1"]
[null,{"$f":"Adr_Kapitał & \"!$X$83\"","v":"Kapitał!$X$83"},null,null,null,null,"Kwota",null,null,"sf:ZestZmianWKapitaleJednostkaInna//jin:IA_5_5_A_1","dtsf:KwotaB1"]
[null,{"$f":"Adr_Kapitał & \"!$X$84\"","v":"Kapitał!$X$84"},null,null,null,{"$f":"F2194","v":"Pidx"},"Kwota",{"$f":"H2194","v":1},null,"sf:ZestZmianWKapitaleJednostkaInna//jin:IA_5_5_A/jin:PozycjaUszczegolawiajaca_2","dtsf:KwotyPozycji/dtsf:KwotaB1"]
[null,{"$f":"Adr_Kapitał & \"!$X$85\"","v":"Kapitał!$X$85"},null,null,null,{"$f":"F2195","v":"Pidx"},"Kwota",2,null,"sf:ZestZmianWKapitaleJednostkaInna//jin:IA_5_5_A/jin:PozycjaUszczegolawiajaca_2","dtsf:KwotyPozycji/dtsf:KwotaB1"]
[null,{"$f":"Adr_Kapitał & \"!$X$86\"","v":"Kapitał!$X$86"},null,null,null,{"$f":"F2196","v":"Pidx"},"Kwota",3,null,"sf:ZestZmianWKapitaleJednostkaInna//jin:IA_5_5_A/jin:PozycjaUszczegolawiajaca_2","dtsf:KwotyPozycji/dtsf:KwotaB1"]
[null,{"$f":"Adr_Kapitał & \"!$X$87\"","v":"Kapitał!$X$87"},null,null,null,null,"Kwota",null,null,"sf:ZestZmianWKapitaleJednostkaInna//jin:IA_5_5_B","dtsf:KwotaB1"]
[null,{"$f":"Adr_Kapitał & \"!$X$88\"","v":"Kapitał!$X$88"},null,null,null,{"$f":"F2198","v":"Pidx"},"Kwota",{"$f":"H2198","v":1},null,"sf:ZestZmianWKapitaleJednostkaInna//jin:IA_5_5_B/dtsf:PozycjaUszczegolawiajaca","dtsf:KwotyPozycji/dtsf:KwotaB1"]
[null,{"$f":"Adr_Kapitał & \"!$X$89\"","v":"Kapitał!$X$89"},null,null,null,{"$f":"F2199","v":"Pidx"},"Kwota",2,null,"sf:ZestZmianWKapitaleJednostkaInna//jin:IA_5_5_B/dtsf:PozycjaUszczegolawiajaca","dtsf:KwotyPozycji/dtsf:KwotaB1"]
[null,{"$f":"Adr_Kapitał & \"!$X$90\"","v":"Kapitał!$X$90"},null,null,null,{"$f":"F2200","v":"Pidx"},"Kwota",3,null,"sf:ZestZmianWKapitaleJednostkaInna//jin:IA_5_5_B/dtsf:PozycjaUszczegolawiajaca","dtsf:KwotyPozycji/dtsf:KwotaB1"]
[null,{"$f":"Adr_Kapitał & \"!$X$91\"","v":"Kapitał!$X$91"},null,null,null,null,"Kwota",null,null,"sf:ZestZmianWKapitaleJednostkaInna//jin:IA_5_6","dtsf:KwotaB1"]
[null,{"$f":"Adr_Kapitał & \"!$X$92\"","v":"Kapitał!$X$92"},null,null,null,null,"Kwota",null,null,"sf:ZestZmianWKapitaleJednostkaInna//jin:IA_5_7","dtsf:KwotaB1"]
[null,{"$f":"Adr_Kapitał & \"!$X$93\"","v":"Kapitał!$X$93"},null,null,null,null,"Kwota",null,null,"sf:ZestZmianWKapitaleJednostkaInna//jin:IA_6","dtsf:KwotaB1"]
[null,{"$f":"Adr_Kapitał & \"!$X$94\"","v":"Kapitał!$X$94"},null,null,null,null,"Kwota",null,null,"sf:ZestZmianWKapitaleJednostkaInna//jin:IA_6_A","dtsf:KwotaB1"]
[null,{"$f":"Adr_Kapitał & \"!$X$95\"","v":"Kapitał!$X$95"},null,null,null,null,"Kwota",null,null,"sf:ZestZmianWKapitaleJednostkaInna//jin:IA_6_B","dtsf:KwotaB1"]
[null,{"$f":"Adr_Kapitał & \"!$X$96\"","v":"Kapitał!$X$96"},null,null,null,null,"Kwota",null,null,"sf:ZestZmianWKapitaleJednostkaInna//jin:IA_6_C","dtsf:KwotaB1"]
[null,{"$f":"Adr_Kapitał & \"!$X$97\"","v":"Kapitał!$X$97"},null,null,null,null,"Kwota",null,null,"sf:ZestZmianWKapitaleJednostkaInna//jin:II","dtsf:KwotaB1"]
[null,{"$f":"Adr_Kapitał & \"!$X$98\"","v":"Kapitał!$X$98"},null,null,null,null,{"$f":"G2208","v":"Kwota"},null,null,"sf:ZestZmianWKapitaleJednostkaInna//jin:III","dtsf:KwotaB1"]
[]
[null,{"$f":"Adr_Dodatkowe & \"!$L$8\"","v":"Dodatkowe!$L$8"},null,"MarkParent",null,null,"Kwota",null,null,"dtsf:P_ID_1","dtsf:RB"]
[null,{"$f":"Adr_Dodatkowe & \"!$O$8\"","v":"Dodatkowe!$O$8"},null,"MarkParent",null,null,"Kwota",null,null,"dtsf:P_ID_1","dtsf:RP"]
[null,{"$f":"Adr_Dodatkowe & \"!$L$10\"","v":"Dodatkowe!$L$10"},null,"MarkParent:3",null,null,"Kwota",null,null,"dtsf:P_ID_2/dtsf:Kwota","dtsf:RB/dtsf:KwotaA"]
[null,{"$f":"Adr_Dodatkowe & \"!$M$10\"","v":"Dodatkowe!$M$10"},null,{"$f":"D2523","v":"MarkParent:3"},null,null,{"$f":"G2523","v":"Kwota"},null,null,"dtsf:P_ID_2/dtsf:Kwota","dtsf:RB/dtsf:KwotaB"]
[null,{"$f":"Adr_Dodatkowe & \"!$O$10\"","v":"Dodatkowe!$O$10"},null,"MarkParent:3",null,null,"Kwota",null,null,"dtsf:P_ID_2/dtsf:Kwota","dtsf:RP/dtsf:KwotaA"]
[null,{"$f":"Adr_Dodatkowe & \"!$P$10\"","v":"Dodatkowe!$P$10"},null,{"$f":"D2525","v":"MarkParent:3"},null,null,{"$f":"G2525","v":"Kwota"},null,null,"dtsf:P_ID_2/dtsf:Kwota","dtsf:RP/dtsf:KwotaB"]
[null,{"$f":"Adr_Dodatkowe & \"!$G$12\"","v":"Dodatkowe!$G$12"},null,"MarkParent",null,"Pidx","Tekst",1,null,"dtsf:P_ID_2/dtsf:PozycjaUzytkownika","dtsf:NazwaPozycji"]
[1,{"$f":"Adr_Dodatkowe & \"!$H$12\"","v":"Dodatkowe!$H$12"},null,"MarkParent",null,{"$f":"F2527","v":"Pidx"},{"$f":"G2527","v":"Tekst"},{"$f":"H2527","v":1},null,"dtsf:P_ID_2/dtsf:PozycjaUzytkownika","dtsf:Kwoty/dtsf:RB/dtsf:PodstawaPrawna/dtsf:Art"]
[1,{"$f":"Adr_Dodatkowe & \"!$I$12\"","v":"Dodatkowe!$I$12"},null,null,null,{"$f":"F2528","v":"Pidx"},{"$f":"G2528","v":"Tekst"},{"$f":"H2528","v":1},null,"dtsf:P_ID_2/dtsf:PozycjaUzytkownika","dtsf:Kwoty/dtsf:RB/dtsf:PodstawaPrawna/dtsf:Ust"]
[1,{"$f":"Adr_Dodatkowe & \"!$J$12\"","v":"Dodatkowe!$J$12"},null,null,null,"Pidx","Tekst",1,null,"dtsf:P_ID_2/dtsf:PozycjaUzytkownika","dtsf:Kwoty/dtsf:RB/dtsf:PodstawaPrawna/dtsf:Pkt"]
[1,{"$f":"Adr_Dodatkowe & \"!$K$12\"","v":"Dodatkowe!$K$12"},null,null,null,"Pidx","Tekst",1,null,"dtsf:P_ID_2/dtsf:PozycjaUzytkownika","dtsf:Kwoty/dtsf:RB/dtsf:PodstawaPrawna/dtsf:Lit"]
[1,{"$f":"Adr_Dodatkowe & \"!$L$12\"","v":"Dodatkowe!$L$12"},null,"MarkParent:3",null,"Pidx","Kwota",1,null,"dtsf:P_ID_2/dtsf:PozycjaUzytkownika","dtsf:Kwoty/dtsf:RB/dtsf:Kwota/dtsf:KwotaA"]
[1,{"$f":"Adr_Dodatkowe & \"!$M$12\"","v":"Dodatkowe!$M$12"},null,null,null,"Pidx",{"$f":"G2532","v":"Kwota"},1,null,"dtsf:P_ID_2/dtsf:PozycjaUzytkownika","dtsf:Kwoty/dtsf:RB/dtsf:Kwota/dtsf:KwotaB"]
[2,{"$f":"Adr_Dodatkowe & \"!$O$12\"","v":"Dodatkowe!$O$12"},null,"MarkParent",null,"Pidx","Kwota",1,null,"dtsf:P_ID_2/dtsf:PozycjaUzytkownika","dtsf:Kwoty/dtsf:RP/dtsf:KwotaA"]
[1,{"$f":"Adr_Dodatkowe & \"!$P$12\"","v":"Dodatkowe!$P$12"},null,null,null,"Pidx","Kwota",1,null,"dtsf:P_ID_2/dtsf:PozycjaUzytkownika","dtsf:Kwoty/dtsf:RP/dtsf:KwotaB"]
[null,{"$f":"Adr_Dodatkowe & \"!$G$13\"","v":"Dodatkowe!$G$13"},null,{"$f":"D2527 & \"\"","v":"MarkParent"},null,"Pidx","Tekst",{"$f":"H2527+1","v":2},null,"dtsf:P_ID_2/dtsf:PozycjaUzytkownika","dtsf:NazwaPozycji"]
[1,{"$f":"Adr_Dodatkowe & \"!$H$13\"","v":"Dodatkowe!$H$13"},null,{"$f":"D2528 & \"\"","v":"MarkParent"},null,{"$f":"F2536","v":"Pidx"},{"$f":"G2536","v":"Tekst"},{"$f":"H2536","v":2},null,"dtsf:P_ID_2/dtsf:PozycjaUzytkownika","dtsf:Kwoty/dtsf:RB/dtsf:PodstawaPrawna/dtsf:Art"]
[1,{"$f":"Adr_Dodatkowe & \"!$I$13\"","v":"Dodatkowe!$I$13"},null,"",null,{"$f":"F2537","v":"Pidx"},{"$f":"G2537","v":"Tekst"},{"$f":"H2537","v":2},null,"dtsf:P_ID_2/dtsf:PozycjaUzytkownika","dtsf:Kwoty/dtsf:RB/dtsf:PodstawaPrawna/dtsf:Ust"]
[1,{"$f":"Adr_Dodatkowe & \"!$J$13\"","v":"Dodatkowe!$J$13"},null,"",null,"Pidx","Tekst",2,null,"dtsf:P_ID_2/dtsf:PozycjaUzytkownika","dtsf:Kwoty/dtsf:RB/dtsf:PodstawaPrawna/dtsf:Pkt"]
[1,{"$f":"Adr_Dodatkowe & \"!$K$13\"","v":"Dodatkowe!$K$13"},null,"",null,"Pidx","Tekst",2,null,"dtsf:P_ID_2/dtsf:PozycjaUzytkownika","dtsf:Kwoty/dtsf:RB/dtsf:PodstawaPrawna/dtsf:Lit"]
[1,{"$f":"Adr_Dodatkowe & \"!$L$13\"","v":"Dodatkowe!$L$13"},null,"MarkParent:3",null,"Pidx","Kwota",2,null,"dtsf:P_ID_2/dtsf:PozycjaUzytkownika","dtsf:Kwoty/dtsf:RB/dtsf:Kwota/dtsf:KwotaA"]
[1,{"$f":"Adr_Dodatkowe & \"!$M$13\"","v":"Dodatkowe!$M$13"},null,{"$f":"D2533 & \"\"","v":""},null,"Pidx",{"$f":"G2541","v":"Kwota"},2,null,"dtsf:P_ID_2/dtsf:PozycjaUzytkownika","dtsf:Kwoty/dtsf:RB/dtsf:Kwota/dtsf:KwotaB"]
[2,{"$f":"Adr_Dodatkowe & \"!$O$13\"","v":"Dodatkowe!$O$13"},null,"MarkParent",null,"Pidx","Kwota",2,null,"dtsf:P_ID_2/dtsf:PozycjaUzytkownika","dtsf:Kwoty/dtsf:RP/dtsf:KwotaA"]
[1,{"$f":"Adr_Dodatkowe & \"!$P$13\"","v":"Dodatkowe!$P$13"},null,"",null,"Pidx","Kwota",2,null,"dtsf:P_ID_2/dtsf:PozycjaUzytkownika","dtsf:Kwoty/dtsf:RP/dtsf:KwotaB"]
[null,{"$f":"Adr_Dodatkowe & \"!$G$14\"","v":"Dodatkowe!$G$14"},null,"MarkParent",null,"Pidx","Tekst",{"$f":"H2536+1","v":3},null,"dtsf:P_ID_2/dtsf:PozycjaUzytkownika","dtsf:NazwaPozycji"]
[1,{"$f":"Adr_Dodatkowe & \"!$H$14\"","v":"Dodatkowe!$H$14"},null,{"$f":"D2537 & \"\"","v":"MarkParent"},null,{"$f":"F2545","v":"Pidx"},{"$f":"G2545","v":"Tekst"},{"$f":"H2545","v":3},null,"dtsf:P_ID_2/dtsf:PozycjaUzytkownika","dtsf:Kwoty/dtsf:RB/dtsf:PodstawaPrawna/dtsf:Art"]
[1,{"$f":"Adr_Dodatkowe & \"!$I$14\"","v":"Dodatkowe!$I$14"},null,"",null,{"$f":"F2546","v":"Pidx"},{"$f":"G2546","v":"Tekst"},{"$f":"H2546","v":3},null,"dtsf:P_ID_2/dtsf:PozycjaUzytkownika","dtsf:Kwoty/dtsf:RB/dtsf:PodstawaPrawna/dtsf:Ust"]
[1,{"$f":"Adr_Dodatkowe & \"!$J$14\"","v":"Dodatkowe!$J$14"},null,"",null,"Pidx","Tekst",3,null,"dtsf:P_ID_2/dtsf:PozycjaUzytkownika","dtsf:Kwoty/dtsf:RB/dtsf:PodstawaPrawna/dtsf:Pkt"]
[1,{"$f":"Adr_Dodatkowe & \"!$K$14\"","v":"Dodatkowe!$K$14"},null,"",null,"Pidx","Tekst",3,null,"dtsf:P_ID_2/dtsf:PozycjaUzytkownika","dtsf:Kwoty/dtsf:RB/dtsf:PodstawaPrawna/dtsf:Lit"]
[1,{"$f":"Adr_Dodatkowe & \"!$L$14\"","v":"Dodatkowe!$L$14"},null,"MarkParent:3",null,"Pidx","Kwota",3,null,"dtsf:P_ID_2/dtsf:PozycjaUzytkownika","dtsf:Kwoty/dtsf:RB/dtsf:Kwota/dtsf:KwotaA"]
[1,{"$f":"Adr_Dodatkowe & \"!$M$14\"","v":"Dodatkowe!$M$14"},null,"",null,"Pidx",{"$f":"G2550","v":"Kwota"},3,null,"dtsf:P_ID_2/dtsf:PozycjaUzytkownika","dtsf:Kwoty/dtsf:RB/dtsf:Kwota/dtsf:KwotaB"]
[2,{"$f":"Adr_Dodatkowe & \"!$O$14\"","v":"Dodatkowe!$O$14"},null,{"$f":"D2543 & \"\"","v":"MarkParent"},null,"Pidx","Kwota",3,null,"dtsf:P_ID_2/dtsf:PozycjaUzytkownika","dtsf:Kwoty/dtsf:RP/dtsf:KwotaA"]
[1,{"$f":"Adr_Dodatkowe & \"!$P$14\"","v":"Dodatkowe!$P$14"},null,{"$f":"D2544 & \"\"","v":""},null,"Pidx","Kwota",3,null,"dtsf:P_ID_2/dtsf:PozycjaUzytkownika","dtsf:Kwoty/dtsf:RP/dtsf:KwotaB"]
[null,{"$f":"Adr_Dodatkowe & \"!$G$15\"","v":"Dodatkowe!$G$15"},null,{"$f":"D2545 & \"\"","v":"MarkParent"},null,"Pidx","Tekst",{"$f":"H2545+1","v":4},null,"dtsf:P_ID_2/dtsf:PozycjaUzytkownika","dtsf:NazwaPozycji"]
[1,{"$f":"Adr_Dodatkowe & \"!$H$15\"","v":"Dodatkowe!$H$15"},null,"MarkParent",null,{"$f":"F2554","v":"Pidx"},{"$f":"G2554","v":"Tekst"},{"$f":"H2554","v":4},null,"dtsf:P_ID_2/dtsf:PozycjaUzytkownika","dtsf:Kwoty/dtsf:RB/dtsf:PodstawaPrawna/dtsf:Art"]
[1,{"$f":"Adr_Dodatkowe & \"!$I$15\"","v":"Dodatkowe!$I$15"},null,"",null,{"$f":"F2555","v":"Pidx"},"Tekst",4,null,"dtsf:P_ID_2/dtsf:PozycjaUzytkownika","dtsf:Kwoty/dtsf:RB/dtsf:PodstawaPrawna/dtsf:Ust"]
[1,{"$f":"Adr_Dodatkowe & \"!$J$15\"","v":"Dodatkowe!$J$15"},null,"",null,"Pidx","Tekst",4,null,"dtsf:P_ID_2/dtsf:PozycjaUzytkownika","dtsf:Kwoty/dtsf:RB/dtsf:PodstawaPrawna/dtsf:Pkt"]
[1,{"$f":"Adr_Dodatkowe & \"!$K$15\"","v":"Dodatkowe!$K$15"},null,"",null,"Pidx","Tekst",4,null,"dtsf:P_ID_2/dtsf:PozycjaUzytkownika","dtsf:Kwoty/dtsf:RB/dtsf:PodstawaPrawna/dtsf:Lit"]
[1,{"$f":"Adr_Dodatkowe & \"!$L$15\"","v":"Dodatkowe!$L$15"},null,{"$f":"D2550 & \"\"","v":"MarkParent:3"},null,"Pidx","Kwota",4,null,"dtsf:P_ID_2/dtsf:PozycjaUzytkownika","dtsf:Kwoty/dtsf:RB/dtsf:Kwota/dtsf:KwotaA"]
[1,{"$f":"Adr_Dodatkowe & \"!$M$15\"","v":"Dodatkowe!$M$15"},null,"",null,"Pidx","Kwota",4,null,"dtsf:P_ID_2/dtsf:PozycjaUzytkownika","dtsf:Kwoty/dtsf:RB/dtsf:Kwota/dtsf:KwotaB"]
[2,{"$f":"Adr_Dodatkowe & \"!$O$15\"","v":"Dodatkowe!$O$15"},null,"MarkParent",null,"Pidx","Kwota",4,null,"dtsf:P_ID_2/dtsf:PozycjaUzytkownika","dtsf:Kwoty/dtsf:RP/dtsf:KwotaA"]
[1,{"$f":"Adr_Dodatkowe & \"!$P$15\"","v":"Dodatkowe!$P$15"},null,"",null,"Pidx","Kwota",4,null,"dtsf:P_ID_2/dtsf:PozycjaUzytkownika","dtsf:Kwoty/dtsf:RP/dtsf:KwotaB"]
[null,{"$f":"Adr_Dodatkowe & \"!$G$16\"","v":"Dodatkowe!$G$16"},null,{"$f":"D2554 & \"\"","v":"MarkParent"},null,"Pidx","Tekst",{"$f":"H2554+1","v":5},null,"dtsf:P_ID_2/dtsf:PozycjaUzytkownika","dtsf:NazwaPozycji"]
[1,{"$f":"Adr_Dodatkowe & \"!$H$16\"","v":"Dodatkowe!$H$16"},null,{"$f":"D2555 & \"\"","v":"MarkParent"},null,{"$f":"F2563","v":"Pidx"},{"$f":"G2563","v":"Tekst"},{"$f":"H2563","v":5},null,"dtsf:P_ID_2/dtsf:PozycjaUzytkownika","dtsf:Kwoty/dtsf:RB/dtsf:PodstawaPrawna/dtsf:Art"]
[1,{"$f":"Adr_Dodatkowe & \"!$I$16\"","v":"Dodatkowe!$I$16"},null,"",null,{"$f":"F2564","v":"Pidx"},"Tekst",5,null,"dtsf:P_ID_2/dtsf:PozycjaUzytkownika","dtsf:Kwoty/dtsf:RB/dtsf:PodstawaPrawna/dtsf:Ust"]
[1,{"$f":"Adr_Dodatkowe & \"!$J$16\"","v":"Dodatkowe!$J$16"},null,"",null,{"$f":"F2565","v":"Pidx"},"Tekst",5,null,"dtsf:P_ID_2/dtsf:PozycjaUzytkownika","dtsf:Kwoty/dtsf:RB/dtsf:PodstawaPrawna/dtsf:Pkt"]
[1,{"$f":"Adr_Dodatkowe & \"!$K$16\"","v":"Dodatkowe!$K$16"},null,"",null,{"$f":"F2566","v":"Pidx"},"Tekst",5,null,"dtsf:P_ID_2/dtsf:PozycjaUzytkownika","dtsf:Kwoty/dtsf:RB/dtsf:PodstawaPrawna/dtsf:Lit"]
[1,{"$f":"Adr_Dodatkowe & \"!$L$16\"","v":"Dodatkowe!$L$16"},null,"MarkParent:3",null,{"$f":"F2567","v":"Pidx"},"Kwota",{"$f":"H2567","v":5},null,"dtsf:P_ID_2/dtsf:PozycjaUzytkownika","dtsf:Kwoty/dtsf:RB/dtsf:Kwota/dtsf:KwotaA"]
[1,{"$f":"Adr_Dodatkowe & \"!$M$16\"","v":"Dodatkowe!$M$16"},null,{"$f":"D2560 & \"\"","v":""},null,{"$f":"F2568","v":"Pidx"},"Kwota",5,null,"dtsf:P_ID_2/dtsf:PozycjaUzytkownika","dtsf:Kwoty/dtsf:RB/dtsf:Kwota/dtsf:KwotaB"]
[2,{"$f":"Adr_Dodatkowe & \"!$O$16\"","v":"Dodatkowe!$O$16"},null,"MarkParent",null,{"$f":"F2569","v":"Pidx"},"Kwota",5,null,"dtsf:P_ID_2/dtsf:PozycjaUzytkownika","dtsf:Kwoty/dtsf:RP/dtsf:KwotaA"]
[1,{"$f":"Adr_Dodatkowe & \"!$P$16\"","v":"Dodatkowe!$P$16"},null,"",null,{"$f":"F2570","v":"Pidx"},"Kwota",5,null,"dtsf:P_ID_2/dtsf:PozycjaUzytkownika","dtsf:Kwoty/dtsf:RP/dtsf:KwotaB"]
[null,{"$f":"Adr_Dodatkowe & \"!$G$17\"","v":"Dodatkowe!$G$17"},null,{"$f":"D2563 & \"\"","v":"MarkParent"},null,"Pidx","Tekst",{"$f":"H2563+1","v":6},null,"dtsf:P_ID_2/dtsf:PozycjaUzytkownika","dtsf:NazwaPozycji"]
[1,{"$f":"Adr_Dodatkowe & \"!$H$17\"","v":"Dodatkowe!$H$17"},null,{"$f":"D2564 & \"\"","v":"MarkParent"},null,{"$f":"F2572","v":"Pidx"},{"$f":"G2572","v":"Tekst"},{"$f":"H2572","v":6},null,"dtsf:P_ID_2/dtsf:PozycjaUzytkownika","dtsf:Kwoty/dtsf:RB/dtsf:PodstawaPrawna/dtsf:Art"]
[1,{"$f":"Adr_Dodatkowe & \"!$I$17\"","v":"Dodatkowe!$I$17"},null,"",null,{"$f":"F2573","v":"Pidx"},"Tekst",6,null,"dtsf:P_ID_2/dtsf:PozycjaUzytkownika","dtsf:Kwoty/dtsf:RB/dtsf:PodstawaPrawna/dtsf:Ust"]
[1,{"$f":"Adr_Dodatkowe & \"!$J$17\"","v":"Dodatkowe!$J$17"},null,"",null,{"$f":"F2574","v":"Pidx"},"Tekst",6,null,"dtsf:P_ID_2/dtsf:PozycjaUzytkownika","dtsf:Kwoty/dtsf:RB/dtsf:PodstawaPrawna/dtsf:Pkt"]
[1,{"$f":"Adr_Dodatkowe & \"!$K$17\"","v":"Dodatkowe!$K$17"},null,"",null,{"$f":"F2575","v":"Pidx"},"Tekst",6,null,"dtsf:P_ID_2/dtsf:PozycjaUzytkownika","dtsf:Kwoty/dtsf:RB/dtsf:PodstawaPrawna/dtsf:Lit"]
[1,{"$f":"Adr_Dodatkowe & \"!$L$17\"","v":"Dodatkowe!$L$17"},null,"MarkParent:3",null,{"$f":"F2576","v":"Pidx"},"Kwota",{"$f":"H2576","v":6},null,"dtsf:P_ID_2/dtsf:PozycjaUzytkownika","dtsf:Kwoty/dtsf:RB/dtsf:Kwota/dtsf:KwotaA"]
[1,{"$f":"Adr_Dodatkowe & \"!$M$17\"","v":"Dodatkowe!$M$17"},null,{"$f":"D2569 & \"\"","v":""},null,{"$f":"F2577","v":"Pidx"},"Kwota",6,null,"dtsf:P_ID_2/dtsf:PozycjaUzytkownika","dtsf:Kwoty/dtsf:RB/dtsf:Kwota/dtsf:KwotaB"]
[2,{"$f":"Adr_Dodatkowe & \"!$O$17\"","v":"Dodatkowe!$O$17"},null,"MarkParent",null,{"$f":"F2578","v":"Pidx"},"Kwota",6,null,"dtsf:P_ID_2/dtsf:PozycjaUzytkownika","dtsf:Kwoty/dtsf:RP/dtsf:KwotaA"]
[1,{"$f":"Adr_Dodatkowe & \"!$P$17\"","v":"Dodatkowe!$P$17"},null,"",null,{"$f":"F2579","v":"Pidx"},"Kwota",6,null,"dtsf:P_ID_2/dtsf:PozycjaUzytkownika","dtsf:Kwoty/dtsf:RP/dtsf:KwotaB"]
[null,{"$f":"Adr_Dodatkowe & \"!$G$18\"","v":"Dodatkowe!$G$18"},null,{"$f":"D2572 & \"\"","v":"MarkParent"},null,"Pidx","Tekst",{"$f":"H2572+1","v":7},null,"dtsf:P_ID_2/dtsf:PozycjaUzytkownika","dtsf:NazwaPozycji"]
[1,{"$f":"Adr_Dodatkowe & \"!$H$18\"","v":"Dodatkowe!$H$18"},null,"MarkParent",null,{"$f":"F2581","v":"Pidx"},{"$f":"G2581","v":"Tekst"},{"$f":"H2581","v":7},null,"dtsf:P_ID_2/dtsf:PozycjaUzytkownika","dtsf:Kwoty/dtsf:RB/dtsf:PodstawaPrawna/dtsf:Art"]
[1,{"$f":"Adr_Dodatkowe & \"!$I$18\"","v":"Dodatkowe!$I$18"},null,"",null,{"$f":"F2582","v":"Pidx"},"Tekst",7,null,"dtsf:P_ID_2/dtsf:PozycjaUzytkownika","dtsf:Kwoty/dtsf:RB/dtsf:PodstawaPrawna/dtsf:Ust"]
[1,{"$f":"Adr_Dodatkowe & \"!$J$18\"","v":"Dodatkowe!$J$18"},null,"",null,{"$f":"F2583","v":"Pidx"},"Tekst",7,null,"dtsf:P_ID_2/dtsf:PozycjaUzytkownika","dtsf:Kwoty/dtsf:RB/dtsf:PodstawaPrawna/dtsf:Pkt"]
[1,{"$f":"Adr_Dodatkowe & \"!$K$18\"","v":"Dodatkowe!$K$18"},null,"",null,{"$f":"F2584","v":"Pidx"},"Tekst",7,null,"dtsf:P_ID_2/dtsf:PozycjaUzytkownika","dtsf:Kwoty/dtsf:RB/dtsf:PodstawaPrawna/dtsf:Lit"]
[1,{"$f":"Adr_Dodatkowe & \"!$L$18\"","v":"Dodatkowe!$L$18"},null,"MarkParent:3",null,{"$f":"F2585","v":"Pidx"},"Kwota",{"$f":"H2585","v":7},null,"dtsf:P_ID_2/dtsf:PozycjaUzytkownika","dtsf:Kwoty/dtsf:RB/dtsf:Kwota/dtsf:KwotaA"]
[1,{"$f":"Adr_Dodatkowe & \"!$M$18\"","v":"Dodatkowe!$M$18"},null,{"$f":"D2578 & \"\"","v":""},null,{"$f":"F2586","v":"Pidx"},"Kwota",7,null,"dtsf:P_ID_2/dtsf:PozycjaUzytkownika","dtsf:Kwoty/dtsf:RB/dtsf:Kwota/dtsf:KwotaB"]
[2,{"$f":"Adr_Dodatkowe & \"!$O$18\"","v":"Dodatkowe!$O$18"},null,"MarkParent",null,{"$f":"F2587","v":"Pidx"},"Kwota",7,null,"dtsf:P_ID_2/dtsf:PozycjaUzytkownika","dtsf:Kwoty/dtsf:RP/dtsf:KwotaA"]
[1,{"$f":"Adr_Dodatkowe & \"!$P$18\"","v":"Dodatkowe!$P$18"},null,"",null,{"$f":"F2588","v":"Pidx"},"Kwota",7,null,"dtsf:P_ID_2/dtsf:PozycjaUzytkownika","dtsf:Kwoty/dtsf:RP/dtsf:KwotaB"]
[null,{"$f":"Adr_Dodatkowe & \"!$G$19\"","v":"Dodatkowe!$G$19"},null,{"$f":"D2581 & \"\"","v":"MarkParent"},null,"Pidx","Tekst",{"$f":"H2581+1","v":8},null,"dtsf:P_ID_2/dtsf:PozycjaUzytkownika","dtsf:NazwaPozycji"]
[1,{"$f":"Adr_Dodatkowe & \"!$H$19\"","v":"Dodatkowe!$H$19"},null,"MarkParent",null,{"$f":"F2590","v":"Pidx"},{"$f":"G2590","v":"Tekst"},{"$f":"H2590","v":8},null,"dtsf:P_ID_2/dtsf:PozycjaUzytkownika","dtsf:Kwoty/dtsf:RB/dtsf:PodstawaPrawna/dtsf:Art"]
[1,{"$f":"Adr_Dodatkowe & \"!$I$19\"","v":"Dodatkowe!$I$19"},null,"",null,{"$f":"F2591","v":"Pidx"},"Tekst",8,null,"dtsf:P_ID_2/dtsf:PozycjaUzytkownika","dtsf:Kwoty/dtsf:RB/dtsf:PodstawaPrawna/dtsf:Ust"]
[1,{"$f":"Adr_Dodatkowe & \"!$J$19\"","v":"Dodatkowe!$J$19"},null,"",null,{"$f":"F2592","v":"Pidx"},"Tekst",8,null,"dtsf:P_ID_2/dtsf:PozycjaUzytkownika","dtsf:Kwoty/dtsf:RB/dtsf:PodstawaPrawna/dtsf:Pkt"]
[1,{"$f":"Adr_Dodatkowe & \"!$K$19\"","v":"Dodatkowe!$K$19"},null,"",null,{"$f":"F2593","v":"Pidx"},"Tekst",8,null,"dtsf:P_ID_2/dtsf:PozycjaUzytkownika","dtsf:Kwoty/dtsf:RB/dtsf:PodstawaPrawna/dtsf:Lit"]
[1,{"$f":"Adr_Dodatkowe & \"!$L$19\"","v":"Dodatkowe!$L$19"},null,"MarkParent:3",null,{"$f":"F2594","v":"Pidx"},"Kwota",{"$f":"H2594","v":8},null,"dtsf:P_ID_2/dtsf:PozycjaUzytkownika","dtsf:Kwoty/dtsf:RB/dtsf:Kwota/dtsf:KwotaA"]
[1,{"$f":"Adr_Dodatkowe & \"!$M$19\"","v":"Dodatkowe!$M$19"},null,{"$f":"D2587 & \"\"","v":""},null,{"$f":"F2595","v":"Pidx"},"Kwota",8,null,"dtsf:P_ID_2/dtsf:PozycjaUzytkownika","dtsf:Kwoty/dtsf:RB/dtsf:Kwota/dtsf:KwotaB"]
[2,{"$f":"Adr_Dodatkowe & \"!$O$19\"","v":"Dodatkowe!$O$19"},null,"MarkParent",null,{"$f":"F2596","v":"Pidx"},"Kwota",8,null,"dtsf:P_ID_2/dtsf:PozycjaUzytkownika","dtsf:Kwoty/dtsf:RP/dtsf:KwotaA"]
[1,{"$f":"Adr_Dodatkowe & \"!$P$19\"","v":"Dodatkowe!$P$19"},null,"",null,{"$f":"F2597","v":"Pidx"},"Kwota",8,null,"dtsf:P_ID_2/dtsf:PozycjaUzytkownika","dtsf:Kwoty/dtsf:RP/dtsf:KwotaB"]
[null,{"$f":"Adr_Dodatkowe & \"!$G$20\"","v":"Dodatkowe!$G$20"},null,{"$f":"D2590 & \"\"","v":"MarkParent"},null,"Pidx","Tekst",{"$f":"H2590+1","v":9},null,"dtsf:P_ID_2/dtsf:PozycjaUzytkownika","dtsf:NazwaPozycji"]
[1,{"$f":"Adr_Dodatkowe & \"!$H$20\"","v":"Dodatkowe!$H$20"},null,"MarkParent",null,{"$f":"F2599","v":"Pidx"},{"$f":"G2599","v":"Tekst"},{"$f":"H2599","v":9},null,"dtsf:P_ID_2/dtsf:PozycjaUzytkownika","dtsf:Kwoty/dtsf:RB/dtsf:PodstawaPrawna/dtsf:Art"]
[1,{"$f":"Adr_Dodatkowe & \"!$I$20\"","v":"Dodatkowe!$I$20"},null,"",null,{"$f":"F2600","v":"Pidx"},"Tekst",9,null,"dtsf:P_ID_2/dtsf:PozycjaUzytkownika","dtsf:Kwoty/dtsf:RB/dtsf:PodstawaPrawna/dtsf:Ust"]
[1,{"$f":"Adr_Dodatkowe & \"!$J$20\"","v":"Dodatkowe!$J$20"},null,"",null,{"$f":"F2601","v":"Pidx"},"Tekst",9,null,"dtsf:P_ID_2/dtsf:PozycjaUzytkownika","dtsf:Kwoty/dtsf:RB/dtsf:PodstawaPrawna/dtsf:Pkt"]
[1,{"$f":"Adr_Dodatkowe & \"!$K$20\"","v":"Dodatkowe!$K$20"},null,"",null,{"$f":"F2602","v":"Pidx"},"Tekst",9,null,"dtsf:P_ID_2/dtsf:PozycjaUzytkownika","dtsf:Kwoty/dtsf:RB/dtsf:PodstawaPrawna/dtsf:Lit"]
[1,{"$f":"Adr_Dodatkowe & \"!$L$20\"","v":"Dodatkowe!$L$20"},null,"MarkParent:3",null,{"$f":"F2603","v":"Pidx"},"Kwota",{"$f":"H2603","v":9},null,"dtsf:P_ID_2/dtsf:PozycjaUzytkownika","dtsf:Kwoty/dtsf:RB/dtsf:Kwota/dtsf:KwotaA"]
[1,{"$f":"Adr_Dodatkowe & \"!$M$20\"","v":"Dodatkowe!$M$20"},null,{"$f":"D2596 & \"\"","v":""},null,{"$f":"F2604","v":"Pidx"},"Kwota",9,null,"dtsf:P_ID_2/dtsf:PozycjaUzytkownika","dtsf:Kwoty/dtsf:RB/dtsf:Kwota/dtsf:KwotaB"]
[2,{"$f":"Adr_Dodatkowe & \"!$O$20\"","v":"Dodatkowe!$O$20"},null,"MarkParent",null,{"$f":"F2605","v":"Pidx"},"Kwota",9,null,"dtsf:P_ID_2/dtsf:PozycjaUzytkownika","dtsf:Kwoty/dtsf:RP/dtsf:KwotaA"]
[1,{"$f":"Adr_Dodatkowe & \"!$P$20\"","v":"Dodatkowe!$P$20"},null,"",null,{"$f":"F2606","v":"Pidx"},"Kwota",9,null,"dtsf:P_ID_2/dtsf:PozycjaUzytkownika","dtsf:Kwoty/dtsf:RP/dtsf:KwotaB"]
[null,{"$f":"Adr_Dodatkowe & \"!$G$21\"","v":"Dodatkowe!$G$21"},null,{"$f":"D2599 & \"\"","v":"MarkParent"},null,"Pidx","Tekst",{"$f":"H2599+1","v":10},null,"dtsf:P_ID_2/dtsf:PozycjaUzytkownika","dtsf:NazwaPozycji"]
[1,{"$f":"Adr_Dodatkowe & \"!$H$21\"","v":"Dodatkowe!$H$21"},null,"MarkParent",null,{"$f":"F2608","v":"Pidx"},{"$f":"G2608","v":"Tekst"},{"$f":"H2608","v":10},null,"dtsf:P_ID_2/dtsf:PozycjaUzytkownika","dtsf:Kwoty/dtsf:RB/dtsf:PodstawaPrawna/dtsf:Art"]
[1,{"$f":"Adr_Dodatkowe & \"!$I$21\"","v":"Dodatkowe!$I$21"},null,"",null,{"$f":"F2609","v":"Pidx"},"Tekst",10,null,"dtsf:P_ID_2/dtsf:PozycjaUzytkownika","dtsf:Kwoty/dtsf:RB/dtsf:PodstawaPrawna/dtsf:Ust"]
[1,{"$f":"Adr_Dodatkowe & \"!$J$21\"","v":"Dodatkowe!$J$21"},null,"",null,{"$f":"F2610","v":"Pidx"},"Tekst",10,null,"dtsf:P_ID_2/dtsf:PozycjaUzytkownika","dtsf:Kwoty/dtsf:RB/dtsf:PodstawaPrawna/dtsf:Pkt"]
[1,{"$f":"Adr_Dodatkowe & \"!$K$21\"","v":"Dodatkowe!$K$21"},null,"",null,{"$f":"F2611","v":"Pidx"},"Tekst",10,null,"dtsf:P_ID_2/dtsf:PozycjaUzytkownika","dtsf:Kwoty/dtsf:RB/dtsf:PodstawaPrawna/dtsf:Lit"]
[1,{"$f":"Adr_Dodatkowe & \"!$L$21\"","v":"Dodatkowe!$L$21"},null,"MarkParent:3",null,{"$f":"F2612","v":"Pidx"},"Kwota",{"$f":"H2612","v":10},null,"dtsf:P_ID_2/dtsf:PozycjaUzytkownika","dtsf:Kwoty/dtsf:RB/dtsf:Kwota/dtsf:KwotaA"]
[1,{"$f":"Adr_Dodatkowe & \"!$M$21\"","v":"Dodatkowe!$M$21"},null,{"$f":"D2605 & \"\"","v":""},null,{"$f":"F2613","v":"Pidx"},"Kwota",10,null,"dtsf:P_ID_2/dtsf:PozycjaUzytkownika","dtsf:Kwoty/dtsf:RB/dtsf:Kwota/dtsf:KwotaB"]
[2,{"$f":"Adr_Dodatkowe & \"!$O$21\"","v":"Dodatkowe!$O$21"},null,"MarkParent",null,{"$f":"F2614","v":"Pidx"},"Kwota",10,null,"dtsf:P_ID_2/dtsf:PozycjaUzytkownika","dtsf:Kwoty/dtsf:RP/dtsf:KwotaA"]
[1,{"$f":"Adr_Dodatkowe & \"!$P$21\"","v":"Dodatkowe!$P$21"},null,"",null,{"$f":"F2615","v":"Pidx"},"Kwota",10,null,"dtsf:P_ID_2/dtsf:PozycjaUzytkownika","dtsf:Kwoty/dtsf:RP/dtsf:KwotaB"]
[null,{"$f":"Adr_Dodatkowe & \"!$L$22\"","v":"Dodatkowe!$L$22"},null,"ExportOnly",null,null,"Kwota",null,null,"dtsf:P_ID_2/dtsf:Pozostale","dtsf:RB/dtsf:KwotaA"]
[1,{"$f":"Adr_Dodatkowe & \"!$M$22\"","v":"Dodatkowe!$M$22"},null,"ExportOnly",null,null,"Kwota",null,null,"dtsf:P_ID_2/dtsf:Pozostale","dtsf:RB/dtsf:KwotaB"]
[2,{"$f":"Adr_Dodatkowe & \"!$O$22\"","v":"Dodatkowe!$O$22"},null,"ExportOnly",null,null,"Kwota",null,null,"dtsf:P_ID_2/dtsf:Pozostale","dtsf:RP/dtsf:KwotaA"]
[1,{"$f":"Adr_Dodatkowe & \"!$P$22\"","v":"Dodatkowe!$P$22"},null,"ExportOnly",null,null,"Kwota",null,null,"dtsf:P_ID_2/dtsf:Pozostale","dtsf:RP/dtsf:KwotaB"]
[null,{"$f":"Adr_Dodatkowe & \"!$L$24\"","v":"Dodatkowe!$L$24"},null,"MarkParent:3",null,null,"Kwota",null,null,"dtsf:P_ID_3/dtsf:Kwota","dtsf:RB/dtsf:KwotaA"]
[null,{"$f":"Adr_Dodatkowe & \"!$M$24\"","v":"Dodatkowe!$M$24"},null,{"$f":"D2621","v":"MarkParent:3"},null,null,{"$f":"G2621","v":"Kwota"},null,null,"dtsf:P_ID_3/dtsf:Kwota","dtsf:RB/dtsf:KwotaB"]
[null,{"$f":"Adr_Dodatkowe & \"!$O$24\"","v":"Dodatkowe!$O$24"},null,"MarkParent:3",null,null,"Kwota",null,null,"dtsf:P_ID_3/dtsf:Kwota","dtsf:RP/dtsf:KwotaA"]
[null,{"$f":"Adr_Dodatkowe & \"!$P$24\"","v":"Dodatkowe!$P$24"},null,{"$f":"D2623","v":"MarkParent:3"},null,null,{"$f":"G2623","v":"Kwota"},null,null,"dtsf:P_ID_3/dtsf:Kwota","dtsf:RP/dtsf:KwotaB"]
[null,{"$f":"Adr_Dodatkowe & \"!$G$26\"","v":"Dodatkowe!$G$26"},null,{"$f":"$D$2527 & \"\"","v":"MarkParent"},null,"Pidx","Tekst",1,null,"dtsf:P_ID_3/dtsf:PozycjaUzytkownika","dtsf:NazwaPozycji"]
[1,{"$f":"Adr_Dodatkowe & \"!$H$26\"","v":"Dodatkowe!$H$26"},null,{"$f":"$D$2528 & \"\"","v":"MarkParent"},null,{"$f":"F2625","v":"Pidx"},{"$f":"G2625","v":"Tekst"},{"$f":"H2625","v":1},null,"dtsf:P_ID_3/dtsf:PozycjaUzytkownika","dtsf:Kwoty/dtsf:RB/dtsf:PodstawaPrawna/dtsf:Art"]
[1,{"$f":"Adr_Dodatkowe & \"!$I$26\"","v":"Dodatkowe!$I$26"},null,{"$f":"$D$2529 & \"\"","v":""},null,{"$f":"F2626","v":"Pidx"},"Tekst",1,null,"dtsf:P_ID_3/dtsf:PozycjaUzytkownika","dtsf:Kwoty/dtsf:RB/dtsf:PodstawaPrawna/dtsf:Ust"]
[1,{"$f":"Adr_Dodatkowe & \"!$J$26\"","v":"Dodatkowe!$J$26"},null,{"$f":"$D$2530 & \"\"","v":""},null,"Pidx","Tekst",1,null,"dtsf:P_ID_3/dtsf:PozycjaUzytkownika","dtsf:Kwoty/dtsf:RB/dtsf:PodstawaPrawna/dtsf:Pkt"]
[1,{"$f":"Adr_Dodatkowe & \"!$K$26\"","v":"Dodatkowe!$K$26"},null,{"$f":"$D$2531 & \"\"","v":""},null,"Pidx","Tekst",1,null,"dtsf:P_ID_3/dtsf:PozycjaUzytkownika","dtsf:Kwoty/dtsf:RB/dtsf:PodstawaPrawna/dtsf:Lit"]
[1,{"$f":"Adr_Dodatkowe & \"!$L$26\"","v":"Dodatkowe!$L$26"},null,{"$f":"$D$2532 & \"\"","v":"MarkParent:3"},null,"Pidx","Kwota",1,null,"dtsf:P_ID_3/dtsf:PozycjaUzytkownika","dtsf:Kwoty/dtsf:RB/dtsf:Kwota/dtsf:KwotaA"]
[1,{"$f":"Adr_Dodatkowe & \"!$M$26\"","v":"Dodatkowe!$M$26"},null,{"$f":"$D$2533 & \"\"","v":""},null,"Pidx","Kwota",1,null,"dtsf:P_ID_3/dtsf:PozycjaUzytkownika","dtsf:Kwoty/dtsf:RB/dtsf:Kwota/dtsf:KwotaB"]
[2,{"$f":"Adr_Dodatkowe & \"!$O$26\"","v":"Dodatkowe!$O$26"},null,{"$f":"$D$2534 & \"\"","v":"MarkParent"},null,"Pidx","Kwota",1,null,"dtsf:P_ID_3/dtsf:PozycjaUzytkownika","dtsf:Kwoty/dtsf:RP/dtsf:KwotaA"]
[1,{"$f":"Adr_Dodatkowe & \"!$P$26\"","v":"Dodatkowe!$P$26"},null,{"$f":"D2535 & \"\"","v":""},null,"Pidx","Kwota",1,null,"dtsf:P_ID_3/dtsf:PozycjaUzytkownika","dtsf:Kwoty/dtsf:RP/dtsf:KwotaB"]
[null,{"$f":"Adr_Dodatkowe & \"!$G$27\"","v":"Dodatkowe!$G$27"},null,{"$f":"D2625 & \"\"","v":"MarkParent"},null,"Pidx","Tekst",{"$f":"H2625+1","v":2},null,"dtsf:P_ID_3/dtsf:PozycjaUzytkownika","dtsf:NazwaPozycji"]
[1,{"$f":"Adr_Dodatkowe & \"!$H$27\"","v":"Dodatkowe!$H$27"},null,{"$f":"D2626 & \"\"","v":"MarkParent"},null,{"$f":"F2634","v":"Pidx"},{"$f":"G2634","v":"Tekst"},{"$f":"H2634","v":2},null,"dtsf:P_ID_3/dtsf:PozycjaUzytkownika","dtsf:Kwoty/dtsf:RB/dtsf:PodstawaPrawna/dtsf:Art"]
[1,{"$f":"Adr_Dodatkowe & \"!$I$27\"","v":"Dodatkowe!$I$27"},null,"",null,{"$f":"F2635","v":"Pidx"},"Tekst",2,null,"dtsf:P_ID_3/dtsf:PozycjaUzytkownika","dtsf:Kwoty/dtsf:RB/dtsf:PodstawaPrawna/dtsf:Ust"]
[1,{"$f":"Adr_Dodatkowe & \"!$J$27\"","v":"Dodatkowe!$J$27"},null,"",null,"Pidx","Tekst",2,null,"dtsf:P_ID_3/dtsf:PozycjaUzytkownika","dtsf:Kwoty/dtsf:RB/dtsf:PodstawaPrawna/dtsf:Pkt"]
[1,{"$f":"Adr_Dodatkowe & \"!$K$27\"","v":"Dodatkowe!$K$27"},null,"",null,"Pidx","Tekst",2,null,"dtsf:P_ID_3/dtsf:PozycjaUzytkownika","dtsf:Kwoty/dtsf:RB/dtsf:PodstawaPrawna/dtsf:Lit"]
[1,{"$f":"Adr_Dodatkowe & \"!$L$27\"","v":"Dodatkowe!$L$27"},null,"MarkParent:3",null,"Pidx","Kwota",2,null,"dtsf:P_ID_3/dtsf:PozycjaUzytkownika","dtsf:Kwoty/dtsf:RB/dtsf:Kwota/dtsf:KwotaA"]
[1,{"$f":"Adr_Dodatkowe & \"!$M$27\"","v":"Dodatkowe!$M$27"},null,{"$f":"D2631 & \"\"","v":""},null,"Pidx","Kwota",2,null,"dtsf:P_ID_3/dtsf:PozycjaUzytkownika","dtsf:Kwoty/dtsf:RB/dtsf:Kwota/dtsf:KwotaB"]
[2,{"$f":"Adr_Dodatkowe & \"!$O$27\"","v":"Dodatkowe!$O$27"},null,"MarkParent",null,"Pidx","Kwota",2,null,"dtsf:P_ID_3/dtsf:PozycjaUzytkownika","dtsf:Kwoty/dtsf:RP/dtsf:KwotaA"]
[1,{"$f":"Adr_Dodatkowe & \"!$P$27\"","v":"Dodatkowe!$P$27"},null,"",null,"Pidx","Kwota",2,null,"dtsf:P_ID_3/dtsf:PozycjaUzytkownika","dtsf:Kwoty/dtsf:RP/dtsf:KwotaB"]
[null,{"$f":"Adr_Dodatkowe & \"!$G$28\"","v":"Dodatkowe!$G$28"},null,"MarkParent",null,"Pidx","Tekst",{"$f":"H2634+1","v":3},null,"dtsf:P_ID_3/dtsf:PozycjaUzytkownika","dtsf:NazwaPozycji"]
[1,{"$f":"Adr_Dodatkowe & \"!$H$28\"","v":"Dodatkowe!$H$28"},null,{"$f":"D2635 & \"\"","v":"MarkParent"},null,{"$f":"F2643","v":"Pidx"},{"$f":"G2643","v":"Tekst"},{"$f":"H2643","v":3},null,"dtsf:P_ID_3/dtsf:PozycjaUzytkownika","dtsf:Kwoty/dtsf:RB/dtsf:PodstawaPrawna/dtsf:Art"]
[1,{"$f":"Adr_Dodatkowe & \"!$I$28\"","v":"Dodatkowe!$I$28"},null,"",null,{"$f":"F2644","v":"Pidx"},"Tekst",3,null,"dtsf:P_ID_3/dtsf:PozycjaUzytkownika","dtsf:Kwoty/dtsf:RB/dtsf:PodstawaPrawna/dtsf:Ust"]
[1,{"$f":"Adr_Dodatkowe & \"!$J$28\"","v":"Dodatkowe!$J$28"},null,"",null,"Pidx","Tekst",3,null,"dtsf:P_ID_3/dtsf:PozycjaUzytkownika","dtsf:Kwoty/dtsf:RB/dtsf:PodstawaPrawna/dtsf:Pkt"]
[1,{"$f":"Adr_Dodatkowe & \"!$K$28\"","v":"Dodatkowe!$K$28"},null,"",null,"Pidx","Tekst",3,null,"dtsf:P_ID_3/dtsf:PozycjaUzytkownika","dtsf:Kwoty/dtsf:RB/dtsf:PodstawaPrawna/dtsf:Lit"]
[1,{"$f":"Adr_Dodatkowe & \"!$L$28\"","v":"Dodatkowe!$L$28"},null,"MarkParent:3",null,"Pidx","Kwota",3,null,"dtsf:P_ID_3/dtsf:PozycjaUzytkownika","dtsf:Kwoty/dtsf:RB/dtsf:Kwota/dtsf:KwotaA"]
[1,{"$f":"Adr_Dodatkowe & \"!$M$28\"","v":"Dodatkowe!$M$28"},null,"",null,"Pidx","Kwota",3,null,"dtsf:P_ID_3/dtsf:PozycjaUzytkownika","dtsf:Kwoty/dtsf:RB/dtsf:Kwota/dtsf:KwotaB"]
[2,{"$f":"Adr_Dodatkowe & \"!$O$28\"","v":"Dodatkowe!$O$28"},null,{"$f":"D2641 & \"\"","v":"MarkParent"},null,"Pidx","Kwota",3,null,"dtsf:P_ID_3/dtsf:PozycjaUzytkownika","dtsf:Kwoty/dtsf:RP/dtsf:KwotaA"]
[1,{"$f":"Adr_Dodatkowe & \"!$P$28\"","v":"Dodatkowe!$P$28"},null,{"$f":"D2642 & \"\"","v":""},null,"Pidx","Kwota",3,null,"dtsf:P_ID_3/dtsf:PozycjaUzytkownika","dtsf:Kwoty/dtsf:RP/dtsf:KwotaB"]
[null,{"$f":"Adr_Dodatkowe & \"!$G$29\"","v":"Dodatkowe!$G$29"},null,{"$f":"D2643 & \"\"","v":"MarkParent"},null,"Pidx","Tekst",{"$f":"H2643+1","v":4},null,"dtsf:P_ID_3/dtsf:PozycjaUzytkownika","dtsf:NazwaPozycji"]
[1,{"$f":"Adr_Dodatkowe & \"!$H$29\"","v":"Dodatkowe!$H$29"},null,"MarkParent",null,{"$f":"F2652","v":"Pidx"},{"$f":"G2652","v":"Tekst"},{"$f":"H2652","v":4},null,"dtsf:P_ID_3/dtsf:PozycjaUzytkownika","dtsf:Kwoty/dtsf:RB/dtsf:PodstawaPrawna/dtsf:Art"]
[1,{"$f":"Adr_Dodatkowe & \"!$I$29\"","v":"Dodatkowe!$I$29"},null,"",null,{"$f":"F2653","v":"Pidx"},"Tekst",4,null,"dtsf:P_ID_3/dtsf:PozycjaUzytkownika","dtsf:Kwoty/dtsf:RB/dtsf:PodstawaPrawna/dtsf:Ust"]
[1,{"$f":"Adr_Dodatkowe & \"!$J$29\"","v":"Dodatkowe!$J$29"},null,"",null,{"$f":"F2654","v":"Pidx"},"Tekst",4,null,"dtsf:P_ID_3/dtsf:PozycjaUzytkownika","dtsf:Kwoty/dtsf:RB/dtsf:PodstawaPrawna/dtsf:Pkt"]
[1,{"$f":"Adr_Dodatkowe & \"!$K$29\"","v":"Dodatkowe!$K$29"},null,"",null,{"$f":"F2655","v":"Pidx"},"Tekst",4,null,"dtsf:P_ID_3/dtsf:PozycjaUzytkownika","dtsf:Kwoty/dtsf:RB/dtsf:PodstawaPrawna/dtsf:Lit"]
[1,{"$f":"Adr_Dodatkowe & \"!$L$29\"","v":"Dodatkowe!$L$29"},null,{"$f":"D2648 & \"\"","v":"MarkParent:3"},null,{"$f":"F2656","v":"Pidx"},"Kwota",{"$f":"H2656","v":4},null,"dtsf:P_ID_3/dtsf:PozycjaUzytkownika","dtsf:Kwoty/dtsf:RB/dtsf:Kwota/dtsf:KwotaA"]
[1,{"$f":"Adr_Dodatkowe & \"!$M$29\"","v":"Dodatkowe!$M$29"},null,"",null,{"$f":"F2657","v":"Pidx"},"Kwota",4,null,"dtsf:P_ID_3/dtsf:PozycjaUzytkownika","dtsf:Kwoty/dtsf:RB/dtsf:Kwota/dtsf:KwotaB"]
[2,{"$f":"Adr_Dodatkowe & \"!$O$29\"","v":"Dodatkowe!$O$29"},null,"MarkParent",null,{"$f":"F2658","v":"Pidx"},"Kwota",4,null,"dtsf:P_ID_3/dtsf:PozycjaUzytkownika","dtsf:Kwoty/dtsf:RP/dtsf:KwotaA"]
[1,{"$f":"Adr_Dodatkowe & \"!$P$29\"","v":"Dodatkowe!$P$29"},null,"",null,{"$f":"F2659","v":"Pidx"},"Kwota",4,null,"dtsf:P_ID_3/dtsf:PozycjaUzytkownika","dtsf:Kwoty/dtsf:RP/dtsf:KwotaB"]
[null,{"$f":"Adr_Dodatkowe & \"!$G$30\"","v":"Dodatkowe!$G$30"},null,{"$f":"D2652 & \"\"","v":"MarkParent"},null,"Pidx","Tekst",{"$f":"H2652+1","v":5},null,"dtsf:P_ID_3/dtsf:PozycjaUzytkownika","dtsf:NazwaPozycji"]
[1,{"$f":"Adr_Dodatkowe & \"!$H$30\"","v":"Dodatkowe!$H$30"},null,{"$f":"D2653 & \"\"","v":"MarkParent"},null,{"$f":"F2661","v":"Pidx"},{"$f":"G2661","v":"Tekst"},{"$f":"H2661","v":5},null,"dtsf:P_ID_3/dtsf:PozycjaUzytkownika","dtsf:Kwoty/dtsf:RB/dtsf:PodstawaPrawna/dtsf:Art"]
[1,{"$f":"Adr_Dodatkowe & \"!$I$30\"","v":"Dodatkowe!$I$30"},null,"",null,{"$f":"F2662","v":"Pidx"},"Tekst",5,null,"dtsf:P_ID_3/dtsf:PozycjaUzytkownika","dtsf:Kwoty/dtsf:RB/dtsf:PodstawaPrawna/dtsf:Ust"]
[1,{"$f":"Adr_Dodatkowe & \"!$J$30\"","v":"Dodatkowe!$J$30"},null,"",null,{"$f":"F2663","v":"Pidx"},"Tekst",5,null,"dtsf:P_ID_3/dtsf:PozycjaUzytkownika","dtsf:Kwoty/dtsf:RB/dtsf:PodstawaPrawna/dtsf:Pkt"]
[1,{"$f":"Adr_Dodatkowe & \"!$K$30\"","v":"Dodatkowe!$K$30"},null,"",null,{"$f":"F2664","v":"Pidx"},"Tekst",5,null,"dtsf:P_ID_3/dtsf:PozycjaUzytkownika","dtsf:Kwoty/dtsf:RB/dtsf:PodstawaPrawna/dtsf:Lit"]
[1,{"$f":"Adr_Dodatkowe & \"!$L$30\"","v":"Dodatkowe!$L$30"},null,"MarkParent:3",null,{"$f":"F2665","v":"Pidx"},"Kwota",{"$f":"H2665","v":5},null,"dtsf:P_ID_3/dtsf:PozycjaUzytkownika","dtsf:Kwoty/dtsf:RB/dtsf:Kwota/dtsf:KwotaA"]
[1,{"$f":"Adr_Dodatkowe & \"!$M$30\"","v":"Dodatkowe!$M$30"},null,{"$f":"D2658 & \"\"","v":""},null,{"$f":"F2666","v":"Pidx"},"Kwota",5,null,"dtsf:P_ID_3/dtsf:PozycjaUzytkownika","dtsf:Kwoty/dtsf:RB/dtsf:Kwota/dtsf:KwotaB"]
[2,{"$f":"Adr_Dodatkowe & \"!$O$30\"","v":"Dodatkowe!$O$30"},null,"MarkParent",null,{"$f":"F2667","v":"Pidx"},"Kwota",5,null,"dtsf:P_ID_3/dtsf:PozycjaUzytkownika","dtsf:Kwoty/dtsf:RP/dtsf:KwotaA"]
[1,{"$f":"Adr_Dodatkowe & \"!$P$30\"","v":"Dodatkowe!$P$30"},null,"",null,{"$f":"F2668","v":"Pidx"},"Kwota",5,null,"dtsf:P_ID_3/dtsf:PozycjaUzytkownika","dtsf:Kwoty/dtsf:RP/dtsf:KwotaB"]
[null,{"$f":"Adr_Dodatkowe & \"!$G$31\"","v":"Dodatkowe!$G$31"},null,{"$f":"D2661 & \"\"","v":"MarkParent"},null,"Pidx","Tekst",{"$f":"H2661+1","v":6},null,"dtsf:P_ID_3/dtsf:PozycjaUzytkownika","dtsf:NazwaPozycji"]
[1,{"$f":"Adr_Dodatkowe & \"!$H$31\"","v":"Dodatkowe!$H$31"},null,{"$f":"D2662 & \"\"","v":"MarkParent"},null,{"$f":"F2670","v":"Pidx"},{"$f":"G2670","v":"Tekst"},{"$f":"H2670","v":6},null,"dtsf:P_ID_3/dtsf:PozycjaUzytkownika","dtsf:Kwoty/dtsf:RB/dtsf:PodstawaPrawna/dtsf:Art"]
[1,{"$f":"Adr_Dodatkowe & \"!$I$31\"","v":"Dodatkowe!$I$31"},null,"",null,{"$f":"F2671","v":"Pidx"},"Tekst",6,null,"dtsf:P_ID_3/dtsf:PozycjaUzytkownika","dtsf:Kwoty/dtsf:RB/dtsf:PodstawaPrawna/dtsf:Ust"]
[1,{"$f":"Adr_Dodatkowe & \"!$J$31\"","v":"Dodatkowe!$J$31"},null,"",null,{"$f":"F2672","v":"Pidx"},"Tekst",6,null,"dtsf:P_ID_3/dtsf:PozycjaUzytkownika","dtsf:Kwoty/dtsf:RB/dtsf:PodstawaPrawna/dtsf:Pkt"]
[1,{"$f":"Adr_Dodatkowe & \"!$K$31\"","v":"Dodatkowe!$K$31"},null,"",null,{"$f":"F2673","v":"Pidx"},"Tekst",6,null,"dtsf:P_ID_3/dtsf:PozycjaUzytkownika","dtsf:Kwoty/dtsf:RB/dtsf:PodstawaPrawna/dtsf:Lit"]
[1,{"$f":"Adr_Dodatkowe & \"!$L$31\"","v":"Dodatkowe!$L$31"},null,"MarkParent:3",null,{"$f":"F2674","v":"Pidx"},"Kwota",{"$f":"H2674","v":6},null,"dtsf:P_ID_3/dtsf:PozycjaUzytkownika","dtsf:Kwoty/dtsf:RB/dtsf:Kwota/dtsf:KwotaA"]
[1,{"$f":"Adr_Dodatkowe & \"!$M$31\"","v":"Dodatkowe!$M$31"},null,{"$f":"D2667 & \"\"","v":""},null,{"$f":"F2675","v":"Pidx"},"Kwota",6,null,"dtsf:P_ID_3/dtsf:PozycjaUzytkownika","dtsf:Kwoty/dtsf:RB/dtsf:Kwota/dtsf:KwotaB"]
[2,{"$f":"Adr_Dodatkowe & \"!$O$31\"","v":"Dodatkowe!$O$31"},null,"MarkParent",null,{"$f":"F2676","v":"Pidx"},"Kwota",6,null,"dtsf:P_ID_3/dtsf:PozycjaUzytkownika","dtsf:Kwoty/dtsf:RP/dtsf:KwotaA"]
[1,{"$f":"Adr_Dodatkowe & \"!$P$31\"","v":"Dodatkowe!$P$31"},null,"",null,{"$f":"F2677","v":"Pidx"},"Kwota",6,null,"dtsf:P_ID_3/dtsf:PozycjaUzytkownika","dtsf:Kwoty/dtsf:RP/dtsf:KwotaB"]
[null,{"$f":"Adr_Dodatkowe & \"!$G$32\"","v":"Dodatkowe!$G$32"},null,{"$f":"D2670 & \"\"","v":"MarkParent"},null,"Pidx","Tekst",{"$f":"H2670+1","v":7},null,"dtsf:P_ID_3/dtsf:PozycjaUzytkownika","dtsf:NazwaPozycji"]
[1,{"$f":"Adr_Dodatkowe & \"!$H$32\"","v":"Dodatkowe!$H$32"},null,"MarkParent",null,{"$f":"F2679","v":"Pidx"},{"$f":"G2679","v":"Tekst"},{"$f":"H2679","v":7},null,"dtsf:P_ID_3/dtsf:PozycjaUzytkownika","dtsf:Kwoty/dtsf:RB/dtsf:PodstawaPrawna/dtsf:Art"]
[1,{"$f":"Adr_Dodatkowe & \"!$I$32\"","v":"Dodatkowe!$I$32"},null,"",null,{"$f":"F2680","v":"Pidx"},"Tekst",7,null,"dtsf:P_ID_3/dtsf:PozycjaUzytkownika","dtsf:Kwoty/dtsf:RB/dtsf:PodstawaPrawna/dtsf:Ust"]
[1,{"$f":"Adr_Dodatkowe & \"!$J$32\"","v":"Dodatkowe!$J$32"},null,"",null,{"$f":"F2681","v":"Pidx"},"Tekst",7,null,"dtsf:P_ID_3/dtsf:PozycjaUzytkownika","dtsf:Kwoty/dtsf:RB/dtsf:PodstawaPrawna/dtsf:Pkt"]
[1,{"$f":"Adr_Dodatkowe & \"!$K$32\"","v":"Dodatkowe!$K$32"},null,"",null,{"$f":"F2682","v":"Pidx"},"Tekst",7,null,"dtsf:P_ID_3/dtsf:PozycjaUzytkownika","dtsf:Kwoty/dtsf:RB/dtsf:PodstawaPrawna/dtsf:Lit"]
[1,{"$f":"Adr_Dodatkowe & \"!$L$32\"","v":"Dodatkowe!$L$32"},null,"MarkParent:3",null,{"$f":"F2683","v":"Pidx"},"Kwota",{"$f":"H2683","v":7},null,"dtsf:P_ID_3/dtsf:PozycjaUzytkownika","dtsf:Kwoty/dtsf:RB/dtsf:Kwota/dtsf:KwotaA"]
[1,{"$f":"Adr_Dodatkowe & \"!$M$32\"","v":"Dodatkowe!$M$32"},null,{"$f":"D2676 & \"\"","v":""},null,{"$f":"F2684","v":"Pidx"},"Kwota",7,null,"dtsf:P_ID_3/dtsf:PozycjaUzytkownika","dtsf:Kwoty/dtsf:RB/dtsf:Kwota/dtsf:KwotaB"]
[2,{"$f":"Adr_Dodatkowe & \"!$O$32\"","v":"Dodatkowe!$O$32"},null,"MarkParent",null,{"$f":"F2685","v":"Pidx"},"Kwota",7,null,"dtsf:P_ID_3/dtsf:PozycjaUzytkownika","dtsf:Kwoty/dtsf:RP/dtsf:KwotaA"]
[1,{"$f":"Adr_Dodatkowe & \"!$P$32\"","v":"Dodatkowe!$P$32"},null,"",null,{"$f":"F2686","v":"Pidx"},"Kwota",7,null,"dtsf:P_ID_3/dtsf:PozycjaUzytkownika","dtsf:Kwoty/dtsf:RP/dtsf:KwotaB"]
[null,{"$f":"Adr_Dodatkowe & \"!$G$33\"","v":"Dodatkowe!$G$33"},null,{"$f":"D2679 & \"\"","v":"MarkParent"},null,"Pidx","Tekst",{"$f":"H2679+1","v":8},null,"dtsf:P_ID_3/dtsf:PozycjaUzytkownika","dtsf:NazwaPozycji"]
[1,{"$f":"Adr_Dodatkowe & \"!$H$33\"","v":"Dodatkowe!$H$33"},null,"MarkParent",null,{"$f":"F2688","v":"Pidx"},{"$f":"G2688","v":"Tekst"},{"$f":"H2688","v":8},null,"dtsf:P_ID_3/dtsf:PozycjaUzytkownika","dtsf:Kwoty/dtsf:RB/dtsf:PodstawaPrawna/dtsf:Art"]
[1,{"$f":"Adr_Dodatkowe & \"!$I$33\"","v":"Dodatkowe!$I$33"},null,"",null,{"$f":"F2689","v":"Pidx"},"Tekst",8,null,"dtsf:P_ID_3/dtsf:PozycjaUzytkownika","dtsf:Kwoty/dtsf:RB/dtsf:PodstawaPrawna/dtsf:Ust"]
[1,{"$f":"Adr_Dodatkowe & \"!$J$33\"","v":"Dodatkowe!$J$33"},null,"",null,{"$f":"F2690","v":"Pidx"},"Tekst",8,null,"dtsf:P_ID_3/dtsf:PozycjaUzytkownika","dtsf:Kwoty/dtsf:RB/dtsf:PodstawaPrawna/dtsf:Pkt"]
[1,{"$f":"Adr_Dodatkowe & \"!$K$33\"","v":"Dodatkowe!$K$33"},null,"",null,{"$f":"F2691","v":"Pidx"},"Tekst",8,null,"dtsf:P_ID_3/dtsf:PozycjaUzytkownika","dtsf:Kwoty/dtsf:RB/dtsf:PodstawaPrawna/dtsf:Lit"]
[1,{"$f":"Adr_Dodatkowe & \"!$L$33\"","v":"Dodatkowe!$L$33"},null,"MarkParent:3",null,{"$f":"F2692","v":"Pidx"},"Kwota",{"$f":"H2692","v":8},null,"dtsf:P_ID_3/dtsf:PozycjaUzytkownika","dtsf:Kwoty/dtsf:RB/dtsf:Kwota/dtsf:KwotaA"]
[1,{"$f":"Adr_Dodatkowe & \"!$M$33\"","v":"Dodatkowe!$M$33"},null,{"$f":"D2685 & \"\"","v":""},null,{"$f":"F2693","v":"Pidx"},"Kwota",8,null,"dtsf:P_ID_3/dtsf:PozycjaUzytkownika","dtsf:Kwoty/dtsf:RB/dtsf:Kwota/dtsf:KwotaB"]
[2,{"$f":"Adr_Dodatkowe & \"!$O$33\"","v":"Dodatkowe!$O$33"},null,"MarkParent",null,{"$f":"F2694","v":"Pidx"},"Kwota",8,null,"dtsf:P_ID_3/dtsf:PozycjaUzytkownika","dtsf:Kwoty/dtsf:RP/dtsf:KwotaA"]
[1,{"$f":"Adr_Dodatkowe & \"!$P$33\"","v":"Dodatkowe!$P$33"},null,"",null,{"$f":"F2695","v":"Pidx"},"Kwota",8,null,"dtsf:P_ID_3/dtsf:PozycjaUzytkownika","dtsf:Kwoty/dtsf:RP/dtsf:KwotaB"]
[null,{"$f":"Adr_Dodatkowe & \"!$G$34\"","v":"Dodatkowe!$G$34"},null,{"$f":"D2688 & \"\"","v":"MarkParent"},null,"Pidx","Tekst",{"$f":"H2688+1","v":9},null,"dtsf:P_ID_3/dtsf:PozycjaUzytkownika","dtsf:NazwaPozycji"]
[1,{"$f":"Adr_Dodatkowe & \"!$H$34\"","v":"Dodatkowe!$H$34"},null,"MarkParent",null,{"$f":"F2697","v":"Pidx"},{"$f":"G2697","v":"Tekst"},{"$f":"H2697","v":9},null,"dtsf:P_ID_3/dtsf:PozycjaUzytkownika","dtsf:Kwoty/dtsf:RB/dtsf:PodstawaPrawna/dtsf:Art"]
[1,{"$f":"Adr_Dodatkowe & \"!$I$34\"","v":"Dodatkowe!$I$34"},null,"",null,{"$f":"F2698","v":"Pidx"},"Tekst",9,null,"dtsf:P_ID_3/dtsf:PozycjaUzytkownika","dtsf:Kwoty/dtsf:RB/dtsf:PodstawaPrawna/dtsf:Ust"]
[1,{"$f":"Adr_Dodatkowe & \"!$J$34\"","v":"Dodatkowe!$J$34"},null,"",null,{"$f":"F2699","v":"Pidx"},"Tekst",9,null,"dtsf:P_ID_3/dtsf:PozycjaUzytkownika","dtsf:Kwoty/dtsf:RB/dtsf:PodstawaPrawna/dtsf:Pkt"]
[1,{"$f":"Adr_Dodatkowe & \"!$K$34\"","v":"Dodatkowe!$K$34"},null,"",null,{"$f":"F2700","v":"Pidx"},"Tekst",9,null,"dtsf:P_ID_3/dtsf:PozycjaUzytkownika","dtsf:Kwoty/dtsf:RB/dtsf:PodstawaPrawna/dtsf:Lit"]
[1,{"$f":"Adr_Dodatkowe & \"!$L$34\"","v":"Dodatkowe!$L$34"},null,"MarkParent:3",null,{"$f":"F2701","v":"Pidx"},"Kwota",{"$f":"H2701","v":9},null,"dtsf:P_ID_3/dtsf:PozycjaUzytkownika","dtsf:Kwoty/dtsf:RB/dtsf:Kwota/dtsf:KwotaA"]
[1,{"$f":"Adr_Dodatkowe & \"!$M$34\"","v":"Dodatkowe!$M$34"},null,{"$f":"D2694 & \"\"","v":""},null,{"$f":"F2702","v":"Pidx"},"Kwota",9,null,"dtsf:P_ID_3/dtsf:PozycjaUzytkownika","dtsf:Kwoty/dtsf:RB/dtsf:Kwota/dtsf:KwotaB"]
[2,{"$f":"Adr_Dodatkowe & \"!$O$34\"","v":"Dodatkowe!$O$34"},null,"MarkParent",null,{"$f":"F2703","v":"Pidx"},"Kwota",9,null,"dtsf:P_ID_3/dtsf:PozycjaUzytkownika","dtsf:Kwoty/dtsf:RP/dtsf:KwotaA"]
[1,{"$f":"Adr_Dodatkowe & \"!$P$34\"","v":"Dodatkowe!$P$34"},null,"",null,{"$f":"F2704","v":"Pidx"},"Kwota",9,null,"dtsf:P_ID_3/dtsf:PozycjaUzytkownika","dtsf:Kwoty/dtsf:RP/dtsf:KwotaB"]
[null,{"$f":"Adr_Dodatkowe & \"!$G$35\"","v":"Dodatkowe!$G$35"},null,{"$f":"D2697 & \"\"","v":"MarkParent"},null,"Pidx","Tekst",{"$f":"H2697+1","v":10},null,"dtsf:P_ID_3/dtsf:PozycjaUzytkownika","dtsf:NazwaPozycji"]
[1,{"$f":"Adr_Dodatkowe & \"!$H$35\"","v":"Dodatkowe!$H$35"},null,"MarkParent",null,{"$f":"F2706","v":"Pidx"},{"$f":"G2706","v":"Tekst"},{"$f":"H2706","v":10},null,"dtsf:P_ID_3/dtsf:PozycjaUzytkownika","dtsf:Kwoty/dtsf:RB/dtsf:PodstawaPrawna/dtsf:Art"]
[1,{"$f":"Adr_Dodatkowe & \"!$I$35\"","v":"Dodatkowe!$I$35"},null,"",null,{"$f":"F2707","v":"Pidx"},"Tekst",10,null,"dtsf:P_ID_3/dtsf:PozycjaUzytkownika","dtsf:Kwoty/dtsf:RB/dtsf:PodstawaPrawna/dtsf:Ust"]
[1,{"$f":"Adr_Dodatkowe & \"!$J$35\"","v":"Dodatkowe!$J$35"},null,"",null,{"$f":"F2708","v":"Pidx"},"Tekst",10,null,"dtsf:P_ID_3/dtsf:PozycjaUzytkownika","dtsf:Kwoty/dtsf:RB/dtsf:PodstawaPrawna/dtsf:Pkt"]
[1,{"$f":"Adr_Dodatkowe & \"!$K$35\"","v":"Dodatkowe!$K$35"},null,"",null,{"$f":"F2709","v":"Pidx"},"Tekst",10,null,"dtsf:P_ID_3/dtsf:PozycjaUzytkownika","dtsf:Kwoty/dtsf:RB/dtsf:PodstawaPrawna/dtsf:Lit"]
[1,{"$f":"Adr_Dodatkowe & \"!$L$35\"","v":"Dodatkowe!$L$35"},null,"MarkParent:3",null,{"$f":"F2710","v":"Pidx"},"Kwota",{"$f":"H2710","v":10},null,"dtsf:P_ID_3/dtsf:PozycjaUzytkownika","dtsf:Kwoty/dtsf:RB/dtsf:Kwota/dtsf:KwotaA"]
[1,{"$f":"Adr_Dodatkowe & \"!$M$35\"","v":"Dodatkowe!$M$35"},null,{"$f":"D2703 & \"\"","v":""},null,{"$f":"F2711","v":"Pidx"},"Kwota",10,null,"dtsf:P_ID_3/dtsf:PozycjaUzytkownika","dtsf:Kwoty/dtsf:RB/dtsf:Kwota/dtsf:KwotaB"]
[2,{"$f":"Adr_Dodatkowe & \"!$O$35\"","v":"Dodatkowe!$O$35"},null,"MarkParent",null,{"$f":"F2712","v":"Pidx"},"Kwota",10,null,"dtsf:P_ID_3/dtsf:PozycjaUzytkownika","dtsf:Kwoty/dtsf:RP/dtsf:KwotaA"]
[1,{"$f":"Adr_Dodatkowe & \"!$P$35\"","v":"Dodatkowe!$P$35"},null,"",null,{"$f":"F2713","v":"Pidx"},"Kwota",10,null,"dtsf:P_ID_3/dtsf:PozycjaUzytkownika","dtsf:Kwoty/dtsf:RP/dtsf:KwotaB"]
[null,{"$f":"Adr_Dodatkowe & \"!$L$36\"","v":"Dodatkowe!$L$36"},null,"ExportOnly",null,null,"Kwota",null,null,"dtsf:P_ID_3/dtsf:Pozostale","dtsf:RB/dtsf:KwotaA"]
[1,{"$f":"Adr_Dodatkowe & \"!$M$36\"","v":"Dodatkowe!$M$36"},null,"ExportOnly",null,null,{"$f":"G2715","v":"Kwota"},null,null,"dtsf:P_ID_3/dtsf:Pozostale","dtsf:RB/dtsf:KwotaB"]
[2,{"$f":"Adr_Dodatkowe & \"!$O$36\"","v":"Dodatkowe!$O$36"},null,"ExportOnly",null,null,"Kwota",null,null,"dtsf:P_ID_3/dtsf:Pozostale","dtsf:RP/dtsf:KwotaA"]
[1,{"$f":"Adr_Dodatkowe & \"!$P$36\"","v":"Dodatkowe!$P$36"},null,"ExportOnly",null,null,"Kwota",null,null,"dtsf:P_ID_3/dtsf:Pozostale","dtsf:RP/dtsf:KwotaB"]
[null,{"$f":"Adr_Dodatkowe & \"!$L$38\"","v":"Dodatkowe!$L$38"},null,"MarkParent:3",null,null,"Kwota",null,null,"dtsf:P_ID_4/dtsf:Kwota","dtsf:RB/dtsf:KwotaA"]
[null,{"$f":"Adr_Dodatkowe & \"!$M$38\"","v":"Dodatkowe!$M$38"},null,{"$f":"D2719","v":"MarkParent:3"},null,null,{"$f":"G2719","v":"Kwota"},null,null,"dtsf:P_ID_4/dtsf:Kwota","dtsf:RB/dtsf:KwotaB"]
[null,{"$f":"Adr_Dodatkowe & \"!$O$38\"","v":"Dodatkowe!$O$38"},null,"MarkParent:3",null,null,"Kwota",null,null,"dtsf:P_ID_4/dtsf:Kwota","dtsf:RP/dtsf:KwotaA"]
[null,{"$f":"Adr_Dodatkowe & \"!$P$38\"","v":"Dodatkowe!$P$38"},null,{"$f":"D2721","v":"MarkParent:3"},null,null,{"$f":"G2721","v":"Kwota"},null,null,"dtsf:P_ID_4/dtsf:Kwota","dtsf:RP/dtsf:KwotaB"]
[null,{"$f":"Adr_Dodatkowe & \"!$G$40\"","v":"Dodatkowe!$G$40"},null,{"$f":"$D$2527 & \"\"","v":"MarkParent"},null,"Pidx","Tekst",1,null,"dtsf:P_ID_4/dtsf:PozycjaUzytkownika","dtsf:NazwaPozycji"]
[1,{"$f":"Adr_Dodatkowe & \"!$H$40\"","v":"Dodatkowe!$H$40"},null,{"$f":"$D$2528 & \"\"","v":"MarkParent"},null,{"$f":"F2723","v":"Pidx"},{"$f":"G2723","v":"Tekst"},{"$f":"H2723","v":1},null,"dtsf:P_ID_4/dtsf:PozycjaUzytkownika","dtsf:Kwoty/dtsf:RB/dtsf:PodstawaPrawna/dtsf:Art"]
[1,{"$f":"Adr_Dodatkowe & \"!$I$40\"","v":"Dodatkowe!$I$40"},null,{"$f":"$D$2529 & \"\"","v":""},null,{"$f":"F2724","v":"Pidx"},"Tekst",1,null,"dtsf:P_ID_4/dtsf:PozycjaUzytkownika","dtsf:Kwoty/dtsf:RB/dtsf:PodstawaPrawna/dtsf:Ust"]
[1,{"$f":"Adr_Dodatkowe & \"!$J$40\"","v":"Dodatkowe!$J$40"},null,{"$f":"$D$2530 & \"\"","v":""},null,{"$f":"F2725","v":"Pidx"},"Tekst",1,null,"dtsf:P_ID_4/dtsf:PozycjaUzytkownika","dtsf:Kwoty/dtsf:RB/dtsf:PodstawaPrawna/dtsf:Pkt"]
[1,{"$f":"Adr_Dodatkowe & \"!$K$40\"","v":"Dodatkowe!$K$40"},null,{"$f":"$D$2531 & \"\"","v":""},null,{"$f":"F2726","v":"Pidx"},"Tekst",1,null,"dtsf:P_ID_4/dtsf:PozycjaUzytkownika","dtsf:Kwoty/dtsf:RB/dtsf:PodstawaPrawna/dtsf:Lit"]
[1,{"$f":"Adr_Dodatkowe & \"!$L$40\"","v":"Dodatkowe!$L$40"},null,{"$f":"$D$2532 & \"\"","v":"MarkParent:3"},null,{"$f":"F2727","v":"Pidx"},"Kwota",{"$f":"H2727","v":1},null,"dtsf:P_ID_4/dtsf:PozycjaUzytkownika","dtsf:Kwoty/dtsf:RB/dtsf:Kwota/dtsf:KwotaA"]
[1,{"$f":"Adr_Dodatkowe & \"!$M$40\"","v":"Dodatkowe!$M$40"},null,{"$f":"$D$2533 & \"\"","v":""},null,{"$f":"F2728","v":"Pidx"},"Kwota",1,null,"dtsf:P_ID_4/dtsf:PozycjaUzytkownika","dtsf:Kwoty/dtsf:RB/dtsf:Kwota/dtsf:KwotaB"]
[2,{"$f":"Adr_Dodatkowe & \"!$O$40\"","v":"Dodatkowe!$O$40"},null,{"$f":"$D$2534 & \"\"","v":"MarkParent"},null,{"$f":"F2729","v":"Pidx"},"Kwota",1,null,"dtsf:P_ID_4/dtsf:PozycjaUzytkownika","dtsf:Kwoty/dtsf:RP/dtsf:KwotaA"]
[1,{"$f":"Adr_Dodatkowe & \"!$P$40\"","v":"Dodatkowe!$P$40"},null,{"$f":"D2633 & \"\"","v":""},null,{"$f":"F2730","v":"Pidx"},"Kwota",1,null,"dtsf:P_ID_4/dtsf:PozycjaUzytkownika","dtsf:Kwoty/dtsf:RP/dtsf:KwotaB"]
[null,{"$f":"Adr_Dodatkowe & \"!$G$41\"","v":"Dodatkowe!$G$41"},null,{"$f":"D2723 & \"\"","v":"MarkParent"},null,"Pidx","Tekst",{"$f":"H2723+1","v":2},null,"dtsf:P_ID_4/dtsf:PozycjaUzytkownika","dtsf:NazwaPozycji"]
[1,{"$f":"Adr_Dodatkowe & \"!$H$41\"","v":"Dodatkowe!$H$41"},null,{"$f":"D2724 & \"\"","v":"MarkParent"},null,{"$f":"F2732","v":"Pidx"},{"$f":"G2732","v":"Tekst"},{"$f":"H2732","v":2},null,"dtsf:P_ID_4/dtsf:PozycjaUzytkownika","dtsf:Kwoty/dtsf:RB/dtsf:PodstawaPrawna/dtsf:Art"]
[1,{"$f":"Adr_Dodatkowe & \"!$I$41\"","v":"Dodatkowe!$I$41"},null,"",null,{"$f":"F2733","v":"Pidx"},"Tekst",2,null,"dtsf:P_ID_4/dtsf:PozycjaUzytkownika","dtsf:Kwoty/dtsf:RB/dtsf:PodstawaPrawna/dtsf:Ust"]
[1,{"$f":"Adr_Dodatkowe & \"!$J$41\"","v":"Dodatkowe!$J$41"},null,"",null,{"$f":"F2734","v":"Pidx"},"Tekst",2,null,"dtsf:P_ID_4/dtsf:PozycjaUzytkownika","dtsf:Kwoty/dtsf:RB/dtsf:PodstawaPrawna/dtsf:Pkt"]
[1,{"$f":"Adr_Dodatkowe & \"!$K$41\"","v":"Dodatkowe!$K$41"},null,"",null,{"$f":"F2735","v":"Pidx"},"Tekst",2,null,"dtsf:P_ID_4/dtsf:PozycjaUzytkownika","dtsf:Kwoty/dtsf:RB/dtsf:PodstawaPrawna/dtsf:Lit"]
[1,{"$f":"Adr_Dodatkowe & \"!$L$41\"","v":"Dodatkowe!$L$41"},null,"MarkParent:3",null,{"$f":"F2736","v":"Pidx"},"Kwota",{"$f":"H2736","v":2},null,"dtsf:P_ID_4/dtsf:PozycjaUzytkownika","dtsf:Kwoty/dtsf:RB/dtsf:Kwota/dtsf:KwotaA"]
[1,{"$f":"Adr_Dodatkowe & \"!$M$41\"","v":"Dodatkowe!$M$41"},null,{"$f":"D2729 & \"\"","v":""},null,{"$f":"F2737","v":"Pidx"},"Kwota",2,null,"dtsf:P_ID_4/dtsf:PozycjaUzytkownika","dtsf:Kwoty/dtsf:RB/dtsf:Kwota/dtsf:KwotaB"]
[2,{"$f":"Adr_Dodatkowe & \"!$O$41\"","v":"Dodatkowe!$O$41"},null,"MarkParent",null,{"$f":"F2738","v":"Pidx"},"Kwota",2,null,"dtsf:P_ID_4/dtsf:PozycjaUzytkownika","dtsf:Kwoty/dtsf:RP/dtsf:KwotaA"]
[1,{"$f":"Adr_Dodatkowe & \"!$P$41\"","v":"Dodatkowe!$P$41"},null,"",null,{"$f":"F2739","v":"Pidx"},"Kwota",2,null,"dtsf:P_ID_4/dtsf:PozycjaUzytkownika","dtsf:Kwoty/dtsf:RP/dtsf:KwotaB"]
[null,{"$f":"Adr_Dodatkowe & \"!$G$42\"","v":"Dodatkowe!$G$42"},null,"MarkParent",null,"Pidx","Tekst",{"$f":"H2732+1","v":3},null,"dtsf:P_ID_4/dtsf:PozycjaUzytkownika","dtsf:NazwaPozycji"]
[1,{"$f":"Adr_Dodatkowe & \"!$H$42\"","v":"Dodatkowe!$H$42"},null,{"$f":"D2733 & \"\"","v":"MarkParent"},null,{"$f":"F2741","v":"Pidx"},{"$f":"G2741","v":"Tekst"},{"$f":"H2741","v":3},null,"dtsf:P_ID_4/dtsf:PozycjaUzytkownika","dtsf:Kwoty/dtsf:RB/dtsf:PodstawaPrawna/dtsf:Art"]
[1,{"$f":"Adr_Dodatkowe & \"!$I$42\"","v":"Dodatkowe!$I$42"},null,"",null,{"$f":"F2742","v":"Pidx"},"Tekst",3,null,"dtsf:P_ID_4/dtsf:PozycjaUzytkownika","dtsf:Kwoty/dtsf:RB/dtsf:PodstawaPrawna/dtsf:Ust"]
[1,{"$f":"Adr_Dodatkowe & \"!$J$42\"","v":"Dodatkowe!$J$42"},null,"",null,{"$f":"F2743","v":"Pidx"},"Tekst",3,null,"dtsf:P_ID_4/dtsf:PozycjaUzytkownika","dtsf:Kwoty/dtsf:RB/dtsf:PodstawaPrawna/dtsf:Pkt"]
[1,{"$f":"Adr_Dodatkowe & \"!$K$42\"","v":"Dodatkowe!$K$42"},null,"",null,{"$f":"F2744","v":"Pidx"},"Tekst",3,null,"dtsf:P_ID_4/dtsf:PozycjaUzytkownika","dtsf:Kwoty/dtsf:RB/dtsf:PodstawaPrawna/dtsf:Lit"]
[1,{"$f":"Adr_Dodatkowe & \"!$L$42\"","v":"Dodatkowe!$L$42"},null,"MarkParent:3",null,{"$f":"F2745","v":"Pidx"},"Kwota",{"$f":"H2745","v":3},null,"dtsf:P_ID_4/dtsf:PozycjaUzytkownika","dtsf:Kwoty/dtsf:RB/dtsf:Kwota/dtsf:KwotaA"]
[1,{"$f":"Adr_Dodatkowe & \"!$M$42\"","v":"Dodatkowe!$M$42"},null,"",null,{"$f":"F2746","v":"Pidx"},"Kwota",3,null,"dtsf:P_ID_4/dtsf:PozycjaUzytkownika","dtsf:Kwoty/dtsf:RB/dtsf:Kwota/dtsf:KwotaB"]
[2,{"$f":"Adr_Dodatkowe & \"!$O$42\"","v":"Dodatkowe!$O$42"},null,{"$f":"D2739 & \"\"","v":"MarkParent"},null,{"$f":"F2747","v":"Pidx"},"Kwota",3,null,"dtsf:P_ID_4/dtsf:PozycjaUzytkownika","dtsf:Kwoty/dtsf:RP/dtsf:KwotaA"]
[1,{"$f":"Adr_Dodatkowe & \"!$P$42\"","v":"Dodatkowe!$P$42"},null,{"$f":"D2740 & \"\"","v":""},null,{"$f":"F2748","v":"Pidx"},"Kwota",3,null,"dtsf:P_ID_4/dtsf:PozycjaUzytkownika","dtsf:Kwoty/dtsf:RP/dtsf:KwotaB"]
[null,{"$f":"Adr_Dodatkowe & \"!$G$43\"","v":"Dodatkowe!$G$43"},null,{"$f":"D2741 & \"\"","v":"MarkParent"},null,"Pidx","Tekst",{"$f":"H2741+1","v":4},null,"dtsf:P_ID_4/dtsf:PozycjaUzytkownika","dtsf:NazwaPozycji"]
[1,{"$f":"Adr_Dodatkowe & \"!$H$43\"","v":"Dodatkowe!$H$43"},null,"MarkParent",null,{"$f":"F2750","v":"Pidx"},{"$f":"G2750","v":"Tekst"},{"$f":"H2750","v":4},null,"dtsf:P_ID_4/dtsf:PozycjaUzytkownika","dtsf:Kwoty/dtsf:RB/dtsf:PodstawaPrawna/dtsf:Art"]
[1,{"$f":"Adr_Dodatkowe & \"!$I$43\"","v":"Dodatkowe!$I$43"},null,"",null,{"$f":"F2751","v":"Pidx"},"Tekst",4,null,"dtsf:P_ID_4/dtsf:PozycjaUzytkownika","dtsf:Kwoty/dtsf:RB/dtsf:PodstawaPrawna/dtsf:Ust"]
[1,{"$f":"Adr_Dodatkowe & \"!$J$43\"","v":"Dodatkowe!$J$43"},null,"",null,{"$f":"F2752","v":"Pidx"},"Tekst",4,null,"dtsf:P_ID_4/dtsf:PozycjaUzytkownika","dtsf:Kwoty/dtsf:RB/dtsf:PodstawaPrawna/dtsf:Pkt"]
[1,{"$f":"Adr_Dodatkowe & \"!$K$43\"","v":"Dodatkowe!$K$43"},null,"",null,{"$f":"F2753","v":"Pidx"},"Tekst",4,null,"dtsf:P_ID_4/dtsf:PozycjaUzytkownika","dtsf:Kwoty/dtsf:RB/dtsf:PodstawaPrawna/dtsf:Lit"]
[1,{"$f":"Adr_Dodatkowe & \"!$L$43\"","v":"Dodatkowe!$L$43"},null,{"$f":"D2746 & \"\"","v":"MarkParent:3"},null,{"$f":"F2754","v":"Pidx"},"Kwota",{"$f":"H2754","v":4},null,"dtsf:P_ID_4/dtsf:PozycjaUzytkownika","dtsf:Kwoty/dtsf:RB/dtsf:Kwota/dtsf:KwotaA"]
[1,{"$f":"Adr_Dodatkowe & \"!$M$43\"","v":"Dodatkowe!$M$43"},null,"",null,{"$f":"F2755","v":"Pidx"},"Kwota",4,null,"dtsf:P_ID_4/dtsf:PozycjaUzytkownika","dtsf:Kwoty/dtsf:RB/dtsf:Kwota/dtsf:KwotaB"]
[2,{"$f":"Adr_Dodatkowe & \"!$O$43\"","v":"Dodatkowe!$O$43"},null,"MarkParent",null,{"$f":"F2756","v":"Pidx"},"Kwota",4,null,"dtsf:P_ID_4/dtsf:PozycjaUzytkownika","dtsf:Kwoty/dtsf:RP/dtsf:KwotaA"]
[1,{"$f":"Adr_Dodatkowe & \"!$P$43\"","v":"Dodatkowe!$P$43"},null,"",null,{"$f":"F2757","v":"Pidx"},"Kwota",4,null,"dtsf:P_ID_4/dtsf:PozycjaUzytkownika","dtsf:Kwoty/dtsf:RP/dtsf:KwotaB"]
[null,{"$f":"Adr_Dodatkowe & \"!$G$44\"","v":"Dodatkowe!$G$44"},null,{"$f":"D2750 & \"\"","v":"MarkParent"},null,"Pidx","Tekst",{"$f":"H2750+1","v":5},null,"dtsf:P_ID_4/dtsf:PozycjaUzytkownika","dtsf:NazwaPozycji"]
[1,{"$f":"Adr_Dodatkowe & \"!$H$44\"","v":"Dodatkowe!$H$44"},null,{"$f":"D2751 & \"\"","v":"MarkParent"},null,{"$f":"F2759","v":"Pidx"},{"$f":"G2759","v":"Tekst"},{"$f":"H2759","v":5},null,"dtsf:P_ID_4/dtsf:PozycjaUzytkownika","dtsf:Kwoty/dtsf:RB/dtsf:PodstawaPrawna/dtsf:Art"]
[1,{"$f":"Adr_Dodatkowe & \"!$I$44\"","v":"Dodatkowe!$I$44"},null,"",null,{"$f":"F2760","v":"Pidx"},"Tekst",5,null,"dtsf:P_ID_4/dtsf:PozycjaUzytkownika","dtsf:Kwoty/dtsf:RB/dtsf:PodstawaPrawna/dtsf:Ust"]
[1,{"$f":"Adr_Dodatkowe & \"!$J$44\"","v":"Dodatkowe!$J$44"},null,"",null,{"$f":"F2761","v":"Pidx"},"Tekst",5,null,"dtsf:P_ID_4/dtsf:PozycjaUzytkownika","dtsf:Kwoty/dtsf:RB/dtsf:PodstawaPrawna/dtsf:Pkt"]
[1,{"$f":"Adr_Dodatkowe & \"!$K$44\"","v":"Dodatkowe!$K$44"},null,"",null,{"$f":"F2762","v":"Pidx"},"Tekst",5,null,"dtsf:P_ID_4/dtsf:PozycjaUzytkownika","dtsf:Kwoty/dtsf:RB/dtsf:PodstawaPrawna/dtsf:Lit"]
[1,{"$f":"Adr_Dodatkowe & \"!$L$44\"","v":"Dodatkowe!$L$44"},null,"MarkParent:3",null,{"$f":"F2763","v":"Pidx"},"Kwota",{"$f":"H2763","v":5},null,"dtsf:P_ID_4/dtsf:PozycjaUzytkownika","dtsf:Kwoty/dtsf:RB/dtsf:Kwota/dtsf:KwotaA"]
[1,{"$f":"Adr_Dodatkowe & \"!$M$44\"","v":"Dodatkowe!$M$44"},null,{"$f":"D2756 & \"\"","v":""},null,{"$f":"F2764","v":"Pidx"},"Kwota",5,null,"dtsf:P_ID_4/dtsf:PozycjaUzytkownika","dtsf:Kwoty/dtsf:RB/dtsf:Kwota/dtsf:KwotaB"]
[2,{"$f":"Adr_Dodatkowe & \"!$O$44\"","v":"Dodatkowe!$O$44"},null,"MarkParent",null,{"$f":"F2765","v":"Pidx"},"Kwota",5,null,"dtsf:P_ID_4/dtsf:PozycjaUzytkownika","dtsf:Kwoty/dtsf:RP/dtsf:KwotaA"]
[1,{"$f":"Adr_Dodatkowe & \"!$P$44\"","v":"Dodatkowe!$P$44"},null,"",null,{"$f":"F2766","v":"Pidx"},"Kwota",5,null,"dtsf:P_ID_4/dtsf:PozycjaUzytkownika","dtsf:Kwoty/dtsf:RP/dtsf:KwotaB"]
[null,{"$f":"Adr_Dodatkowe & \"!$G$45\"","v":"Dodatkowe!$G$45"},null,{"$f":"D2759 & \"\"","v":"MarkParent"},null,"Pidx","Tekst",{"$f":"H2759+1","v":6},null,"dtsf:P_ID_4/dtsf:PozycjaUzytkownika","dtsf:NazwaPozycji"]
[1,{"$f":"Adr_Dodatkowe & \"!$H$45\"","v":"Dodatkowe!$H$45"},null,"MarkParent",null,{"$f":"F2768","v":"Pidx"},{"$f":"G2768","v":"Tekst"},{"$f":"H2768","v":6},null,"dtsf:P_ID_4/dtsf:PozycjaUzytkownika","dtsf:Kwoty/dtsf:RB/dtsf:PodstawaPrawna/dtsf:Art"]
[1,{"$f":"Adr_Dodatkowe & \"!$I$45\"","v":"Dodatkowe!$I$45"},null,"",null,{"$f":"F2769","v":"Pidx"},"Tekst",6,null,"dtsf:P_ID_4/dtsf:PozycjaUzytkownika","dtsf:Kwoty/dtsf:RB/dtsf:PodstawaPrawna/dtsf:Ust"]
[1,{"$f":"Adr_Dodatkowe & \"!$J$45\"","v":"Dodatkowe!$J$45"},null,"",null,{"$f":"F2770","v":"Pidx"},"Tekst",6,null,"dtsf:P_ID_4/dtsf:PozycjaUzytkownika","dtsf:Kwoty/dtsf:RB/dtsf:PodstawaPrawna/dtsf:Pkt"]
[1,{"$f":"Adr_Dodatkowe & \"!$K$45\"","v":"Dodatkowe!$K$45"},null,"",null,{"$f":"F2771","v":"Pidx"},"Tekst",6,null,"dtsf:P_ID_4/dtsf:PozycjaUzytkownika","dtsf:Kwoty/dtsf:RB/dtsf:PodstawaPrawna/dtsf:Lit"]
[1,{"$f":"Adr_Dodatkowe & \"!$L$45\"","v":"Dodatkowe!$L$45"},null,"MarkParent:3",null,"Pidx","Kwota",6,null,"dtsf:P_ID_4/dtsf:PozycjaUzytkownika","dtsf:Kwoty/dtsf:RB/dtsf:Kwota/dtsf:KwotaA"]
[1,{"$f":"Adr_Dodatkowe & \"!$M$45\"","v":"Dodatkowe!$M$45"},null,{"$f":"D2765 & \"\"","v":""},null,{"$f":"F2773","v":"Pidx"},"Kwota",6,null,"dtsf:P_ID_4/dtsf:PozycjaUzytkownika","dtsf:Kwoty/dtsf:RB/dtsf:Kwota/dtsf:KwotaB"]
[2,{"$f":"Adr_Dodatkowe & \"!$O$45\"","v":"Dodatkowe!$O$45"},null,"MarkParent",null,{"$f":"F2774","v":"Pidx"},"Kwota",6,null,"dtsf:P_ID_4/dtsf:PozycjaUzytkownika","dtsf:Kwoty/dtsf:RP/dtsf:KwotaA"]
[1,{"$f":"Adr_Dodatkowe & \"!$P$45\"","v":"Dodatkowe!$P$45"},null,"",null,{"$f":"F2775","v":"Pidx"},"Kwota",6,null,"dtsf:P_ID_4/dtsf:PozycjaUzytkownika","dtsf:Kwoty/dtsf:RP/dtsf:KwotaB"]
[null,{"$f":"Adr_Dodatkowe & \"!$G$46\"","v":"Dodatkowe!$G$46"},null,{"$f":"D2768 & \"\"","v":"MarkParent"},null,"Pidx","Tekst",{"$f":"H2768+1","v":7},null,"dtsf:P_ID_4/dtsf:PozycjaUzytkownika","dtsf:NazwaPozycji"]
[1,{"$f":"Adr_Dodatkowe & \"!$H$46\"","v":"Dodatkowe!$H$46"},null,"MarkParent",null,{"$f":"F2777","v":"Pidx"},{"$f":"G2777","v":"Tekst"},{"$f":"H2777","v":7},null,"dtsf:P_ID_4/dtsf:PozycjaUzytkownika","dtsf:Kwoty/dtsf:RB/dtsf:PodstawaPrawna/dtsf:Art"]
[1,{"$f":"Adr_Dodatkowe & \"!$I$46\"","v":"Dodatkowe!$I$46"},null,"",null,{"$f":"F2778","v":"Pidx"},"Tekst",7,null,"dtsf:P_ID_4/dtsf:PozycjaUzytkownika","dtsf:Kwoty/dtsf:RB/dtsf:PodstawaPrawna/dtsf:Ust"]
[1,{"$f":"Adr_Dodatkowe & \"!$J$46\"","v":"Dodatkowe!$J$46"},null,"",null,{"$f":"F2779","v":"Pidx"},"Tekst",7,null,"dtsf:P_ID_4/dtsf:PozycjaUzytkownika","dtsf:Kwoty/dtsf:RB/dtsf:PodstawaPrawna/dtsf:Pkt"]
[1,{"$f":"Adr_Dodatkowe & \"!$K$46\"","v":"Dodatkowe!$K$46"},null,"",null,{"$f":"F2780","v":"Pidx"},"Tekst",7,null,"dtsf:P_ID_4/dtsf:PozycjaUzytkownika","dtsf:Kwoty/dtsf:RB/dtsf:PodstawaPrawna/dtsf:Lit"]
[1,{"$f":"Adr_Dodatkowe & \"!$L$46\"","v":"Dodatkowe!$L$46"},null,"MarkParent:3",null,{"$f":"F2781","v":"Pidx"},"Kwota",{"$f":"H2781","v":7},null,"dtsf:P_ID_4/dtsf:PozycjaUzytkownika","dtsf:Kwoty/dtsf:RB/dtsf:Kwota/dtsf:KwotaA"]
[1,{"$f":"Adr_Dodatkowe & \"!$M$46\"","v":"Dodatkowe!$M$46"},null,{"$f":"D2774 & \"\"","v":""},null,{"$f":"F2782","v":"Pidx"},"Kwota",7,null,"dtsf:P_ID_4/dtsf:PozycjaUzytkownika","dtsf:Kwoty/dtsf:RB/dtsf:Kwota/dtsf:KwotaB"]
[2,{"$f":"Adr_Dodatkowe & \"!$O$46\"","v":"Dodatkowe!$O$46"},null,"MarkParent",null,{"$f":"F2783","v":"Pidx"},"Kwota",7,null,"dtsf:P_ID_4/dtsf:PozycjaUzytkownika","dtsf:Kwoty/dtsf:RP/dtsf:KwotaA"]
[1,{"$f":"Adr_Dodatkowe & \"!$P$46\"","v":"Dodatkowe!$P$46"},null,"",null,{"$f":"F2784","v":"Pidx"},"Kwota",7,null,"dtsf:P_ID_4/dtsf:PozycjaUzytkownika","dtsf:Kwoty/dtsf:RP/dtsf:KwotaB"]
[null,{"$f":"Adr_Dodatkowe & \"!$G$47\"","v":"Dodatkowe!$G$47"},null,{"$f":"D2777 & \"\"","v":"MarkParent"},null,"Pidx","Tekst",{"$f":"H2777+1","v":8},null,"dtsf:P_ID_4/dtsf:PozycjaUzytkownika","dtsf:NazwaPozycji"]
[1,{"$f":"Adr_Dodatkowe & \"!$H$47\"","v":"Dodatkowe!$H$47"},null,"MarkParent",null,{"$f":"F2786","v":"Pidx"},{"$f":"G2786","v":"Tekst"},{"$f":"H2786","v":8},null,"dtsf:P_ID_4/dtsf:PozycjaUzytkownika","dtsf:Kwoty/dtsf:RB/dtsf:PodstawaPrawna/dtsf:Art"]
[1,{"$f":"Adr_Dodatkowe & \"!$I$47\"","v":"Dodatkowe!$I$47"},null,"",null,{"$f":"F2787","v":"Pidx"},"Tekst",8,null,"dtsf:P_ID_4/dtsf:PozycjaUzytkownika","dtsf:Kwoty/dtsf:RB/dtsf:PodstawaPrawna/dtsf:Ust"]
[1,{"$f":"Adr_Dodatkowe & \"!$J$47\"","v":"Dodatkowe!$J$47"},null,"",null,{"$f":"F2788","v":"Pidx"},"Tekst",8,null,"dtsf:P_ID_4/dtsf:PozycjaUzytkownika","dtsf:Kwoty/dtsf:RB/dtsf:PodstawaPrawna/dtsf:Pkt"]
[1,{"$f":"Adr_Dodatkowe & \"!$K$47\"","v":"Dodatkowe!$K$47"},null,"",null,{"$f":"F2789","v":"Pidx"},"Tekst",8,null,"dtsf:P_ID_4/dtsf:PozycjaUzytkownika","dtsf:Kwoty/dtsf:RB/dtsf:PodstawaPrawna/dtsf:Lit"]
[1,{"$f":"Adr_Dodatkowe & \"!$L$47\"","v":"Dodatkowe!$L$47"},null,"MarkParent:3",null,{"$f":"F2790","v":"Pidx"},"Kwota",{"$f":"H2790","v":8},null,"dtsf:P_ID_4/dtsf:PozycjaUzytkownika","dtsf:Kwoty/dtsf:RB/dtsf:Kwota/dtsf:KwotaA"]
[1,{"$f":"Adr_Dodatkowe & \"!$M$47\"","v":"Dodatkowe!$M$47"},null,{"$f":"D2783 & \"\"","v":""},null,{"$f":"F2791","v":"Pidx"},"Kwota",8,null,"dtsf:P_ID_4/dtsf:PozycjaUzytkownika","dtsf:Kwoty/dtsf:RB/dtsf:Kwota/dtsf:KwotaB"]
[2,{"$f":"Adr_Dodatkowe & \"!$O$47\"","v":"Dodatkowe!$O$47"},null,"MarkParent",null,{"$f":"F2792","v":"Pidx"},"Kwota",8,null,"dtsf:P_ID_4/dtsf:PozycjaUzytkownika","dtsf:Kwoty/dtsf:RP/dtsf:KwotaA"]
[1,{"$f":"Adr_Dodatkowe & \"!$P$47\"","v":"Dodatkowe!$P$47"},null,"",null,{"$f":"F2793","v":"Pidx"},"Kwota",8,null,"dtsf:P_ID_4/dtsf:PozycjaUzytkownika","dtsf:Kwoty/dtsf:RP/dtsf:KwotaB"]
[null,{"$f":"Adr_Dodatkowe & \"!$G$48\"","v":"Dodatkowe!$G$48"},null,{"$f":"D2786 & \"\"","v":"MarkParent"},null,"Pidx","Tekst",{"$f":"H2786+1","v":9},null,"dtsf:P_ID_4/dtsf:PozycjaUzytkownika","dtsf:NazwaPozycji"]
[1,{"$f":"Adr_Dodatkowe & \"!$H$48\"","v":"Dodatkowe!$H$48"},null,"MarkParent",null,{"$f":"F2795","v":"Pidx"},{"$f":"G2795","v":"Tekst"},{"$f":"H2795","v":9},null,"dtsf:P_ID_4/dtsf:PozycjaUzytkownika","dtsf:Kwoty/dtsf:RB/dtsf:PodstawaPrawna/dtsf:Art"]
[1,{"$f":"Adr_Dodatkowe & \"!$I$48\"","v":"Dodatkowe!$I$48"},null,"",null,{"$f":"F2796","v":"Pidx"},"Tekst",9,null,"dtsf:P_ID_4/dtsf:PozycjaUzytkownika","dtsf:Kwoty/dtsf:RB/dtsf:PodstawaPrawna/dtsf:Ust"]
[1,{"$f":"Adr_Dodatkowe & \"!$J$48\"","v":"Dodatkowe!$J$48"},null,"",null,{"$f":"F2797","v":"Pidx"},"Tekst",9,null,"dtsf:P_ID_4/dtsf:PozycjaUzytkownika","dtsf:Kwoty/dtsf:RB/dtsf:PodstawaPrawna/dtsf:Pkt"]
[1,{"$f":"Adr_Dodatkowe & \"!$K$48\"","v":"Dodatkowe!$K$48"},null,"",null,{"$f":"F2798","v":"Pidx"},"Tekst",9,null,"dtsf:P_ID_4/dtsf:PozycjaUzytkownika","dtsf:Kwoty/dtsf:RB/dtsf:PodstawaPrawna/dtsf:Lit"]
[1,{"$f":"Adr_Dodatkowe & \"!$L$48\"","v":"Dodatkowe!$L$48"},null,"MarkParent:3",null,{"$f":"F2799","v":"Pidx"},"Kwota",{"$f":"H2799","v":9},null,"dtsf:P_ID_4/dtsf:PozycjaUzytkownika","dtsf:Kwoty/dtsf:RB/dtsf:Kwota/dtsf:KwotaA"]
[1,{"$f":"Adr_Dodatkowe & \"!$M$48\"","v":"Dodatkowe!$M$48"},null,{"$f":"D2792 & \"\"","v":""},null,{"$f":"F2800","v":"Pidx"},"Kwota",9,null,"dtsf:P_ID_4/dtsf:PozycjaUzytkownika","dtsf:Kwoty/dtsf:RB/dtsf:Kwota/dtsf:KwotaB"]
[2,{"$f":"Adr_Dodatkowe & \"!$O$48\"","v":"Dodatkowe!$O$48"},null,"MarkParent",null,{"$f":"F2801","v":"Pidx"},"Kwota",9,null,"dtsf:P_ID_4/dtsf:PozycjaUzytkownika","dtsf:Kwoty/dtsf:RP/dtsf:KwotaA"]
[1,{"$f":"Adr_Dodatkowe & \"!$P$48\"","v":"Dodatkowe!$P$48"},null,"",null,{"$f":"F2802","v":"Pidx"},"Kwota",9,null,"dtsf:P_ID_4/dtsf:PozycjaUzytkownika","dtsf:Kwoty/dtsf:RP/dtsf:KwotaB"]
[null,{"$f":"Adr_Dodatkowe & \"!$G$49\"","v":"Dodatkowe!$G$49"},null,{"$f":"D2795 & \"\"","v":"MarkParent"},null,"Pidx","Tekst",{"$f":"H2795+1","v":10},null,"dtsf:P_ID_4/dtsf:PozycjaUzytkownika","dtsf:NazwaPozycji"]
[1,{"$f":"Adr_Dodatkowe & \"!$H$49\"","v":"Dodatkowe!$H$49"},null,"MarkParent",null,{"$f":"F2804","v":"Pidx"},{"$f":"G2804","v":"Tekst"},{"$f":"H2804","v":10},null,"dtsf:P_ID_4/dtsf:PozycjaUzytkownika","dtsf:Kwoty/dtsf:RB/dtsf:PodstawaPrawna/dtsf:Art"]
[1,{"$f":"Adr_Dodatkowe & \"!$I$49\"","v":"Dodatkowe!$I$49"},null,"",null,{"$f":"F2805","v":"Pidx"},"Tekst",10,null,"dtsf:P_ID_4/dtsf:PozycjaUzytkownika","dtsf:Kwoty/dtsf:RB/dtsf:PodstawaPrawna/dtsf:Ust"]
[1,{"$f":"Adr_Dodatkowe & \"!$J$49\"","v":"Dodatkowe!$J$49"},null,"",null,{"$f":"F2806","v":"Pidx"},"Tekst",10,null,"dtsf:P_ID_4/dtsf:PozycjaUzytkownika","dtsf:Kwoty/dtsf:RB/dtsf:PodstawaPrawna/dtsf:Pkt"]
[1,{"$f":"Adr_Dodatkowe & \"!$K$49\"","v":"Dodatkowe!$K$49"},null,"",null,{"$f":"F2807","v":"Pidx"},"Tekst",10,null,"dtsf:P_ID_4/dtsf:PozycjaUzytkownika","dtsf:Kwoty/dtsf:RB/dtsf:PodstawaPrawna/dtsf:Lit"]
[1,{"$f":"Adr_Dodatkowe & \"!$L$49\"","v":"Dodatkowe!$L$49"},null,"MarkParent:3",null,{"$f":"F2808","v":"Pidx"},"Kwota",{"$f":"H2808","v":10},null,"dtsf:P_ID_4/dtsf:PozycjaUzytkownika","dtsf:Kwoty/dtsf:RB/dtsf:Kwota/dtsf:KwotaA"]
[1,{"$f":"Adr_Dodatkowe & \"!$M$49\"","v":"Dodatkowe!$M$49"},null,{"$f":"D2801 & \"\"","v":""},null,{"$f":"F2809","v":"Pidx"},"Kwota",10,null,"dtsf:P_ID_4/dtsf:PozycjaUzytkownika","dtsf:Kwoty/dtsf:RB/dtsf:Kwota/dtsf:KwotaB"]
[2,{"$f":"Adr_Dodatkowe & \"!$O$49\"","v":"Dodatkowe!$O$49"},null,"MarkParent",null,{"$f":"F2810","v":"Pidx"},"Kwota",10,null,"dtsf:P_ID_4/dtsf:PozycjaUzytkownika","dtsf:Kwoty/dtsf:RP/dtsf:KwotaA"]
[1,{"$f":"Adr_Dodatkowe & \"!$P$49\"","v":"Dodatkowe!$P$49"},null,"",null,{"$f":"F2811","v":"Pidx"},"Kwota",10,null,"dtsf:P_ID_4/dtsf:PozycjaUzytkownika","dtsf:Kwoty/dtsf:RP/dtsf:KwotaB"]
[null,{"$f":"Adr_Dodatkowe & \"!$L$50\"","v":"Dodatkowe!$L$50"},null,"ExportOnly",null,null,"Kwota",null,null,"dtsf:P_ID_4/dtsf:Pozostale","dtsf:RB/dtsf:KwotaA"]
[1,{"$f":"Adr_Dodatkowe & \"!$M$50\"","v":"Dodatkowe!$M$50"},null,"ExportOnly",null,null,{"$f":"G2813","v":"Kwota"},null,null,"dtsf:P_ID_4/dtsf:Pozostale","dtsf:RB/dtsf:KwotaB"]
[2,{"$f":"Adr_Dodatkowe & \"!$O$50\"","v":"Dodatkowe!$O$50"},null,"ExportOnly",null,null,"Kwota",null,null,"dtsf:P_ID_4/dtsf:Pozostale","dtsf:RP/dtsf:KwotaA"]
[1,{"$f":"Adr_Dodatkowe & \"!$P$50\"","v":"Dodatkowe!$P$50"},null,"ExportOnly",null,null,"Kwota",null,null,"dtsf:P_ID_4/dtsf:Pozostale","dtsf:RP/dtsf:KwotaB"]
[null,{"$f":"Adr_Dodatkowe & \"!$L$52\"","v":"Dodatkowe!$L$52"},null,"MarkParent:3",null,null,"Kwota",null,null,"dtsf:P_ID_5/dtsf:Kwota","dtsf:RB/dtsf:KwotaA"]
[null,{"$f":"Adr_Dodatkowe & \"!$M$52\"","v":"Dodatkowe!$M$52"},null,{"$f":"D2817","v":"MarkParent:3"},null,null,{"$f":"G2817","v":"Kwota"},null,null,"dtsf:P_ID_5/dtsf:Kwota","dtsf:RB/dtsf:KwotaB"]
[null,{"$f":"Adr_Dodatkowe & \"!$O$52\"","v":"Dodatkowe!$O$52"},null,"MarkParent:3",null,null,"Kwota",null,null,"dtsf:P_ID_5/dtsf:Kwota","dtsf:RP/dtsf:KwotaA"]
[null,{"$f":"Adr_Dodatkowe & \"!$P$52\"","v":"Dodatkowe!$P$52"},null,{"$f":"D2819","v":"MarkParent:3"},null,null,{"$f":"G2819","v":"Kwota"},null,null,"dtsf:P_ID_5/dtsf:Kwota","dtsf:RP/dtsf:KwotaB"]
[null,{"$f":"Adr_Dodatkowe & \"!$G$54\"","v":"Dodatkowe!$G$54"},null,{"$f":"$D$2527 & \"\"","v":"MarkParent"},null,"Pidx","Tekst",1,null,"dtsf:P_ID_5/dtsf:PozycjaUzytkownika","dtsf:NazwaPozycji"]
[1,{"$f":"Adr_Dodatkowe & \"!$H$54\"","v":"Dodatkowe!$H$54"},null,{"$f":"$D$2528 & \"\"","v":"MarkParent"},null,{"$f":"F2821","v":"Pidx"},{"$f":"G2821","v":"Tekst"},{"$f":"H2821","v":1},null,"dtsf:P_ID_5/dtsf:PozycjaUzytkownika","dtsf:Kwoty/dtsf:RB/dtsf:PodstawaPrawna/dtsf:Art"]
[1,{"$f":"Adr_Dodatkowe & \"!$I$54\"","v":"Dodatkowe!$I$54"},null,{"$f":"$D$2529 & \"\"","v":""},null,{"$f":"F2822","v":"Pidx"},"Tekst",1,null,"dtsf:P_ID_5/dtsf:PozycjaUzytkownika","dtsf:Kwoty/dtsf:RB/dtsf:PodstawaPrawna/dtsf:Ust"]
[1,{"$f":"Adr_Dodatkowe & \"!$J$54\"","v":"Dodatkowe!$J$54"},null,{"$f":"$D$2530 & \"\"","v":""},null,{"$f":"F2823","v":"Pidx"},"Tekst",1,null,"dtsf:P_ID_5/dtsf:PozycjaUzytkownika","dtsf:Kwoty/dtsf:RB/dtsf:PodstawaPrawna/dtsf:Pkt"]
[1,{"$f":"Adr_Dodatkowe & \"!$K$54\"","v":"Dodatkowe!$K$54"},null,{"$f":"$D$2531 & \"\"","v":""},null,{"$f":"F2824","v":"Pidx"},"Tekst",1,null,"dtsf:P_ID_5/dtsf:PozycjaUzytkownika","dtsf:Kwoty/dtsf:RB/dtsf:PodstawaPrawna/dtsf:Lit"]
[1,{"$f":"Adr_Dodatkowe & \"!$L$54\"","v":"Dodatkowe!$L$54"},null,{"$f":"$D$2532 & \"\"","v":"MarkParent:3"},null,{"$f":"F2825","v":"Pidx"},"Kwota",{"$f":"H2825","v":1},null,"dtsf:P_ID_5/dtsf:PozycjaUzytkownika","dtsf:Kwoty/dtsf:RB/dtsf:Kwota/dtsf:KwotaA"]
[1,{"$f":"Adr_Dodatkowe & \"!$M$54\"","v":"Dodatkowe!$M$54"},null,{"$f":"$D$2533 & \"\"","v":""},null,{"$f":"F2826","v":"Pidx"},"Kwota",1,null,"dtsf:P_ID_5/dtsf:PozycjaUzytkownika","dtsf:Kwoty/dtsf:RB/dtsf:Kwota/dtsf:KwotaB"]
[2,{"$f":"Adr_Dodatkowe & \"!$O$54\"","v":"Dodatkowe!$O$54"},null,{"$f":"$D$2534 & \"\"","v":"MarkParent"},null,{"$f":"F2827","v":"Pidx"},"Kwota",1,null,"dtsf:P_ID_5/dtsf:PozycjaUzytkownika","dtsf:Kwoty/dtsf:RP/dtsf:KwotaA"]
[1,{"$f":"Adr_Dodatkowe & \"!$P$54\"","v":"Dodatkowe!$P$54"},null,null,null,{"$f":"F2828","v":"Pidx"},"Kwota",1,null,"dtsf:P_ID_5/dtsf:PozycjaUzytkownika","dtsf:Kwoty/dtsf:RP/dtsf:KwotaB"]
[null,{"$f":"Adr_Dodatkowe & \"!$G$55\"","v":"Dodatkowe!$G$55"},null,{"$f":"D2821 & \"\"","v":"MarkParent"},null,"Pidx","Tekst",{"$f":"H2821+1","v":2},null,"dtsf:P_ID_5/dtsf:PozycjaUzytkownika","dtsf:NazwaPozycji"]
[1,{"$f":"Adr_Dodatkowe & \"!$H$55\"","v":"Dodatkowe!$H$55"},null,{"$f":"D2822 & \"\"","v":"MarkParent"},null,{"$f":"F2830","v":"Pidx"},{"$f":"G2830","v":"Tekst"},{"$f":"H2830","v":2},null,"dtsf:P_ID_5/dtsf:PozycjaUzytkownika","dtsf:Kwoty/dtsf:RB/dtsf:PodstawaPrawna/dtsf:Art"]
[1,{"$f":"Adr_Dodatkowe & \"!$I$55\"","v":"Dodatkowe!$I$55"},null,"",null,{"$f":"F2831","v":"Pidx"},"Tekst",2,null,"dtsf:P_ID_5/dtsf:PozycjaUzytkownika","dtsf:Kwoty/dtsf:RB/dtsf:PodstawaPrawna/dtsf:Ust"]
[1,{"$f":"Adr_Dodatkowe & \"!$J$55\"","v":"Dodatkowe!$J$55"},null,"",null,{"$f":"F2832","v":"Pidx"},"Tekst",2,null,"dtsf:P_ID_5/dtsf:PozycjaUzytkownika","dtsf:Kwoty/dtsf:RB/dtsf:PodstawaPrawna/dtsf:Pkt"]
[1,{"$f":"Adr_Dodatkowe & \"!$K$55\"","v":"Dodatkowe!$K$55"},null,"",null,{"$f":"F2833","v":"Pidx"},"Tekst",2,null,"dtsf:P_ID_5/dtsf:PozycjaUzytkownika","dtsf:Kwoty/dtsf:RB/dtsf:PodstawaPrawna/dtsf:Lit"]
[1,{"$f":"Adr_Dodatkowe & \"!$L$55\"","v":"Dodatkowe!$L$55"},null,"MarkParent:3",null,{"$f":"F2834","v":"Pidx"},"Kwota",{"$f":"H2834","v":2},null,"dtsf:P_ID_5/dtsf:PozycjaUzytkownika","dtsf:Kwoty/dtsf:RB/dtsf:Kwota/dtsf:KwotaA"]
[1,{"$f":"Adr_Dodatkowe & \"!$M$55\"","v":"Dodatkowe!$M$55"},null,{"$f":"D2827 & \"\"","v":""},null,{"$f":"F2835","v":"Pidx"},"Kwota",2,null,"dtsf:P_ID_5/dtsf:PozycjaUzytkownika","dtsf:Kwoty/dtsf:RB/dtsf:Kwota/dtsf:KwotaB"]
[2,{"$f":"Adr_Dodatkowe & \"!$O$55\"","v":"Dodatkowe!$O$55"},null,"MarkParent",null,{"$f":"F2836","v":"Pidx"},"Kwota",2,null,"dtsf:P_ID_5/dtsf:PozycjaUzytkownika","dtsf:Kwoty/dtsf:RP/dtsf:KwotaA"]
[1,{"$f":"Adr_Dodatkowe & \"!$P$55\"","v":"Dodatkowe!$P$55"},null,"",null,{"$f":"F2837","v":"Pidx"},"Kwota",2,null,"dtsf:P_ID_5/dtsf:PozycjaUzytkownika","dtsf:Kwoty/dtsf:RP/dtsf:KwotaB"]
[null,{"$f":"Adr_Dodatkowe & \"!$G$56\"","v":"Dodatkowe!$G$56"},null,"MarkParent",null,"Pidx","Tekst",{"$f":"H2830+1","v":3},null,"dtsf:P_ID_5/dtsf:PozycjaUzytkownika","dtsf:NazwaPozycji"]
[1,{"$f":"Adr_Dodatkowe & \"!$H$56\"","v":"Dodatkowe!$H$56"},null,{"$f":"D2831 & \"\"","v":"MarkParent"},null,{"$f":"F2839","v":"Pidx"},{"$f":"G2839","v":"Tekst"},{"$f":"H2839","v":3},null,"dtsf:P_ID_5/dtsf:PozycjaUzytkownika","dtsf:Kwoty/dtsf:RB/dtsf:PodstawaPrawna/dtsf:Art"]
[1,{"$f":"Adr_Dodatkowe & \"!$I$56\"","v":"Dodatkowe!$I$56"},null,"",null,{"$f":"F2840","v":"Pidx"},"Tekst",3,null,"dtsf:P_ID_5/dtsf:PozycjaUzytkownika","dtsf:Kwoty/dtsf:RB/dtsf:PodstawaPrawna/dtsf:Ust"]
[1,{"$f":"Adr_Dodatkowe & \"!$J$56\"","v":"Dodatkowe!$J$56"},null,"",null,{"$f":"F2841","v":"Pidx"},"Tekst",3,null,"dtsf:P_ID_5/dtsf:PozycjaUzytkownika","dtsf:Kwoty/dtsf:RB/dtsf:PodstawaPrawna/dtsf:Pkt"]
[1,{"$f":"Adr_Dodatkowe & \"!$K$56\"","v":"Dodatkowe!$K$56"},null,"",null,{"$f":"F2842","v":"Pidx"},"Tekst",3,null,"dtsf:P_ID_5/dtsf:PozycjaUzytkownika","dtsf:Kwoty/dtsf:RB/dtsf:PodstawaPrawna/dtsf:Lit"]
[1,{"$f":"Adr_Dodatkowe & \"!$L$56\"","v":"Dodatkowe!$L$56"},null,"MarkParent:3",null,{"$f":"F2843","v":"Pidx"},"Kwota",{"$f":"H2843","v":3},null,"dtsf:P_ID_5/dtsf:PozycjaUzytkownika","dtsf:Kwoty/dtsf:RB/dtsf:Kwota/dtsf:KwotaA"]
[1,{"$f":"Adr_Dodatkowe & \"!$M$56\"","v":"Dodatkowe!$M$56"},null,"",null,{"$f":"F2844","v":"Pidx"},"Kwota",3,null,"dtsf:P_ID_5/dtsf:PozycjaUzytkownika","dtsf:Kwoty/dtsf:RB/dtsf:Kwota/dtsf:KwotaB"]
[2,{"$f":"Adr_Dodatkowe & \"!$O$56\"","v":"Dodatkowe!$O$56"},null,{"$f":"D2837 & \"\"","v":"MarkParent"},null,{"$f":"F2845","v":"Pidx"},"Kwota",3,null,"dtsf:P_ID_5/dtsf:PozycjaUzytkownika","dtsf:Kwoty/dtsf:RP/dtsf:KwotaA"]
[1,{"$f":"Adr_Dodatkowe & \"!$P$56\"","v":"Dodatkowe!$P$56"},null,{"$f":"D2838 & \"\"","v":""},null,{"$f":"F2846","v":"Pidx"},"Kwota",3,null,"dtsf:P_ID_5/dtsf:PozycjaUzytkownika","dtsf:Kwoty/dtsf:RP/dtsf:KwotaB"]
[null,{"$f":"Adr_Dodatkowe & \"!$G$57\"","v":"Dodatkowe!$G$57"},null,{"$f":"D2839 & \"\"","v":"MarkParent"},null,"Pidx","Tekst",{"$f":"H2839+1","v":4},null,"dtsf:P_ID_5/dtsf:PozycjaUzytkownika","dtsf:NazwaPozycji"]
[1,{"$f":"Adr_Dodatkowe & \"!$H$57\"","v":"Dodatkowe!$H$57"},null,"MarkParent",null,{"$f":"F2848","v":"Pidx"},{"$f":"G2848","v":"Tekst"},{"$f":"H2848","v":4},null,"dtsf:P_ID_5/dtsf:PozycjaUzytkownika","dtsf:Kwoty/dtsf:RB/dtsf:PodstawaPrawna/dtsf:Art"]
[1,{"$f":"Adr_Dodatkowe & \"!$I$57\"","v":"Dodatkowe!$I$57"},null,"",null,{"$f":"F2849","v":"Pidx"},"Tekst",4,null,"dtsf:P_ID_5/dtsf:PozycjaUzytkownika","dtsf:Kwoty/dtsf:RB/dtsf:PodstawaPrawna/dtsf:Ust"]
[1,{"$f":"Adr_Dodatkowe & \"!$J$57\"","v":"Dodatkowe!$J$57"},null,"",null,{"$f":"F2850","v":"Pidx"},"Tekst",4,null,"dtsf:P_ID_5/dtsf:PozycjaUzytkownika","dtsf:Kwoty/dtsf:RB/dtsf:PodstawaPrawna/dtsf:Pkt"]
[1,{"$f":"Adr_Dodatkowe & \"!$K$57\"","v":"Dodatkowe!$K$57"},null,"",null,{"$f":"F2851","v":"Pidx"},"Tekst",4,null,"dtsf:P_ID_5/dtsf:PozycjaUzytkownika","dtsf:Kwoty/dtsf:RB/dtsf:PodstawaPrawna/dtsf:Lit"]
[1,{"$f":"Adr_Dodatkowe & \"!$L$57\"","v":"Dodatkowe!$L$57"},null,{"$f":"D2844 & \"\"","v":"MarkParent:3"},null,{"$f":"F2852","v":"Pidx"},"Kwota",{"$f":"H2852","v":4},null,"dtsf:P_ID_5/dtsf:PozycjaUzytkownika","dtsf:Kwoty/dtsf:RB/dtsf:Kwota/dtsf:KwotaA"]
[1,{"$f":"Adr_Dodatkowe & \"!$M$57\"","v":"Dodatkowe!$M$57"},null,"",null,{"$f":"F2853","v":"Pidx"},"Kwota",4,null,"dtsf:P_ID_5/dtsf:PozycjaUzytkownika","dtsf:Kwoty/dtsf:RB/dtsf:Kwota/dtsf:KwotaB"]
[2,{"$f":"Adr_Dodatkowe & \"!$O$57\"","v":"Dodatkowe!$O$57"},null,"MarkParent",null,{"$f":"F2854","v":"Pidx"},"Kwota",4,null,"dtsf:P_ID_5/dtsf:PozycjaUzytkownika","dtsf:Kwoty/dtsf:RP/dtsf:KwotaA"]
[1,{"$f":"Adr_Dodatkowe & \"!$P$57\"","v":"Dodatkowe!$P$57"},null,"",null,{"$f":"F2855","v":"Pidx"},"Kwota",4,null,"dtsf:P_ID_5/dtsf:PozycjaUzytkownika","dtsf:Kwoty/dtsf:RP/dtsf:KwotaB"]
[null,{"$f":"Adr_Dodatkowe & \"!$G$58\"","v":"Dodatkowe!$G$58"},null,{"$f":"D2848 & \"\"","v":"MarkParent"},null,"Pidx","Tekst",{"$f":"H2848+1","v":5},null,"dtsf:P_ID_5/dtsf:PozycjaUzytkownika","dtsf:NazwaPozycji"]
[1,{"$f":"Adr_Dodatkowe & \"!$H$58\"","v":"Dodatkowe!$H$58"},null,{"$f":"D2849 & \"\"","v":"MarkParent"},null,{"$f":"F2857","v":"Pidx"},{"$f":"G2857","v":"Tekst"},{"$f":"H2857","v":5},null,"dtsf:P_ID_5/dtsf:PozycjaUzytkownika","dtsf:Kwoty/dtsf:RB/dtsf:PodstawaPrawna/dtsf:Art"]
[1,{"$f":"Adr_Dodatkowe & \"!$I$58\"","v":"Dodatkowe!$I$58"},null,"",null,{"$f":"F2858","v":"Pidx"},"Tekst",5,null,"dtsf:P_ID_5/dtsf:PozycjaUzytkownika","dtsf:Kwoty/dtsf:RB/dtsf:PodstawaPrawna/dtsf:Ust"]
[1,{"$f":"Adr_Dodatkowe & \"!$J$58\"","v":"Dodatkowe!$J$58"},null,"",null,{"$f":"F2859","v":"Pidx"},"Tekst",5,null,"dtsf:P_ID_5/dtsf:PozycjaUzytkownika","dtsf:Kwoty/dtsf:RB/dtsf:PodstawaPrawna/dtsf:Pkt"]
[1,{"$f":"Adr_Dodatkowe & \"!$K$58\"","v":"Dodatkowe!$K$58"},null,"",null,{"$f":"F2860","v":"Pidx"},"Tekst",5,null,"dtsf:P_ID_5/dtsf:PozycjaUzytkownika","dtsf:Kwoty/dtsf:RB/dtsf:PodstawaPrawna/dtsf:Lit"]
[1,{"$f":"Adr_Dodatkowe & \"!$L$58\"","v":"Dodatkowe!$L$58"},null,"MarkParent:3",null,{"$f":"F2861","v":"Pidx"},"Kwota",{"$f":"H2861","v":5},null,"dtsf:P_ID_5/dtsf:PozycjaUzytkownika","dtsf:Kwoty/dtsf:RB/dtsf:Kwota/dtsf:KwotaA"]
[1,{"$f":"Adr_Dodatkowe & \"!$M$58\"","v":"Dodatkowe!$M$58"},null,{"$f":"D2854 & \"\"","v":""},null,{"$f":"F2862","v":"Pidx"},"Kwota",5,null,"dtsf:P_ID_5/dtsf:PozycjaUzytkownika","dtsf:Kwoty/dtsf:RB/dtsf:Kwota/dtsf:KwotaB"]
[2,{"$f":"Adr_Dodatkowe & \"!$O$58\"","v":"Dodatkowe!$O$58"},null,"MarkParent",null,{"$f":"F2863","v":"Pidx"},"Kwota",5,null,"dtsf:P_ID_5/dtsf:PozycjaUzytkownika","dtsf:Kwoty/dtsf:RP/dtsf:KwotaA"]
[1,{"$f":"Adr_Dodatkowe & \"!$P$58\"","v":"Dodatkowe!$P$58"},null,"",null,{"$f":"F2864","v":"Pidx"},"Kwota",5,null,"dtsf:P_ID_5/dtsf:PozycjaUzytkownika","dtsf:Kwoty/dtsf:RP/dtsf:KwotaB"]
[null,{"$f":"Adr_Dodatkowe & \"!$G$59\"","v":"Dodatkowe!$G$59"},null,{"$f":"D2857 & \"\"","v":"MarkParent"},null,"Pidx","Tekst",{"$f":"H2857+1","v":6},null,"dtsf:P_ID_5/dtsf:PozycjaUzytkownika","dtsf:NazwaPozycji"]
[1,{"$f":"Adr_Dodatkowe & \"!$H$59\"","v":"Dodatkowe!$H$59"},null,"MarkParent",null,{"$f":"F2866","v":"Pidx"},{"$f":"G2866","v":"Tekst"},{"$f":"H2866","v":6},null,"dtsf:P_ID_5/dtsf:PozycjaUzytkownika","dtsf:Kwoty/dtsf:RB/dtsf:PodstawaPrawna/dtsf:Art"]
[1,{"$f":"Adr_Dodatkowe & \"!$I$59\"","v":"Dodatkowe!$I$59"},null,"",null,{"$f":"F2867","v":"Pidx"},"Tekst",6,null,"dtsf:P_ID_5/dtsf:PozycjaUzytkownika","dtsf:Kwoty/dtsf:RB/dtsf:PodstawaPrawna/dtsf:Ust"]
[1,{"$f":"Adr_Dodatkowe & \"!$J$59\"","v":"Dodatkowe!$J$59"},null,"",null,{"$f":"F2868","v":"Pidx"},"Tekst",6,null,"dtsf:P_ID_5/dtsf:PozycjaUzytkownika","dtsf:Kwoty/dtsf:RB/dtsf:PodstawaPrawna/dtsf:Pkt"]
[1,{"$f":"Adr_Dodatkowe & \"!$K$59\"","v":"Dodatkowe!$K$59"},null,"",null,{"$f":"F2869","v":"Pidx"},"Tekst",6,null,"dtsf:P_ID_5/dtsf:PozycjaUzytkownika","dtsf:Kwoty/dtsf:RB/dtsf:PodstawaPrawna/dtsf:Lit"]
[1,{"$f":"Adr_Dodatkowe & \"!$L$59\"","v":"Dodatkowe!$L$59"},null,"MarkParent:3",null,"Pidx","Kwota",6,null,"dtsf:P_ID_5/dtsf:PozycjaUzytkownika","dtsf:Kwoty/dtsf:RB/dtsf:Kwota/dtsf:KwotaA"]
[1,{"$f":"Adr_Dodatkowe & \"!$M$59\"","v":"Dodatkowe!$M$59"},null,{"$f":"D2863 & \"\"","v":""},null,{"$f":"F2871","v":"Pidx"},"Kwota",6,null,"dtsf:P_ID_5/dtsf:PozycjaUzytkownika","dtsf:Kwoty/dtsf:RB/dtsf:Kwota/dtsf:KwotaB"]
[2,{"$f":"Adr_Dodatkowe & \"!$O$59\"","v":"Dodatkowe!$O$59"},null,"MarkParent",null,{"$f":"F2872","v":"Pidx"},"Kwota",6,null,"dtsf:P_ID_5/dtsf:PozycjaUzytkownika","dtsf:Kwoty/dtsf:RP/dtsf:KwotaA"]
[1,{"$f":"Adr_Dodatkowe & \"!$P$59\"","v":"Dodatkowe!$P$59"},null,"",null,{"$f":"F2873","v":"Pidx"},"Kwota",6,null,"dtsf:P_ID_5/dtsf:PozycjaUzytkownika","dtsf:Kwoty/dtsf:RP/dtsf:KwotaB"]
[null,{"$f":"Adr_Dodatkowe & \"!$G$60\"","v":"Dodatkowe!$G$60"},null,{"$f":"D2866 & \"\"","v":"MarkParent"},null,"Pidx","Tekst",{"$f":"H2866+1","v":7},null,"dtsf:P_ID_5/dtsf:PozycjaUzytkownika","dtsf:NazwaPozycji"]
[1,{"$f":"Adr_Dodatkowe & \"!$H$60\"","v":"Dodatkowe!$H$60"},null,{"$f":"D2867 & \"\"","v":"MarkParent"},null,{"$f":"F2875","v":"Pidx"},{"$f":"G2875","v":"Tekst"},{"$f":"H2875","v":7},null,"dtsf:P_ID_5/dtsf:PozycjaUzytkownika","dtsf:Kwoty/dtsf:RB/dtsf:PodstawaPrawna/dtsf:Art"]
[1,{"$f":"Adr_Dodatkowe & \"!$I$60\"","v":"Dodatkowe!$I$60"},null,"",null,{"$f":"F2876","v":"Pidx"},"Tekst",7,null,"dtsf:P_ID_5/dtsf:PozycjaUzytkownika","dtsf:Kwoty/dtsf:RB/dtsf:PodstawaPrawna/dtsf:Ust"]
[1,{"$f":"Adr_Dodatkowe & \"!$J$60\"","v":"Dodatkowe!$J$60"},null,"",null,{"$f":"F2877","v":"Pidx"},"Tekst",7,null,"dtsf:P_ID_5/dtsf:PozycjaUzytkownika","dtsf:Kwoty/dtsf:RB/dtsf:PodstawaPrawna/dtsf:Pkt"]
[1,{"$f":"Adr_Dodatkowe & \"!$K$60\"","v":"Dodatkowe!$K$60"},null,"",null,{"$f":"F2878","v":"Pidx"},"Tekst",7,null,"dtsf:P_ID_5/dtsf:PozycjaUzytkownika","dtsf:Kwoty/dtsf:RB/dtsf:PodstawaPrawna/dtsf:Lit"]
[1,{"$f":"Adr_Dodatkowe & \"!$L$60\"","v":"Dodatkowe!$L$60"},null,"MarkParent:3",null,"Pidx","Kwota",7,null,"dtsf:P_ID_5/dtsf:PozycjaUzytkownika","dtsf:Kwoty/dtsf:RB/dtsf:Kwota/dtsf:KwotaA"]
[1,{"$f":"Adr_Dodatkowe & \"!$M$60\"","v":"Dodatkowe!$M$60"},null,{"$f":"D2872 & \"\"","v":""},null,{"$f":"F2880","v":"Pidx"},"Kwota",7,null,"dtsf:P_ID_5/dtsf:PozycjaUzytkownika","dtsf:Kwoty/dtsf:RB/dtsf:Kwota/dtsf:KwotaB"]
[2,{"$f":"Adr_Dodatkowe & \"!$O$60\"","v":"Dodatkowe!$O$60"},null,"MarkParent",null,{"$f":"F2881","v":"Pidx"},"Kwota",7,null,"dtsf:P_ID_5/dtsf:PozycjaUzytkownika","dtsf:Kwoty/dtsf:RP/dtsf:KwotaA"]
[1,{"$f":"Adr_Dodatkowe & \"!$P$60\"","v":"Dodatkowe!$P$60"},null,"",null,{"$f":"F2882","v":"Pidx"},"Kwota",7,null,"dtsf:P_ID_5/dtsf:PozycjaUzytkownika","dtsf:Kwoty/dtsf:RP/dtsf:KwotaB"]
[null,{"$f":"Adr_Dodatkowe & \"!$G$61\"","v":"Dodatkowe!$G$61"},null,"MarkParent",null,"Pidx","Tekst",{"$f":"H2875+1","v":8},null,"dtsf:P_ID_5/dtsf:PozycjaUzytkownika","dtsf:NazwaPozycji"]
[1,{"$f":"Adr_Dodatkowe & \"!$H$61\"","v":"Dodatkowe!$H$61"},null,{"$f":"D2876 & \"\"","v":"MarkParent"},null,{"$f":"F2884","v":"Pidx"},{"$f":"G2884","v":"Tekst"},{"$f":"H2884","v":8},null,"dtsf:P_ID_5/dtsf:PozycjaUzytkownika","dtsf:Kwoty/dtsf:RB/dtsf:PodstawaPrawna/dtsf:Art"]
[1,{"$f":"Adr_Dodatkowe & \"!$I$61\"","v":"Dodatkowe!$I$61"},null,"",null,{"$f":"F2885","v":"Pidx"},"Tekst",8,null,"dtsf:P_ID_5/dtsf:PozycjaUzytkownika","dtsf:Kwoty/dtsf:RB/dtsf:PodstawaPrawna/dtsf:Ust"]
[1,{"$f":"Adr_Dodatkowe & \"!$J$61\"","v":"Dodatkowe!$J$61"},null,"",null,{"$f":"F2886","v":"Pidx"},"Tekst",8,null,"dtsf:P_ID_5/dtsf:PozycjaUzytkownika","dtsf:Kwoty/dtsf:RB/dtsf:PodstawaPrawna/dtsf:Pkt"]
[1,{"$f":"Adr_Dodatkowe & \"!$K$61\"","v":"Dodatkowe!$K$61"},null,"",null,{"$f":"F2887","v":"Pidx"},"Tekst",8,null,"dtsf:P_ID_5/dtsf:PozycjaUzytkownika","dtsf:Kwoty/dtsf:RB/dtsf:PodstawaPrawna/dtsf:Lit"]
[1,{"$f":"Adr_Dodatkowe & \"!$L$61\"","v":"Dodatkowe!$L$61"},null,"MarkParent:3",null,"Pidx","Kwota",8,null,"dtsf:P_ID_5/dtsf:PozycjaUzytkownika","dtsf:Kwoty/dtsf:RB/dtsf:Kwota/dtsf:KwotaA"]
[1,{"$f":"Adr_Dodatkowe & \"!$M$61\"","v":"Dodatkowe!$M$61"},null,"",null,{"$f":"F2889","v":"Pidx"},"Kwota",8,null,"dtsf:P_ID_5/dtsf:PozycjaUzytkownika","dtsf:Kwoty/dtsf:RB/dtsf:Kwota/dtsf:KwotaB"]
[2,{"$f":"Adr_Dodatkowe & \"!$O$61\"","v":"Dodatkowe!$O$61"},null,{"$f":"D2882 & \"\"","v":"MarkParent"},null,{"$f":"F2890","v":"Pidx"},"Kwota",8,null,"dtsf:P_ID_5/dtsf:PozycjaUzytkownika","dtsf:Kwoty/dtsf:RP/dtsf:KwotaA"]
[1,{"$f":"Adr_Dodatkowe & \"!$P$61\"","v":"Dodatkowe!$P$61"},null,{"$f":"D2883 & \"\"","v":""},null,{"$f":"F2891","v":"Pidx"},"Kwota",8,null,"dtsf:P_ID_5/dtsf:PozycjaUzytkownika","dtsf:Kwoty/dtsf:RP/dtsf:KwotaB"]
[null,{"$f":"Adr_Dodatkowe & \"!$G$62\"","v":"Dodatkowe!$G$62"},null,{"$f":"D2884 & \"\"","v":"MarkParent"},null,"Pidx","Tekst",{"$f":"H2884+1","v":9},null,"dtsf:P_ID_5/dtsf:PozycjaUzytkownika","dtsf:NazwaPozycji"]
[1,{"$f":"Adr_Dodatkowe & \"!$H$62\"","v":"Dodatkowe!$H$62"},null,"MarkParent",null,{"$f":"F2893","v":"Pidx"},{"$f":"G2893","v":"Tekst"},{"$f":"H2893","v":9},null,"dtsf:P_ID_5/dtsf:PozycjaUzytkownika","dtsf:Kwoty/dtsf:RB/dtsf:PodstawaPrawna/dtsf:Art"]
[1,{"$f":"Adr_Dodatkowe & \"!$I$62\"","v":"Dodatkowe!$I$62"},null,"",null,{"$f":"F2894","v":"Pidx"},"Tekst",9,null,"dtsf:P_ID_5/dtsf:PozycjaUzytkownika","dtsf:Kwoty/dtsf:RB/dtsf:PodstawaPrawna/dtsf:Ust"]
[1,{"$f":"Adr_Dodatkowe & \"!$J$62\"","v":"Dodatkowe!$J$62"},null,"",null,{"$f":"F2895","v":"Pidx"},"Tekst",9,null,"dtsf:P_ID_5/dtsf:PozycjaUzytkownika","dtsf:Kwoty/dtsf:RB/dtsf:PodstawaPrawna/dtsf:Pkt"]
[1,{"$f":"Adr_Dodatkowe & \"!$K$62\"","v":"Dodatkowe!$K$62"},null,"",null,{"$f":"F2896","v":"Pidx"},"Tekst",9,null,"dtsf:P_ID_5/dtsf:PozycjaUzytkownika","dtsf:Kwoty/dtsf:RB/dtsf:PodstawaPrawna/dtsf:Lit"]
[1,{"$f":"Adr_Dodatkowe & \"!$L$62\"","v":"Dodatkowe!$L$62"},null,{"$f":"D2889 & \"\"","v":"MarkParent:3"},null,"Pidx","Kwota",9,null,"dtsf:P_ID_5/dtsf:PozycjaUzytkownika","dtsf:Kwoty/dtsf:RB/dtsf:Kwota/dtsf:KwotaA"]
[1,{"$f":"Adr_Dodatkowe & \"!$M$62\"","v":"Dodatkowe!$M$62"},null,"",null,{"$f":"F2898","v":"Pidx"},"Kwota",9,null,"dtsf:P_ID_5/dtsf:PozycjaUzytkownika","dtsf:Kwoty/dtsf:RB/dtsf:Kwota/dtsf:KwotaB"]
[2,{"$f":"Adr_Dodatkowe & \"!$O$62\"","v":"Dodatkowe!$O$62"},null,"MarkParent",null,{"$f":"F2899","v":"Pidx"},"Kwota",9,null,"dtsf:P_ID_5/dtsf:PozycjaUzytkownika","dtsf:Kwoty/dtsf:RP/dtsf:KwotaA"]
[1,{"$f":"Adr_Dodatkowe & \"!$P$62\"","v":"Dodatkowe!$P$62"},null,"",null,{"$f":"F2900","v":"Pidx"},"Kwota",9,null,"dtsf:P_ID_5/dtsf:PozycjaUzytkownika","dtsf:Kwoty/dtsf:RP/dtsf:KwotaB"]
[null,{"$f":"Adr_Dodatkowe & \"!$G$63\"","v":"Dodatkowe!$G$63"},null,{"$f":"D2893 & \"\"","v":"MarkParent"},null,"Pidx","Tekst",{"$f":"H2893+1","v":10},null,"dtsf:P_ID_5/dtsf:PozycjaUzytkownika","dtsf:NazwaPozycji"]
[1,{"$f":"Adr_Dodatkowe & \"!$H$63\"","v":"Dodatkowe!$H$63"},null,{"$f":"D2894 & \"\"","v":"MarkParent"},null,{"$f":"F2902","v":"Pidx"},{"$f":"G2902","v":"Tekst"},{"$f":"H2902","v":10},null,"dtsf:P_ID_5/dtsf:PozycjaUzytkownika","dtsf:Kwoty/dtsf:RB/dtsf:PodstawaPrawna/dtsf:Art"]
[1,{"$f":"Adr_Dodatkowe & \"!$I$63\"","v":"Dodatkowe!$I$63"},null,"",null,{"$f":"F2903","v":"Pidx"},"Tekst",10,null,"dtsf:P_ID_5/dtsf:PozycjaUzytkownika","dtsf:Kwoty/dtsf:RB/dtsf:PodstawaPrawna/dtsf:Ust"]
[1,{"$f":"Adr_Dodatkowe & \"!$J$63\"","v":"Dodatkowe!$J$63"},null,"",null,{"$f":"F2904","v":"Pidx"},"Tekst",10,null,"dtsf:P_ID_5/dtsf:PozycjaUzytkownika","dtsf:Kwoty/dtsf:RB/dtsf:PodstawaPrawna/dtsf:Pkt"]
[1,{"$f":"Adr_Dodatkowe & \"!$K$63\"","v":"Dodatkowe!$K$63"},null,"",null,{"$f":"F2905","v":"Pidx"},"Tekst",10,null,"dtsf:P_ID_5/dtsf:PozycjaUzytkownika","dtsf:Kwoty/dtsf:RB/dtsf:PodstawaPrawna/dtsf:Lit"]
[1,{"$f":"Adr_Dodatkowe & \"!$L$63\"","v":"Dodatkowe!$L$63"},null,"MarkParent:3",null,{"$f":"F2906","v":"Pidx"},"Kwota",{"$f":"H2906","v":10},null,"dtsf:P_ID_5/dtsf:PozycjaUzytkownika","dtsf:Kwoty/dtsf:RB/dtsf:Kwota/dtsf:KwotaA"]
[1,{"$f":"Adr_Dodatkowe & \"!$M$63\"","v":"Dodatkowe!$M$63"},null,{"$f":"D2899 & \"\"","v":""},null,{"$f":"F2907","v":"Pidx"},"Kwota",10,null,"dtsf:P_ID_5/dtsf:PozycjaUzytkownika","dtsf:Kwoty/dtsf:RB/dtsf:Kwota/dtsf:KwotaB"]
[2,{"$f":"Adr_Dodatkowe & \"!$O$63\"","v":"Dodatkowe!$O$63"},null,"MarkParent",null,{"$f":"F2908","v":"Pidx"},"Kwota",10,null,"dtsf:P_ID_5/dtsf:PozycjaUzytkownika","dtsf:Kwoty/dtsf:RP/dtsf:KwotaA"]
[1,{"$f":"Adr_Dodatkowe & \"!$P$63\"","v":"Dodatkowe!$P$63"},null,"",null,{"$f":"F2909","v":"Pidx"},"Kwota",10,null,"dtsf:P_ID_5/dtsf:PozycjaUzytkownika","dtsf:Kwoty/dtsf:RP/dtsf:KwotaB"]
[null,{"$f":"Adr_Dodatkowe & \"!$G$64\"","v":"Dodatkowe!$G$64"},null,{"$f":"D2902 & \"\"","v":"MarkParent"},null,"Pidx","Tekst",{"$f":"H2902+1","v":11},null,"dtsf:P_ID_5/dtsf:PozycjaUzytkownika","dtsf:NazwaPozycji"]
[1,{"$f":"Adr_Dodatkowe & \"!$H$64\"","v":"Dodatkowe!$H$64"},null,"MarkParent",null,{"$f":"F2911","v":"Pidx"},{"$f":"G2911","v":"Tekst"},{"$f":"H2911","v":11},null,"dtsf:P_ID_5/dtsf:PozycjaUzytkownika","dtsf:Kwoty/dtsf:RB/dtsf:PodstawaPrawna/dtsf:Art"]
[1,{"$f":"Adr_Dodatkowe & \"!$I$64\"","v":"Dodatkowe!$I$64"},null,"",null,{"$f":"F2912","v":"Pidx"},"Tekst",11,null,"dtsf:P_ID_5/dtsf:PozycjaUzytkownika","dtsf:Kwoty/dtsf:RB/dtsf:PodstawaPrawna/dtsf:Ust"]
[1,{"$f":"Adr_Dodatkowe & \"!$J$64\"","v":"Dodatkowe!$J$64"},null,"",null,{"$f":"F2913","v":"Pidx"},"Tekst",11,null,"dtsf:P_ID_5/dtsf:PozycjaUzytkownika","dtsf:Kwoty/dtsf:RB/dtsf:PodstawaPrawna/dtsf:Pkt"]
[1,{"$f":"Adr_Dodatkowe & \"!$K$64\"","v":"Dodatkowe!$K$64"},null,"",null,{"$f":"F2914","v":"Pidx"},"Tekst",11,null,"dtsf:P_ID_5/dtsf:PozycjaUzytkownika","dtsf:Kwoty/dtsf:RB/dtsf:PodstawaPrawna/dtsf:Lit"]
[1,{"$f":"Adr_Dodatkowe & \"!$L$64\"","v":"Dodatkowe!$L$64"},null,"MarkParent:3",null,{"$f":"F2915","v":"Pidx"},"Kwota",{"$f":"H2915","v":11},null,"dtsf:P_ID_5/dtsf:PozycjaUzytkownika","dtsf:Kwoty/dtsf:RB/dtsf:Kwota/dtsf:KwotaA"]
[1,{"$f":"Adr_Dodatkowe & \"!$M$64\"","v":"Dodatkowe!$M$64"},null,{"$f":"D2908 & \"\"","v":""},null,{"$f":"F2916","v":"Pidx"},"Kwota",11,null,"dtsf:P_ID_5/dtsf:PozycjaUzytkownika","dtsf:Kwoty/dtsf:RB/dtsf:Kwota/dtsf:KwotaB"]
[2,{"$f":"Adr_Dodatkowe & \"!$O$64\"","v":"Dodatkowe!$O$64"},null,"MarkParent",null,{"$f":"F2917","v":"Pidx"},"Kwota",11,null,"dtsf:P_ID_5/dtsf:PozycjaUzytkownika","dtsf:Kwoty/dtsf:RP/dtsf:KwotaA"]
[1,{"$f":"Adr_Dodatkowe & \"!$P$64\"","v":"Dodatkowe!$P$64"},null,"",null,{"$f":"F2918","v":"Pidx"},"Kwota",11,null,"dtsf:P_ID_5/dtsf:PozycjaUzytkownika","dtsf:Kwoty/dtsf:RP/dtsf:KwotaB"]
[null,{"$f":"Adr_Dodatkowe & \"!$G$65\"","v":"Dodatkowe!$G$65"},null,{"$f":"D2911 & \"\"","v":"MarkParent"},null,"Pidx","Tekst",{"$f":"H2911+1","v":12},null,"dtsf:P_ID_5/dtsf:PozycjaUzytkownika","dtsf:NazwaPozycji"]
[1,{"$f":"Adr_Dodatkowe & \"!$H$65\"","v":"Dodatkowe!$H$65"},null,{"$f":"D2912 & \"\"","v":"MarkParent"},null,{"$f":"F2920","v":"Pidx"},{"$f":"G2920","v":"Tekst"},{"$f":"H2920","v":12},null,"dtsf:P_ID_5/dtsf:PozycjaUzytkownika","dtsf:Kwoty/dtsf:RB/dtsf:PodstawaPrawna/dtsf:Art"]
[1,{"$f":"Adr_Dodatkowe & \"!$I$65\"","v":"Dodatkowe!$I$65"},null,"",null,{"$f":"F2921","v":"Pidx"},"Tekst",12,null,"dtsf:P_ID_5/dtsf:PozycjaUzytkownika","dtsf:Kwoty/dtsf:RB/dtsf:PodstawaPrawna/dtsf:Ust"]
[1,{"$f":"Adr_Dodatkowe & \"!$J$65\"","v":"Dodatkowe!$J$65"},null,"",null,{"$f":"F2922","v":"Pidx"},"Tekst",12,null,"dtsf:P_ID_5/dtsf:PozycjaUzytkownika","dtsf:Kwoty/dtsf:RB/dtsf:PodstawaPrawna/dtsf:Pkt"]
[1,{"$f":"Adr_Dodatkowe & \"!$K$65\"","v":"Dodatkowe!$K$65"},null,"",null,{"$f":"F2923","v":"Pidx"},"Tekst",12,null,"dtsf:P_ID_5/dtsf:PozycjaUzytkownika","dtsf:Kwoty/dtsf:RB/dtsf:PodstawaPrawna/dtsf:Lit"]
[1,{"$f":"Adr_Dodatkowe & \"!$L$65\"","v":"Dodatkowe!$L$65"},null,"MarkParent:3",null,{"$f":"F2924","v":"Pidx"},"Kwota",{"$f":"H2924","v":12},null,"dtsf:P_ID_5/dtsf:PozycjaUzytkownika","dtsf:Kwoty/dtsf:RB/dtsf:Kwota/dtsf:KwotaA"]
[1,{"$f":"Adr_Dodatkowe & \"!$M$65\"","v":"Dodatkowe!$M$65"},null,{"$f":"D2917 & \"\"","v":""},null,{"$f":"F2925","v":"Pidx"},"Kwota",12,null,"dtsf:P_ID_5/dtsf:PozycjaUzytkownika","dtsf:Kwoty/dtsf:RB/dtsf:Kwota/dtsf:KwotaB"]
[2,{"$f":"Adr_Dodatkowe & \"!$O$65\"","v":"Dodatkowe!$O$65"},null,"MarkParent",null,{"$f":"F2926","v":"Pidx"},"Kwota",12,null,"dtsf:P_ID_5/dtsf:PozycjaUzytkownika","dtsf:Kwoty/dtsf:RP/dtsf:KwotaA"]
[1,{"$f":"Adr_Dodatkowe & \"!$P$65\"","v":"Dodatkowe!$P$65"},null,"",null,{"$f":"F2927","v":"Pidx"},"Kwota",12,null,"dtsf:P_ID_5/dtsf:PozycjaUzytkownika","dtsf:Kwoty/dtsf:RP/dtsf:KwotaB"]
[null,{"$f":"Adr_Dodatkowe & \"!$G$66\"","v":"Dodatkowe!$G$66"},null,"MarkParent",null,"Pidx","Tekst",{"$f":"H2920+1","v":13},null,"dtsf:P_ID_5/dtsf:PozycjaUzytkownika","dtsf:NazwaPozycji"]
[1,{"$f":"Adr_Dodatkowe & \"!$H$66\"","v":"Dodatkowe!$H$66"},null,{"$f":"D2921 & \"\"","v":"MarkParent"},null,{"$f":"F2929","v":"Pidx"},{"$f":"G2929","v":"Tekst"},{"$f":"H2929","v":13},null,"dtsf:P_ID_5/dtsf:PozycjaUzytkownika","dtsf:Kwoty/dtsf:RB/dtsf:PodstawaPrawna/dtsf:Art"]
[1,{"$f":"Adr_Dodatkowe & \"!$I$66\"","v":"Dodatkowe!$I$66"},null,"",null,{"$f":"F2930","v":"Pidx"},"Tekst",13,null,"dtsf:P_ID_5/dtsf:PozycjaUzytkownika","dtsf:Kwoty/dtsf:RB/dtsf:PodstawaPrawna/dtsf:Ust"]
[1,{"$f":"Adr_Dodatkowe & \"!$J$66\"","v":"Dodatkowe!$J$66"},null,"",null,{"$f":"F2931","v":"Pidx"},"Tekst",13,null,"dtsf:P_ID_5/dtsf:PozycjaUzytkownika","dtsf:Kwoty/dtsf:RB/dtsf:PodstawaPrawna/dtsf:Pkt"]
[1,{"$f":"Adr_Dodatkowe & \"!$K$66\"","v":"Dodatkowe!$K$66"},null,"",null,{"$f":"F2932","v":"Pidx"},"Tekst",13,null,"dtsf:P_ID_5/dtsf:PozycjaUzytkownika","dtsf:Kwoty/dtsf:RB/dtsf:PodstawaPrawna/dtsf:Lit"]
[1,{"$f":"Adr_Dodatkowe & \"!$L$66\"","v":"Dodatkowe!$L$66"},null,"MarkParent:3",null,{"$f":"F2933","v":"Pidx"},"Kwota",{"$f":"H2933","v":13},null,"dtsf:P_ID_5/dtsf:PozycjaUzytkownika","dtsf:Kwoty/dtsf:RB/dtsf:Kwota/dtsf:KwotaA"]
[1,{"$f":"Adr_Dodatkowe & \"!$M$66\"","v":"Dodatkowe!$M$66"},null,"",null,{"$f":"F2934","v":"Pidx"},"Kwota",13,null,"dtsf:P_ID_5/dtsf:PozycjaUzytkownika","dtsf:Kwoty/dtsf:RB/dtsf:Kwota/dtsf:KwotaB"]
[2,{"$f":"Adr_Dodatkowe & \"!$O$66\"","v":"Dodatkowe!$O$66"},null,{"$f":"D2927 & \"\"","v":"MarkParent"},null,{"$f":"F2935","v":"Pidx"},"Kwota",13,null,"dtsf:P_ID_5/dtsf:PozycjaUzytkownika","dtsf:Kwoty/dtsf:RP/dtsf:KwotaA"]
[1,{"$f":"Adr_Dodatkowe & \"!$P$66\"","v":"Dodatkowe!$P$66"},null,{"$f":"D2928 & \"\"","v":""},null,{"$f":"F2936","v":"Pidx"},"Kwota",13,null,"dtsf:P_ID_5/dtsf:PozycjaUzytkownika","dtsf:Kwoty/dtsf:RP/dtsf:KwotaB"]
[null,{"$f":"Adr_Dodatkowe & \"!$G$67\"","v":"Dodatkowe!$G$67"},null,{"$f":"D2929 & \"\"","v":"MarkParent"},null,"Pidx","Tekst",{"$f":"H2929+1","v":14},null,"dtsf:P_ID_5/dtsf:PozycjaUzytkownika","dtsf:NazwaPozycji"]
[1,{"$f":"Adr_Dodatkowe & \"!$H$67\"","v":"Dodatkowe!$H$67"},null,"MarkParent",null,{"$f":"F2938","v":"Pidx"},{"$f":"G2938","v":"Tekst"},{"$f":"H2938","v":14},null,"dtsf:P_ID_5/dtsf:PozycjaUzytkownika","dtsf:Kwoty/dtsf:RB/dtsf:PodstawaPrawna/dtsf:Art"]
[1,{"$f":"Adr_Dodatkowe & \"!$I$67\"","v":"Dodatkowe!$I$67"},null,"",null,{"$f":"F2939","v":"Pidx"},"Tekst",14,null,"dtsf:P_ID_5/dtsf:PozycjaUzytkownika","dtsf:Kwoty/dtsf:RB/dtsf:PodstawaPrawna/dtsf:Ust"]
[1,{"$f":"Adr_Dodatkowe & \"!$J$67\"","v":"Dodatkowe!$J$67"},null,"",null,{"$f":"F2940","v":"Pidx"},"Tekst",14,null,"dtsf:P_ID_5/dtsf:PozycjaUzytkownika","dtsf:Kwoty/dtsf:RB/dtsf:PodstawaPrawna/dtsf:Pkt"]
[1,{"$f":"Adr_Dodatkowe & \"!$K$67\"","v":"Dodatkowe!$K$67"},null,"",null,{"$f":"F2941","v":"Pidx"},"Tekst",14,null,"dtsf:P_ID_5/dtsf:PozycjaUzytkownika","dtsf:Kwoty/dtsf:RB/dtsf:PodstawaPrawna/dtsf:Lit"]
[1,{"$f":"Adr_Dodatkowe & \"!$L$67\"","v":"Dodatkowe!$L$67"},null,{"$f":"D2934 & \"\"","v":"MarkParent:3"},null,{"$f":"F2942","v":"Pidx"},"Kwota",{"$f":"H2942","v":14},null,"dtsf:P_ID_5/dtsf:PozycjaUzytkownika","dtsf:Kwoty/dtsf:RB/dtsf:Kwota/dtsf:KwotaA"]
[1,{"$f":"Adr_Dodatkowe & \"!$M$67\"","v":"Dodatkowe!$M$67"},null,"",null,{"$f":"F2943","v":"Pidx"},"Kwota",14,null,"dtsf:P_ID_5/dtsf:PozycjaUzytkownika","dtsf:Kwoty/dtsf:RB/dtsf:Kwota/dtsf:KwotaB"]
[2,{"$f":"Adr_Dodatkowe & \"!$O$67\"","v":"Dodatkowe!$O$67"},null,"MarkParent",null,{"$f":"F2944","v":"Pidx"},"Kwota",14,null,"dtsf:P_ID_5/dtsf:PozycjaUzytkownika","dtsf:Kwoty/dtsf:RP/dtsf:KwotaA"]
[1,{"$f":"Adr_Dodatkowe & \"!$P$67\"","v":"Dodatkowe!$P$67"},null,"",null,{"$f":"F2945","v":"Pidx"},"Kwota",14,null,"dtsf:P_ID_5/dtsf:PozycjaUzytkownika","dtsf:Kwoty/dtsf:RP/dtsf:KwotaB"]
[null,{"$f":"Adr_Dodatkowe & \"!$G$68\"","v":"Dodatkowe!$G$68"},null,{"$f":"D2938 & \"\"","v":"MarkParent"},null,"Pidx","Tekst",{"$f":"H2938+1","v":15},null,"dtsf:P_ID_5/dtsf:PozycjaUzytkownika","dtsf:NazwaPozycji"]
[1,{"$f":"Adr_Dodatkowe & \"!$H$68\"","v":"Dodatkowe!$H$68"},null,{"$f":"D2939 & \"\"","v":"MarkParent"},null,{"$f":"F2947","v":"Pidx"},{"$f":"G2947","v":"Tekst"},{"$f":"H2947","v":15},null,"dtsf:P_ID_5/dtsf:PozycjaUzytkownika","dtsf:Kwoty/dtsf:RB/dtsf:PodstawaPrawna/dtsf:Art"]
[1,{"$f":"Adr_Dodatkowe & \"!$I$68\"","v":"Dodatkowe!$I$68"},null,"",null,{"$f":"F2948","v":"Pidx"},"Tekst",15,null,"dtsf:P_ID_5/dtsf:PozycjaUzytkownika","dtsf:Kwoty/dtsf:RB/dtsf:PodstawaPrawna/dtsf:Ust"]
[1,{"$f":"Adr_Dodatkowe & \"!$J$68\"","v":"Dodatkowe!$J$68"},null,"",null,{"$f":"F2949","v":"Pidx"},"Tekst",15,null,"dtsf:P_ID_5/dtsf:PozycjaUzytkownika","dtsf:Kwoty/dtsf:RB/dtsf:PodstawaPrawna/dtsf:Pkt"]
[1,{"$f":"Adr_Dodatkowe & \"!$K$68\"","v":"Dodatkowe!$K$68"},null,"",null,{"$f":"F2950","v":"Pidx"},"Tekst",15,null,"dtsf:P_ID_5/dtsf:PozycjaUzytkownika","dtsf:Kwoty/dtsf:RB/dtsf:PodstawaPrawna/dtsf:Lit"]
[1,{"$f":"Adr_Dodatkowe & \"!$L$68\"","v":"Dodatkowe!$L$68"},null,"MarkParent:3",null,{"$f":"F2951","v":"Pidx"},"Kwota",{"$f":"H2951","v":15},null,"dtsf:P_ID_5/dtsf:PozycjaUzytkownika","dtsf:Kwoty/dtsf:RB/dtsf:Kwota/dtsf:KwotaA"]
[1,{"$f":"Adr_Dodatkowe & \"!$M$68\"","v":"Dodatkowe!$M$68"},null,{"$f":"D2944 & \"\"","v":""},null,{"$f":"F2952","v":"Pidx"},"Kwota",15,null,"dtsf:P_ID_5/dtsf:PozycjaUzytkownika","dtsf:Kwoty/dtsf:RB/dtsf:Kwota/dtsf:KwotaB"]
[2,{"$f":"Adr_Dodatkowe & \"!$O$68\"","v":"Dodatkowe!$O$68"},null,"MarkParent",null,{"$f":"F2953","v":"Pidx"},"Kwota",15,null,"dtsf:P_ID_5/dtsf:PozycjaUzytkownika","dtsf:Kwoty/dtsf:RP/dtsf:KwotaA"]
[1,{"$f":"Adr_Dodatkowe & \"!$P$68\"","v":"Dodatkowe!$P$68"},null,"",null,{"$f":"F2954","v":"Pidx"},"Kwota",15,null,"dtsf:P_ID_5/dtsf:PozycjaUzytkownika","dtsf:Kwoty/dtsf:RP/dtsf:KwotaB"]
[null,{"$f":"Adr_Dodatkowe & \"!$G$69\"","v":"Dodatkowe!$G$69"},null,{"$f":"D2947 & \"\"","v":"MarkParent"},null,"Pidx","Tekst",{"$f":"H2947+1","v":16},null,"dtsf:P_ID_5/dtsf:PozycjaUzytkownika","dtsf:NazwaPozycji"]
[1,{"$f":"Adr_Dodatkowe & \"!$H$69\"","v":"Dodatkowe!$H$69"},null,"MarkParent",null,{"$f":"F2956","v":"Pidx"},{"$f":"G2956","v":"Tekst"},{"$f":"H2956","v":16},null,"dtsf:P_ID_5/dtsf:PozycjaUzytkownika","dtsf:Kwoty/dtsf:RB/dtsf:PodstawaPrawna/dtsf:Art"]
[1,{"$f":"Adr_Dodatkowe & \"!$I$69\"","v":"Dodatkowe!$I$69"},null,"",null,{"$f":"F2957","v":"Pidx"},"Tekst",16,null,"dtsf:P_ID_5/dtsf:PozycjaUzytkownika","dtsf:Kwoty/dtsf:RB/dtsf:PodstawaPrawna/dtsf:Ust"]
[1,{"$f":"Adr_Dodatkowe & \"!$J$69\"","v":"Dodatkowe!$J$69"},null,"",null,{"$f":"F2958","v":"Pidx"},"Tekst",16,null,"dtsf:P_ID_5/dtsf:PozycjaUzytkownika","dtsf:Kwoty/dtsf:RB/dtsf:PodstawaPrawna/dtsf:Pkt"]
[1,{"$f":"Adr_Dodatkowe & \"!$K$69\"","v":"Dodatkowe!$K$69"},null,"",null,{"$f":"F2959","v":"Pidx"},"Tekst",16,null,"dtsf:P_ID_5/dtsf:PozycjaUzytkownika","dtsf:Kwoty/dtsf:RB/dtsf:PodstawaPrawna/dtsf:Lit"]
[1,{"$f":"Adr_Dodatkowe & \"!$L$69\"","v":"Dodatkowe!$L$69"},null,"MarkParent:3",null,{"$f":"F2960","v":"Pidx"},"Kwota",{"$f":"H2960","v":16},null,"dtsf:P_ID_5/dtsf:PozycjaUzytkownika","dtsf:Kwoty/dtsf:RB/dtsf:Kwota/dtsf:KwotaA"]
[1,{"$f":"Adr_Dodatkowe & \"!$M$69\"","v":"Dodatkowe!$M$69"},null,{"$f":"D2953 & \"\"","v":""},null,{"$f":"F2961","v":"Pidx"},"Kwota",16,null,"dtsf:P_ID_5/dtsf:PozycjaUzytkownika","dtsf:Kwoty/dtsf:RB/dtsf:Kwota/dtsf:KwotaB"]
[2,{"$f":"Adr_Dodatkowe & \"!$O$69\"","v":"Dodatkowe!$O$69"},null,"MarkParent",null,{"$f":"F2962","v":"Pidx"},"Kwota",16,null,"dtsf:P_ID_5/dtsf:PozycjaUzytkownika","dtsf:Kwoty/dtsf:RP/dtsf:KwotaA"]
[1,{"$f":"Adr_Dodatkowe & \"!$P$69\"","v":"Dodatkowe!$P$69"},null,"",null,{"$f":"F2963","v":"Pidx"},"Kwota",16,null,"dtsf:P_ID_5/dtsf:PozycjaUzytkownika","dtsf:Kwoty/dtsf:RP/dtsf:KwotaB"]
[null,{"$f":"Adr_Dodatkowe & \"!$G$70\"","v":"Dodatkowe!$G$70"},null,"MarkParent",null,"Pidx","Tekst",{"$f":"H2956+1","v":17},null,"dtsf:P_ID_5/dtsf:PozycjaUzytkownika","dtsf:NazwaPozycji"]
[1,{"$f":"Adr_Dodatkowe & \"!$H$70\"","v":"Dodatkowe!$H$70"},null,"MarkParent",null,{"$f":"F2965","v":"Pidx"},{"$f":"G2965","v":"Tekst"},{"$f":"H2965","v":17},null,"dtsf:P_ID_5/dtsf:PozycjaUzytkownika","dtsf:Kwoty/dtsf:RB/dtsf:PodstawaPrawna/dtsf:Art"]
[1,{"$f":"Adr_Dodatkowe & \"!$I$70\"","v":"Dodatkowe!$I$70"},null,"",null,{"$f":"F2966","v":"Pidx"},"Tekst",17,null,"dtsf:P_ID_5/dtsf:PozycjaUzytkownika","dtsf:Kwoty/dtsf:RB/dtsf:PodstawaPrawna/dtsf:Ust"]
[1,{"$f":"Adr_Dodatkowe & \"!$J$70\"","v":"Dodatkowe!$J$70"},null,"",null,{"$f":"F2967","v":"Pidx"},"Tekst",17,null,"dtsf:P_ID_5/dtsf:PozycjaUzytkownika","dtsf:Kwoty/dtsf:RB/dtsf:PodstawaPrawna/dtsf:Pkt"]
[1,{"$f":"Adr_Dodatkowe & \"!$K$70\"","v":"Dodatkowe!$K$70"},null,"",null,{"$f":"F2968","v":"Pidx"},"Tekst",17,null,"dtsf:P_ID_5/dtsf:PozycjaUzytkownika","dtsf:Kwoty/dtsf:RB/dtsf:PodstawaPrawna/dtsf:Lit"]
[1,{"$f":"Adr_Dodatkowe & \"!$L$70\"","v":"Dodatkowe!$L$70"},null,"MarkParent:3",null,{"$f":"F2969","v":"Pidx"},"Kwota",{"$f":"H2969","v":17},null,"dtsf:P_ID_5/dtsf:PozycjaUzytkownika","dtsf:Kwoty/dtsf:RB/dtsf:Kwota/dtsf:KwotaA"]
[1,{"$f":"Adr_Dodatkowe & \"!$M$70\"","v":"Dodatkowe!$M$70"},null,"",null,{"$f":"F2970","v":"Pidx"},"Kwota",17,null,"dtsf:P_ID_5/dtsf:PozycjaUzytkownika","dtsf:Kwoty/dtsf:RB/dtsf:Kwota/dtsf:KwotaB"]
[2,{"$f":"Adr_Dodatkowe & \"!$O$70\"","v":"Dodatkowe!$O$70"},null,"MarkParent",null,{"$f":"F2971","v":"Pidx"},"Kwota",17,null,"dtsf:P_ID_5/dtsf:PozycjaUzytkownika","dtsf:Kwoty/dtsf:RP/dtsf:KwotaA"]
[1,{"$f":"Adr_Dodatkowe & \"!$P$70\"","v":"Dodatkowe!$P$70"},null,"",null,{"$f":"F2972","v":"Pidx"},"Kwota",17,null,"dtsf:P_ID_5/dtsf:PozycjaUzytkownika","dtsf:Kwoty/dtsf:RP/dtsf:KwotaB"]
[null,{"$f":"Adr_Dodatkowe & \"!$G$71\"","v":"Dodatkowe!$G$71"},null,"MarkParent",null,"Pidx","Tekst",{"$f":"H2965+1","v":18},null,"dtsf:P_ID_5/dtsf:PozycjaUzytkownika","dtsf:NazwaPozycji"]
[1,{"$f":"Adr_Dodatkowe & \"!$H$71\"","v":"Dodatkowe!$H$71"},null,"MarkParent",null,{"$f":"F2974","v":"Pidx"},{"$f":"G2974","v":"Tekst"},{"$f":"H2974","v":18},null,"dtsf:P_ID_5/dtsf:PozycjaUzytkownika","dtsf:Kwoty/dtsf:RB/dtsf:PodstawaPrawna/dtsf:Art"]
[1,{"$f":"Adr_Dodatkowe & \"!$I$71\"","v":"Dodatkowe!$I$71"},null,"",null,{"$f":"F2975","v":"Pidx"},"Tekst",18,null,"dtsf:P_ID_5/dtsf:PozycjaUzytkownika","dtsf:Kwoty/dtsf:RB/dtsf:PodstawaPrawna/dtsf:Ust"]
[1,{"$f":"Adr_Dodatkowe & \"!$J$71\"","v":"Dodatkowe!$J$71"},null,"",null,{"$f":"F2976","v":"Pidx"},"Tekst",18,null,"dtsf:P_ID_5/dtsf:PozycjaUzytkownika","dtsf:Kwoty/dtsf:RB/dtsf:PodstawaPrawna/dtsf:Pkt"]
[1,{"$f":"Adr_Dodatkowe & \"!$K$71\"","v":"Dodatkowe!$K$71"},null,"",null,{"$f":"F2977","v":"Pidx"},"Tekst",18,null,"dtsf:P_ID_5/dtsf:PozycjaUzytkownika","dtsf:Kwoty/dtsf:RB/dtsf:PodstawaPrawna/dtsf:Lit"]
[1,{"$f":"Adr_Dodatkowe & \"!$L$71\"","v":"Dodatkowe!$L$71"},null,"MarkParent:3",null,{"$f":"F2978","v":"Pidx"},"Kwota",{"$f":"H2978","v":18},null,"dtsf:P_ID_5/dtsf:PozycjaUzytkownika","dtsf:Kwoty/dtsf:RB/dtsf:Kwota/dtsf:KwotaA"]
[1,{"$f":"Adr_Dodatkowe & \"!$M$71\"","v":"Dodatkowe!$M$71"},null,"",null,{"$f":"F2979","v":"Pidx"},"Kwota",18,null,"dtsf:P_ID_5/dtsf:PozycjaUzytkownika","dtsf:Kwoty/dtsf:RB/dtsf:Kwota/dtsf:KwotaB"]
[2,{"$f":"Adr_Dodatkowe & \"!$O$71\"","v":"Dodatkowe!$O$71"},null,"MarkParent",null,{"$f":"F2980","v":"Pidx"},"Kwota",18,null,"dtsf:P_ID_5/dtsf:PozycjaUzytkownika","dtsf:Kwoty/dtsf:RP/dtsf:KwotaA"]
[1,{"$f":"Adr_Dodatkowe & \"!$P$71\"","v":"Dodatkowe!$P$71"},null,"",null,{"$f":"F2981","v":"Pidx"},"Kwota",18,null,"dtsf:P_ID_5/dtsf:PozycjaUzytkownika","dtsf:Kwoty/dtsf:RP/dtsf:KwotaB"]
[null,{"$f":"Adr_Dodatkowe & \"!$G$72\"","v":"Dodatkowe!$G$72"},null,"MarkParent",null,"Pidx","Tekst",{"$f":"H2974+1","v":19},null,"dtsf:P_ID_5/dtsf:PozycjaUzytkownika","dtsf:NazwaPozycji"]
[1,{"$f":"Adr_Dodatkowe & \"!$H$72\"","v":"Dodatkowe!$H$72"},null,"MarkParent",null,{"$f":"F2983","v":"Pidx"},{"$f":"G2983","v":"Tekst"},{"$f":"H2983","v":19},null,"dtsf:P_ID_5/dtsf:PozycjaUzytkownika","dtsf:Kwoty/dtsf:RB/dtsf:PodstawaPrawna/dtsf:Art"]
[1,{"$f":"Adr_Dodatkowe & \"!$I$72\"","v":"Dodatkowe!$I$72"},null,"",null,{"$f":"F2984","v":"Pidx"},"Tekst",19,null,"dtsf:P_ID_5/dtsf:PozycjaUzytkownika","dtsf:Kwoty/dtsf:RB/dtsf:PodstawaPrawna/dtsf:Ust"]
[1,{"$f":"Adr_Dodatkowe & \"!$J$72\"","v":"Dodatkowe!$J$72"},null,"",null,{"$f":"F2985","v":"Pidx"},"Tekst",19,null,"dtsf:P_ID_5/dtsf:PozycjaUzytkownika","dtsf:Kwoty/dtsf:RB/dtsf:PodstawaPrawna/dtsf:Pkt"]
[1,{"$f":"Adr_Dodatkowe & \"!$K$72\"","v":"Dodatkowe!$K$72"},null,"",null,{"$f":"F2986","v":"Pidx"},"Tekst",19,null,"dtsf:P_ID_5/dtsf:PozycjaUzytkownika","dtsf:Kwoty/dtsf:RB/dtsf:PodstawaPrawna/dtsf:Lit"]
[1,{"$f":"Adr_Dodatkowe & \"!$L$72\"","v":"Dodatkowe!$L$72"},null,"MarkParent:3",null,{"$f":"F2987","v":"Pidx"},"Kwota",{"$f":"H2987","v":19},null,"dtsf:P_ID_5/dtsf:PozycjaUzytkownika","dtsf:Kwoty/dtsf:RB/dtsf:Kwota/dtsf:KwotaA"]
[1,{"$f":"Adr_Dodatkowe & \"!$M$72\"","v":"Dodatkowe!$M$72"},null,"",null,{"$f":"F2988","v":"Pidx"},"Kwota",19,null,"dtsf:P_ID_5/dtsf:PozycjaUzytkownika","dtsf:Kwoty/dtsf:RB/dtsf:Kwota/dtsf:KwotaB"]
[2,{"$f":"Adr_Dodatkowe & \"!$O$72\"","v":"Dodatkowe!$O$72"},null,"MarkParent",null,{"$f":"F2989","v":"Pidx"},"Kwota",19,null,"dtsf:P_ID_5/dtsf:PozycjaUzytkownika","dtsf:Kwoty/dtsf:RP/dtsf:KwotaA"]
[1,{"$f":"Adr_Dodatkowe & \"!$P$72\"","v":"Dodatkowe!$P$72"},null,"",null,{"$f":"F2990","v":"Pidx"},"Kwota",19,null,"dtsf:P_ID_5/dtsf:PozycjaUzytkownika","dtsf:Kwoty/dtsf:RP/dtsf:KwotaB"]
[null,{"$f":"Adr_Dodatkowe & \"!$G$73\"","v":"Dodatkowe!$G$73"},null,"MarkParent",null,"Pidx","Tekst",{"$f":"H2983+1","v":20},null,"dtsf:P_ID_5/dtsf:PozycjaUzytkownika","dtsf:NazwaPozycji"]
[1,{"$f":"Adr_Dodatkowe & \"!$H$73\"","v":"Dodatkowe!$H$73"},null,"MarkParent",null,{"$f":"F2992","v":"Pidx"},{"$f":"G2992","v":"Tekst"},{"$f":"H2992","v":20},null,"dtsf:P_ID_5/dtsf:PozycjaUzytkownika","dtsf:Kwoty/dtsf:RB/dtsf:PodstawaPrawna/dtsf:Art"]
[1,{"$f":"Adr_Dodatkowe & \"!$I$73\"","v":"Dodatkowe!$I$73"},null,"",null,{"$f":"F2993","v":"Pidx"},"Tekst",20,null,"dtsf:P_ID_5/dtsf:PozycjaUzytkownika","dtsf:Kwoty/dtsf:RB/dtsf:PodstawaPrawna/dtsf:Ust"]
[1,{"$f":"Adr_Dodatkowe & \"!$J$73\"","v":"Dodatkowe!$J$73"},null,"",null,{"$f":"F2994","v":"Pidx"},"Tekst",20,null,"dtsf:P_ID_5/dtsf:PozycjaUzytkownika","dtsf:Kwoty/dtsf:RB/dtsf:PodstawaPrawna/dtsf:Pkt"]
[1,{"$f":"Adr_Dodatkowe & \"!$K$73\"","v":"Dodatkowe!$K$73"},null,"",null,{"$f":"F2995","v":"Pidx"},"Tekst",20,null,"dtsf:P_ID_5/dtsf:PozycjaUzytkownika","dtsf:Kwoty/dtsf:RB/dtsf:PodstawaPrawna/dtsf:Lit"]
[1,{"$f":"Adr_Dodatkowe & \"!$L$73\"","v":"Dodatkowe!$L$73"},null,"MarkParent:3",null,{"$f":"F2996","v":"Pidx"},"Kwota",{"$f":"H2996","v":20},null,"dtsf:P_ID_5/dtsf:PozycjaUzytkownika","dtsf:Kwoty/dtsf:RB/dtsf:Kwota/dtsf:KwotaA"]
[1,{"$f":"Adr_Dodatkowe & \"!$M$73\"","v":"Dodatkowe!$M$73"},null,"",null,{"$f":"F2997","v":"Pidx"},"Kwota",20,null,"dtsf:P_ID_5/dtsf:PozycjaUzytkownika","dtsf:Kwoty/dtsf:RB/dtsf:Kwota/dtsf:KwotaB"]
[2,{"$f":"Adr_Dodatkowe & \"!$O$73\"","v":"Dodatkowe!$O$73"},null,"MarkParent",null,{"$f":"F2998","v":"Pidx"},"Kwota",20,null,"dtsf:P_ID_5/dtsf:PozycjaUzytkownika","dtsf:Kwoty/dtsf:RP/dtsf:KwotaA"]
[1,{"$f":"Adr_Dodatkowe & \"!$P$73\"","v":"Dodatkowe!$P$73"},null,"",null,{"$f":"F2999","v":"Pidx"},"Kwota",20,null,"dtsf:P_ID_5/dtsf:PozycjaUzytkownika","dtsf:Kwoty/dtsf:RP/dtsf:KwotaB"]
[null,{"$f":"Adr_Dodatkowe & \"!$L$74\"","v":"Dodatkowe!$L$74"},null,"ExportOnly",null,null,"Kwota",null,null,"dtsf:P_ID_5/dtsf:Pozostale","dtsf:RB/dtsf:KwotaA"]
[1,{"$f":"Adr_Dodatkowe & \"!$M$74\"","v":"Dodatkowe!$M$74"},null,"ExportOnly",null,null,{"$f":"G3001","v":"Kwota"},null,null,"dtsf:P_ID_5/dtsf:Pozostale","dtsf:RB/dtsf:KwotaB"]
[2,{"$f":"Adr_Dodatkowe & \"!$O$74\"","v":"Dodatkowe!$O$74"},null,"ExportOnly",null,null,"Kwota",null,null,"dtsf:P_ID_5/dtsf:Pozostale","dtsf:RP/dtsf:KwotaA"]
[1,{"$f":"Adr_Dodatkowe & \"!$P$74\"","v":"Dodatkowe!$P$74"},null,"ExportOnly",null,null,"Kwota",null,null,"dtsf:P_ID_5/dtsf:Pozostale","dtsf:RP/dtsf:KwotaB"]
[null,{"$f":"Adr_Dodatkowe & \"!$L$76\"","v":"Dodatkowe!$L$76"},null,"MarkParent:3",null,null,"Kwota",null,null,"dtsf:P_ID_6/dtsf:Kwota","dtsf:RB/dtsf:KwotaA"]
[null,{"$f":"Adr_Dodatkowe & \"!$M$76\"","v":"Dodatkowe!$M$76"},null,{"$f":"D3005","v":"MarkParent:3"},null,null,{"$f":"G3005","v":"Kwota"},null,null,"dtsf:P_ID_6/dtsf:Kwota","dtsf:RB/dtsf:KwotaB"]
[null,{"$f":"Adr_Dodatkowe & \"!$O$76\"","v":"Dodatkowe!$O$76"},null,"MarkParent:3",null,null,"Kwota",null,null,"dtsf:P_ID_6/dtsf:Kwota","dtsf:RP/dtsf:KwotaA"]
[null,{"$f":"Adr_Dodatkowe & \"!$P$76\"","v":"Dodatkowe!$P$76"},null,{"$f":"D3007","v":"MarkParent:3"},null,null,{"$f":"G3007","v":"Kwota"},null,null,"dtsf:P_ID_6/dtsf:Kwota","dtsf:RP/dtsf:KwotaB"]
[null,{"$f":"Adr_Dodatkowe & \"!$G$78\"","v":"Dodatkowe!$G$78"},null,{"$f":"$D$2527 & \"\"","v":"MarkParent"},null,"Pidx","Tekst",1,null,"dtsf:P_ID_6/dtsf:PozycjaUzytkownika","dtsf:NazwaPozycji"]
[1,{"$f":"Adr_Dodatkowe & \"!$H$78\"","v":"Dodatkowe!$H$78"},null,{"$f":"$D$2528 & \"\"","v":"MarkParent"},null,{"$f":"F3009","v":"Pidx"},{"$f":"G3009","v":"Tekst"},{"$f":"H3009","v":1},null,"dtsf:P_ID_6/dtsf:PozycjaUzytkownika","dtsf:Kwoty/dtsf:RB/dtsf:PodstawaPrawna/dtsf:Art"]
[1,{"$f":"Adr_Dodatkowe & \"!$I$78\"","v":"Dodatkowe!$I$78"},null,{"$f":"$D$2529 & \"\"","v":""},null,{"$f":"F3010","v":"Pidx"},"Tekst",1,null,"dtsf:P_ID_6/dtsf:PozycjaUzytkownika","dtsf:Kwoty/dtsf:RB/dtsf:PodstawaPrawna/dtsf:Ust"]
[1,{"$f":"Adr_Dodatkowe & \"!$J$78\"","v":"Dodatkowe!$J$78"},null,{"$f":"$D$2530 & \"\"","v":""},null,{"$f":"F3011","v":"Pidx"},"Tekst",1,null,"dtsf:P_ID_6/dtsf:PozycjaUzytkownika","dtsf:Kwoty/dtsf:RB/dtsf:PodstawaPrawna/dtsf:Pkt"]
[1,{"$f":"Adr_Dodatkowe & \"!$K$78\"","v":"Dodatkowe!$K$78"},null,{"$f":"$D$2531 & \"\"","v":""},null,{"$f":"F3012","v":"Pidx"},"Tekst",1,null,"dtsf:P_ID_6/dtsf:PozycjaUzytkownika","dtsf:Kwoty/dtsf:RB/dtsf:PodstawaPrawna/dtsf:Lit"]
[1,{"$f":"Adr_Dodatkowe & \"!$L$78\"","v":"Dodatkowe!$L$78"},null,{"$f":"$D$2532 & \"\"","v":"MarkParent:3"},null,{"$f":"F3013","v":"Pidx"},"Kwota",{"$f":"H3013","v":1},null,"dtsf:P_ID_6/dtsf:PozycjaUzytkownika","dtsf:Kwoty/dtsf:RB/dtsf:Kwota/dtsf:KwotaA"]
[1,{"$f":"Adr_Dodatkowe & \"!$M$78\"","v":"Dodatkowe!$M$78"},null,{"$f":"$D$2533 & \"\"","v":""},null,{"$f":"F3014","v":"Pidx"},"Kwota",1,null,"dtsf:P_ID_6/dtsf:PozycjaUzytkownika","dtsf:Kwoty/dtsf:RB/dtsf:Kwota/dtsf:KwotaB"]
[2,{"$f":"Adr_Dodatkowe & \"!$O$78\"","v":"Dodatkowe!$O$78"},null,{"$f":"$D$2534 & \"\"","v":"MarkParent"},null,{"$f":"F3015","v":"Pidx"},"Kwota",1,null,"dtsf:P_ID_6/dtsf:PozycjaUzytkownika","dtsf:Kwoty/dtsf:RP/dtsf:KwotaA"]
[1,{"$f":"Adr_Dodatkowe & \"!$P$78\"","v":"Dodatkowe!$P$78"},null,null,null,{"$f":"F3016","v":"Pidx"},"Kwota",1,null,"dtsf:P_ID_6/dtsf:PozycjaUzytkownika","dtsf:Kwoty/dtsf:RP/dtsf:KwotaB"]
[null,{"$f":"Adr_Dodatkowe & \"!$G$79\"","v":"Dodatkowe!$G$79"},null,{"$f":"D3009 & \"\"","v":"MarkParent"},null,"Pidx","Tekst",{"$f":"H3009+1","v":2},null,"dtsf:P_ID_6/dtsf:PozycjaUzytkownika","dtsf:NazwaPozycji"]
[1,{"$f":"Adr_Dodatkowe & \"!$H$79\"","v":"Dodatkowe!$H$79"},null,{"$f":"D3010 & \"\"","v":"MarkParent"},null,{"$f":"F3018","v":"Pidx"},{"$f":"G3018","v":"Tekst"},{"$f":"H3018","v":2},null,"dtsf:P_ID_6/dtsf:PozycjaUzytkownika","dtsf:Kwoty/dtsf:RB/dtsf:PodstawaPrawna/dtsf:Art"]
[1,{"$f":"Adr_Dodatkowe & \"!$I$79\"","v":"Dodatkowe!$I$79"},null,"",null,{"$f":"F3019","v":"Pidx"},"Tekst",2,null,"dtsf:P_ID_6/dtsf:PozycjaUzytkownika","dtsf:Kwoty/dtsf:RB/dtsf:PodstawaPrawna/dtsf:Ust"]
[1,{"$f":"Adr_Dodatkowe & \"!$J$79\"","v":"Dodatkowe!$J$79"},null,"",null,{"$f":"F3020","v":"Pidx"},"Tekst",2,null,"dtsf:P_ID_6/dtsf:PozycjaUzytkownika","dtsf:Kwoty/dtsf:RB/dtsf:PodstawaPrawna/dtsf:Pkt"]
[1,{"$f":"Adr_Dodatkowe & \"!$K$79\"","v":"Dodatkowe!$K$79"},null,"",null,{"$f":"F3021","v":"Pidx"},"Tekst",2,null,"dtsf:P_ID_6/dtsf:PozycjaUzytkownika","dtsf:Kwoty/dtsf:RB/dtsf:PodstawaPrawna/dtsf:Lit"]
[1,{"$f":"Adr_Dodatkowe & \"!$L$79\"","v":"Dodatkowe!$L$79"},null,"MarkParent:3",null,{"$f":"F3022","v":"Pidx"},"Kwota",{"$f":"H3022","v":2},null,"dtsf:P_ID_6/dtsf:PozycjaUzytkownika","dtsf:Kwoty/dtsf:RB/dtsf:Kwota/dtsf:KwotaA"]
[1,{"$f":"Adr_Dodatkowe & \"!$M$79\"","v":"Dodatkowe!$M$79"},null,{"$f":"D3015 & \"\"","v":""},null,{"$f":"F3023","v":"Pidx"},"Kwota",2,null,"dtsf:P_ID_6/dtsf:PozycjaUzytkownika","dtsf:Kwoty/dtsf:RB/dtsf:Kwota/dtsf:KwotaB"]
[2,{"$f":"Adr_Dodatkowe & \"!$O$79\"","v":"Dodatkowe!$O$79"},null,"MarkParent",null,{"$f":"F3024","v":"Pidx"},"Kwota",2,null,"dtsf:P_ID_6/dtsf:PozycjaUzytkownika","dtsf:Kwoty/dtsf:RP/dtsf:KwotaA"]
[1,{"$f":"Adr_Dodatkowe & \"!$P$79\"","v":"Dodatkowe!$P$79"},null,"",null,{"$f":"F3025","v":"Pidx"},"Kwota",2,null,"dtsf:P_ID_6/dtsf:PozycjaUzytkownika","dtsf:Kwoty/dtsf:RP/dtsf:KwotaB"]
[null,{"$f":"Adr_Dodatkowe & \"!$G$80\"","v":"Dodatkowe!$G$80"},null,"MarkParent",null,"Pidx","Tekst",{"$f":"H3018+1","v":3},null,"dtsf:P_ID_6/dtsf:PozycjaUzytkownika","dtsf:NazwaPozycji"]
[1,{"$f":"Adr_Dodatkowe & \"!$H$80\"","v":"Dodatkowe!$H$80"},null,{"$f":"D3019 & \"\"","v":"MarkParent"},null,{"$f":"F3027","v":"Pidx"},{"$f":"G3027","v":"Tekst"},{"$f":"H3027","v":3},null,"dtsf:P_ID_6/dtsf:PozycjaUzytkownika","dtsf:Kwoty/dtsf:RB/dtsf:PodstawaPrawna/dtsf:Art"]
[1,{"$f":"Adr_Dodatkowe & \"!$I$80\"","v":"Dodatkowe!$I$80"},null,"",null,{"$f":"F3028","v":"Pidx"},"Tekst",3,null,"dtsf:P_ID_6/dtsf:PozycjaUzytkownika","dtsf:Kwoty/dtsf:RB/dtsf:PodstawaPrawna/dtsf:Ust"]
[1,{"$f":"Adr_Dodatkowe & \"!$J$80\"","v":"Dodatkowe!$J$80"},null,"",null,{"$f":"F3029","v":"Pidx"},"Tekst",3,null,"dtsf:P_ID_6/dtsf:PozycjaUzytkownika","dtsf:Kwoty/dtsf:RB/dtsf:PodstawaPrawna/dtsf:Pkt"]
[1,{"$f":"Adr_Dodatkowe & \"!$K$80\"","v":"Dodatkowe!$K$80"},null,"",null,{"$f":"F3030","v":"Pidx"},"Tekst",3,null,"dtsf:P_ID_6/dtsf:PozycjaUzytkownika","dtsf:Kwoty/dtsf:RB/dtsf:PodstawaPrawna/dtsf:Lit"]
[1,{"$f":"Adr_Dodatkowe & \"!$L$80\"","v":"Dodatkowe!$L$80"},null,"MarkParent:3",null,{"$f":"F3031","v":"Pidx"},"Kwota",{"$f":"H3031","v":3},null,"dtsf:P_ID_6/dtsf:PozycjaUzytkownika","dtsf:Kwoty/dtsf:RB/dtsf:Kwota/dtsf:KwotaA"]
[1,{"$f":"Adr_Dodatkowe & \"!$M$80\"","v":"Dodatkowe!$M$80"},null,"",null,{"$f":"F3032","v":"Pidx"},"Kwota",3,null,"dtsf:P_ID_6/dtsf:PozycjaUzytkownika","dtsf:Kwoty/dtsf:RB/dtsf:Kwota/dtsf:KwotaB"]
[2,{"$f":"Adr_Dodatkowe & \"!$O$80\"","v":"Dodatkowe!$O$80"},null,{"$f":"D3025 & \"\"","v":"MarkParent"},null,{"$f":"F3033","v":"Pidx"},"Kwota",3,null,"dtsf:P_ID_6/dtsf:PozycjaUzytkownika","dtsf:Kwoty/dtsf:RP/dtsf:KwotaA"]
[1,{"$f":"Adr_Dodatkowe & \"!$P$80\"","v":"Dodatkowe!$P$80"},null,{"$f":"D3026 & \"\"","v":""},null,{"$f":"F3034","v":"Pidx"},"Kwota",3,null,"dtsf:P_ID_6/dtsf:PozycjaUzytkownika","dtsf:Kwoty/dtsf:RP/dtsf:KwotaB"]
[null,{"$f":"Adr_Dodatkowe & \"!$G$81\"","v":"Dodatkowe!$G$81"},null,{"$f":"D3027 & \"\"","v":"MarkParent"},null,"Pidx","Tekst",{"$f":"H3027+1","v":4},null,"dtsf:P_ID_6/dtsf:PozycjaUzytkownika","dtsf:NazwaPozycji"]
[1,{"$f":"Adr_Dodatkowe & \"!$H$81\"","v":"Dodatkowe!$H$81"},null,"MarkParent",null,{"$f":"F3036","v":"Pidx"},{"$f":"G3036","v":"Tekst"},{"$f":"H3036","v":4},null,"dtsf:P_ID_6/dtsf:PozycjaUzytkownika","dtsf:Kwoty/dtsf:RB/dtsf:PodstawaPrawna/dtsf:Art"]
[1,{"$f":"Adr_Dodatkowe & \"!$I$81\"","v":"Dodatkowe!$I$81"},null,"",null,{"$f":"F3037","v":"Pidx"},"Tekst",4,null,"dtsf:P_ID_6/dtsf:PozycjaUzytkownika","dtsf:Kwoty/dtsf:RB/dtsf:PodstawaPrawna/dtsf:Ust"]
[1,{"$f":"Adr_Dodatkowe & \"!$J$81\"","v":"Dodatkowe!$J$81"},null,"",null,{"$f":"F3038","v":"Pidx"},"Tekst",4,null,"dtsf:P_ID_6/dtsf:PozycjaUzytkownika","dtsf:Kwoty/dtsf:RB/dtsf:PodstawaPrawna/dtsf:Pkt"]
[1,{"$f":"Adr_Dodatkowe & \"!$K$81\"","v":"Dodatkowe!$K$81"},null,"",null,{"$f":"F3039","v":"Pidx"},"Tekst",4,null,"dtsf:P_ID_6/dtsf:PozycjaUzytkownika","dtsf:Kwoty/dtsf:RB/dtsf:PodstawaPrawna/dtsf:Lit"]
[1,{"$f":"Adr_Dodatkowe & \"!$L$81\"","v":"Dodatkowe!$L$81"},null,{"$f":"D3032 & \"\"","v":"MarkParent:3"},null,{"$f":"F3040","v":"Pidx"},"Kwota",{"$f":"H3040","v":4},null,"dtsf:P_ID_6/dtsf:PozycjaUzytkownika","dtsf:Kwoty/dtsf:RB/dtsf:Kwota/dtsf:KwotaA"]
[1,{"$f":"Adr_Dodatkowe & \"!$M$81\"","v":"Dodatkowe!$M$81"},null,"",null,{"$f":"F3041","v":"Pidx"},"Kwota",4,null,"dtsf:P_ID_6/dtsf:PozycjaUzytkownika","dtsf:Kwoty/dtsf:RB/dtsf:Kwota/dtsf:KwotaB"]
[2,{"$f":"Adr_Dodatkowe & \"!$O$81\"","v":"Dodatkowe!$O$81"},null,"MarkParent",null,{"$f":"F3042","v":"Pidx"},"Kwota",4,null,"dtsf:P_ID_6/dtsf:PozycjaUzytkownika","dtsf:Kwoty/dtsf:RP/dtsf:KwotaA"]
[1,{"$f":"Adr_Dodatkowe & \"!$P$81\"","v":"Dodatkowe!$P$81"},null,"",null,{"$f":"F3043","v":"Pidx"},"Kwota",4,null,"dtsf:P_ID_6/dtsf:PozycjaUzytkownika","dtsf:Kwoty/dtsf:RP/dtsf:KwotaB"]
[null,{"$f":"Adr_Dodatkowe & \"!$G$82\"","v":"Dodatkowe!$G$82"},null,{"$f":"D3036 & \"\"","v":"MarkParent"},null,"Pidx","Tekst",{"$f":"H3036+1","v":5},null,"dtsf:P_ID_6/dtsf:PozycjaUzytkownika","dtsf:NazwaPozycji"]
[1,{"$f":"Adr_Dodatkowe & \"!$H$82\"","v":"Dodatkowe!$H$82"},null,{"$f":"D3037 & \"\"","v":"MarkParent"},null,{"$f":"F3045","v":"Pidx"},{"$f":"G3045","v":"Tekst"},{"$f":"H3045","v":5},null,"dtsf:P_ID_6/dtsf:PozycjaUzytkownika","dtsf:Kwoty/dtsf:RB/dtsf:PodstawaPrawna/dtsf:Art"]
[1,{"$f":"Adr_Dodatkowe & \"!$I$82\"","v":"Dodatkowe!$I$82"},null,"",null,{"$f":"F3046","v":"Pidx"},"Tekst",5,null,"dtsf:P_ID_6/dtsf:PozycjaUzytkownika","dtsf:Kwoty/dtsf:RB/dtsf:PodstawaPrawna/dtsf:Ust"]
[1,{"$f":"Adr_Dodatkowe & \"!$J$82\"","v":"Dodatkowe!$J$82"},null,"",null,{"$f":"F3047","v":"Pidx"},"Tekst",5,null,"dtsf:P_ID_6/dtsf:PozycjaUzytkownika","dtsf:Kwoty/dtsf:RB/dtsf:PodstawaPrawna/dtsf:Pkt"]
[1,{"$f":"Adr_Dodatkowe & \"!$K$82\"","v":"Dodatkowe!$K$82"},null,"",null,{"$f":"F3048","v":"Pidx"},"Tekst",5,null,"dtsf:P_ID_6/dtsf:PozycjaUzytkownika","dtsf:Kwoty/dtsf:RB/dtsf:PodstawaPrawna/dtsf:Lit"]
[1,{"$f":"Adr_Dodatkowe & \"!$L$82\"","v":"Dodatkowe!$L$82"},null,"MarkParent:3",null,{"$f":"F3049","v":"Pidx"},"Kwota",{"$f":"H3049","v":5},null,"dtsf:P_ID_6/dtsf:PozycjaUzytkownika","dtsf:Kwoty/dtsf:RB/dtsf:Kwota/dtsf:KwotaA"]
[1,{"$f":"Adr_Dodatkowe & \"!$M$82\"","v":"Dodatkowe!$M$82"},null,{"$f":"D3042 & \"\"","v":""},null,{"$f":"F3050","v":"Pidx"},"Kwota",5,null,"dtsf:P_ID_6/dtsf:PozycjaUzytkownika","dtsf:Kwoty/dtsf:RB/dtsf:Kwota/dtsf:KwotaB"]
[2,{"$f":"Adr_Dodatkowe & \"!$O$82\"","v":"Dodatkowe!$O$82"},null,"MarkParent",null,{"$f":"F3051","v":"Pidx"},"Kwota",5,null,"dtsf:P_ID_6/dtsf:PozycjaUzytkownika","dtsf:Kwoty/dtsf:RP/dtsf:KwotaA"]
[1,{"$f":"Adr_Dodatkowe & \"!$P$82\"","v":"Dodatkowe!$P$82"},null,"",null,{"$f":"F3052","v":"Pidx"},"Kwota",5,null,"dtsf:P_ID_6/dtsf:PozycjaUzytkownika","dtsf:Kwoty/dtsf:RP/dtsf:KwotaB"]
[null,{"$f":"Adr_Dodatkowe & \"!$G$83\"","v":"Dodatkowe!$G$83"},null,"MarkParent",null,"Pidx","Tekst",{"$f":"H3045+1","v":6},null,"dtsf:P_ID_6/dtsf:PozycjaUzytkownika","dtsf:NazwaPozycji"]
[1,{"$f":"Adr_Dodatkowe & \"!$H$83\"","v":"Dodatkowe!$H$83"},null,"MarkParent",null,{"$f":"F3054","v":"Pidx"},{"$f":"G3054","v":"Tekst"},{"$f":"H3054","v":6},null,"dtsf:P_ID_6/dtsf:PozycjaUzytkownika","dtsf:Kwoty/dtsf:RB/dtsf:PodstawaPrawna/dtsf:Art"]
[1,{"$f":"Adr_Dodatkowe & \"!$I$83\"","v":"Dodatkowe!$I$83"},null,"",null,{"$f":"F3055","v":"Pidx"},"Tekst",6,null,"dtsf:P_ID_6/dtsf:PozycjaUzytkownika","dtsf:Kwoty/dtsf:RB/dtsf:PodstawaPrawna/dtsf:Ust"]
[1,{"$f":"Adr_Dodatkowe & \"!$J$83\"","v":"Dodatkowe!$J$83"},null,"",null,{"$f":"F3056","v":"Pidx"},"Tekst",6,null,"dtsf:P_ID_6/dtsf:PozycjaUzytkownika","dtsf:Kwoty/dtsf:RB/dtsf:PodstawaPrawna/dtsf:Pkt"]
[1,{"$f":"Adr_Dodatkowe & \"!$K$83\"","v":"Dodatkowe!$K$83"},null,"",null,{"$f":"F3057","v":"Pidx"},"Tekst",6,null,"dtsf:P_ID_6/dtsf:PozycjaUzytkownika","dtsf:Kwoty/dtsf:RB/dtsf:PodstawaPrawna/dtsf:Lit"]
[1,{"$f":"Adr_Dodatkowe & \"!$L$83\"","v":"Dodatkowe!$L$83"},null,"MarkParent:3",null,"Pidx","Kwota",6,null,"dtsf:P_ID_6/dtsf:PozycjaUzytkownika","dtsf:Kwoty/dtsf:RB/dtsf:Kwota/dtsf:KwotaA"]
[1,{"$f":"Adr_Dodatkowe & \"!$M$83\"","v":"Dodatkowe!$M$83"},null,"",null,{"$f":"F3059","v":"Pidx"},"Kwota",6,null,"dtsf:P_ID_6/dtsf:PozycjaUzytkownika","dtsf:Kwoty/dtsf:RB/dtsf:Kwota/dtsf:KwotaB"]
[2,{"$f":"Adr_Dodatkowe & \"!$O$83\"","v":"Dodatkowe!$O$83"},null,"MarkParent",null,{"$f":"F3060","v":"Pidx"},"Kwota",6,null,"dtsf:P_ID_6/dtsf:PozycjaUzytkownika","dtsf:Kwoty/dtsf:RP/dtsf:KwotaA"]
[1,{"$f":"Adr_Dodatkowe & \"!$P$83\"","v":"Dodatkowe!$P$83"},null,"",null,{"$f":"F3061","v":"Pidx"},"Kwota",6,null,"dtsf:P_ID_6/dtsf:PozycjaUzytkownika","dtsf:Kwoty/dtsf:RP/dtsf:KwotaB"]
[null,{"$f":"Adr_Dodatkowe & \"!$G$84\"","v":"Dodatkowe!$G$84"},null,"MarkParent",null,"Pidx","Tekst",{"$f":"H3054+1","v":7},null,"dtsf:P_ID_6/dtsf:PozycjaUzytkownika","dtsf:NazwaPozycji"]
[1,{"$f":"Adr_Dodatkowe & \"!$H$84\"","v":"Dodatkowe!$H$84"},null,"MarkParent",null,{"$f":"F3063","v":"Pidx"},{"$f":"G3063","v":"Tekst"},{"$f":"H3063","v":7},null,"dtsf:P_ID_6/dtsf:PozycjaUzytkownika","dtsf:Kwoty/dtsf:RB/dtsf:PodstawaPrawna/dtsf:Art"]
[1,{"$f":"Adr_Dodatkowe & \"!$I$84\"","v":"Dodatkowe!$I$84"},null,"",null,{"$f":"F3064","v":"Pidx"},"Tekst",7,null,"dtsf:P_ID_6/dtsf:PozycjaUzytkownika","dtsf:Kwoty/dtsf:RB/dtsf:PodstawaPrawna/dtsf:Ust"]
[1,{"$f":"Adr_Dodatkowe & \"!$J$84\"","v":"Dodatkowe!$J$84"},null,"",null,{"$f":"F3065","v":"Pidx"},"Tekst",7,null,"dtsf:P_ID_6/dtsf:PozycjaUzytkownika","dtsf:Kwoty/dtsf:RB/dtsf:PodstawaPrawna/dtsf:Pkt"]
[1,{"$f":"Adr_Dodatkowe & \"!$K$84\"","v":"Dodatkowe!$K$84"},null,"",null,{"$f":"F3066","v":"Pidx"},"Tekst",7,null,"dtsf:P_ID_6/dtsf:PozycjaUzytkownika","dtsf:Kwoty/dtsf:RB/dtsf:PodstawaPrawna/dtsf:Lit"]
[1,{"$f":"Adr_Dodatkowe & \"!$L$84\"","v":"Dodatkowe!$L$84"},null,"MarkParent:3",null,"Pidx","Kwota",7,null,"dtsf:P_ID_6/dtsf:PozycjaUzytkownika","dtsf:Kwoty/dtsf:RB/dtsf:Kwota/dtsf:KwotaA"]
[1,{"$f":"Adr_Dodatkowe & \"!$M$84\"","v":"Dodatkowe!$M$84"},null,"",null,{"$f":"F3068","v":"Pidx"},"Kwota",7,null,"dtsf:P_ID_6/dtsf:PozycjaUzytkownika","dtsf:Kwoty/dtsf:RB/dtsf:Kwota/dtsf:KwotaB"]
[2,{"$f":"Adr_Dodatkowe & \"!$O$84\"","v":"Dodatkowe!$O$84"},null,"MarkParent",null,{"$f":"F3069","v":"Pidx"},"Kwota",7,null,"dtsf:P_ID_6/dtsf:PozycjaUzytkownika","dtsf:Kwoty/dtsf:RP/dtsf:KwotaA"]
[1,{"$f":"Adr_Dodatkowe & \"!$P$84\"","v":"Dodatkowe!$P$84"},null,"",null,{"$f":"F3070","v":"Pidx"},"Kwota",7,null,"dtsf:P_ID_6/dtsf:PozycjaUzytkownika","dtsf:Kwoty/dtsf:RP/dtsf:KwotaB"]
[null,{"$f":"Adr_Dodatkowe & \"!$G$85\"","v":"Dodatkowe!$G$85"},null,"MarkParent",null,"Pidx","Tekst",{"$f":"H3063+1","v":8},null,"dtsf:P_ID_6/dtsf:PozycjaUzytkownika","dtsf:NazwaPozycji"]
[1,{"$f":"Adr_Dodatkowe & \"!$H$85\"","v":"Dodatkowe!$H$85"},null,"MarkParent",null,{"$f":"F3072","v":"Pidx"},{"$f":"G3072","v":"Tekst"},{"$f":"H3072","v":8},null,"dtsf:P_ID_6/dtsf:PozycjaUzytkownika","dtsf:Kwoty/dtsf:RB/dtsf:PodstawaPrawna/dtsf:Art"]
[1,{"$f":"Adr_Dodatkowe & \"!$I$85\"","v":"Dodatkowe!$I$85"},null,"",null,{"$f":"F3073","v":"Pidx"},"Tekst",8,null,"dtsf:P_ID_6/dtsf:PozycjaUzytkownika","dtsf:Kwoty/dtsf:RB/dtsf:PodstawaPrawna/dtsf:Ust"]
[1,{"$f":"Adr_Dodatkowe & \"!$J$85\"","v":"Dodatkowe!$J$85"},null,"",null,{"$f":"F3074","v":"Pidx"},"Tekst",8,null,"dtsf:P_ID_6/dtsf:PozycjaUzytkownika","dtsf:Kwoty/dtsf:RB/dtsf:PodstawaPrawna/dtsf:Pkt"]
[1,{"$f":"Adr_Dodatkowe & \"!$K$85\"","v":"Dodatkowe!$K$85"},null,"",null,{"$f":"F3075","v":"Pidx"},"Tekst",8,null,"dtsf:P_ID_6/dtsf:PozycjaUzytkownika","dtsf:Kwoty/dtsf:RB/dtsf:PodstawaPrawna/dtsf:Lit"]
[1,{"$f":"Adr_Dodatkowe & \"!$L$85\"","v":"Dodatkowe!$L$85"},null,"MarkParent:3",null,"Pidx","Kwota",8,null,"dtsf:P_ID_6/dtsf:PozycjaUzytkownika","dtsf:Kwoty/dtsf:RB/dtsf:Kwota/dtsf:KwotaA"]
[1,{"$f":"Adr_Dodatkowe & \"!$M$85\"","v":"Dodatkowe!$M$85"},null,"",null,{"$f":"F3077","v":"Pidx"},"Kwota",8,null,"dtsf:P_ID_6/dtsf:PozycjaUzytkownika","dtsf:Kwoty/dtsf:RB/dtsf:Kwota/dtsf:KwotaB"]
[2,{"$f":"Adr_Dodatkowe & \"!$O$85\"","v":"Dodatkowe!$O$85"},null,"MarkParent",null,{"$f":"F3078","v":"Pidx"},"Kwota",8,null,"dtsf:P_ID_6/dtsf:PozycjaUzytkownika","dtsf:Kwoty/dtsf:RP/dtsf:KwotaA"]
[1,{"$f":"Adr_Dodatkowe & \"!$P$85\"","v":"Dodatkowe!$P$85"},null,"",null,{"$f":"F3079","v":"Pidx"},"Kwota",8,null,"dtsf:P_ID_6/dtsf:PozycjaUzytkownika","dtsf:Kwoty/dtsf:RP/dtsf:KwotaB"]
[null,{"$f":"Adr_Dodatkowe & \"!$G$86\"","v":"Dodatkowe!$G$86"},null,"MarkParent",null,"Pidx","Tekst",{"$f":"H3072+1","v":9},null,"dtsf:P_ID_6/dtsf:PozycjaUzytkownika","dtsf:NazwaPozycji"]
[1,{"$f":"Adr_Dodatkowe & \"!$H$86\"","v":"Dodatkowe!$H$86"},null,"MarkParent",null,{"$f":"F3081","v":"Pidx"},{"$f":"G3081","v":"Tekst"},{"$f":"H3081","v":9},null,"dtsf:P_ID_6/dtsf:PozycjaUzytkownika","dtsf:Kwoty/dtsf:RB/dtsf:PodstawaPrawna/dtsf:Art"]
[1,{"$f":"Adr_Dodatkowe & \"!$I$86\"","v":"Dodatkowe!$I$86"},null,"",null,{"$f":"F3082","v":"Pidx"},"Tekst",9,null,"dtsf:P_ID_6/dtsf:PozycjaUzytkownika","dtsf:Kwoty/dtsf:RB/dtsf:PodstawaPrawna/dtsf:Ust"]
[1,{"$f":"Adr_Dodatkowe & \"!$J$86\"","v":"Dodatkowe!$J$86"},null,"",null,{"$f":"F3083","v":"Pidx"},"Tekst",9,null,"dtsf:P_ID_6/dtsf:PozycjaUzytkownika","dtsf:Kwoty/dtsf:RB/dtsf:PodstawaPrawna/dtsf:Pkt"]
[1,{"$f":"Adr_Dodatkowe & \"!$K$86\"","v":"Dodatkowe!$K$86"},null,"",null,{"$f":"F3084","v":"Pidx"},"Tekst",9,null,"dtsf:P_ID_6/dtsf:PozycjaUzytkownika","dtsf:Kwoty/dtsf:RB/dtsf:PodstawaPrawna/dtsf:Lit"]
[1,{"$f":"Adr_Dodatkowe & \"!$L$86\"","v":"Dodatkowe!$L$86"},null,"MarkParent:3",null,"Pidx","Kwota",9,null,"dtsf:P_ID_6/dtsf:PozycjaUzytkownika","dtsf:Kwoty/dtsf:RB/dtsf:Kwota/dtsf:KwotaA"]
[1,{"$f":"Adr_Dodatkowe & \"!$M$86\"","v":"Dodatkowe!$M$86"},null,"",null,{"$f":"F3086","v":"Pidx"},"Kwota",9,null,"dtsf:P_ID_6/dtsf:PozycjaUzytkownika","dtsf:Kwoty/dtsf:RB/dtsf:Kwota/dtsf:KwotaB"]
[2,{"$f":"Adr_Dodatkowe & \"!$O$86\"","v":"Dodatkowe!$O$86"},null,"MarkParent",null,{"$f":"F3087","v":"Pidx"},"Kwota",9,null,"dtsf:P_ID_6/dtsf:PozycjaUzytkownika","dtsf:Kwoty/dtsf:RP/dtsf:KwotaA"]
[1,{"$f":"Adr_Dodatkowe & \"!$P$86\"","v":"Dodatkowe!$P$86"},null,"",null,{"$f":"F3088","v":"Pidx"},"Kwota",9,null,"dtsf:P_ID_6/dtsf:PozycjaUzytkownika","dtsf:Kwoty/dtsf:RP/dtsf:KwotaB"]
[null,{"$f":"Adr_Dodatkowe & \"!$G$87\"","v":"Dodatkowe!$G$87"},null,"MarkParent",null,"Pidx","Tekst",{"$f":"H3081+1","v":10},null,"dtsf:P_ID_6/dtsf:PozycjaUzytkownika","dtsf:NazwaPozycji"]
[1,{"$f":"Adr_Dodatkowe & \"!$H$87\"","v":"Dodatkowe!$H$87"},null,"MarkParent",null,{"$f":"F3090","v":"Pidx"},{"$f":"G3090","v":"Tekst"},{"$f":"H3090","v":10},null,"dtsf:P_ID_6/dtsf:PozycjaUzytkownika","dtsf:Kwoty/dtsf:RB/dtsf:PodstawaPrawna/dtsf:Art"]
[1,{"$f":"Adr_Dodatkowe & \"!$I$87\"","v":"Dodatkowe!$I$87"},null,"",null,{"$f":"F3091","v":"Pidx"},"Tekst",10,null,"dtsf:P_ID_6/dtsf:PozycjaUzytkownika","dtsf:Kwoty/dtsf:RB/dtsf:PodstawaPrawna/dtsf:Ust"]
[1,{"$f":"Adr_Dodatkowe & \"!$J$87\"","v":"Dodatkowe!$J$87"},null,"",null,{"$f":"F3092","v":"Pidx"},"Tekst",10,null,"dtsf:P_ID_6/dtsf:PozycjaUzytkownika","dtsf:Kwoty/dtsf:RB/dtsf:PodstawaPrawna/dtsf:Pkt"]
[1,{"$f":"Adr_Dodatkowe & \"!$K$87\"","v":"Dodatkowe!$K$87"},null,"",null,{"$f":"F3093","v":"Pidx"},"Tekst",10,null,"dtsf:P_ID_6/dtsf:PozycjaUzytkownika","dtsf:Kwoty/dtsf:RB/dtsf:PodstawaPrawna/dtsf:Lit"]
[1,{"$f":"Adr_Dodatkowe & \"!$L$87\"","v":"Dodatkowe!$L$87"},null,"MarkParent:3",null,{"$f":"F3094","v":"Pidx"},"Kwota",{"$f":"H3094","v":10},null,"dtsf:P_ID_6/dtsf:PozycjaUzytkownika","dtsf:Kwoty/dtsf:RB/dtsf:Kwota/dtsf:KwotaA"]
[1,{"$f":"Adr_Dodatkowe & \"!$M$87\"","v":"Dodatkowe!$M$87"},null,"",null,{"$f":"F3095","v":"Pidx"},"Kwota",10,null,"dtsf:P_ID_6/dtsf:PozycjaUzytkownika","dtsf:Kwoty/dtsf:RB/dtsf:Kwota/dtsf:KwotaB"]
[2,{"$f":"Adr_Dodatkowe & \"!$O$87\"","v":"Dodatkowe!$O$87"},null,"MarkParent",null,{"$f":"F3096","v":"Pidx"},"Kwota",10,null,"dtsf:P_ID_6/dtsf:PozycjaUzytkownika","dtsf:Kwoty/dtsf:RP/dtsf:KwotaA"]
[1,{"$f":"Adr_Dodatkowe & \"!$P$87\"","v":"Dodatkowe!$P$87"},null,"",null,{"$f":"F3097","v":"Pidx"},"Kwota",10,null,"dtsf:P_ID_6/dtsf:PozycjaUzytkownika","dtsf:Kwoty/dtsf:RP/dtsf:KwotaB"]
[null,{"$f":"Adr_Dodatkowe & \"!$G$88\"","v":"Dodatkowe!$G$88"},null,"MarkParent",null,"Pidx","Tekst",{"$f":"H3090+1","v":11},null,"dtsf:P_ID_6/dtsf:PozycjaUzytkownika","dtsf:NazwaPozycji"]
[1,{"$f":"Adr_Dodatkowe & \"!$H$88\"","v":"Dodatkowe!$H$88"},null,"MarkParent",null,{"$f":"F3099","v":"Pidx"},{"$f":"G3099","v":"Tekst"},{"$f":"H3099","v":11},null,"dtsf:P_ID_6/dtsf:PozycjaUzytkownika","dtsf:Kwoty/dtsf:RB/dtsf:PodstawaPrawna/dtsf:Art"]
[1,{"$f":"Adr_Dodatkowe & \"!$I$88\"","v":"Dodatkowe!$I$88"},null,"",null,{"$f":"F3100","v":"Pidx"},"Tekst",11,null,"dtsf:P_ID_6/dtsf:PozycjaUzytkownika","dtsf:Kwoty/dtsf:RB/dtsf:PodstawaPrawna/dtsf:Ust"]
[1,{"$f":"Adr_Dodatkowe & \"!$J$88\"","v":"Dodatkowe!$J$88"},null,"",null,{"$f":"F3101","v":"Pidx"},"Tekst",11,null,"dtsf:P_ID_6/dtsf:PozycjaUzytkownika","dtsf:Kwoty/dtsf:RB/dtsf:PodstawaPrawna/dtsf:Pkt"]
[1,{"$f":"Adr_Dodatkowe & \"!$K$88\"","v":"Dodatkowe!$K$88"},null,"",null,{"$f":"F3102","v":"Pidx"},"Tekst",11,null,"dtsf:P_ID_6/dtsf:PozycjaUzytkownika","dtsf:Kwoty/dtsf:RB/dtsf:PodstawaPrawna/dtsf:Lit"]
[1,{"$f":"Adr_Dodatkowe & \"!$L$88\"","v":"Dodatkowe!$L$88"},null,"MarkParent:3",null,{"$f":"F3103","v":"Pidx"},"Kwota",{"$f":"H3103","v":11},null,"dtsf:P_ID_6/dtsf:PozycjaUzytkownika","dtsf:Kwoty/dtsf:RB/dtsf:Kwota/dtsf:KwotaA"]
[1,{"$f":"Adr_Dodatkowe & \"!$M$88\"","v":"Dodatkowe!$M$88"},null,"",null,{"$f":"F3104","v":"Pidx"},"Kwota",11,null,"dtsf:P_ID_6/dtsf:PozycjaUzytkownika","dtsf:Kwoty/dtsf:RB/dtsf:Kwota/dtsf:KwotaB"]
[2,{"$f":"Adr_Dodatkowe & \"!$O$88\"","v":"Dodatkowe!$O$88"},null,"MarkParent",null,{"$f":"F3105","v":"Pidx"},"Kwota",11,null,"dtsf:P_ID_6/dtsf:PozycjaUzytkownika","dtsf:Kwoty/dtsf:RP/dtsf:KwotaA"]
[1,{"$f":"Adr_Dodatkowe & \"!$P$88\"","v":"Dodatkowe!$P$88"},null,"",null,{"$f":"F3106","v":"Pidx"},"Kwota",11,null,"dtsf:P_ID_6/dtsf:PozycjaUzytkownika","dtsf:Kwoty/dtsf:RP/dtsf:KwotaB"]
[null,{"$f":"Adr_Dodatkowe & \"!$G$89\"","v":"Dodatkowe!$G$89"},null,"MarkParent",null,"Pidx","Tekst",{"$f":"H3099+1","v":12},null,"dtsf:P_ID_6/dtsf:PozycjaUzytkownika","dtsf:NazwaPozycji"]
[1,{"$f":"Adr_Dodatkowe & \"!$H$89\"","v":"Dodatkowe!$H$89"},null,"MarkParent",null,{"$f":"F3108","v":"Pidx"},{"$f":"G3108","v":"Tekst"},{"$f":"H3108","v":12},null,"dtsf:P_ID_6/dtsf:PozycjaUzytkownika","dtsf:Kwoty/dtsf:RB/dtsf:PodstawaPrawna/dtsf:Art"]
[1,{"$f":"Adr_Dodatkowe & \"!$I$89\"","v":"Dodatkowe!$I$89"},null,{"$f":"D3101 & \"\"","v":""},null,{"$f":"F3109","v":"Pidx"},"Tekst",12,null,"dtsf:P_ID_6/dtsf:PozycjaUzytkownika","dtsf:Kwoty/dtsf:RB/dtsf:PodstawaPrawna/dtsf:Ust"]
[1,{"$f":"Adr_Dodatkowe & \"!$J$89\"","v":"Dodatkowe!$J$89"},null,"",null,{"$f":"F3110","v":"Pidx"},"Tekst",12,null,"dtsf:P_ID_6/dtsf:PozycjaUzytkownika","dtsf:Kwoty/dtsf:RB/dtsf:PodstawaPrawna/dtsf:Pkt"]
[1,{"$f":"Adr_Dodatkowe & \"!$K$89\"","v":"Dodatkowe!$K$89"},null,"",null,{"$f":"F3111","v":"Pidx"},"Tekst",12,null,"dtsf:P_ID_6/dtsf:PozycjaUzytkownika","dtsf:Kwoty/dtsf:RB/dtsf:PodstawaPrawna/dtsf:Lit"]
[1,{"$f":"Adr_Dodatkowe & \"!$L$89\"","v":"Dodatkowe!$L$89"},null,"MarkParent:3",null,{"$f":"F3112","v":"Pidx"},"Kwota",{"$f":"H3112","v":12},null,"dtsf:P_ID_6/dtsf:PozycjaUzytkownika","dtsf:Kwoty/dtsf:RB/dtsf:Kwota/dtsf:KwotaA"]
[1,{"$f":"Adr_Dodatkowe & \"!$M$89\"","v":"Dodatkowe!$M$89"},null,"",null,{"$f":"F3113","v":"Pidx"},"Kwota",12,null,"dtsf:P_ID_6/dtsf:PozycjaUzytkownika","dtsf:Kwoty/dtsf:RB/dtsf:Kwota/dtsf:KwotaB"]
[2,{"$f":"Adr_Dodatkowe & \"!$O$89\"","v":"Dodatkowe!$O$89"},null,"MarkParent",null,{"$f":"F3114","v":"Pidx"},"Kwota",12,null,"dtsf:P_ID_6/dtsf:PozycjaUzytkownika","dtsf:Kwoty/dtsf:RP/dtsf:KwotaA"]
[1,{"$f":"Adr_Dodatkowe & \"!$P$89\"","v":"Dodatkowe!$P$89"},null,"",null,{"$f":"F3115","v":"Pidx"},"Kwota",12,null,"dtsf:P_ID_6/dtsf:PozycjaUzytkownika","dtsf:Kwoty/dtsf:RP/dtsf:KwotaB"]
[null,{"$f":"Adr_Dodatkowe & \"!$G$90\"","v":"Dodatkowe!$G$90"},null,"MarkParent",null,"Pidx","Tekst",{"$f":"H3108+1","v":13},null,"dtsf:P_ID_6/dtsf:PozycjaUzytkownika","dtsf:NazwaPozycji"]
[1,{"$f":"Adr_Dodatkowe & \"!$H$90\"","v":"Dodatkowe!$H$90"},null,"MarkParent",null,{"$f":"F3117","v":"Pidx"},{"$f":"G3117","v":"Tekst"},{"$f":"H3117","v":13},null,"dtsf:P_ID_6/dtsf:PozycjaUzytkownika","dtsf:Kwoty/dtsf:RB/dtsf:PodstawaPrawna/dtsf:Art"]
[1,{"$f":"Adr_Dodatkowe & \"!$I$90\"","v":"Dodatkowe!$I$90"},null,"",null,{"$f":"F3118","v":"Pidx"},"Tekst",13,null,"dtsf:P_ID_6/dtsf:PozycjaUzytkownika","dtsf:Kwoty/dtsf:RB/dtsf:PodstawaPrawna/dtsf:Ust"]
[1,{"$f":"Adr_Dodatkowe & \"!$J$90\"","v":"Dodatkowe!$J$90"},null,"",null,{"$f":"F3119","v":"Pidx"},"Tekst",13,null,"dtsf:P_ID_6/dtsf:PozycjaUzytkownika","dtsf:Kwoty/dtsf:RB/dtsf:PodstawaPrawna/dtsf:Pkt"]
[1,{"$f":"Adr_Dodatkowe & \"!$K$90\"","v":"Dodatkowe!$K$90"},null,"",null,{"$f":"F3120","v":"Pidx"},"Tekst",13,null,"dtsf:P_ID_6/dtsf:PozycjaUzytkownika","dtsf:Kwoty/dtsf:RB/dtsf:PodstawaPrawna/dtsf:Lit"]
[1,{"$f":"Adr_Dodatkowe & \"!$L$90\"","v":"Dodatkowe!$L$90"},null,"MarkParent:3",null,{"$f":"F3121","v":"Pidx"},"Kwota",{"$f":"H3121","v":13},null,"dtsf:P_ID_6/dtsf:PozycjaUzytkownika","dtsf:Kwoty/dtsf:RB/dtsf:Kwota/dtsf:KwotaA"]
[1,{"$f":"Adr_Dodatkowe & \"!$M$90\"","v":"Dodatkowe!$M$90"},null,"",null,{"$f":"F3122","v":"Pidx"},"Kwota",13,null,"dtsf:P_ID_6/dtsf:PozycjaUzytkownika","dtsf:Kwoty/dtsf:RB/dtsf:Kwota/dtsf:KwotaB"]
[2,{"$f":"Adr_Dodatkowe & \"!$O$90\"","v":"Dodatkowe!$O$90"},null,"MarkParent",null,{"$f":"F3123","v":"Pidx"},"Kwota",13,null,"dtsf:P_ID_6/dtsf:PozycjaUzytkownika","dtsf:Kwoty/dtsf:RP/dtsf:KwotaA"]
[1,{"$f":"Adr_Dodatkowe & \"!$P$90\"","v":"Dodatkowe!$P$90"},null,"",null,{"$f":"F3124","v":"Pidx"},"Kwota",13,null,"dtsf:P_ID_6/dtsf:PozycjaUzytkownika","dtsf:Kwoty/dtsf:RP/dtsf:KwotaB"]
[null,{"$f":"Adr_Dodatkowe & \"!$G$91\"","v":"Dodatkowe!$G$91"},null,"MarkParent",null,"Pidx","Tekst",{"$f":"H3117+1","v":14},null,"dtsf:P_ID_6/dtsf:PozycjaUzytkownika","dtsf:NazwaPozycji"]
[1,{"$f":"Adr_Dodatkowe & \"!$H$91\"","v":"Dodatkowe!$H$91"},null,"MarkParent",null,{"$f":"F3126","v":"Pidx"},{"$f":"G3126","v":"Tekst"},{"$f":"H3126","v":14},null,"dtsf:P_ID_6/dtsf:PozycjaUzytkownika","dtsf:Kwoty/dtsf:RB/dtsf:PodstawaPrawna/dtsf:Art"]
[1,{"$f":"Adr_Dodatkowe & \"!$I$91\"","v":"Dodatkowe!$I$91"},null,"",null,{"$f":"F3127","v":"Pidx"},"Tekst",14,null,"dtsf:P_ID_6/dtsf:PozycjaUzytkownika","dtsf:Kwoty/dtsf:RB/dtsf:PodstawaPrawna/dtsf:Ust"]
[1,{"$f":"Adr_Dodatkowe & \"!$J$91\"","v":"Dodatkowe!$J$91"},null,"",null,{"$f":"F3128","v":"Pidx"},"Tekst",14,null,"dtsf:P_ID_6/dtsf:PozycjaUzytkownika","dtsf:Kwoty/dtsf:RB/dtsf:PodstawaPrawna/dtsf:Pkt"]
[1,{"$f":"Adr_Dodatkowe & \"!$K$91\"","v":"Dodatkowe!$K$91"},null,"",null,{"$f":"F3129","v":"Pidx"},"Tekst",14,null,"dtsf:P_ID_6/dtsf:PozycjaUzytkownika","dtsf:Kwoty/dtsf:RB/dtsf:PodstawaPrawna/dtsf:Lit"]
[1,{"$f":"Adr_Dodatkowe & \"!$L$91\"","v":"Dodatkowe!$L$91"},null,"MarkParent:3",null,{"$f":"F3130","v":"Pidx"},"Kwota",{"$f":"H3130","v":14},null,"dtsf:P_ID_6/dtsf:PozycjaUzytkownika","dtsf:Kwoty/dtsf:RB/dtsf:Kwota/dtsf:KwotaA"]
[1,{"$f":"Adr_Dodatkowe & \"!$M$91\"","v":"Dodatkowe!$M$91"},null,"",null,{"$f":"F3131","v":"Pidx"},"Kwota",14,null,"dtsf:P_ID_6/dtsf:PozycjaUzytkownika","dtsf:Kwoty/dtsf:RB/dtsf:Kwota/dtsf:KwotaB"]
[2,{"$f":"Adr_Dodatkowe & \"!$O$91\"","v":"Dodatkowe!$O$91"},null,"MarkParent",null,{"$f":"F3132","v":"Pidx"},"Kwota",14,null,"dtsf:P_ID_6/dtsf:PozycjaUzytkownika","dtsf:Kwoty/dtsf:RP/dtsf:KwotaA"]
[1,{"$f":"Adr_Dodatkowe & \"!$P$91\"","v":"Dodatkowe!$P$91"},null,"",null,{"$f":"F3133","v":"Pidx"},"Kwota",14,null,"dtsf:P_ID_6/dtsf:PozycjaUzytkownika","dtsf:Kwoty/dtsf:RP/dtsf:KwotaB"]
[null,{"$f":"Adr_Dodatkowe & \"!$G$92\"","v":"Dodatkowe!$G$92"},null,"MarkParent",null,"Pidx","Tekst",{"$f":"H3126+1","v":15},null,"dtsf:P_ID_6/dtsf:PozycjaUzytkownika","dtsf:NazwaPozycji"]
[1,{"$f":"Adr_Dodatkowe & \"!$H$92\"","v":"Dodatkowe!$H$92"},null,"MarkParent",null,{"$f":"F3135","v":"Pidx"},{"$f":"G3135","v":"Tekst"},{"$f":"H3135","v":15},null,"dtsf:P_ID_6/dtsf:PozycjaUzytkownika","dtsf:Kwoty/dtsf:RB/dtsf:PodstawaPrawna/dtsf:Art"]
[1,{"$f":"Adr_Dodatkowe & \"!$I$92\"","v":"Dodatkowe!$I$92"},null,"",null,{"$f":"F3136","v":"Pidx"},"Tekst",15,null,"dtsf:P_ID_6/dtsf:PozycjaUzytkownika","dtsf:Kwoty/dtsf:RB/dtsf:PodstawaPrawna/dtsf:Ust"]
[1,{"$f":"Adr_Dodatkowe & \"!$J$92\"","v":"Dodatkowe!$J$92"},null,"",null,{"$f":"F3137","v":"Pidx"},"Tekst",15,null,"dtsf:P_ID_6/dtsf:PozycjaUzytkownika","dtsf:Kwoty/dtsf:RB/dtsf:PodstawaPrawna/dtsf:Pkt"]
[1,{"$f":"Adr_Dodatkowe & \"!$K$92\"","v":"Dodatkowe!$K$92"},null,"",null,{"$f":"F3138","v":"Pidx"},"Tekst",15,null,"dtsf:P_ID_6/dtsf:PozycjaUzytkownika","dtsf:Kwoty/dtsf:RB/dtsf:PodstawaPrawna/dtsf:Lit"]
[1,{"$f":"Adr_Dodatkowe & \"!$L$92\"","v":"Dodatkowe!$L$92"},null,"MarkParent:3",null,{"$f":"F3139","v":"Pidx"},"Kwota",{"$f":"H3139","v":15},null,"dtsf:P_ID_6/dtsf:PozycjaUzytkownika","dtsf:Kwoty/dtsf:RB/dtsf:Kwota/dtsf:KwotaA"]
[1,{"$f":"Adr_Dodatkowe & \"!$M$92\"","v":"Dodatkowe!$M$92"},null,"",null,{"$f":"F3140","v":"Pidx"},"Kwota",15,null,"dtsf:P_ID_6/dtsf:PozycjaUzytkownika","dtsf:Kwoty/dtsf:RB/dtsf:Kwota/dtsf:KwotaB"]
[2,{"$f":"Adr_Dodatkowe & \"!$O$92\"","v":"Dodatkowe!$O$92"},null,"MarkParent",null,{"$f":"F3141","v":"Pidx"},"Kwota",15,null,"dtsf:P_ID_6/dtsf:PozycjaUzytkownika","dtsf:Kwoty/dtsf:RP/dtsf:KwotaA"]
[1,{"$f":"Adr_Dodatkowe & \"!$P$92\"","v":"Dodatkowe!$P$92"},null,"",null,{"$f":"F3142","v":"Pidx"},"Kwota",15,null,"dtsf:P_ID_6/dtsf:PozycjaUzytkownika","dtsf:Kwoty/dtsf:RP/dtsf:KwotaB"]
[null,{"$f":"Adr_Dodatkowe & \"!$L$93\"","v":"Dodatkowe!$L$93"},null,"ExportOnly",null,null,"Kwota",null,null,"dtsf:P_ID_6/dtsf:Pozostale","dtsf:RB/dtsf:KwotaA"]
[1,{"$f":"Adr_Dodatkowe & \"!$M$93\"","v":"Dodatkowe!$M$93"},null,"ExportOnly",null,null,{"$f":"G3144","v":"Kwota"},null,null,"dtsf:P_ID_6/dtsf:Pozostale","dtsf:RB/dtsf:KwotaB"]
[2,{"$f":"Adr_Dodatkowe & \"!$O$93\"","v":"Dodatkowe!$O$93"},null,"ExportOnly",null,null,"Kwota",null,null,"dtsf:P_ID_6/dtsf:Pozostale","dtsf:RP/dtsf:KwotaA"]
[1,{"$f":"Adr_Dodatkowe & \"!$P$93\"","v":"Dodatkowe!$P$93"},null,"ExportOnly",null,null,"Kwota",null,null,"dtsf:P_ID_6/dtsf:Pozostale","dtsf:RP/dtsf:KwotaB"]
[null,{"$f":"Adr_Dodatkowe & \"!$L$95\"","v":"Dodatkowe!$L$95"},null,"MarkParent:3",null,null,"Kwota",null,null,"dtsf:P_ID_7/dtsf:Kwota","dtsf:RB/dtsf:KwotaA"]
[null,{"$f":"Adr_Dodatkowe & \"!$M$95\"","v":"Dodatkowe!$M$95"},null,{"$f":"D3148","v":"MarkParent:3"},null,null,{"$f":"G3148","v":"Kwota"},null,null,"dtsf:P_ID_7/dtsf:Kwota","dtsf:RB/dtsf:KwotaB"]
[null,{"$f":"Adr_Dodatkowe & \"!$O$95\"","v":"Dodatkowe!$O$95"},null,"MarkParent:3",null,null,"Kwota",null,null,"dtsf:P_ID_7/dtsf:Kwota","dtsf:RP/dtsf:KwotaA"]
[null,{"$f":"Adr_Dodatkowe & \"!$P$95\"","v":"Dodatkowe!$P$95"},null,{"$f":"D3150","v":"MarkParent:3"},null,null,{"$f":"G3150","v":"Kwota"},null,null,"dtsf:P_ID_7/dtsf:Kwota","dtsf:RP/dtsf:KwotaB"]
[null,{"$f":"Adr_Dodatkowe & \"!$G$97\"","v":"Dodatkowe!$G$97"},null,{"$f":"$D$2527 & \"\"","v":"MarkParent"},null,"Pidx","Tekst",1,null,"dtsf:P_ID_7/dtsf:PozycjaUzytkownika","dtsf:NazwaPozycji"]
[1,{"$f":"Adr_Dodatkowe & \"!$H$97\"","v":"Dodatkowe!$H$97"},null,{"$f":"$D$2528 & \"\"","v":"MarkParent"},null,{"$f":"F3152","v":"Pidx"},{"$f":"G3152","v":"Tekst"},{"$f":"H3152","v":1},null,"dtsf:P_ID_7/dtsf:PozycjaUzytkownika","dtsf:Kwoty/dtsf:RB/dtsf:PodstawaPrawna/dtsf:Art"]
[1,{"$f":"Adr_Dodatkowe & \"!$I$97\"","v":"Dodatkowe!$I$97"},null,{"$f":"$D$2529 & \"\"","v":""},null,{"$f":"F3153","v":"Pidx"},"Tekst",1,null,"dtsf:P_ID_7/dtsf:PozycjaUzytkownika","dtsf:Kwoty/dtsf:RB/dtsf:PodstawaPrawna/dtsf:Ust"]
[1,{"$f":"Adr_Dodatkowe & \"!$J$97\"","v":"Dodatkowe!$J$97"},null,{"$f":"$D$2530 & \"\"","v":""},null,{"$f":"F3154","v":"Pidx"},"Tekst",1,null,"dtsf:P_ID_7/dtsf:PozycjaUzytkownika","dtsf:Kwoty/dtsf:RB/dtsf:PodstawaPrawna/dtsf:Pkt"]
[1,{"$f":"Adr_Dodatkowe & \"!$K$97\"","v":"Dodatkowe!$K$97"},null,{"$f":"$D$2531 & \"\"","v":""},null,{"$f":"F3155","v":"Pidx"},"Tekst",1,null,"dtsf:P_ID_7/dtsf:PozycjaUzytkownika","dtsf:Kwoty/dtsf:RB/dtsf:PodstawaPrawna/dtsf:Lit"]
[1,{"$f":"Adr_Dodatkowe & \"!$L$97\"","v":"Dodatkowe!$L$97"},null,{"$f":"$D$2532 & \"\"","v":"MarkParent:3"},null,{"$f":"F3156","v":"Pidx"},"Kwota",{"$f":"H3156","v":1},null,"dtsf:P_ID_7/dtsf:PozycjaUzytkownika","dtsf:Kwoty/dtsf:RB/dtsf:Kwota/dtsf:KwotaA"]
[1,{"$f":"Adr_Dodatkowe & \"!$M$97\"","v":"Dodatkowe!$M$97"},null,{"$f":"$D$2533 & \"\"","v":""},null,{"$f":"F3157","v":"Pidx"},"Kwota",1,null,"dtsf:P_ID_7/dtsf:PozycjaUzytkownika","dtsf:Kwoty/dtsf:RB/dtsf:Kwota/dtsf:KwotaB"]
[2,{"$f":"Adr_Dodatkowe & \"!$O$97\"","v":"Dodatkowe!$O$97"},null,{"$f":"$D$2534 & \"\"","v":"MarkParent"},null,{"$f":"F3158","v":"Pidx"},"Kwota",1,null,"dtsf:P_ID_7/dtsf:PozycjaUzytkownika","dtsf:Kwoty/dtsf:RP/dtsf:KwotaA"]
[1,{"$f":"Adr_Dodatkowe & \"!$P$97\"","v":"Dodatkowe!$P$97"},null,null,null,{"$f":"F3159","v":"Pidx"},"Kwota",1,null,"dtsf:P_ID_7/dtsf:PozycjaUzytkownika","dtsf:Kwoty/dtsf:RP/dtsf:KwotaB"]
[null,{"$f":"Adr_Dodatkowe & \"!$G$98\"","v":"Dodatkowe!$G$98"},null,{"$f":"D3152 & \"\"","v":"MarkParent"},null,"Pidx","Tekst",{"$f":"H3152+1","v":2},null,"dtsf:P_ID_7/dtsf:PozycjaUzytkownika","dtsf:NazwaPozycji"]
[1,{"$f":"Adr_Dodatkowe & \"!$H$98\"","v":"Dodatkowe!$H$98"},null,{"$f":"D3153 & \"\"","v":"MarkParent"},null,{"$f":"F3161","v":"Pidx"},{"$f":"G3161","v":"Tekst"},{"$f":"H3161","v":2},null,"dtsf:P_ID_7/dtsf:PozycjaUzytkownika","dtsf:Kwoty/dtsf:RB/dtsf:PodstawaPrawna/dtsf:Art"]
[1,{"$f":"Adr_Dodatkowe & \"!$I$98\"","v":"Dodatkowe!$I$98"},null,"",null,{"$f":"F3162","v":"Pidx"},"Tekst",2,null,"dtsf:P_ID_7/dtsf:PozycjaUzytkownika","dtsf:Kwoty/dtsf:RB/dtsf:PodstawaPrawna/dtsf:Ust"]
[1,{"$f":"Adr_Dodatkowe & \"!$J$98\"","v":"Dodatkowe!$J$98"},null,"",null,{"$f":"F3163","v":"Pidx"},"Tekst",2,null,"dtsf:P_ID_7/dtsf:PozycjaUzytkownika","dtsf:Kwoty/dtsf:RB/dtsf:PodstawaPrawna/dtsf:Pkt"]
[1,{"$f":"Adr_Dodatkowe & \"!$K$98\"","v":"Dodatkowe!$K$98"},null,"",null,{"$f":"F3164","v":"Pidx"},"Tekst",2,null,"dtsf:P_ID_7/dtsf:PozycjaUzytkownika","dtsf:Kwoty/dtsf:RB/dtsf:PodstawaPrawna/dtsf:Lit"]
[1,{"$f":"Adr_Dodatkowe & \"!$L$98\"","v":"Dodatkowe!$L$98"},null,"MarkParent:3",null,{"$f":"F3165","v":"Pidx"},"Kwota",{"$f":"H3165","v":2},null,"dtsf:P_ID_7/dtsf:PozycjaUzytkownika","dtsf:Kwoty/dtsf:RB/dtsf:Kwota/dtsf:KwotaA"]
[1,{"$f":"Adr_Dodatkowe & \"!$M$98\"","v":"Dodatkowe!$M$98"},null,{"$f":"D3158 & \"\"","v":""},null,{"$f":"F3166","v":"Pidx"},"Kwota",2,null,"dtsf:P_ID_7/dtsf:PozycjaUzytkownika","dtsf:Kwoty/dtsf:RB/dtsf:Kwota/dtsf:KwotaB"]
[2,{"$f":"Adr_Dodatkowe & \"!$O$98\"","v":"Dodatkowe!$O$98"},null,"MarkParent",null,{"$f":"F3167","v":"Pidx"},"Kwota",2,null,"dtsf:P_ID_7/dtsf:PozycjaUzytkownika","dtsf:Kwoty/dtsf:RP/dtsf:KwotaA"]
[1,{"$f":"Adr_Dodatkowe & \"!$P$98\"","v":"Dodatkowe!$P$98"},null,"",null,{"$f":"F3168","v":"Pidx"},"Kwota",2,null,"dtsf:P_ID_7/dtsf:PozycjaUzytkownika","dtsf:Kwoty/dtsf:RP/dtsf:KwotaB"]
[null,{"$f":"Adr_Dodatkowe & \"!$G$99\"","v":"Dodatkowe!$G$99"},null,"MarkParent",null,"Pidx","Tekst",{"$f":"H3161+1","v":3},null,"dtsf:P_ID_7/dtsf:PozycjaUzytkownika","dtsf:NazwaPozycji"]
[1,{"$f":"Adr_Dodatkowe & \"!$H$99\"","v":"Dodatkowe!$H$99"},null,{"$f":"D3162 & \"\"","v":"MarkParent"},null,{"$f":"F3170","v":"Pidx"},{"$f":"G3170","v":"Tekst"},{"$f":"H3170","v":3},null,"dtsf:P_ID_7/dtsf:PozycjaUzytkownika","dtsf:Kwoty/dtsf:RB/dtsf:PodstawaPrawna/dtsf:Art"]
[1,{"$f":"Adr_Dodatkowe & \"!$I$99\"","v":"Dodatkowe!$I$99"},null,"",null,{"$f":"F3171","v":"Pidx"},"Tekst",3,null,"dtsf:P_ID_7/dtsf:PozycjaUzytkownika","dtsf:Kwoty/dtsf:RB/dtsf:PodstawaPrawna/dtsf:Ust"]
[1,{"$f":"Adr_Dodatkowe & \"!$J$99\"","v":"Dodatkowe!$J$99"},null,"",null,{"$f":"F3172","v":"Pidx"},"Tekst",3,null,"dtsf:P_ID_7/dtsf:PozycjaUzytkownika","dtsf:Kwoty/dtsf:RB/dtsf:PodstawaPrawna/dtsf:Pkt"]
[1,{"$f":"Adr_Dodatkowe & \"!$K$99\"","v":"Dodatkowe!$K$99"},null,"",null,{"$f":"F3173","v":"Pidx"},"Tekst",3,null,"dtsf:P_ID_7/dtsf:PozycjaUzytkownika","dtsf:Kwoty/dtsf:RB/dtsf:PodstawaPrawna/dtsf:Lit"]
[1,{"$f":"Adr_Dodatkowe & \"!$L$99\"","v":"Dodatkowe!$L$99"},null,"MarkParent:3",null,{"$f":"F3174","v":"Pidx"},"Kwota",{"$f":"H3174","v":3},null,"dtsf:P_ID_7/dtsf:PozycjaUzytkownika","dtsf:Kwoty/dtsf:RB/dtsf:Kwota/dtsf:KwotaA"]
[1,{"$f":"Adr_Dodatkowe & \"!$M$99\"","v":"Dodatkowe!$M$99"},null,"",null,{"$f":"F3175","v":"Pidx"},"Kwota",3,null,"dtsf:P_ID_7/dtsf:PozycjaUzytkownika","dtsf:Kwoty/dtsf:RB/dtsf:Kwota/dtsf:KwotaB"]
[2,{"$f":"Adr_Dodatkowe & \"!$O$99\"","v":"Dodatkowe!$O$99"},null,{"$f":"D3168 & \"\"","v":"MarkParent"},null,{"$f":"F3176","v":"Pidx"},"Kwota",3,null,"dtsf:P_ID_7/dtsf:PozycjaUzytkownika","dtsf:Kwoty/dtsf:RP/dtsf:KwotaA"]
[1,{"$f":"Adr_Dodatkowe & \"!$P$99\"","v":"Dodatkowe!$P$99"},null,{"$f":"D3169 & \"\"","v":""},null,{"$f":"F3177","v":"Pidx"},"Kwota",3,null,"dtsf:P_ID_7/dtsf:PozycjaUzytkownika","dtsf:Kwoty/dtsf:RP/dtsf:KwotaB"]
[null,{"$f":"Adr_Dodatkowe & \"!$G$100\"","v":"Dodatkowe!$G$100"},null,{"$f":"D3170 & \"\"","v":"MarkParent"},null,"Pidx","Tekst",{"$f":"H3170+1","v":4},null,"dtsf:P_ID_7/dtsf:PozycjaUzytkownika","dtsf:NazwaPozycji"]
[1,{"$f":"Adr_Dodatkowe & \"!$H$100\"","v":"Dodatkowe!$H$100"},null,"MarkParent",null,{"$f":"F3179","v":"Pidx"},{"$f":"G3179","v":"Tekst"},{"$f":"H3179","v":4},null,"dtsf:P_ID_7/dtsf:PozycjaUzytkownika","dtsf:Kwoty/dtsf:RB/dtsf:PodstawaPrawna/dtsf:Art"]
[1,{"$f":"Adr_Dodatkowe & \"!$I$100\"","v":"Dodatkowe!$I$100"},null,"",null,{"$f":"F3180","v":"Pidx"},"Tekst",4,null,"dtsf:P_ID_7/dtsf:PozycjaUzytkownika","dtsf:Kwoty/dtsf:RB/dtsf:PodstawaPrawna/dtsf:Ust"]
[1,{"$f":"Adr_Dodatkowe & \"!$J$100\"","v":"Dodatkowe!$J$100"},null,"",null,{"$f":"F3181","v":"Pidx"},"Tekst",4,null,"dtsf:P_ID_7/dtsf:PozycjaUzytkownika","dtsf:Kwoty/dtsf:RB/dtsf:PodstawaPrawna/dtsf:Pkt"]
[1,{"$f":"Adr_Dodatkowe & \"!$K$100\"","v":"Dodatkowe!$K$100"},null,"",null,{"$f":"F3182","v":"Pidx"},"Tekst",4,null,"dtsf:P_ID_7/dtsf:PozycjaUzytkownika","dtsf:Kwoty/dtsf:RB/dtsf:PodstawaPrawna/dtsf:Lit"]
[1,{"$f":"Adr_Dodatkowe & \"!$L$100\"","v":"Dodatkowe!$L$100"},null,{"$f":"D3175 & \"\"","v":"MarkParent:3"},null,{"$f":"F3183","v":"Pidx"},"Kwota",{"$f":"H3183","v":4},null,"dtsf:P_ID_7/dtsf:PozycjaUzytkownika","dtsf:Kwoty/dtsf:RB/dtsf:Kwota/dtsf:KwotaA"]
[1,{"$f":"Adr_Dodatkowe & \"!$M$100\"","v":"Dodatkowe!$M$100"},null,"",null,{"$f":"F3184","v":"Pidx"},"Kwota",4,null,"dtsf:P_ID_7/dtsf:PozycjaUzytkownika","dtsf:Kwoty/dtsf:RB/dtsf:Kwota/dtsf:KwotaB"]
[2,{"$f":"Adr_Dodatkowe & \"!$O$100\"","v":"Dodatkowe!$O$100"},null,"MarkParent",null,{"$f":"F3185","v":"Pidx"},"Kwota",4,null,"dtsf:P_ID_7/dtsf:PozycjaUzytkownika","dtsf:Kwoty/dtsf:RP/dtsf:KwotaA"]
[1,{"$f":"Adr_Dodatkowe & \"!$P$100\"","v":"Dodatkowe!$P$100"},null,"",null,{"$f":"F3186","v":"Pidx"},"Kwota",4,null,"dtsf:P_ID_7/dtsf:PozycjaUzytkownika","dtsf:Kwoty/dtsf:RP/dtsf:KwotaB"]
[null,{"$f":"Adr_Dodatkowe & \"!$G$101\"","v":"Dodatkowe!$G$101"},null,{"$f":"D3179 & \"\"","v":"MarkParent"},null,"Pidx","Tekst",{"$f":"H3179+1","v":5},null,"dtsf:P_ID_7/dtsf:PozycjaUzytkownika","dtsf:NazwaPozycji"]
[1,{"$f":"Adr_Dodatkowe & \"!$H$101\"","v":"Dodatkowe!$H$101"},null,{"$f":"D3180 & \"\"","v":"MarkParent"},null,{"$f":"F3188","v":"Pidx"},{"$f":"G3188","v":"Tekst"},{"$f":"H3188","v":5},null,"dtsf:P_ID_7/dtsf:PozycjaUzytkownika","dtsf:Kwoty/dtsf:RB/dtsf:PodstawaPrawna/dtsf:Art"]
[1,{"$f":"Adr_Dodatkowe & \"!$I$101\"","v":"Dodatkowe!$I$101"},null,"",null,{"$f":"F3189","v":"Pidx"},"Tekst",5,null,"dtsf:P_ID_7/dtsf:PozycjaUzytkownika","dtsf:Kwoty/dtsf:RB/dtsf:PodstawaPrawna/dtsf:Ust"]
[1,{"$f":"Adr_Dodatkowe & \"!$J$101\"","v":"Dodatkowe!$J$101"},null,"",null,{"$f":"F3190","v":"Pidx"},"Tekst",5,null,"dtsf:P_ID_7/dtsf:PozycjaUzytkownika","dtsf:Kwoty/dtsf:RB/dtsf:PodstawaPrawna/dtsf:Pkt"]
[1,{"$f":"Adr_Dodatkowe & \"!$K$101\"","v":"Dodatkowe!$K$101"},null,"",null,{"$f":"F3191","v":"Pidx"},"Tekst",5,null,"dtsf:P_ID_7/dtsf:PozycjaUzytkownika","dtsf:Kwoty/dtsf:RB/dtsf:PodstawaPrawna/dtsf:Lit"]
[1,{"$f":"Adr_Dodatkowe & \"!$L$101\"","v":"Dodatkowe!$L$101"},null,"MarkParent:3",null,{"$f":"F3192","v":"Pidx"},"Kwota",{"$f":"H3192","v":5},null,"dtsf:P_ID_7/dtsf:PozycjaUzytkownika","dtsf:Kwoty/dtsf:RB/dtsf:Kwota/dtsf:KwotaA"]
[1,{"$f":"Adr_Dodatkowe & \"!$M$101\"","v":"Dodatkowe!$M$101"},null,{"$f":"D3185 & \"\"","v":""},null,{"$f":"F3193","v":"Pidx"},"Kwota",5,null,"dtsf:P_ID_7/dtsf:PozycjaUzytkownika","dtsf:Kwoty/dtsf:RB/dtsf:Kwota/dtsf:KwotaB"]
[2,{"$f":"Adr_Dodatkowe & \"!$O$101\"","v":"Dodatkowe!$O$101"},null,"MarkParent",null,{"$f":"F3194","v":"Pidx"},"Kwota",5,null,"dtsf:P_ID_7/dtsf:PozycjaUzytkownika","dtsf:Kwoty/dtsf:RP/dtsf:KwotaA"]
[1,{"$f":"Adr_Dodatkowe & \"!$P$101\"","v":"Dodatkowe!$P$101"},null,"",null,{"$f":"F3195","v":"Pidx"},"Kwota",5,null,"dtsf:P_ID_7/dtsf:PozycjaUzytkownika","dtsf:Kwoty/dtsf:RP/dtsf:KwotaB"]
[null,{"$f":"Adr_Dodatkowe & \"!$G$102\"","v":"Dodatkowe!$G$102"},null,"MarkParent",null,"Pidx","Tekst",{"$f":"H3188+1","v":6},null,"dtsf:P_ID_7/dtsf:PozycjaUzytkownika","dtsf:NazwaPozycji"]
[1,{"$f":"Adr_Dodatkowe & \"!$H$102\"","v":"Dodatkowe!$H$102"},null,"MarkParent",null,{"$f":"F3197","v":"Pidx"},{"$f":"G3197","v":"Tekst"},{"$f":"H3197","v":6},null,"dtsf:P_ID_7/dtsf:PozycjaUzytkownika","dtsf:Kwoty/dtsf:RB/dtsf:PodstawaPrawna/dtsf:Art"]
[1,{"$f":"Adr_Dodatkowe & \"!$I$102\"","v":"Dodatkowe!$I$102"},null,"",null,{"$f":"F3198","v":"Pidx"},"Tekst",6,null,"dtsf:P_ID_7/dtsf:PozycjaUzytkownika","dtsf:Kwoty/dtsf:RB/dtsf:PodstawaPrawna/dtsf:Ust"]
[1,{"$f":"Adr_Dodatkowe & \"!$J$102\"","v":"Dodatkowe!$J$102"},null,"",null,{"$f":"F3199","v":"Pidx"},"Tekst",6,null,"dtsf:P_ID_7/dtsf:PozycjaUzytkownika","dtsf:Kwoty/dtsf:RB/dtsf:PodstawaPrawna/dtsf:Pkt"]
[1,{"$f":"Adr_Dodatkowe & \"!$K$102\"","v":"Dodatkowe!$K$102"},null,"",null,{"$f":"F3200","v":"Pidx"},"Tekst",6,null,"dtsf:P_ID_7/dtsf:PozycjaUzytkownika","dtsf:Kwoty/dtsf:RB/dtsf:PodstawaPrawna/dtsf:Lit"]
[1,{"$f":"Adr_Dodatkowe & \"!$L$102\"","v":"Dodatkowe!$L$102"},null,"MarkParent:3",null,{"$f":"F3201","v":"Pidx"},"Kwota",{"$f":"H3201","v":6},null,"dtsf:P_ID_7/dtsf:PozycjaUzytkownika","dtsf:Kwoty/dtsf:RB/dtsf:Kwota/dtsf:KwotaA"]
[1,{"$f":"Adr_Dodatkowe & \"!$M$102\"","v":"Dodatkowe!$M$102"},null,"",null,{"$f":"F3202","v":"Pidx"},"Kwota",6,null,"dtsf:P_ID_7/dtsf:PozycjaUzytkownika","dtsf:Kwoty/dtsf:RB/dtsf:Kwota/dtsf:KwotaB"]
[2,{"$f":"Adr_Dodatkowe & \"!$O$102\"","v":"Dodatkowe!$O$102"},null,"MarkParent",null,{"$f":"F3203","v":"Pidx"},"Kwota",6,null,"dtsf:P_ID_7/dtsf:PozycjaUzytkownika","dtsf:Kwoty/dtsf:RP/dtsf:KwotaA"]
[1,{"$f":"Adr_Dodatkowe & \"!$P$102\"","v":"Dodatkowe!$P$102"},null,"",null,{"$f":"F3204","v":"Pidx"},"Kwota",6,null,"dtsf:P_ID_7/dtsf:PozycjaUzytkownika","dtsf:Kwoty/dtsf:RP/dtsf:KwotaB"]
[null,{"$f":"Adr_Dodatkowe & \"!$G$103\"","v":"Dodatkowe!$G$103"},null,"MarkParent",null,"Pidx","Tekst",{"$f":"H3197+1","v":7},null,"dtsf:P_ID_7/dtsf:PozycjaUzytkownika","dtsf:NazwaPozycji"]
[1,{"$f":"Adr_Dodatkowe & \"!$H$103\"","v":"Dodatkowe!$H$103"},null,"MarkParent",null,{"$f":"F3206","v":"Pidx"},{"$f":"G3206","v":"Tekst"},{"$f":"H3206","v":7},null,"dtsf:P_ID_7/dtsf:PozycjaUzytkownika","dtsf:Kwoty/dtsf:RB/dtsf:PodstawaPrawna/dtsf:Art"]
[1,{"$f":"Adr_Dodatkowe & \"!$I$103\"","v":"Dodatkowe!$I$103"},null,"",null,{"$f":"F3207","v":"Pidx"},"Tekst",7,null,"dtsf:P_ID_7/dtsf:PozycjaUzytkownika","dtsf:Kwoty/dtsf:RB/dtsf:PodstawaPrawna/dtsf:Ust"]
[1,{"$f":"Adr_Dodatkowe & \"!$J$103\"","v":"Dodatkowe!$J$103"},null,"",null,{"$f":"F3208","v":"Pidx"},"Tekst",7,null,"dtsf:P_ID_7/dtsf:PozycjaUzytkownika","dtsf:Kwoty/dtsf:RB/dtsf:PodstawaPrawna/dtsf:Pkt"]
[1,{"$f":"Adr_Dodatkowe & \"!$K$103\"","v":"Dodatkowe!$K$103"},null,"",null,{"$f":"F3209","v":"Pidx"},"Tekst",7,null,"dtsf:P_ID_7/dtsf:PozycjaUzytkownika","dtsf:Kwoty/dtsf:RB/dtsf:PodstawaPrawna/dtsf:Lit"]
[1,{"$f":"Adr_Dodatkowe & \"!$L$103\"","v":"Dodatkowe!$L$103"},null,"MarkParent:3",null,{"$f":"F3210","v":"Pidx"},"Kwota",{"$f":"H3210","v":7},null,"dtsf:P_ID_7/dtsf:PozycjaUzytkownika","dtsf:Kwoty/dtsf:RB/dtsf:Kwota/dtsf:KwotaA"]
[1,{"$f":"Adr_Dodatkowe & \"!$M$103\"","v":"Dodatkowe!$M$103"},null,"",null,{"$f":"F3211","v":"Pidx"},"Kwota",7,null,"dtsf:P_ID_7/dtsf:PozycjaUzytkownika","dtsf:Kwoty/dtsf:RB/dtsf:Kwota/dtsf:KwotaB"]
[2,{"$f":"Adr_Dodatkowe & \"!$O$103\"","v":"Dodatkowe!$O$103"},null,"MarkParent",null,{"$f":"F3212","v":"Pidx"},"Kwota",7,null,"dtsf:P_ID_7/dtsf:PozycjaUzytkownika","dtsf:Kwoty/dtsf:RP/dtsf:KwotaA"]
[1,{"$f":"Adr_Dodatkowe & \"!$P$103\"","v":"Dodatkowe!$P$103"},null,"",null,{"$f":"F3213","v":"Pidx"},"Kwota",7,null,"dtsf:P_ID_7/dtsf:PozycjaUzytkownika","dtsf:Kwoty/dtsf:RP/dtsf:KwotaB"]
[null,{"$f":"Adr_Dodatkowe & \"!$G$104\"","v":"Dodatkowe!$G$104"},null,"MarkParent",null,"Pidx","Tekst",{"$f":"H3206+1","v":8},null,"dtsf:P_ID_7/dtsf:PozycjaUzytkownika","dtsf:NazwaPozycji"]
[1,{"$f":"Adr_Dodatkowe & \"!$H$104\"","v":"Dodatkowe!$H$104"},null,"MarkParent",null,{"$f":"F3215","v":"Pidx"},{"$f":"G3215","v":"Tekst"},{"$f":"H3215","v":8},null,"dtsf:P_ID_7/dtsf:PozycjaUzytkownika","dtsf:Kwoty/dtsf:RB/dtsf:PodstawaPrawna/dtsf:Art"]
[1,{"$f":"Adr_Dodatkowe & \"!$I$104\"","v":"Dodatkowe!$I$104"},null,"",null,{"$f":"F3216","v":"Pidx"},"Tekst",8,null,"dtsf:P_ID_7/dtsf:PozycjaUzytkownika","dtsf:Kwoty/dtsf:RB/dtsf:PodstawaPrawna/dtsf:Ust"]
[1,{"$f":"Adr_Dodatkowe & \"!$J$104\"","v":"Dodatkowe!$J$104"},null,"",null,{"$f":"F3217","v":"Pidx"},"Tekst",8,null,"dtsf:P_ID_7/dtsf:PozycjaUzytkownika","dtsf:Kwoty/dtsf:RB/dtsf:PodstawaPrawna/dtsf:Pkt"]
[1,{"$f":"Adr_Dodatkowe & \"!$K$104\"","v":"Dodatkowe!$K$104"},null,"",null,{"$f":"F3218","v":"Pidx"},"Tekst",8,null,"dtsf:P_ID_7/dtsf:PozycjaUzytkownika","dtsf:Kwoty/dtsf:RB/dtsf:PodstawaPrawna/dtsf:Lit"]
[1,{"$f":"Adr_Dodatkowe & \"!$L$104\"","v":"Dodatkowe!$L$104"},null,"MarkParent:3",null,{"$f":"F3219","v":"Pidx"},"Kwota",{"$f":"H3219","v":8},null,"dtsf:P_ID_7/dtsf:PozycjaUzytkownika","dtsf:Kwoty/dtsf:RB/dtsf:Kwota/dtsf:KwotaA"]
[1,{"$f":"Adr_Dodatkowe & \"!$M$104\"","v":"Dodatkowe!$M$104"},null,"",null,{"$f":"F3220","v":"Pidx"},"Kwota",8,null,"dtsf:P_ID_7/dtsf:PozycjaUzytkownika","dtsf:Kwoty/dtsf:RB/dtsf:Kwota/dtsf:KwotaB"]
[2,{"$f":"Adr_Dodatkowe & \"!$O$104\"","v":"Dodatkowe!$O$104"},null,"MarkParent",null,{"$f":"F3221","v":"Pidx"},"Kwota",8,null,"dtsf:P_ID_7/dtsf:PozycjaUzytkownika","dtsf:Kwoty/dtsf:RP/dtsf:KwotaA"]
[1,{"$f":"Adr_Dodatkowe & \"!$P$104\"","v":"Dodatkowe!$P$104"},null,"",null,{"$f":"F3222","v":"Pidx"},"Kwota",8,null,"dtsf:P_ID_7/dtsf:PozycjaUzytkownika","dtsf:Kwoty/dtsf:RP/dtsf:KwotaB"]
[null,{"$f":"Adr_Dodatkowe & \"!$G$105\"","v":"Dodatkowe!$G$105"},null,"MarkParent",null,"Pidx","Tekst",{"$f":"H3215+1","v":9},null,"dtsf:P_ID_7/dtsf:PozycjaUzytkownika","dtsf:NazwaPozycji"]
[1,{"$f":"Adr_Dodatkowe & \"!$H$105\"","v":"Dodatkowe!$H$105"},null,"MarkParent",null,{"$f":"F3224","v":"Pidx"},{"$f":"G3224","v":"Tekst"},{"$f":"H3224","v":9},null,"dtsf:P_ID_7/dtsf:PozycjaUzytkownika","dtsf:Kwoty/dtsf:RB/dtsf:PodstawaPrawna/dtsf:Art"]
[1,{"$f":"Adr_Dodatkowe & \"!$I$105\"","v":"Dodatkowe!$I$105"},null,"",null,{"$f":"F3225","v":"Pidx"},"Tekst",9,null,"dtsf:P_ID_7/dtsf:PozycjaUzytkownika","dtsf:Kwoty/dtsf:RB/dtsf:PodstawaPrawna/dtsf:Ust"]
[1,{"$f":"Adr_Dodatkowe & \"!$J$105\"","v":"Dodatkowe!$J$105"},null,"",null,{"$f":"F3226","v":"Pidx"},"Tekst",9,null,"dtsf:P_ID_7/dtsf:PozycjaUzytkownika","dtsf:Kwoty/dtsf:RB/dtsf:PodstawaPrawna/dtsf:Pkt"]
[1,{"$f":"Adr_Dodatkowe & \"!$K$105\"","v":"Dodatkowe!$K$105"},null,"",null,{"$f":"F3227","v":"Pidx"},"Tekst",9,null,"dtsf:P_ID_7/dtsf:PozycjaUzytkownika","dtsf:Kwoty/dtsf:RB/dtsf:PodstawaPrawna/dtsf:Lit"]
[1,{"$f":"Adr_Dodatkowe & \"!$L$105\"","v":"Dodatkowe!$L$105"},null,"MarkParent:3",null,{"$f":"F3228","v":"Pidx"},"Kwota",{"$f":"H3228","v":9},null,"dtsf:P_ID_7/dtsf:PozycjaUzytkownika","dtsf:Kwoty/dtsf:RB/dtsf:Kwota/dtsf:KwotaA"]
[1,{"$f":"Adr_Dodatkowe & \"!$M$105\"","v":"Dodatkowe!$M$105"},null,"",null,{"$f":"F3229","v":"Pidx"},"Kwota",9,null,"dtsf:P_ID_7/dtsf:PozycjaUzytkownika","dtsf:Kwoty/dtsf:RB/dtsf:Kwota/dtsf:KwotaB"]
[2,{"$f":"Adr_Dodatkowe & \"!$O$105\"","v":"Dodatkowe!$O$105"},null,"MarkParent",null,{"$f":"F3230","v":"Pidx"},"Kwota",9,null,"dtsf:P_ID_7/dtsf:PozycjaUzytkownika","dtsf:Kwoty/dtsf:RP/dtsf:KwotaA"]
[1,{"$f":"Adr_Dodatkowe & \"!$P$105\"","v":"Dodatkowe!$P$105"},null,"",null,{"$f":"F3231","v":"Pidx"},"Kwota",9,null,"dtsf:P_ID_7/dtsf:PozycjaUzytkownika","dtsf:Kwoty/dtsf:RP/dtsf:KwotaB"]
[null,{"$f":"Adr_Dodatkowe & \"!$G$106\"","v":"Dodatkowe!$G$106"},null,"MarkParent",null,"Pidx","Tekst",{"$f":"H3224+1","v":10},null,"dtsf:P_ID_7/dtsf:PozycjaUzytkownika","dtsf:NazwaPozycji"]
[1,{"$f":"Adr_Dodatkowe & \"!$H$106\"","v":"Dodatkowe!$H$106"},null,"MarkParent",null,{"$f":"F3233","v":"Pidx"},{"$f":"G3233","v":"Tekst"},{"$f":"H3233","v":10},null,"dtsf:P_ID_7/dtsf:PozycjaUzytkownika","dtsf:Kwoty/dtsf:RB/dtsf:PodstawaPrawna/dtsf:Art"]
[1,{"$f":"Adr_Dodatkowe & \"!$I$106\"","v":"Dodatkowe!$I$106"},null,"",null,{"$f":"F3234","v":"Pidx"},"Tekst",10,null,"dtsf:P_ID_7/dtsf:PozycjaUzytkownika","dtsf:Kwoty/dtsf:RB/dtsf:PodstawaPrawna/dtsf:Ust"]
[1,{"$f":"Adr_Dodatkowe & \"!$J$106\"","v":"Dodatkowe!$J$106"},null,"",null,{"$f":"F3235","v":"Pidx"},"Tekst",10,null,"dtsf:P_ID_7/dtsf:PozycjaUzytkownika","dtsf:Kwoty/dtsf:RB/dtsf:PodstawaPrawna/dtsf:Pkt"]
[1,{"$f":"Adr_Dodatkowe & \"!$K$106\"","v":"Dodatkowe!$K$106"},null,"",null,{"$f":"F3236","v":"Pidx"},"Tekst",10,null,"dtsf:P_ID_7/dtsf:PozycjaUzytkownika","dtsf:Kwoty/dtsf:RB/dtsf:PodstawaPrawna/dtsf:Lit"]
[1,{"$f":"Adr_Dodatkowe & \"!$L$106\"","v":"Dodatkowe!$L$106"},null,"MarkParent:3",null,"Pidx","Kwota",10,null,"dtsf:P_ID_7/dtsf:PozycjaUzytkownika","dtsf:Kwoty/dtsf:RB/dtsf:Kwota/dtsf:KwotaA"]
[1,{"$f":"Adr_Dodatkowe & \"!$M$106\"","v":"Dodatkowe!$M$106"},null,"",null,{"$f":"F3238","v":"Pidx"},"Kwota",10,null,"dtsf:P_ID_7/dtsf:PozycjaUzytkownika","dtsf:Kwoty/dtsf:RB/dtsf:Kwota/dtsf:KwotaB"]
[2,{"$f":"Adr_Dodatkowe & \"!$O$106\"","v":"Dodatkowe!$O$106"},null,"MarkParent",null,{"$f":"F3239","v":"Pidx"},"Kwota",10,null,"dtsf:P_ID_7/dtsf:PozycjaUzytkownika","dtsf:Kwoty/dtsf:RP/dtsf:KwotaA"]
[1,{"$f":"Adr_Dodatkowe & \"!$P$106\"","v":"Dodatkowe!$P$106"},null,"",null,{"$f":"F3240","v":"Pidx"},"Kwota",10,null,"dtsf:P_ID_7/dtsf:PozycjaUzytkownika","dtsf:Kwoty/dtsf:RP/dtsf:KwotaB"]
[null,{"$f":"Adr_Dodatkowe & \"!$G$107\"","v":"Dodatkowe!$G$107"},null,"MarkParent",null,"Pidx","Tekst",{"$f":"H3233+1","v":11},null,"dtsf:P_ID_7/dtsf:PozycjaUzytkownika","dtsf:NazwaPozycji"]
[1,{"$f":"Adr_Dodatkowe & \"!$H$107\"","v":"Dodatkowe!$H$107"},null,"MarkParent",null,{"$f":"F3242","v":"Pidx"},{"$f":"G3242","v":"Tekst"},{"$f":"H3242","v":11},null,"dtsf:P_ID_7/dtsf:PozycjaUzytkownika","dtsf:Kwoty/dtsf:RB/dtsf:PodstawaPrawna/dtsf:Art"]
[1,{"$f":"Adr_Dodatkowe & \"!$I$107\"","v":"Dodatkowe!$I$107"},null,"",null,{"$f":"F3243","v":"Pidx"},"Tekst",11,null,"dtsf:P_ID_7/dtsf:PozycjaUzytkownika","dtsf:Kwoty/dtsf:RB/dtsf:PodstawaPrawna/dtsf:Ust"]
[1,{"$f":"Adr_Dodatkowe & \"!$J$107\"","v":"Dodatkowe!$J$107"},null,"",null,{"$f":"F3244","v":"Pidx"},"Tekst",11,null,"dtsf:P_ID_7/dtsf:PozycjaUzytkownika","dtsf:Kwoty/dtsf:RB/dtsf:PodstawaPrawna/dtsf:Pkt"]
[1,{"$f":"Adr_Dodatkowe & \"!$K$107\"","v":"Dodatkowe!$K$107"},null,"",null,{"$f":"F3245","v":"Pidx"},"Tekst",11,null,"dtsf:P_ID_7/dtsf:PozycjaUzytkownika","dtsf:Kwoty/dtsf:RB/dtsf:PodstawaPrawna/dtsf:Lit"]
[1,{"$f":"Adr_Dodatkowe & \"!$L$107\"","v":"Dodatkowe!$L$107"},null,"MarkParent:3",null,{"$f":"F3246","v":"Pidx"},"Kwota",{"$f":"H3246","v":11},null,"dtsf:P_ID_7/dtsf:PozycjaUzytkownika","dtsf:Kwoty/dtsf:RB/dtsf:Kwota/dtsf:KwotaA"]
[1,{"$f":"Adr_Dodatkowe & \"!$M$107\"","v":"Dodatkowe!$M$107"},null,"",null,{"$f":"F3247","v":"Pidx"},"Kwota",11,null,"dtsf:P_ID_7/dtsf:PozycjaUzytkownika","dtsf:Kwoty/dtsf:RB/dtsf:Kwota/dtsf:KwotaB"]
[2,{"$f":"Adr_Dodatkowe & \"!$O$107\"","v":"Dodatkowe!$O$107"},null,"MarkParent",null,{"$f":"F3248","v":"Pidx"},"Kwota",11,null,"dtsf:P_ID_7/dtsf:PozycjaUzytkownika","dtsf:Kwoty/dtsf:RP/dtsf:KwotaA"]
[1,{"$f":"Adr_Dodatkowe & \"!$P$107\"","v":"Dodatkowe!$P$107"},null,"",null,{"$f":"F3249","v":"Pidx"},"Kwota",11,null,"dtsf:P_ID_7/dtsf:PozycjaUzytkownika","dtsf:Kwoty/dtsf:RP/dtsf:KwotaB"]
[null,{"$f":"Adr_Dodatkowe & \"!$G$108\"","v":"Dodatkowe!$G$108"},null,"MarkParent",null,"Pidx","Tekst",{"$f":"H3242+1","v":12},null,"dtsf:P_ID_7/dtsf:PozycjaUzytkownika","dtsf:NazwaPozycji"]
[1,{"$f":"Adr_Dodatkowe & \"!$H$108\"","v":"Dodatkowe!$H$108"},null,"MarkParent",null,{"$f":"F3251","v":"Pidx"},{"$f":"G3251","v":"Tekst"},{"$f":"H3251","v":12},null,"dtsf:P_ID_7/dtsf:PozycjaUzytkownika","dtsf:Kwoty/dtsf:RB/dtsf:PodstawaPrawna/dtsf:Art"]
[1,{"$f":"Adr_Dodatkowe & \"!$I$108\"","v":"Dodatkowe!$I$108"},null,{"$f":"D3244 & \"\"","v":""},null,{"$f":"F3252","v":"Pidx"},"Tekst",12,null,"dtsf:P_ID_7/dtsf:PozycjaUzytkownika","dtsf:Kwoty/dtsf:RB/dtsf:PodstawaPrawna/dtsf:Ust"]
[1,{"$f":"Adr_Dodatkowe & \"!$J$108\"","v":"Dodatkowe!$J$108"},null,"",null,{"$f":"F3253","v":"Pidx"},"Tekst",12,null,"dtsf:P_ID_7/dtsf:PozycjaUzytkownika","dtsf:Kwoty/dtsf:RB/dtsf:PodstawaPrawna/dtsf:Pkt"]
[1,{"$f":"Adr_Dodatkowe & \"!$K$108\"","v":"Dodatkowe!$K$108"},null,"",null,{"$f":"F3254","v":"Pidx"},"Tekst",12,null,"dtsf:P_ID_7/dtsf:PozycjaUzytkownika","dtsf:Kwoty/dtsf:RB/dtsf:PodstawaPrawna/dtsf:Lit"]
[1,{"$f":"Adr_Dodatkowe & \"!$L$108\"","v":"Dodatkowe!$L$108"},null,"MarkParent:3",null,{"$f":"F3255","v":"Pidx"},"Kwota",{"$f":"H3255","v":12},null,"dtsf:P_ID_7/dtsf:PozycjaUzytkownika","dtsf:Kwoty/dtsf:RB/dtsf:Kwota/dtsf:KwotaA"]
[1,{"$f":"Adr_Dodatkowe & \"!$M$108\"","v":"Dodatkowe!$M$108"},null,"",null,{"$f":"F3256","v":"Pidx"},"Kwota",12,null,"dtsf:P_ID_7/dtsf:PozycjaUzytkownika","dtsf:Kwoty/dtsf:RB/dtsf:Kwota/dtsf:KwotaB"]
[2,{"$f":"Adr_Dodatkowe & \"!$O$108\"","v":"Dodatkowe!$O$108"},null,"MarkParent",null,{"$f":"F3257","v":"Pidx"},"Kwota",12,null,"dtsf:P_ID_7/dtsf:PozycjaUzytkownika","dtsf:Kwoty/dtsf:RP/dtsf:KwotaA"]
[1,{"$f":"Adr_Dodatkowe & \"!$P$108\"","v":"Dodatkowe!$P$108"},null,"",null,{"$f":"F3258","v":"Pidx"},"Kwota",12,null,"dtsf:P_ID_7/dtsf:PozycjaUzytkownika","dtsf:Kwoty/dtsf:RP/dtsf:KwotaB"]
[null,{"$f":"Adr_Dodatkowe & \"!$G$109\"","v":"Dodatkowe!$G$109"},null,"MarkParent",null,"Pidx","Tekst",{"$f":"H3251+1","v":13},null,"dtsf:P_ID_7/dtsf:PozycjaUzytkownika","dtsf:NazwaPozycji"]
[1,{"$f":"Adr_Dodatkowe & \"!$H$109\"","v":"Dodatkowe!$H$109"},null,"MarkParent",null,{"$f":"F3260","v":"Pidx"},{"$f":"G3260","v":"Tekst"},{"$f":"H3260","v":13},null,"dtsf:P_ID_7/dtsf:PozycjaUzytkownika","dtsf:Kwoty/dtsf:RB/dtsf:PodstawaPrawna/dtsf:Art"]
[1,{"$f":"Adr_Dodatkowe & \"!$I$109\"","v":"Dodatkowe!$I$109"},null,"",null,{"$f":"F3261","v":"Pidx"},"Tekst",13,null,"dtsf:P_ID_7/dtsf:PozycjaUzytkownika","dtsf:Kwoty/dtsf:RB/dtsf:PodstawaPrawna/dtsf:Ust"]
[1,{"$f":"Adr_Dodatkowe & \"!$J$109\"","v":"Dodatkowe!$J$109"},null,"",null,{"$f":"F3262","v":"Pidx"},"Tekst",13,null,"dtsf:P_ID_7/dtsf:PozycjaUzytkownika","dtsf:Kwoty/dtsf:RB/dtsf:PodstawaPrawna/dtsf:Pkt"]
[1,{"$f":"Adr_Dodatkowe & \"!$K$109\"","v":"Dodatkowe!$K$109"},null,"",null,{"$f":"F3263","v":"Pidx"},"Tekst",13,null,"dtsf:P_ID_7/dtsf:PozycjaUzytkownika","dtsf:Kwoty/dtsf:RB/dtsf:PodstawaPrawna/dtsf:Lit"]
[1,{"$f":"Adr_Dodatkowe & \"!$L$109\"","v":"Dodatkowe!$L$109"},null,"MarkParent:3",null,{"$f":"F3264","v":"Pidx"},"Kwota",{"$f":"H3264","v":13},null,"dtsf:P_ID_7/dtsf:PozycjaUzytkownika","dtsf:Kwoty/dtsf:RB/dtsf:Kwota/dtsf:KwotaA"]
[1,{"$f":"Adr_Dodatkowe & \"!$M$109\"","v":"Dodatkowe!$M$109"},null,"",null,{"$f":"F3265","v":"Pidx"},"Kwota",13,null,"dtsf:P_ID_7/dtsf:PozycjaUzytkownika","dtsf:Kwoty/dtsf:RB/dtsf:Kwota/dtsf:KwotaB"]
[2,{"$f":"Adr_Dodatkowe & \"!$O$109\"","v":"Dodatkowe!$O$109"},null,"MarkParent",null,{"$f":"F3266","v":"Pidx"},"Kwota",13,null,"dtsf:P_ID_7/dtsf:PozycjaUzytkownika","dtsf:Kwoty/dtsf:RP/dtsf:KwotaA"]
[1,{"$f":"Adr_Dodatkowe & \"!$P$109\"","v":"Dodatkowe!$P$109"},null,"",null,{"$f":"F3267","v":"Pidx"},"Kwota",13,null,"dtsf:P_ID_7/dtsf:PozycjaUzytkownika","dtsf:Kwoty/dtsf:RP/dtsf:KwotaB"]
[null,{"$f":"Adr_Dodatkowe & \"!$G$110\"","v":"Dodatkowe!$G$110"},null,"MarkParent",null,"Pidx","Tekst",{"$f":"H3260+1","v":14},null,"dtsf:P_ID_7/dtsf:PozycjaUzytkownika","dtsf:NazwaPozycji"]
[1,{"$f":"Adr_Dodatkowe & \"!$H$110\"","v":"Dodatkowe!$H$110"},null,"MarkParent",null,{"$f":"F3269","v":"Pidx"},{"$f":"G3269","v":"Tekst"},{"$f":"H3269","v":14},null,"dtsf:P_ID_7/dtsf:PozycjaUzytkownika","dtsf:Kwoty/dtsf:RB/dtsf:PodstawaPrawna/dtsf:Art"]
[1,{"$f":"Adr_Dodatkowe & \"!$I$110\"","v":"Dodatkowe!$I$110"},null,"",null,{"$f":"F3270","v":"Pidx"},"Tekst",14,null,"dtsf:P_ID_7/dtsf:PozycjaUzytkownika","dtsf:Kwoty/dtsf:RB/dtsf:PodstawaPrawna/dtsf:Ust"]
[1,{"$f":"Adr_Dodatkowe & \"!$J$110\"","v":"Dodatkowe!$J$110"},null,"",null,{"$f":"F3271","v":"Pidx"},"Tekst",14,null,"dtsf:P_ID_7/dtsf:PozycjaUzytkownika","dtsf:Kwoty/dtsf:RB/dtsf:PodstawaPrawna/dtsf:Pkt"]
[1,{"$f":"Adr_Dodatkowe & \"!$K$110\"","v":"Dodatkowe!$K$110"},null,"",null,{"$f":"F3272","v":"Pidx"},"Tekst",14,null,"dtsf:P_ID_7/dtsf:PozycjaUzytkownika","dtsf:Kwoty/dtsf:RB/dtsf:PodstawaPrawna/dtsf:Lit"]
[1,{"$f":"Adr_Dodatkowe & \"!$L$110\"","v":"Dodatkowe!$L$110"},null,"MarkParent:3",null,{"$f":"F3273","v":"Pidx"},"Kwota",{"$f":"H3273","v":14},null,"dtsf:P_ID_7/dtsf:PozycjaUzytkownika","dtsf:Kwoty/dtsf:RB/dtsf:Kwota/dtsf:KwotaA"]
[1,{"$f":"Adr_Dodatkowe & \"!$M$110\"","v":"Dodatkowe!$M$110"},null,"",null,{"$f":"F3274","v":"Pidx"},"Kwota",14,null,"dtsf:P_ID_7/dtsf:PozycjaUzytkownika","dtsf:Kwoty/dtsf:RB/dtsf:Kwota/dtsf:KwotaB"]
[2,{"$f":"Adr_Dodatkowe & \"!$O$110\"","v":"Dodatkowe!$O$110"},null,"MarkParent",null,{"$f":"F3275","v":"Pidx"},"Kwota",14,null,"dtsf:P_ID_7/dtsf:PozycjaUzytkownika","dtsf:Kwoty/dtsf:RP/dtsf:KwotaA"]
[1,{"$f":"Adr_Dodatkowe & \"!$P$110\"","v":"Dodatkowe!$P$110"},null,"",null,{"$f":"F3276","v":"Pidx"},"Kwota",14,null,"dtsf:P_ID_7/dtsf:PozycjaUzytkownika","dtsf:Kwoty/dtsf:RP/dtsf:KwotaB"]
[null,{"$f":"Adr_Dodatkowe & \"!$G$111\"","v":"Dodatkowe!$G$111"},null,"MarkParent",null,"Pidx","Tekst",{"$f":"H3269+1","v":15},null,"dtsf:P_ID_7/dtsf:PozycjaUzytkownika","dtsf:NazwaPozycji"]
[1,{"$f":"Adr_Dodatkowe & \"!$H$111\"","v":"Dodatkowe!$H$111"},null,"MarkParent",null,{"$f":"F3278","v":"Pidx"},{"$f":"G3278","v":"Tekst"},{"$f":"H3278","v":15},null,"dtsf:P_ID_7/dtsf:PozycjaUzytkownika","dtsf:Kwoty/dtsf:RB/dtsf:PodstawaPrawna/dtsf:Art"]
[1,{"$f":"Adr_Dodatkowe & \"!$I$111\"","v":"Dodatkowe!$I$111"},null,"",null,{"$f":"F3279","v":"Pidx"},"Tekst",15,null,"dtsf:P_ID_7/dtsf:PozycjaUzytkownika","dtsf:Kwoty/dtsf:RB/dtsf:PodstawaPrawna/dtsf:Ust"]
[1,{"$f":"Adr_Dodatkowe & \"!$J$111\"","v":"Dodatkowe!$J$111"},null,"",null,{"$f":"F3280","v":"Pidx"},"Tekst",15,null,"dtsf:P_ID_7/dtsf:PozycjaUzytkownika","dtsf:Kwoty/dtsf:RB/dtsf:PodstawaPrawna/dtsf:Pkt"]
[1,{"$f":"Adr_Dodatkowe & \"!$K$111\"","v":"Dodatkowe!$K$111"},null,"",null,{"$f":"F3281","v":"Pidx"},"Tekst",15,null,"dtsf:P_ID_7/dtsf:PozycjaUzytkownika","dtsf:Kwoty/dtsf:RB/dtsf:PodstawaPrawna/dtsf:Lit"]
[1,{"$f":"Adr_Dodatkowe & \"!$L$111\"","v":"Dodatkowe!$L$111"},null,"MarkParent:3",null,{"$f":"F3282","v":"Pidx"},"Kwota",{"$f":"H3282","v":15},null,"dtsf:P_ID_7/dtsf:PozycjaUzytkownika","dtsf:Kwoty/dtsf:RB/dtsf:Kwota/dtsf:KwotaA"]
[1,{"$f":"Adr_Dodatkowe & \"!$M$111\"","v":"Dodatkowe!$M$111"},null,"",null,{"$f":"F3283","v":"Pidx"},"Kwota",15,null,"dtsf:P_ID_7/dtsf:PozycjaUzytkownika","dtsf:Kwoty/dtsf:RB/dtsf:Kwota/dtsf:KwotaB"]
[2,{"$f":"Adr_Dodatkowe & \"!$O$111\"","v":"Dodatkowe!$O$111"},null,"MarkParent",null,{"$f":"F3284","v":"Pidx"},"Kwota",15,null,"dtsf:P_ID_7/dtsf:PozycjaUzytkownika","dtsf:Kwoty/dtsf:RP/dtsf:KwotaA"]
[1,{"$f":"Adr_Dodatkowe & \"!$P$111\"","v":"Dodatkowe!$P$111"},null,"",null,{"$f":"F3285","v":"Pidx"},"Kwota",15,null,"dtsf:P_ID_7/dtsf:PozycjaUzytkownika","dtsf:Kwoty/dtsf:RP/dtsf:KwotaB"]
[null,{"$f":"Adr_Dodatkowe & \"!$L$112\"","v":"Dodatkowe!$L$112"},null,"ExportOnly",null,null,"Kwota",null,null,"dtsf:P_ID_7/dtsf:Pozostale","dtsf:RB/dtsf:KwotaA"]
[1,{"$f":"Adr_Dodatkowe & \"!$M$112\"","v":"Dodatkowe!$M$112"},null,"ExportOnly",null,null,{"$f":"G3287","v":"Kwota"},null,null,"dtsf:P_ID_7/dtsf:Pozostale","dtsf:RB/dtsf:KwotaB"]
[2,{"$f":"Adr_Dodatkowe & \"!$O$112\"","v":"Dodatkowe!$O$112"},null,"ExportOnly",null,null,"Kwota",null,null,"dtsf:P_ID_7/dtsf:Pozostale","dtsf:RP/dtsf:KwotaA"]
[1,{"$f":"Adr_Dodatkowe & \"!$P$112\"","v":"Dodatkowe!$P$112"},null,"ExportOnly",null,null,"Kwota",null,null,"dtsf:P_ID_7/dtsf:Pozostale","dtsf:RP/dtsf:KwotaB"]
[null,{"$f":"Adr_Dodatkowe & \"!$L$116\"","v":"Dodatkowe!$L$116"},null,"MarkParent:3",null,null,"Kwota",null,null,"dtsf:P_ID_8/dtsf:Kwota","dtsf:RB/dtsf:KwotaA"]
[null,{"$f":"Adr_Dodatkowe & \"!$M$116\"","v":"Dodatkowe!$M$116"},null,{"$f":"D3291","v":"MarkParent:3"},null,null,{"$f":"G3291","v":"Kwota"},null,null,"dtsf:P_ID_8/dtsf:Kwota","dtsf:RB/dtsf:KwotaB"]
[null,{"$f":"Adr_Dodatkowe & \"!$O$116\"","v":"Dodatkowe!$O$116"},null,"MarkParent:3",null,null,"Kwota",null,null,"dtsf:P_ID_8/dtsf:Kwota","dtsf:RP/dtsf:KwotaA"]
[null,{"$f":"Adr_Dodatkowe & \"!$P$116\"","v":"Dodatkowe!$P$116"},null,{"$f":"D3293","v":"MarkParent:3"},null,null,{"$f":"G3293","v":"Kwota"},null,null,"dtsf:P_ID_8/dtsf:Kwota","dtsf:RP/dtsf:KwotaB"]
[null,{"$f":"Adr_Dodatkowe & \"!$G$118\"","v":"Dodatkowe!$G$118"},null,"MarkParent",null,"Pidx","Tekst",1,null,"dtsf:P_ID_8/dtsf:PozycjaUzytkownika","dtsf:NazwaPozycji"]
[5,{"$f":"Adr_Dodatkowe & \"!$L$118\"","v":"Dodatkowe!$L$118"},null,"MarkParent:2",null,{"$f":"F3295","v":"Pidx"},"Kwota",{"$f":"H3295","v":1},null,"dtsf:P_ID_8/dtsf:PozycjaUzytkownika","dtsf:Kwoty/dtsf:RB/dtsf:KwotaA"]
[1,{"$f":"Adr_Dodatkowe & \"!$M$118\"","v":"Dodatkowe!$M$118"},null,null,null,{"$f":"F3296","v":"Pidx"},"Kwota",1,null,"dtsf:P_ID_8/dtsf:PozycjaUzytkownika","dtsf:Kwoty/dtsf:RB/dtsf:KwotaB"]
[2,{"$f":"Adr_Dodatkowe & \"!$O$118\"","v":"Dodatkowe!$O$118"},null,"MarkParent:2",null,{"$f":"F3297","v":"Pidx"},"Kwota",1,null,"dtsf:P_ID_8/dtsf:PozycjaUzytkownika","dtsf:Kwoty/dtsf:RP/dtsf:KwotaA"]
[1,{"$f":"Adr_Dodatkowe & \"!$P$118\"","v":"Dodatkowe!$P$118"},null,null,null,{"$f":"F3298","v":"Pidx"},"Kwota",1,null,"dtsf:P_ID_8/dtsf:PozycjaUzytkownika","dtsf:Kwoty/dtsf:RP/dtsf:KwotaB"]
[null,{"$f":"Adr_Dodatkowe & \"!$G$119\"","v":"Dodatkowe!$G$119"},null,{"$f":"D3295 & \"\"","v":"MarkParent"},null,"Pidx","Tekst",{"$f":"H3295+1","v":2},null,"dtsf:P_ID_8/dtsf:PozycjaUzytkownika","dtsf:NazwaPozycji"]
[5,{"$f":"Adr_Dodatkowe & \"!$L$119\"","v":"Dodatkowe!$L$119"},null,{"$f":"D3296 & \"\"","v":"MarkParent:2"},null,{"$f":"F3300","v":"Pidx"},"Kwota",{"$f":"H3300","v":2},null,"dtsf:P_ID_8/dtsf:PozycjaUzytkownika","dtsf:Kwoty/dtsf:RB/dtsf:KwotaA"]
[1,{"$f":"Adr_Dodatkowe & \"!$M$119\"","v":"Dodatkowe!$M$119"},null,"",null,{"$f":"F3301","v":"Pidx"},"Kwota",2,null,"dtsf:P_ID_8/dtsf:PozycjaUzytkownika","dtsf:Kwoty/dtsf:RB/dtsf:KwotaB"]
[2,{"$f":"Adr_Dodatkowe & \"!$O$119\"","v":"Dodatkowe!$O$119"},null,"MarkParent:2",null,{"$f":"F3302","v":"Pidx"},"Kwota",2,null,"dtsf:P_ID_8/dtsf:PozycjaUzytkownika","dtsf:Kwoty/dtsf:RP/dtsf:KwotaA"]
[1,{"$f":"Adr_Dodatkowe & \"!$P$119\"","v":"Dodatkowe!$P$119"},null,"",null,{"$f":"F3303","v":"Pidx"},"Kwota",2,null,"dtsf:P_ID_8/dtsf:PozycjaUzytkownika","dtsf:Kwoty/dtsf:RP/dtsf:KwotaB"]
[null,{"$f":"Adr_Dodatkowe & \"!$G$120\"","v":"Dodatkowe!$G$120"},null,"MarkParent",null,"Pidx","Tekst",{"$f":"H3300+1","v":3},null,"dtsf:P_ID_8/dtsf:PozycjaUzytkownika","dtsf:NazwaPozycji"]
[5,{"$f":"Adr_Dodatkowe & \"!$L$120\"","v":"Dodatkowe!$L$120"},null,"MarkParent:2",null,{"$f":"F3305","v":"Pidx"},"Kwota",{"$f":"H3305","v":3},null,"dtsf:P_ID_8/dtsf:PozycjaUzytkownika","dtsf:Kwoty/dtsf:RB/dtsf:KwotaA"]
[1,{"$f":"Adr_Dodatkowe & \"!$M$120\"","v":"Dodatkowe!$M$120"},null,"",null,{"$f":"F3306","v":"Pidx"},"Kwota",3,null,"dtsf:P_ID_8/dtsf:PozycjaUzytkownika","dtsf:Kwoty/dtsf:RB/dtsf:KwotaB"]
[2,{"$f":"Adr_Dodatkowe & \"!$O$120\"","v":"Dodatkowe!$O$120"},null,"MarkParent:2",null,{"$f":"F3307","v":"Pidx"},"Kwota",3,null,"dtsf:P_ID_8/dtsf:PozycjaUzytkownika","dtsf:Kwoty/dtsf:RP/dtsf:KwotaA"]
[1,{"$f":"Adr_Dodatkowe & \"!$P$120\"","v":"Dodatkowe!$P$120"},null,"",null,{"$f":"F3308","v":"Pidx"},"Kwota",3,null,"dtsf:P_ID_8/dtsf:PozycjaUzytkownika","dtsf:Kwoty/dtsf:RP/dtsf:KwotaB"]
[null,{"$f":"Adr_Dodatkowe & \"!$G$121\"","v":"Dodatkowe!$G$121"},null,"MarkParent",null,"Pidx","Tekst",{"$f":"H3305+1","v":4},null,"dtsf:P_ID_8/dtsf:PozycjaUzytkownika","dtsf:NazwaPozycji"]
[5,{"$f":"Adr_Dodatkowe & \"!$L$121\"","v":"Dodatkowe!$L$121"},null,"MarkParent:2",null,{"$f":"F3310","v":"Pidx"},"Kwota",{"$f":"H3310","v":4},null,"dtsf:P_ID_8/dtsf:PozycjaUzytkownika","dtsf:Kwoty/dtsf:RB/dtsf:KwotaA"]
[1,{"$f":"Adr_Dodatkowe & \"!$M$121\"","v":"Dodatkowe!$M$121"},null,"",null,{"$f":"F3311","v":"Pidx"},"Kwota",4,null,"dtsf:P_ID_8/dtsf:PozycjaUzytkownika","dtsf:Kwoty/dtsf:RB/dtsf:KwotaB"]
[2,{"$f":"Adr_Dodatkowe & \"!$O$121\"","v":"Dodatkowe!$O$121"},null,"MarkParent:2",null,{"$f":"F3312","v":"Pidx"},"Kwota",4,null,"dtsf:P_ID_8/dtsf:PozycjaUzytkownika","dtsf:Kwoty/dtsf:RP/dtsf:KwotaA"]
[1,{"$f":"Adr_Dodatkowe & \"!$P$121\"","v":"Dodatkowe!$P$121"},null,"",null,{"$f":"F3313","v":"Pidx"},"Kwota",4,null,"dtsf:P_ID_8/dtsf:PozycjaUzytkownika","dtsf:Kwoty/dtsf:RP/dtsf:KwotaB"]
[null,{"$f":"Adr_Dodatkowe & \"!$G$122\"","v":"Dodatkowe!$G$122"},null,"MarkParent",null,"Pidx","Tekst",{"$f":"H3310+1","v":5},null,"dtsf:P_ID_8/dtsf:PozycjaUzytkownika","dtsf:NazwaPozycji"]
[5,{"$f":"Adr_Dodatkowe & \"!$L$122\"","v":"Dodatkowe!$L$122"},null,"MarkParent:2",null,{"$f":"F3315","v":"Pidx"},"Kwota",{"$f":"H3315","v":5},null,"dtsf:P_ID_8/dtsf:PozycjaUzytkownika","dtsf:Kwoty/dtsf:RB/dtsf:KwotaA"]
[1,{"$f":"Adr_Dodatkowe & \"!$M$122\"","v":"Dodatkowe!$M$122"},null,"",null,{"$f":"F3316","v":"Pidx"},"Kwota",5,null,"dtsf:P_ID_8/dtsf:PozycjaUzytkownika","dtsf:Kwoty/dtsf:RB/dtsf:KwotaB"]
[2,{"$f":"Adr_Dodatkowe & \"!$O$122\"","v":"Dodatkowe!$O$122"},null,"MarkParent:2",null,{"$f":"F3317","v":"Pidx"},"Kwota",5,null,"dtsf:P_ID_8/dtsf:PozycjaUzytkownika","dtsf:Kwoty/dtsf:RP/dtsf:KwotaA"]
[1,{"$f":"Adr_Dodatkowe & \"!$P$122\"","v":"Dodatkowe!$P$122"},null,"",null,{"$f":"F3318","v":"Pidx"},"Kwota",5,null,"dtsf:P_ID_8/dtsf:PozycjaUzytkownika","dtsf:Kwoty/dtsf:RP/dtsf:KwotaB"]
[null,{"$f":"Adr_Dodatkowe & \"!$L$125\"","v":"Dodatkowe!$L$125"},null,"MarkParent:3",null,null,"Kwota",null,null,"dtsf:P_ID_9/dtsf:Kwota","dtsf:RB/dtsf:KwotaA"]
[null,{"$f":"Adr_Dodatkowe & \"!$M$125\"","v":"Dodatkowe!$M$125"},null,"MarkParent:3",null,null,{"$f":"G3320","v":"Kwota"},null,null,"dtsf:P_ID_9/dtsf:Kwota","dtsf:RB/dtsf:KwotaB"]
[null,{"$f":"Adr_Dodatkowe & \"!$O$125\"","v":"Dodatkowe!$O$125"},null,"MarkParent:3",null,null,"Kwota",null,null,"dtsf:P_ID_9/dtsf:Kwota","dtsf:RP/dtsf:KwotaA"]
[null,{"$f":"Adr_Dodatkowe & \"!$P$125\"","v":"Dodatkowe!$P$125"},null,"MarkParent:3",null,null,{"$f":"G3322","v":"Kwota"},null,null,"dtsf:P_ID_9/dtsf:Kwota","dtsf:RP/dtsf:KwotaB"]
[null,{"$f":"Adr_Dodatkowe & \"!$G$127\"","v":"Dodatkowe!$G$127"},null,{"$f":"$D$2527 & \"\"","v":"MarkParent"},null,"Pidx","Tekst",1,null,"dtsf:P_ID_9/dtsf:PozycjaUzytkownika","dtsf:NazwaPozycji"]
[1,{"$f":"Adr_Dodatkowe & \"!$H$127\"","v":"Dodatkowe!$H$127"},null,{"$f":"$D$2528 & \"\"","v":"MarkParent"},null,{"$f":"F3324","v":"Pidx"},{"$f":"G3324","v":"Tekst"},{"$f":"H3324","v":1},null,"dtsf:P_ID_9/dtsf:PozycjaUzytkownika","dtsf:Kwoty/dtsf:RB/dtsf:PodstawaPrawna/dtsf:Art"]
[1,{"$f":"Adr_Dodatkowe & \"!$I$127\"","v":"Dodatkowe!$I$127"},null,{"$f":"$D$2529 & \"\"","v":""},null,{"$f":"F3325","v":"Pidx"},"Tekst",1,null,"dtsf:P_ID_9/dtsf:PozycjaUzytkownika","dtsf:Kwoty/dtsf:RB/dtsf:PodstawaPrawna/dtsf:Ust"]
[1,{"$f":"Adr_Dodatkowe & \"!$J$127\"","v":"Dodatkowe!$J$127"},null,{"$f":"$D$2530 & \"\"","v":""},null,{"$f":"F3326","v":"Pidx"},"Tekst",1,null,"dtsf:P_ID_9/dtsf:PozycjaUzytkownika","dtsf:Kwoty/dtsf:RB/dtsf:PodstawaPrawna/dtsf:Pkt"]
[1,{"$f":"Adr_Dodatkowe & \"!$K$127\"","v":"Dodatkowe!$K$127"},null,{"$f":"$D$2531 & \"\"","v":""},null,{"$f":"F3327","v":"Pidx"},"Tekst",1,null,"dtsf:P_ID_9/dtsf:PozycjaUzytkownika","dtsf:Kwoty/dtsf:RB/dtsf:PodstawaPrawna/dtsf:Lit"]
[1,{"$f":"Adr_Dodatkowe & \"!$L$127\"","v":"Dodatkowe!$L$127"},null,{"$f":"$D$2532 & \"\"","v":"MarkParent:3"},null,{"$f":"F3328","v":"Pidx"},"Kwota",{"$f":"H3328","v":1},null,"dtsf:P_ID_9/dtsf:PozycjaUzytkownika","dtsf:Kwoty/dtsf:RB/dtsf:Kwota/dtsf:KwotaA"]
[1,{"$f":"Adr_Dodatkowe & \"!$M$127\"","v":"Dodatkowe!$M$127"},null,{"$f":"$D$2533 & \"\"","v":""},null,{"$f":"F3329","v":"Pidx"},"Kwota",1,null,"dtsf:P_ID_9/dtsf:PozycjaUzytkownika","dtsf:Kwoty/dtsf:RB/dtsf:Kwota/dtsf:KwotaB"]
[2,{"$f":"Adr_Dodatkowe & \"!$O$127\"","v":"Dodatkowe!$O$127"},null,{"$f":"$D$2534 & \"\"","v":"MarkParent"},null,{"$f":"F3330","v":"Pidx"},"Kwota",1,null,"dtsf:P_ID_9/dtsf:PozycjaUzytkownika","dtsf:Kwoty/dtsf:RP/dtsf:KwotaA"]
[1,{"$f":"Adr_Dodatkowe & \"!$P$127\"","v":"Dodatkowe!$P$127"},null,null,null,{"$f":"F3331","v":"Pidx"},"Kwota",1,null,"dtsf:P_ID_9/dtsf:PozycjaUzytkownika","dtsf:Kwoty/dtsf:RP/dtsf:KwotaB"]
[null,{"$f":"Adr_Dodatkowe & \"!$G$128\"","v":"Dodatkowe!$G$128"},null,{"$f":"D3324 & \"\"","v":"MarkParent"},null,"Pidx","Tekst",{"$f":"H3324+1","v":2},null,"dtsf:P_ID_9/dtsf:PozycjaUzytkownika","dtsf:NazwaPozycji"]
[1,{"$f":"Adr_Dodatkowe & \"!$H$128\"","v":"Dodatkowe!$H$128"},null,{"$f":"D3325 & \"\"","v":"MarkParent"},null,{"$f":"F3333","v":"Pidx"},{"$f":"G3333","v":"Tekst"},{"$f":"H3333","v":2},null,"dtsf:P_ID_9/dtsf:PozycjaUzytkownika","dtsf:Kwoty/dtsf:RB/dtsf:PodstawaPrawna/dtsf:Art"]
[1,{"$f":"Adr_Dodatkowe & \"!$I$128\"","v":"Dodatkowe!$I$128"},null,"",null,{"$f":"F3334","v":"Pidx"},"Tekst",2,null,"dtsf:P_ID_9/dtsf:PozycjaUzytkownika","dtsf:Kwoty/dtsf:RB/dtsf:PodstawaPrawna/dtsf:Ust"]
[1,{"$f":"Adr_Dodatkowe & \"!$J$128\"","v":"Dodatkowe!$J$128"},null,"",null,{"$f":"F3335","v":"Pidx"},"Tekst",2,null,"dtsf:P_ID_9/dtsf:PozycjaUzytkownika","dtsf:Kwoty/dtsf:RB/dtsf:PodstawaPrawna/dtsf:Pkt"]
[1,{"$f":"Adr_Dodatkowe & \"!$K$128\"","v":"Dodatkowe!$K$128"},null,"",null,{"$f":"F3336","v":"Pidx"},"Tekst",2,null,"dtsf:P_ID_9/dtsf:PozycjaUzytkownika","dtsf:Kwoty/dtsf:RB/dtsf:PodstawaPrawna/dtsf:Lit"]
[1,{"$f":"Adr_Dodatkowe & \"!$L$128\"","v":"Dodatkowe!$L$128"},null,"MarkParent:3",null,{"$f":"F3337","v":"Pidx"},"Kwota",{"$f":"H3337","v":2},null,"dtsf:P_ID_9/dtsf:PozycjaUzytkownika","dtsf:Kwoty/dtsf:RB/dtsf:Kwota/dtsf:KwotaA"]
[1,{"$f":"Adr_Dodatkowe & \"!$M$128\"","v":"Dodatkowe!$M$128"},null,{"$f":"D3330 & \"\"","v":""},null,{"$f":"F3338","v":"Pidx"},"Kwota",2,null,"dtsf:P_ID_9/dtsf:PozycjaUzytkownika","dtsf:Kwoty/dtsf:RB/dtsf:Kwota/dtsf:KwotaB"]
[2,{"$f":"Adr_Dodatkowe & \"!$O$128\"","v":"Dodatkowe!$O$128"},null,"MarkParent",null,{"$f":"F3339","v":"Pidx"},"Kwota",2,null,"dtsf:P_ID_9/dtsf:PozycjaUzytkownika","dtsf:Kwoty/dtsf:RP/dtsf:KwotaA"]
[1,{"$f":"Adr_Dodatkowe & \"!$P$128\"","v":"Dodatkowe!$P$128"},null,"",null,{"$f":"F3340","v":"Pidx"},"Kwota",2,null,"dtsf:P_ID_9/dtsf:PozycjaUzytkownika","dtsf:Kwoty/dtsf:RP/dtsf:KwotaB"]
[null,{"$f":"Adr_Dodatkowe & \"!$G$129\"","v":"Dodatkowe!$G$129"},null,"MarkParent",null,"Pidx","Tekst",{"$f":"H3333+1","v":3},null,"dtsf:P_ID_9/dtsf:PozycjaUzytkownika","dtsf:NazwaPozycji"]
[1,{"$f":"Adr_Dodatkowe & \"!$H$129\"","v":"Dodatkowe!$H$129"},null,{"$f":"D3334 & \"\"","v":"MarkParent"},null,{"$f":"F3342","v":"Pidx"},{"$f":"G3342","v":"Tekst"},{"$f":"H3342","v":3},null,"dtsf:P_ID_9/dtsf:PozycjaUzytkownika","dtsf:Kwoty/dtsf:RB/dtsf:PodstawaPrawna/dtsf:Art"]
[1,{"$f":"Adr_Dodatkowe & \"!$I$129\"","v":"Dodatkowe!$I$129"},null,"",null,{"$f":"F3343","v":"Pidx"},"Tekst",3,null,"dtsf:P_ID_9/dtsf:PozycjaUzytkownika","dtsf:Kwoty/dtsf:RB/dtsf:PodstawaPrawna/dtsf:Ust"]
[1,{"$f":"Adr_Dodatkowe & \"!$J$129\"","v":"Dodatkowe!$J$129"},null,"",null,{"$f":"F3344","v":"Pidx"},"Tekst",3,null,"dtsf:P_ID_9/dtsf:PozycjaUzytkownika","dtsf:Kwoty/dtsf:RB/dtsf:PodstawaPrawna/dtsf:Pkt"]
[1,{"$f":"Adr_Dodatkowe & \"!$K$129\"","v":"Dodatkowe!$K$129"},null,"",null,{"$f":"F3345","v":"Pidx"},"Tekst",3,null,"dtsf:P_ID_9/dtsf:PozycjaUzytkownika","dtsf:Kwoty/dtsf:RB/dtsf:PodstawaPrawna/dtsf:Lit"]
[1,{"$f":"Adr_Dodatkowe & \"!$L$129\"","v":"Dodatkowe!$L$129"},null,"MarkParent:3",null,{"$f":"F3346","v":"Pidx"},"Kwota",{"$f":"H3346","v":3},null,"dtsf:P_ID_9/dtsf:PozycjaUzytkownika","dtsf:Kwoty/dtsf:RB/dtsf:Kwota/dtsf:KwotaA"]
[1,{"$f":"Adr_Dodatkowe & \"!$M$129\"","v":"Dodatkowe!$M$129"},null,"",null,{"$f":"F3347","v":"Pidx"},"Kwota",3,null,"dtsf:P_ID_9/dtsf:PozycjaUzytkownika","dtsf:Kwoty/dtsf:RB/dtsf:Kwota/dtsf:KwotaB"]
[2,{"$f":"Adr_Dodatkowe & \"!$O$129\"","v":"Dodatkowe!$O$129"},null,{"$f":"D3340 & \"\"","v":"MarkParent"},null,{"$f":"F3348","v":"Pidx"},"Kwota",3,null,"dtsf:P_ID_9/dtsf:PozycjaUzytkownika","dtsf:Kwoty/dtsf:RP/dtsf:KwotaA"]
[1,{"$f":"Adr_Dodatkowe & \"!$P$129\"","v":"Dodatkowe!$P$129"},null,{"$f":"D3341 & \"\"","v":""},null,{"$f":"F3349","v":"Pidx"},"Kwota",3,null,"dtsf:P_ID_9/dtsf:PozycjaUzytkownika","dtsf:Kwoty/dtsf:RP/dtsf:KwotaB"]
[null,{"$f":"Adr_Dodatkowe & \"!$G$130\"","v":"Dodatkowe!$G$130"},null,{"$f":"D3342 & \"\"","v":"MarkParent"},null,"Pidx","Tekst",{"$f":"H3342+1","v":4},null,"dtsf:P_ID_9/dtsf:PozycjaUzytkownika","dtsf:NazwaPozycji"]
[1,{"$f":"Adr_Dodatkowe & \"!$H$130\"","v":"Dodatkowe!$H$130"},null,"MarkParent",null,{"$f":"F3351","v":"Pidx"},{"$f":"G3351","v":"Tekst"},{"$f":"H3351","v":4},null,"dtsf:P_ID_9/dtsf:PozycjaUzytkownika","dtsf:Kwoty/dtsf:RB/dtsf:PodstawaPrawna/dtsf:Art"]
[1,{"$f":"Adr_Dodatkowe & \"!$I$130\"","v":"Dodatkowe!$I$130"},null,"",null,{"$f":"F3352","v":"Pidx"},"Tekst",4,null,"dtsf:P_ID_9/dtsf:PozycjaUzytkownika","dtsf:Kwoty/dtsf:RB/dtsf:PodstawaPrawna/dtsf:Ust"]
[1,{"$f":"Adr_Dodatkowe & \"!$J$130\"","v":"Dodatkowe!$J$130"},null,"",null,{"$f":"F3353","v":"Pidx"},"Tekst",4,null,"dtsf:P_ID_9/dtsf:PozycjaUzytkownika","dtsf:Kwoty/dtsf:RB/dtsf:PodstawaPrawna/dtsf:Pkt"]
[1,{"$f":"Adr_Dodatkowe & \"!$K$130\"","v":"Dodatkowe!$K$130"},null,"",null,{"$f":"F3354","v":"Pidx"},"Tekst",4,null,"dtsf:P_ID_9/dtsf:PozycjaUzytkownika","dtsf:Kwoty/dtsf:RB/dtsf:PodstawaPrawna/dtsf:Lit"]
[1,{"$f":"Adr_Dodatkowe & \"!$L$130\"","v":"Dodatkowe!$L$130"},null,{"$f":"D3347 & \"\"","v":"MarkParent:3"},null,{"$f":"F3355","v":"Pidx"},"Kwota",{"$f":"H3355","v":4},null,"dtsf:P_ID_9/dtsf:PozycjaUzytkownika","dtsf:Kwoty/dtsf:RB/dtsf:Kwota/dtsf:KwotaA"]
[1,{"$f":"Adr_Dodatkowe & \"!$M$130\"","v":"Dodatkowe!$M$130"},null,"",null,{"$f":"F3356","v":"Pidx"},"Kwota",4,null,"dtsf:P_ID_9/dtsf:PozycjaUzytkownika","dtsf:Kwoty/dtsf:RB/dtsf:Kwota/dtsf:KwotaB"]
[2,{"$f":"Adr_Dodatkowe & \"!$O$130\"","v":"Dodatkowe!$O$130"},null,"MarkParent",null,{"$f":"F3357","v":"Pidx"},"Kwota",4,null,"dtsf:P_ID_9/dtsf:PozycjaUzytkownika","dtsf:Kwoty/dtsf:RP/dtsf:KwotaA"]
[1,{"$f":"Adr_Dodatkowe & \"!$P$130\"","v":"Dodatkowe!$P$130"},null,"",null,{"$f":"F3358","v":"Pidx"},"Kwota",4,null,"dtsf:P_ID_9/dtsf:PozycjaUzytkownika","dtsf:Kwoty/dtsf:RP/dtsf:KwotaB"]
[null,{"$f":"Adr_Dodatkowe & \"!$G$131\"","v":"Dodatkowe!$G$131"},null,{"$f":"D3351 & \"\"","v":"MarkParent"},null,"Pidx","Tekst",{"$f":"H3351+1","v":5},null,"dtsf:P_ID_9/dtsf:PozycjaUzytkownika","dtsf:NazwaPozycji"]
[1,{"$f":"Adr_Dodatkowe & \"!$H$131\"","v":"Dodatkowe!$H$131"},null,{"$f":"D3352 & \"\"","v":"MarkParent"},null,{"$f":"F3360","v":"Pidx"},{"$f":"G3360","v":"Tekst"},{"$f":"H3360","v":5},null,"dtsf:P_ID_9/dtsf:PozycjaUzytkownika","dtsf:Kwoty/dtsf:RB/dtsf:PodstawaPrawna/dtsf:Art"]
[1,{"$f":"Adr_Dodatkowe & \"!$I$131\"","v":"Dodatkowe!$I$131"},null,"",null,{"$f":"F3361","v":"Pidx"},"Tekst",5,null,"dtsf:P_ID_9/dtsf:PozycjaUzytkownika","dtsf:Kwoty/dtsf:RB/dtsf:PodstawaPrawna/dtsf:Ust"]
[1,{"$f":"Adr_Dodatkowe & \"!$J$131\"","v":"Dodatkowe!$J$131"},null,"",null,{"$f":"F3362","v":"Pidx"},"Tekst",5,null,"dtsf:P_ID_9/dtsf:PozycjaUzytkownika","dtsf:Kwoty/dtsf:RB/dtsf:PodstawaPrawna/dtsf:Pkt"]
[1,{"$f":"Adr_Dodatkowe & \"!$K$131\"","v":"Dodatkowe!$K$131"},null,"",null,{"$f":"F3363","v":"Pidx"},"Tekst",5,null,"dtsf:P_ID_9/dtsf:PozycjaUzytkownika","dtsf:Kwoty/dtsf:RB/dtsf:PodstawaPrawna/dtsf:Lit"]
[1,{"$f":"Adr_Dodatkowe & \"!$L$131\"","v":"Dodatkowe!$L$131"},null,"MarkParent:3",null,{"$f":"F3364","v":"Pidx"},"Kwota",{"$f":"H3364","v":5},null,"dtsf:P_ID_9/dtsf:PozycjaUzytkownika","dtsf:Kwoty/dtsf:RB/dtsf:Kwota/dtsf:KwotaA"]
[1,{"$f":"Adr_Dodatkowe & \"!$M$131\"","v":"Dodatkowe!$M$131"},null,{"$f":"D3357 & \"\"","v":""},null,{"$f":"F3365","v":"Pidx"},"Kwota",5,null,"dtsf:P_ID_9/dtsf:PozycjaUzytkownika","dtsf:Kwoty/dtsf:RB/dtsf:Kwota/dtsf:KwotaB"]
[2,{"$f":"Adr_Dodatkowe & \"!$O$131\"","v":"Dodatkowe!$O$131"},null,"MarkParent",null,{"$f":"F3366","v":"Pidx"},"Kwota",5,null,"dtsf:P_ID_9/dtsf:PozycjaUzytkownika","dtsf:Kwoty/dtsf:RP/dtsf:KwotaA"]
[1,{"$f":"Adr_Dodatkowe & \"!$P$131\"","v":"Dodatkowe!$P$131"},null,"",null,{"$f":"F3367","v":"Pidx"},"Kwota",5,null,"dtsf:P_ID_9/dtsf:PozycjaUzytkownika","dtsf:Kwoty/dtsf:RP/dtsf:KwotaB"]
[null,{"$f":"Adr_Dodatkowe & \"!$G$132\"","v":"Dodatkowe!$G$132"},null,"MarkParent",null,"Pidx","Tekst",{"$f":"H3360+1","v":6},null,"dtsf:P_ID_9/dtsf:PozycjaUzytkownika","dtsf:NazwaPozycji"]
[1,{"$f":"Adr_Dodatkowe & \"!$H$132\"","v":"Dodatkowe!$H$132"},null,{"$f":"$D$2528 & \"\"","v":"MarkParent"},null,{"$f":"F3369","v":"Pidx"},{"$f":"G3369","v":"Tekst"},{"$f":"H3369","v":6},null,"dtsf:P_ID_9/dtsf:PozycjaUzytkownika","dtsf:Kwoty/dtsf:RB/dtsf:PodstawaPrawna/dtsf:Art"]
[1,{"$f":"Adr_Dodatkowe & \"!$I$132\"","v":"Dodatkowe!$I$132"},null,{"$f":"$D$2529 & \"\"","v":""},null,{"$f":"F3370","v":"Pidx"},"Tekst",6,null,"dtsf:P_ID_9/dtsf:PozycjaUzytkownika","dtsf:Kwoty/dtsf:RB/dtsf:PodstawaPrawna/dtsf:Ust"]
[1,{"$f":"Adr_Dodatkowe & \"!$J$132\"","v":"Dodatkowe!$J$132"},null,{"$f":"$D$2530 & \"\"","v":""},null,{"$f":"F3371","v":"Pidx"},"Tekst",6,null,"dtsf:P_ID_9/dtsf:PozycjaUzytkownika","dtsf:Kwoty/dtsf:RB/dtsf:PodstawaPrawna/dtsf:Pkt"]
[1,{"$f":"Adr_Dodatkowe & \"!$K$132\"","v":"Dodatkowe!$K$132"},null,{"$f":"$D$2531 & \"\"","v":""},null,{"$f":"F3372","v":"Pidx"},"Tekst",6,null,"dtsf:P_ID_9/dtsf:PozycjaUzytkownika","dtsf:Kwoty/dtsf:RB/dtsf:PodstawaPrawna/dtsf:Lit"]
[1,{"$f":"Adr_Dodatkowe & \"!$L$132\"","v":"Dodatkowe!$L$132"},null,{"$f":"$D$2532 & \"\"","v":"MarkParent:3"},null,"Pidx","Kwota",6,null,"dtsf:P_ID_9/dtsf:PozycjaUzytkownika","dtsf:Kwoty/dtsf:RB/dtsf:Kwota/dtsf:KwotaA"]
[1,{"$f":"Adr_Dodatkowe & \"!$M$132\"","v":"Dodatkowe!$M$132"},null,{"$f":"$D$2533 & \"\"","v":""},null,{"$f":"F3374","v":"Pidx"},"Kwota",6,null,"dtsf:P_ID_9/dtsf:PozycjaUzytkownika","dtsf:Kwoty/dtsf:RB/dtsf:Kwota/dtsf:KwotaB"]
[2,{"$f":"Adr_Dodatkowe & \"!$O$132\"","v":"Dodatkowe!$O$132"},null,{"$f":"$D$2534 & \"\"","v":"MarkParent"},null,{"$f":"F3375","v":"Pidx"},"Kwota",6,null,"dtsf:P_ID_9/dtsf:PozycjaUzytkownika","dtsf:Kwoty/dtsf:RP/dtsf:KwotaA"]
[1,{"$f":"Adr_Dodatkowe & \"!$P$132\"","v":"Dodatkowe!$P$132"},null,null,null,{"$f":"F3376","v":"Pidx"},"Kwota",6,null,"dtsf:P_ID_9/dtsf:PozycjaUzytkownika","dtsf:Kwoty/dtsf:RP/dtsf:KwotaB"]
[null,{"$f":"Adr_Dodatkowe & \"!$G$133\"","v":"Dodatkowe!$G$133"},null,{"$f":"D3369 & \"\"","v":"MarkParent"},null,"Pidx","Tekst",{"$f":"H3369+1","v":7},null,"dtsf:P_ID_9/dtsf:PozycjaUzytkownika","dtsf:NazwaPozycji"]
[1,{"$f":"Adr_Dodatkowe & \"!$H$133\"","v":"Dodatkowe!$H$133"},null,{"$f":"D3370 & \"\"","v":"MarkParent"},null,{"$f":"F3378","v":"Pidx"},{"$f":"G3378","v":"Tekst"},{"$f":"H3378","v":7},null,"dtsf:P_ID_9/dtsf:PozycjaUzytkownika","dtsf:Kwoty/dtsf:RB/dtsf:PodstawaPrawna/dtsf:Art"]
[1,{"$f":"Adr_Dodatkowe & \"!$I$133\"","v":"Dodatkowe!$I$133"},null,"",null,{"$f":"F3379","v":"Pidx"},"Tekst",7,null,"dtsf:P_ID_9/dtsf:PozycjaUzytkownika","dtsf:Kwoty/dtsf:RB/dtsf:PodstawaPrawna/dtsf:Ust"]
[1,{"$f":"Adr_Dodatkowe & \"!$J$133\"","v":"Dodatkowe!$J$133"},null,"",null,{"$f":"F3380","v":"Pidx"},"Tekst",7,null,"dtsf:P_ID_9/dtsf:PozycjaUzytkownika","dtsf:Kwoty/dtsf:RB/dtsf:PodstawaPrawna/dtsf:Pkt"]
[1,{"$f":"Adr_Dodatkowe & \"!$K$133\"","v":"Dodatkowe!$K$133"},null,"",null,{"$f":"F3381","v":"Pidx"},"Tekst",7,null,"dtsf:P_ID_9/dtsf:PozycjaUzytkownika","dtsf:Kwoty/dtsf:RB/dtsf:PodstawaPrawna/dtsf:Lit"]
[1,{"$f":"Adr_Dodatkowe & \"!$L$133\"","v":"Dodatkowe!$L$133"},null,"MarkParent:3",null,"Pidx","Kwota",7,null,"dtsf:P_ID_9/dtsf:PozycjaUzytkownika","dtsf:Kwoty/dtsf:RB/dtsf:Kwota/dtsf:KwotaA"]
[1,{"$f":"Adr_Dodatkowe & \"!$M$133\"","v":"Dodatkowe!$M$133"},null,{"$f":"D3375 & \"\"","v":""},null,{"$f":"F3383","v":"Pidx"},"Kwota",7,null,"dtsf:P_ID_9/dtsf:PozycjaUzytkownika","dtsf:Kwoty/dtsf:RB/dtsf:Kwota/dtsf:KwotaB"]
[2,{"$f":"Adr_Dodatkowe & \"!$O$133\"","v":"Dodatkowe!$O$133"},null,"MarkParent",null,{"$f":"F3384","v":"Pidx"},"Kwota",7,null,"dtsf:P_ID_9/dtsf:PozycjaUzytkownika","dtsf:Kwoty/dtsf:RP/dtsf:KwotaA"]
[1,{"$f":"Adr_Dodatkowe & \"!$P$133\"","v":"Dodatkowe!$P$133"},null,"",null,{"$f":"F3385","v":"Pidx"},"Kwota",7,null,"dtsf:P_ID_9/dtsf:PozycjaUzytkownika","dtsf:Kwoty/dtsf:RP/dtsf:KwotaB"]
[null,{"$f":"Adr_Dodatkowe & \"!$G$134\"","v":"Dodatkowe!$G$134"},null,"MarkParent",null,"Pidx","Tekst",{"$f":"H3378+1","v":8},null,"dtsf:P_ID_9/dtsf:PozycjaUzytkownika","dtsf:NazwaPozycji"]
[1,{"$f":"Adr_Dodatkowe & \"!$H$134\"","v":"Dodatkowe!$H$134"},null,{"$f":"D3379 & \"\"","v":"MarkParent"},null,{"$f":"F3387","v":"Pidx"},{"$f":"G3387","v":"Tekst"},{"$f":"H3387","v":8},null,"dtsf:P_ID_9/dtsf:PozycjaUzytkownika","dtsf:Kwoty/dtsf:RB/dtsf:PodstawaPrawna/dtsf:Art"]
[1,{"$f":"Adr_Dodatkowe & \"!$I$134\"","v":"Dodatkowe!$I$134"},null,"",null,{"$f":"F3388","v":"Pidx"},"Tekst",8,null,"dtsf:P_ID_9/dtsf:PozycjaUzytkownika","dtsf:Kwoty/dtsf:RB/dtsf:PodstawaPrawna/dtsf:Ust"]
[1,{"$f":"Adr_Dodatkowe & \"!$J$134\"","v":"Dodatkowe!$J$134"},null,"",null,{"$f":"F3389","v":"Pidx"},"Tekst",8,null,"dtsf:P_ID_9/dtsf:PozycjaUzytkownika","dtsf:Kwoty/dtsf:RB/dtsf:PodstawaPrawna/dtsf:Pkt"]
[1,{"$f":"Adr_Dodatkowe & \"!$K$134\"","v":"Dodatkowe!$K$134"},null,"",null,{"$f":"F3390","v":"Pidx"},"Tekst",8,null,"dtsf:P_ID_9/dtsf:PozycjaUzytkownika","dtsf:Kwoty/dtsf:RB/dtsf:PodstawaPrawna/dtsf:Lit"]
[1,{"$f":"Adr_Dodatkowe & \"!$L$134\"","v":"Dodatkowe!$L$134"},null,"MarkParent:3",null,"Pidx","Kwota",8,null,"dtsf:P_ID_9/dtsf:PozycjaUzytkownika","dtsf:Kwoty/dtsf:RB/dtsf:Kwota/dtsf:KwotaA"]
[1,{"$f":"Adr_Dodatkowe & \"!$M$134\"","v":"Dodatkowe!$M$134"},null,"",null,{"$f":"F3392","v":"Pidx"},"Kwota",8,null,"dtsf:P_ID_9/dtsf:PozycjaUzytkownika","dtsf:Kwoty/dtsf:RB/dtsf:Kwota/dtsf:KwotaB"]
[2,{"$f":"Adr_Dodatkowe & \"!$O$134\"","v":"Dodatkowe!$O$134"},null,{"$f":"D3385 & \"\"","v":"MarkParent"},null,{"$f":"F3393","v":"Pidx"},"Kwota",8,null,"dtsf:P_ID_9/dtsf:PozycjaUzytkownika","dtsf:Kwoty/dtsf:RP/dtsf:KwotaA"]
[1,{"$f":"Adr_Dodatkowe & \"!$P$134\"","v":"Dodatkowe!$P$134"},null,{"$f":"D3386 & \"\"","v":""},null,{"$f":"F3394","v":"Pidx"},"Kwota",8,null,"dtsf:P_ID_9/dtsf:PozycjaUzytkownika","dtsf:Kwoty/dtsf:RP/dtsf:KwotaB"]
[null,{"$f":"Adr_Dodatkowe & \"!$G$135\"","v":"Dodatkowe!$G$135"},null,{"$f":"D3387 & \"\"","v":"MarkParent"},null,"Pidx","Tekst",{"$f":"H3387+1","v":9},null,"dtsf:P_ID_9/dtsf:PozycjaUzytkownika","dtsf:NazwaPozycji"]
[1,{"$f":"Adr_Dodatkowe & \"!$H$135\"","v":"Dodatkowe!$H$135"},null,"MarkParent",null,{"$f":"F3396","v":"Pidx"},{"$f":"G3396","v":"Tekst"},{"$f":"H3396","v":9},null,"dtsf:P_ID_9/dtsf:PozycjaUzytkownika","dtsf:Kwoty/dtsf:RB/dtsf:PodstawaPrawna/dtsf:Art"]
[1,{"$f":"Adr_Dodatkowe & \"!$I$135\"","v":"Dodatkowe!$I$135"},null,"",null,{"$f":"F3397","v":"Pidx"},"Tekst",9,null,"dtsf:P_ID_9/dtsf:PozycjaUzytkownika","dtsf:Kwoty/dtsf:RB/dtsf:PodstawaPrawna/dtsf:Ust"]
[1,{"$f":"Adr_Dodatkowe & \"!$J$135\"","v":"Dodatkowe!$J$135"},null,"",null,{"$f":"F3398","v":"Pidx"},"Tekst",9,null,"dtsf:P_ID_9/dtsf:PozycjaUzytkownika","dtsf:Kwoty/dtsf:RB/dtsf:PodstawaPrawna/dtsf:Pkt"]
[1,{"$f":"Adr_Dodatkowe & \"!$K$135\"","v":"Dodatkowe!$K$135"},null,"",null,{"$f":"F3399","v":"Pidx"},"Tekst",9,null,"dtsf:P_ID_9/dtsf:PozycjaUzytkownika","dtsf:Kwoty/dtsf:RB/dtsf:PodstawaPrawna/dtsf:Lit"]
[1,{"$f":"Adr_Dodatkowe & \"!$L$135\"","v":"Dodatkowe!$L$135"},null,{"$f":"D3392 & \"\"","v":"MarkParent:3"},null,"Pidx","Kwota",9,null,"dtsf:P_ID_9/dtsf:PozycjaUzytkownika","dtsf:Kwoty/dtsf:RB/dtsf:Kwota/dtsf:KwotaA"]
[1,{"$f":"Adr_Dodatkowe & \"!$M$135\"","v":"Dodatkowe!$M$135"},null,"",null,{"$f":"F3401","v":"Pidx"},"Kwota",9,null,"dtsf:P_ID_9/dtsf:PozycjaUzytkownika","dtsf:Kwoty/dtsf:RB/dtsf:Kwota/dtsf:KwotaB"]
[2,{"$f":"Adr_Dodatkowe & \"!$O$135\"","v":"Dodatkowe!$O$135"},null,"MarkParent",null,{"$f":"F3402","v":"Pidx"},"Kwota",9,null,"dtsf:P_ID_9/dtsf:PozycjaUzytkownika","dtsf:Kwoty/dtsf:RP/dtsf:KwotaA"]
[1,{"$f":"Adr_Dodatkowe & \"!$P$135\"","v":"Dodatkowe!$P$135"},null,"",null,{"$f":"F3403","v":"Pidx"},"Kwota",9,null,"dtsf:P_ID_9/dtsf:PozycjaUzytkownika","dtsf:Kwoty/dtsf:RP/dtsf:KwotaB"]
[null,{"$f":"Adr_Dodatkowe & \"!$G$136\"","v":"Dodatkowe!$G$136"},null,{"$f":"D3396 & \"\"","v":"MarkParent"},null,"Pidx","Tekst",{"$f":"H3396+1","v":10},null,"dtsf:P_ID_9/dtsf:PozycjaUzytkownika","dtsf:NazwaPozycji"]
[1,{"$f":"Adr_Dodatkowe & \"!$H$136\"","v":"Dodatkowe!$H$136"},null,{"$f":"D3397 & \"\"","v":"MarkParent"},null,{"$f":"F3405","v":"Pidx"},{"$f":"G3405","v":"Tekst"},{"$f":"H3405","v":10},null,"dtsf:P_ID_9/dtsf:PozycjaUzytkownika","dtsf:Kwoty/dtsf:RB/dtsf:PodstawaPrawna/dtsf:Art"]
[1,{"$f":"Adr_Dodatkowe & \"!$I$136\"","v":"Dodatkowe!$I$136"},null,"",null,{"$f":"F3406","v":"Pidx"},"Tekst",10,null,"dtsf:P_ID_9/dtsf:PozycjaUzytkownika","dtsf:Kwoty/dtsf:RB/dtsf:PodstawaPrawna/dtsf:Ust"]
[1,{"$f":"Adr_Dodatkowe & \"!$J$136\"","v":"Dodatkowe!$J$136"},null,"",null,{"$f":"F3407","v":"Pidx"},"Tekst",10,null,"dtsf:P_ID_9/dtsf:PozycjaUzytkownika","dtsf:Kwoty/dtsf:RB/dtsf:PodstawaPrawna/dtsf:Pkt"]
[1,{"$f":"Adr_Dodatkowe & \"!$K$136\"","v":"Dodatkowe!$K$136"},null,"",null,{"$f":"F3408","v":"Pidx"},"Tekst",10,null,"dtsf:P_ID_9/dtsf:PozycjaUzytkownika","dtsf:Kwoty/dtsf:RB/dtsf:PodstawaPrawna/dtsf:Lit"]
[1,{"$f":"Adr_Dodatkowe & \"!$L$136\"","v":"Dodatkowe!$L$136"},null,"MarkParent:3",null,"Pidx","Kwota",10,null,"dtsf:P_ID_9/dtsf:PozycjaUzytkownika","dtsf:Kwoty/dtsf:RB/dtsf:Kwota/dtsf:KwotaA"]
[1,{"$f":"Adr_Dodatkowe & \"!$M$136\"","v":"Dodatkowe!$M$136"},null,{"$f":"D3402 & \"\"","v":""},null,{"$f":"F3410","v":"Pidx"},"Kwota",10,null,"dtsf:P_ID_9/dtsf:PozycjaUzytkownika","dtsf:Kwoty/dtsf:RB/dtsf:Kwota/dtsf:KwotaB"]
[2,{"$f":"Adr_Dodatkowe & \"!$O$136\"","v":"Dodatkowe!$O$136"},null,"MarkParent",null,{"$f":"F3411","v":"Pidx"},"Kwota",10,null,"dtsf:P_ID_9/dtsf:PozycjaUzytkownika","dtsf:Kwoty/dtsf:RP/dtsf:KwotaA"]
[1,{"$f":"Adr_Dodatkowe & \"!$P$136\"","v":"Dodatkowe!$P$136"},null,"",null,{"$f":"F3412","v":"Pidx"},"Kwota",10,null,"dtsf:P_ID_9/dtsf:PozycjaUzytkownika","dtsf:Kwoty/dtsf:RP/dtsf:KwotaB"]
[null,{"$f":"Adr_Dodatkowe & \"!$L$137\"","v":"Dodatkowe!$L$137"},null,"ExportOnly",null,null,"Kwota",null,null,"dtsf:P_ID_9/dtsf:Pozostale","dtsf:RB/dtsf:KwotaA"]
[1,{"$f":"Adr_Dodatkowe & \"!$M$137\"","v":"Dodatkowe!$M$137"},null,"ExportOnly",null,null,{"$f":"G3414","v":"Kwota"},null,null,"dtsf:P_ID_9/dtsf:Pozostale","dtsf:RB/dtsf:KwotaB"]
[2,{"$f":"Adr_Dodatkowe & \"!$O$137\"","v":"Dodatkowe!$O$137"},null,"ExportOnly",null,null,"Kwota",null,null,"dtsf:P_ID_9/dtsf:Pozostale","dtsf:RP/dtsf:KwotaA"]
[1,{"$f":"Adr_Dodatkowe & \"!$P$137\"","v":"Dodatkowe!$P$137"},null,"ExportOnly",null,null,"Kwota",null,null,"dtsf:P_ID_9/dtsf:Pozostale","dtsf:RP/dtsf:KwotaB"]
[null,{"$f":"Adr_Dodatkowe & \"!$L$139\"","v":"Dodatkowe!$L$139"},null,"MarkParent",null,null,"Kwota",null,"=IF(ISNUMBER($L$8),ROUND($L$114-$L$116+$L$125,0),\"\")","dtsf:P_ID_10","dtsf:RB"]
[null,{"$f":"Adr_Dodatkowe & \"!$O$139\"","v":"Dodatkowe!$O$139"},null,"MarkParent",null,null,"Kwota",null,"=IF(ISNUMBER($O$8),ROUND($O$114-$O$116+$O$125,0),\"\")","dtsf:P_ID_10","dtsf:RP"]
[null,{"$f":"Adr_Dodatkowe & \"!$L$141\"","v":"Dodatkowe!$L$141"},null,"MarkParent",null,null,"Kwota",null,"=IF(ISNUMBER($L$8),IF($L$139> 0,ROUND(CIT_B*$L$139,0),0),\"\")","dtsf:P_ID_11","dtsf:RB"]
[null,{"$f":"Adr_Dodatkowe & \"!$O$141\"","v":"Dodatkowe!$O$141"},null,"MarkParent",null,null,"Kwota",null,"=IF(ISNUMBER($O$8),IF($O$139> 0,ROUND(CIT_P*$O$139,0),0),\"\")","dtsf:P_ID_11","dtsf:RP"]
[null,{"$f":"IF(NumerWariantuRaportu=5,\"\",Adr(Dodatkowe!$G$147))","v":"Dodatkowe!$G$147"},null,null,null,null,"ErrorMark",1,null,"sf:DodatkoweInformacjeIObjasnienia","."]
[null,{"$f":"IF(NumerWariantuRaportu=5,\"\",Adr(Dodatkowe!$G$147))","v":"Dodatkowe!$G$147"},null,null,0,"Pidx","Tekst",1,"brak","sf:DodatkoweInformacjeIObjasnienia","dtsf:Opis"]
[null,{"$f":"IF(NumerWariantuRaportu=5,\"\",Adr(Dodatkowe!$P$147))","v":"Dodatkowe!$P$147"},null,null,0,"Pidx","Plik",1,null,"sf:DodatkoweInformacjeIObjasnienia","dtsf:Plik"]
[null,{"$f":"IF(NumerWariantuRaportu=5,\"\",Adr(Dodatkowe!$G$151))","v":"Dodatkowe!$G$151"},null,null,0,"Pidx","Tekst",2,null,"sf:DodatkoweInformacjeIObjasnienia","dtsf:Opis"]
[null,{"$f":"IF(NumerWariantuRaportu=5,\"\",Adr(Dodatkowe!$P$151))","v":"Dodatkowe!$P$151"},null,null,0,"Pidx","Plik",2,null,"sf:DodatkoweInformacjeIObjasnienia","dtsf:Plik"]
[null,{"$f":"IF(NumerWariantuRaportu=5,\"\",Adr(Dodatkowe!$G$155))","v":"Dodatkowe!$G$155"},null,null,0,"Pidx","Tekst",3,null,"sf:DodatkoweInformacjeIObjasnienia","dtsf:Opis"]
[null,{"$f":"IF(NumerWariantuRaportu=5,\"\",Adr(Dodatkowe!$P$155))","v":"Dodatkowe!$P$155"},null,null,0,"Pidx","Plik",3,null,"sf:DodatkoweInformacjeIObjasnienia","dtsf:Plik"]
[null,{"$f":"IF(NumerWariantuRaportu=5,\"\",Adr(Dodatkowe!$G$159))","v":"Dodatkowe!$G$159"},null,null,0,"Pidx","Tekst",4,null,"sf:DodatkoweInformacjeIObjasnienia","dtsf:Opis"]
[null,{"$f":"IF(NumerWariantuRaportu=5,\"\",Adr(Dodatkowe!$P$159))","v":"Dodatkowe!$P$159"},null,null,0,"Pidx","Plik",4,null,"sf:DodatkoweInformacjeIObjasnienia","dtsf:Plik"]
[null,{"$f":"IF(NumerWariantuRaportu=5,\"\",Adr(Dodatkowe!$G$163))","v":"Dodatkowe!$G$163"},null,null,0,"Pidx","Tekst",5,null,"sf:DodatkoweInformacjeIObjasnienia","dtsf:Opis"]
[null,{"$f":"IF(NumerWariantuRaportu=5,\"\",Adr(Dodatkowe!$P$163))","v":"Dodatkowe!$P$163"},null,null,0,"Pidx","Plik",5,null,"sf:DodatkoweInformacjeIObjasnienia","dtsf:Plik"]
[null,{"$f":"IF(NumerWariantuRaportu=5,\"\",Adr(Dodatkowe!$G$167))","v":"Dodatkowe!$G$167"},null,null,0,"Pidx","Tekst",6,null,"sf:DodatkoweInformacjeIObjasnienia","dtsf:Opis"]
[null,{"$f":"IF(NumerWariantuRaportu=5,\"\",Adr(Dodatkowe!$P$167))","v":"Dodatkowe!$P$167"},null,null,0,"Pidx","Plik",6,null,"sf:DodatkoweInformacjeIObjasnienia","dtsf:Plik"]
[null,{"$f":"IF(NumerWariantuRaportu=5,\"\",Adr(Dodatkowe!$G$171))","v":"Dodatkowe!$G$171"},null,null,0,"Pidx","Tekst",7,null,"sf:DodatkoweInformacjeIObjasnienia","dtsf:Opis"]
[null,{"$f":"IF(NumerWariantuRaportu=5,\"\",Adr(Dodatkowe!$P$171))","v":"Dodatkowe!$P$171"},null,null,0,"Pidx","Plik",7,null,"sf:DodatkoweInformacjeIObjasnienia","dtsf:Plik"]
[null,{"$f":"IF(NumerWariantuRaportu=5,\"\",Adr(Dodatkowe!$G$175))","v":"Dodatkowe!$G$175"},null,null,0,"Pidx","Tekst",8,null,"sf:DodatkoweInformacjeIObjasnienia","dtsf:Opis"]
[null,{"$f":"IF(NumerWariantuRaportu=5,\"\",Adr(Dodatkowe!$P$175))","v":"Dodatkowe!$P$175"},null,null,0,"Pidx","Plik",8,null,"sf:DodatkoweInformacjeIObjasnienia","dtsf:Plik"]
[null,{"$f":"IF(NumerWariantuRaportu=5,\"\",Adr(Dodatkowe!$G$179))","v":"Dodatkowe!$G$179"},null,null,0,"Pidx","Tekst",9,null,"sf:DodatkoweInformacjeIObjasnienia","dtsf:Opis"]
[null,{"$f":"IF(NumerWariantuRaportu=5,\"\",Adr(Dodatkowe!$P$179))","v":"Dodatkowe!$P$179"},null,null,0,"Pidx","Plik",9,null,"sf:DodatkoweInformacjeIObjasnienia","dtsf:Plik"]
[null,{"$f":"IF(NumerWariantuRaportu=5,\"\",Adr(Dodatkowe!$G$183))","v":"Dodatkowe!$G$183"},null,null,0,"Pidx","Tekst",10,null,"sf:DodatkoweInformacjeIObjasnienia","dtsf:Opis"]
[null,{"$f":"IF(NumerWariantuRaportu=5,\"\",Adr(Dodatkowe!$P$183))","v":"Dodatkowe!$P$183"},null,null,0,"Pidx","Plik",10,null,"sf:DodatkoweInformacjeIObjasnienia","dtsf:Plik"]
[]
[null,{"$f":"Adr(Dodatkowe!$G$147)","v":"Dodatkowe!$G$147"},null,null,null,null,"ErrorMark",1,null,"sf:InformacjeUzupelniajaceDoBilansu","."]
[null,{"$f":"B3423","v":"Dodatkowe!$G$147"},null,null,{"$f":"E3423","v":0},"Pidx","Tekst",1,"brak","sf:InformacjeUzupelniajaceDoBilansu","dtsf:Opis"]
[null,{"$f":"B3424","v":"Dodatkowe!$P$147"},null,null,0,"Pidx","Plik",1,null,"sf:InformacjeUzupelniajaceDoBilansu","dtsf:Plik"]
[null,"Dodatkowe!$G$151",null,null,{"$f":"E3425","v":0},"Pidx","Tekst",2,null,"sf:InformacjeUzupelniajaceDoBilansu","dtsf:Opis"]
[null,"Dodatkowe!$P$151",null,null,{"$f":"E3426","v":0},"Pidx","Plik",2,null,"sf:InformacjeUzupelniajaceDoBilansu","dtsf:Plik"]
[null,"Dodatkowe!$G$155",null,null,{"$f":"E3427","v":0},"Pidx","Tekst",3,null,"sf:InformacjeUzupelniajaceDoBilansu","dtsf:Opis"]
[null,"Dodatkowe!$P$155",null,null,{"$f":"E3428","v":0},"Pidx","Plik",3,null,"sf:InformacjeUzupelniajaceDoBilansu","dtsf:Plik"]
[null,"Dodatkowe!$G$159",null,null,{"$f":"E3429","v":0},"Pidx","Tekst",4,null,"sf:InformacjeUzupelniajaceDoBilansu","dtsf:Opis"]
[null,"Dodatkowe!$P$159",null,null,{"$f":"E3430","v":0},"Pidx","Plik",4,null,"sf:InformacjeUzupelniajaceDoBilansu","dtsf:Plik"]
[null,"Dodatkowe!$G$163",null,null,{"$f":"E3431","v":0},"Pidx","Tekst",5,null,"sf:InformacjeUzupelniajaceDoBilansu","dtsf:Opis"]
[null,"Dodatkowe!$P$163",null,null,{"$f":"E3432","v":0},"Pidx","Plik",5,null,"sf:InformacjeUzupelniajaceDoBilansu","dtsf:Plik"]
[null,"Dodatkowe!$G$167",null,null,{"$f":"E3433","v":0},"Pidx","Tekst",6,null,"sf:InformacjeUzupelniajaceDoBilansu","dtsf:Opis"]
[null,"Dodatkowe!$P$167",null,null,{"$f":"E3434","v":0},"Pidx","Plik",6,null,"sf:InformacjeUzupelniajaceDoBilansu","dtsf:Plik"]
[null,"Dodatkowe!$G$171",null,null,{"$f":"E3435","v":0},"Pidx","Tekst",7,null,"sf:InformacjeUzupelniajaceDoBilansu","dtsf:Opis"]
[null,"Dodatkowe!$P$171",null,null,{"$f":"E3436","v":0},"Pidx","Plik",7,null,"sf:InformacjeUzupelniajaceDoBilansu","dtsf:Plik"]
[null,"Dodatkowe!$G$175",null,null,{"$f":"E3437","v":0},"Pidx","Tekst",8,null,"sf:InformacjeUzupelniajaceDoBilansu","dtsf:Opis"]
[null,"Dodatkowe!$P$175",null,null,{"$f":"E3438","v":0},"Pidx","Plik",8,null,"sf:InformacjeUzupelniajaceDoBilansu","dtsf:Plik"]
[null,"Dodatkowe!$G$179",null,null,{"$f":"E3439","v":0},"Pidx","Tekst",9,null,"sf:InformacjeUzupelniajaceDoBilansu","dtsf:Opis"]
[null,"Dodatkowe!$P$179",null,null,{"$f":"E3440","v":0},"Pidx","Plik",9,null,"sf:InformacjeUzupelniajaceDoBilansu","dtsf:Plik"]
[null,"Dodatkowe!$G$183",null,null,{"$f":"E3441","v":0},"Pidx","Tekst",10,null,"sf:InformacjeUzupelniajaceDoBilansu","dtsf:Opis"]
[null,"Dodatkowe!$P$183",null,null,{"$f":"E3442","v":0},"Pidx","Plik",10,null,"sf:InformacjeUzupelniajaceDoBilansu","dtsf:Plik"]
[]
[null,{"$f":"Adr(Dodatkowe!$G$147)","v":"Dodatkowe!$G$147"},null,null,null,null,"ErrorMark",1,null,"sf:InformacjaDodatkowa","."]
[null,{"$f":"B3423","v":"Dodatkowe!$G$147"},null,null,{"$f":"E3423","v":0},"Pidx","Tekst",1,"brak","sf:InformacjaDodatkowa","dtsf:Opis"]
[null,"Dodatkowe!$P$147",null,null,{"$f":"E3424","v":0},"Pidx","Plik",1,null,"sf:InformacjaDodatkowa","dtsf:Plik"]
[null,"Dodatkowe!$G$151",null,null,{"$f":"E3425","v":0},"Pidx","Tekst",2,null,"sf:InformacjaDodatkowa","dtsf:Opis"]
[null,"Dodatkowe!$P$151",null,null,{"$f":"E3426","v":0},"Pidx","Plik",2,null,"sf:InformacjaDodatkowa","dtsf:Plik"]
[null,"Dodatkowe!$G$155",null,null,{"$f":"E3427","v":0},"Pidx","Tekst",3,null,"sf:InformacjaDodatkowa","dtsf:Opis"]
[null,"Dodatkowe!$P$155",null,null,{"$f":"E3428","v":0},"Pidx","Plik",3,null,"sf:InformacjaDodatkowa","dtsf:Plik"]
[null,"Dodatkowe!$G$159",null,null,{"$f":"E3429","v":0},"Pidx","Tekst",4,null,"sf:InformacjaDodatkowa","dtsf:Opis"]
[null,"Dodatkowe!$P$159",null,null,{"$f":"E3430","v":0},"Pidx","Plik",4,null,"sf:InformacjaDodatkowa","dtsf:Plik"]
[null,"Dodatkowe!$G$163",null,null,{"$f":"E3431","v":0},"Pidx","Tekst",5,null,"sf:InformacjaDodatkowa","dtsf:Opis"]
[null,"Dodatkowe!$P$163",null,null,{"$f":"E3432","v":0},"Pidx","Plik",5,null,"sf:InformacjaDodatkowa","dtsf:Plik"]
[null,"Dodatkowe!$G$167",null,null,{"$f":"E3433","v":0},"Pidx","Tekst",6,null,"sf:InformacjaDodatkowa","dtsf:Opis"]
[null,"Dodatkowe!$P$167",null,null,{"$f":"E3434","v":0},"Pidx","Plik",6,null,"sf:InformacjaDodatkowa","dtsf:Plik"]
[null,"Dodatkowe!$G$171",null,null,{"$f":"E3435","v":0},"Pidx","Tekst",7,null,"sf:InformacjaDodatkowa","dtsf:Opis"]
[null,"Dodatkowe!$P$171",null,null,{"$f":"E3436","v":0},"Pidx","Plik",7,null,"sf:InformacjaDodatkowa","dtsf:Plik"]
[null,"Dodatkowe!$G$175",null,null,{"$f":"E3437","v":0},"Pidx","Tekst",8,null,"sf:InformacjaDodatkowa","dtsf:Opis"]
[null,"Dodatkowe!$P$175",null,null,{"$f":"E3438","v":0},"Pidx","Plik",8,null,"sf:InformacjaDodatkowa","dtsf:Plik"]
[null,"Dodatkowe!$G$179",null,null,{"$f":"E3439","v":0},"Pidx","Tekst",9,null,"sf:InformacjaDodatkowa","dtsf:Opis"]
[null,"Dodatkowe!$P$179",null,null,{"$f":"E3440","v":0},"Pidx","Plik",9,null,"sf:InformacjaDodatkowa","dtsf:Plik"]
[null,"Dodatkowe!$G$183",null,null,{"$f":"E3441","v":0},"Pidx","Tekst",10,null,"sf:InformacjaDodatkowa","dtsf:Opis"]
[null,"Dodatkowe!$P$183",null,null,0,"Pidx","Plik",10,null,"sf:InformacjaDodatkowa","dtsf:Plik"]

{"sheet":"techniczne","index":10,"n_rows":229,"n_cols":22,"rows_kept":229,"cut":false,"hidden":true,"merged":[[105,21,105,23],[162,2,162,5],[163,2,163,5],[164,2,164,5],[165,2,165,5],[158,2,158,5],[157,2,157,5],[167,2,167,5],[166,2,166,5],[159,2,159,5],[160,2,160,5],[161,2,161,5],[1,3,1,4],[141,2,141,7],[143,2,143,7],[142,2,142,7],[87,16,87,17],[83,16,83,17],[82,14,82,17],[138,2,138,7],[105,15,105,17],[10,13,11,13],[170,1,170,2],[170,3,170,4],[139,2,139,7],[140,2,140,7],[144,2,144,7],[148,2,148,5],[149,2,149,5],[150,2,150,5],[146,2,146,5],[147,2,147,4],[151,2,151,5],[152,2,152,5],[153,2,153,5],[154,2,154,5],[155,2,155,5],[156,2,156,5],[225,1,225,2],[226,1,226,2],[227,1,227,2],[228,1,228,2],[224,1,224,2]]}
["Na poczatek trochę pól powiązanych z zapisywanym/odczytywanym plikiem:",null,null,null,null,null,null,null,null,null,null,null,null,null,"Kod języka etykiet:",{"$f":"VLOOKUP(Q1,teksty!B19:D21,2)","v":"PL"},1]
[null,null,"Wariant raportu:",{"$f":"VLOOKUP(F2,ListaWariantowRaportow,2) & VLOOKUP(G2,BazyKwot,2)","v":"JednostkaMikroWZlotych"},null,1,1,null,null,"Bez dat w nagłówkach:",{"$f":"OR(DataDo=\"\", MONTH(DataOd)> 1,MONTH(DataDo)< 12,DAY(DataOd)>1,YEAR(DataOd) <> YEAR(DataDo))","v":true},null,null,null,"XED","#4574"]
[null,null,"Numer ID podmiotu:",{"$f":"VLOOKUP(E3,teksty!B30:C31,2)","v":"KRS"},1,null,null,null,null,"Weryfikacja wybranych kwot:",false,1,null,null,"XSD","https://www.gov.pl/static/finanse/SF/DefinicjeTypySprawozdaniaFinansowe/2024/10/24/{jednostka}{baza}%281%29_v1-3.xsd"]
[null,null,null,null,null,null,null,null,null,null,null,null,null,null,"SF namespace",{"$f":"P120","v":"http://www.mf.gov.pl/schematy/SF/DefinicjeTypySprawozdaniaFinansowe{nsPrefix}{jednostka}{baza}"}]
[null,null,null,null,null,null,null,null,null,null,null,null,null,null,{"$f":"Wprowadzenie!WybranaPozycja","v":2}]
[]
[null,null,null,null,null,null,null,null,null,null,null,null,null,null,"Dodatkowe testy merytoryczne podczas Importu:"]
[null,null,null,null,null,null,null,null,null,null,null,null,null,null,"Sprawdź podczas importu? (puste: nie sprawdzaj w ogóle)","Operator porównania","Wykonać przed walidacją XSD?","Węzeł z porównywaną wartością (wyrażenie Xpath) (uruchamiane dla DocumentNode)","Oczekiwana wartość","Komunikat o ewentualnym błędzie (Wpisz {Val} tam, gdzie ma być podstawiona wartość z importowanego dokumentu), {Exp} dla wartości porównywanej/oczekiwanej","To błąd?"]
[null,null,null,null,null,null,null,null,null,null,null,null,null,null,{"$f":"IF(AND(NumerWariantuRaportu < 4,OR(Wprowadzenie!WybranaPozycja = 1,Wprowadzenie!WybranaPozycja = 4), AdditionalDialogFlag(2) = FALSE),FALSE,\"\")","v":""},"ne",true,"//*[local-name()='P_1E']",null,{"$f":"teksty!$D$1000","v":"W arkuszu 'Wprowadzenie' pole z numerem KRS tej jednostki jest puste.\n\nKoniecznie je uzupełnij, jeżeli zamierzasz złożyć to sprawozdanie do e-KRS."},{"$f":"AdditionalDialogFlag(3)","v":false}]
[null,null,null,null,null,null,null,null,null,null,null,null,null,null,{"$f":"IF(AND(O9 = \"\",NumerWariantuRaportu <> 5,AdditionalDialogFlag(2) = FALSE),FALSE,\"\")","v":false},"ne",true,"//*[local-name()='P_1D']",null,{"$f":"teksty!$D$1000","v":"W arkuszu 'Wprowadzenie' pole z numerem KRS tej jednostki jest puste.\n\nKoniecznie je uzupełnij, jeżeli zamierzasz złożyć to sprawozdanie do e-KRS."},{"$f":"AdditionalDialogFlag(3)","v":false}]
[null,null,null,null,null,null,null,null,null,null,null,null,null,"na razie wyłączone",{"$f":"IF(OR(NumerWariantuRaportu = 5, DemoVersion(), TRUE),\"\",TRUE)","v":""},"gt",{"$f":"TRUE","v":true},"*[local-name()='Naglowek']/*[local-name()='OkresOd']","2023-12-31",{"$f":"teksty!D999","v":"Obsługiwany przez ten skoroszyt schemat (1-3) jest przeznaczony dla e-sprawozdań, których okres zaczyna się po {Exp}. W tym sprawozdaniu to {Val}, więc nie będzie można go zapisać do pliku XML."},{"$f":"FALSE","v":false}]
[null,null,null,null,null,null,null,null,null,null,null,null,null,null,{"$f":"IF(OR(NumerWariantuRaportu = 5, DemoVersion(), TRUE),\"\",FALSE)","v":""},"gt",true,"*[local-name()='Naglowek']/*[local-name()='OkresOd']","2023-12-31",{"$f":"teksty!D999","v":"Obsługiwany przez ten skoroszyt schemat (1-3) jest przeznaczony dla e-sprawozdań, których okres zaczyna się po {Exp}. W tym sprawozdaniu to {Val}, więc nie będzie można go zapisać do pliku XML."},{"$f":"TRUE","v":true}]
[null,null,null,null,null,null,null,null,null,null,null,null,null,null,{"$f":"TRUE","v":true},"in",{"$f":"TRUE","v":true},"*[local-name()='Naglowek']/*[local-name()='KodSprawozdania']/@wersjaSchemy","{wersjaSchemy}",{"$f":"teksty!D994","v":"Niewłaściwy wersja pliku sprawozdania ({Val}), podczas gdy powinna być to jedna z następujących wersji: '{Exp}'. Ten format może zawierać inne pola, i taka operacja jest niemożliwa"},{"$f":"TRUE","v":true}]
[]
[null,null,null,null,null,null,null,null,null,null,null,null,null,null,"Nazwa skoroszytu:",null,"e-sprawozdań finansowych"]
[null,null,null,null,null,null,null,null,null,null,null,null,null,null,"Numer seryjny:",null,"DEMO.iform"]
[null,null,null,null,null,null,null,null,null,null,null,null,null,null,"Numer edycji:",null,3.05]
[null,null,null,null,null,null,null,null,null,null,null,null,null,null,"Wygenerowano:",null,"2025-03-31T11:01:59"]
[]
[null,null,null,null,null,null,null,null,null,null,null,null,null,null,"Dodatkowe flagi sterujące",null,"00"]
[null,null,null,null,null,null,null,null,null,null,null,null,null,null,"Wykrywaj drugi monitor (akcja domyślna):",null,{"$f":"AND(CheckMultipleMonitors(),AdditionalDialogFlag(1) = FALSE)","v":true}]
[]
[]
[]
[]
[]
[]
[]
[]
[]
[]
[]
[]
[]
[]
[]
[]
[]
[]
[]
[]
[]
[]
[]
[]
[]
[]
[]
[]
[]
[]
[]
[]
[]
[]
[]
[]
[]
[]
[]
[]
[]
[]
[]
[]
[]
[]
[]
[]
[]
[]
[]
[]
[]
[]
[]
[]
[]
[]
[]
[]
[]
[null,null,null,null,null,null,null,null,null,null,null,null,null,null,"Wzorce wszystkich przestrzeni nazw i ich prefiksy.  Wiersze z nazwą załącznika są używane do budowy Schema Cache (Po nazwie załącznika - pamiętaj o zmianie nazwy Obiektu po wstawieniu, na taki, jaki jest wpisany w pierwszej kolumnie). Kolumna Prefiks NS pozostała ze względów historycznych"]
[null,null,null,null,null,null,null,null,null,null,null,null,null,null,"Nazwa załącznika","Prefiks NS","Przestrzeń nazw"]
[null,null,null,null,null,null,null,null,null,null,null,null,null,null,"KodyPKD",null,"http://crd.gov.pl/xml/schematy/dziedzinowe/mf/2018/02/01/eD/KodyPKD/"]
[null,null,null,null,null,null,null,null,null,null,null,null,null,null,"KodyKrajow",null,"http://crd.gov.pl/xml/schematy/dziedzinowe/mf/2016/01/25/eD/DefinicjeTypy/"]
[null,null,null,null,null,null,null,null,null,null,null,null,null,null,"ElementarneTypyDanych",null,"http://crd.gov.pl/xml/schematy/dziedzinowe/mf/2016/01/25/eD/DefinicjeTypy/"]
[null,null,null,null,null,null,null,null,null,null,null,null,null,null,"StrukturyDanych",null,"http://crd.gov.pl/xml/schematy/dziedzinowe/mf/2016/01/25/eD/DefinicjeTypy/"]
[null,null,null,null,null,null,null,null,null,null,null,null,null,null,"DefinicjeTypySF",null,"http://www.mf.gov.pl/schematy/SF/DefinicjeTypySprawozdaniaFinansowe/2018/07/09/DefinicjeTypySprawozdaniaFinansowe/"]
[null,null,null,null,null,null,null,null,null,null,null,null,null,null,"JednostkaInnaStruktury",null,"http://www.mf.gov.pl/schematy/SF/DefinicjeTypySprawozdaniaFinansowe/2025/01/01/JednostkaInnaStruktury"]
[null,null,null,null,null,null,null,null,null,null,null,null,null,null,"JednostkaInnaWZlotych",null,"http://www.mf.gov.pl/schematy/SF/DefinicjeTypySprawozdaniaFinansowe/2025/01/01/JednostkaInnaWZlotych"]
[null,null,null,null,null,null,null,null,null,null,null,null,null,null,"JednostkaInnaWTysiacach",null,"http://www.mf.gov.pl/schematy/SF/DefinicjeTypySprawozdaniaFinansowe/2025/01/01/JednostkaInnaWTysiacach"]
[null,null,null,null,null,null,null,null,null,null,null,null,null,null,"JednostkaMalaStruktury",null,"http://www.mf.gov.pl/schematy/SF/DefinicjeTypySprawozdaniaFinansowe/2025/01/01/JednostkaMalaStruktury"]
[null,null,null,null,null,null,null,null,null,null,null,null,null,null,"JednostkaMalaWTysiacach",null,"http://www.mf.gov.pl/schematy/SF/DefinicjeTypySprawozdaniaFinansowe/2025/01/01/JednostkaMalaWTysiacach"]
[null,null,null,null,null,null,null,null,null,null,null,null,null,null,"JednostkaMalaWZlotych",null,"http://www.mf.gov.pl/schematy/SF/DefinicjeTypySprawozdaniaFinansowe/2025/01/01/JednostkaMalaWZlotych"]
[null,null,null,null,null,null,null,null,null,null,null,null,null,null,"JednostkaMikroStruktury",null,"http://www.mf.gov.pl/schematy/SF/DefinicjeTypySprawozdaniaFinansowe/2025/01/01/JednostkaMikroStruktury"]
[null,null,null,null,null,null,null,null,null,null,null,null,null,null,"JednostkaMikroWTysiacach",null,"http://www.mf.gov.pl/schematy/SF/DefinicjeTypySprawozdaniaFinansowe/2025/01/01/JednostkaMikroWTysiacach"]
[null,null,null,null,null,null,null,null,null,null,null,null,null,null,"JednostkaMikroWZlotych",null,"http://www.mf.gov.pl/schematy/SF/DefinicjeTypySprawozdaniaFinansowe/2025/01/01/JednostkaMikroWZlotych"]
[null,null,null,null,null,null,null,null,null,null,null,null,null,null,"JednostkaOpStruktury",null,"http://www.mf.gov.pl/schematy/SF/DefinicjeTypySprawozdaniaFinansowe/2025/01/01/JednostkaOpStruktury"]
[null,null,null,null,null,null,null,null,null,null,null,null,null,null,"JednostkaOpWZlotych",null,"http://www.mf.gov.pl/schematy/SF/DefinicjeTypySprawozdaniaFinansowe/2025/01/01/JednostkaOrganizacjiPozarzadowejWZlotych"]
[null,null,null,null,null,null,null,null,null,null,null,null,null,null,"JednostkaOpWTysiacach",null,"http://www.mf.gov.pl/schematy/SF/DefinicjeTypySprawozdaniaFinansowe/2025/01/01/JednostkaOrganizacjiPozarzadowejWTysiacach"]
[null,null,null,null,null,null,null,null,null,null,null,null,null,null,null,null,"http://www.mf.gov.pl/schematy/SF/DefinicjeTypySprawozdaniaFinansowe/2025/01/27/SkonsolidowanaJednostkaInnaStruktury"]
[null,null,null,null,null,null,null,null,null,null,null,null,null,null,null,null,"http://www.mf.gov.pl/schematy/SF/DefinicjeTypySprawozdaniaFinansowe/2025/01/27/SkonsolidowanaJednostkaInnaWTysiacach"]
[null,null,null,null,null,null,null,null,null,null,null,null,null,null,null,null,"http://www.mf.gov.pl/schematy/SF/DefinicjeTypySprawozdaniaFinansowe/2025/01/27/SkonsolidowanaJednostkaInnaWZlotych"]
[]
[null,null,null,null,null,null,null,null,null,null,null,null,null,null,"Prefiks NS","Domyślne przestrzenie nazw (aktualnych wersji skoroszytu)",null,null,null,null,"Prefiks NS","Przestrzenie nazw skoroszytów w wersji 1-2 i 1-0 (do importu starych plików)"]
[null,null,null,null,null,null,null,null,null,null,null,null,null,null,"etd","http://crd.gov.pl/xml/schematy/dziedzinowe/mf/2016/01/25/eD/DefinicjeTypy/",null,null,null,null,"etd","http://crd.gov.pl/xml/schematy/dziedzinowe/mf/2016/01/25/eD/DefinicjeTypy/"]
[null,null,null,null,null,null,null,null,null,null,null,null,null,null,"dtsf","http://www.mf.gov.pl/schematy/SF/DefinicjeTypySprawozdaniaFinansowe/2018/07/09/DefinicjeTypySprawozdaniaFinansowe/",null,null,null,null,"dtsf","http://www.mf.gov.pl/schematy/SF/DefinicjeTypySprawozdaniaFinansowe/2018/07/09/DefinicjeTypySprawozdaniaFinansowe/"]
[null,null,null,null,null,null,null,null,null,null,null,null,null,null,"jmi","http://www.mf.gov.pl/schematy/SF/DefinicjeTypySprawozdaniaFinansowe/2025/01/01/JednostkaMikroStruktury",null,null,null,null,"jmi","http://www.mf.gov.pl/schematy/SF/DefinicjeTypySprawozdaniaFinansowe/2018/07/09/JednostkaMikroStruktury"]
[null,null,null,null,null,null,null,null,null,null,null,null,null,null,"jma","http://www.mf.gov.pl/schematy/SF/DefinicjeTypySprawozdaniaFinansowe/2025/01/01/JednostkaMalaStruktury",null,null,null,null,"jma","http://www.mf.gov.pl/schematy/SF/DefinicjeTypySprawozdaniaFinansowe/2018/07/09/JednostkaMalaStruktury"]
[null,null,null,null,null,null,null,null,null,null,null,null,null,null,"jin","http://www.mf.gov.pl/schematy/SF/DefinicjeTypySprawozdaniaFinansowe/2025/01/01/JednostkaInnaStruktury",null,null,null,null,"jin","http://www.mf.gov.pl/schematy/SF/DefinicjeTypySprawozdaniaFinansowe/2018/07/09/JednostkaInnaStruktury"]
[null,null,null,null,null,null,null,null,null,null,null,null,null,null,"jop","http://www.mf.gov.pl/schematy/SF/DefinicjeTypySprawozdaniaFinansowe/2025/01/01/JednostkaOpStruktury",null,null,null,null,"jop","http://www.mf.gov.pl/schematy/SF/DefinicjeTypySprawozdaniaFinansowe/2018/07/09/JednostkaOpStruktury"]
[null,null,null,null,null,null,null,null,null,null,null,null,null,null,"sin","http://www.mf.gov.pl/schematy/SF/DefinicjeTypySprawozdaniaFinansowe/2025/01/27/SkonsolidowanaJednostkaInnaStruktury",null,null,null,null,"sin","http://www.mf.gov.pl/schematy/SF/DefinicjeTypySprawozdaniaFinansowe/2018/07/09/SkonsolidowanaJednostkaInnaStruktury"]
[null,null,null,null,null,null,null,null,null,null,null,null,null,null,"st","http://www.mf.gov.pl/schematy/SF/DefinicjeTypySprawozdaniaFinansowe{nsPrefix}{jednostka}Struktury",null,null,null,null,"st","http://www.mf.gov.pl/schematy/SF/DefinicjeTypySprawozdaniaFinansowe/2018/07/09/{jednostka}Struktury"]
[null,null,null,null,null,null,null,null,null,null,null,null,null,null,"xjin","http://www.mf.gov.pl/schematy/SF/DefinicjeTypySprawozdaniaFinansowe/2025/01/01/JednostkaInna{baza}",null,null,null,null,"xjin","http://www.mf.gov.pl/schematy/SF/DefinicjeTypySprawozdaniaFinansowe/2018/07/09/JednostkaInna{baza}"]
[null,null,null,null,null,null,null,null,null,null,null,null,null,null,"xjma","http://www.mf.gov.pl/schematy/SF/DefinicjeTypySprawozdaniaFinansowe/2025/01/01/JednostkaMala{baza}",null,null,null,null,"xjma","http://www.mf.gov.pl/schematy/SF/DefinicjeTypySprawozdaniaFinansowe/2018/07/09/JednostkaMala{baza}"]
[null,null,null,null,null,null,null,null,null,null,null,null,null,null,"xjmi","http://www.mf.gov.pl/schematy/SF/DefinicjeTypySprawozdaniaFinansowe/2025/01/01/JednostkaMikro{baza}",null,null,null,null,"xjmi","http://www.mf.gov.pl/schematy/SF/DefinicjeTypySprawozdaniaFinansowe/2018/07/09/JednostkaMikro{baza}"]
[null,null,null,null,null,null,null,null,null,null,null,null,null,null,"xsin","http://www.mf.gov.pl/schematy/SF/DefinicjeTypySprawozdaniaFinansowe/2025/01/27/SkonsolidowanaJednostkaInna{baza}",null,null,null,null,"xsin","http://www.mf.gov.pl/schematy/SF/DefinicjeTypySprawozdaniaFinansowe/2018/07/09/SkonsolidowanaJednostkaInna{baza}"]
[null,null,null,null,null,null,null,null,null,null,null,null,null,null,"xjop","http://www.mf.gov.pl/schematy/SF/DefinicjeTypySprawozdaniaFinansowe/2025/01/01/JednostkaOrganizacjiPozarzadowej{baza}",null,null,null,null,"xjop","http://www.mf.gov.pl/schematy/SF/DefinicjeTypySprawozdaniaFinansowe/2018/07/09/JednostkaOrganizacjiPozarzadowej{baza}"]
[null,null,null,null,null,null,null,null,null,null,null,null,null,null,"sf","http://www.mf.gov.pl/schematy/SF/DefinicjeTypySprawozdaniaFinansowe{nsPrefix}{jednostka}{baza}",null,null,null,null,"sf","http://www.mf.gov.pl/schematy/SF/DefinicjeTypySprawozdaniaFinansowe/2018/07/09/{jednostka}{baza}"]
[]
[null,null,null,null,null,null,null,null,null,null,null,null,null,null,"Tablica wyjatków dla atrybutu ReportDef.Info:"]
[null,null,null,null,null,null,null,null,null,null,null,null,null,null,"Typ wyjatku (Hint)","Wariant raportu","Argument 'About'","Wartość"]
[null,null,null,null,null,null,null,null,null,null,null,null,null,null,"extra","default","nsPrefix","/2025/01/01/"]
[null,null,null,null,null,null,null,null,null,null,null,null,null,null,"extra","default","wersjaSchemy","1-3,1-2,1-0E"]
[null,null,null,null,null,null,null,null,null,null,null,null,null,null,"extra","Skonsolidowana","wersjaSchemy","1-3,1-2,1-0"]
[null,null,null,null,null,null,null,null,null,null,null,null,null,null,"xmlns","JednostkaOp","Jednostka","JednostkaOrganizacjiPozarzadowej"]
[null,null,null,null,null,null,null,null,null,null,null,null,null,null,"xmlns","Skonsolidowana","Jednostka","SkonsolidowanaJednostkaInna"]
[null,null,null,null,null,null,null,null,null,null,null,null,null,null,"extra","Skonsolidowana","nsPrefix","/2025/01/27/"]
[]
[]
[]
[]
[]
[]
[]
[]
[null,null,"Lista dodatkowych elementów tekstowych (AdditionalTextElements), ładowanych przy okazji pobierania wzorców T* (segmentów XML)"]
[null,null,"Nazwa ramki tekstowej"]
[null,null,"ID_PozycjaUzytkownikaBezPodstawy"]
[null,null,"ID_PozycjaUzytkownika"]
[null,null,"Wpr_P2"]
[null,null,"Wpr_P4"]
[null,null,"Wpr_P5"]
[]
[null,null,"Numery pozycji \"Wprowadzenia\" (różnią się dla poszczególnych wariantów):"]
[null,null,null,null,null,null,"Inna(ext)","Mała",null,"Inna","Op","Sk"]
[null,null,"Numer waruantu (jak w opisie tej sekcji w arkuszy \"teksty\"):",null,null,"pole ref.",1,2,"nie używane",4,5,6]
[null,1,"Numer NIP",null,null,null,"P_1D","P_1C",null,"P_1D","P_1C","P_1C"]
[null,2,"Czas trwania działalności (jeśli ograniczony)",null,null,null,"P_2","P_2",null,"P_2","P_2"]
[null,3,"Zakres dat raportu",null,null,null,"P_3","P_3",null,"P_3","P_3"]
[null,4,"Kryteria zastosowane do wyboru jednostek w raporcie skonsolidowanym",null,null,null,null,null,null,null,null,"P_3"]
[null,5,"Włączenie danych wewn. Jednostek organizacyjnych",null,null,null,"P_4",null,null,"P_4",null,"P_8"]
[null,6,"Założenie kontynuacji działalności jednostki",null,null,null,"P_5","P_5",null,"P_5","P_4","P_9"]
[null,7,"Czy w okresie nastąpiło połączenie spółek?",null,null,null,"P_6",null,null,"P_6",null,"P_10"]
[null,8,"Uproszczenia, zastsowane w raporcie",null,null,null,"P_9","P_4",null,"P_9"]
[null,9,"Polityka rachunkowości",null,null,null,"P_7","P_6",null,"P_7","P_5","P_11"]
[null,10,"wycena aktywów i pasywów",null,null,null,{"$f":"G$157&\"A\"","v":"P_7A"},{"$f":"H$157&\"A\"","v":"P_6A"},null,{"$f":"J$157&\"A\"","v":"P_7A"},{"$f":"K$157&\"A\"","v":"P_5A"},"P_11C"]
[null,11,"ustalenie wyniku fin.",null,null,null,{"$f":"G$157&\"B\"","v":"P_7B"},{"$f":"H$157&\"B\"","v":"P_6B"},null,{"$f":"J$157&\"B\"","v":"P_7B"},{"$f":"K$157&\"B\"","v":"P_5B"},"P_11E"]
[null,12,"sporządzanie sprawozdań finansowych",null,null,null,{"$f":"G$157&\"C\"","v":"P_7C"},{"$f":"H$157&\"C\"","v":"P_6C"},null,{"$f":"J$157&\"C\"","v":"P_7C"},{"$f":"K$157&\"C\"","v":"P_5C"},"P_11F"]
[null,13,"Uwagi",null,null,null,"P_8","P_7",null,"P_8","P_6","P_14"]
[null,14,"Lista jednostek odporządkowanych",null,null,null,null,null,null,null,null,"P_2"]
[null,15,"Lista jednostek innych niż podporządkowane",null,null,null,null,null,null,null,null,"P_4"]
[null,16,"Lista jednostekwyłączonych z raportu",null,null,null,null,null,null,null,null,"P_5"]
[null,17,"Lista jednostek o ograniczonym czasie trwania",null,null,null,null,null,null,null,null,"P_6"]
[null,18,"Lista jednostek o innych okresach",null,null,null,null,null,null,null,null,"P_7"]
[null,19,"Numer KRS",null,null,null,"P_1E","P_1D",null,"P_1E","P_1D","P_1D"]
[null,20,"pozostałe",null,null,null,{"$f":"G$157&\"D\"","v":"P_7D"},{"$f":"H$157&\"D\"","v":"P_6D"},null,{"$f":"J$157&\"D\"","v":"P_7D"},{"$f":"K$157&\"D\"","v":"P_5D"},"P_11G"]
[]
[null,"Symbole_Arkuszy: aktualne nazwy arkuszy (pola nazwane, wykorzystywane w uproszczonych formułach wstawianych w arkuszu \"mapowanie\" przez Generator e-sprawozdań)"]
[null,"Arkusz (jak w adresie)",null,"Nazwa symboliczna (wykorzystywana w formule arkusza \"mapowanie\")"]
[null,null,{"$f":"IF(ISERROR(FIND(\" \",teksty!D55)), teksty!D55,\"'\" & teksty!D55 & \"'\")","v":"Nagłówek"},"Adr_Nagłówek"]
[null,null,{"$f":"IF(ISERROR(FIND(\" \",teksty!D56)), teksty!D56,\"'\" & teksty!D56 & \"'\")","v":"Wprowadzenie"},"Adr_Wprowadzenie"]
[null,null,{"$f":"IF(ISERROR(FIND(\" \",teksty!D57)), teksty!D57,\"'\" & teksty!D57 & \"'\")","v":"Bilans"},"Adr_Bilans"]
[null,null,{"$f":"IF(ISERROR(FIND(\" \",teksty!D58)), teksty!D58,\"'\" & teksty!D58 & \"'\")","v":"RZiS"},"Adr_RZiS"]
[null,null,{"$f":"IF(ISERROR(FIND(\" \",teksty!D59)), teksty!D59,\"'\" & teksty!D59 & \"'\")","v":"Kapitał"},"Adr_Kapitał"]
[null,null,{"$f":"IF(ISERROR(FIND(\" \",teksty!D60)), teksty!D60,\"'\" & teksty!D60 & \"'\")","v":"Przepływy"},"Adr_Przepływy"]
[null,null,{"$f":"IF(ISERROR(FIND(\" \",teksty!D61)), teksty!D61,\"'\" & teksty!D61 & \"'\")","v":"Dodatkowe"},"Adr_Dodatkowe"]
[null,null,{"$f":"IF(ISERROR(FIND(\" \",teksty!D62)), teksty!D62,\"'\" & teksty!D62 & \"'\")","v":"'Dodatkowe (1)'"},"Adr_Dodatkowe_1"]
[null,null,{"$f":"IF(ISERROR(FIND(\" \",teksty!D63)), teksty!D63,\"'\" & teksty!D63 & \"'\")","v":"'Dodatkowe (2)'"},"Adr_Dodatkowe_2"]
[null,null,{"$f":"IF(ISERROR(FIND(\" \",teksty!D64)), teksty!D64,\"'\" & teksty!D64 & \"'\")","v":"'Dodatkowe (3)'"},"Adr_Dodatkowe_3"]
[null,null,{"$f":"IF(ISERROR(FIND(\" \",teksty!D65)), teksty!D65,\"'\" & teksty!D65 & \"'\")","v":"'Dodatkowe (4)'"},"Adr_Dodatkowe_4"]
[null,null,{"$f":"IF(ISERROR(FIND(\" \",teksty!D66)), teksty!D66,\"'\" & teksty!D66 & \"'\")","v":"'Dodatkowe (5)'"},"Adr_Dodatkowe_5"]
[null,null,{"$f":"IF(ISERROR(FIND(\" \",teksty!D67)), teksty!D67,\"'\" & teksty!D67 & \"'\")","v":"'Dodatkowe (6)'"},"Adr_Dodatkowe_6"]
[null,null,{"$f":"IF(ISERROR(FIND(\" \",teksty!D68)), teksty!D68,\"'\" & teksty!D68 & \"'\")","v":"'Dodatkowe (7)'"},"Adr_Dodatkowe_7"]
[null,null,{"$f":"IF(ISERROR(FIND(\" \",teksty!D69)), teksty!D69,\"'\" & teksty!D69 & \"'\")","v":"'Dodatkowe (8)'"},"Adr_Dodatkowe_8"]
[null,null,{"$f":"IF(ISERROR(FIND(\" \",teksty!D70)), teksty!D70,\"'\" & teksty!D70 & \"'\")","v":"'Dodatkowe (9)'"},"Adr_Dodatkowe_9"]
[null,null,{"$f":"IF(ISERROR(FIND(\" \",teksty!D71)), teksty!D71,\"'\" & teksty!D71 & \"'\")","v":"'Dodatkowe (10)'"},"Adr_Dodatkowe_10"]
[null,null,{"$f":"IF(ISERROR(FIND(\" \",teksty!D72)), teksty!D72,\"'\" & teksty!D72 & \"'\")","v":"'Dodatkowe (11)'"},"Adr_Dodatkowe_11"]
[null,null,{"$f":"IF(ISERROR(FIND(\" \",teksty!D73)), teksty!D73,\"'\" & teksty!D73 & \"'\")","v":"'Dodatkowe (12)'"},"Adr_Dodatkowe_12"]
[null,null,{"$f":"IF(ISERROR(FIND(\" \",teksty!D74)), teksty!D74,\"'\" & teksty!D74 & \"'\")","v":"'Dodatkowe (13)'"},"Adr_Dodatkowe_13"]
[null,null,{"$f":"IF(ISERROR(FIND(\" \",teksty!D75)), teksty!D75,\"'\" & teksty!D75 & \"'\")","v":"'Dodatkowe (14)'"},"Adr_Dodatkowe_14"]
[null,null,{"$f":"IF(ISERROR(FIND(\" \",teksty!D76)), teksty!D76,\"'\" & teksty!D76 & \"'\")","v":"'Dodatkowe (15)'"},"Adr_Dodatkowe_15"]
[null,null,{"$f":"IF(ISERROR(FIND(\" \",teksty!D77)), teksty!D77,\"'\" & teksty!D77 & \"'\")","v":"'Dodatkowe (16)'"},"Adr_Dodatkowe_16"]
[null,null,{"$f":"IF(ISERROR(FIND(\" \",teksty!D78)), teksty!D78,\"'\" & teksty!D78 & \"'\")","v":"'Dodatkowe (17)'"},"Adr_Dodatkowe_17"]
[null,null,{"$f":"IF(ISERROR(FIND(\" \",teksty!D79)), teksty!D79,\"'\" & teksty!D79 & \"'\")","v":"'Dodatkowe (18)'"},"Adr_Dodatkowe_18"]
[null,null,{"$f":"IF(ISERROR(FIND(\" \",teksty!D80)), teksty!D80,\"'\" & teksty!D80 & \"'\")","v":"'Dodatkowe (19)'"},"Adr_Dodatkowe_19"]
[null,null,{"$f":"IF(ISERROR(FIND(\" \",teksty!D81)), teksty!D81,\"'\" & teksty!D81 & \"'\")","v":"'Dodatkowe (20)'"},"Adr_Dodatkowe_20"]
[null,null,{"$f":"IF(ISERROR(FIND(\" \",teksty!D82)), teksty!D82,\"'\" & teksty!D82 & \"'\")","v":"'Dodatkowe (21)'"},"Adr_Dodatkowe_21"]
[null,null,{"$f":"IF(ISERROR(FIND(\" \",teksty!D83)), teksty!D83,\"'\" & teksty!D83 & \"'\")","v":"'Dodatkowe (22)'"},"Adr_Dodatkowe_22"]
[null,null,{"$f":"IF(ISERROR(FIND(\" \",teksty!D84)), teksty!D84,\"'\" & teksty!D84 & \"'\")","v":"'Dodatkowe (23)'"},"Adr_Dodatkowe_23"]
[null,null,{"$f":"IF(ISERROR(FIND(\" \",teksty!D85)), teksty!D85,\"'\" & teksty!D85 & \"'\")","v":"'Dodatkowe (24)'"},"Adr_Dodatkowe_24"]
[null,null,{"$f":"IF(ISERROR(FIND(\" \",teksty!D86)), teksty!D86,\"'\" & teksty!D86 & \"'\")","v":"'Dodatkowe (25)'"},"Adr_Dodatkowe_25"]
[null,null,{"$f":"IF(ISERROR(FIND(\" \",teksty!D87)), teksty!D87,\"'\" & teksty!D87 & \"'\")","v":"'Dodatkowe (26)'"},"Adr_Dodatkowe_26"]
[null,null,{"$f":"IF(ISERROR(FIND(\" \",teksty!D88)), teksty!D88,\"'\" & teksty!D88 & \"'\")","v":"'Dodatkowe (27)'"},"Adr_Dodatkowe_27"]
[null,null,{"$f":"IF(ISERROR(FIND(\" \",teksty!D89)), teksty!D89,\"'\" & teksty!D89 & \"'\")","v":"'Dodatkowe (28)'"},"Adr_Dodatkowe_28"]
[null,null,{"$f":"IF(ISERROR(FIND(\" \",teksty!D90)), teksty!D90,\"'\" & teksty!D90 & \"'\")","v":"'Dodatkowe (29)'"},"Adr_Dodatkowe_29"]
[null,null,{"$f":"IF(ISERROR(FIND(\" \",teksty!D91)), teksty!D91,\"'\" & teksty!D91 & \"'\")","v":"'Dodatkowe (30)'"},"Adr_Dodatkowe_30"]
[null,null,{"$f":"IF(ISERROR(FIND(\" \",teksty!D92)), teksty!D92,\"'\" & teksty!D92 & \"'\")","v":"'Dodatkowe (31)'"},"Adr_Dodatkowe_31"]
[null,null,{"$f":"IF(ISERROR(FIND(\" \",teksty!D93)), teksty!D93,\"'\" & teksty!D93 & \"'\")","v":"'Dodatkowe (32)'"},"Adr_Dodatkowe_32"]
[null,null,{"$f":"IF(ISERROR(FIND(\" \",teksty!D94)), teksty!D94,\"'\" & teksty!D94 & \"'\")","v":"'Dodatkowe (33)'"},"Adr_Dodatkowe_33"]
[null,null,{"$f":"IF(ISERROR(FIND(\" \",teksty!D95)), teksty!D95,\"'\" & teksty!D95 & \"'\")","v":"'Dodatkowe (34)'"},"Adr_Dodatkowe_34"]
[null,null,{"$f":"IF(ISERROR(FIND(\" \",teksty!D96)), teksty!D96,\"'\" & teksty!D96 & \"'\")","v":"'Dodatkowe (35)'"},"Adr_Dodatkowe_35"]
[null,null,{"$f":"IF(ISERROR(FIND(\" \",teksty!D97)), teksty!D97,\"'\" & teksty!D97 & \"'\")","v":"'Dodatkowe (36)'"},"Adr_Dodatkowe_36"]
[null,null,{"$f":"IF(ISERROR(FIND(\" \",teksty!D98)), teksty!D98,\"'\" & teksty!D98 & \"'\")","v":"'Dodatkowe (37)'"},"Adr_Dodatkowe_37"]
[null,null,{"$f":"IF(ISERROR(FIND(\" \",teksty!D99)), teksty!D99,\"'\" & teksty!D99 & \"'\")","v":"'Dodatkowe (38)'"},"Adr_Dodatkowe_38"]
[null,null,{"$f":"IF(ISERROR(FIND(\" \",teksty!D100)), teksty!D100,\"'\" & teksty!D100 & \"'\")","v":"'Dodatkowe (39)'"},"Adr_Dodatkowe_39"]
[null,null,{"$f":"IF(ISERROR(FIND(\" \",teksty!D101)), teksty!D101,\"'\" & teksty!D101 & \"'\")","v":"'Dodatkowe (40)'"},"Adr_Dodatkowe_40"]
[]
[null,"Pomocnicze definicje, używane w formowaniu arkuszy transformacji:"]
[null,"In_SFJMI",null,"<xsl:stylesheet version=\"1.0\"  xmlns:xsl=\"http://www.w3.org/1999/XSL/Transform\">\n\t<xsl:output method='xml' indent=\"yes\" encoding=\"UTF-8\"/>\n<!-- basic: identity copy: -->\n\t<xsl:template match=\"@*|node()\">\n\t\t<xsl:copy><xsl:apply-templates select=\"@*|node()\"/></xsl:copy>\n\t</xsl:template>  \n\n<!-- Zamieniamy nazwy (z zał 4 na zał. 5): UWAGA: wyrażenia niezależne od namespace, bo może to być i */2018/07/08/* (1E, 1.2) i */2025/01/01/* (1.3) -->\n\t<xsl:template match=\"*[local-name()='InformacjeOgolneJednostkaMikro']\">\n\t\t<xsl:element name=\"WprowadzenieDoSprawozdaniaFinansowegoJednostkaMala\" namespace=\"{namespace-uri()}\">\n\t\t\t<xsl:apply-templates/>\n\t\t</xsl:element>\n\t</xsl:template> \n\t<xsl:template match=\"*[local-name()='InformacjeUzupelniajaceDoBilansuJednostkaMikro']\">\n\t\t<xsl:element name=\"DodatkoweInformacjeIObjasnieniaJednostkaMala\" namespace=\"{namespace-uri()}\">\n\t\t\t<xsl:apply-templates/>\n\t\t</xsl:element>\t\n\t</xsl:template>\t\n\t<xsl:template match=\"*[local-name()='InformacjeUzupelniajaceDoBilansu']\">\n\t\t<xsl:element name=\"DodatkoweInformacjeIObjasnienia\" namespace=\"{namespace-uri()}\">\n\t\t\t<xsl:apply-templates/>\n\t\t</xsl:element>\t\n\t</xsl:template>\t\n</xsl:stylesheet>"]
[null,"Out_SFJMI",null,"<xsl:stylesheet version=\"1.0\"\n    xmlns:xsl=\"http://www.w3.org/1999/XSL/Transform\"\n    xmlns=\"{namespace}\"\n    xmlns:esf=\"{namespace}\"  \n\texclude-result-prefixes=\"esf\">\n\t<xsl:output method='xml' indent=\"yes\" encoding=\"UTF-8\"/>\n<!-- basic: identity copy: -->\n\t<xsl:template match=\"@*|node()\">\n\t\t<xsl:copy><xsl:apply-templates select=\"@*|node()\"/></xsl:copy>\n\t</xsl:template>  \n<!-- Zamieniamy nazwy (z zał 5 na zał. 4): -->\n\t<xsl:template match=\"esf:WprowadzenieDoSprawozdaniaFinansowegoJednostkaMala\">\n\t\t<InformacjeOgolneJednostkaMikro>\n\t\t\t<xsl:apply-templates/>\n\t\t</InformacjeOgolneJednostkaMikro>\n\t</xsl:template> \n\t<xsl:template match=\"esf:DodatkoweInformacjeIObjasnieniaJednostkaMala\">\n\t\t<InformacjeUzupelniajaceDoBilansuJednostkaMikro>\n\t\t\t<xsl:apply-templates/>\n\t\t</InformacjeUzupelniajaceDoBilansuJednostkaMikro>\n\t</xsl:template>\t\n\t<xsl:template match=\"esf:DodatkoweInformacjeIObjasnienia\">\n\t\t<InformacjeUzupelniajaceDoBilansu>\n\t\t\t<xsl:apply-templates/>\n\t\t</InformacjeUzupelniajaceDoBilansu>\n\t</xsl:template>\t\n\t\n</xsl:stylesheet>"]
[]
[null,"Ewentualne arkusze transformacji to obszary nazwane Xslt<In|Out>_<6-znakowy kod wariantu e-sprawozdania>, np. XsltIn_SFJMIZ"]
[null,"Nazwa",null,"Arkusz transformacji",null,null,null,null,null,null,null,null,null,null,null,null,null,"Przestrzeń nazw powiązanego wariantu e-sprawozdania"]
[null,"XsltIn_SFJMIZ",null,{"$f":"SUBSTITUTE(In_SFJMI,\"{namespace}\",R226)","v":"<xsl:stylesheet version=\"1.0\"  xmlns:xsl=\"http://www.w3.org/1999/XSL/Transform\">\n\t<xsl:output method='xml' indent=\"yes\" encoding=\"UTF-8\"/>\n<!-- basic: identity copy: -->\n\t<xsl:template match=\"@*|node()\">\n\t\t<xsl:copy><xsl:apply-templates select=\"@*|node()\"/></xsl:copy>\n\t</xsl:template>  \n\n<!-- Zamieniamy nazwy (z zał 4 na zał. 5): UWAGA: wyrażenia niezależne od namespace, bo może to być i */2018/07/08/* (1E, 1.2) i */2025/01/01/* (1.3) -->\n\t<xsl:template match=\"*[local-name()='InformacjeOgolneJednostkaMikro']\">\n\t\t<xsl:element name=\"WprowadzenieDoSprawozdaniaFinansowegoJednostkaMala\" namespace=\"{namespace-uri()}\">\n\t\t\t<xsl:apply-templates/>\n\t\t</xsl:element>\n\t</xsl:template> \n\t<xsl:template match=\"*[local-name()='InformacjeUzupelniajaceDoBilansuJednostkaMikro']\">\n\t\t<xsl:element name=\"DodatkoweInformacjeIObjasnieniaJednostkaMala\" namespace=\"{namespace-uri()}\">\n\t\t\t<xsl:apply-templates/>\n\t\t</xsl:element>\t\n\t</xsl:template>\t\n\t<xsl:template match=\"*[local-name()='InformacjeUzupelniajaceDoBilansu']\">\n\t\t<xsl:element name=\"DodatkoweInformacjeIObjasnienia\" namespace=\"{namespace-uri()}\">\n\t\t\t<xsl:apply-templates/>\n\t\t</xsl:element>\t\n\t</xsl:template>\t\n</xsl:stylesheet>"},null,null,null,null,null,null,null,null,null,null,null,null,null,{"$f":"Q$98","v":"http://www.mf.gov.pl/schematy/SF/DefinicjeTypySprawozdaniaFinansowe/2025/01/01/JednostkaMikroWZlotych"}]
[null,"XsltIn_SFJMIT",null,{"$f":"SUBSTITUTE(In_SFJMI,\"{namespace}\",R227)","v":"<xsl:stylesheet version=\"1.0\"  xmlns:xsl=\"http://www.w3.org/1999/XSL/Transform\">\n\t<xsl:output method='xml' indent=\"yes\" encoding=\"UTF-8\"/>\n<!-- basic: identity copy: -->\n\t<xsl:template match=\"@*|node()\">\n\t\t<xsl:copy><xsl:apply-templates select=\"@*|node()\"/></xsl:copy>\n\t</xsl:template>  \n\n<!-- Zamieniamy nazwy (z zał 4 na zał. 5): UWAGA: wyrażenia niezależne od namespace, bo może to być i */2018/07/08/* (1E, 1.2) i */2025/01/01/* (1.3) -->\n\t<xsl:template match=\"*[local-name()='InformacjeOgolneJednostkaMikro']\">\n\t\t<xsl:element name=\"WprowadzenieDoSprawozdaniaFinansowegoJednostkaMala\" namespace=\"{namespace-uri()}\">\n\t\t\t<xsl:apply-templates/>\n\t\t</xsl:element>\n\t</xsl:template> \n\t<xsl:template match=\"*[local-name()='InformacjeUzupelniajaceDoBilansuJednostkaMikro']\">\n\t\t<xsl:element name=\"DodatkoweInformacjeIObjasnieniaJednostkaMala\" namespace=\"{namespace-uri()}\">\n\t\t\t<xsl:apply-templates/>\n\t\t</xsl:element>\t\n\t</xsl:template>\t\n\t<xsl:template match=\"*[local-name()='InformacjeUzupelniajaceDoBilansu']\">\n\t\t<xsl:element name=\"DodatkoweInformacjeIObjasnienia\" namespace=\"{namespace-uri()}\">\n\t\t\t<xsl:apply-templates/>\n\t\t</xsl:element>\t\n\t</xsl:template>\t\n</xsl:stylesheet>"},null,null,null,null,null,null,null,null,null,null,null,null,null,{"$f":"Q$97","v":"http://www.mf.gov.pl/schematy/SF/DefinicjeTypySprawozdaniaFinansowe/2025/01/01/JednostkaMikroWTysiacach"}]
[null,"XsltOut_SFJMIZ",null,{"$f":"SUBSTITUTE(Out_SFJMI,\"{namespace}\",R228)","v":"<xsl:stylesheet version=\"1.0\"\n    xmlns:xsl=\"http://www.w3.org/1999/XSL/Transform\"\n    xmlns=\"http://www.mf.gov.pl/schematy/SF/DefinicjeTypySprawozdaniaFinansowe/2025/01/01/JednostkaMikroWZlotych\"\n    xmlns:esf=\"http://www.mf.gov.pl/schematy/SF/DefinicjeTypySprawozdaniaFinansowe/2025/01/01/JednostkaMikroWZlotych\"  \n\texclude-result-prefixes=\"esf\">\n\t<xsl:output method='xml' indent=\"yes\" encoding=\"UTF-8\"/>\n<!-- basic: identity copy: -->\n\t<xsl:template match=\"@*|node()\">\n\t\t<xsl:copy><xsl:apply-templates select=\"@*|node()\"/></xsl:copy>\n\t</xsl:template>  \n<!-- Zamieniamy nazwy (z zał 5 na zał. 4): -->\n\t<xsl:template match=\"esf:WprowadzenieDoSprawozdaniaFinansowegoJednostkaMala\">\n\t\t<InformacjeOgolneJednostkaMikro>\n\t\t\t<xsl:apply-templates/>\n\t\t</InformacjeOgolneJednostkaMikro>\n\t</xsl:template> \n\t<xsl:template match=\"esf:DodatkoweInformacjeIObjasnieniaJednostkaMala\">\n\t\t<InformacjeUzupelniajaceDoBilansuJednostkaMikro>\n\t\t\t<xsl:apply-templates/>\n\t\t</InformacjeUzupelniajaceDoBilansuJednostkaMikro>\n\t</xsl:template>\t\n\t<xsl:template match=\"esf:DodatkoweInformacjeIObjasnienia\">\n\t\t<InformacjeUzupelniajaceDoBilansu>\n\t\t\t<xsl:apply-templates/>\n\t\t</InformacjeUzupelniajaceDoBilansu>\n\t</xsl:template>\t\n\t\n</xsl:stylesheet>"},null,null,null,null,null,null,null,null,null,null,null,null,null,{"$f":"Q$98","v":"http://www.mf.gov.pl/schematy/SF/DefinicjeTypySprawozdaniaFinansowe/2025/01/01/JednostkaMikroWZlotych"}]
[null,"XsltOut_SFJMIT",null,{"$f":"SUBSTITUTE(Out_SFJMI,\"{namespace}\",R229)","v":"<xsl:stylesheet version=\"1.0\"\n    xmlns:xsl=\"http://www.w3.org/1999/XSL/Transform\"\n    xmlns=\"http://www.mf.gov.pl/schematy/SF/DefinicjeTypySprawozdaniaFinansowe/2025/01/01/JednostkaMikroWTysiacach\"\n    xmlns:esf=\"http://www.mf.gov.pl/schematy/SF/DefinicjeTypySprawozdaniaFinansowe/2025/01/01/JednostkaMikroWTysiacach\"  \n\texclude-result-prefixes=\"esf\">\n\t<xsl:output method='xml' indent=\"yes\" encoding=\"UTF-8\"/>\n<!-- basic: identity copy: -->\n\t<xsl:template match=\"@*|node()\">\n\t\t<xsl:copy><xsl:apply-templates select=\"@*|node()\"/></xsl:copy>\n\t</xsl:template>  \n<!-- Zamieniamy nazwy (z zał 5 na zał. 4): -->\n\t<xsl:template match=\"esf:WprowadzenieDoSprawozdaniaFinansowegoJednostkaMala\">\n\t\t<InformacjeOgolneJednostkaMikro>\n\t\t\t<xsl:apply-templates/>\n\t\t</InformacjeOgolneJednostkaMikro>\n\t</xsl:template> \n\t<xsl:template match=\"esf:DodatkoweInformacjeIObjasnieniaJednostkaMala\">\n\t\t<InformacjeUzupelniajaceDoBilansuJednostkaMikro>\n\t\t\t<xsl:apply-templates/>\n\t\t</InformacjeUzupelniajaceDoBilansuJednostkaMikro>\n\t</xsl:template>\t\n\t<xsl:template match=\"esf:DodatkoweInformacjeIObjasnienia\">\n\t\t<InformacjeUzupelniajaceDoBilansu>\n\t\t\t<xsl:apply-templates/>\n\t\t</InformacjeUzupelniajaceDoBilansu>\n\t</xsl:template>\t\n\t\n</xsl:stylesheet>"},null,null,null,null,null,null,null,null,null,null,null,null,null,{"$f":"Q$97","v":"http://www.mf.gov.pl/schematy/SF/DefinicjeTypySprawozdaniaFinansowe/2025/01/01/JednostkaMikroWTysiacach"}]